{"text_format":"1","workbook":"xlsx","n_sheets":11,"sheets":["Liste","F.P.8","VPC","VPCQuestions","F.MERE","R.1.PRES","Lisez-moi","Conv,AG","P.V.A.G.","POUV","FormVPC"],"not_rendered":{"charts":0,"images":0,"macros":1,"external_links":0,"defined_names":5,"comments":2,"pivot_tables":0},"unopened":[],"bounds":{"document_bytes":16777216,"sheet_cells":100000,"rows_first":2000,"rows_last":500,"rows_between":2000,"halvings":0,"cell_chars":16384,"cell_head_chars":4096},"cells_cut":0,"cells_raw":0,"read":"whole","date_system":"1900"}

{"sheet":"Liste","index":0,"n_rows":189,"n_cols":28,"rows_kept":189,"cut":false,"hidden":false,"merged":[]}
["Résid.LA JOIE"]
["120 rue de l' Espérance",null,null,"Lieu A.G.","15 rue du Bois d'Amour 75016 PARIS",null,"SYNDIC",null,null,null,null,null,null,null,null,null,null,null,null,null,null,null,null,null,null,null,null,3]
[75016,"PARIS",null,"Date A.G.","2022-11-05",null,"Cabinet LEBON"]
[null,null,null,"Heures","10 Heures",null,"120 rue du Devoir"]
[null,null,null,"Date limite réceptionForm,VPC","1 Novemvbre 2022",null,"75016 Paris"]
["LISTE DES COPROPRIETAIRES"]
[null,null,null,null,null,null,"Total Tantièmes",{"$f":"SUM($H$10:$H$159)","v":10000}]
[]
["N°","Civ,","Civilité","NOMS","Adresse","Code Postal","Ville","Tantièmes","N° lot","Nature","Tant,","N° lot","Nature","Tant,","N° lot","Nature","Tant,","N° lot","Nature","Tant,","N° lot","Nature","Tant,","N°","Nom","Messagerie"]
[1,"M","Monsieur","ALEXANDRINI André","15 rue du Trou Perdu",33700,"Mérignac",{"$f":"IF(K10+N10+Q10+W10>0,K10+N10+Q10+T10+W10,\"\")","v":58},1,"cave",29,151,"Cave",29,null,null,null,null,null,null,null,null,null,{"$f":"A10","v":1},{"$f":"D10","v":"ALEXANDRINI André"},"Alex,A@free,fr"]
[2,"Mme","Madame","ANNINOS Henri","5 rue de la Tour",75016,"Paris ",{"$f":"IF(K11+N11+Q11+W11>0,K11+N11+Q11+T11+W11,\"\")","v":290},2,"Appart,",261,152,"Cave",29,null,null,null,null,null,null,null,null,null,{"$f":"A11","v":2},{"$f":"D11","v":"ANNINOS Henri"}]
[3,"M,Mme","Mr  et Mme","BALDACCHINO Laurence","13 rue de l' espoir ",75016,"Paris  ",{"$f":"IF(K12+N12+Q12+W12>0,K12+N12+Q12+T12+W12,\"\")","v":319},3,"Appart,",290,153,"Cave",29,null,null,null,null,null,null,null,null,null,3,"BALDACCHINO Laurence","BALDAC@Outlook"]
[4,"M.","Monsieur","BANCHET Joseph","14 rue de l' espoir",75016,"Paris ",{"$f":"IF(K13+N13+Q13+W13>0,K13+N13+Q13+T13+W13,\"\")","v":294},4,"Appart,",265,154,"Cave",29,null,null,null,null,null,null,null,null,null,4,"BANCHET Joseph"]
[5,"M.","Madame","BARDIN Andrée","12 rue de Caen",75016,"Paris ",{"$f":"IF(K14+N14+Q18+W18>0,K14+N14+Q18+T18+W18,\"\")","v":287},5,"Appart,",258,155,"Cave",29,null,null,null,null,null,null,null,null,null,5,"BARDIN Andrée"]
[6,"M,Mme","Mr  et Mme","BARDIN-BENARD Louis","16 rue de l' espoir",75016,"Paris ",{"$f":"IF(K15+N15+Q19+W19>0,K15+N15+Q19+T19+W19,\"\")","v":257},6,"Appart,",228,156,"Cave",29,null,null,null,null,null,null,null,null,null,6,"BARDIN-BENARD Louis"]
[7,"M,Mme","Mr  et Mme","BARDOUILLE Hermine","25 rue du Puit",75016,"Paris ",{"$f":"IF(K16+N16+Q16+W16>0,K16+N16+Q16+T16+W16,\"\")","v":371},7,"Appart,",342,157,"Cave",29,null,null,null,null,null,null,null,null,null,7,"BARDOUILLE Hermine"]
[8,"M,Mme","Mr  et Mme","BARDOUILLE Jean Yves","13 rue de l' espoir",75016,"Paris ",569,8,"Appart,",540,158,"Cave",29,null,null,null,null,null,null,null,null,null,8,"BARDOUILLE Jean Yves"]
[9,"M,Mme","Mr  et Mme","BAUDINO","13 rue de l' espoir",75016,"Paris ",431,9,"Appart,",402,159,"Cave",29,null,null,null,null,null,null,null,null,null,9,"BAUDINO"]
[10,"M,Mme","Mr  et Mme","BAUGUIL André","13 rue de l' espoir",75016,"Paris ",360,10,"Appart,",331,160,"Cave",29,null,null,null,null,null,null,null,null,null,10,"BAUGUIL André"]
[11,"M,Mme","Mr  et Mme","BAUMGARTNER Peter","13 rue de l' espoir",75016,"Paris ",380,11,"Appart,",351,161,"Cave",29,null,null,null,null,null,null,null,null,null,11,"BAUMGARTNER Peter"]
[12,"M,Mme","Mr  et Mme","BECH Monique","22 Rue des Amoureux",33200,"Bordeaux",519,12,"Appart,",490,162,"Cave",29,null,null,null,null,null,null,null,null,null,12,"BECH Monique"]
[13,"M.","Monsieur","BERGET Jean François","13 rue de l' espoir",75016,"Paris ",381,13,"Appart,",352,163,"Cave",29,null,null,null,null,null,null,null,null,null,13,"BERGET Jean François"]
[14,"M.","Monsieur","BERLIER David","13 rue de l' espoir",75016,"Paris ",391,14,"Appart,",362,164,"Cave",29,null,null,null,null,null,null,null,null,null,14,"BERLIER David"]
[15,"M.","Mmadame","BESSON Gabriel","13 rue de l' espoir",75016,"Paris ",380,15,"Appart,",351,165,"Cave",29,null,null,null,null,null,null,null,null,null,15,"BESSON Gabriel"]
[16,"M","Monieur","DENIS Jacques","13 rue de l' espoir",75016,"Paris ",{"$f":"IF(K25+N25+Q25+W25>0,K25+N25+Q25+T25+W25,\"\")","v":315},46,"Appart,",286,196,"Cave",29,null,null,null,null,null,null,null,null,null,{"$f":"A25","v":16},{"$f":"D25","v":"DENIS Jacques"}]
[17,"Me","Madame","DI JORIO Brigitte","13 rue de l' espoir",75016,"Paris ",{"$f":"IF(K26+N26+Q26+W26>0,K26+N26+Q26+T26+W26,\"\")","v":244},47,"Appart,",215,197,"Cave",29,null,null,null,null,null,null,null,null,null,17,"DI JORIO Brigitte"]
[18,"M","Monieur","DI JORIO Marcel","10 Rue Dumont",57000,"Metz",{"$f":"IF(K27+N27+Q27+W27>0,K27+N27+Q27+T27+W27,\"\")","v":289},48,"Appart,",260,198,"Cave",29,null,null,null,null,null,null,null,null,null,18,"DI JORIO Marcel"]
[19,"M","Monieur","DI MEGLIO Laurent","13 rue de l' espoir",75016,"Paris ",{"$f":"IF(K28+N28+Q28+W28>0,K28+N28+Q28+T28+W28,\"\")","v":237},49,"Appart,",208,199,"Cave",29,null,null,null,null,null,null,null,null,null,19,"DI MEGLIO Laurent"]
[20,"M","Monieur","DRAGOTTA Michel","13 rue de l' espoir",75016,"Paris ",{"$f":"IF(K29+N29+Q29+W29>0,K29+N29+Q29+T29+W29,\"\")","v":286},50,"Appart,",257,200,"Cave",29,null,null,null,null,null,null,null,null,null,20,"DRAGOTTA Michel"]
[21,"M.","Monsieur","DUBOURG Pierre","14 rue de l' espoir",75016,"Paris ",{"$f":"IF(K30+N30+Q34+W34>0,K30+N30+Q34+T34+W34,\"\")","v":323},51,"Appart,",294,201,"Cave",29,null,null,null,null,null,null,null,null,null,21,"DUBOURG Pierre"]
[22,"Mme","Madame","FIGUERAS Annie","15 rue de l' espoir",75016,"Paris ",{"$f":"IF(K31+N31+Q35+W35>0,K31+N31+Q35+T35+W35,\"\")","v":300},52,"Appart,",271,202,"Cave",29,null,null,null,null,null,null,null,null,null,22,"FIGUERAS Annie"]
[23,"M","Monieur","FONTANA Georges","21 rue de lz Caserne Foch",51000,"Reims",{"$f":"IF(K32+N32+Q32+W32>0,K32+N32+Q32+T32+W32,\"\")","v":323},53,"Appart,",294,203,"Cave",29,null,null,null,null,null,null,null,null,null,23,"FONTANA Georges"]
[24,"M","Monieur","FORGET Valéry","13 rue de l' espoir",75016,"Paris ",{"$f":"IF(K33+N33+Q33+W33>0,K33+N33+Q33+T33+W33,\"\")","v":270},54,"Appart,",241,204,"Cave",29,null,null,null,null,null,null,null,null,null,24,"FORGET Valéry"]
[25,"Me","Madame","FOURNIER Nicole","13 rue de l' espoir",75016,"Paris ",{"$f":"IF(K34+N34+Q34+W34>0,K34+N34+Q34+T34+W34,\"\")","v":290},55,"Appart,",261,205,"Cave",29,null,null,null,null,null,null,null,null,null,25,"FOURNIER Nicole"]
[26,"M","Monieur","GARCIA Christophe","13 rue de l' espoir",75016,"Paris ",{"$f":"IF(K35+N35+Q35+W35>0,K35+N35+Q35+T35+W35,\"\")","v":286},56,"Appart,",257,206,"Cave",29,null,null,null,null,null,null,null,null,null,26,"GARCIA Christophe"]
[27,"M","Monieur","GARRELON Jacques","Rue de Koufra",92100,"Boulogne-Billancourrt",{"$f":"IF(K36+N36+Q36+W36>0,K36+N36+Q36+T36+W36,\"\")","v":280},57,"Appart,",251,207,"Cave",29,null,null,null,null,null,null,null,null,null,27,"GARRELON Jacques"]
[28,"M","Monsieur","HENRI   Paul","14 rue de l' espoir",75016,"Paris ",210,58,"Appart,",210,null,null,null,null,null,null,null,null,null,null,null,null,28,"HENRI   Paul"]
[29,"Mme","Madame","ISIDORE Lucienne","15 rue de l' espoir",75016,"Paris ",110,59,"Appart,",110,null,null,null,null,null,null,null,null,null,null,null,null,29,"ISIDORE Lucienne"]
[30,"M","Monsieur","JARGON Emile","16 rue de l' espoir",75016,"Paris ",{"$f":"IF(K39+N39+Q39+W39>0,K39+N39+Q39+T39+W39,\"\")","v":130},60,"Appart,",130,null,null,null,null,null,null,null,null,null,null,null,null,30,"JARGON Emile"]
[31,"M","Monsieur","LOUISON Albert","17 rue de l' espoir",75016,"Paris ",220,70,"Apart,",220,null,null,null,null,null,null,null,null,null,null,null,null,31,"LOUISON Albert"]
[32,"Mme","Madame","MARTIN Nicole","30 rue Pasteur",33200,"Bordeaux",100,71,"Appart,",100,null,null,null,null,null,null,null,null,null,null,null,null,32,"MARTIN Nicole"]
[33,"M","Monsieur","ANDUN","30 rue Pasteur",33200,"Bordeaux",180,208,"Appart,",150,209,"Cave",30,null,null,null,null,null,null,null,null,null,33,"ANDUN"]
[34,"Mme","Madame","AUDIARD","30 rue Pasteur",33200,"Bordeaux",210,210,"Appart,",180,211,"Cave",30,null,null,null,null,null,null,null,null,null,34,"AUDIARD"]
[35,"M","Monsieur","AVATARD","3 rue Pasteur",75016,"Paris",110,212,"Appart,",80,213,"Cave",30,null,null,null,null,null,null,null,null,null,35,"AVATARD"]
[null,null,null,null,null,null,null,""]
[null,null,null,null,null,null,null,""]
[null,null,null,null,null,null,null,""]
[null,null,null,null,null,null,null,""]
[null,null,null,null,null,null,null,""]
[null,null,null,null,null,null,null,""]
[null,null,null,null,null,null,null,""]
[null,null,null,null,null,null,null,""]
[null,null,null,null,null,null,null,""]
[null,null,null,null,null,null,null,""]
[null,null,null,null,null,null,null,""]
[null,null,null,null,null,null,null,""]
[null,null,null,null,null,null,null,""]
[null,null,null,null,null,null,null,""]
[null,null,null,null,null,null,null,""]
[null,null,null,null,null,null,null,""]
[null,null,null,null,null,null,null,""]
[null,null,null,null,null,null,null,""]
[null,null,null,null,null,null,null,""]
[null,null,null,null,null,null,null,""]
[null,null,null,null,null,null,null,""]
[null,null,null,null,null,null,null,""]
[null,null,null,null,null,null,null,""]
[null,null,null,null,null,null,null,""]
[null,null,null,null,null,null,null,""]
[null,null,null,null,null,null,null,""]
[null,null,null,null,null,null,null,""]
[null,null,null,null,null,null,null,""]
[null,null,null,null,null,null,null,""]
[null,null,null,null,null,null,null,""]
[null,null,null,null,null,null,null,""]
[null,null,null,null,null,null,null,""]
[null,null,null,null,null,null,null,""]
[null,null,null,null,null,null,null,""]
[null,null,null,null,null,null,null,""]
[null,null,null,null,null,null,null,""]
[null,null,null,null,null,null,null,""]
[null,null,null,null,null,null,null,""]
[null,null,null,null,null,null,null,""]
[null,null,null,null,null,null,null,""]
[null,null,null,null,null,null,null,""]
[null,null,null,null,null,null,null,""]
[null,null,null,null,null,null,null,""]
[null,null,null,null,null,null,null,""]
[null,null,null,null,null,null,null,""]
[null,null,null,null,null,null,null,""]
[null,null,null,null,null,null,null,""]
[null,null,null,null,null,null,null,""]
[null,null,null,null,null,null,null,""]
[null,null,null,null,null,null,null,""]
[null,null,null,null,null,null,null,""]
[null,null,null,null,null,null,null,""]
[null,null,null,null,null,null,null,""]
[null,null,null,null,null,null,null,""]
[null,null,null,null,null,null,null,""]
[null,null,null,null,null,null,null,""]
[null,null,null,null,null,null,null,{"$f":"IF(K101+N101+Q101+W101>0,K101+N101+Q101+T101+W101,\"\")","v":""}]
[null,null,null,null,null,null,null,""]
[null,null,null,null,null,null,null,""]
[null,null,null,null,null,null,null,""]
[null,null,null,null,null,null,null,""]
[null,null,null,null,null,null,null,""]
[null,null,null,null,null,null,null,""]
[null,null,null,null,null,null,null,""]
[null,null,null,null,null,null,null,""]
[null,null,null,null,null,null,null,""]
[null,null,null,null,null,null,null,""]
[null,null,null,null,null,null,null,""]
[null,null,null,null,null,null,null,""]
[null,null,null,null,null,null,null,""]
[null,null,null,null,null,null,null,""]
[null,null,null,null,null,null,null,""]
[null,null,null,null,null,null,null,""]
[null,null,null,null,null,null,null,""]
[null,null,null,null,null,null,null,""]
[null,null,null,null,null,null,null,""]
[null,null,null,null,null,null,null,""]
[null,null,null,null,null,null,null,""]
[null,null,null,null,null,null,null,""]
[null,null,null,null,null,null,null,""]
[null,null,null,null,null,null,null,""]
[null,null,null,null,null,null,null,""]
[null,null,null,null,null,null,null,""]
[null,null,null,null,null,null,null,""]
[null,null,null,null,null,null,null,""]
[null,null,null,null,null,null,null,""]
[null,null,null,null,null,null,null,""]
[null,null,null,null,null,null,null,""]
[null,null,null,null,null,null,null,""]
[null,null,null,null,null,null,null,""]
[null,null,null,null,null,null,null,""]
[null,null,null,null,null,null,null,""]
[null,null,null,null,null,null,null,""]
[null,null,null,null,null,null,null,""]
[null,null,null,null,null,null,null,""]
[null,null,null,null,null,null,null,""]
[null,null,null,null,null,null,null,""]
[null,null,null,null,null,null,null,""]
[null,null,null,null,null,null,null,""]
[null,null,null,null,null,null,null,""]
[null,null,null,null,null,null,null,""]
[null,null,null,null,null,null,null,""]
[null,null,null,null,null,null,null,""]
[null,null,null,null,null,null,null,""]
[null,null,null,null,null,null,null,""]
[null,null,null,null,null,null,null,""]
[null,null,null,null,null,null,null,""]
[null,null,null,null,null,null,null,""]
[null,null,null,null,null,null,null,""]
[null,null,null,null,null,null,null,""]
[null,null,null,null,null,null,null,""]
[null,null,null,null,null,null,null,""]
[null,null,null,null,null,null,null,""]
[null,null,null,null,null,null,null,""]
[null,null,null,null,null,null,null,""]
[null,null,null,null,null,null,null,""]
[null,null,null,null,null,null,null,""]
[null,null,null,null,null,null,null,""]
[null,null,null,null,null,null,null,""]
[null,null,null,null,null,null,null,{"$f":"SUM(H10:H159)","v":10000},null,{"$f":"IF(H164-K164-N164-Q164-T164-W164=0,\"\",\"ERREUR\")","v":""},{"$f":"SUM(K10:K159)","v":9127},null,null,{"$f":"SUM(N10:N159)","v":873},null,null,{"$f":"SUM(Q10:Q159)","v":0},null,null,{"$f":"SUM(T10:T159)","v":0},null,null,{"$f":"SUM(W10:W159)","v":0}]
[]
[]
[]
[]
[]
[]
[]
[]
[]
[]
[]
[]
[]
[]
[null,1,"Charges générales   "]
[null,2,"Charges Bat,A"]
[null,3,"Chardes Bât,B"]
[null,4,"Ch,4"]
[null,5,"Ch,5"]
[null,6,"Ch,6"]
[null,7,"Ch,7"]
[null,8,"Ch,8"]
[null,9,"Ch9"]
[null,10,"Ch,10"]
[null,11,"Ch,11"]

{"sheet":"F.P.8","index":1,"n_rows":1445,"n_cols":12,"rows_kept":1445,"cut":false,"hidden":false,"merged":[[13,6,13,8],[22,6,22,8],[31,6,31,8],[40,6,40,8],[49,6,49,8],[58,6,58,8],[126,6,126,8],[135,6,135,8],[144,6,144,8],[153,6,153,8],[167,6,167,8],[176,6,176,8],[67,6,67,8],[76,6,76,8],[90,6,90,8],[99,6,99,8],[108,6,108,8],[117,6,117,8],[244,6,244,8],[253,6,253,8],[262,6,262,8],[271,6,271,8],[280,6,280,8],[289,6,289,8],[185,6,185,8],[194,6,194,8],[203,6,203,8],[212,6,212,8],[221,6,221,8],[230,6,230,8],[357,6,357,8],[366,6,366,8],[375,6,375,8],[384,6,384,8],[398,6,398,8],[407,6,407,8],[298,6,298,8],[307,6,307,8],[321,6,321,8],[330,6,330,8],[339,6,339,8],[348,6,348,8],[475,6,475,8],[484,6,484,8],[493,6,493,8],[502,6,502,8],[511,6,511,8],[520,6,520,8],[416,6,416,8],[425,6,425,8],[434,6,434,8],[443,6,443,8],[452,6,452,8],[461,6,461,8],[588,6,588,8],[597,6,597,8],[606,6,606,8],[615,6,615,8],[629,6,629,8],[638,6,638,8],[529,6,529,8],[538,6,538,8],[552,6,552,8],[561,6,561,8],[570,6,570,8],[579,6,579,8],[706,6,706,8],[715,6,715,8],[724,6,724,8],[733,6,733,8],[742,6,742,8],[751,6,751,8],[647,6,647,8],[656,6,656,8],[665,6,665,8],[674,6,674,8],[683,6,683,8],[692,6,692,8],[819,6,819,8],[828,6,828,8],[837,6,837,8],[846,6,846,8],[860,6,860,8],[869,6,869,8],[760,6,760,8],[769,6,769,8],[783,6,783,8],[792,6,792,8],[801,6,801,8],[810,6,810,8],[937,6,937,8],[946,6,946,8],[955,6,955,8],[964,6,964,8],[973,6,973,8],[982,6,982,8],[878,6,878,8],[887,6,887,8],[896,6,896,8],[905,6,905,8],[914,6,914,8],[923,6,923,8],[1050,6,1050,8],[1059,6,1059,8],[1068,6,1068,8],[1077,6,1077,8],[1091,6,1091,8],[1100,6,1100,8],[991,6,991,8],[1000,6,1000,8],[1014,6,1014,8],[1023,6,1023,8],[1032,6,1032,8],[1041,6,1041,8],[1168,6,1168,8],[1177,6,1177,8],[1186,6,1186,8],[1195,6,1195,8],[1204,6,1204,8],[1213,6,1213,8],[1109,6,1109,8],[1118,6,1118,8],[1127,6,1127,8],[1136,6,1136,8],[1145,6,1145,8],[1154,6,1154,8],[1281,6,1281,8],[1290,6,1290,8],[1299,6,1299,8],[1308,6,1308,8],[1322,6,1322,8],[1331,6,1331,8],[1222,6,1222,8],[1231,6,1231,8],[1245,6,1245,8],[1254,6,1254,8],[1263,6,1263,8],[1272,6,1272,8],[1399,6,1399,8],[1408,6,1408,8],[1417,6,1417,8],[1426,6,1426,8],[1435,6,1435,8],[1444,6,1444,8],[1340,6,1340,8],[1349,6,1349,8],[1358,6,1358,8],[1367,6,1367,8],[1376,6,1376,8],[1385,6,1385,8]]}
[]
[null,null,null,"A S S E M B L E E     G E N E R A L E",null,null,null,null,null,null,"Page",1]
[null,null,null,null,null,"du",{"$f":"IF(A6>0,Liste!C1,\"\")","v":"00:00:00"}]
[null,null,null,"Résidence Le Paradis; Rue de l' espoir 75016 PARIS"]
[]
[1,null,null,null,null,null,"Par correspondance reçu le "]
[{"$f":"IF($A6<>0,VLOOKUP($A6,Liste!$A$10:$W$459,3,FALSE),\"\")","v":"Monsieur"},{"$f":"IF($A6<>0,VLOOKUP($A6,Liste!$A$10:$W$459,4,FALSE),\"\")","v":"ALEXANDRINI André"},null,null,{"$f":"IF($A6<>0,VLOOKUP($A6,Liste!$A$10:$W$459,8,FALSE),\"\")","v":58},null,"Par visio, audio conférence,,,,"]
[{"$f":"IF($A6<>0,VLOOKUP($A6,Liste!$A$10:$W$459,5,FALSE),\"\")","v":"15 rue du Trou Perdu"},null,null,null,null,null,"Signature/ Mandataire :"]
[{"$f":"IF($A6<>0,VLOOKUP($A6,Liste!$A$10:$W$459,6,FALSE),\"\")","v":33700},{"$f":"IF($A6<>0,VLOOKUP($A6,Liste!$A$10:$W$459,7,FALSE),\"\")","v":"Mérignac"}]
[{"$f":" IF($A6<>0, \"Lot \" & VLOOKUP($A6,Liste!$A$10:$W$459,9,FALSE),\"\")","v":"Lot 1"},{"$f":"IF($A6<>0,VLOOKUP($A6,Liste!$A$10:$W$459,10,FALSE),\"\")","v":"cave"},{"$f":"IF($A6<>0,VLOOKUP($A6,Liste!$A$10:$W$459,11,FALSE),\"\")","v":29}]
[{"$f":"IF($A6<>0,\"Lot \" & VLOOKUP($A6,Liste!$A$10:$W$459,12,FALSE),\"\")","v":"Lot 151"},{"$f":"IF($A6<>0,VLOOKUP($A6,Liste!$A$10:$W$459,13,FALSE),\"\")","v":"Cave"},{"$f":"IF($A6<>0,VLOOKUP($A6,Liste!$A$10:$W$459,14,FALSE),\"\")","v":29}]
[{"$f":"IF($A6<>0,\"Lot \" & VLOOKUP($A6,Liste!$A$10:$W$459,15,FALSE),\"\")","v":"Lot "},{"$f":"IF($A6<>0,VLOOKUP($A6,Liste!$A$10:$W$459,16,FALSE),\"\")","v":0},{"$f":"IF($A6<>0,VLOOKUP($A6,Liste!$A$10:$W$459,17,FALSE),\"\")","v":0},null,null,null,"Arrivé à","après vote de la Résolution N°"]
[{"$f":"IF($A6<>0,\"Lot \" & VLOOKUP($A6,Liste!$A$10:$W$459,18,FALSE),\"\")","v":"Lot "},0,{"$f":"IF($A6<>0,VLOOKUP($A6,Liste!$A$10:$W$459,19,FALSE),\"\")","v":0},null,null,null,"Départ à","après vote de la Résolution N°"]
[{"$f":"IF($A6<>0,\"Lot \" & VLOOKUP($A6,Liste!$A$10:$W$459,21,FALSE),\"\")","v":"Lot "},{"$f":"IF($A6<>0,VLOOKUP($A6,Liste!$A$10:$W$459,22,FALSE),\"\")","v":0},{"$f":"IF($A6<>0,VLOOKUP($A6,Liste!$A$10:$W$459,23,FALSE),\"\")","v":0},null,null,null,{"$f":"IF(OR(B7=0,VLOOKUP(A6,Liste!$A$10:'Liste'!$Z$459,26)<>\"\"),\"\", \"Voir autorisation messages électroniques\")","v":""}]
[{"$f":"A6+1","v":2},null,null,null,null,null,"Par correspondance reçu le "]
[{"$f":"IF($A15<>0,VLOOKUP($A15,Liste!$A$10:$W$459,3,FALSE),\"\")","v":"Madame"},{"$f":"IF($A15<>0,VLOOKUP($A15,Liste!$A$10:$W$459,4,FALSE),\"\")","v":"ANNINOS Henri"},null,null,{"$f":"IF($A15<>0,VLOOKUP($A15,Liste!$A$10:$W$459,8,FALSE),\"\")","v":290},null,"Par visio, audio conférence,,,,"]
[{"$f":"IF($A15<>0,VLOOKUP($A15,Liste!$A$10:$W$459,5,FALSE),\"\")","v":"5 rue de la Tour"},null,null,null,null,null,"Signature/ Mandataire :"]
[{"$f":"IF($A15<>0,VLOOKUP($A15,Liste!$A$10:$W$459,6,FALSE),\"\")","v":75016},{"$f":"IF($A15<>0,VLOOKUP($A15,Liste!$A$10:$W$459,7,FALSE),\"\")","v":"Paris "}]
[{"$f":" IF($A15<>0, \"Lot \" & VLOOKUP($A15,Liste!$A$10:$W$459,9,FALSE),\"\")","v":"Lot 2"},{"$f":"IF($A15<>0,VLOOKUP($A15,Liste!$A$10:$W$459,10,FALSE),\"\")","v":"Appart,"},{"$f":"IF($A15<>0,VLOOKUP($A15,Liste!$A$10:$W$459,11,FALSE),\"\")","v":261}]
[{"$f":"IF($A15<>0,\"Lot \" & VLOOKUP($A15,Liste!$A$10:$W$459,12,FALSE),\"\")","v":"Lot 152"},{"$f":"IF($A15<>0,VLOOKUP($A15,Liste!$A$10:$W$459,13,FALSE),\"\")","v":"Cave"},{"$f":"IF($A15<>0,VLOOKUP($A15,Liste!$A$10:$W$459,14,FALSE),\"\")","v":29}]
[{"$f":"IF($A15<>0,\"Lot \" & VLOOKUP($A15,Liste!$A$10:$W$459,15,FALSE),\"\")","v":"Lot "},{"$f":"IF($A15<>0,VLOOKUP($A15,Liste!$A$10:$W$459,16,FALSE),\"\")","v":0},{"$f":"IF($A15<>0,VLOOKUP($A15,Liste!$A$10:$W$459,17,FALSE),\"\")","v":0},null,null,null,"Arrivé à","après vote de la Résolution N°"]
[{"$f":"IF($A15<>0,\"Lot \" & VLOOKUP($A15,Liste!$A$10:$W$459,18,FALSE),\"\")","v":"Lot "},0,{"$f":"IF($A15<>0,VLOOKUP($A15,Liste!$A$10:$W$459,19,FALSE),\"\")","v":0},null,null,null,"Départ à","après vote de la Résolution N°"]
[{"$f":"IF($A15<>0,\"Lot \" & VLOOKUP($A15,Liste!$A$10:$W$459,21,FALSE),\"\")","v":"Lot "},{"$f":"IF($A15<>0,VLOOKUP($A15,Liste!$A$10:$W$459,22,FALSE),\"\")","v":0},{"$f":"IF($A15<>0,VLOOKUP($A15,Liste!$A$10:$W$459,23,FALSE),\"\")","v":0},null,null,null,{"$f":"IF(OR(B16=0,VLOOKUP(A15,Liste!$A$10:'Liste'!$Z$459,26)<>\"\"),\"\", \"Voir autorisation messages électroniques\")","v":"Voir autorisation messages électroniques"}]
[{"$f":"A15+1","v":3},null,null,null,null,null,"Par correspondance reçu le "]
[{"$f":"IF($A24<>0,VLOOKUP($A24,Liste!$A$10:$W$459,3,FALSE),\"\")","v":"Mr  et Mme"},{"$f":"IF($A24<>0,VLOOKUP($A24,Liste!$A$10:$W$459,4,FALSE),\"\")","v":"BALDACCHINO Laurence"},null,null,{"$f":"IF($A24<>0,VLOOKUP($A24,Liste!$A$10:$W$459,8,FALSE),\"\")","v":319},null,"Par visio, audio conférence,,,,"]
[{"$f":"IF($A24<>0,VLOOKUP($A24,Liste!$A$10:$W$459,5,FALSE),\"\")","v":"13 rue de l' espoir "},null,null,null,null,null,"Signature/ Mandataire :"]
[{"$f":"IF($A24<>0,VLOOKUP($A24,Liste!$A$10:$W$459,6,FALSE),\"\")","v":75016},{"$f":"IF($A24<>0,VLOOKUP($A24,Liste!$A$10:$W$459,7,FALSE),\"\")","v":"Paris  "}]
[{"$f":" IF($A24<>0, \"Lot \" & VLOOKUP($A24,Liste!$A$10:$W$459,9,FALSE),\"\")","v":"Lot 3"},{"$f":"IF($A24<>0,VLOOKUP($A24,Liste!$A$10:$W$459,10,FALSE),\"\")","v":"Appart,"},{"$f":"IF($A24<>0,VLOOKUP($A24,Liste!$A$10:$W$459,11,FALSE),\"\")","v":290}]
[{"$f":"IF($A24<>0,\"Lot \" & VLOOKUP($A24,Liste!$A$10:$W$459,12,FALSE),\"\")","v":"Lot 153"},{"$f":"IF($A24<>0,VLOOKUP($A24,Liste!$A$10:$W$459,13,FALSE),\"\")","v":"Cave"},{"$f":"IF($A24<>0,VLOOKUP($A24,Liste!$A$10:$W$459,14,FALSE),\"\")","v":29}]
[{"$f":"IF($A24<>0,\"Lot \" & VLOOKUP($A24,Liste!$A$10:$W$459,15,FALSE),\"\")","v":"Lot "},{"$f":"IF($A24<>0,VLOOKUP($A24,Liste!$A$10:$W$459,16,FALSE),\"\")","v":0},{"$f":"IF($A24<>0,VLOOKUP($A24,Liste!$A$10:$W$459,17,FALSE),\"\")","v":0},null,null,null,"Arrivé à","après vote de la Résolution N°"]
[{"$f":"IF($A24<>0,\"Lot \" & VLOOKUP($A24,Liste!$A$10:$W$459,18,FALSE),\"\")","v":"Lot "},0,{"$f":"IF($A24<>0,VLOOKUP($A24,Liste!$A$10:$W$459,19,FALSE),\"\")","v":0},null,null,null,"Départ à","après vote de la Résolution N°"]
[{"$f":"IF($A24<>0,\"Lot \" & VLOOKUP($A24,Liste!$A$10:$W$459,21,FALSE),\"\")","v":"Lot "},{"$f":"IF($A24<>0,VLOOKUP($A24,Liste!$A$10:$W$459,22,FALSE),\"\")","v":0},{"$f":"IF($A24<>0,VLOOKUP($A24,Liste!$A$10:$W$459,23,FALSE),\"\")","v":0},null,null,null,{"$f":"IF(OR(B25=0,VLOOKUP(A24,Liste!$A$10:'Liste'!$Z$459,26)<>\"\"),\"\", \"Voir autorisation messages électroniques\")","v":""}]
[{"$f":"A24+1","v":4},null,null,null,null,null,"Par correspondance reçu le "]
[{"$f":"IF($A33<>0,VLOOKUP($A33,Liste!$A$10:$W$459,3,FALSE),\"\")","v":"Monsieur"},{"$f":"IF($A33<>0,VLOOKUP($A33,Liste!$A$10:$W$459,4,FALSE),\"\")","v":"BANCHET Joseph"},null,null,{"$f":"IF($A33<>0,VLOOKUP($A33,Liste!$A$10:$W$459,8,FALSE),\"\")","v":294},null,"Par visio, audio conférence,,,,"]
[{"$f":"IF($A33<>0,VLOOKUP($A33,Liste!$A$10:$W$459,5,FALSE),\"\")","v":"14 rue de l' espoir"},null,null,null,null,null,"Signature/ Mandataire :"]
[{"$f":"IF($A33<>0,VLOOKUP($A33,Liste!$A$10:$W$459,6,FALSE),\"\")","v":75016},{"$f":"IF($A33<>0,VLOOKUP($A33,Liste!$A$10:$W$459,7,FALSE),\"\")","v":"Paris "}]
[{"$f":" IF($A33<>0, \"Lot \" & VLOOKUP($A33,Liste!$A$10:$W$459,9,FALSE),\"\")","v":"Lot 4"},{"$f":"IF($A33<>0,VLOOKUP($A33,Liste!$A$10:$W$459,10,FALSE),\"\")","v":"Appart,"},{"$f":"IF($A33<>0,VLOOKUP($A33,Liste!$A$10:$W$459,11,FALSE),\"\")","v":265}]
[{"$f":"IF($A33<>0,\"Lot \" & VLOOKUP($A33,Liste!$A$10:$W$459,12,FALSE),\"\")","v":"Lot 154"},{"$f":"IF($A33<>0,VLOOKUP($A33,Liste!$A$10:$W$459,13,FALSE),\"\")","v":"Cave"},{"$f":"IF($A33<>0,VLOOKUP($A33,Liste!$A$10:$W$459,14,FALSE),\"\")","v":29}]
[{"$f":"IF($A33<>0,\"Lot \" & VLOOKUP($A33,Liste!$A$10:$W$459,15,FALSE),\"\")","v":"Lot "},{"$f":"IF($A33<>0,VLOOKUP($A33,Liste!$A$10:$W$459,16,FALSE),\"\")","v":0},{"$f":"IF($A33<>0,VLOOKUP($A33,Liste!$A$10:$W$459,17,FALSE),\"\")","v":0},null,null,null,"Arrivé à","après vote de la Résolution N°"]
[{"$f":"IF($A33<>0,\"Lot \" & VLOOKUP($A33,Liste!$A$10:$W$459,18,FALSE),\"\")","v":"Lot "},0,{"$f":"IF($A33<>0,VLOOKUP($A33,Liste!$A$10:$W$459,19,FALSE),\"\")","v":0},null,null,null,"Départ à","après vote de la Résolution N°"]
[{"$f":"IF($A33<>0,\"Lot \" & VLOOKUP($A33,Liste!$A$10:$W$459,21,FALSE),\"\")","v":"Lot "},{"$f":"IF($A33<>0,VLOOKUP($A33,Liste!$A$10:$W$459,22,FALSE),\"\")","v":0},{"$f":"IF($A33<>0,VLOOKUP($A33,Liste!$A$10:$W$459,23,FALSE),\"\")","v":0},null,null,null,{"$f":"IF(OR(B34=0,VLOOKUP(A33,Liste!$A$10:'Liste'!$Z$459,26)<>\"\"),\"\", \"Voir autorisation messages électroniques\")","v":"Voir autorisation messages électroniques"}]
[{"$f":"A33+1","v":5},null,null,null,null,null,"Par correspondance reçu le "]
[{"$f":"IF($A42<>0,VLOOKUP($A42,Liste!$A$10:$W$459,3,FALSE),\"\")","v":"Madame"},{"$f":"IF($A42<>0,VLOOKUP($A42,Liste!$A$10:$W$459,4,FALSE),\"\")","v":"BARDIN Andrée"},null,null,{"$f":"IF($A42<>0,VLOOKUP($A42,Liste!$A$10:$W$459,8,FALSE),\"\")","v":287},null,"Par visio, audio conférence,,,,"]
[{"$f":"IF($A42<>0,VLOOKUP($A42,Liste!$A$10:$W$459,5,FALSE),\"\")","v":"12 rue de Caen"},null,null,null,null,null,"Signature/ Mandataire :"]
[{"$f":"IF($A42<>0,VLOOKUP($A42,Liste!$A$10:$W$459,6,FALSE),\"\")","v":75016},{"$f":"IF($A42<>0,VLOOKUP($A42,Liste!$A$10:$W$459,7,FALSE),\"\")","v":"Paris "}]
[{"$f":" IF($A42<>0, \"Lot \" & VLOOKUP($A42,Liste!$A$10:$W$459,9,FALSE),\"\")","v":"Lot 5"},{"$f":"IF($A42<>0,VLOOKUP($A42,Liste!$A$10:$W$459,10,FALSE),\"\")","v":"Appart,"},{"$f":"IF($A42<>0,VLOOKUP($A42,Liste!$A$10:$W$459,11,FALSE),\"\")","v":258}]
[{"$f":"IF($A42<>0,\"Lot \" & VLOOKUP($A42,Liste!$A$10:$W$459,12,FALSE),\"\")","v":"Lot 155"},{"$f":"IF($A42<>0,VLOOKUP($A42,Liste!$A$10:$W$459,13,FALSE),\"\")","v":"Cave"},{"$f":"IF($A42<>0,VLOOKUP($A42,Liste!$A$10:$W$459,14,FALSE),\"\")","v":29}]
[{"$f":"IF($A42<>0,\"Lot \" & VLOOKUP($A42,Liste!$A$10:$W$459,15,FALSE),\"\")","v":"Lot "},{"$f":"IF($A42<>0,VLOOKUP($A42,Liste!$A$10:$W$459,16,FALSE),\"\")","v":0},{"$f":"IF($A42<>0,VLOOKUP($A42,Liste!$A$10:$W$459,17,FALSE),\"\")","v":0},null,null,null,"Arrivé à","après vote de la Résolution N°"]
[{"$f":"IF($A42<>0,\"Lot \" & VLOOKUP($A42,Liste!$A$10:$W$459,18,FALSE),\"\")","v":"Lot "},0,{"$f":"IF($A42<>0,VLOOKUP($A42,Liste!$A$10:$W$459,19,FALSE),\"\")","v":0},null,null,null,"Départ à","après vote de la Résolution N°"]
[{"$f":"IF($A42<>0,\"Lot \" & VLOOKUP($A42,Liste!$A$10:$W$459,21,FALSE),\"\")","v":"Lot "},{"$f":"IF($A42<>0,VLOOKUP($A42,Liste!$A$10:$W$459,22,FALSE),\"\")","v":0},{"$f":"IF($A42<>0,VLOOKUP($A42,Liste!$A$10:$W$459,23,FALSE),\"\")","v":0},null,null,null,{"$f":"IF(OR(B43=0,VLOOKUP(A42,Liste!$A$10:'Liste'!$Z$459,26)<>\"\"),\"\", \"Voir autorisation messages électroniques\")","v":"Voir autorisation messages électroniques"}]
[{"$f":"A42+1","v":6},null,null,null,null,null,"Par correspondance reçu le "]
[{"$f":"IF($A51<>0,VLOOKUP($A51,Liste!$A$10:$W$459,3,FALSE),\"\")","v":"Mr  et Mme"},{"$f":"IF($A51<>0,VLOOKUP($A51,Liste!$A$10:$W$459,4,FALSE),\"\")","v":"BARDIN-BENARD Louis"},null,null,{"$f":"IF($A51<>0,VLOOKUP($A51,Liste!$A$10:$W$459,8,FALSE),\"\")","v":257},null,"Par visio, audio conférence,,,,"]
[{"$f":"IF($A51<>0,VLOOKUP($A51,Liste!$A$10:$W$459,5,FALSE),\"\")","v":"16 rue de l' espoir"},null,null,null,null,null,"Signature/ Mandataire :"]
[{"$f":"IF($A51<>0,VLOOKUP($A51,Liste!$A$10:$W$459,6,FALSE),\"\")","v":75016},{"$f":"IF($A51<>0,VLOOKUP($A51,Liste!$A$10:$W$459,7,FALSE),\"\")","v":"Paris "}]
[{"$f":" IF($A51<>0, \"Lot \" & VLOOKUP($A51,Liste!$A$10:$W$459,9,FALSE),\"\")","v":"Lot 6"},{"$f":"IF($A51<>0,VLOOKUP($A51,Liste!$A$10:$W$459,10,FALSE),\"\")","v":"Appart,"},{"$f":"IF($A51<>0,VLOOKUP($A51,Liste!$A$10:$W$459,11,FALSE),\"\")","v":228}]
[{"$f":"IF($A51<>0,\"Lot \" & VLOOKUP($A51,Liste!$A$10:$W$459,12,FALSE),\"\")","v":"Lot 156"},{"$f":"IF($A51<>0,VLOOKUP($A51,Liste!$A$10:$W$459,13,FALSE),\"\")","v":"Cave"},{"$f":"IF($A51<>0,VLOOKUP($A51,Liste!$A$10:$W$459,14,FALSE),\"\")","v":29}]
[{"$f":"IF($A51<>0,\"Lot \" & VLOOKUP($A51,Liste!$A$10:$W$459,15,FALSE),\"\")","v":"Lot "},{"$f":"IF($A51<>0,VLOOKUP($A51,Liste!$A$10:$W$459,16,FALSE),\"\")","v":0},{"$f":"IF($A51<>0,VLOOKUP($A51,Liste!$A$10:$W$459,17,FALSE),\"\")","v":0},null,null,null,"Arrivé à","après vote de la Résolution N°"]
[{"$f":"IF($A51<>0,\"Lot \" & VLOOKUP($A51,Liste!$A$10:$W$459,18,FALSE),\"\")","v":"Lot "},0,{"$f":"IF($A51<>0,VLOOKUP($A51,Liste!$A$10:$W$459,19,FALSE),\"\")","v":0},null,null,null,"Départ à","après vote de la Résolution N°"]
[{"$f":"IF($A51<>0,\"Lot \" & VLOOKUP($A51,Liste!$A$10:$W$459,21,FALSE),\"\")","v":"Lot "},{"$f":"IF($A51<>0,VLOOKUP($A51,Liste!$A$10:$W$459,22,FALSE),\"\")","v":0},{"$f":"IF($A51<>0,VLOOKUP($A51,Liste!$A$10:$W$459,23,FALSE),\"\")","v":0},null,null,null,{"$f":"IF(OR(B52=0,VLOOKUP(A51,Liste!$A$10:'Liste'!$Z$459,26)<>\"\"),\"\", \"Voir autorisation messages électroniques\")","v":"Voir autorisation messages électroniques"}]
[{"$f":"A51+1","v":7},null,null,null,null,null,"Par correspondance reçu le "]
[{"$f":"IF($A60<>0,VLOOKUP($A60,Liste!$A$10:$W$459,3,FALSE),\"\")","v":"Mr  et Mme"},{"$f":"IF($A60<>0,VLOOKUP($A60,Liste!$A$10:$W$459,4,FALSE),\"\")","v":"BARDOUILLE Hermine"},null,null,{"$f":"IF($A60<>0,VLOOKUP($A60,Liste!$A$10:$W$459,8,FALSE),\"\")","v":371},null,"Par visio, audio conférence,,,,"]
[{"$f":"IF($A60<>0,VLOOKUP($A60,Liste!$A$10:$W$459,5,FALSE),\"\")","v":"25 rue du Puit"},null,null,null,null,null,"Signature/ Mandataire :"]
[{"$f":"IF($A60<>0,VLOOKUP($A60,Liste!$A$10:$W$459,6,FALSE),\"\")","v":75016},{"$f":"IF($A60<>0,VLOOKUP($A60,Liste!$A$10:$W$459,7,FALSE),\"\")","v":"Paris "}]
[{"$f":" IF($A60<>0, \"Lot \" & VLOOKUP($A60,Liste!$A$10:$W$459,9,FALSE),\"\")","v":"Lot 7"},{"$f":"IF($A60<>0,VLOOKUP($A60,Liste!$A$10:$W$459,10,FALSE),\"\")","v":"Appart,"},{"$f":"IF($A60<>0,VLOOKUP($A60,Liste!$A$10:$W$459,11,FALSE),\"\")","v":342}]
[{"$f":"IF($A60<>0,\"Lot \" & VLOOKUP($A60,Liste!$A$10:$W$459,12,FALSE),\"\")","v":"Lot 157"},{"$f":"IF($A60<>0,VLOOKUP($A60,Liste!$A$10:$W$459,13,FALSE),\"\")","v":"Cave"},{"$f":"IF($A60<>0,VLOOKUP($A60,Liste!$A$10:$W$459,14,FALSE),\"\")","v":29}]
[{"$f":"IF($A60<>0,\"Lot \" & VLOOKUP($A60,Liste!$A$10:$W$459,15,FALSE),\"\")","v":"Lot "},{"$f":"IF($A60<>0,VLOOKUP($A60,Liste!$A$10:$W$459,16,FALSE),\"\")","v":0},{"$f":"IF($A60<>0,VLOOKUP($A60,Liste!$A$10:$W$459,17,FALSE),\"\")","v":0},null,null,null,"Arrivé à","après vote de la Résolution N°"]
[{"$f":"IF($A60<>0,\"Lot \" & VLOOKUP($A60,Liste!$A$10:$W$459,18,FALSE),\"\")","v":"Lot "},0,{"$f":"IF($A60<>0,VLOOKUP($A60,Liste!$A$10:$W$459,19,FALSE),\"\")","v":0},null,null,null,"Départ à","après vote de la Résolution N°"]
[{"$f":"IF($A60<>0,\"Lot \" & VLOOKUP($A60,Liste!$A$10:$W$459,21,FALSE),\"\")","v":"Lot "},{"$f":"IF($A60<>0,VLOOKUP($A60,Liste!$A$10:$W$459,22,FALSE),\"\")","v":0},{"$f":"IF($A60<>0,VLOOKUP($A60,Liste!$A$10:$W$459,23,FALSE),\"\")","v":0},null,null,null,{"$f":"IF(OR(B61=0,VLOOKUP(A60,Liste!$A$10:'Liste'!$Z$459,26)<>\"\"),\"\", \"Voir autorisation messages électroniques\")","v":"Voir autorisation messages électroniques"}]
[{"$f":"A60+1","v":8},null,null,null,null,null,"Par correspondance reçu le "]
[{"$f":"IF($A69<>0,VLOOKUP($A69,Liste!$A$10:$W$459,3,FALSE),\"\")","v":"Mr  et Mme"},{"$f":"IF($A69<>0,VLOOKUP($A69,Liste!$A$10:$W$459,4,FALSE),\"\")","v":"BARDOUILLE Jean Yves"},null,null,{"$f":"IF($A69<>0,VLOOKUP($A69,Liste!$A$10:$W$459,8,FALSE),\"\")","v":569},null,"Par visio, audio conférence,,,,"]
[{"$f":"IF($A69<>0,VLOOKUP($A69,Liste!$A$10:$W$459,5,FALSE),\"\")","v":"13 rue de l' espoir"},null,null,null,null,null,"Signature/ Mandataire :"]
[{"$f":"IF($A69<>0,VLOOKUP($A69,Liste!$A$10:$W$459,6,FALSE),\"\")","v":75016},{"$f":"IF($A69<>0,VLOOKUP($A69,Liste!$A$10:$W$459,7,FALSE),\"\")","v":"Paris "}]
[{"$f":" IF($A69<>0, \"Lot \" & VLOOKUP($A69,Liste!$A$10:$W$459,9,FALSE),\"\")","v":"Lot 8"},{"$f":"IF($A69<>0,VLOOKUP($A69,Liste!$A$10:$W$459,10,FALSE),\"\")","v":"Appart,"},{"$f":"IF($A69<>0,VLOOKUP($A69,Liste!$A$10:$W$459,11,FALSE),\"\")","v":540}]
[{"$f":"IF($A69<>0,\"Lot \" & VLOOKUP($A69,Liste!$A$10:$W$459,12,FALSE),\"\")","v":"Lot 158"},{"$f":"IF($A69<>0,VLOOKUP($A69,Liste!$A$10:$W$459,13,FALSE),\"\")","v":"Cave"},{"$f":"IF($A69<>0,VLOOKUP($A69,Liste!$A$10:$W$459,14,FALSE),\"\")","v":29}]
[{"$f":"IF($A69<>0,\"Lot \" & VLOOKUP($A69,Liste!$A$10:$W$459,15,FALSE),\"\")","v":"Lot "},{"$f":"IF($A69<>0,VLOOKUP($A69,Liste!$A$10:$W$459,16,FALSE),\"\")","v":0},{"$f":"IF($A69<>0,VLOOKUP($A69,Liste!$A$10:$W$459,17,FALSE),\"\")","v":0},null,null,null,"Arrivé à","après vote de la Résolution N°"]
[{"$f":"IF($A69<>0,\"Lot \" & VLOOKUP($A69,Liste!$A$10:$W$459,18,FALSE),\"\")","v":"Lot "},0,{"$f":"IF($A69<>0,VLOOKUP($A69,Liste!$A$10:$W$459,19,FALSE),\"\")","v":0},null,null,null,"Départ à","après vote de la Résolution N°"]
[{"$f":"IF($A69<>0,\"Lot \" & VLOOKUP($A69,Liste!$A$10:$W$459,21,FALSE),\"\")","v":"Lot "},{"$f":"IF($A69<>0,VLOOKUP($A69,Liste!$A$10:$W$459,22,FALSE),\"\")","v":0},{"$f":"IF($A69<>0,VLOOKUP($A69,Liste!$A$10:$W$459,23,FALSE),\"\")","v":0},null,null,null,{"$f":"IF(OR(B70=0,VLOOKUP(A69,Liste!$A$10:'Liste'!$Z$459,26)<>\"\"),\"\", \"Voir autorisation messages électroniques\")","v":"Voir autorisation messages électroniques"}]
[]
[null,null,null,"A S S E M B L E E     G E N E R A L E",null,null,null,null,null,null,"Page",{"$f":"L2+1","v":2}]
[null,null,null,null,null,"du","2019-12-20"]
[null,null,null,"Résidence Le Paradis; Rue de l' espoir 75016 PARIS"]
[]
[{"$f":"A69+1","v":9},null,null,null,null,null,"Par correspondance reçu le "]
[{"$f":"IF($A83<>0,VLOOKUP($A83,Liste!$A$10:$W$459,3,FALSE),\"\")","v":"Mr  et Mme"},{"$f":"IF($A83<>0,VLOOKUP($A83,Liste!$A$10:$W$459,4,FALSE),\"\")","v":"BAUDINO"},null,null,{"$f":"IF($A83<>0,VLOOKUP($A83,Liste!$A$10:$W$459,8,FALSE),\"\")","v":431},null,"Par visio, audio conférence,,,,"]
[{"$f":"IF($A83<>0,VLOOKUP($A83,Liste!$A$10:$W$459,5,FALSE),\"\")","v":"13 rue de l' espoir"},null,null,null,null,null,"Signature/ Mandataire :"]
[{"$f":"IF($A83<>0,VLOOKUP($A83,Liste!$A$10:$W$459,6,FALSE),\"\")","v":75016},{"$f":"IF($A83<>0,VLOOKUP($A83,Liste!$A$10:$W$459,7,FALSE),\"\")","v":"Paris "}]
[{"$f":" IF($A83<>0, \"Lot \" & VLOOKUP($A83,Liste!$A$10:$W$459,9,FALSE),\"\")","v":"Lot 9"},{"$f":"IF($A83<>0,VLOOKUP($A83,Liste!$A$10:$W$459,10,FALSE),\"\")","v":"Appart,"},{"$f":"IF($A83<>0,VLOOKUP($A83,Liste!$A$10:$W$459,11,FALSE),\"\")","v":402}]
[{"$f":"IF($A83<>0,\"Lot \" & VLOOKUP($A83,Liste!$A$10:$W$459,12,FALSE),\"\")","v":"Lot 159"},{"$f":"IF($A83<>0,VLOOKUP($A83,Liste!$A$10:$W$459,13,FALSE),\"\")","v":"Cave"},{"$f":"IF($A83<>0,VLOOKUP($A83,Liste!$A$10:$W$459,14,FALSE),\"\")","v":29}]
[{"$f":"IF($A83<>0,\"Lot \" & VLOOKUP($A83,Liste!$A$10:$W$459,15,FALSE),\"\")","v":"Lot "},{"$f":"IF($A83<>0,VLOOKUP($A83,Liste!$A$10:$W$459,16,FALSE),\"\")","v":0},{"$f":"IF($A83<>0,VLOOKUP($A83,Liste!$A$10:$W$459,17,FALSE),\"\")","v":0},null,null,null,"Arrivé à","après vote de la Résolution N°"]
[{"$f":"IF($A83<>0,\"Lot \" & VLOOKUP($A83,Liste!$A$10:$W$459,18,FALSE),\"\")","v":"Lot "},0,{"$f":"IF($A83<>0,VLOOKUP($A83,Liste!$A$10:$W$459,19,FALSE),\"\")","v":0},null,null,null,"Départ à","après vote de la Résolution N°"]
[{"$f":"IF($A83<>0,\"Lot \" & VLOOKUP($A83,Liste!$A$10:$W$459,21,FALSE),\"\")","v":"Lot "},{"$f":"IF($A83<>0,VLOOKUP($A83,Liste!$A$10:$W$459,22,FALSE),\"\")","v":0},{"$f":"IF($A83<>0,VLOOKUP($A83,Liste!$A$10:$W$459,23,FALSE),\"\")","v":0},null,null,null,{"$f":"IF(OR(B84=0,VLOOKUP(A83,Liste!$A$10:'Liste'!$Z$459,26)<>\"\"),\"\", \"Voir autorisation messages électroniques\")","v":"Voir autorisation messages électroniques"}]
[{"$f":"A83+1","v":10},null,null,null,null,null,"Par correspondance reçu le "]
[{"$f":"IF($A92<>0,VLOOKUP($A92,Liste!$A$10:$W$459,3,FALSE),\"\")","v":"Mr  et Mme"},{"$f":"IF($A92<>0,VLOOKUP($A92,Liste!$A$10:$W$459,4,FALSE),\"\")","v":"BAUGUIL André"},null,null,{"$f":"IF($A92<>0,VLOOKUP($A92,Liste!$A$10:$W$459,8,FALSE),\"\")","v":360},null,"Par visio, audio conférence,,,,"]
[{"$f":"IF($A92<>0,VLOOKUP($A92,Liste!$A$10:$W$459,5,FALSE),\"\")","v":"13 rue de l' espoir"},null,null,null,null,null,"Signature/ Mandataire :"]
[{"$f":"IF($A92<>0,VLOOKUP($A92,Liste!$A$10:$W$459,6,FALSE),\"\")","v":75016},{"$f":"IF($A92<>0,VLOOKUP($A92,Liste!$A$10:$W$459,7,FALSE),\"\")","v":"Paris "}]
[{"$f":" IF($A92<>0, \"Lot \" & VLOOKUP($A92,Liste!$A$10:$W$459,9,FALSE),\"\")","v":"Lot 10"},{"$f":"IF($A92<>0,VLOOKUP($A92,Liste!$A$10:$W$459,10,FALSE),\"\")","v":"Appart,"},{"$f":"IF($A92<>0,VLOOKUP($A92,Liste!$A$10:$W$459,11,FALSE),\"\")","v":331}]
[{"$f":"IF($A92<>0,\"Lot \" & VLOOKUP($A92,Liste!$A$10:$W$459,12,FALSE),\"\")","v":"Lot 160"},{"$f":"IF($A92<>0,VLOOKUP($A92,Liste!$A$10:$W$459,13,FALSE),\"\")","v":"Cave"},{"$f":"IF($A92<>0,VLOOKUP($A92,Liste!$A$10:$W$459,14,FALSE),\"\")","v":29}]
[{"$f":"IF($A92<>0,\"Lot \" & VLOOKUP($A92,Liste!$A$10:$W$459,15,FALSE),\"\")","v":"Lot "},{"$f":"IF($A92<>0,VLOOKUP($A92,Liste!$A$10:$W$459,16,FALSE),\"\")","v":0},{"$f":"IF($A92<>0,VLOOKUP($A92,Liste!$A$10:$W$459,17,FALSE),\"\")","v":0},null,null,null,"Arrivé à","après vote de la Résolution N°"]
[{"$f":"IF($A92<>0,\"Lot \" & VLOOKUP($A92,Liste!$A$10:$W$459,18,FALSE),\"\")","v":"Lot "},0,{"$f":"IF($A92<>0,VLOOKUP($A92,Liste!$A$10:$W$459,19,FALSE),\"\")","v":0},null,null,null,"Départ à","après vote de la Résolution N°"]
[{"$f":"IF($A92<>0,\"Lot \" & VLOOKUP($A92,Liste!$A$10:$W$459,21,FALSE),\"\")","v":"Lot "},{"$f":"IF($A92<>0,VLOOKUP($A92,Liste!$A$10:$W$459,22,FALSE),\"\")","v":0},{"$f":"IF($A92<>0,VLOOKUP($A92,Liste!$A$10:$W$459,23,FALSE),\"\")","v":0},null,null,null,{"$f":"IF(OR(B93=0,VLOOKUP(A92,Liste!$A$10:'Liste'!$Z$459,26)<>\"\"),\"\", \"Voir autorisation messages électroniques\")","v":"Voir autorisation messages électroniques"}]
[{"$f":"A92+1","v":11},null,null,null,null,null,"Par correspondance reçu le "]
[{"$f":"IF($A101<>0,VLOOKUP($A101,Liste!$A$10:$W$459,3,FALSE),\"\")","v":"Mr  et Mme"},{"$f":"IF($A101<>0,VLOOKUP($A101,Liste!$A$10:$W$459,4,FALSE),\"\")","v":"BAUMGARTNER Peter"},null,null,{"$f":"IF($A101<>0,VLOOKUP($A101,Liste!$A$10:$W$459,8,FALSE),\"\")","v":380},null,"Par visio, audio conférence,,,,"]
[{"$f":"IF($A101<>0,VLOOKUP($A101,Liste!$A$10:$W$459,5,FALSE),\"\")","v":"13 rue de l' espoir"},null,null,null,null,null,"Signature/ Mandataire :"]
[{"$f":"IF($A101<>0,VLOOKUP($A101,Liste!$A$10:$W$459,6,FALSE),\"\")","v":75016},{"$f":"IF($A101<>0,VLOOKUP($A101,Liste!$A$10:$W$459,7,FALSE),\"\")","v":"Paris "}]
[{"$f":" IF($A101<>0, \"Lot \" & VLOOKUP($A101,Liste!$A$10:$W$459,9,FALSE),\"\")","v":"Lot 11"},{"$f":"IF($A101<>0,VLOOKUP($A101,Liste!$A$10:$W$459,10,FALSE),\"\")","v":"Appart,"},{"$f":"IF($A101<>0,VLOOKUP($A101,Liste!$A$10:$W$459,11,FALSE),\"\")","v":351}]
[{"$f":"IF($A101<>0,\"Lot \" & VLOOKUP($A101,Liste!$A$10:$W$459,12,FALSE),\"\")","v":"Lot 161"},{"$f":"IF($A101<>0,VLOOKUP($A101,Liste!$A$10:$W$459,13,FALSE),\"\")","v":"Cave"},{"$f":"IF($A101<>0,VLOOKUP($A101,Liste!$A$10:$W$459,14,FALSE),\"\")","v":29}]
[{"$f":"IF($A101<>0,\"Lot \" & VLOOKUP($A101,Liste!$A$10:$W$459,15,FALSE),\"\")","v":"Lot "},{"$f":"IF($A101<>0,VLOOKUP($A101,Liste!$A$10:$W$459,16,FALSE),\"\")","v":0},{"$f":"IF($A101<>0,VLOOKUP($A101,Liste!$A$10:$W$459,17,FALSE),\"\")","v":0},null,null,null,"Arrivé à","après vote de la Résolution N°"]
[{"$f":"IF($A101<>0,\"Lot \" & VLOOKUP($A101,Liste!$A$10:$W$459,18,FALSE),\"\")","v":"Lot "},0,{"$f":"IF($A101<>0,VLOOKUP($A101,Liste!$A$10:$W$459,19,FALSE),\"\")","v":0},null,null,null,"Départ à","après vote de la Résolution N°"]
[{"$f":"IF($A101<>0,\"Lot \" & VLOOKUP($A101,Liste!$A$10:$W$459,21,FALSE),\"\")","v":"Lot "},{"$f":"IF($A101<>0,VLOOKUP($A101,Liste!$A$10:$W$459,22,FALSE),\"\")","v":0},{"$f":"IF($A101<>0,VLOOKUP($A101,Liste!$A$10:$W$459,23,FALSE),\"\")","v":0},null,null,null,{"$f":"IF(OR(B102=0,VLOOKUP(A101,Liste!$A$10:'Liste'!$Z$459,26)<>\"\"),\"\", \"Voir autorisation messages électroniques\")","v":"Voir autorisation messages électroniques"}]
[{"$f":"A101+1","v":12},null,null,null,null,null,"Par correspondance reçu le "]
[{"$f":"IF($A110<>0,VLOOKUP($A110,Liste!$A$10:$W$459,3,FALSE),\"\")","v":"Mr  et Mme"},{"$f":"IF($A110<>0,VLOOKUP($A110,Liste!$A$10:$W$459,4,FALSE),\"\")","v":"BECH Monique"},null,null,{"$f":"IF($A110<>0,VLOOKUP($A110,Liste!$A$10:$W$459,8,FALSE),\"\")","v":519},null,"Par visio, audio conférence,,,,"]
[{"$f":"IF($A110<>0,VLOOKUP($A110,Liste!$A$10:$W$459,5,FALSE),\"\")","v":"22 Rue des Amoureux"},null,null,null,null,null,"Signature/ Mandataire :"]
[{"$f":"IF($A110<>0,VLOOKUP($A110,Liste!$A$10:$W$459,6,FALSE),\"\")","v":33200},{"$f":"IF($A110<>0,VLOOKUP($A110,Liste!$A$10:$W$459,7,FALSE),\"\")","v":"Bordeaux"}]
[{"$f":" IF($A110<>0, \"Lot \" & VLOOKUP($A110,Liste!$A$10:$W$459,9,FALSE),\"\")","v":"Lot 12"},{"$f":"IF($A110<>0,VLOOKUP($A110,Liste!$A$10:$W$459,10,FALSE),\"\")","v":"Appart,"},{"$f":"IF($A110<>0,VLOOKUP($A110,Liste!$A$10:$W$459,11,FALSE),\"\")","v":490}]
[{"$f":"IF($A110<>0,\"Lot \" & VLOOKUP($A110,Liste!$A$10:$W$459,12,FALSE),\"\")","v":"Lot 162"},{"$f":"IF($A110<>0,VLOOKUP($A110,Liste!$A$10:$W$459,13,FALSE),\"\")","v":"Cave"},{"$f":"IF($A110<>0,VLOOKUP($A110,Liste!$A$10:$W$459,14,FALSE),\"\")","v":29}]
[{"$f":"IF($A110<>0,\"Lot \" & VLOOKUP($A110,Liste!$A$10:$W$459,15,FALSE),\"\")","v":"Lot "},{"$f":"IF($A110<>0,VLOOKUP($A110,Liste!$A$10:$W$459,16,FALSE),\"\")","v":0},{"$f":"IF($A110<>0,VLOOKUP($A110,Liste!$A$10:$W$459,17,FALSE),\"\")","v":0},null,null,null,"Arrivé à","après vote de la Résolution N°"]
[{"$f":"IF($A110<>0,\"Lot \" & VLOOKUP($A110,Liste!$A$10:$W$459,18,FALSE),\"\")","v":"Lot "},0,{"$f":"IF($A110<>0,VLOOKUP($A110,Liste!$A$10:$W$459,19,FALSE),\"\")","v":0},null,null,null,"Départ à","après vote de la Résolution N°"]
[{"$f":"IF($A110<>0,\"Lot \" & VLOOKUP($A110,Liste!$A$10:$W$459,21,FALSE),\"\")","v":"Lot "},{"$f":"IF($A110<>0,VLOOKUP($A110,Liste!$A$10:$W$459,22,FALSE),\"\")","v":0},{"$f":"IF($A110<>0,VLOOKUP($A110,Liste!$A$10:$W$459,23,FALSE),\"\")","v":0},null,null,null,{"$f":"IF(OR(B111=0,VLOOKUP(A110,Liste!$A$10:'Liste'!$Z$459,26)<>\"\"),\"\", \"Voir autorisation messages électroniques\")","v":"Voir autorisation messages électroniques"}]
[{"$f":"A110+1","v":13},null,null,null,null,null,"Par correspondance reçu le "]
[{"$f":"IF($A119<>0,VLOOKUP($A119,Liste!$A$10:$W$459,3,FALSE),\"\")","v":"Monsieur"},{"$f":"IF($A119<>0,VLOOKUP($A119,Liste!$A$10:$W$459,4,FALSE),\"\")","v":"BERGET Jean François"},null,null,{"$f":"IF($A119<>0,VLOOKUP($A119,Liste!$A$10:$W$459,8,FALSE),\"\")","v":381},null,"Par visio, audio conférence,,,,"]
[{"$f":"IF($A119<>0,VLOOKUP($A119,Liste!$A$10:$W$459,5,FALSE),\"\")","v":"13 rue de l' espoir"},null,null,null,null,null,"Signature/ Mandataire :"]
[{"$f":"IF($A119<>0,VLOOKUP($A119,Liste!$A$10:$W$459,6,FALSE),\"\")","v":75016},{"$f":"IF($A119<>0,VLOOKUP($A119,Liste!$A$10:$W$459,7,FALSE),\"\")","v":"Paris "}]
[{"$f":" IF($A119<>0, \"Lot \" & VLOOKUP($A119,Liste!$A$10:$W$459,9,FALSE),\"\")","v":"Lot 13"},{"$f":"IF($A119<>0,VLOOKUP($A119,Liste!$A$10:$W$459,10,FALSE),\"\")","v":"Appart,"},{"$f":"IF($A119<>0,VLOOKUP($A119,Liste!$A$10:$W$459,11,FALSE),\"\")","v":352}]
[{"$f":"IF($A119<>0,\"Lot \" & VLOOKUP($A119,Liste!$A$10:$W$459,12,FALSE),\"\")","v":"Lot 163"},{"$f":"IF($A119<>0,VLOOKUP($A119,Liste!$A$10:$W$459,13,FALSE),\"\")","v":"Cave"},{"$f":"IF($A119<>0,VLOOKUP($A119,Liste!$A$10:$W$459,14,FALSE),\"\")","v":29}]
[{"$f":"IF($A119<>0,\"Lot \" & VLOOKUP($A119,Liste!$A$10:$W$459,15,FALSE),\"\")","v":"Lot "},{"$f":"IF($A119<>0,VLOOKUP($A119,Liste!$A$10:$W$459,16,FALSE),\"\")","v":0},{"$f":"IF($A119<>0,VLOOKUP($A119,Liste!$A$10:$W$459,17,FALSE),\"\")","v":0},null,null,null,"Arrivé à","après vote de la Résolution N°"]
[{"$f":"IF($A119<>0,\"Lot \" & VLOOKUP($A119,Liste!$A$10:$W$459,18,FALSE),\"\")","v":"Lot "},0,{"$f":"IF($A119<>0,VLOOKUP($A119,Liste!$A$10:$W$459,19,FALSE),\"\")","v":0},null,null,null,"Départ à","après vote de la Résolution N°"]
[{"$f":"IF($A119<>0,\"Lot \" & VLOOKUP($A119,Liste!$A$10:$W$459,21,FALSE),\"\")","v":"Lot "},{"$f":"IF($A119<>0,VLOOKUP($A119,Liste!$A$10:$W$459,22,FALSE),\"\")","v":0},{"$f":"IF($A119<>0,VLOOKUP($A119,Liste!$A$10:$W$459,23,FALSE),\"\")","v":0},null,null,null,{"$f":"IF(OR(B120=0,VLOOKUP(A119,Liste!$A$10:'Liste'!$Z$459,26)<>\"\"),\"\", \"Voir autorisation messages électroniques\")","v":"Voir autorisation messages électroniques"}]
[{"$f":"A119+1","v":14},null,null,null,null,null,"Par correspondance reçu le "]
[{"$f":"IF($A128<>0,VLOOKUP($A128,Liste!$A$10:$W$459,3,FALSE),\"\")","v":"Monsieur"},{"$f":"IF($A128<>0,VLOOKUP($A128,Liste!$A$10:$W$459,4,FALSE),\"\")","v":"BERLIER David"},null,null,{"$f":"IF($A128<>0,VLOOKUP($A128,Liste!$A$10:$W$459,8,FALSE),\"\")","v":391},null,"Par visio, audio conférence,,,,"]
[{"$f":"IF($A128<>0,VLOOKUP($A128,Liste!$A$10:$W$459,5,FALSE),\"\")","v":"13 rue de l' espoir"},null,null,null,null,null,"Signature/ Mandataire :"]
[{"$f":"IF($A128<>0,VLOOKUP($A128,Liste!$A$10:$W$459,6,FALSE),\"\")","v":75016},{"$f":"IF($A128<>0,VLOOKUP($A128,Liste!$A$10:$W$459,7,FALSE),\"\")","v":"Paris "}]
[{"$f":" IF($A128<>0, \"Lot \" & VLOOKUP($A128,Liste!$A$10:$W$459,9,FALSE),\"\")","v":"Lot 14"},{"$f":"IF($A128<>0,VLOOKUP($A128,Liste!$A$10:$W$459,10,FALSE),\"\")","v":"Appart,"},{"$f":"IF($A128<>0,VLOOKUP($A128,Liste!$A$10:$W$459,11,FALSE),\"\")","v":362}]
[{"$f":"IF($A128<>0,\"Lot \" & VLOOKUP($A128,Liste!$A$10:$W$459,12,FALSE),\"\")","v":"Lot 164"},{"$f":"IF($A128<>0,VLOOKUP($A128,Liste!$A$10:$W$459,13,FALSE),\"\")","v":"Cave"},{"$f":"IF($A128<>0,VLOOKUP($A128,Liste!$A$10:$W$459,14,FALSE),\"\")","v":29}]
[{"$f":"IF($A128<>0,\"Lot \" & VLOOKUP($A128,Liste!$A$10:$W$459,15,FALSE),\"\")","v":"Lot "},{"$f":"IF($A128<>0,VLOOKUP($A128,Liste!$A$10:$W$459,16,FALSE),\"\")","v":0},{"$f":"IF($A128<>0,VLOOKUP($A128,Liste!$A$10:$W$459,17,FALSE),\"\")","v":0},null,null,null,"Arrivé à","après vote de la Résolution N°"]
[{"$f":"IF($A128<>0,\"Lot \" & VLOOKUP($A128,Liste!$A$10:$W$459,18,FALSE),\"\")","v":"Lot "},0,{"$f":"IF($A128<>0,VLOOKUP($A128,Liste!$A$10:$W$459,19,FALSE),\"\")","v":0},null,null,null,"Départ à","après vote de la Résolution N°"]
[{"$f":"IF($A128<>0,\"Lot \" & VLOOKUP($A128,Liste!$A$10:$W$459,21,FALSE),\"\")","v":"Lot "},{"$f":"IF($A128<>0,VLOOKUP($A128,Liste!$A$10:$W$459,22,FALSE),\"\")","v":0},{"$f":"IF($A128<>0,VLOOKUP($A128,Liste!$A$10:$W$459,23,FALSE),\"\")","v":0},null,null,null,{"$f":"IF(OR(B129=0,VLOOKUP(A128,Liste!$A$10:'Liste'!$Z$459,26)<>\"\"),\"\", \"Voir autorisation messages électroniques\")","v":"Voir autorisation messages électroniques"}]
[{"$f":"A128+1","v":15},null,null,null,null,null,"Par correspondance reçu le "]
[{"$f":"IF($A137<>0,VLOOKUP($A137,Liste!$A$10:$W$459,3,FALSE),\"\")","v":"Mmadame"},{"$f":"IF($A137<>0,VLOOKUP($A137,Liste!$A$10:$W$459,4,FALSE),\"\")","v":"BESSON Gabriel"},null,null,{"$f":"IF($A137<>0,VLOOKUP($A137,Liste!$A$10:$W$459,8,FALSE),\"\")","v":380},null,"Par visio, audio conférence,,,,"]
[{"$f":"IF($A137<>0,VLOOKUP($A137,Liste!$A$10:$W$459,5,FALSE),\"\")","v":"13 rue de l' espoir"},null,null,null,null,null,"Signature/ Mandataire :"]
[{"$f":"IF($A137<>0,VLOOKUP($A137,Liste!$A$10:$W$459,6,FALSE),\"\")","v":75016},{"$f":"IF($A137<>0,VLOOKUP($A137,Liste!$A$10:$W$459,7,FALSE),\"\")","v":"Paris "}]
[{"$f":" IF($A137<>0, \"Lot \" & VLOOKUP($A137,Liste!$A$10:$W$459,9,FALSE),\"\")","v":"Lot 15"},{"$f":"IF($A137<>0,VLOOKUP($A137,Liste!$A$10:$W$459,10,FALSE),\"\")","v":"Appart,"},{"$f":"IF($A137<>0,VLOOKUP($A137,Liste!$A$10:$W$459,11,FALSE),\"\")","v":351}]
[{"$f":"IF($A137<>0,\"Lot \" & VLOOKUP($A137,Liste!$A$10:$W$459,12,FALSE),\"\")","v":"Lot 165"},{"$f":"IF($A137<>0,VLOOKUP($A137,Liste!$A$10:$W$459,13,FALSE),\"\")","v":"Cave"},{"$f":"IF($A137<>0,VLOOKUP($A137,Liste!$A$10:$W$459,14,FALSE),\"\")","v":29}]
[{"$f":"IF($A137<>0,\"Lot \" & VLOOKUP($A137,Liste!$A$10:$W$459,15,FALSE),\"\")","v":"Lot "},{"$f":"IF($A137<>0,VLOOKUP($A137,Liste!$A$10:$W$459,16,FALSE),\"\")","v":0},{"$f":"IF($A137<>0,VLOOKUP($A137,Liste!$A$10:$W$459,17,FALSE),\"\")","v":0},null,null,null,"Arrivé à","après vote de la Résolution N°"]
[{"$f":"IF($A137<>0,\"Lot \" & VLOOKUP($A137,Liste!$A$10:$W$459,18,FALSE),\"\")","v":"Lot "},0,{"$f":"IF($A137<>0,VLOOKUP($A137,Liste!$A$10:$W$459,19,FALSE),\"\")","v":0},null,null,null,"Départ à","après vote de la Résolution N°"]
[{"$f":"IF($A137<>0,\"Lot \" & VLOOKUP($A137,Liste!$A$10:$W$459,21,FALSE),\"\")","v":"Lot "},{"$f":"IF($A137<>0,VLOOKUP($A137,Liste!$A$10:$W$459,22,FALSE),\"\")","v":0},{"$f":"IF($A137<>0,VLOOKUP($A137,Liste!$A$10:$W$459,23,FALSE),\"\")","v":0},null,null,null,{"$f":"IF(OR(B138=0,VLOOKUP(A137,Liste!$A$10:'Liste'!$Z$459,26)<>\"\"),\"\", \"Voir autorisation messages électroniques\")","v":"Voir autorisation messages électroniques"}]
[{"$f":"A137+1","v":16},null,null,null,null,null,"Par correspondance reçu le "]
[{"$f":"IF($A146<>0,VLOOKUP($A146,Liste!$A$10:$W$459,3,FALSE),\"\")","v":"Monieur"},{"$f":"IF($A146<>0,VLOOKUP($A146,Liste!$A$10:$W$459,4,FALSE),\"\")","v":"DENIS Jacques"},null,null,{"$f":"IF($A146<>0,VLOOKUP($A146,Liste!$A$10:$W$459,8,FALSE),\"\")","v":315},null,"Par visio, audio conférence,,,,"]
[{"$f":"IF($A146<>0,VLOOKUP($A146,Liste!$A$10:$W$459,5,FALSE),\"\")","v":"13 rue de l' espoir"},null,null,null,null,null,"Signature/ Mandataire :"]
[{"$f":"IF($A146<>0,VLOOKUP($A146,Liste!$A$10:$W$459,6,FALSE),\"\")","v":75016},{"$f":"IF($A146<>0,VLOOKUP($A146,Liste!$A$10:$W$459,7,FALSE),\"\")","v":"Paris "}]
[{"$f":" IF($A146<>0, \"Lot \" & VLOOKUP($A146,Liste!$A$10:$W$459,9,FALSE),\"\")","v":"Lot 46"},{"$f":"IF($A146<>0,VLOOKUP($A146,Liste!$A$10:$W$459,10,FALSE),\"\")","v":"Appart,"},{"$f":"IF($A146<>0,VLOOKUP($A146,Liste!$A$10:$W$459,11,FALSE),\"\")","v":286}]
[{"$f":"IF($A146<>0,\"Lot \" & VLOOKUP($A146,Liste!$A$10:$W$459,12,FALSE),\"\")","v":"Lot 196"},{"$f":"IF($A146<>0,VLOOKUP($A146,Liste!$A$10:$W$459,13,FALSE),\"\")","v":"Cave"},{"$f":"IF($A146<>0,VLOOKUP($A146,Liste!$A$10:$W$459,14,FALSE),\"\")","v":29}]
[{"$f":"IF($A146<>0,\"Lot \" & VLOOKUP($A146,Liste!$A$10:$W$459,15,FALSE),\"\")","v":"Lot "},{"$f":"IF($A146<>0,VLOOKUP($A146,Liste!$A$10:$W$459,16,FALSE),\"\")","v":0},{"$f":"IF($A146<>0,VLOOKUP($A146,Liste!$A$10:$W$459,17,FALSE),\"\")","v":0},null,null,null,"Arrivé à","après vote de la Résolution N°"]
[{"$f":"IF($A146<>0,\"Lot \" & VLOOKUP($A146,Liste!$A$10:$W$459,18,FALSE),\"\")","v":"Lot "},0,{"$f":"IF($A146<>0,VLOOKUP($A146,Liste!$A$10:$W$459,19,FALSE),\"\")","v":0},null,null,null,"Départ à","après vote de la Résolution N°"]
[{"$f":"IF($A146<>0,\"Lot \" & VLOOKUP($A146,Liste!$A$10:$W$459,21,FALSE),\"\")","v":"Lot "},{"$f":"IF($A146<>0,VLOOKUP($A146,Liste!$A$10:$W$459,22,FALSE),\"\")","v":0},{"$f":"IF($A146<>0,VLOOKUP($A146,Liste!$A$10:$W$459,23,FALSE),\"\")","v":0},null,null,null,{"$f":"IF(OR(B147=0,VLOOKUP(A146,Liste!$A$10:'Liste'!$Z$459,26)<>\"\"),\"\", \"Voir autorisation messages électroniques\")","v":"Voir autorisation messages électroniques"}]
[]
[null,null,null,"A S S E M B L E E     G E N E R A L E",null,null,null,null,null,null,"Page",{"$f":"L79+1","v":3}]
[null,null,null,null,null,"du","2019-12-20"]
[null,null,null,"Résidence Le Paradis; Rue de l' espoir 75016 PARIS"]
[]
[{"$f":"A146+1","v":17},null,null,null,null,null,"Par correspondance reçu le "]
[{"$f":"IF($A160<>0,VLOOKUP($A160,Liste!$A$10:$W$459,3,FALSE),\"\")","v":"Madame"},{"$f":"IF($A160<>0,VLOOKUP($A160,Liste!$A$10:$W$459,4,FALSE),\"\")","v":"DI JORIO Brigitte"},null,null,{"$f":"IF($A160<>0,VLOOKUP($A160,Liste!$A$10:$W$459,8,FALSE),\"\")","v":244},null,"Par visio, audio conférence,,,,"]
[{"$f":"IF($A160<>0,VLOOKUP($A160,Liste!$A$10:$W$459,5,FALSE),\"\")","v":"13 rue de l' espoir"},null,null,null,null,null,"Signature/ Mandataire :"]
[{"$f":"IF($A160<>0,VLOOKUP($A160,Liste!$A$10:$W$459,6,FALSE),\"\")","v":75016},{"$f":"IF($A160<>0,VLOOKUP($A160,Liste!$A$10:$W$459,7,FALSE),\"\")","v":"Paris "}]
[{"$f":" IF($A160<>0, \"Lot \" & VLOOKUP($A160,Liste!$A$10:$W$459,9,FALSE),\"\")","v":"Lot 47"},{"$f":"IF($A160<>0,VLOOKUP($A160,Liste!$A$10:$W$459,10,FALSE),\"\")","v":"Appart,"},{"$f":"IF($A160<>0,VLOOKUP($A160,Liste!$A$10:$W$459,11,FALSE),\"\")","v":215}]
[{"$f":"IF($A160<>0,\"Lot \" & VLOOKUP($A160,Liste!$A$10:$W$459,12,FALSE),\"\")","v":"Lot 197"},{"$f":"IF($A160<>0,VLOOKUP($A160,Liste!$A$10:$W$459,13,FALSE),\"\")","v":"Cave"},{"$f":"IF($A160<>0,VLOOKUP($A160,Liste!$A$10:$W$459,14,FALSE),\"\")","v":29}]
[{"$f":"IF($A160<>0,\"Lot \" & VLOOKUP($A160,Liste!$A$10:$W$459,15,FALSE),\"\")","v":"Lot "},{"$f":"IF($A160<>0,VLOOKUP($A160,Liste!$A$10:$W$459,16,FALSE),\"\")","v":0},{"$f":"IF($A160<>0,VLOOKUP($A160,Liste!$A$10:$W$459,17,FALSE),\"\")","v":0},null,null,null,"Arrivé à","après vote de la Résolution N°"]
[{"$f":"IF($A160<>0,\"Lot \" & VLOOKUP($A160,Liste!$A$10:$W$459,18,FALSE),\"\")","v":"Lot "},0,{"$f":"IF($A160<>0,VLOOKUP($A160,Liste!$A$10:$W$459,19,FALSE),\"\")","v":0},null,null,null,"Départ à","après vote de la Résolution N°"]
[{"$f":"IF($A160<>0,\"Lot \" & VLOOKUP($A160,Liste!$A$10:$W$459,21,FALSE),\"\")","v":"Lot "},{"$f":"IF($A160<>0,VLOOKUP($A160,Liste!$A$10:$W$459,22,FALSE),\"\")","v":0},{"$f":"IF($A160<>0,VLOOKUP($A160,Liste!$A$10:$W$459,23,FALSE),\"\")","v":0},null,null,null,{"$f":"IF(OR(B161=0,VLOOKUP(A160,Liste!$A$10:'Liste'!$Z$459,26)<>\"\"),\"\", \"Voir autorisation messages électroniques\")","v":"Voir autorisation messages électroniques"}]
[{"$f":"A160+1","v":18},null,null,null,null,null,"Par correspondance reçu le "]
[{"$f":"IF($A169<>0,VLOOKUP($A169,Liste!$A$10:$W$459,3,FALSE),\"\")","v":"Monieur"},{"$f":"IF($A169<>0,VLOOKUP($A169,Liste!$A$10:$W$459,4,FALSE),\"\")","v":"DI JORIO Marcel"},null,null,{"$f":"IF($A169<>0,VLOOKUP($A169,Liste!$A$10:$W$459,8,FALSE),\"\")","v":289},null,"Par visio, audio conférence,,,,"]
[{"$f":"IF($A169<>0,VLOOKUP($A169,Liste!$A$10:$W$459,5,FALSE),\"\")","v":"10 Rue Dumont"},null,null,null,null,null,"Signature/ Mandataire :"]
[{"$f":"IF($A169<>0,VLOOKUP($A169,Liste!$A$10:$W$459,6,FALSE),\"\")","v":57000},{"$f":"IF($A169<>0,VLOOKUP($A169,Liste!$A$10:$W$459,7,FALSE),\"\")","v":"Metz"}]
[{"$f":" IF($A169<>0, \"Lot \" & VLOOKUP($A169,Liste!$A$10:$W$459,9,FALSE),\"\")","v":"Lot 48"},{"$f":"IF($A169<>0,VLOOKUP($A169,Liste!$A$10:$W$459,10,FALSE),\"\")","v":"Appart,"},{"$f":"IF($A169<>0,VLOOKUP($A169,Liste!$A$10:$W$459,11,FALSE),\"\")","v":260}]
[{"$f":"IF($A169<>0,\"Lot \" & VLOOKUP($A169,Liste!$A$10:$W$459,12,FALSE),\"\")","v":"Lot 198"},{"$f":"IF($A169<>0,VLOOKUP($A169,Liste!$A$10:$W$459,13,FALSE),\"\")","v":"Cave"},{"$f":"IF($A169<>0,VLOOKUP($A169,Liste!$A$10:$W$459,14,FALSE),\"\")","v":29}]
[{"$f":"IF($A169<>0,\"Lot \" & VLOOKUP($A169,Liste!$A$10:$W$459,15,FALSE),\"\")","v":"Lot "},{"$f":"IF($A169<>0,VLOOKUP($A169,Liste!$A$10:$W$459,16,FALSE),\"\")","v":0},{"$f":"IF($A169<>0,VLOOKUP($A169,Liste!$A$10:$W$459,17,FALSE),\"\")","v":0},null,null,null,"Arrivé à","après vote de la Résolution N°"]
[{"$f":"IF($A169<>0,\"Lot \" & VLOOKUP($A169,Liste!$A$10:$W$459,18,FALSE),\"\")","v":"Lot "},0,{"$f":"IF($A169<>0,VLOOKUP($A169,Liste!$A$10:$W$459,19,FALSE),\"\")","v":0},null,null,null,"Départ à","après vote de la Résolution N°"]
[{"$f":"IF($A169<>0,\"Lot \" & VLOOKUP($A169,Liste!$A$10:$W$459,21,FALSE),\"\")","v":"Lot "},{"$f":"IF($A169<>0,VLOOKUP($A169,Liste!$A$10:$W$459,22,FALSE),\"\")","v":0},{"$f":"IF($A169<>0,VLOOKUP($A169,Liste!$A$10:$W$459,23,FALSE),\"\")","v":0},null,null,null,{"$f":"IF(OR(B170=0,VLOOKUP(A169,Liste!$A$10:'Liste'!$Z$459,26)<>\"\"),\"\", \"Voir autorisation messages électroniques\")","v":"Voir autorisation messages électroniques"}]
[{"$f":"A169+1","v":19},null,null,null,null,null,"Par correspondance reçu le "]
[{"$f":"IF($A178<>0,VLOOKUP($A178,Liste!$A$10:$W$459,3,FALSE),\"\")","v":"Monieur"},{"$f":"IF($A178<>0,VLOOKUP($A178,Liste!$A$10:$W$459,4,FALSE),\"\")","v":"DI MEGLIO Laurent"},null,null,{"$f":"IF($A178<>0,VLOOKUP($A178,Liste!$A$10:$W$459,8,FALSE),\"\")","v":237},null,"Par visio, audio conférence,,,,"]
[{"$f":"IF($A178<>0,VLOOKUP($A178,Liste!$A$10:$W$459,5,FALSE),\"\")","v":"13 rue de l' espoir"},null,null,null,null,null,"Signature/ Mandataire :"]
[{"$f":"IF($A178<>0,VLOOKUP($A178,Liste!$A$10:$W$459,6,FALSE),\"\")","v":75016},{"$f":"IF($A178<>0,VLOOKUP($A178,Liste!$A$10:$W$459,7,FALSE),\"\")","v":"Paris "}]
[{"$f":" IF($A178<>0, \"Lot \" & VLOOKUP($A178,Liste!$A$10:$W$459,9,FALSE),\"\")","v":"Lot 49"},{"$f":"IF($A178<>0,VLOOKUP($A178,Liste!$A$10:$W$459,10,FALSE),\"\")","v":"Appart,"},{"$f":"IF($A178<>0,VLOOKUP($A178,Liste!$A$10:$W$459,11,FALSE),\"\")","v":208}]
[{"$f":"IF($A178<>0,\"Lot \" & VLOOKUP($A178,Liste!$A$10:$W$459,12,FALSE),\"\")","v":"Lot 199"},{"$f":"IF($A178<>0,VLOOKUP($A178,Liste!$A$10:$W$459,13,FALSE),\"\")","v":"Cave"},{"$f":"IF($A178<>0,VLOOKUP($A178,Liste!$A$10:$W$459,14,FALSE),\"\")","v":29}]
[{"$f":"IF($A178<>0,\"Lot \" & VLOOKUP($A178,Liste!$A$10:$W$459,15,FALSE),\"\")","v":"Lot "},{"$f":"IF($A178<>0,VLOOKUP($A178,Liste!$A$10:$W$459,16,FALSE),\"\")","v":0},{"$f":"IF($A178<>0,VLOOKUP($A178,Liste!$A$10:$W$459,17,FALSE),\"\")","v":0},null,null,null,"Arrivé à","après vote de la Résolution N°"]
[{"$f":"IF($A178<>0,\"Lot \" & VLOOKUP($A178,Liste!$A$10:$W$459,18,FALSE),\"\")","v":"Lot "},0,{"$f":"IF($A178<>0,VLOOKUP($A178,Liste!$A$10:$W$459,19,FALSE),\"\")","v":0},null,null,null,"Départ à","après vote de la Résolution N°"]
[{"$f":"IF($A178<>0,\"Lot \" & VLOOKUP($A178,Liste!$A$10:$W$459,21,FALSE),\"\")","v":"Lot "},{"$f":"IF($A178<>0,VLOOKUP($A178,Liste!$A$10:$W$459,22,FALSE),\"\")","v":0},{"$f":"IF($A178<>0,VLOOKUP($A178,Liste!$A$10:$W$459,23,FALSE),\"\")","v":0},null,null,null,{"$f":"IF(OR(B179=0,VLOOKUP(A178,Liste!$A$10:'Liste'!$Z$459,26)<>\"\"),\"\", \"Voir autorisation messages électroniques\")","v":"Voir autorisation messages électroniques"}]
[{"$f":"A178+1","v":20},null,null,null,null,null,"Par correspondance reçu le "]
[{"$f":"IF($A187<>0,VLOOKUP($A187,Liste!$A$10:$W$459,3,FALSE),\"\")","v":"Monieur"},{"$f":"IF($A187<>0,VLOOKUP($A187,Liste!$A$10:$W$459,4,FALSE),\"\")","v":"DRAGOTTA Michel"},null,null,{"$f":"IF($A187<>0,VLOOKUP($A187,Liste!$A$10:$W$459,8,FALSE),\"\")","v":286},null,"Par visio, audio conférence,,,,"]
[{"$f":"IF($A187<>0,VLOOKUP($A187,Liste!$A$10:$W$459,5,FALSE),\"\")","v":"13 rue de l' espoir"},null,null,null,null,null,"Signature/ Mandataire :"]
[{"$f":"IF($A187<>0,VLOOKUP($A187,Liste!$A$10:$W$459,6,FALSE),\"\")","v":75016},{"$f":"IF($A187<>0,VLOOKUP($A187,Liste!$A$10:$W$459,7,FALSE),\"\")","v":"Paris "}]
[{"$f":" IF($A187<>0, \"Lot \" & VLOOKUP($A187,Liste!$A$10:$W$459,9,FALSE),\"\")","v":"Lot 50"},{"$f":"IF($A187<>0,VLOOKUP($A187,Liste!$A$10:$W$459,10,FALSE),\"\")","v":"Appart,"},{"$f":"IF($A187<>0,VLOOKUP($A187,Liste!$A$10:$W$459,11,FALSE),\"\")","v":257}]
[{"$f":"IF($A187<>0,\"Lot \" & VLOOKUP($A187,Liste!$A$10:$W$459,12,FALSE),\"\")","v":"Lot 200"},{"$f":"IF($A187<>0,VLOOKUP($A187,Liste!$A$10:$W$459,13,FALSE),\"\")","v":"Cave"},{"$f":"IF($A187<>0,VLOOKUP($A187,Liste!$A$10:$W$459,14,FALSE),\"\")","v":29}]
[{"$f":"IF($A187<>0,\"Lot \" & VLOOKUP($A187,Liste!$A$10:$W$459,15,FALSE),\"\")","v":"Lot "},{"$f":"IF($A187<>0,VLOOKUP($A187,Liste!$A$10:$W$459,16,FALSE),\"\")","v":0},{"$f":"IF($A187<>0,VLOOKUP($A187,Liste!$A$10:$W$459,17,FALSE),\"\")","v":0},null,null,null,"Arrivé à","après vote de la Résolution N°"]
[{"$f":"IF($A187<>0,\"Lot \" & VLOOKUP($A187,Liste!$A$10:$W$459,18,FALSE),\"\")","v":"Lot "},0,{"$f":"IF($A187<>0,VLOOKUP($A187,Liste!$A$10:$W$459,19,FALSE),\"\")","v":0},null,null,null,"Départ à","après vote de la Résolution N°"]
[{"$f":"IF($A187<>0,\"Lot \" & VLOOKUP($A187,Liste!$A$10:$W$459,21,FALSE),\"\")","v":"Lot "},{"$f":"IF($A187<>0,VLOOKUP($A187,Liste!$A$10:$W$459,22,FALSE),\"\")","v":0},{"$f":"IF($A187<>0,VLOOKUP($A187,Liste!$A$10:$W$459,23,FALSE),\"\")","v":0},null,null,null,{"$f":"IF(OR(B188=0,VLOOKUP(A187,Liste!$A$10:'Liste'!$Z$459,26)<>\"\"),\"\", \"Voir autorisation messages électroniques\")","v":"Voir autorisation messages électroniques"}]
[{"$f":"A187+1","v":21},null,null,null,null,null,"Par correspondance reçu le "]
[{"$f":"IF($A196<>0,VLOOKUP($A196,Liste!$A$10:$W$459,3,FALSE),\"\")","v":"Monsieur"},{"$f":"IF($A196<>0,VLOOKUP($A196,Liste!$A$10:$W$459,4,FALSE),\"\")","v":"DUBOURG Pierre"},null,null,{"$f":"IF($A196<>0,VLOOKUP($A196,Liste!$A$10:$W$459,8,FALSE),\"\")","v":323},null,"Par visio, audio conférence,,,,"]
[{"$f":"IF($A196<>0,VLOOKUP($A196,Liste!$A$10:$W$459,5,FALSE),\"\")","v":"14 rue de l' espoir"},null,null,null,null,null,"Signature/ Mandataire :"]
[{"$f":"IF($A196<>0,VLOOKUP($A196,Liste!$A$10:$W$459,6,FALSE),\"\")","v":75016},{"$f":"IF($A196<>0,VLOOKUP($A196,Liste!$A$10:$W$459,7,FALSE),\"\")","v":"Paris "}]
[{"$f":" IF($A196<>0, \"Lot \" & VLOOKUP($A196,Liste!$A$10:$W$459,9,FALSE),\"\")","v":"Lot 51"},{"$f":"IF($A196<>0,VLOOKUP($A196,Liste!$A$10:$W$459,10,FALSE),\"\")","v":"Appart,"},{"$f":"IF($A196<>0,VLOOKUP($A196,Liste!$A$10:$W$459,11,FALSE),\"\")","v":294}]
[{"$f":"IF($A196<>0,\"Lot \" & VLOOKUP($A196,Liste!$A$10:$W$459,12,FALSE),\"\")","v":"Lot 201"},{"$f":"IF($A196<>0,VLOOKUP($A196,Liste!$A$10:$W$459,13,FALSE),\"\")","v":"Cave"},{"$f":"IF($A196<>0,VLOOKUP($A196,Liste!$A$10:$W$459,14,FALSE),\"\")","v":29}]
[{"$f":"IF($A196<>0,\"Lot \" & VLOOKUP($A196,Liste!$A$10:$W$459,15,FALSE),\"\")","v":"Lot "},{"$f":"IF($A196<>0,VLOOKUP($A196,Liste!$A$10:$W$459,16,FALSE),\"\")","v":0},{"$f":"IF($A196<>0,VLOOKUP($A196,Liste!$A$10:$W$459,17,FALSE),\"\")","v":0},null,null,null,"Arrivé à","après vote de la Résolution N°"]
[{"$f":"IF($A196<>0,\"Lot \" & VLOOKUP($A196,Liste!$A$10:$W$459,18,FALSE),\"\")","v":"Lot "},0,{"$f":"IF($A196<>0,VLOOKUP($A196,Liste!$A$10:$W$459,19,FALSE),\"\")","v":0},null,null,null,"Départ à","après vote de la Résolution N°"]
[{"$f":"IF($A196<>0,\"Lot \" & VLOOKUP($A196,Liste!$A$10:$W$459,21,FALSE),\"\")","v":"Lot "},{"$f":"IF($A196<>0,VLOOKUP($A196,Liste!$A$10:$W$459,22,FALSE),\"\")","v":0},{"$f":"IF($A196<>0,VLOOKUP($A196,Liste!$A$10:$W$459,23,FALSE),\"\")","v":0},null,null,null,{"$f":"IF(OR(B197=0,VLOOKUP(A196,Liste!$A$10:'Liste'!$Z$459,26)<>\"\"),\"\", \"Voir autorisation messages électroniques\")","v":"Voir autorisation messages électroniques"}]
[{"$f":"A196+1","v":22},null,null,null,null,null,"Par correspondance reçu le "]
[{"$f":"IF($A205<>0,VLOOKUP($A205,Liste!$A$10:$W$459,3,FALSE),\"\")","v":"Madame"},{"$f":"IF($A205<>0,VLOOKUP($A205,Liste!$A$10:$W$459,4,FALSE),\"\")","v":"FIGUERAS Annie"},null,null,{"$f":"IF($A205<>0,VLOOKUP($A205,Liste!$A$10:$W$459,8,FALSE),\"\")","v":300},null,"Par visio, audio conférence,,,,"]
[{"$f":"IF($A205<>0,VLOOKUP($A205,Liste!$A$10:$W$459,5,FALSE),\"\")","v":"15 rue de l' espoir"},null,null,null,null,null,"Signature/ Mandataire :"]
[{"$f":"IF($A205<>0,VLOOKUP($A205,Liste!$A$10:$W$459,6,FALSE),\"\")","v":75016},{"$f":"IF($A205<>0,VLOOKUP($A205,Liste!$A$10:$W$459,7,FALSE),\"\")","v":"Paris "}]
[{"$f":" IF($A205<>0, \"Lot \" & VLOOKUP($A205,Liste!$A$10:$W$459,9,FALSE),\"\")","v":"Lot 52"},{"$f":"IF($A205<>0,VLOOKUP($A205,Liste!$A$10:$W$459,10,FALSE),\"\")","v":"Appart,"},{"$f":"IF($A205<>0,VLOOKUP($A205,Liste!$A$10:$W$459,11,FALSE),\"\")","v":271}]
[{"$f":"IF($A205<>0,\"Lot \" & VLOOKUP($A205,Liste!$A$10:$W$459,12,FALSE),\"\")","v":"Lot 202"},{"$f":"IF($A205<>0,VLOOKUP($A205,Liste!$A$10:$W$459,13,FALSE),\"\")","v":"Cave"},{"$f":"IF($A205<>0,VLOOKUP($A205,Liste!$A$10:$W$459,14,FALSE),\"\")","v":29}]
[{"$f":"IF($A205<>0,\"Lot \" & VLOOKUP($A205,Liste!$A$10:$W$459,15,FALSE),\"\")","v":"Lot "},{"$f":"IF($A205<>0,VLOOKUP($A205,Liste!$A$10:$W$459,16,FALSE),\"\")","v":0},{"$f":"IF($A205<>0,VLOOKUP($A205,Liste!$A$10:$W$459,17,FALSE),\"\")","v":0},null,null,null,"Arrivé à","après vote de la Résolution N°"]
[{"$f":"IF($A205<>0,\"Lot \" & VLOOKUP($A205,Liste!$A$10:$W$459,18,FALSE),\"\")","v":"Lot "},0,{"$f":"IF($A205<>0,VLOOKUP($A205,Liste!$A$10:$W$459,19,FALSE),\"\")","v":0},null,null,null,"Départ à","après vote de la Résolution N°"]
[{"$f":"IF($A205<>0,\"Lot \" & VLOOKUP($A205,Liste!$A$10:$W$459,21,FALSE),\"\")","v":"Lot "},{"$f":"IF($A205<>0,VLOOKUP($A205,Liste!$A$10:$W$459,22,FALSE),\"\")","v":0},{"$f":"IF($A205<>0,VLOOKUP($A205,Liste!$A$10:$W$459,23,FALSE),\"\")","v":0},null,null,null,{"$f":"IF(OR(B206=0,VLOOKUP(A205,Liste!$A$10:'Liste'!$Z$459,26)<>\"\"),\"\", \"Voir autorisation messages électroniques\")","v":"Voir autorisation messages électroniques"}]
[{"$f":"A205+1","v":23},null,null,null,null,null,"Par correspondance reçu le "]
[{"$f":"IF($A214<>0,VLOOKUP($A214,Liste!$A$10:$W$459,3,FALSE),\"\")","v":"Monieur"},{"$f":"IF($A214<>0,VLOOKUP($A214,Liste!$A$10:$W$459,4,FALSE),\"\")","v":"FONTANA Georges"},null,null,{"$f":"IF($A214<>0,VLOOKUP($A214,Liste!$A$10:$W$459,8,FALSE),\"\")","v":323},null,"Par visio, audio conférence,,,,"]
[{"$f":"IF($A214<>0,VLOOKUP($A214,Liste!$A$10:$W$459,5,FALSE),\"\")","v":"21 rue de lz Caserne Foch"},null,null,null,null,null,"Signature/ Mandataire :"]
[{"$f":"IF($A214<>0,VLOOKUP($A214,Liste!$A$10:$W$459,6,FALSE),\"\")","v":51000},{"$f":"IF($A214<>0,VLOOKUP($A214,Liste!$A$10:$W$459,7,FALSE),\"\")","v":"Reims"}]
[{"$f":" IF($A214<>0, \"Lot \" & VLOOKUP($A214,Liste!$A$10:$W$459,9,FALSE),\"\")","v":"Lot 53"},{"$f":"IF($A214<>0,VLOOKUP($A214,Liste!$A$10:$W$459,10,FALSE),\"\")","v":"Appart,"},{"$f":"IF($A214<>0,VLOOKUP($A214,Liste!$A$10:$W$459,11,FALSE),\"\")","v":294}]
[{"$f":"IF($A214<>0,\"Lot \" & VLOOKUP($A214,Liste!$A$10:$W$459,12,FALSE),\"\")","v":"Lot 203"},{"$f":"IF($A214<>0,VLOOKUP($A214,Liste!$A$10:$W$459,13,FALSE),\"\")","v":"Cave"},{"$f":"IF($A214<>0,VLOOKUP($A214,Liste!$A$10:$W$459,14,FALSE),\"\")","v":29}]
[{"$f":"IF($A214<>0,\"Lot \" & VLOOKUP($A214,Liste!$A$10:$W$459,15,FALSE),\"\")","v":"Lot "},{"$f":"IF($A214<>0,VLOOKUP($A214,Liste!$A$10:$W$459,16,FALSE),\"\")","v":0},{"$f":"IF($A214<>0,VLOOKUP($A214,Liste!$A$10:$W$459,17,FALSE),\"\")","v":0},null,null,null,"Arrivé à","après vote de la Résolution N°"]
[{"$f":"IF($A214<>0,\"Lot \" & VLOOKUP($A214,Liste!$A$10:$W$459,18,FALSE),\"\")","v":"Lot "},0,{"$f":"IF($A214<>0,VLOOKUP($A214,Liste!$A$10:$W$459,19,FALSE),\"\")","v":0},null,null,null,"Départ à","après vote de la Résolution N°"]
[{"$f":"IF($A214<>0,\"Lot \" & VLOOKUP($A214,Liste!$A$10:$W$459,21,FALSE),\"\")","v":"Lot "},{"$f":"IF($A214<>0,VLOOKUP($A214,Liste!$A$10:$W$459,22,FALSE),\"\")","v":0},{"$f":"IF($A214<>0,VLOOKUP($A214,Liste!$A$10:$W$459,23,FALSE),\"\")","v":0},null,null,null,{"$f":"IF(OR(B215=0,VLOOKUP(A214,Liste!$A$10:'Liste'!$Z$459,26)<>\"\"),\"\", \"Voir autorisation messages électroniques\")","v":"Voir autorisation messages électroniques"}]
[{"$f":"A214+1","v":24},null,null,null,null,null,"Par correspondance reçu le "]
[{"$f":"IF($A223<>0,VLOOKUP($A223,Liste!$A$10:$W$459,3,FALSE),\"\")","v":"Monieur"},{"$f":"IF($A223<>0,VLOOKUP($A223,Liste!$A$10:$W$459,4,FALSE),\"\")","v":"FORGET Valéry"},null,null,{"$f":"IF($A223<>0,VLOOKUP($A223,Liste!$A$10:$W$459,8,FALSE),\"\")","v":270},null,"Par visio, audio conférence,,,,"]
[{"$f":"IF($A223<>0,VLOOKUP($A223,Liste!$A$10:$W$459,5,FALSE),\"\")","v":"13 rue de l' espoir"},null,null,null,null,null,"Signature/ Mandataire :"]
[{"$f":"IF($A223<>0,VLOOKUP($A223,Liste!$A$10:$W$459,6,FALSE),\"\")","v":75016},{"$f":"IF($A223<>0,VLOOKUP($A223,Liste!$A$10:$W$459,7,FALSE),\"\")","v":"Paris "}]
[{"$f":" IF($A223<>0, \"Lot \" & VLOOKUP($A223,Liste!$A$10:$W$459,9,FALSE),\"\")","v":"Lot 54"},{"$f":"IF($A223<>0,VLOOKUP($A223,Liste!$A$10:$W$459,10,FALSE),\"\")","v":"Appart,"},{"$f":"IF($A223<>0,VLOOKUP($A223,Liste!$A$10:$W$459,11,FALSE),\"\")","v":241}]
[{"$f":"IF($A223<>0,\"Lot \" & VLOOKUP($A223,Liste!$A$10:$W$459,12,FALSE),\"\")","v":"Lot 204"},{"$f":"IF($A223<>0,VLOOKUP($A223,Liste!$A$10:$W$459,13,FALSE),\"\")","v":"Cave"},{"$f":"IF($A223<>0,VLOOKUP($A223,Liste!$A$10:$W$459,14,FALSE),\"\")","v":29}]
[{"$f":"IF($A223<>0,\"Lot \" & VLOOKUP($A223,Liste!$A$10:$W$459,15,FALSE),\"\")","v":"Lot "},{"$f":"IF($A223<>0,VLOOKUP($A223,Liste!$A$10:$W$459,16,FALSE),\"\")","v":0},{"$f":"IF($A223<>0,VLOOKUP($A223,Liste!$A$10:$W$459,17,FALSE),\"\")","v":0},null,null,null,"Arrivé à","après vote de la Résolution N°"]
[{"$f":"IF($A223<>0,\"Lot \" & VLOOKUP($A223,Liste!$A$10:$W$459,18,FALSE),\"\")","v":"Lot "},0,{"$f":"IF($A223<>0,VLOOKUP($A223,Liste!$A$10:$W$459,19,FALSE),\"\")","v":0},null,null,null,"Départ à","après vote de la Résolution N°"]
[{"$f":"IF($A223<>0,\"Lot \" & VLOOKUP($A223,Liste!$A$10:$W$459,21,FALSE),\"\")","v":"Lot "},{"$f":"IF($A223<>0,VLOOKUP($A223,Liste!$A$10:$W$459,22,FALSE),\"\")","v":0},{"$f":"IF($A223<>0,VLOOKUP($A223,Liste!$A$10:$W$459,23,FALSE),\"\")","v":0},null,null,null,{"$f":"IF(OR(B224=0,VLOOKUP(A223,Liste!$A$10:'Liste'!$Z$459,26)<>\"\"),\"\", \"Voir autorisation messages électroniques\")","v":"Voir autorisation messages électroniques"}]
[]
[null,null,null,"A S S E M B L E E     G E N E R A L E",null,null,null,null,null,null,"Page",{"$f":"L156+1","v":4}]
[null,null,null,null,null,"du","2019-12-20"]
[null,null,null,"Résidence Le Paradis; Rue de l' espoir 75016 PARIS"]
[]
[{"$f":"A223+1","v":25},null,null,null,null,null,"Par correspondance reçu le "]
[{"$f":"IF($A237<>0,VLOOKUP($A237,Liste!$A$10:$W$459,3,FALSE),\"\")","v":"Madame"},{"$f":"IF($A237<>0,VLOOKUP($A237,Liste!$A$10:$W$459,4,FALSE),\"\")","v":"FOURNIER Nicole"},null,null,{"$f":"IF($A237<>0,VLOOKUP($A237,Liste!$A$10:$W$459,8,FALSE),\"\")","v":290},null,"Par visio, audio conférence,,,,"]
[{"$f":"IF($A237<>0,VLOOKUP($A237,Liste!$A$10:$W$459,5,FALSE),\"\")","v":"13 rue de l' espoir"},null,null,null,null,null,"Signature/ Mandataire :"]
[{"$f":"IF($A237<>0,VLOOKUP($A237,Liste!$A$10:$W$459,6,FALSE),\"\")","v":75016},{"$f":"IF($A237<>0,VLOOKUP($A237,Liste!$A$10:$W$459,7,FALSE),\"\")","v":"Paris "}]
[{"$f":" IF($A237<>0, \"Lot \" & VLOOKUP($A237,Liste!$A$10:$W$459,9,FALSE),\"\")","v":"Lot 55"},{"$f":"IF($A237<>0,VLOOKUP($A237,Liste!$A$10:$W$459,10,FALSE),\"\")","v":"Appart,"},{"$f":"IF($A237<>0,VLOOKUP($A237,Liste!$A$10:$W$459,11,FALSE),\"\")","v":261}]
[{"$f":"IF($A237<>0,\"Lot \" & VLOOKUP($A237,Liste!$A$10:$W$459,12,FALSE),\"\")","v":"Lot 205"},{"$f":"IF($A237<>0,VLOOKUP($A237,Liste!$A$10:$W$459,13,FALSE),\"\")","v":"Cave"},{"$f":"IF($A237<>0,VLOOKUP($A237,Liste!$A$10:$W$459,14,FALSE),\"\")","v":29}]
[{"$f":"IF($A237<>0,\"Lot \" & VLOOKUP($A237,Liste!$A$10:$W$459,15,FALSE),\"\")","v":"Lot "},{"$f":"IF($A237<>0,VLOOKUP($A237,Liste!$A$10:$W$459,16,FALSE),\"\")","v":0},{"$f":"IF($A237<>0,VLOOKUP($A237,Liste!$A$10:$W$459,17,FALSE),\"\")","v":0},null,null,null,"Arrivé à","après vote de la Résolution N°"]
[{"$f":"IF($A237<>0,\"Lot \" & VLOOKUP($A237,Liste!$A$10:$W$459,18,FALSE),\"\")","v":"Lot "},0,{"$f":"IF($A237<>0,VLOOKUP($A237,Liste!$A$10:$W$459,19,FALSE),\"\")","v":0},null,null,null,"Départ à","après vote de la Résolution N°"]
[{"$f":"IF($A237<>0,\"Lot \" & VLOOKUP($A237,Liste!$A$10:$W$459,21,FALSE),\"\")","v":"Lot "},{"$f":"IF($A237<>0,VLOOKUP($A237,Liste!$A$10:$W$459,22,FALSE),\"\")","v":0},{"$f":"IF($A237<>0,VLOOKUP($A237,Liste!$A$10:$W$459,23,FALSE),\"\")","v":0},null,null,null,{"$f":"IF(OR(B238=0,VLOOKUP(A237,Liste!$A$10:'Liste'!$Z$459,26)<>\"\"),\"\", \"Voir autorisation messages électroniques\")","v":"Voir autorisation messages électroniques"}]
[{"$f":"A237+1","v":26},null,null,null,null,null,"Par correspondance reçu le "]
[{"$f":"IF($A246<>0,VLOOKUP($A246,Liste!$A$10:$W$459,3,FALSE),\"\")","v":"Monieur"},{"$f":"IF($A246<>0,VLOOKUP($A246,Liste!$A$10:$W$459,4,FALSE),\"\")","v":"GARCIA Christophe"},null,null,{"$f":"IF($A246<>0,VLOOKUP($A246,Liste!$A$10:$W$459,8,FALSE),\"\")","v":286},null,"Par visio, audio conférence,,,,"]
[{"$f":"IF($A246<>0,VLOOKUP($A246,Liste!$A$10:$W$459,5,FALSE),\"\")","v":"13 rue de l' espoir"},null,null,null,null,null,"Signature/ Mandataire :"]
[{"$f":"IF($A246<>0,VLOOKUP($A246,Liste!$A$10:$W$459,6,FALSE),\"\")","v":75016},{"$f":"IF($A246<>0,VLOOKUP($A246,Liste!$A$10:$W$459,7,FALSE),\"\")","v":"Paris "}]
[{"$f":" IF($A246<>0, \"Lot \" & VLOOKUP($A246,Liste!$A$10:$W$459,9,FALSE),\"\")","v":"Lot 56"},{"$f":"IF($A246<>0,VLOOKUP($A246,Liste!$A$10:$W$459,10,FALSE),\"\")","v":"Appart,"},{"$f":"IF($A246<>0,VLOOKUP($A246,Liste!$A$10:$W$459,11,FALSE),\"\")","v":257}]
[{"$f":"IF($A246<>0,\"Lot \" & VLOOKUP($A246,Liste!$A$10:$W$459,12,FALSE),\"\")","v":"Lot 206"},{"$f":"IF($A246<>0,VLOOKUP($A246,Liste!$A$10:$W$459,13,FALSE),\"\")","v":"Cave"},{"$f":"IF($A246<>0,VLOOKUP($A246,Liste!$A$10:$W$459,14,FALSE),\"\")","v":29}]
[{"$f":"IF($A246<>0,\"Lot \" & VLOOKUP($A246,Liste!$A$10:$W$459,15,FALSE),\"\")","v":"Lot "},{"$f":"IF($A246<>0,VLOOKUP($A246,Liste!$A$10:$W$459,16,FALSE),\"\")","v":0},{"$f":"IF($A246<>0,VLOOKUP($A246,Liste!$A$10:$W$459,17,FALSE),\"\")","v":0},null,null,null,"Arrivé à","après vote de la Résolution N°"]
[{"$f":"IF($A246<>0,\"Lot \" & VLOOKUP($A246,Liste!$A$10:$W$459,18,FALSE),\"\")","v":"Lot "},0,{"$f":"IF($A246<>0,VLOOKUP($A246,Liste!$A$10:$W$459,19,FALSE),\"\")","v":0},null,null,null,"Départ à","après vote de la Résolution N°"]
[{"$f":"IF($A246<>0,\"Lot \" & VLOOKUP($A246,Liste!$A$10:$W$459,21,FALSE),\"\")","v":"Lot "},{"$f":"IF($A246<>0,VLOOKUP($A246,Liste!$A$10:$W$459,22,FALSE),\"\")","v":0},{"$f":"IF($A246<>0,VLOOKUP($A246,Liste!$A$10:$W$459,23,FALSE),\"\")","v":0},null,null,null,{"$f":"IF(OR(B247=0,VLOOKUP(A246,Liste!$A$10:'Liste'!$Z$459,26)<>\"\"),\"\", \"Voir autorisation messages électroniques\")","v":"Voir autorisation messages électroniques"}]
[{"$f":"A246+1","v":27},null,null,null,null,null,"Par correspondance reçu le "]
[{"$f":"IF($A255<>0,VLOOKUP($A255,Liste!$A$10:$W$459,3,FALSE),\"\")","v":"Monieur"},{"$f":"IF($A255<>0,VLOOKUP($A255,Liste!$A$10:$W$459,4,FALSE),\"\")","v":"GARRELON Jacques"},null,null,{"$f":"IF($A255<>0,VLOOKUP($A255,Liste!$A$10:$W$459,8,FALSE),\"\")","v":280},null,"Par visio, audio conférence,,,,"]
[{"$f":"IF($A255<>0,VLOOKUP($A255,Liste!$A$10:$W$459,5,FALSE),\"\")","v":"Rue de Koufra"},null,null,null,null,null,"Signature/ Mandataire :"]
[{"$f":"IF($A255<>0,VLOOKUP($A255,Liste!$A$10:$W$459,6,FALSE),\"\")","v":92100},{"$f":"IF($A255<>0,VLOOKUP($A255,Liste!$A$10:$W$459,7,FALSE),\"\")","v":"Boulogne-Billancourrt"}]
[{"$f":" IF($A255<>0, \"Lot \" & VLOOKUP($A255,Liste!$A$10:$W$459,9,FALSE),\"\")","v":"Lot 57"},{"$f":"IF($A255<>0,VLOOKUP($A255,Liste!$A$10:$W$459,10,FALSE),\"\")","v":"Appart,"},{"$f":"IF($A255<>0,VLOOKUP($A255,Liste!$A$10:$W$459,11,FALSE),\"\")","v":251}]
[{"$f":"IF($A255<>0,\"Lot \" & VLOOKUP($A255,Liste!$A$10:$W$459,12,FALSE),\"\")","v":"Lot 207"},{"$f":"IF($A255<>0,VLOOKUP($A255,Liste!$A$10:$W$459,13,FALSE),\"\")","v":"Cave"},{"$f":"IF($A255<>0,VLOOKUP($A255,Liste!$A$10:$W$459,14,FALSE),\"\")","v":29}]
[{"$f":"IF($A255<>0,\"Lot \" & VLOOKUP($A255,Liste!$A$10:$W$459,15,FALSE),\"\")","v":"Lot "},{"$f":"IF($A255<>0,VLOOKUP($A255,Liste!$A$10:$W$459,16,FALSE),\"\")","v":0},{"$f":"IF($A255<>0,VLOOKUP($A255,Liste!$A$10:$W$459,17,FALSE),\"\")","v":0},null,null,null,"Arrivé à","après vote de la Résolution N°"]
[{"$f":"IF($A255<>0,\"Lot \" & VLOOKUP($A255,Liste!$A$10:$W$459,18,FALSE),\"\")","v":"Lot "},0,{"$f":"IF($A255<>0,VLOOKUP($A255,Liste!$A$10:$W$459,19,FALSE),\"\")","v":0},null,null,null,"Départ à","après vote de la Résolution N°"]
[{"$f":"IF($A255<>0,\"Lot \" & VLOOKUP($A255,Liste!$A$10:$W$459,21,FALSE),\"\")","v":"Lot "},{"$f":"IF($A255<>0,VLOOKUP($A255,Liste!$A$10:$W$459,22,FALSE),\"\")","v":0},{"$f":"IF($A255<>0,VLOOKUP($A255,Liste!$A$10:$W$459,23,FALSE),\"\")","v":0},null,null,null,{"$f":"IF(OR(B256=0,VLOOKUP(A255,Liste!$A$10:'Liste'!$Z$459,26)<>\"\"),\"\", \"Voir autorisation messages électroniques\")","v":"Voir autorisation messages électroniques"}]
[{"$f":"A255+1","v":28},null,null,null,null,null,"Par correspondance reçu le "]
[{"$f":"IF($A264<>0,VLOOKUP($A264,Liste!$A$10:$W$459,3,FALSE),\"\")","v":"Monsieur"},{"$f":"IF($A264<>0,VLOOKUP($A264,Liste!$A$10:$W$459,4,FALSE),\"\")","v":"HENRI   Paul"},null,null,{"$f":"IF($A264<>0,VLOOKUP($A264,Liste!$A$10:$W$459,8,FALSE),\"\")","v":210},null,"Par visio, audio conférence,,,,"]
[{"$f":"IF($A264<>0,VLOOKUP($A264,Liste!$A$10:$W$459,5,FALSE),\"\")","v":"14 rue de l' espoir"},null,null,null,null,null,"Signature/ Mandataire :"]
[{"$f":"IF($A264<>0,VLOOKUP($A264,Liste!$A$10:$W$459,6,FALSE),\"\")","v":75016},{"$f":"IF($A264<>0,VLOOKUP($A264,Liste!$A$10:$W$459,7,FALSE),\"\")","v":"Paris "}]
[{"$f":" IF($A264<>0, \"Lot \" & VLOOKUP($A264,Liste!$A$10:$W$459,9,FALSE),\"\")","v":"Lot 58"},{"$f":"IF($A264<>0,VLOOKUP($A264,Liste!$A$10:$W$459,10,FALSE),\"\")","v":"Appart,"},{"$f":"IF($A264<>0,VLOOKUP($A264,Liste!$A$10:$W$459,11,FALSE),\"\")","v":210}]
[{"$f":"IF($A264<>0,\"Lot \" & VLOOKUP($A264,Liste!$A$10:$W$459,12,FALSE),\"\")","v":"Lot "},{"$f":"IF($A264<>0,VLOOKUP($A264,Liste!$A$10:$W$459,13,FALSE),\"\")","v":0},{"$f":"IF($A264<>0,VLOOKUP($A264,Liste!$A$10:$W$459,14,FALSE),\"\")","v":0}]
[{"$f":"IF($A264<>0,\"Lot \" & VLOOKUP($A264,Liste!$A$10:$W$459,15,FALSE),\"\")","v":"Lot "},{"$f":"IF($A264<>0,VLOOKUP($A264,Liste!$A$10:$W$459,16,FALSE),\"\")","v":0},{"$f":"IF($A264<>0,VLOOKUP($A264,Liste!$A$10:$W$459,17,FALSE),\"\")","v":0},null,null,null,"Arrivé à","après vote de la Résolution N°"]
[{"$f":"IF($A264<>0,\"Lot \" & VLOOKUP($A264,Liste!$A$10:$W$459,18,FALSE),\"\")","v":"Lot "},0,{"$f":"IF($A264<>0,VLOOKUP($A264,Liste!$A$10:$W$459,19,FALSE),\"\")","v":0},null,null,null,"Départ à","après vote de la Résolution N°"]
[{"$f":"IF($A264<>0,\"Lot \" & VLOOKUP($A264,Liste!$A$10:$W$459,21,FALSE),\"\")","v":"Lot "},{"$f":"IF($A264<>0,VLOOKUP($A264,Liste!$A$10:$W$459,22,FALSE),\"\")","v":0},{"$f":"IF($A264<>0,VLOOKUP($A264,Liste!$A$10:$W$459,23,FALSE),\"\")","v":0},null,null,null,{"$f":"IF(OR(B265=0,VLOOKUP(A264,Liste!$A$10:'Liste'!$Z$459,26)<>\"\"),\"\", \"Voir autorisation messages électroniques\")","v":"Voir autorisation messages électroniques"}]
[{"$f":"A264+1","v":29},null,null,null,null,null,"Par correspondance reçu le "]
[{"$f":"IF($A273<>0,VLOOKUP($A273,Liste!$A$10:$W$459,3,FALSE),\"\")","v":"Madame"},{"$f":"IF($A273<>0,VLOOKUP($A273,Liste!$A$10:$W$459,4,FALSE),\"\")","v":"ISIDORE Lucienne"},null,null,{"$f":"IF($A273<>0,VLOOKUP($A273,Liste!$A$10:$W$459,8,FALSE),\"\")","v":110},null,"Par visio, audio conférence,,,,"]
[{"$f":"IF($A273<>0,VLOOKUP($A273,Liste!$A$10:$W$459,5,FALSE),\"\")","v":"15 rue de l' espoir"},null,null,null,null,null,"Signature/ Mandataire :"]
[{"$f":"IF($A273<>0,VLOOKUP($A273,Liste!$A$10:$W$459,6,FALSE),\"\")","v":75016},{"$f":"IF($A273<>0,VLOOKUP($A273,Liste!$A$10:$W$459,7,FALSE),\"\")","v":"Paris "}]
[{"$f":" IF($A273<>0, \"Lot \" & VLOOKUP($A273,Liste!$A$10:$W$459,9,FALSE),\"\")","v":"Lot 59"},{"$f":"IF($A273<>0,VLOOKUP($A273,Liste!$A$10:$W$459,10,FALSE),\"\")","v":"Appart,"},{"$f":"IF($A273<>0,VLOOKUP($A273,Liste!$A$10:$W$459,11,FALSE),\"\")","v":110}]
[{"$f":"IF($A273<>0,\"Lot \" & VLOOKUP($A273,Liste!$A$10:$W$459,12,FALSE),\"\")","v":"Lot "},{"$f":"IF($A273<>0,VLOOKUP($A273,Liste!$A$10:$W$459,13,FALSE),\"\")","v":0},{"$f":"IF($A273<>0,VLOOKUP($A273,Liste!$A$10:$W$459,14,FALSE),\"\")","v":0}]
[{"$f":"IF($A273<>0,\"Lot \" & VLOOKUP($A273,Liste!$A$10:$W$459,15,FALSE),\"\")","v":"Lot "},{"$f":"IF($A273<>0,VLOOKUP($A273,Liste!$A$10:$W$459,16,FALSE),\"\")","v":0},{"$f":"IF($A273<>0,VLOOKUP($A273,Liste!$A$10:$W$459,17,FALSE),\"\")","v":0},null,null,null,"Arrivé à","après vote de la Résolution N°"]
[{"$f":"IF($A273<>0,\"Lot \" & VLOOKUP($A273,Liste!$A$10:$W$459,18,FALSE),\"\")","v":"Lot "},0,{"$f":"IF($A273<>0,VLOOKUP($A273,Liste!$A$10:$W$459,19,FALSE),\"\")","v":0},null,null,null,"Départ à","après vote de la Résolution N°"]
[{"$f":"IF($A273<>0,\"Lot \" & VLOOKUP($A273,Liste!$A$10:$W$459,21,FALSE),\"\")","v":"Lot "},{"$f":"IF($A273<>0,VLOOKUP($A273,Liste!$A$10:$W$459,22,FALSE),\"\")","v":0},{"$f":"IF($A273<>0,VLOOKUP($A273,Liste!$A$10:$W$459,23,FALSE),\"\")","v":0},null,null,null,{"$f":"IF(OR(B274=0,VLOOKUP(A273,Liste!$A$10:'Liste'!$Z$459,26)<>\"\"),\"\", \"Voir autorisation messages électroniques\")","v":"Voir autorisation messages électroniques"}]
[{"$f":"A273+1","v":30},null,null,null,null,null,"Par correspondance reçu le "]
[{"$f":"IF($A282<>0,VLOOKUP($A282,Liste!$A$10:$W$459,3,FALSE),\"\")","v":"Monsieur"},{"$f":"IF($A282<>0,VLOOKUP($A282,Liste!$A$10:$W$459,4,FALSE),\"\")","v":"JARGON Emile"},null,null,{"$f":"IF($A282<>0,VLOOKUP($A282,Liste!$A$10:$W$459,8,FALSE),\"\")","v":130},null,"Par visio, audio conférence,,,,"]
[{"$f":"IF($A282<>0,VLOOKUP($A282,Liste!$A$10:$W$459,5,FALSE),\"\")","v":"16 rue de l' espoir"},null,null,null,null,null,"Signature/ Mandataire :"]
[{"$f":"IF($A282<>0,VLOOKUP($A282,Liste!$A$10:$W$459,6,FALSE),\"\")","v":75016},{"$f":"IF($A282<>0,VLOOKUP($A282,Liste!$A$10:$W$459,7,FALSE),\"\")","v":"Paris "}]
[{"$f":" IF($A282<>0, \"Lot \" & VLOOKUP($A282,Liste!$A$10:$W$459,9,FALSE),\"\")","v":"Lot 60"},{"$f":"IF($A282<>0,VLOOKUP($A282,Liste!$A$10:$W$459,10,FALSE),\"\")","v":"Appart,"},{"$f":"IF($A282<>0,VLOOKUP($A282,Liste!$A$10:$W$459,11,FALSE),\"\")","v":130}]
[{"$f":"IF($A282<>0,\"Lot \" & VLOOKUP($A282,Liste!$A$10:$W$459,12,FALSE),\"\")","v":"Lot "},{"$f":"IF($A282<>0,VLOOKUP($A282,Liste!$A$10:$W$459,13,FALSE),\"\")","v":0},{"$f":"IF($A282<>0,VLOOKUP($A282,Liste!$A$10:$W$459,14,FALSE),\"\")","v":0}]
[{"$f":"IF($A282<>0,\"Lot \" & VLOOKUP($A282,Liste!$A$10:$W$459,15,FALSE),\"\")","v":"Lot "},{"$f":"IF($A282<>0,VLOOKUP($A282,Liste!$A$10:$W$459,16,FALSE),\"\")","v":0},{"$f":"IF($A282<>0,VLOOKUP($A282,Liste!$A$10:$W$459,17,FALSE),\"\")","v":0},null,null,null,"Arrivé à","après vote de la Résolution N°"]
[{"$f":"IF($A282<>0,\"Lot \" & VLOOKUP($A282,Liste!$A$10:$W$459,18,FALSE),\"\")","v":"Lot "},0,{"$f":"IF($A282<>0,VLOOKUP($A282,Liste!$A$10:$W$459,19,FALSE),\"\")","v":0},null,null,null,"Départ à","après vote de la Résolution N°"]
[{"$f":"IF($A282<>0,\"Lot \" & VLOOKUP($A282,Liste!$A$10:$W$459,21,FALSE),\"\")","v":"Lot "},{"$f":"IF($A282<>0,VLOOKUP($A282,Liste!$A$10:$W$459,22,FALSE),\"\")","v":0},{"$f":"IF($A282<>0,VLOOKUP($A282,Liste!$A$10:$W$459,23,FALSE),\"\")","v":0},null,null,null,{"$f":"IF(OR(B283=0,VLOOKUP(A282,Liste!$A$10:'Liste'!$Z$459,26)<>\"\"),\"\", \"Voir autorisation messages électroniques\")","v":"Voir autorisation messages électroniques"}]
[{"$f":"A282+1","v":31},null,null,null,null,null,"Par correspondance reçu le "]
[{"$f":"IF($A291<>0,VLOOKUP($A291,Liste!$A$10:$W$459,3,FALSE),\"\")","v":"Monsieur"},{"$f":"IF($A291<>0,VLOOKUP($A291,Liste!$A$10:$W$459,4,FALSE),\"\")","v":"LOUISON Albert"},null,null,{"$f":"IF($A291<>0,VLOOKUP($A291,Liste!$A$10:$W$459,8,FALSE),\"\")","v":220},null,"Par visio, audio conférence,,,,"]
[{"$f":"IF($A291<>0,VLOOKUP($A291,Liste!$A$10:$W$459,5,FALSE),\"\")","v":"17 rue de l' espoir"},null,null,null,null,null,"Signature/ Mandataire :"]
[{"$f":"IF($A291<>0,VLOOKUP($A291,Liste!$A$10:$W$459,6,FALSE),\"\")","v":75016},{"$f":"IF($A291<>0,VLOOKUP($A291,Liste!$A$10:$W$459,7,FALSE),\"\")","v":"Paris "}]
[{"$f":" IF($A291<>0, \"Lot \" & VLOOKUP($A291,Liste!$A$10:$W$459,9,FALSE),\"\")","v":"Lot 70"},{"$f":"IF($A291<>0,VLOOKUP($A291,Liste!$A$10:$W$459,10,FALSE),\"\")","v":"Apart,"},{"$f":"IF($A291<>0,VLOOKUP($A291,Liste!$A$10:$W$459,11,FALSE),\"\")","v":220}]
[{"$f":"IF($A291<>0,\"Lot \" & VLOOKUP($A291,Liste!$A$10:$W$459,12,FALSE),\"\")","v":"Lot "},{"$f":"IF($A291<>0,VLOOKUP($A291,Liste!$A$10:$W$459,13,FALSE),\"\")","v":0},{"$f":"IF($A291<>0,VLOOKUP($A291,Liste!$A$10:$W$459,14,FALSE),\"\")","v":0}]
[{"$f":"IF($A291<>0,\"Lot \" & VLOOKUP($A291,Liste!$A$10:$W$459,15,FALSE),\"\")","v":"Lot "},{"$f":"IF($A291<>0,VLOOKUP($A291,Liste!$A$10:$W$459,16,FALSE),\"\")","v":0},{"$f":"IF($A291<>0,VLOOKUP($A291,Liste!$A$10:$W$459,17,FALSE),\"\")","v":0},null,null,null,"Arrivé à","après vote de la Résolution N°"]
[{"$f":"IF($A291<>0,\"Lot \" & VLOOKUP($A291,Liste!$A$10:$W$459,18,FALSE),\"\")","v":"Lot "},0,{"$f":"IF($A291<>0,VLOOKUP($A291,Liste!$A$10:$W$459,19,FALSE),\"\")","v":0},null,null,null,"Départ à","après vote de la Résolution N°"]
[{"$f":"IF($A291<>0,\"Lot \" & VLOOKUP($A291,Liste!$A$10:$W$459,21,FALSE),\"\")","v":"Lot "},{"$f":"IF($A291<>0,VLOOKUP($A291,Liste!$A$10:$W$459,22,FALSE),\"\")","v":0},{"$f":"IF($A291<>0,VLOOKUP($A291,Liste!$A$10:$W$459,23,FALSE),\"\")","v":0},null,null,null,{"$f":"IF(OR(B292=0,VLOOKUP(A291,Liste!$A$10:'Liste'!$Z$459,26)<>\"\"),\"\", \"Voir autorisation messages électroniques\")","v":"Voir autorisation messages électroniques"}]
[{"$f":"A291+1","v":32},null,null,null,null,null,"Par correspondance reçu le "]
[{"$f":"IF($A300<>0,VLOOKUP($A300,Liste!$A$10:$W$459,3,FALSE),\"\")","v":"Madame"},{"$f":"IF($A300<>0,VLOOKUP($A300,Liste!$A$10:$W$459,4,FALSE),\"\")","v":"MARTIN Nicole"},null,null,{"$f":"IF($A300<>0,VLOOKUP($A300,Liste!$A$10:$W$459,8,FALSE),\"\")","v":100},null,"Par visio, audio conférence,,,,"]
[{"$f":"IF($A300<>0,VLOOKUP($A300,Liste!$A$10:$W$459,5,FALSE),\"\")","v":"30 rue Pasteur"},null,null,null,null,null,"Signature/ Mandataire :"]
[{"$f":"IF($A300<>0,VLOOKUP($A300,Liste!$A$10:$W$459,6,FALSE),\"\")","v":33200},{"$f":"IF($A300<>0,VLOOKUP($A300,Liste!$A$10:$W$459,7,FALSE),\"\")","v":"Bordeaux"}]
[{"$f":" IF($A300<>0, \"Lot \" & VLOOKUP($A300,Liste!$A$10:$W$459,9,FALSE),\"\")","v":"Lot 71"},{"$f":"IF($A300<>0,VLOOKUP($A300,Liste!$A$10:$W$459,10,FALSE),\"\")","v":"Appart,"},{"$f":"IF($A300<>0,VLOOKUP($A300,Liste!$A$10:$W$459,11,FALSE),\"\")","v":100}]
[{"$f":"IF($A300<>0,\"Lot \" & VLOOKUP($A300,Liste!$A$10:$W$459,12,FALSE),\"\")","v":"Lot "},{"$f":"IF($A300<>0,VLOOKUP($A300,Liste!$A$10:$W$459,13,FALSE),\"\")","v":0},{"$f":"IF($A300<>0,VLOOKUP($A300,Liste!$A$10:$W$459,14,FALSE),\"\")","v":0}]
[{"$f":"IF($A300<>0,\"Lot \" & VLOOKUP($A300,Liste!$A$10:$W$459,15,FALSE),\"\")","v":"Lot "},{"$f":"IF($A300<>0,VLOOKUP($A300,Liste!$A$10:$W$459,16,FALSE),\"\")","v":0},{"$f":"IF($A300<>0,VLOOKUP($A300,Liste!$A$10:$W$459,17,FALSE),\"\")","v":0},null,null,null,"Arrivé à","après vote de la Résolution N°"]
[{"$f":"IF($A300<>0,\"Lot \" & VLOOKUP($A300,Liste!$A$10:$W$459,18,FALSE),\"\")","v":"Lot "},0,{"$f":"IF($A300<>0,VLOOKUP($A300,Liste!$A$10:$W$459,19,FALSE),\"\")","v":0},null,null,null,"Départ à","après vote de la Résolution N°"]
[{"$f":"IF($A300<>0,\"Lot \" & VLOOKUP($A300,Liste!$A$10:$W$459,21,FALSE),\"\")","v":"Lot "},{"$f":"IF($A300<>0,VLOOKUP($A300,Liste!$A$10:$W$459,22,FALSE),\"\")","v":0},{"$f":"IF($A300<>0,VLOOKUP($A300,Liste!$A$10:$W$459,23,FALSE),\"\")","v":0},null,null,null,{"$f":"IF(OR(B301=0,VLOOKUP(A300,Liste!$A$10:'Liste'!$Z$459,26)<>\"\"),\"\", \"Voir autorisation messages électroniques\")","v":"Voir autorisation messages électroniques"}]
[]
[null,null,null,"A S S E M B L E E     G E N E R A L E",null,null,null,null,null,null,"Page",{"$f":"L233+1","v":5}]
[null,null,null,null,null,"du","2019-12-20"]
[null,null,null,"Résidence Le Paradis; Rue de l' espoir 75016 PARIS"]
[]
[{"$f":"A300+1","v":33},null,null,null,null,null,"Par correspondance reçu le "]
[{"$f":"IF($A314<>0,VLOOKUP($A314,Liste!$A$10:$W$459,3,FALSE),\"\")","v":"Monsieur"},{"$f":"IF($A314<>0,VLOOKUP($A314,Liste!$A$10:$W$459,4,FALSE),\"\")","v":"ANDUN"},null,null,{"$f":"IF($A314<>0,VLOOKUP($A314,Liste!$A$10:$W$459,8,FALSE),\"\")","v":180},null,"Par visio, audio conférence,,,,"]
[{"$f":"IF($A314<>0,VLOOKUP($A314,Liste!$A$10:$W$459,5,FALSE),\"\")","v":"30 rue Pasteur"},null,null,null,null,null,"Signature/ Mandataire :"]
[{"$f":"IF($A314<>0,VLOOKUP($A314,Liste!$A$10:$W$459,6,FALSE),\"\")","v":33200},{"$f":"IF($A314<>0,VLOOKUP($A314,Liste!$A$10:$W$459,7,FALSE),\"\")","v":"Bordeaux"}]
[{"$f":" IF($A314<>0, \"Lot \" & VLOOKUP($A314,Liste!$A$10:$W$459,9,FALSE),\"\")","v":"Lot 208"},{"$f":"IF($A314<>0,VLOOKUP($A314,Liste!$A$10:$W$459,10,FALSE),\"\")","v":"Appart,"},{"$f":"IF($A314<>0,VLOOKUP($A314,Liste!$A$10:$W$459,11,FALSE),\"\")","v":150}]
[{"$f":"IF($A314<>0,\"Lot \" & VLOOKUP($A314,Liste!$A$10:$W$459,12,FALSE),\"\")","v":"Lot 209"},{"$f":"IF($A314<>0,VLOOKUP($A314,Liste!$A$10:$W$459,13,FALSE),\"\")","v":"Cave"},{"$f":"IF($A314<>0,VLOOKUP($A314,Liste!$A$10:$W$459,14,FALSE),\"\")","v":30}]
[{"$f":"IF($A314<>0,\"Lot \" & VLOOKUP($A314,Liste!$A$10:$W$459,15,FALSE),\"\")","v":"Lot "},{"$f":"IF($A314<>0,VLOOKUP($A314,Liste!$A$10:$W$459,16,FALSE),\"\")","v":0},{"$f":"IF($A314<>0,VLOOKUP($A314,Liste!$A$10:$W$459,17,FALSE),\"\")","v":0},null,null,null,"Arrivé à","après vote de la Résolution N°"]
[{"$f":"IF($A314<>0,\"Lot \" & VLOOKUP($A314,Liste!$A$10:$W$459,18,FALSE),\"\")","v":"Lot "},0,{"$f":"IF($A314<>0,VLOOKUP($A314,Liste!$A$10:$W$459,19,FALSE),\"\")","v":0},null,null,null,"Départ à","après vote de la Résolution N°"]
[{"$f":"IF($A314<>0,\"Lot \" & VLOOKUP($A314,Liste!$A$10:$W$459,21,FALSE),\"\")","v":"Lot "},{"$f":"IF($A314<>0,VLOOKUP($A314,Liste!$A$10:$W$459,22,FALSE),\"\")","v":0},{"$f":"IF($A314<>0,VLOOKUP($A314,Liste!$A$10:$W$459,23,FALSE),\"\")","v":0},null,null,null,{"$f":"IF(OR(B315=0,VLOOKUP(A314,Liste!$A$10:'Liste'!$Z$459,26)<>\"\"),\"\", \"Voir autorisation messages électroniques\")","v":"Voir autorisation messages électroniques"}]
[{"$f":"A314+1","v":34},null,null,null,null,null,"Par correspondance reçu le "]
[{"$f":"IF($A323<>0,VLOOKUP($A323,Liste!$A$10:$W$459,3,FALSE),\"\")","v":"Madame"},{"$f":"IF($A323<>0,VLOOKUP($A323,Liste!$A$10:$W$459,4,FALSE),\"\")","v":"AUDIARD"},null,null,{"$f":"IF($A323<>0,VLOOKUP($A323,Liste!$A$10:$W$459,8,FALSE),\"\")","v":210},null,"Par visio, audio conférence,,,,"]
[{"$f":"IF($A323<>0,VLOOKUP($A323,Liste!$A$10:$W$459,5,FALSE),\"\")","v":"30 rue Pasteur"},null,null,null,null,null,"Signature/ Mandataire :"]
[{"$f":"IF($A323<>0,VLOOKUP($A323,Liste!$A$10:$W$459,6,FALSE),\"\")","v":33200},{"$f":"IF($A323<>0,VLOOKUP($A323,Liste!$A$10:$W$459,7,FALSE),\"\")","v":"Bordeaux"}]
[{"$f":" IF($A323<>0, \"Lot \" & VLOOKUP($A323,Liste!$A$10:$W$459,9,FALSE),\"\")","v":"Lot 210"},{"$f":"IF($A323<>0,VLOOKUP($A323,Liste!$A$10:$W$459,10,FALSE),\"\")","v":"Appart,"},{"$f":"IF($A323<>0,VLOOKUP($A323,Liste!$A$10:$W$459,11,FALSE),\"\")","v":180}]
[{"$f":"IF($A323<>0,\"Lot \" & VLOOKUP($A323,Liste!$A$10:$W$459,12,FALSE),\"\")","v":"Lot 211"},{"$f":"IF($A323<>0,VLOOKUP($A323,Liste!$A$10:$W$459,13,FALSE),\"\")","v":"Cave"},{"$f":"IF($A323<>0,VLOOKUP($A323,Liste!$A$10:$W$459,14,FALSE),\"\")","v":30}]
[{"$f":"IF($A323<>0,\"Lot \" & VLOOKUP($A323,Liste!$A$10:$W$459,15,FALSE),\"\")","v":"Lot "},{"$f":"IF($A323<>0,VLOOKUP($A323,Liste!$A$10:$W$459,16,FALSE),\"\")","v":0},{"$f":"IF($A323<>0,VLOOKUP($A323,Liste!$A$10:$W$459,17,FALSE),\"\")","v":0},null,null,null,"Arrivé à","après vote de la Résolution N°"]
[{"$f":"IF($A323<>0,\"Lot \" & VLOOKUP($A323,Liste!$A$10:$W$459,18,FALSE),\"\")","v":"Lot "},0,{"$f":"IF($A323<>0,VLOOKUP($A323,Liste!$A$10:$W$459,19,FALSE),\"\")","v":0},null,null,null,"Départ à","après vote de la Résolution N°"]
[{"$f":"IF($A323<>0,\"Lot \" & VLOOKUP($A323,Liste!$A$10:$W$459,21,FALSE),\"\")","v":"Lot "},{"$f":"IF($A323<>0,VLOOKUP($A323,Liste!$A$10:$W$459,22,FALSE),\"\")","v":0},{"$f":"IF($A323<>0,VLOOKUP($A323,Liste!$A$10:$W$459,23,FALSE),\"\")","v":0},null,null,null,{"$f":"IF(OR(B324=0,VLOOKUP(A323,Liste!$A$10:'Liste'!$Z$459,26)<>\"\"),\"\", \"Voir autorisation messages électroniques\")","v":"Voir autorisation messages électroniques"}]
[{"$f":"A323+1","v":35},null,null,null,null,null,"Par correspondance reçu le "]
[{"$f":"IF($A332<>0,VLOOKUP($A332,Liste!$A$10:$W$459,3,FALSE),\"\")","v":"Monsieur"},{"$f":"IF($A332<>0,VLOOKUP($A332,Liste!$A$10:$W$459,4,FALSE),\"\")","v":"AVATARD"},null,null,{"$f":"IF($A332<>0,VLOOKUP($A332,Liste!$A$10:$W$459,8,FALSE),\"\")","v":110},null,"Par visio, audio conférence,,,,"]
[{"$f":"IF($A332<>0,VLOOKUP($A332,Liste!$A$10:$W$459,5,FALSE),\"\")","v":"3 rue Pasteur"},null,null,null,null,null,"Signature/ Mandataire :"]
[{"$f":"IF($A332<>0,VLOOKUP($A332,Liste!$A$10:$W$459,6,FALSE),\"\")","v":75016},{"$f":"IF($A332<>0,VLOOKUP($A332,Liste!$A$10:$W$459,7,FALSE),\"\")","v":"Paris"}]
[{"$f":" IF($A332<>0, \"Lot \" & VLOOKUP($A332,Liste!$A$10:$W$459,9,FALSE),\"\")","v":"Lot 212"},{"$f":"IF($A332<>0,VLOOKUP($A332,Liste!$A$10:$W$459,10,FALSE),\"\")","v":"Appart,"},{"$f":"IF($A332<>0,VLOOKUP($A332,Liste!$A$10:$W$459,11,FALSE),\"\")","v":80}]
[{"$f":"IF($A332<>0,\"Lot \" & VLOOKUP($A332,Liste!$A$10:$W$459,12,FALSE),\"\")","v":"Lot 213"},{"$f":"IF($A332<>0,VLOOKUP($A332,Liste!$A$10:$W$459,13,FALSE),\"\")","v":"Cave"},{"$f":"IF($A332<>0,VLOOKUP($A332,Liste!$A$10:$W$459,14,FALSE),\"\")","v":30}]
[{"$f":"IF($A332<>0,\"Lot \" & VLOOKUP($A332,Liste!$A$10:$W$459,15,FALSE),\"\")","v":"Lot "},{"$f":"IF($A332<>0,VLOOKUP($A332,Liste!$A$10:$W$459,16,FALSE),\"\")","v":0},{"$f":"IF($A332<>0,VLOOKUP($A332,Liste!$A$10:$W$459,17,FALSE),\"\")","v":0},null,null,null,"Arrivé à","après vote de la Résolution N°"]
[{"$f":"IF($A332<>0,\"Lot \" & VLOOKUP($A332,Liste!$A$10:$W$459,18,FALSE),\"\")","v":"Lot "},0,{"$f":"IF($A332<>0,VLOOKUP($A332,Liste!$A$10:$W$459,19,FALSE),\"\")","v":0},null,null,null,"Départ à","après vote de la Résolution N°"]
[{"$f":"IF($A332<>0,\"Lot \" & VLOOKUP($A332,Liste!$A$10:$W$459,21,FALSE),\"\")","v":"Lot "},{"$f":"IF($A332<>0,VLOOKUP($A332,Liste!$A$10:$W$459,22,FALSE),\"\")","v":0},{"$f":"IF($A332<>0,VLOOKUP($A332,Liste!$A$10:$W$459,23,FALSE),\"\")","v":0},null,null,null,{"$f":"IF(OR(B333=0,VLOOKUP(A332,Liste!$A$10:'Liste'!$Z$459,26)<>\"\"),\"\", \"Voir autorisation messages électroniques\")","v":"Voir autorisation messages électroniques"}]
[36,null,null,null,null,null,"Par correspondance reçu le "]
[{"$f":"IF($A341<>0,VLOOKUP($A341,Liste!$A$10:$W$459,3,FALSE),\"\")","v":{"$error":"#N/A"}},{"$f":"IF($A341<>0,VLOOKUP($A341,Liste!$A$10:$W$459,4,FALSE),\"\")","v":{"$error":"#N/A"}},null,null,{"$f":"IF($A341<>0,VLOOKUP($A341,Liste!$A$10:$W$459,8,FALSE),\"\")","v":{"$error":"#N/A"}},null,"Par visio, audio conférence,,,,"]
[{"$f":"IF($A341<>0,VLOOKUP($A341,Liste!$A$10:$W$459,5,FALSE),\"\")","v":{"$error":"#N/A"}},null,null,null,null,null,"Signature/ Mandataire :"]
[{"$f":"IF($A341<>0,VLOOKUP($A341,Liste!$A$10:$W$459,6,FALSE),\"\")","v":{"$error":"#N/A"}},{"$f":"IF($A341<>0,VLOOKUP($A341,Liste!$A$10:$W$459,7,FALSE),\"\")","v":{"$error":"#N/A"}}]
[{"$f":" IF($A341<>0, \"Lot \" & VLOOKUP($A341,Liste!$A$10:$W$459,9,FALSE),\"\")","v":{"$error":"#N/A"}},{"$f":"IF($A341<>0,VLOOKUP($A341,Liste!$A$10:$W$459,10,FALSE),\"\")","v":{"$error":"#N/A"}},{"$f":"IF($A341<>0,VLOOKUP($A341,Liste!$A$10:$W$459,11,FALSE),\"\")","v":{"$error":"#N/A"}}]
[{"$f":"IF($A341<>0,\"Lot \" & VLOOKUP($A341,Liste!$A$10:$W$459,12,FALSE),\"\")","v":{"$error":"#N/A"}},{"$f":"IF($A341<>0,VLOOKUP($A341,Liste!$A$10:$W$459,13,FALSE),\"\")","v":{"$error":"#N/A"}},{"$f":"IF($A341<>0,VLOOKUP($A341,Liste!$A$10:$W$459,14,FALSE),\"\")","v":{"$error":"#N/A"}}]
[{"$f":"IF($A341<>0,\"Lot \" & VLOOKUP($A341,Liste!$A$10:$W$459,15,FALSE),\"\")","v":{"$error":"#N/A"}},{"$f":"IF($A341<>0,VLOOKUP($A341,Liste!$A$10:$W$459,16,FALSE),\"\")","v":{"$error":"#N/A"}},{"$f":"IF($A341<>0,VLOOKUP($A341,Liste!$A$10:$W$459,17,FALSE),\"\")","v":{"$error":"#N/A"}},null,null,null,"Arrivé à","après vote de la Résolution N°"]
[{"$f":"IF($A341<>0,\"Lot \" & VLOOKUP($A341,Liste!$A$10:$W$459,18,FALSE),\"\")","v":{"$error":"#N/A"}},0,{"$f":"IF($A341<>0,VLOOKUP($A341,Liste!$A$10:$W$459,19,FALSE),\"\")","v":{"$error":"#N/A"}},null,null,null,"Départ à","après vote de la Résolution N°"]
[{"$f":"IF($A341<>0,\"Lot \" & VLOOKUP($A341,Liste!$A$10:$W$459,21,FALSE),\"\")","v":{"$error":"#N/A"}},{"$f":"IF($A341<>0,VLOOKUP($A341,Liste!$A$10:$W$459,22,FALSE),\"\")","v":{"$error":"#N/A"}},{"$f":"IF($A341<>0,VLOOKUP($A341,Liste!$A$10:$W$459,23,FALSE),\"\")","v":{"$error":"#N/A"}},null,null,null,{"$f":"IF(OR(B342=0,VLOOKUP(A341,Liste!$A$10:'Liste'!$Z$459,26)<>\"\"),\"\", \"Voir autorisation messages électroniques\")","v":{"$error":"#N/A"}}]
[{"$f":"A341+1","v":37},null,null,null,null,null,"Par correspondance reçu le "]
[{"$f":"IF($A350<>0,VLOOKUP($A350,Liste!$A$10:$W$459,3,FALSE),\"\")","v":{"$error":"#N/A"}},{"$f":"IF($A350<>0,VLOOKUP($A350,Liste!$A$10:$W$459,4,FALSE),\"\")","v":{"$error":"#N/A"}},null,null,{"$f":"IF($A350<>0,VLOOKUP($A350,Liste!$A$10:$W$459,8,FALSE),\"\")","v":{"$error":"#N/A"}},null,"Par visio, audio conférence,,,,"]
[{"$f":"IF($A350<>0,VLOOKUP($A350,Liste!$A$10:$W$459,5,FALSE),\"\")","v":{"$error":"#N/A"}},null,null,null,null,null,"Signature/ Mandataire :"]
[{"$f":"IF($A350<>0,VLOOKUP($A350,Liste!$A$10:$W$459,6,FALSE),\"\")","v":{"$error":"#N/A"}},{"$f":"IF($A350<>0,VLOOKUP($A350,Liste!$A$10:$W$459,7,FALSE),\"\")","v":{"$error":"#N/A"}}]
[{"$f":" IF($A350<>0, \"Lot \" & VLOOKUP($A350,Liste!$A$10:$W$459,9,FALSE),\"\")","v":{"$error":"#N/A"}},{"$f":"IF($A350<>0,VLOOKUP($A350,Liste!$A$10:$W$459,10,FALSE),\"\")","v":{"$error":"#N/A"}},{"$f":"IF($A350<>0,VLOOKUP($A350,Liste!$A$10:$W$459,11,FALSE),\"\")","v":{"$error":"#N/A"}}]
[{"$f":"IF($A350<>0,\"Lot \" & VLOOKUP($A350,Liste!$A$10:$W$459,12,FALSE),\"\")","v":{"$error":"#N/A"}},{"$f":"IF($A350<>0,VLOOKUP($A350,Liste!$A$10:$W$459,13,FALSE),\"\")","v":{"$error":"#N/A"}},{"$f":"IF($A350<>0,VLOOKUP($A350,Liste!$A$10:$W$459,14,FALSE),\"\")","v":{"$error":"#N/A"}}]
[{"$f":"IF($A350<>0,\"Lot \" & VLOOKUP($A350,Liste!$A$10:$W$459,15,FALSE),\"\")","v":{"$error":"#N/A"}},{"$f":"IF($A350<>0,VLOOKUP($A350,Liste!$A$10:$W$459,16,FALSE),\"\")","v":{"$error":"#N/A"}},{"$f":"IF($A350<>0,VLOOKUP($A350,Liste!$A$10:$W$459,17,FALSE),\"\")","v":{"$error":"#N/A"}},null,null,null,"Arrivé à","après vote de la Résolution N°"]
[{"$f":"IF($A350<>0,\"Lot \" & VLOOKUP($A350,Liste!$A$10:$W$459,18,FALSE),\"\")","v":{"$error":"#N/A"}},0,{"$f":"IF($A350<>0,VLOOKUP($A350,Liste!$A$10:$W$459,19,FALSE),\"\")","v":{"$error":"#N/A"}},null,null,null,"Départ à","après vote de la Résolution N°"]
[{"$f":"IF($A350<>0,\"Lot \" & VLOOKUP($A350,Liste!$A$10:$W$459,21,FALSE),\"\")","v":{"$error":"#N/A"}},{"$f":"IF($A350<>0,VLOOKUP($A350,Liste!$A$10:$W$459,22,FALSE),\"\")","v":{"$error":"#N/A"}},{"$f":"IF($A350<>0,VLOOKUP($A350,Liste!$A$10:$W$459,23,FALSE),\"\")","v":{"$error":"#N/A"}},null,null,null,{"$f":"IF(OR(B351=0,VLOOKUP(A350,Liste!$A$10:'Liste'!$Z$459,26)<>\"\"),\"\", \"Voir autorisation messages électroniques\")","v":{"$error":"#N/A"}}]
[{"$f":"A350+1","v":38},null,null,null,null,null,"Par correspondance reçu le "]
[{"$f":"IF($A359<>0,VLOOKUP($A359,Liste!$A$10:$W$459,3,FALSE),\"\")","v":{"$error":"#N/A"}},{"$f":"IF($A359<>0,VLOOKUP($A359,Liste!$A$10:$W$459,4,FALSE),\"\")","v":{"$error":"#N/A"}},null,null,{"$f":"IF($A359<>0,VLOOKUP($A359,Liste!$A$10:$W$459,8,FALSE),\"\")","v":{"$error":"#N/A"}},null,"Par visio, audio conférence,,,,"]
[{"$f":"IF($A359<>0,VLOOKUP($A359,Liste!$A$10:$W$459,5,FALSE),\"\")","v":{"$error":"#N/A"}},null,null,null,null,null,"Signature/ Mandataire :"]
[{"$f":"IF($A359<>0,VLOOKUP($A359,Liste!$A$10:$W$459,6,FALSE),\"\")","v":{"$error":"#N/A"}},{"$f":"IF($A359<>0,VLOOKUP($A359,Liste!$A$10:$W$459,7,FALSE),\"\")","v":{"$error":"#N/A"}}]
[{"$f":" IF($A359<>0, \"Lot \" & VLOOKUP($A359,Liste!$A$10:$W$459,9,FALSE),\"\")","v":{"$error":"#N/A"}},{"$f":"IF($A359<>0,VLOOKUP($A359,Liste!$A$10:$W$459,10,FALSE),\"\")","v":{"$error":"#N/A"}},{"$f":"IF($A359<>0,VLOOKUP($A359,Liste!$A$10:$W$459,11,FALSE),\"\")","v":{"$error":"#N/A"}}]
[{"$f":"IF($A359<>0,\"Lot \" & VLOOKUP($A359,Liste!$A$10:$W$459,12,FALSE),\"\")","v":{"$error":"#N/A"}},{"$f":"IF($A359<>0,VLOOKUP($A359,Liste!$A$10:$W$459,13,FALSE),\"\")","v":{"$error":"#N/A"}},{"$f":"IF($A359<>0,VLOOKUP($A359,Liste!$A$10:$W$459,14,FALSE),\"\")","v":{"$error":"#N/A"}}]
[{"$f":"IF($A359<>0,\"Lot \" & VLOOKUP($A359,Liste!$A$10:$W$459,15,FALSE),\"\")","v":{"$error":"#N/A"}},{"$f":"IF($A359<>0,VLOOKUP($A359,Liste!$A$10:$W$459,16,FALSE),\"\")","v":{"$error":"#N/A"}},{"$f":"IF($A359<>0,VLOOKUP($A359,Liste!$A$10:$W$459,17,FALSE),\"\")","v":{"$error":"#N/A"}},null,null,null,"Arrivé à","après vote de la Résolution N°"]
[{"$f":"IF($A359<>0,\"Lot \" & VLOOKUP($A359,Liste!$A$10:$W$459,18,FALSE),\"\")","v":{"$error":"#N/A"}},0,{"$f":"IF($A359<>0,VLOOKUP($A359,Liste!$A$10:$W$459,19,FALSE),\"\")","v":{"$error":"#N/A"}},null,null,null,"Départ à","après vote de la Résolution N°"]
[{"$f":"IF($A359<>0,\"Lot \" & VLOOKUP($A359,Liste!$A$10:$W$459,21,FALSE),\"\")","v":{"$error":"#N/A"}},{"$f":"IF($A359<>0,VLOOKUP($A359,Liste!$A$10:$W$459,22,FALSE),\"\")","v":{"$error":"#N/A"}},{"$f":"IF($A359<>0,VLOOKUP($A359,Liste!$A$10:$W$459,23,FALSE),\"\")","v":{"$error":"#N/A"}},null,null,null,{"$f":"IF(OR(B360=0,VLOOKUP(A359,Liste!$A$10:'Liste'!$Z$459,26)<>\"\"),\"\", \"Voir autorisation messages électroniques\")","v":{"$error":"#N/A"}}]
[{"$f":"A359+1","v":39},null,null,null,null,null,"Par correspondance reçu le "]
[{"$f":"IF($A368<>0,VLOOKUP($A368,Liste!$A$10:$W$459,3,FALSE),\"\")","v":{"$error":"#N/A"}},{"$f":"IF($A368<>0,VLOOKUP($A368,Liste!$A$10:$W$459,4,FALSE),\"\")","v":{"$error":"#N/A"}},null,null,{"$f":"IF($A368<>0,VLOOKUP($A368,Liste!$A$10:$W$459,8,FALSE),\"\")","v":{"$error":"#N/A"}},null,"Par visio, audio conférence,,,,"]
[{"$f":"IF($A368<>0,VLOOKUP($A368,Liste!$A$10:$W$459,5,FALSE),\"\")","v":{"$error":"#N/A"}},null,null,null,null,null,"Signature/ Mandataire :"]
[{"$f":"IF($A368<>0,VLOOKUP($A368,Liste!$A$10:$W$459,6,FALSE),\"\")","v":{"$error":"#N/A"}},{"$f":"IF($A368<>0,VLOOKUP($A368,Liste!$A$10:$W$459,7,FALSE),\"\")","v":{"$error":"#N/A"}}]
[{"$f":" IF($A368<>0, \"Lot \" & VLOOKUP($A368,Liste!$A$10:$W$459,9,FALSE),\"\")","v":{"$error":"#N/A"}},{"$f":"IF($A368<>0,VLOOKUP($A368,Liste!$A$10:$W$459,10,FALSE),\"\")","v":{"$error":"#N/A"}},{"$f":"IF($A368<>0,VLOOKUP($A368,Liste!$A$10:$W$459,11,FALSE),\"\")","v":{"$error":"#N/A"}}]
[{"$f":"IF($A368<>0,\"Lot \" & VLOOKUP($A368,Liste!$A$10:$W$459,12,FALSE),\"\")","v":{"$error":"#N/A"}},{"$f":"IF($A368<>0,VLOOKUP($A368,Liste!$A$10:$W$459,13,FALSE),\"\")","v":{"$error":"#N/A"}},{"$f":"IF($A368<>0,VLOOKUP($A368,Liste!$A$10:$W$459,14,FALSE),\"\")","v":{"$error":"#N/A"}}]
[{"$f":"IF($A368<>0,\"Lot \" & VLOOKUP($A368,Liste!$A$10:$W$459,15,FALSE),\"\")","v":{"$error":"#N/A"}},{"$f":"IF($A368<>0,VLOOKUP($A368,Liste!$A$10:$W$459,16,FALSE),\"\")","v":{"$error":"#N/A"}},{"$f":"IF($A368<>0,VLOOKUP($A368,Liste!$A$10:$W$459,17,FALSE),\"\")","v":{"$error":"#N/A"}},null,null,null,"Arrivé à","après vote de la Résolution N°"]
[{"$f":"IF($A368<>0,\"Lot \" & VLOOKUP($A368,Liste!$A$10:$W$459,18,FALSE),\"\")","v":{"$error":"#N/A"}},0,{"$f":"IF($A368<>0,VLOOKUP($A368,Liste!$A$10:$W$459,19,FALSE),\"\")","v":{"$error":"#N/A"}},null,null,null,"Départ à","après vote de la Résolution N°"]
[{"$f":"IF($A368<>0,\"Lot \" & VLOOKUP($A368,Liste!$A$10:$W$459,21,FALSE),\"\")","v":{"$error":"#N/A"}},{"$f":"IF($A368<>0,VLOOKUP($A368,Liste!$A$10:$W$459,22,FALSE),\"\")","v":{"$error":"#N/A"}},{"$f":"IF($A368<>0,VLOOKUP($A368,Liste!$A$10:$W$459,23,FALSE),\"\")","v":{"$error":"#N/A"}},null,null,null,{"$f":"IF(OR(B369=0,VLOOKUP(A368,Liste!$A$10:'Liste'!$Z$459,26)<>\"\"),\"\", \"Voir autorisation messages électroniques\")","v":{"$error":"#N/A"}}]
[{"$f":"A368+1","v":40},null,null,null,null,null,"Par correspondance reçu le "]
[{"$f":"IF($A377<>0,VLOOKUP($A377,Liste!$A$10:$W$459,3,FALSE),\"\")","v":{"$error":"#N/A"}},{"$f":"IF($A377<>0,VLOOKUP($A377,Liste!$A$10:$W$459,4,FALSE),\"\")","v":{"$error":"#N/A"}},null,null,{"$f":"IF($A377<>0,VLOOKUP($A377,Liste!$A$10:$W$459,8,FALSE),\"\")","v":{"$error":"#N/A"}},null,"Par visio, audio conférence,,,,"]
[{"$f":"IF($A377<>0,VLOOKUP($A377,Liste!$A$10:$W$459,5,FALSE),\"\")","v":{"$error":"#N/A"}},null,null,null,null,null,"Signature/ Mandataire :"]
[{"$f":"IF($A377<>0,VLOOKUP($A377,Liste!$A$10:$W$459,6,FALSE),\"\")","v":{"$error":"#N/A"}},{"$f":"IF($A377<>0,VLOOKUP($A377,Liste!$A$10:$W$459,7,FALSE),\"\")","v":{"$error":"#N/A"}}]
[{"$f":" IF($A377<>0, \"Lot \" & VLOOKUP($A377,Liste!$A$10:$W$459,9,FALSE),\"\")","v":{"$error":"#N/A"}},{"$f":"IF($A377<>0,VLOOKUP($A377,Liste!$A$10:$W$459,10,FALSE),\"\")","v":{"$error":"#N/A"}},{"$f":"IF($A377<>0,VLOOKUP($A377,Liste!$A$10:$W$459,11,FALSE),\"\")","v":{"$error":"#N/A"}}]
[{"$f":"IF($A377<>0,\"Lot \" & VLOOKUP($A377,Liste!$A$10:$W$459,12,FALSE),\"\")","v":{"$error":"#N/A"}},{"$f":"IF($A377<>0,VLOOKUP($A377,Liste!$A$10:$W$459,13,FALSE),\"\")","v":{"$error":"#N/A"}},{"$f":"IF($A377<>0,VLOOKUP($A377,Liste!$A$10:$W$459,14,FALSE),\"\")","v":{"$error":"#N/A"}}]
[{"$f":"IF($A377<>0,\"Lot \" & VLOOKUP($A377,Liste!$A$10:$W$459,15,FALSE),\"\")","v":{"$error":"#N/A"}},{"$f":"IF($A377<>0,VLOOKUP($A377,Liste!$A$10:$W$459,16,FALSE),\"\")","v":{"$error":"#N/A"}},{"$f":"IF($A377<>0,VLOOKUP($A377,Liste!$A$10:$W$459,17,FALSE),\"\")","v":{"$error":"#N/A"}},null,null,null,"Arrivé à","après vote de la Résolution N°"]
[{"$f":"IF($A377<>0,\"Lot \" & VLOOKUP($A377,Liste!$A$10:$W$459,18,FALSE),\"\")","v":{"$error":"#N/A"}},0,{"$f":"IF($A377<>0,VLOOKUP($A377,Liste!$A$10:$W$459,19,FALSE),\"\")","v":{"$error":"#N/A"}},null,null,null,"Départ à","après vote de la Résolution N°"]
[{"$f":"IF($A377<>0,\"Lot \" & VLOOKUP($A377,Liste!$A$10:$W$459,21,FALSE),\"\")","v":{"$error":"#N/A"}},{"$f":"IF($A377<>0,VLOOKUP($A377,Liste!$A$10:$W$459,22,FALSE),\"\")","v":{"$error":"#N/A"}},{"$f":"IF($A377<>0,VLOOKUP($A377,Liste!$A$10:$W$459,23,FALSE),\"\")","v":{"$error":"#N/A"}},null,null,null,{"$f":"IF(OR(B378=0,VLOOKUP(A377,Liste!$A$10:'Liste'!$Z$459,26)<>\"\"),\"\", \"Voir autorisation messages électroniques\")","v":{"$error":"#N/A"}}]
[]
[null,null,null,"A S S E M B L E E     G E N E R A L E",null,null,null,null,null,null,"Page",{"$f":"L310+1","v":6}]
[null,null,null,null,null,"du","2019-12-20"]
[null,null,null,"Résidence Le Paradis; Rue de l' espoir 75016 PARIS"]
[]
[{"$f":"A377+1","v":41},null,null,null,null,null,"Par correspondance reçu le "]
[{"$f":"IF($A391<>0,VLOOKUP($A391,Liste!$A$10:$W$459,3,FALSE),\"\")","v":{"$error":"#N/A"}},{"$f":"IF($A391<>0,VLOOKUP($A391,Liste!$A$10:$W$459,4,FALSE),\"\")","v":{"$error":"#N/A"}},null,null,{"$f":"IF($A391<>0,VLOOKUP($A391,Liste!$A$10:$W$459,8,FALSE),\"\")","v":{"$error":"#N/A"}},null,"Par visio, audio conférence,,,,"]
[{"$f":"IF($A391<>0,VLOOKUP($A391,Liste!$A$10:$W$459,5,FALSE),\"\")","v":{"$error":"#N/A"}},null,null,null,null,null,"Signature/ Mandataire :"]
[{"$f":"IF($A391<>0,VLOOKUP($A391,Liste!$A$10:$W$459,6,FALSE),\"\")","v":{"$error":"#N/A"}},{"$f":"IF($A391<>0,VLOOKUP($A391,Liste!$A$10:$W$459,7,FALSE),\"\")","v":{"$error":"#N/A"}}]
[{"$f":" IF($A391<>0, \"Lot \" & VLOOKUP($A391,Liste!$A$10:$W$459,9,FALSE),\"\")","v":{"$error":"#N/A"}},{"$f":"IF($A391<>0,VLOOKUP($A391,Liste!$A$10:$W$459,10,FALSE),\"\")","v":{"$error":"#N/A"}},{"$f":"IF($A391<>0,VLOOKUP($A391,Liste!$A$10:$W$459,11,FALSE),\"\")","v":{"$error":"#N/A"}}]
[{"$f":"IF($A391<>0,\"Lot \" & VLOOKUP($A391,Liste!$A$10:$W$459,12,FALSE),\"\")","v":{"$error":"#N/A"}},{"$f":"IF($A391<>0,VLOOKUP($A391,Liste!$A$10:$W$459,13,FALSE),\"\")","v":{"$error":"#N/A"}},{"$f":"IF($A391<>0,VLOOKUP($A391,Liste!$A$10:$W$459,14,FALSE),\"\")","v":{"$error":"#N/A"}}]
[{"$f":"IF($A391<>0,\"Lot \" & VLOOKUP($A391,Liste!$A$10:$W$459,15,FALSE),\"\")","v":{"$error":"#N/A"}},{"$f":"IF($A391<>0,VLOOKUP($A391,Liste!$A$10:$W$459,16,FALSE),\"\")","v":{"$error":"#N/A"}},{"$f":"IF($A391<>0,VLOOKUP($A391,Liste!$A$10:$W$459,17,FALSE),\"\")","v":{"$error":"#N/A"}},null,null,null,"Arrivé à","après vote de la Résolution N°"]
[{"$f":"IF($A391<>0,\"Lot \" & VLOOKUP($A391,Liste!$A$10:$W$459,18,FALSE),\"\")","v":{"$error":"#N/A"}},0,{"$f":"IF($A391<>0,VLOOKUP($A391,Liste!$A$10:$W$459,19,FALSE),\"\")","v":{"$error":"#N/A"}},null,null,null,"Départ à","après vote de la Résolution N°"]
[{"$f":"IF($A391<>0,\"Lot \" & VLOOKUP($A391,Liste!$A$10:$W$459,21,FALSE),\"\")","v":{"$error":"#N/A"}},{"$f":"IF($A391<>0,VLOOKUP($A391,Liste!$A$10:$W$459,22,FALSE),\"\")","v":{"$error":"#N/A"}},{"$f":"IF($A391<>0,VLOOKUP($A391,Liste!$A$10:$W$459,23,FALSE),\"\")","v":{"$error":"#N/A"}},null,null,null,{"$f":"IF(OR(B392=0,VLOOKUP(A391,Liste!$A$10:'Liste'!$Z$459,26)<>\"\"),\"\", \"Voir autorisation messages électroniques\")","v":{"$error":"#N/A"}}]
[{"$f":"A391+1","v":42},null,null,null,null,null,"Par correspondance reçu le "]
[{"$f":"IF($A400<>0,VLOOKUP($A400,Liste!$A$10:$W$459,3,FALSE),\"\")","v":{"$error":"#N/A"}},{"$f":"IF($A400<>0,VLOOKUP($A400,Liste!$A$10:$W$459,4,FALSE),\"\")","v":{"$error":"#N/A"}},null,null,{"$f":"IF($A400<>0,VLOOKUP($A400,Liste!$A$10:$W$459,8,FALSE),\"\")","v":{"$error":"#N/A"}},null,"Par visio, audio conférence,,,,"]
[{"$f":"IF($A400<>0,VLOOKUP($A400,Liste!$A$10:$W$459,5,FALSE),\"\")","v":{"$error":"#N/A"}},null,null,null,null,null,"Signature/ Mandataire :"]
[{"$f":"IF($A400<>0,VLOOKUP($A400,Liste!$A$10:$W$459,6,FALSE),\"\")","v":{"$error":"#N/A"}},{"$f":"IF($A400<>0,VLOOKUP($A400,Liste!$A$10:$W$459,7,FALSE),\"\")","v":{"$error":"#N/A"}}]
[{"$f":" IF($A400<>0, \"Lot \" & VLOOKUP($A400,Liste!$A$10:$W$459,9,FALSE),\"\")","v":{"$error":"#N/A"}},{"$f":"IF($A400<>0,VLOOKUP($A400,Liste!$A$10:$W$459,10,FALSE),\"\")","v":{"$error":"#N/A"}},{"$f":"IF($A400<>0,VLOOKUP($A400,Liste!$A$10:$W$459,11,FALSE),\"\")","v":{"$error":"#N/A"}}]
[{"$f":"IF($A400<>0,\"Lot \" & VLOOKUP($A400,Liste!$A$10:$W$459,12,FALSE),\"\")","v":{"$error":"#N/A"}},{"$f":"IF($A400<>0,VLOOKUP($A400,Liste!$A$10:$W$459,13,FALSE),\"\")","v":{"$error":"#N/A"}},{"$f":"IF($A400<>0,VLOOKUP($A400,Liste!$A$10:$W$459,14,FALSE),\"\")","v":{"$error":"#N/A"}}]
[{"$f":"IF($A400<>0,\"Lot \" & VLOOKUP($A400,Liste!$A$10:$W$459,15,FALSE),\"\")","v":{"$error":"#N/A"}},{"$f":"IF($A400<>0,VLOOKUP($A400,Liste!$A$10:$W$459,16,FALSE),\"\")","v":{"$error":"#N/A"}},{"$f":"IF($A400<>0,VLOOKUP($A400,Liste!$A$10:$W$459,17,FALSE),\"\")","v":{"$error":"#N/A"}},null,null,null,"Arrivé à","après vote de la Résolution N°"]
[{"$f":"IF($A400<>0,\"Lot \" & VLOOKUP($A400,Liste!$A$10:$W$459,18,FALSE),\"\")","v":{"$error":"#N/A"}},0,{"$f":"IF($A400<>0,VLOOKUP($A400,Liste!$A$10:$W$459,19,FALSE),\"\")","v":{"$error":"#N/A"}},null,null,null,"Départ à","après vote de la Résolution N°"]
[{"$f":"IF($A400<>0,\"Lot \" & VLOOKUP($A400,Liste!$A$10:$W$459,21,FALSE),\"\")","v":{"$error":"#N/A"}},{"$f":"IF($A400<>0,VLOOKUP($A400,Liste!$A$10:$W$459,22,FALSE),\"\")","v":{"$error":"#N/A"}},{"$f":"IF($A400<>0,VLOOKUP($A400,Liste!$A$10:$W$459,23,FALSE),\"\")","v":{"$error":"#N/A"}},null,null,null,{"$f":"IF(OR(B401=0,VLOOKUP(A400,Liste!$A$10:'Liste'!$Z$459,26)<>\"\"),\"\", \"Voir autorisation messages électroniques\")","v":{"$error":"#N/A"}}]
[{"$f":"A400+1","v":43},null,null,null,null,null,"Par correspondance reçu le "]
[{"$f":"IF($A409<>0,VLOOKUP($A409,Liste!$A$10:$W$459,3,FALSE),\"\")","v":{"$error":"#N/A"}},{"$f":"IF($A409<>0,VLOOKUP($A409,Liste!$A$10:$W$459,4,FALSE),\"\")","v":{"$error":"#N/A"}},null,null,{"$f":"IF($A409<>0,VLOOKUP($A409,Liste!$A$10:$W$459,8,FALSE),\"\")","v":{"$error":"#N/A"}},null,"Par visio, audio conférence,,,,"]
[{"$f":"IF($A409<>0,VLOOKUP($A409,Liste!$A$10:$W$459,5,FALSE),\"\")","v":{"$error":"#N/A"}},null,null,null,null,null,"Signature/ Mandataire :"]
[{"$f":"IF($A409<>0,VLOOKUP($A409,Liste!$A$10:$W$459,6,FALSE),\"\")","v":{"$error":"#N/A"}},{"$f":"IF($A409<>0,VLOOKUP($A409,Liste!$A$10:$W$459,7,FALSE),\"\")","v":{"$error":"#N/A"}}]
[{"$f":" IF($A409<>0, \"Lot \" & VLOOKUP($A409,Liste!$A$10:$W$459,9,FALSE),\"\")","v":{"$error":"#N/A"}},{"$f":"IF($A409<>0,VLOOKUP($A409,Liste!$A$10:$W$459,10,FALSE),\"\")","v":{"$error":"#N/A"}},{"$f":"IF($A409<>0,VLOOKUP($A409,Liste!$A$10:$W$459,11,FALSE),\"\")","v":{"$error":"#N/A"}}]
[{"$f":"IF($A409<>0,\"Lot \" & VLOOKUP($A409,Liste!$A$10:$W$459,12,FALSE),\"\")","v":{"$error":"#N/A"}},{"$f":"IF($A409<>0,VLOOKUP($A409,Liste!$A$10:$W$459,13,FALSE),\"\")","v":{"$error":"#N/A"}},{"$f":"IF($A409<>0,VLOOKUP($A409,Liste!$A$10:$W$459,14,FALSE),\"\")","v":{"$error":"#N/A"}}]
[{"$f":"IF($A409<>0,\"Lot \" & VLOOKUP($A409,Liste!$A$10:$W$459,15,FALSE),\"\")","v":{"$error":"#N/A"}},{"$f":"IF($A409<>0,VLOOKUP($A409,Liste!$A$10:$W$459,16,FALSE),\"\")","v":{"$error":"#N/A"}},{"$f":"IF($A409<>0,VLOOKUP($A409,Liste!$A$10:$W$459,17,FALSE),\"\")","v":{"$error":"#N/A"}},null,null,null,"Arrivé à","après vote de la Résolution N°"]
[{"$f":"IF($A409<>0,\"Lot \" & VLOOKUP($A409,Liste!$A$10:$W$459,18,FALSE),\"\")","v":{"$error":"#N/A"}},0,{"$f":"IF($A409<>0,VLOOKUP($A409,Liste!$A$10:$W$459,19,FALSE),\"\")","v":{"$error":"#N/A"}},null,null,null,"Départ à","après vote de la Résolution N°"]
[{"$f":"IF($A409<>0,\"Lot \" & VLOOKUP($A409,Liste!$A$10:$W$459,21,FALSE),\"\")","v":{"$error":"#N/A"}},{"$f":"IF($A409<>0,VLOOKUP($A409,Liste!$A$10:$W$459,22,FALSE),\"\")","v":{"$error":"#N/A"}},{"$f":"IF($A409<>0,VLOOKUP($A409,Liste!$A$10:$W$459,23,FALSE),\"\")","v":{"$error":"#N/A"}},null,null,null,{"$f":"IF(OR(B410=0,VLOOKUP(A409,Liste!$A$10:'Liste'!$Z$459,26)<>\"\"),\"\", \"Voir autorisation messages électroniques\")","v":{"$error":"#N/A"}}]
[{"$f":"A409+1","v":44},null,null,null,null,null,"Par correspondance reçu le "]
[{"$f":"IF($A418<>0,VLOOKUP($A418,Liste!$A$10:$W$459,3,FALSE),\"\")","v":{"$error":"#N/A"}},{"$f":"IF($A418<>0,VLOOKUP($A418,Liste!$A$10:$W$459,4,FALSE),\"\")","v":{"$error":"#N/A"}},null,null,{"$f":"IF($A418<>0,VLOOKUP($A418,Liste!$A$10:$W$459,8,FALSE),\"\")","v":{"$error":"#N/A"}},null,"Par visio, audio conférence,,,,"]
[{"$f":"IF($A418<>0,VLOOKUP($A418,Liste!$A$10:$W$459,5,FALSE),\"\")","v":{"$error":"#N/A"}},null,null,null,null,null,"Signature/ Mandataire :"]
[{"$f":"IF($A418<>0,VLOOKUP($A418,Liste!$A$10:$W$459,6,FALSE),\"\")","v":{"$error":"#N/A"}},{"$f":"IF($A418<>0,VLOOKUP($A418,Liste!$A$10:$W$459,7,FALSE),\"\")","v":{"$error":"#N/A"}}]
[{"$f":" IF($A418<>0, \"Lot \" & VLOOKUP($A418,Liste!$A$10:$W$459,9,FALSE),\"\")","v":{"$error":"#N/A"}},{"$f":"IF($A418<>0,VLOOKUP($A418,Liste!$A$10:$W$459,10,FALSE),\"\")","v":{"$error":"#N/A"}},{"$f":"IF($A418<>0,VLOOKUP($A418,Liste!$A$10:$W$459,11,FALSE),\"\")","v":{"$error":"#N/A"}}]
[{"$f":"IF($A418<>0,\"Lot \" & VLOOKUP($A418,Liste!$A$10:$W$459,12,FALSE),\"\")","v":{"$error":"#N/A"}},{"$f":"IF($A418<>0,VLOOKUP($A418,Liste!$A$10:$W$459,13,FALSE),\"\")","v":{"$error":"#N/A"}},{"$f":"IF($A418<>0,VLOOKUP($A418,Liste!$A$10:$W$459,14,FALSE),\"\")","v":{"$error":"#N/A"}}]
[{"$f":"IF($A418<>0,\"Lot \" & VLOOKUP($A418,Liste!$A$10:$W$459,15,FALSE),\"\")","v":{"$error":"#N/A"}},{"$f":"IF($A418<>0,VLOOKUP($A418,Liste!$A$10:$W$459,16,FALSE),\"\")","v":{"$error":"#N/A"}},{"$f":"IF($A418<>0,VLOOKUP($A418,Liste!$A$10:$W$459,17,FALSE),\"\")","v":{"$error":"#N/A"}},null,null,null,"Arrivé à","après vote de la Résolution N°"]
[{"$f":"IF($A418<>0,\"Lot \" & VLOOKUP($A418,Liste!$A$10:$W$459,18,FALSE),\"\")","v":{"$error":"#N/A"}},0,{"$f":"IF($A418<>0,VLOOKUP($A418,Liste!$A$10:$W$459,19,FALSE),\"\")","v":{"$error":"#N/A"}},null,null,null,"Départ à","après vote de la Résolution N°"]
[{"$f":"IF($A418<>0,\"Lot \" & VLOOKUP($A418,Liste!$A$10:$W$459,21,FALSE),\"\")","v":{"$error":"#N/A"}},{"$f":"IF($A418<>0,VLOOKUP($A418,Liste!$A$10:$W$459,22,FALSE),\"\")","v":{"$error":"#N/A"}},{"$f":"IF($A418<>0,VLOOKUP($A418,Liste!$A$10:$W$459,23,FALSE),\"\")","v":{"$error":"#N/A"}},null,null,null,{"$f":"IF(OR(B419=0,VLOOKUP(A418,Liste!$A$10:'Liste'!$Z$459,26)<>\"\"),\"\", \"Voir autorisation messages électroniques\")","v":{"$error":"#N/A"}}]
[{"$f":"A418+1","v":45},null,null,null,null,null,"Par correspondance reçu le "]
[{"$f":"IF($A427<>0,VLOOKUP($A427,Liste!$A$10:$W$459,3,FALSE),\"\")","v":{"$error":"#N/A"}},{"$f":"IF($A427<>0,VLOOKUP($A427,Liste!$A$10:$W$459,4,FALSE),\"\")","v":{"$error":"#N/A"}},null,null,{"$f":"IF($A427<>0,VLOOKUP($A427,Liste!$A$10:$W$459,8,FALSE),\"\")","v":{"$error":"#N/A"}},null,"Par visio, audio conférence,,,,"]
[{"$f":"IF($A427<>0,VLOOKUP($A427,Liste!$A$10:$W$459,5,FALSE),\"\")","v":{"$error":"#N/A"}},null,null,null,null,null,"Signature/ Mandataire :"]
[{"$f":"IF($A427<>0,VLOOKUP($A427,Liste!$A$10:$W$459,6,FALSE),\"\")","v":{"$error":"#N/A"}},{"$f":"IF($A427<>0,VLOOKUP($A427,Liste!$A$10:$W$459,7,FALSE),\"\")","v":{"$error":"#N/A"}}]
[{"$f":" IF($A427<>0, \"Lot \" & VLOOKUP($A427,Liste!$A$10:$W$459,9,FALSE),\"\")","v":{"$error":"#N/A"}},{"$f":"IF($A427<>0,VLOOKUP($A427,Liste!$A$10:$W$459,10,FALSE),\"\")","v":{"$error":"#N/A"}},{"$f":"IF($A427<>0,VLOOKUP($A427,Liste!$A$10:$W$459,11,FALSE),\"\")","v":{"$error":"#N/A"}}]
[{"$f":"IF($A427<>0,\"Lot \" & VLOOKUP($A427,Liste!$A$10:$W$459,12,FALSE),\"\")","v":{"$error":"#N/A"}},{"$f":"IF($A427<>0,VLOOKUP($A427,Liste!$A$10:$W$459,13,FALSE),\"\")","v":{"$error":"#N/A"}},{"$f":"IF($A427<>0,VLOOKUP($A427,Liste!$A$10:$W$459,14,FALSE),\"\")","v":{"$error":"#N/A"}}]
[{"$f":"IF($A427<>0,\"Lot \" & VLOOKUP($A427,Liste!$A$10:$W$459,15,FALSE),\"\")","v":{"$error":"#N/A"}},{"$f":"IF($A427<>0,VLOOKUP($A427,Liste!$A$10:$W$459,16,FALSE),\"\")","v":{"$error":"#N/A"}},{"$f":"IF($A427<>0,VLOOKUP($A427,Liste!$A$10:$W$459,17,FALSE),\"\")","v":{"$error":"#N/A"}},null,null,null,"Arrivé à","après vote de la Résolution N°"]
[{"$f":"IF($A427<>0,\"Lot \" & VLOOKUP($A427,Liste!$A$10:$W$459,18,FALSE),\"\")","v":{"$error":"#N/A"}},0,{"$f":"IF($A427<>0,VLOOKUP($A427,Liste!$A$10:$W$459,19,FALSE),\"\")","v":{"$error":"#N/A"}},null,null,null,"Départ à","après vote de la Résolution N°"]
[{"$f":"IF($A427<>0,\"Lot \" & VLOOKUP($A427,Liste!$A$10:$W$459,21,FALSE),\"\")","v":{"$error":"#N/A"}},{"$f":"IF($A427<>0,VLOOKUP($A427,Liste!$A$10:$W$459,22,FALSE),\"\")","v":{"$error":"#N/A"}},{"$f":"IF($A427<>0,VLOOKUP($A427,Liste!$A$10:$W$459,23,FALSE),\"\")","v":{"$error":"#N/A"}},null,null,null,{"$f":"IF(OR(B428=0,VLOOKUP(A427,Liste!$A$10:'Liste'!$Z$459,26)<>\"\"),\"\", \"Voir autorisation messages électroniques\")","v":{"$error":"#N/A"}}]
[{"$f":"A427+1","v":46},null,null,null,null,null,"Par correspondance reçu le "]
[{"$f":"IF($A436<>0,VLOOKUP($A436,Liste!$A$10:$W$459,3,FALSE),\"\")","v":{"$error":"#N/A"}},{"$f":"IF($A436<>0,VLOOKUP($A436,Liste!$A$10:$W$459,4,FALSE),\"\")","v":{"$error":"#N/A"}},null,null,{"$f":"IF($A436<>0,VLOOKUP($A436,Liste!$A$10:$W$459,8,FALSE),\"\")","v":{"$error":"#N/A"}},null,"Par visio, audio conférence,,,,"]
[{"$f":"IF($A436<>0,VLOOKUP($A436,Liste!$A$10:$W$459,5,FALSE),\"\")","v":{"$error":"#N/A"}},null,null,null,null,null,"Signature/ Mandataire :"]
[{"$f":"IF($A436<>0,VLOOKUP($A436,Liste!$A$10:$W$459,6,FALSE),\"\")","v":{"$error":"#N/A"}},{"$f":"IF($A436<>0,VLOOKUP($A436,Liste!$A$10:$W$459,7,FALSE),\"\")","v":{"$error":"#N/A"}}]
[{"$f":" IF($A436<>0, \"Lot \" & VLOOKUP($A436,Liste!$A$10:$W$459,9,FALSE),\"\")","v":{"$error":"#N/A"}},{"$f":"IF($A436<>0,VLOOKUP($A436,Liste!$A$10:$W$459,10,FALSE),\"\")","v":{"$error":"#N/A"}},{"$f":"IF($A436<>0,VLOOKUP($A436,Liste!$A$10:$W$459,11,FALSE),\"\")","v":{"$error":"#N/A"}}]
[{"$f":"IF($A436<>0,\"Lot \" & VLOOKUP($A436,Liste!$A$10:$W$459,12,FALSE),\"\")","v":{"$error":"#N/A"}},{"$f":"IF($A436<>0,VLOOKUP($A436,Liste!$A$10:$W$459,13,FALSE),\"\")","v":{"$error":"#N/A"}},{"$f":"IF($A436<>0,VLOOKUP($A436,Liste!$A$10:$W$459,14,FALSE),\"\")","v":{"$error":"#N/A"}}]
[{"$f":"IF($A436<>0,\"Lot \" & VLOOKUP($A436,Liste!$A$10:$W$459,15,FALSE),\"\")","v":{"$error":"#N/A"}},{"$f":"IF($A436<>0,VLOOKUP($A436,Liste!$A$10:$W$459,16,FALSE),\"\")","v":{"$error":"#N/A"}},{"$f":"IF($A436<>0,VLOOKUP($A436,Liste!$A$10:$W$459,17,FALSE),\"\")","v":{"$error":"#N/A"}},null,null,null,"Arrivé à","après vote de la Résolution N°"]
[{"$f":"IF($A436<>0,\"Lot \" & VLOOKUP($A436,Liste!$A$10:$W$459,18,FALSE),\"\")","v":{"$error":"#N/A"}},0,{"$f":"IF($A436<>0,VLOOKUP($A436,Liste!$A$10:$W$459,19,FALSE),\"\")","v":{"$error":"#N/A"}},null,null,null,"Départ à","après vote de la Résolution N°"]
[{"$f":"IF($A436<>0,\"Lot \" & VLOOKUP($A436,Liste!$A$10:$W$459,21,FALSE),\"\")","v":{"$error":"#N/A"}},{"$f":"IF($A436<>0,VLOOKUP($A436,Liste!$A$10:$W$459,22,FALSE),\"\")","v":{"$error":"#N/A"}},{"$f":"IF($A436<>0,VLOOKUP($A436,Liste!$A$10:$W$459,23,FALSE),\"\")","v":{"$error":"#N/A"}},null,null,null,{"$f":"IF(OR(B437=0,VLOOKUP(A436,Liste!$A$10:'Liste'!$Z$459,26)<>\"\"),\"\", \"Voir autorisation messages électroniques\")","v":{"$error":"#N/A"}}]
[{"$f":"A436+1","v":47},null,null,null,null,null,"Par correspondance reçu le "]
[{"$f":"IF($A445<>0,VLOOKUP($A445,Liste!$A$10:$W$459,3,FALSE),\"\")","v":{"$error":"#N/A"}},{"$f":"IF($A445<>0,VLOOKUP($A445,Liste!$A$10:$W$459,4,FALSE),\"\")","v":{"$error":"#N/A"}},null,null,{"$f":"IF($A445<>0,VLOOKUP($A445,Liste!$A$10:$W$459,8,FALSE),\"\")","v":{"$error":"#N/A"}},null,"Par visio, audio conférence,,,,"]
[{"$f":"IF($A445<>0,VLOOKUP($A445,Liste!$A$10:$W$459,5,FALSE),\"\")","v":{"$error":"#N/A"}},null,null,null,null,null,"Signature/ Mandataire :"]
[{"$f":"IF($A445<>0,VLOOKUP($A445,Liste!$A$10:$W$459,6,FALSE),\"\")","v":{"$error":"#N/A"}},{"$f":"IF($A445<>0,VLOOKUP($A445,Liste!$A$10:$W$459,7,FALSE),\"\")","v":{"$error":"#N/A"}}]
[{"$f":" IF($A445<>0, \"Lot \" & VLOOKUP($A445,Liste!$A$10:$W$459,9,FALSE),\"\")","v":{"$error":"#N/A"}},{"$f":"IF($A445<>0,VLOOKUP($A445,Liste!$A$10:$W$459,10,FALSE),\"\")","v":{"$error":"#N/A"}},{"$f":"IF($A445<>0,VLOOKUP($A445,Liste!$A$10:$W$459,11,FALSE),\"\")","v":{"$error":"#N/A"}}]
[{"$f":"IF($A445<>0,\"Lot \" & VLOOKUP($A445,Liste!$A$10:$W$459,12,FALSE),\"\")","v":{"$error":"#N/A"}},{"$f":"IF($A445<>0,VLOOKUP($A445,Liste!$A$10:$W$459,13,FALSE),\"\")","v":{"$error":"#N/A"}},{"$f":"IF($A445<>0,VLOOKUP($A445,Liste!$A$10:$W$459,14,FALSE),\"\")","v":{"$error":"#N/A"}}]
[{"$f":"IF($A445<>0,\"Lot \" & VLOOKUP($A445,Liste!$A$10:$W$459,15,FALSE),\"\")","v":{"$error":"#N/A"}},{"$f":"IF($A445<>0,VLOOKUP($A445,Liste!$A$10:$W$459,16,FALSE),\"\")","v":{"$error":"#N/A"}},{"$f":"IF($A445<>0,VLOOKUP($A445,Liste!$A$10:$W$459,17,FALSE),\"\")","v":{"$error":"#N/A"}},null,null,null,"Arrivé à","après vote de la Résolution N°"]
[{"$f":"IF($A445<>0,\"Lot \" & VLOOKUP($A445,Liste!$A$10:$W$459,18,FALSE),\"\")","v":{"$error":"#N/A"}},0,{"$f":"IF($A445<>0,VLOOKUP($A445,Liste!$A$10:$W$459,19,FALSE),\"\")","v":{"$error":"#N/A"}},null,null,null,"Départ à","après vote de la Résolution N°"]
[{"$f":"IF($A445<>0,\"Lot \" & VLOOKUP($A445,Liste!$A$10:$W$459,21,FALSE),\"\")","v":{"$error":"#N/A"}},{"$f":"IF($A445<>0,VLOOKUP($A445,Liste!$A$10:$W$459,22,FALSE),\"\")","v":{"$error":"#N/A"}},{"$f":"IF($A445<>0,VLOOKUP($A445,Liste!$A$10:$W$459,23,FALSE),\"\")","v":{"$error":"#N/A"}},null,null,null,{"$f":"IF(OR(B446=0,VLOOKUP(A445,Liste!$A$10:'Liste'!$Z$459,26)<>\"\"),\"\", \"Voir autorisation messages électroniques\")","v":{"$error":"#N/A"}}]
[{"$f":"A445+1","v":48},null,null,null,null,null,"Par correspondance reçu le "]
[{"$f":"IF($A454<>0,VLOOKUP($A454,Liste!$A$10:$W$459,3,FALSE),\"\")","v":{"$error":"#N/A"}},{"$f":"IF($A454<>0,VLOOKUP($A454,Liste!$A$10:$W$459,4,FALSE),\"\")","v":{"$error":"#N/A"}},null,null,{"$f":"IF($A454<>0,VLOOKUP($A454,Liste!$A$10:$W$459,8,FALSE),\"\")","v":{"$error":"#N/A"}},null,"Par visio, audio conférence,,,,"]
[{"$f":"IF($A454<>0,VLOOKUP($A454,Liste!$A$10:$W$459,5,FALSE),\"\")","v":{"$error":"#N/A"}},null,null,null,null,null,"Signature/ Mandataire :"]
[{"$f":"IF($A454<>0,VLOOKUP($A454,Liste!$A$10:$W$459,6,FALSE),\"\")","v":{"$error":"#N/A"}},{"$f":"IF($A454<>0,VLOOKUP($A454,Liste!$A$10:$W$459,7,FALSE),\"\")","v":{"$error":"#N/A"}}]
[{"$f":" IF($A454<>0, \"Lot \" & VLOOKUP($A454,Liste!$A$10:$W$459,9,FALSE),\"\")","v":{"$error":"#N/A"}},{"$f":"IF($A454<>0,VLOOKUP($A454,Liste!$A$10:$W$459,10,FALSE),\"\")","v":{"$error":"#N/A"}},{"$f":"IF($A454<>0,VLOOKUP($A454,Liste!$A$10:$W$459,11,FALSE),\"\")","v":{"$error":"#N/A"}}]
[{"$f":"IF($A454<>0,\"Lot \" & VLOOKUP($A454,Liste!$A$10:$W$459,12,FALSE),\"\")","v":{"$error":"#N/A"}},{"$f":"IF($A454<>0,VLOOKUP($A454,Liste!$A$10:$W$459,13,FALSE),\"\")","v":{"$error":"#N/A"}},{"$f":"IF($A454<>0,VLOOKUP($A454,Liste!$A$10:$W$459,14,FALSE),\"\")","v":{"$error":"#N/A"}}]
[{"$f":"IF($A454<>0,\"Lot \" & VLOOKUP($A454,Liste!$A$10:$W$459,15,FALSE),\"\")","v":{"$error":"#N/A"}},{"$f":"IF($A454<>0,VLOOKUP($A454,Liste!$A$10:$W$459,16,FALSE),\"\")","v":{"$error":"#N/A"}},{"$f":"IF($A454<>0,VLOOKUP($A454,Liste!$A$10:$W$459,17,FALSE),\"\")","v":{"$error":"#N/A"}},null,null,null,"Arrivé à","après vote de la Résolution N°"]
[{"$f":"IF($A454<>0,\"Lot \" & VLOOKUP($A454,Liste!$A$10:$W$459,18,FALSE),\"\")","v":{"$error":"#N/A"}},0,{"$f":"IF($A454<>0,VLOOKUP($A454,Liste!$A$10:$W$459,19,FALSE),\"\")","v":{"$error":"#N/A"}},null,null,null,"Départ à","après vote de la Résolution N°"]
[{"$f":"IF($A454<>0,\"Lot \" & VLOOKUP($A454,Liste!$A$10:$W$459,21,FALSE),\"\")","v":{"$error":"#N/A"}},{"$f":"IF($A454<>0,VLOOKUP($A454,Liste!$A$10:$W$459,22,FALSE),\"\")","v":{"$error":"#N/A"}},{"$f":"IF($A454<>0,VLOOKUP($A454,Liste!$A$10:$W$459,23,FALSE),\"\")","v":{"$error":"#N/A"}},null,null,null,{"$f":"IF(OR(B455=0,VLOOKUP(A454,Liste!$A$10:'Liste'!$Z$459,26)<>\"\"),\"\", \"Voir autorisation messages électroniques\")","v":{"$error":"#N/A"}}]
[]
[null,null,null,"A S S E M B L E E     G E N E R A L E",null,null,null,null,null,null,"Page",{"$f":"L387+1","v":7}]
[null,null,null,null,null,"du","2019-12-20"]
[null,null,null,"Résidence Le Paradis; Rue de l' espoir 75016 PARIS"]
[]
[{"$f":"A454+1","v":49},null,null,null,null,null,"Par correspondance reçu le "]
[{"$f":"IF($A468<>0,VLOOKUP($A468,Liste!$A$10:$W$459,3,FALSE),\"\")","v":{"$error":"#N/A"}},{"$f":"IF($A468<>0,VLOOKUP($A468,Liste!$A$10:$W$459,4,FALSE),\"\")","v":{"$error":"#N/A"}},null,null,{"$f":"IF($A468<>0,VLOOKUP($A468,Liste!$A$10:$W$459,8,FALSE),\"\")","v":{"$error":"#N/A"}},null,"Par visio, audio conférence,,,,"]
[{"$f":"IF($A468<>0,VLOOKUP($A468,Liste!$A$10:$W$459,5,FALSE),\"\")","v":{"$error":"#N/A"}},null,null,null,null,null,"Signature/ Mandataire :"]
[{"$f":"IF($A468<>0,VLOOKUP($A468,Liste!$A$10:$W$459,6,FALSE),\"\")","v":{"$error":"#N/A"}},{"$f":"IF($A468<>0,VLOOKUP($A468,Liste!$A$10:$W$459,7,FALSE),\"\")","v":{"$error":"#N/A"}}]
[{"$f":" IF($A468<>0, \"Lot \" & VLOOKUP($A468,Liste!$A$10:$W$459,9,FALSE),\"\")","v":{"$error":"#N/A"}},{"$f":"IF($A468<>0,VLOOKUP($A468,Liste!$A$10:$W$459,10,FALSE),\"\")","v":{"$error":"#N/A"}},{"$f":"IF($A468<>0,VLOOKUP($A468,Liste!$A$10:$W$459,11,FALSE),\"\")","v":{"$error":"#N/A"}}]
[{"$f":"IF($A468<>0,\"Lot \" & VLOOKUP($A468,Liste!$A$10:$W$459,12,FALSE),\"\")","v":{"$error":"#N/A"}},{"$f":"IF($A468<>0,VLOOKUP($A468,Liste!$A$10:$W$459,13,FALSE),\"\")","v":{"$error":"#N/A"}},{"$f":"IF($A468<>0,VLOOKUP($A468,Liste!$A$10:$W$459,14,FALSE),\"\")","v":{"$error":"#N/A"}}]
[{"$f":"IF($A468<>0,\"Lot \" & VLOOKUP($A468,Liste!$A$10:$W$459,15,FALSE),\"\")","v":{"$error":"#N/A"}},{"$f":"IF($A468<>0,VLOOKUP($A468,Liste!$A$10:$W$459,16,FALSE),\"\")","v":{"$error":"#N/A"}},{"$f":"IF($A468<>0,VLOOKUP($A468,Liste!$A$10:$W$459,17,FALSE),\"\")","v":{"$error":"#N/A"}},null,null,null,"Arrivé à","après vote de la Résolution N°"]
[{"$f":"IF($A468<>0,\"Lot \" & VLOOKUP($A468,Liste!$A$10:$W$459,18,FALSE),\"\")","v":{"$error":"#N/A"}},0,{"$f":"IF($A468<>0,VLOOKUP($A468,Liste!$A$10:$W$459,19,FALSE),\"\")","v":{"$error":"#N/A"}},null,null,null,"Départ à","après vote de la Résolution N°"]
[{"$f":"IF($A468<>0,\"Lot \" & VLOOKUP($A468,Liste!$A$10:$W$459,21,FALSE),\"\")","v":{"$error":"#N/A"}},{"$f":"IF($A468<>0,VLOOKUP($A468,Liste!$A$10:$W$459,22,FALSE),\"\")","v":{"$error":"#N/A"}},{"$f":"IF($A468<>0,VLOOKUP($A468,Liste!$A$10:$W$459,23,FALSE),\"\")","v":{"$error":"#N/A"}},null,null,null,{"$f":"IF(OR(B469=0,VLOOKUP(A468,Liste!$A$10:'Liste'!$Z$459,26)<>\"\"),\"\", \"Voir autorisation messages électroniques\")","v":{"$error":"#N/A"}}]
[{"$f":"A468+1","v":50},null,null,null,null,null,"Par correspondance reçu le "]
[{"$f":"IF($A477<>0,VLOOKUP($A477,Liste!$A$10:$W$459,3,FALSE),\"\")","v":{"$error":"#N/A"}},{"$f":"IF($A477<>0,VLOOKUP($A477,Liste!$A$10:$W$459,4,FALSE),\"\")","v":{"$error":"#N/A"}},null,null,{"$f":"IF($A477<>0,VLOOKUP($A477,Liste!$A$10:$W$459,8,FALSE),\"\")","v":{"$error":"#N/A"}},null,"Par visio, audio conférence,,,,"]
[{"$f":"IF($A477<>0,VLOOKUP($A477,Liste!$A$10:$W$459,5,FALSE),\"\")","v":{"$error":"#N/A"}},null,null,null,null,null,"Signature/ Mandataire :"]
[{"$f":"IF($A477<>0,VLOOKUP($A477,Liste!$A$10:$W$459,6,FALSE),\"\")","v":{"$error":"#N/A"}},{"$f":"IF($A477<>0,VLOOKUP($A477,Liste!$A$10:$W$459,7,FALSE),\"\")","v":{"$error":"#N/A"}}]
[{"$f":" IF($A477<>0, \"Lot \" & VLOOKUP($A477,Liste!$A$10:$W$459,9,FALSE),\"\")","v":{"$error":"#N/A"}},{"$f":"IF($A477<>0,VLOOKUP($A477,Liste!$A$10:$W$459,10,FALSE),\"\")","v":{"$error":"#N/A"}},{"$f":"IF($A477<>0,VLOOKUP($A477,Liste!$A$10:$W$459,11,FALSE),\"\")","v":{"$error":"#N/A"}}]
[{"$f":"IF($A477<>0,\"Lot \" & VLOOKUP($A477,Liste!$A$10:$W$459,12,FALSE),\"\")","v":{"$error":"#N/A"}},{"$f":"IF($A477<>0,VLOOKUP($A477,Liste!$A$10:$W$459,13,FALSE),\"\")","v":{"$error":"#N/A"}},{"$f":"IF($A477<>0,VLOOKUP($A477,Liste!$A$10:$W$459,14,FALSE),\"\")","v":{"$error":"#N/A"}}]
[{"$f":"IF($A477<>0,\"Lot \" & VLOOKUP($A477,Liste!$A$10:$W$459,15,FALSE),\"\")","v":{"$error":"#N/A"}},{"$f":"IF($A477<>0,VLOOKUP($A477,Liste!$A$10:$W$459,16,FALSE),\"\")","v":{"$error":"#N/A"}},{"$f":"IF($A477<>0,VLOOKUP($A477,Liste!$A$10:$W$459,17,FALSE),\"\")","v":{"$error":"#N/A"}},null,null,null,"Arrivé à","après vote de la Résolution N°"]
[{"$f":"IF($A477<>0,\"Lot \" & VLOOKUP($A477,Liste!$A$10:$W$459,18,FALSE),\"\")","v":{"$error":"#N/A"}},0,{"$f":"IF($A477<>0,VLOOKUP($A477,Liste!$A$10:$W$459,19,FALSE),\"\")","v":{"$error":"#N/A"}},null,null,null,"Départ à","après vote de la Résolution N°"]
[{"$f":"IF($A477<>0,\"Lot \" & VLOOKUP($A477,Liste!$A$10:$W$459,21,FALSE),\"\")","v":{"$error":"#N/A"}},{"$f":"IF($A477<>0,VLOOKUP($A477,Liste!$A$10:$W$459,22,FALSE),\"\")","v":{"$error":"#N/A"}},{"$f":"IF($A477<>0,VLOOKUP($A477,Liste!$A$10:$W$459,23,FALSE),\"\")","v":{"$error":"#N/A"}},null,null,null,{"$f":"IF(OR(B478=0,VLOOKUP(A477,Liste!$A$10:'Liste'!$Z$459,26)<>\"\"),\"\", \"Voir autorisation messages électroniques\")","v":{"$error":"#N/A"}}]
[{"$f":"A477+1","v":51},null,null,null,null,null,"Par correspondance reçu le "]
[{"$f":"IF($A486<>0,VLOOKUP($A486,Liste!$A$10:$W$459,3,FALSE),\"\")","v":{"$error":"#N/A"}},{"$f":"IF($A486<>0,VLOOKUP($A486,Liste!$A$10:$W$459,4,FALSE),\"\")","v":{"$error":"#N/A"}},null,null,{"$f":"IF($A486<>0,VLOOKUP($A486,Liste!$A$10:$W$459,8,FALSE),\"\")","v":{"$error":"#N/A"}},null,"Par visio, audio conférence,,,,"]
[{"$f":"IF($A486<>0,VLOOKUP($A486,Liste!$A$10:$W$459,5,FALSE),\"\")","v":{"$error":"#N/A"}},null,null,null,null,null,"Signature/ Mandataire :"]
[{"$f":"IF($A486<>0,VLOOKUP($A486,Liste!$A$10:$W$459,6,FALSE),\"\")","v":{"$error":"#N/A"}},{"$f":"IF($A486<>0,VLOOKUP($A486,Liste!$A$10:$W$459,7,FALSE),\"\")","v":{"$error":"#N/A"}}]
[{"$f":" IF($A486<>0, \"Lot \" & VLOOKUP($A486,Liste!$A$10:$W$459,9,FALSE),\"\")","v":{"$error":"#N/A"}},{"$f":"IF($A486<>0,VLOOKUP($A486,Liste!$A$10:$W$459,10,FALSE),\"\")","v":{"$error":"#N/A"}},{"$f":"IF($A486<>0,VLOOKUP($A486,Liste!$A$10:$W$459,11,FALSE),\"\")","v":{"$error":"#N/A"}}]
[{"$f":"IF($A486<>0,\"Lot \" & VLOOKUP($A486,Liste!$A$10:$W$459,12,FALSE),\"\")","v":{"$error":"#N/A"}},{"$f":"IF($A486<>0,VLOOKUP($A486,Liste!$A$10:$W$459,13,FALSE),\"\")","v":{"$error":"#N/A"}},{"$f":"IF($A486<>0,VLOOKUP($A486,Liste!$A$10:$W$459,14,FALSE),\"\")","v":{"$error":"#N/A"}}]
[{"$f":"IF($A486<>0,\"Lot \" & VLOOKUP($A486,Liste!$A$10:$W$459,15,FALSE),\"\")","v":{"$error":"#N/A"}},{"$f":"IF($A486<>0,VLOOKUP($A486,Liste!$A$10:$W$459,16,FALSE),\"\")","v":{"$error":"#N/A"}},{"$f":"IF($A486<>0,VLOOKUP($A486,Liste!$A$10:$W$459,17,FALSE),\"\")","v":{"$error":"#N/A"}},null,null,null,"Arrivé à","après vote de la Résolution N°"]
[{"$f":"IF($A486<>0,\"Lot \" & VLOOKUP($A486,Liste!$A$10:$W$459,18,FALSE),\"\")","v":{"$error":"#N/A"}},0,{"$f":"IF($A486<>0,VLOOKUP($A486,Liste!$A$10:$W$459,19,FALSE),\"\")","v":{"$error":"#N/A"}},null,null,null,"Départ à","après vote de la Résolution N°"]
[{"$f":"IF($A486<>0,\"Lot \" & VLOOKUP($A486,Liste!$A$10:$W$459,21,FALSE),\"\")","v":{"$error":"#N/A"}},{"$f":"IF($A486<>0,VLOOKUP($A486,Liste!$A$10:$W$459,22,FALSE),\"\")","v":{"$error":"#N/A"}},{"$f":"IF($A486<>0,VLOOKUP($A486,Liste!$A$10:$W$459,23,FALSE),\"\")","v":{"$error":"#N/A"}},null,null,null,{"$f":"IF(OR(B487=0,VLOOKUP(A486,Liste!$A$10:'Liste'!$Z$459,26)<>\"\"),\"\", \"Voir autorisation messages électroniques\")","v":{"$error":"#N/A"}}]
[{"$f":"A486+1","v":52},null,null,null,null,null,"Par correspondance reçu le "]
[{"$f":"IF($A495<>0,VLOOKUP($A495,Liste!$A$10:$W$459,3,FALSE),\"\")","v":{"$error":"#N/A"}},{"$f":"IF($A495<>0,VLOOKUP($A495,Liste!$A$10:$W$459,4,FALSE),\"\")","v":{"$error":"#N/A"}},null,null,{"$f":"IF($A495<>0,VLOOKUP($A495,Liste!$A$10:$W$459,8,FALSE),\"\")","v":{"$error":"#N/A"}},null,"Par visio, audio conférence,,,,"]
[{"$f":"IF($A495<>0,VLOOKUP($A495,Liste!$A$10:$W$459,5,FALSE),\"\")","v":{"$error":"#N/A"}},null,null,null,null,null,"Signature/ Mandataire :"]
[{"$f":"IF($A495<>0,VLOOKUP($A495,Liste!$A$10:$W$459,6,FALSE),\"\")","v":{"$error":"#N/A"}},{"$f":"IF($A495<>0,VLOOKUP($A495,Liste!$A$10:$W$459,7,FALSE),\"\")","v":{"$error":"#N/A"}}]
[{"$f":" IF($A495<>0, \"Lot \" & VLOOKUP($A495,Liste!$A$10:$W$459,9,FALSE),\"\")","v":{"$error":"#N/A"}},{"$f":"IF($A495<>0,VLOOKUP($A495,Liste!$A$10:$W$459,10,FALSE),\"\")","v":{"$error":"#N/A"}},{"$f":"IF($A495<>0,VLOOKUP($A495,Liste!$A$10:$W$459,11,FALSE),\"\")","v":{"$error":"#N/A"}}]
[{"$f":"IF($A495<>0,\"Lot \" & VLOOKUP($A495,Liste!$A$10:$W$459,12,FALSE),\"\")","v":{"$error":"#N/A"}},{"$f":"IF($A495<>0,VLOOKUP($A495,Liste!$A$10:$W$459,13,FALSE),\"\")","v":{"$error":"#N/A"}},{"$f":"IF($A495<>0,VLOOKUP($A495,Liste!$A$10:$W$459,14,FALSE),\"\")","v":{"$error":"#N/A"}}]
[{"$f":"IF($A495<>0,\"Lot \" & VLOOKUP($A495,Liste!$A$10:$W$459,15,FALSE),\"\")","v":{"$error":"#N/A"}},{"$f":"IF($A495<>0,VLOOKUP($A495,Liste!$A$10:$W$459,16,FALSE),\"\")","v":{"$error":"#N/A"}},{"$f":"IF($A495<>0,VLOOKUP($A495,Liste!$A$10:$W$459,17,FALSE),\"\")","v":{"$error":"#N/A"}},null,null,null,"Arrivé à","après vote de la Résolution N°"]
[{"$f":"IF($A495<>0,\"Lot \" & VLOOKUP($A495,Liste!$A$10:$W$459,18,FALSE),\"\")","v":{"$error":"#N/A"}},0,{"$f":"IF($A495<>0,VLOOKUP($A495,Liste!$A$10:$W$459,19,FALSE),\"\")","v":{"$error":"#N/A"}},null,null,null,"Départ à","après vote de la Résolution N°"]
[{"$f":"IF($A495<>0,\"Lot \" & VLOOKUP($A495,Liste!$A$10:$W$459,21,FALSE),\"\")","v":{"$error":"#N/A"}},{"$f":"IF($A495<>0,VLOOKUP($A495,Liste!$A$10:$W$459,22,FALSE),\"\")","v":{"$error":"#N/A"}},{"$f":"IF($A495<>0,VLOOKUP($A495,Liste!$A$10:$W$459,23,FALSE),\"\")","v":{"$error":"#N/A"}},null,null,null,{"$f":"IF(OR(B496=0,VLOOKUP(A495,Liste!$A$10:'Liste'!$Z$459,26)<>\"\"),\"\", \"Voir autorisation messages électroniques\")","v":{"$error":"#N/A"}}]
[{"$f":"A495+1","v":53},null,null,null,null,null,"Par correspondance reçu le "]
[{"$f":"IF($A504<>0,VLOOKUP($A504,Liste!$A$10:$W$459,3,FALSE),\"\")","v":{"$error":"#N/A"}},{"$f":"IF($A504<>0,VLOOKUP($A504,Liste!$A$10:$W$459,4,FALSE),\"\")","v":{"$error":"#N/A"}},null,null,{"$f":"IF($A504<>0,VLOOKUP($A504,Liste!$A$10:$W$459,8,FALSE),\"\")","v":{"$error":"#N/A"}},null,"Par visio, audio conférence,,,,"]
[{"$f":"IF($A504<>0,VLOOKUP($A504,Liste!$A$10:$W$459,5,FALSE),\"\")","v":{"$error":"#N/A"}},null,null,null,null,null,"Signature/ Mandataire :"]
[{"$f":"IF($A504<>0,VLOOKUP($A504,Liste!$A$10:$W$459,6,FALSE),\"\")","v":{"$error":"#N/A"}},{"$f":"IF($A504<>0,VLOOKUP($A504,Liste!$A$10:$W$459,7,FALSE),\"\")","v":{"$error":"#N/A"}}]
[{"$f":" IF($A504<>0, \"Lot \" & VLOOKUP($A504,Liste!$A$10:$W$459,9,FALSE),\"\")","v":{"$error":"#N/A"}},{"$f":"IF($A504<>0,VLOOKUP($A504,Liste!$A$10:$W$459,10,FALSE),\"\")","v":{"$error":"#N/A"}},{"$f":"IF($A504<>0,VLOOKUP($A504,Liste!$A$10:$W$459,11,FALSE),\"\")","v":{"$error":"#N/A"}}]
[{"$f":"IF($A504<>0,\"Lot \" & VLOOKUP($A504,Liste!$A$10:$W$459,12,FALSE),\"\")","v":{"$error":"#N/A"}},{"$f":"IF($A504<>0,VLOOKUP($A504,Liste!$A$10:$W$459,13,FALSE),\"\")","v":{"$error":"#N/A"}},{"$f":"IF($A504<>0,VLOOKUP($A504,Liste!$A$10:$W$459,14,FALSE),\"\")","v":{"$error":"#N/A"}}]
[{"$f":"IF($A504<>0,\"Lot \" & VLOOKUP($A504,Liste!$A$10:$W$459,15,FALSE),\"\")","v":{"$error":"#N/A"}},{"$f":"IF($A504<>0,VLOOKUP($A504,Liste!$A$10:$W$459,16,FALSE),\"\")","v":{"$error":"#N/A"}},{"$f":"IF($A504<>0,VLOOKUP($A504,Liste!$A$10:$W$459,17,FALSE),\"\")","v":{"$error":"#N/A"}},null,null,null,"Arrivé à","après vote de la Résolution N°"]
[{"$f":"IF($A504<>0,\"Lot \" & VLOOKUP($A504,Liste!$A$10:$W$459,18,FALSE),\"\")","v":{"$error":"#N/A"}},0,{"$f":"IF($A504<>0,VLOOKUP($A504,Liste!$A$10:$W$459,19,FALSE),\"\")","v":{"$error":"#N/A"}},null,null,null,"Départ à","après vote de la Résolution N°"]
[{"$f":"IF($A504<>0,\"Lot \" & VLOOKUP($A504,Liste!$A$10:$W$459,21,FALSE),\"\")","v":{"$error":"#N/A"}},{"$f":"IF($A504<>0,VLOOKUP($A504,Liste!$A$10:$W$459,22,FALSE),\"\")","v":{"$error":"#N/A"}},{"$f":"IF($A504<>0,VLOOKUP($A504,Liste!$A$10:$W$459,23,FALSE),\"\")","v":{"$error":"#N/A"}},null,null,null,{"$f":"IF(OR(B505=0,VLOOKUP(A504,Liste!$A$10:'Liste'!$Z$459,26)<>\"\"),\"\", \"Voir autorisation messages électroniques\")","v":{"$error":"#N/A"}}]
[{"$f":"A504+1","v":54},null,null,null,null,null,"Par correspondance reçu le "]
[{"$f":"IF($A513<>0,VLOOKUP($A513,Liste!$A$10:$W$459,3,FALSE),\"\")","v":{"$error":"#N/A"}},{"$f":"IF($A513<>0,VLOOKUP($A513,Liste!$A$10:$W$459,4,FALSE),\"\")","v":{"$error":"#N/A"}},null,null,{"$f":"IF($A513<>0,VLOOKUP($A513,Liste!$A$10:$W$459,8,FALSE),\"\")","v":{"$error":"#N/A"}},null,"Par visio, audio conférence,,,,"]
[{"$f":"IF($A513<>0,VLOOKUP($A513,Liste!$A$10:$W$459,5,FALSE),\"\")","v":{"$error":"#N/A"}},null,null,null,null,null,"Signature/ Mandataire :"]
[{"$f":"IF($A513<>0,VLOOKUP($A513,Liste!$A$10:$W$459,6,FALSE),\"\")","v":{"$error":"#N/A"}},{"$f":"IF($A513<>0,VLOOKUP($A513,Liste!$A$10:$W$459,7,FALSE),\"\")","v":{"$error":"#N/A"}}]
[{"$f":" IF($A513<>0, \"Lot \" & VLOOKUP($A513,Liste!$A$10:$W$459,9,FALSE),\"\")","v":{"$error":"#N/A"}},{"$f":"IF($A513<>0,VLOOKUP($A513,Liste!$A$10:$W$459,10,FALSE),\"\")","v":{"$error":"#N/A"}},{"$f":"IF($A513<>0,VLOOKUP($A513,Liste!$A$10:$W$459,11,FALSE),\"\")","v":{"$error":"#N/A"}}]
[{"$f":"IF($A513<>0,\"Lot \" & VLOOKUP($A513,Liste!$A$10:$W$459,12,FALSE),\"\")","v":{"$error":"#N/A"}},{"$f":"IF($A513<>0,VLOOKUP($A513,Liste!$A$10:$W$459,13,FALSE),\"\")","v":{"$error":"#N/A"}},{"$f":"IF($A513<>0,VLOOKUP($A513,Liste!$A$10:$W$459,14,FALSE),\"\")","v":{"$error":"#N/A"}}]
[{"$f":"IF($A513<>0,\"Lot \" & VLOOKUP($A513,Liste!$A$10:$W$459,15,FALSE),\"\")","v":{"$error":"#N/A"}},{"$f":"IF($A513<>0,VLOOKUP($A513,Liste!$A$10:$W$459,16,FALSE),\"\")","v":{"$error":"#N/A"}},{"$f":"IF($A513<>0,VLOOKUP($A513,Liste!$A$10:$W$459,17,FALSE),\"\")","v":{"$error":"#N/A"}},null,null,null,"Arrivé à","après vote de la Résolution N°"]
[{"$f":"IF($A513<>0,\"Lot \" & VLOOKUP($A513,Liste!$A$10:$W$459,18,FALSE),\"\")","v":{"$error":"#N/A"}},0,{"$f":"IF($A513<>0,VLOOKUP($A513,Liste!$A$10:$W$459,19,FALSE),\"\")","v":{"$error":"#N/A"}},null,null,null,"Départ à","après vote de la Résolution N°"]
[{"$f":"IF($A513<>0,\"Lot \" & VLOOKUP($A513,Liste!$A$10:$W$459,21,FALSE),\"\")","v":{"$error":"#N/A"}},{"$f":"IF($A513<>0,VLOOKUP($A513,Liste!$A$10:$W$459,22,FALSE),\"\")","v":{"$error":"#N/A"}},{"$f":"IF($A513<>0,VLOOKUP($A513,Liste!$A$10:$W$459,23,FALSE),\"\")","v":{"$error":"#N/A"}},null,null,null,{"$f":"IF(OR(B514=0,VLOOKUP(A513,Liste!$A$10:'Liste'!$Z$459,26)<>\"\"),\"\", \"Voir autorisation messages électroniques\")","v":{"$error":"#N/A"}}]
[{"$f":"A513+1","v":55},null,null,null,null,null,"Par correspondance reçu le "]
[{"$f":"IF($A522<>0,VLOOKUP($A522,Liste!$A$10:$W$459,3,FALSE),\"\")","v":{"$error":"#N/A"}},{"$f":"IF($A522<>0,VLOOKUP($A522,Liste!$A$10:$W$459,4,FALSE),\"\")","v":{"$error":"#N/A"}},null,null,{"$f":"IF($A522<>0,VLOOKUP($A522,Liste!$A$10:$W$459,8,FALSE),\"\")","v":{"$error":"#N/A"}},null,"Par visio, audio conférence,,,,"]
[{"$f":"IF($A522<>0,VLOOKUP($A522,Liste!$A$10:$W$459,5,FALSE),\"\")","v":{"$error":"#N/A"}},null,null,null,null,null,"Signature/ Mandataire :"]
[{"$f":"IF($A522<>0,VLOOKUP($A522,Liste!$A$10:$W$459,6,FALSE),\"\")","v":{"$error":"#N/A"}},{"$f":"IF($A522<>0,VLOOKUP($A522,Liste!$A$10:$W$459,7,FALSE),\"\")","v":{"$error":"#N/A"}}]
[{"$f":" IF($A522<>0, \"Lot \" & VLOOKUP($A522,Liste!$A$10:$W$459,9,FALSE),\"\")","v":{"$error":"#N/A"}},{"$f":"IF($A522<>0,VLOOKUP($A522,Liste!$A$10:$W$459,10,FALSE),\"\")","v":{"$error":"#N/A"}},{"$f":"IF($A522<>0,VLOOKUP($A522,Liste!$A$10:$W$459,11,FALSE),\"\")","v":{"$error":"#N/A"}}]
[{"$f":"IF($A522<>0,\"Lot \" & VLOOKUP($A522,Liste!$A$10:$W$459,12,FALSE),\"\")","v":{"$error":"#N/A"}},{"$f":"IF($A522<>0,VLOOKUP($A522,Liste!$A$10:$W$459,13,FALSE),\"\")","v":{"$error":"#N/A"}},{"$f":"IF($A522<>0,VLOOKUP($A522,Liste!$A$10:$W$459,14,FALSE),\"\")","v":{"$error":"#N/A"}}]
[{"$f":"IF($A522<>0,\"Lot \" & VLOOKUP($A522,Liste!$A$10:$W$459,15,FALSE),\"\")","v":{"$error":"#N/A"}},{"$f":"IF($A522<>0,VLOOKUP($A522,Liste!$A$10:$W$459,16,FALSE),\"\")","v":{"$error":"#N/A"}},{"$f":"IF($A522<>0,VLOOKUP($A522,Liste!$A$10:$W$459,17,FALSE),\"\")","v":{"$error":"#N/A"}},null,null,null,"Arrivé à","après vote de la Résolution N°"]
[{"$f":"IF($A522<>0,\"Lot \" & VLOOKUP($A522,Liste!$A$10:$W$459,18,FALSE),\"\")","v":{"$error":"#N/A"}},0,{"$f":"IF($A522<>0,VLOOKUP($A522,Liste!$A$10:$W$459,19,FALSE),\"\")","v":{"$error":"#N/A"}},null,null,null,"Départ à","après vote de la Résolution N°"]
[{"$f":"IF($A522<>0,\"Lot \" & VLOOKUP($A522,Liste!$A$10:$W$459,21,FALSE),\"\")","v":{"$error":"#N/A"}},{"$f":"IF($A522<>0,VLOOKUP($A522,Liste!$A$10:$W$459,22,FALSE),\"\")","v":{"$error":"#N/A"}},{"$f":"IF($A522<>0,VLOOKUP($A522,Liste!$A$10:$W$459,23,FALSE),\"\")","v":{"$error":"#N/A"}},null,null,null,{"$f":"IF(OR(B523=0,VLOOKUP(A522,Liste!$A$10:'Liste'!$Z$459,26)<>\"\"),\"\", \"Voir autorisation messages électroniques\")","v":{"$error":"#N/A"}}]
[{"$f":"A522+1","v":56},null,null,null,null,null,"Par correspondance reçu le "]
[{"$f":"IF($A531<>0,VLOOKUP($A531,Liste!$A$10:$W$459,3,FALSE),\"\")","v":{"$error":"#N/A"}},{"$f":"IF($A531<>0,VLOOKUP($A531,Liste!$A$10:$W$459,4,FALSE),\"\")","v":{"$error":"#N/A"}},null,null,{"$f":"IF($A531<>0,VLOOKUP($A531,Liste!$A$10:$W$459,8,FALSE),\"\")","v":{"$error":"#N/A"}},null,"Par visio, audio conférence,,,,"]
[{"$f":"IF($A531<>0,VLOOKUP($A531,Liste!$A$10:$W$459,5,FALSE),\"\")","v":{"$error":"#N/A"}},null,null,null,null,null,"Signature/ Mandataire :"]
[{"$f":"IF($A531<>0,VLOOKUP($A531,Liste!$A$10:$W$459,6,FALSE),\"\")","v":{"$error":"#N/A"}},{"$f":"IF($A531<>0,VLOOKUP($A531,Liste!$A$10:$W$459,7,FALSE),\"\")","v":{"$error":"#N/A"}}]
[{"$f":" IF($A531<>0, \"Lot \" & VLOOKUP($A531,Liste!$A$10:$W$459,9,FALSE),\"\")","v":{"$error":"#N/A"}},{"$f":"IF($A531<>0,VLOOKUP($A531,Liste!$A$10:$W$459,10,FALSE),\"\")","v":{"$error":"#N/A"}},{"$f":"IF($A531<>0,VLOOKUP($A531,Liste!$A$10:$W$459,11,FALSE),\"\")","v":{"$error":"#N/A"}}]
[{"$f":"IF($A531<>0,\"Lot \" & VLOOKUP($A531,Liste!$A$10:$W$459,12,FALSE),\"\")","v":{"$error":"#N/A"}},{"$f":"IF($A531<>0,VLOOKUP($A531,Liste!$A$10:$W$459,13,FALSE),\"\")","v":{"$error":"#N/A"}},{"$f":"IF($A531<>0,VLOOKUP($A531,Liste!$A$10:$W$459,14,FALSE),\"\")","v":{"$error":"#N/A"}}]
[{"$f":"IF($A531<>0,\"Lot \" & VLOOKUP($A531,Liste!$A$10:$W$459,15,FALSE),\"\")","v":{"$error":"#N/A"}},{"$f":"IF($A531<>0,VLOOKUP($A531,Liste!$A$10:$W$459,16,FALSE),\"\")","v":{"$error":"#N/A"}},{"$f":"IF($A531<>0,VLOOKUP($A531,Liste!$A$10:$W$459,17,FALSE),\"\")","v":{"$error":"#N/A"}},null,null,null,"Arrivé à","après vote de la Résolution N°"]
[{"$f":"IF($A531<>0,\"Lot \" & VLOOKUP($A531,Liste!$A$10:$W$459,18,FALSE),\"\")","v":{"$error":"#N/A"}},0,{"$f":"IF($A531<>0,VLOOKUP($A531,Liste!$A$10:$W$459,19,FALSE),\"\")","v":{"$error":"#N/A"}},null,null,null,"Départ à","après vote de la Résolution N°"]
[{"$f":"IF($A531<>0,\"Lot \" & VLOOKUP($A531,Liste!$A$10:$W$459,21,FALSE),\"\")","v":{"$error":"#N/A"}},{"$f":"IF($A531<>0,VLOOKUP($A531,Liste!$A$10:$W$459,22,FALSE),\"\")","v":{"$error":"#N/A"}},{"$f":"IF($A531<>0,VLOOKUP($A531,Liste!$A$10:$W$459,23,FALSE),\"\")","v":{"$error":"#N/A"}},null,null,null,{"$f":"IF(OR(B532=0,VLOOKUP(A531,Liste!$A$10:'Liste'!$Z$459,26)<>\"\"),\"\", \"Voir autorisation messages électroniques\")","v":{"$error":"#N/A"}}]
[]
[null,null,null,"A S S E M B L E E     G E N E R A L E",null,null,null,null,null,null,"Page",{"$f":"L464+1","v":8}]
[null,null,null,null,null,"du","2019-12-20"]
[null,null,null,"Résidence Le Paradis; Rue de l' espoir 75016 PARIS"]
[]
[{"$f":"A531+1","v":57},null,null,null,null,null,"Par correspondance reçu le "]
[{"$f":"IF($A545<>0,VLOOKUP($A545,Liste!$A$10:$W$459,3,FALSE),\"\")","v":{"$error":"#N/A"}},{"$f":"IF($A545<>0,VLOOKUP($A545,Liste!$A$10:$W$459,4,FALSE),\"\")","v":{"$error":"#N/A"}},null,null,{"$f":"IF($A545<>0,VLOOKUP($A545,Liste!$A$10:$W$459,8,FALSE),\"\")","v":{"$error":"#N/A"}},null,"Par visio, audio conférence,,,,"]
[{"$f":"IF($A545<>0,VLOOKUP($A545,Liste!$A$10:$W$459,5,FALSE),\"\")","v":{"$error":"#N/A"}},null,null,null,null,null,"Signature/ Mandataire :"]
[{"$f":"IF($A545<>0,VLOOKUP($A545,Liste!$A$10:$W$459,6,FALSE),\"\")","v":{"$error":"#N/A"}},{"$f":"IF($A545<>0,VLOOKUP($A545,Liste!$A$10:$W$459,7,FALSE),\"\")","v":{"$error":"#N/A"}}]
[{"$f":" IF($A545<>0, \"Lot \" & VLOOKUP($A545,Liste!$A$10:$W$459,9,FALSE),\"\")","v":{"$error":"#N/A"}},{"$f":"IF($A545<>0,VLOOKUP($A545,Liste!$A$10:$W$459,10,FALSE),\"\")","v":{"$error":"#N/A"}},{"$f":"IF($A545<>0,VLOOKUP($A545,Liste!$A$10:$W$459,11,FALSE),\"\")","v":{"$error":"#N/A"}}]
[{"$f":"IF($A545<>0,\"Lot \" & VLOOKUP($A545,Liste!$A$10:$W$459,12,FALSE),\"\")","v":{"$error":"#N/A"}},{"$f":"IF($A545<>0,VLOOKUP($A545,Liste!$A$10:$W$459,13,FALSE),\"\")","v":{"$error":"#N/A"}},{"$f":"IF($A545<>0,VLOOKUP($A545,Liste!$A$10:$W$459,14,FALSE),\"\")","v":{"$error":"#N/A"}}]
[{"$f":"IF($A545<>0,\"Lot \" & VLOOKUP($A545,Liste!$A$10:$W$459,15,FALSE),\"\")","v":{"$error":"#N/A"}},{"$f":"IF($A545<>0,VLOOKUP($A545,Liste!$A$10:$W$459,16,FALSE),\"\")","v":{"$error":"#N/A"}},{"$f":"IF($A545<>0,VLOOKUP($A545,Liste!$A$10:$W$459,17,FALSE),\"\")","v":{"$error":"#N/A"}},null,null,null,"Arrivé à","après vote de la Résolution N°"]
[{"$f":"IF($A545<>0,\"Lot \" & VLOOKUP($A545,Liste!$A$10:$W$459,18,FALSE),\"\")","v":{"$error":"#N/A"}},0,{"$f":"IF($A545<>0,VLOOKUP($A545,Liste!$A$10:$W$459,19,FALSE),\"\")","v":{"$error":"#N/A"}},null,null,null,"Départ à","après vote de la Résolution N°"]
[{"$f":"IF($A545<>0,\"Lot \" & VLOOKUP($A545,Liste!$A$10:$W$459,21,FALSE),\"\")","v":{"$error":"#N/A"}},{"$f":"IF($A545<>0,VLOOKUP($A545,Liste!$A$10:$W$459,22,FALSE),\"\")","v":{"$error":"#N/A"}},{"$f":"IF($A545<>0,VLOOKUP($A545,Liste!$A$10:$W$459,23,FALSE),\"\")","v":{"$error":"#N/A"}},null,null,null,{"$f":"IF(OR(B546=0,VLOOKUP(A545,Liste!$A$10:'Liste'!$Z$459,26)<>\"\"),\"\", \"Voir autorisation messages électroniques\")","v":{"$error":"#N/A"}}]
[{"$f":"A545+1","v":58},null,null,null,null,null,"Par correspondance reçu le "]
[{"$f":"IF($A554<>0,VLOOKUP($A554,Liste!$A$10:$W$459,3,FALSE),\"\")","v":{"$error":"#N/A"}},{"$f":"IF($A554<>0,VLOOKUP($A554,Liste!$A$10:$W$459,4,FALSE),\"\")","v":{"$error":"#N/A"}},null,null,{"$f":"IF($A554<>0,VLOOKUP($A554,Liste!$A$10:$W$459,8,FALSE),\"\")","v":{"$error":"#N/A"}},null,"Par visio, audio conférence,,,,"]
[{"$f":"IF($A554<>0,VLOOKUP($A554,Liste!$A$10:$W$459,5,FALSE),\"\")","v":{"$error":"#N/A"}},null,null,null,null,null,"Signature/ Mandataire :"]
[{"$f":"IF($A554<>0,VLOOKUP($A554,Liste!$A$10:$W$459,6,FALSE),\"\")","v":{"$error":"#N/A"}},{"$f":"IF($A554<>0,VLOOKUP($A554,Liste!$A$10:$W$459,7,FALSE),\"\")","v":{"$error":"#N/A"}}]
[{"$f":" IF($A554<>0, \"Lot \" & VLOOKUP($A554,Liste!$A$10:$W$459,9,FALSE),\"\")","v":{"$error":"#N/A"}},{"$f":"IF($A554<>0,VLOOKUP($A554,Liste!$A$10:$W$459,10,FALSE),\"\")","v":{"$error":"#N/A"}},{"$f":"IF($A554<>0,VLOOKUP($A554,Liste!$A$10:$W$459,11,FALSE),\"\")","v":{"$error":"#N/A"}}]
[{"$f":"IF($A554<>0,\"Lot \" & VLOOKUP($A554,Liste!$A$10:$W$459,12,FALSE),\"\")","v":{"$error":"#N/A"}},{"$f":"IF($A554<>0,VLOOKUP($A554,Liste!$A$10:$W$459,13,FALSE),\"\")","v":{"$error":"#N/A"}},{"$f":"IF($A554<>0,VLOOKUP($A554,Liste!$A$10:$W$459,14,FALSE),\"\")","v":{"$error":"#N/A"}}]
[{"$f":"IF($A554<>0,\"Lot \" & VLOOKUP($A554,Liste!$A$10:$W$459,15,FALSE),\"\")","v":{"$error":"#N/A"}},{"$f":"IF($A554<>0,VLOOKUP($A554,Liste!$A$10:$W$459,16,FALSE),\"\")","v":{"$error":"#N/A"}},{"$f":"IF($A554<>0,VLOOKUP($A554,Liste!$A$10:$W$459,17,FALSE),\"\")","v":{"$error":"#N/A"}},null,null,null,"Arrivé à","après vote de la Résolution N°"]
[{"$f":"IF($A554<>0,\"Lot \" & VLOOKUP($A554,Liste!$A$10:$W$459,18,FALSE),\"\")","v":{"$error":"#N/A"}},0,{"$f":"IF($A554<>0,VLOOKUP($A554,Liste!$A$10:$W$459,19,FALSE),\"\")","v":{"$error":"#N/A"}},null,null,null,"Départ à","après vote de la Résolution N°"]
[{"$f":"IF($A554<>0,\"Lot \" & VLOOKUP($A554,Liste!$A$10:$W$459,21,FALSE),\"\")","v":{"$error":"#N/A"}},{"$f":"IF($A554<>0,VLOOKUP($A554,Liste!$A$10:$W$459,22,FALSE),\"\")","v":{"$error":"#N/A"}},{"$f":"IF($A554<>0,VLOOKUP($A554,Liste!$A$10:$W$459,23,FALSE),\"\")","v":{"$error":"#N/A"}},null,null,null,{"$f":"IF(OR(B555=0,VLOOKUP(A554,Liste!$A$10:'Liste'!$Z$459,26)<>\"\"),\"\", \"Voir autorisation messages électroniques\")","v":{"$error":"#N/A"}}]
[{"$f":"A554+1","v":59},null,null,null,null,null,"Par correspondance reçu le "]
[{"$f":"IF($A563<>0,VLOOKUP($A563,Liste!$A$10:$W$459,3,FALSE),\"\")","v":{"$error":"#N/A"}},{"$f":"IF($A563<>0,VLOOKUP($A563,Liste!$A$10:$W$459,4,FALSE),\"\")","v":{"$error":"#N/A"}},null,null,{"$f":"IF($A563<>0,VLOOKUP($A563,Liste!$A$10:$W$459,8,FALSE),\"\")","v":{"$error":"#N/A"}},null,"Par visio, audio conférence,,,,"]
[{"$f":"IF($A563<>0,VLOOKUP($A563,Liste!$A$10:$W$459,5,FALSE),\"\")","v":{"$error":"#N/A"}},null,null,null,null,null,"Signature/ Mandataire :"]
[{"$f":"IF($A563<>0,VLOOKUP($A563,Liste!$A$10:$W$459,6,FALSE),\"\")","v":{"$error":"#N/A"}},{"$f":"IF($A563<>0,VLOOKUP($A563,Liste!$A$10:$W$459,7,FALSE),\"\")","v":{"$error":"#N/A"}}]
[{"$f":" IF($A563<>0, \"Lot \" & VLOOKUP($A563,Liste!$A$10:$W$459,9,FALSE),\"\")","v":{"$error":"#N/A"}},{"$f":"IF($A563<>0,VLOOKUP($A563,Liste!$A$10:$W$459,10,FALSE),\"\")","v":{"$error":"#N/A"}},{"$f":"IF($A563<>0,VLOOKUP($A563,Liste!$A$10:$W$459,11,FALSE),\"\")","v":{"$error":"#N/A"}}]
[{"$f":"IF($A563<>0,\"Lot \" & VLOOKUP($A563,Liste!$A$10:$W$459,12,FALSE),\"\")","v":{"$error":"#N/A"}},{"$f":"IF($A563<>0,VLOOKUP($A563,Liste!$A$10:$W$459,13,FALSE),\"\")","v":{"$error":"#N/A"}},{"$f":"IF($A563<>0,VLOOKUP($A563,Liste!$A$10:$W$459,14,FALSE),\"\")","v":{"$error":"#N/A"}}]
[{"$f":"IF($A563<>0,\"Lot \" & VLOOKUP($A563,Liste!$A$10:$W$459,15,FALSE),\"\")","v":{"$error":"#N/A"}},{"$f":"IF($A563<>0,VLOOKUP($A563,Liste!$A$10:$W$459,16,FALSE),\"\")","v":{"$error":"#N/A"}},{"$f":"IF($A563<>0,VLOOKUP($A563,Liste!$A$10:$W$459,17,FALSE),\"\")","v":{"$error":"#N/A"}},null,null,null,"Arrivé à","après vote de la Résolution N°"]
[{"$f":"IF($A563<>0,\"Lot \" & VLOOKUP($A563,Liste!$A$10:$W$459,18,FALSE),\"\")","v":{"$error":"#N/A"}},0,{"$f":"IF($A563<>0,VLOOKUP($A563,Liste!$A$10:$W$459,19,FALSE),\"\")","v":{"$error":"#N/A"}},null,null,null,"Départ à","après vote de la Résolution N°"]
[{"$f":"IF($A563<>0,\"Lot \" & VLOOKUP($A563,Liste!$A$10:$W$459,21,FALSE),\"\")","v":{"$error":"#N/A"}},{"$f":"IF($A563<>0,VLOOKUP($A563,Liste!$A$10:$W$459,22,FALSE),\"\")","v":{"$error":"#N/A"}},{"$f":"IF($A563<>0,VLOOKUP($A563,Liste!$A$10:$W$459,23,FALSE),\"\")","v":{"$error":"#N/A"}},null,null,null,{"$f":"IF(OR(B564=0,VLOOKUP(A563,Liste!$A$10:'Liste'!$Z$459,26)<>\"\"),\"\", \"Voir autorisation messages électroniques\")","v":{"$error":"#N/A"}}]
[{"$f":"A563+1","v":60},null,null,null,null,null,"Par correspondance reçu le "]
[{"$f":"IF($A572<>0,VLOOKUP($A572,Liste!$A$10:$W$459,3,FALSE),\"\")","v":{"$error":"#N/A"}},{"$f":"IF($A572<>0,VLOOKUP($A572,Liste!$A$10:$W$459,4,FALSE),\"\")","v":{"$error":"#N/A"}},null,null,{"$f":"IF($A572<>0,VLOOKUP($A572,Liste!$A$10:$W$459,8,FALSE),\"\")","v":{"$error":"#N/A"}},null,"Par visio, audio conférence,,,,"]
[{"$f":"IF($A572<>0,VLOOKUP($A572,Liste!$A$10:$W$459,5,FALSE),\"\")","v":{"$error":"#N/A"}},null,null,null,null,null,"Signature/ Mandataire :"]
[{"$f":"IF($A572<>0,VLOOKUP($A572,Liste!$A$10:$W$459,6,FALSE),\"\")","v":{"$error":"#N/A"}},{"$f":"IF($A572<>0,VLOOKUP($A572,Liste!$A$10:$W$459,7,FALSE),\"\")","v":{"$error":"#N/A"}}]
[{"$f":" IF($A572<>0, \"Lot \" & VLOOKUP($A572,Liste!$A$10:$W$459,9,FALSE),\"\")","v":{"$error":"#N/A"}},{"$f":"IF($A572<>0,VLOOKUP($A572,Liste!$A$10:$W$459,10,FALSE),\"\")","v":{"$error":"#N/A"}},{"$f":"IF($A572<>0,VLOOKUP($A572,Liste!$A$10:$W$459,11,FALSE),\"\")","v":{"$error":"#N/A"}}]
[{"$f":"IF($A572<>0,\"Lot \" & VLOOKUP($A572,Liste!$A$10:$W$459,12,FALSE),\"\")","v":{"$error":"#N/A"}},{"$f":"IF($A572<>0,VLOOKUP($A572,Liste!$A$10:$W$459,13,FALSE),\"\")","v":{"$error":"#N/A"}},{"$f":"IF($A572<>0,VLOOKUP($A572,Liste!$A$10:$W$459,14,FALSE),\"\")","v":{"$error":"#N/A"}}]
[{"$f":"IF($A572<>0,\"Lot \" & VLOOKUP($A572,Liste!$A$10:$W$459,15,FALSE),\"\")","v":{"$error":"#N/A"}},{"$f":"IF($A572<>0,VLOOKUP($A572,Liste!$A$10:$W$459,16,FALSE),\"\")","v":{"$error":"#N/A"}},{"$f":"IF($A572<>0,VLOOKUP($A572,Liste!$A$10:$W$459,17,FALSE),\"\")","v":{"$error":"#N/A"}},null,null,null,"Arrivé à","après vote de la Résolution N°"]
[{"$f":"IF($A572<>0,\"Lot \" & VLOOKUP($A572,Liste!$A$10:$W$459,18,FALSE),\"\")","v":{"$error":"#N/A"}},0,{"$f":"IF($A572<>0,VLOOKUP($A572,Liste!$A$10:$W$459,19,FALSE),\"\")","v":{"$error":"#N/A"}},null,null,null,"Départ à","après vote de la Résolution N°"]
[{"$f":"IF($A572<>0,\"Lot \" & VLOOKUP($A572,Liste!$A$10:$W$459,21,FALSE),\"\")","v":{"$error":"#N/A"}},{"$f":"IF($A572<>0,VLOOKUP($A572,Liste!$A$10:$W$459,22,FALSE),\"\")","v":{"$error":"#N/A"}},{"$f":"IF($A572<>0,VLOOKUP($A572,Liste!$A$10:$W$459,23,FALSE),\"\")","v":{"$error":"#N/A"}},null,null,null,{"$f":"IF(OR(B573=0,VLOOKUP(A572,Liste!$A$10:'Liste'!$Z$459,26)<>\"\"),\"\", \"Voir autorisation messages électroniques\")","v":{"$error":"#N/A"}}]
[{"$f":"A572+1","v":61},null,null,null,null,null,"Par correspondance reçu le "]
[{"$f":"IF($A581<>0,VLOOKUP($A581,Liste!$A$10:$W$459,3,FALSE),\"\")","v":{"$error":"#N/A"}},{"$f":"IF($A581<>0,VLOOKUP($A581,Liste!$A$10:$W$459,4,FALSE),\"\")","v":{"$error":"#N/A"}},null,null,{"$f":"IF($A581<>0,VLOOKUP($A581,Liste!$A$10:$W$459,8,FALSE),\"\")","v":{"$error":"#N/A"}},null,"Par visio, audio conférence,,,,"]
[{"$f":"IF($A581<>0,VLOOKUP($A581,Liste!$A$10:$W$459,5,FALSE),\"\")","v":{"$error":"#N/A"}},null,null,null,null,null,"Signature/ Mandataire :"]
[{"$f":"IF($A581<>0,VLOOKUP($A581,Liste!$A$10:$W$459,6,FALSE),\"\")","v":{"$error":"#N/A"}},{"$f":"IF($A581<>0,VLOOKUP($A581,Liste!$A$10:$W$459,7,FALSE),\"\")","v":{"$error":"#N/A"}}]
[{"$f":" IF($A581<>0, \"Lot \" & VLOOKUP($A581,Liste!$A$10:$W$459,9,FALSE),\"\")","v":{"$error":"#N/A"}},{"$f":"IF($A581<>0,VLOOKUP($A581,Liste!$A$10:$W$459,10,FALSE),\"\")","v":{"$error":"#N/A"}},{"$f":"IF($A581<>0,VLOOKUP($A581,Liste!$A$10:$W$459,11,FALSE),\"\")","v":{"$error":"#N/A"}}]
[{"$f":"IF($A581<>0,\"Lot \" & VLOOKUP($A581,Liste!$A$10:$W$459,12,FALSE),\"\")","v":{"$error":"#N/A"}},{"$f":"IF($A581<>0,VLOOKUP($A581,Liste!$A$10:$W$459,13,FALSE),\"\")","v":{"$error":"#N/A"}},{"$f":"IF($A581<>0,VLOOKUP($A581,Liste!$A$10:$W$459,14,FALSE),\"\")","v":{"$error":"#N/A"}}]
[{"$f":"IF($A581<>0,\"Lot \" & VLOOKUP($A581,Liste!$A$10:$W$459,15,FALSE),\"\")","v":{"$error":"#N/A"}},{"$f":"IF($A581<>0,VLOOKUP($A581,Liste!$A$10:$W$459,16,FALSE),\"\")","v":{"$error":"#N/A"}},{"$f":"IF($A581<>0,VLOOKUP($A581,Liste!$A$10:$W$459,17,FALSE),\"\")","v":{"$error":"#N/A"}},null,null,null,"Arrivé à","après vote de la Résolution N°"]
[{"$f":"IF($A581<>0,\"Lot \" & VLOOKUP($A581,Liste!$A$10:$W$459,18,FALSE),\"\")","v":{"$error":"#N/A"}},0,{"$f":"IF($A581<>0,VLOOKUP($A581,Liste!$A$10:$W$459,19,FALSE),\"\")","v":{"$error":"#N/A"}},null,null,null,"Départ à","après vote de la Résolution N°"]
[{"$f":"IF($A581<>0,\"Lot \" & VLOOKUP($A581,Liste!$A$10:$W$459,21,FALSE),\"\")","v":{"$error":"#N/A"}},{"$f":"IF($A581<>0,VLOOKUP($A581,Liste!$A$10:$W$459,22,FALSE),\"\")","v":{"$error":"#N/A"}},{"$f":"IF($A581<>0,VLOOKUP($A581,Liste!$A$10:$W$459,23,FALSE),\"\")","v":{"$error":"#N/A"}},null,null,null,{"$f":"IF(OR(B582=0,VLOOKUP(A581,Liste!$A$10:'Liste'!$Z$459,26)<>\"\"),\"\", \"Voir autorisation messages électroniques\")","v":{"$error":"#N/A"}}]
[{"$f":"A581+1","v":62},null,null,null,null,null,"Par correspondance reçu le "]
[{"$f":"IF($A590<>0,VLOOKUP($A590,Liste!$A$10:$W$459,3,FALSE),\"\")","v":{"$error":"#N/A"}},{"$f":"IF($A590<>0,VLOOKUP($A590,Liste!$A$10:$W$459,4,FALSE),\"\")","v":{"$error":"#N/A"}},null,null,{"$f":"IF($A590<>0,VLOOKUP($A590,Liste!$A$10:$W$459,8,FALSE),\"\")","v":{"$error":"#N/A"}},null,"Par visio, audio conférence,,,,"]
[{"$f":"IF($A590<>0,VLOOKUP($A590,Liste!$A$10:$W$459,5,FALSE),\"\")","v":{"$error":"#N/A"}},null,null,null,null,null,"Signature/ Mandataire :"]
[{"$f":"IF($A590<>0,VLOOKUP($A590,Liste!$A$10:$W$459,6,FALSE),\"\")","v":{"$error":"#N/A"}},{"$f":"IF($A590<>0,VLOOKUP($A590,Liste!$A$10:$W$459,7,FALSE),\"\")","v":{"$error":"#N/A"}}]
[{"$f":" IF($A590<>0, \"Lot \" & VLOOKUP($A590,Liste!$A$10:$W$459,9,FALSE),\"\")","v":{"$error":"#N/A"}},{"$f":"IF($A590<>0,VLOOKUP($A590,Liste!$A$10:$W$459,10,FALSE),\"\")","v":{"$error":"#N/A"}},{"$f":"IF($A590<>0,VLOOKUP($A590,Liste!$A$10:$W$459,11,FALSE),\"\")","v":{"$error":"#N/A"}}]
[{"$f":"IF($A590<>0,\"Lot \" & VLOOKUP($A590,Liste!$A$10:$W$459,12,FALSE),\"\")","v":{"$error":"#N/A"}},{"$f":"IF($A590<>0,VLOOKUP($A590,Liste!$A$10:$W$459,13,FALSE),\"\")","v":{"$error":"#N/A"}},{"$f":"IF($A590<>0,VLOOKUP($A590,Liste!$A$10:$W$459,14,FALSE),\"\")","v":{"$error":"#N/A"}}]
[{"$f":"IF($A590<>0,\"Lot \" & VLOOKUP($A590,Liste!$A$10:$W$459,15,FALSE),\"\")","v":{"$error":"#N/A"}},{"$f":"IF($A590<>0,VLOOKUP($A590,Liste!$A$10:$W$459,16,FALSE),\"\")","v":{"$error":"#N/A"}},{"$f":"IF($A590<>0,VLOOKUP($A590,Liste!$A$10:$W$459,17,FALSE),\"\")","v":{"$error":"#N/A"}},null,null,null,"Arrivé à","après vote de la Résolution N°"]
[{"$f":"IF($A590<>0,\"Lot \" & VLOOKUP($A590,Liste!$A$10:$W$459,18,FALSE),\"\")","v":{"$error":"#N/A"}},0,{"$f":"IF($A590<>0,VLOOKUP($A590,Liste!$A$10:$W$459,19,FALSE),\"\")","v":{"$error":"#N/A"}},null,null,null,"Départ à","après vote de la Résolution N°"]
[{"$f":"IF($A590<>0,\"Lot \" & VLOOKUP($A590,Liste!$A$10:$W$459,21,FALSE),\"\")","v":{"$error":"#N/A"}},{"$f":"IF($A590<>0,VLOOKUP($A590,Liste!$A$10:$W$459,22,FALSE),\"\")","v":{"$error":"#N/A"}},{"$f":"IF($A590<>0,VLOOKUP($A590,Liste!$A$10:$W$459,23,FALSE),\"\")","v":{"$error":"#N/A"}},null,null,null,{"$f":"IF(OR(B591=0,VLOOKUP(A590,Liste!$A$10:'Liste'!$Z$459,26)<>\"\"),\"\", \"Voir autorisation messages électroniques\")","v":{"$error":"#N/A"}}]
[{"$f":"A590+1","v":63},null,null,null,null,null,"Par correspondance reçu le "]
[{"$f":"IF($A599<>0,VLOOKUP($A599,Liste!$A$10:$W$459,3,FALSE),\"\")","v":{"$error":"#N/A"}},{"$f":"IF($A599<>0,VLOOKUP($A599,Liste!$A$10:$W$459,4,FALSE),\"\")","v":{"$error":"#N/A"}},null,null,{"$f":"IF($A599<>0,VLOOKUP($A599,Liste!$A$10:$W$459,8,FALSE),\"\")","v":{"$error":"#N/A"}},null,"Par visio, audio conférence,,,,"]
[{"$f":"IF($A599<>0,VLOOKUP($A599,Liste!$A$10:$W$459,5,FALSE),\"\")","v":{"$error":"#N/A"}},null,null,null,null,null,"Signature/ Mandataire :"]
[{"$f":"IF($A599<>0,VLOOKUP($A599,Liste!$A$10:$W$459,6,FALSE),\"\")","v":{"$error":"#N/A"}},{"$f":"IF($A599<>0,VLOOKUP($A599,Liste!$A$10:$W$459,7,FALSE),\"\")","v":{"$error":"#N/A"}}]
[{"$f":" IF($A599<>0, \"Lot \" & VLOOKUP($A599,Liste!$A$10:$W$459,9,FALSE),\"\")","v":{"$error":"#N/A"}},{"$f":"IF($A599<>0,VLOOKUP($A599,Liste!$A$10:$W$459,10,FALSE),\"\")","v":{"$error":"#N/A"}},{"$f":"IF($A599<>0,VLOOKUP($A599,Liste!$A$10:$W$459,11,FALSE),\"\")","v":{"$error":"#N/A"}}]
[{"$f":"IF($A599<>0,\"Lot \" & VLOOKUP($A599,Liste!$A$10:$W$459,12,FALSE),\"\")","v":{"$error":"#N/A"}},{"$f":"IF($A599<>0,VLOOKUP($A599,Liste!$A$10:$W$459,13,FALSE),\"\")","v":{"$error":"#N/A"}},{"$f":"IF($A599<>0,VLOOKUP($A599,Liste!$A$10:$W$459,14,FALSE),\"\")","v":{"$error":"#N/A"}}]
[{"$f":"IF($A599<>0,\"Lot \" & VLOOKUP($A599,Liste!$A$10:$W$459,15,FALSE),\"\")","v":{"$error":"#N/A"}},{"$f":"IF($A599<>0,VLOOKUP($A599,Liste!$A$10:$W$459,16,FALSE),\"\")","v":{"$error":"#N/A"}},{"$f":"IF($A599<>0,VLOOKUP($A599,Liste!$A$10:$W$459,17,FALSE),\"\")","v":{"$error":"#N/A"}},null,null,null,"Arrivé à","après vote de la Résolution N°"]
[{"$f":"IF($A599<>0,\"Lot \" & VLOOKUP($A599,Liste!$A$10:$W$459,18,FALSE),\"\")","v":{"$error":"#N/A"}},0,{"$f":"IF($A599<>0,VLOOKUP($A599,Liste!$A$10:$W$459,19,FALSE),\"\")","v":{"$error":"#N/A"}},null,null,null,"Départ à","après vote de la Résolution N°"]
[{"$f":"IF($A599<>0,\"Lot \" & VLOOKUP($A599,Liste!$A$10:$W$459,21,FALSE),\"\")","v":{"$error":"#N/A"}},{"$f":"IF($A599<>0,VLOOKUP($A599,Liste!$A$10:$W$459,22,FALSE),\"\")","v":{"$error":"#N/A"}},{"$f":"IF($A599<>0,VLOOKUP($A599,Liste!$A$10:$W$459,23,FALSE),\"\")","v":{"$error":"#N/A"}},null,null,null,{"$f":"IF(OR(B600=0,VLOOKUP(A599,Liste!$A$10:'Liste'!$Z$459,26)<>\"\"),\"\", \"Voir autorisation messages électroniques\")","v":{"$error":"#N/A"}}]
[{"$f":"A599+1","v":64},null,null,null,null,null,"Par correspondance reçu le "]
[{"$f":"IF($A608<>0,VLOOKUP($A608,Liste!$A$10:$W$459,3,FALSE),\"\")","v":{"$error":"#N/A"}},{"$f":"IF($A608<>0,VLOOKUP($A608,Liste!$A$10:$W$459,4,FALSE),\"\")","v":{"$error":"#N/A"}},null,null,{"$f":"IF($A608<>0,VLOOKUP($A608,Liste!$A$10:$W$459,8,FALSE),\"\")","v":{"$error":"#N/A"}},null,"Par visio, audio conférence,,,,"]
[{"$f":"IF($A608<>0,VLOOKUP($A608,Liste!$A$10:$W$459,5,FALSE),\"\")","v":{"$error":"#N/A"}},null,null,null,null,null,"Signature/ Mandataire :"]
[{"$f":"IF($A608<>0,VLOOKUP($A608,Liste!$A$10:$W$459,6,FALSE),\"\")","v":{"$error":"#N/A"}},{"$f":"IF($A608<>0,VLOOKUP($A608,Liste!$A$10:$W$459,7,FALSE),\"\")","v":{"$error":"#N/A"}}]
[{"$f":" IF($A608<>0, \"Lot \" & VLOOKUP($A608,Liste!$A$10:$W$459,9,FALSE),\"\")","v":{"$error":"#N/A"}},{"$f":"IF($A608<>0,VLOOKUP($A608,Liste!$A$10:$W$459,10,FALSE),\"\")","v":{"$error":"#N/A"}},{"$f":"IF($A608<>0,VLOOKUP($A608,Liste!$A$10:$W$459,11,FALSE),\"\")","v":{"$error":"#N/A"}}]
[{"$f":"IF($A608<>0,\"Lot \" & VLOOKUP($A608,Liste!$A$10:$W$459,12,FALSE),\"\")","v":{"$error":"#N/A"}},{"$f":"IF($A608<>0,VLOOKUP($A608,Liste!$A$10:$W$459,13,FALSE),\"\")","v":{"$error":"#N/A"}},{"$f":"IF($A608<>0,VLOOKUP($A608,Liste!$A$10:$W$459,14,FALSE),\"\")","v":{"$error":"#N/A"}}]
[{"$f":"IF($A608<>0,\"Lot \" & VLOOKUP($A608,Liste!$A$10:$W$459,15,FALSE),\"\")","v":{"$error":"#N/A"}},{"$f":"IF($A608<>0,VLOOKUP($A608,Liste!$A$10:$W$459,16,FALSE),\"\")","v":{"$error":"#N/A"}},{"$f":"IF($A608<>0,VLOOKUP($A608,Liste!$A$10:$W$459,17,FALSE),\"\")","v":{"$error":"#N/A"}},null,null,null,"Arrivé à","après vote de la Résolution N°"]
[{"$f":"IF($A608<>0,\"Lot \" & VLOOKUP($A608,Liste!$A$10:$W$459,18,FALSE),\"\")","v":{"$error":"#N/A"}},0,{"$f":"IF($A608<>0,VLOOKUP($A608,Liste!$A$10:$W$459,19,FALSE),\"\")","v":{"$error":"#N/A"}},null,null,null,"Départ à","après vote de la Résolution N°"]
[{"$f":"IF($A608<>0,\"Lot \" & VLOOKUP($A608,Liste!$A$10:$W$459,21,FALSE),\"\")","v":{"$error":"#N/A"}},{"$f":"IF($A608<>0,VLOOKUP($A608,Liste!$A$10:$W$459,22,FALSE),\"\")","v":{"$error":"#N/A"}},{"$f":"IF($A608<>0,VLOOKUP($A608,Liste!$A$10:$W$459,23,FALSE),\"\")","v":{"$error":"#N/A"}},null,null,null,{"$f":"IF(OR(B609=0,VLOOKUP(A608,Liste!$A$10:'Liste'!$Z$459,26)<>\"\"),\"\", \"Voir autorisation messages électroniques\")","v":{"$error":"#N/A"}}]
[]
[null,null,null,"A S S E M B L E E     G E N E R A L E",null,null,null,null,null,null,"Page",{"$f":"L541+1","v":9}]
[null,null,null,null,null,"du","2019-12-20"]
[null,null,null,"Résidence Le Paradis; Rue de l' espoir 75016 PARIS"]
[]
[{"$f":"A608+1","v":65},null,null,null,null,null,"Par correspondance reçu le "]
[{"$f":"IF($A622<>0,VLOOKUP($A622,Liste!$A$10:$W$459,3,FALSE),\"\")","v":{"$error":"#N/A"}},{"$f":"IF($A622<>0,VLOOKUP($A622,Liste!$A$10:$W$459,4,FALSE),\"\")","v":{"$error":"#N/A"}},null,null,{"$f":"IF($A622<>0,VLOOKUP($A622,Liste!$A$10:$W$459,8,FALSE),\"\")","v":{"$error":"#N/A"}},null,"Par visio, audio conférence,,,,"]
[{"$f":"IF($A622<>0,VLOOKUP($A622,Liste!$A$10:$W$459,5,FALSE),\"\")","v":{"$error":"#N/A"}},null,null,null,null,null,"Signature/ Mandataire :"]
[{"$f":"IF($A622<>0,VLOOKUP($A622,Liste!$A$10:$W$459,6,FALSE),\"\")","v":{"$error":"#N/A"}},{"$f":"IF($A622<>0,VLOOKUP($A622,Liste!$A$10:$W$459,7,FALSE),\"\")","v":{"$error":"#N/A"}}]
[{"$f":" IF($A622<>0, \"Lot \" & VLOOKUP($A622,Liste!$A$10:$W$459,9,FALSE),\"\")","v":{"$error":"#N/A"}},{"$f":"IF($A622<>0,VLOOKUP($A622,Liste!$A$10:$W$459,10,FALSE),\"\")","v":{"$error":"#N/A"}},{"$f":"IF($A622<>0,VLOOKUP($A622,Liste!$A$10:$W$459,11,FALSE),\"\")","v":{"$error":"#N/A"}}]
[{"$f":"IF($A622<>0,\"Lot \" & VLOOKUP($A622,Liste!$A$10:$W$459,12,FALSE),\"\")","v":{"$error":"#N/A"}},{"$f":"IF($A622<>0,VLOOKUP($A622,Liste!$A$10:$W$459,13,FALSE),\"\")","v":{"$error":"#N/A"}},{"$f":"IF($A622<>0,VLOOKUP($A622,Liste!$A$10:$W$459,14,FALSE),\"\")","v":{"$error":"#N/A"}}]
[{"$f":"IF($A622<>0,\"Lot \" & VLOOKUP($A622,Liste!$A$10:$W$459,15,FALSE),\"\")","v":{"$error":"#N/A"}},{"$f":"IF($A622<>0,VLOOKUP($A622,Liste!$A$10:$W$459,16,FALSE),\"\")","v":{"$error":"#N/A"}},{"$f":"IF($A622<>0,VLOOKUP($A622,Liste!$A$10:$W$459,17,FALSE),\"\")","v":{"$error":"#N/A"}},null,null,null,"Arrivé à","après vote de la Résolution N°"]
[{"$f":"IF($A622<>0,\"Lot \" & VLOOKUP($A622,Liste!$A$10:$W$459,18,FALSE),\"\")","v":{"$error":"#N/A"}},0,{"$f":"IF($A622<>0,VLOOKUP($A622,Liste!$A$10:$W$459,19,FALSE),\"\")","v":{"$error":"#N/A"}},null,null,null,"Départ à","après vote de la Résolution N°"]
[{"$f":"IF($A622<>0,\"Lot \" & VLOOKUP($A622,Liste!$A$10:$W$459,21,FALSE),\"\")","v":{"$error":"#N/A"}},{"$f":"IF($A622<>0,VLOOKUP($A622,Liste!$A$10:$W$459,22,FALSE),\"\")","v":{"$error":"#N/A"}},{"$f":"IF($A622<>0,VLOOKUP($A622,Liste!$A$10:$W$459,23,FALSE),\"\")","v":{"$error":"#N/A"}},null,null,null,{"$f":"IF(OR(B623=0,VLOOKUP(A622,Liste!$A$10:'Liste'!$Z$459,26)<>\"\"),\"\", \"Voir autorisation messages électroniques\")","v":{"$error":"#N/A"}}]
[{"$f":"A622+1","v":66},null,null,null,null,null,"Par correspondance reçu le "]
[{"$f":"IF($A631<>0,VLOOKUP($A631,Liste!$A$10:$W$459,3,FALSE),\"\")","v":{"$error":"#N/A"}},{"$f":"IF($A631<>0,VLOOKUP($A631,Liste!$A$10:$W$459,4,FALSE),\"\")","v":{"$error":"#N/A"}},null,null,{"$f":"IF($A631<>0,VLOOKUP($A631,Liste!$A$10:$W$459,8,FALSE),\"\")","v":{"$error":"#N/A"}},null,"Par visio, audio conférence,,,,"]
[{"$f":"IF($A631<>0,VLOOKUP($A631,Liste!$A$10:$W$459,5,FALSE),\"\")","v":{"$error":"#N/A"}},null,null,null,null,null,"Signature/ Mandataire :"]
[{"$f":"IF($A631<>0,VLOOKUP($A631,Liste!$A$10:$W$459,6,FALSE),\"\")","v":{"$error":"#N/A"}},{"$f":"IF($A631<>0,VLOOKUP($A631,Liste!$A$10:$W$459,7,FALSE),\"\")","v":{"$error":"#N/A"}}]
[{"$f":" IF($A631<>0, \"Lot \" & VLOOKUP($A631,Liste!$A$10:$W$459,9,FALSE),\"\")","v":{"$error":"#N/A"}},{"$f":"IF($A631<>0,VLOOKUP($A631,Liste!$A$10:$W$459,10,FALSE),\"\")","v":{"$error":"#N/A"}},{"$f":"IF($A631<>0,VLOOKUP($A631,Liste!$A$10:$W$459,11,FALSE),\"\")","v":{"$error":"#N/A"}}]
[{"$f":"IF($A631<>0,\"Lot \" & VLOOKUP($A631,Liste!$A$10:$W$459,12,FALSE),\"\")","v":{"$error":"#N/A"}},{"$f":"IF($A631<>0,VLOOKUP($A631,Liste!$A$10:$W$459,13,FALSE),\"\")","v":{"$error":"#N/A"}},{"$f":"IF($A631<>0,VLOOKUP($A631,Liste!$A$10:$W$459,14,FALSE),\"\")","v":{"$error":"#N/A"}}]
[{"$f":"IF($A631<>0,\"Lot \" & VLOOKUP($A631,Liste!$A$10:$W$459,15,FALSE),\"\")","v":{"$error":"#N/A"}},{"$f":"IF($A631<>0,VLOOKUP($A631,Liste!$A$10:$W$459,16,FALSE),\"\")","v":{"$error":"#N/A"}},{"$f":"IF($A631<>0,VLOOKUP($A631,Liste!$A$10:$W$459,17,FALSE),\"\")","v":{"$error":"#N/A"}},null,null,null,"Arrivé à","après vote de la Résolution N°"]
[{"$f":"IF($A631<>0,\"Lot \" & VLOOKUP($A631,Liste!$A$10:$W$459,18,FALSE),\"\")","v":{"$error":"#N/A"}},0,{"$f":"IF($A631<>0,VLOOKUP($A631,Liste!$A$10:$W$459,19,FALSE),\"\")","v":{"$error":"#N/A"}},null,null,null,"Départ à","après vote de la Résolution N°"]
[{"$f":"IF($A631<>0,\"Lot \" & VLOOKUP($A631,Liste!$A$10:$W$459,21,FALSE),\"\")","v":{"$error":"#N/A"}},{"$f":"IF($A631<>0,VLOOKUP($A631,Liste!$A$10:$W$459,22,FALSE),\"\")","v":{"$error":"#N/A"}},{"$f":"IF($A631<>0,VLOOKUP($A631,Liste!$A$10:$W$459,23,FALSE),\"\")","v":{"$error":"#N/A"}},null,null,null,{"$f":"IF(OR(B632=0,VLOOKUP(A631,Liste!$A$10:'Liste'!$Z$459,26)<>\"\"),\"\", \"Voir autorisation messages électroniques\")","v":{"$error":"#N/A"}}]
[{"$f":"A631+1","v":67},null,null,null,null,null,"Par correspondance reçu le "]
[{"$f":"IF($A640<>0,VLOOKUP($A640,Liste!$A$10:$W$459,3,FALSE),\"\")","v":{"$error":"#N/A"}},{"$f":"IF($A640<>0,VLOOKUP($A640,Liste!$A$10:$W$459,4,FALSE),\"\")","v":{"$error":"#N/A"}},null,null,{"$f":"IF($A640<>0,VLOOKUP($A640,Liste!$A$10:$W$459,8,FALSE),\"\")","v":{"$error":"#N/A"}},null,"Par visio, audio conférence,,,,"]
[{"$f":"IF($A640<>0,VLOOKUP($A640,Liste!$A$10:$W$459,5,FALSE),\"\")","v":{"$error":"#N/A"}},null,null,null,null,null,"Signature/ Mandataire :"]
[{"$f":"IF($A640<>0,VLOOKUP($A640,Liste!$A$10:$W$459,6,FALSE),\"\")","v":{"$error":"#N/A"}},{"$f":"IF($A640<>0,VLOOKUP($A640,Liste!$A$10:$W$459,7,FALSE),\"\")","v":{"$error":"#N/A"}}]
[{"$f":" IF($A640<>0, \"Lot \" & VLOOKUP($A640,Liste!$A$10:$W$459,9,FALSE),\"\")","v":{"$error":"#N/A"}},{"$f":"IF($A640<>0,VLOOKUP($A640,Liste!$A$10:$W$459,10,FALSE),\"\")","v":{"$error":"#N/A"}},{"$f":"IF($A640<>0,VLOOKUP($A640,Liste!$A$10:$W$459,11,FALSE),\"\")","v":{"$error":"#N/A"}}]
[{"$f":"IF($A640<>0,\"Lot \" & VLOOKUP($A640,Liste!$A$10:$W$459,12,FALSE),\"\")","v":{"$error":"#N/A"}},{"$f":"IF($A640<>0,VLOOKUP($A640,Liste!$A$10:$W$459,13,FALSE),\"\")","v":{"$error":"#N/A"}},{"$f":"IF($A640<>0,VLOOKUP($A640,Liste!$A$10:$W$459,14,FALSE),\"\")","v":{"$error":"#N/A"}}]
[{"$f":"IF($A640<>0,\"Lot \" & VLOOKUP($A640,Liste!$A$10:$W$459,15,FALSE),\"\")","v":{"$error":"#N/A"}},{"$f":"IF($A640<>0,VLOOKUP($A640,Liste!$A$10:$W$459,16,FALSE),\"\")","v":{"$error":"#N/A"}},{"$f":"IF($A640<>0,VLOOKUP($A640,Liste!$A$10:$W$459,17,FALSE),\"\")","v":{"$error":"#N/A"}},null,null,null,"Arrivé à","après vote de la Résolution N°"]
[{"$f":"IF($A640<>0,\"Lot \" & VLOOKUP($A640,Liste!$A$10:$W$459,18,FALSE),\"\")","v":{"$error":"#N/A"}},0,{"$f":"IF($A640<>0,VLOOKUP($A640,Liste!$A$10:$W$459,19,FALSE),\"\")","v":{"$error":"#N/A"}},null,null,null,"Départ à","après vote de la Résolution N°"]
[{"$f":"IF($A640<>0,\"Lot \" & VLOOKUP($A640,Liste!$A$10:$W$459,21,FALSE),\"\")","v":{"$error":"#N/A"}},{"$f":"IF($A640<>0,VLOOKUP($A640,Liste!$A$10:$W$459,22,FALSE),\"\")","v":{"$error":"#N/A"}},{"$f":"IF($A640<>0,VLOOKUP($A640,Liste!$A$10:$W$459,23,FALSE),\"\")","v":{"$error":"#N/A"}},null,null,null,{"$f":"IF(OR(B641=0,VLOOKUP(A640,Liste!$A$10:'Liste'!$Z$459,26)<>\"\"),\"\", \"Voir autorisation messages électroniques\")","v":{"$error":"#N/A"}}]
[{"$f":"A640+1","v":68},null,null,null,null,null,"Par correspondance reçu le "]
[{"$f":"IF($A649<>0,VLOOKUP($A649,Liste!$A$10:$W$459,3,FALSE),\"\")","v":{"$error":"#N/A"}},{"$f":"IF($A649<>0,VLOOKUP($A649,Liste!$A$10:$W$459,4,FALSE),\"\")","v":{"$error":"#N/A"}},null,null,{"$f":"IF($A649<>0,VLOOKUP($A649,Liste!$A$10:$W$459,8,FALSE),\"\")","v":{"$error":"#N/A"}},null,"Par visio, audio conférence,,,,"]
[{"$f":"IF($A649<>0,VLOOKUP($A649,Liste!$A$10:$W$459,5,FALSE),\"\")","v":{"$error":"#N/A"}},null,null,null,null,null,"Signature/ Mandataire :"]
[{"$f":"IF($A649<>0,VLOOKUP($A649,Liste!$A$10:$W$459,6,FALSE),\"\")","v":{"$error":"#N/A"}},{"$f":"IF($A649<>0,VLOOKUP($A649,Liste!$A$10:$W$459,7,FALSE),\"\")","v":{"$error":"#N/A"}}]
[{"$f":" IF($A649<>0, \"Lot \" & VLOOKUP($A649,Liste!$A$10:$W$459,9,FALSE),\"\")","v":{"$error":"#N/A"}},{"$f":"IF($A649<>0,VLOOKUP($A649,Liste!$A$10:$W$459,10,FALSE),\"\")","v":{"$error":"#N/A"}},{"$f":"IF($A649<>0,VLOOKUP($A649,Liste!$A$10:$W$459,11,FALSE),\"\")","v":{"$error":"#N/A"}}]
[{"$f":"IF($A649<>0,\"Lot \" & VLOOKUP($A649,Liste!$A$10:$W$459,12,FALSE),\"\")","v":{"$error":"#N/A"}},{"$f":"IF($A649<>0,VLOOKUP($A649,Liste!$A$10:$W$459,13,FALSE),\"\")","v":{"$error":"#N/A"}},{"$f":"IF($A649<>0,VLOOKUP($A649,Liste!$A$10:$W$459,14,FALSE),\"\")","v":{"$error":"#N/A"}}]
[{"$f":"IF($A649<>0,\"Lot \" & VLOOKUP($A649,Liste!$A$10:$W$459,15,FALSE),\"\")","v":{"$error":"#N/A"}},{"$f":"IF($A649<>0,VLOOKUP($A649,Liste!$A$10:$W$459,16,FALSE),\"\")","v":{"$error":"#N/A"}},{"$f":"IF($A649<>0,VLOOKUP($A649,Liste!$A$10:$W$459,17,FALSE),\"\")","v":{"$error":"#N/A"}},null,null,null,"Arrivé à","après vote de la Résolution N°"]
[{"$f":"IF($A649<>0,\"Lot \" & VLOOKUP($A649,Liste!$A$10:$W$459,18,FALSE),\"\")","v":{"$error":"#N/A"}},0,{"$f":"IF($A649<>0,VLOOKUP($A649,Liste!$A$10:$W$459,19,FALSE),\"\")","v":{"$error":"#N/A"}},null,null,null,"Départ à","après vote de la Résolution N°"]
[{"$f":"IF($A649<>0,\"Lot \" & VLOOKUP($A649,Liste!$A$10:$W$459,21,FALSE),\"\")","v":{"$error":"#N/A"}},{"$f":"IF($A649<>0,VLOOKUP($A649,Liste!$A$10:$W$459,22,FALSE),\"\")","v":{"$error":"#N/A"}},{"$f":"IF($A649<>0,VLOOKUP($A649,Liste!$A$10:$W$459,23,FALSE),\"\")","v":{"$error":"#N/A"}},null,null,null,{"$f":"IF(OR(B650=0,VLOOKUP(A649,Liste!$A$10:'Liste'!$Z$459,26)<>\"\"),\"\", \"Voir autorisation messages électroniques\")","v":{"$error":"#N/A"}}]
[{"$f":"A649+1","v":69},null,null,null,null,null,"Par correspondance reçu le "]
[{"$f":"IF($A658<>0,VLOOKUP($A658,Liste!$A$10:$W$459,3,FALSE),\"\")","v":{"$error":"#N/A"}},{"$f":"IF($A658<>0,VLOOKUP($A658,Liste!$A$10:$W$459,4,FALSE),\"\")","v":{"$error":"#N/A"}},null,null,{"$f":"IF($A658<>0,VLOOKUP($A658,Liste!$A$10:$W$459,8,FALSE),\"\")","v":{"$error":"#N/A"}},null,"Par visio, audio conférence,,,,"]
[{"$f":"IF($A658<>0,VLOOKUP($A658,Liste!$A$10:$W$459,5,FALSE),\"\")","v":{"$error":"#N/A"}},null,null,null,null,null,"Signature/ Mandataire :"]
[{"$f":"IF($A658<>0,VLOOKUP($A658,Liste!$A$10:$W$459,6,FALSE),\"\")","v":{"$error":"#N/A"}},{"$f":"IF($A658<>0,VLOOKUP($A658,Liste!$A$10:$W$459,7,FALSE),\"\")","v":{"$error":"#N/A"}}]
[{"$f":" IF($A658<>0, \"Lot \" & VLOOKUP($A658,Liste!$A$10:$W$459,9,FALSE),\"\")","v":{"$error":"#N/A"}},{"$f":"IF($A658<>0,VLOOKUP($A658,Liste!$A$10:$W$459,10,FALSE),\"\")","v":{"$error":"#N/A"}},{"$f":"IF($A658<>0,VLOOKUP($A658,Liste!$A$10:$W$459,11,FALSE),\"\")","v":{"$error":"#N/A"}}]
[{"$f":"IF($A658<>0,\"Lot \" & VLOOKUP($A658,Liste!$A$10:$W$459,12,FALSE),\"\")","v":{"$error":"#N/A"}},{"$f":"IF($A658<>0,VLOOKUP($A658,Liste!$A$10:$W$459,13,FALSE),\"\")","v":{"$error":"#N/A"}},{"$f":"IF($A658<>0,VLOOKUP($A658,Liste!$A$10:$W$459,14,FALSE),\"\")","v":{"$error":"#N/A"}}]
[{"$f":"IF($A658<>0,\"Lot \" & VLOOKUP($A658,Liste!$A$10:$W$459,15,FALSE),\"\")","v":{"$error":"#N/A"}},{"$f":"IF($A658<>0,VLOOKUP($A658,Liste!$A$10:$W$459,16,FALSE),\"\")","v":{"$error":"#N/A"}},{"$f":"IF($A658<>0,VLOOKUP($A658,Liste!$A$10:$W$459,17,FALSE),\"\")","v":{"$error":"#N/A"}},null,null,null,"Arrivé à","après vote de la Résolution N°"]
[{"$f":"IF($A658<>0,\"Lot \" & VLOOKUP($A658,Liste!$A$10:$W$459,18,FALSE),\"\")","v":{"$error":"#N/A"}},0,{"$f":"IF($A658<>0,VLOOKUP($A658,Liste!$A$10:$W$459,19,FALSE),\"\")","v":{"$error":"#N/A"}},null,null,null,"Départ à","après vote de la Résolution N°"]
[{"$f":"IF($A658<>0,\"Lot \" & VLOOKUP($A658,Liste!$A$10:$W$459,21,FALSE),\"\")","v":{"$error":"#N/A"}},{"$f":"IF($A658<>0,VLOOKUP($A658,Liste!$A$10:$W$459,22,FALSE),\"\")","v":{"$error":"#N/A"}},{"$f":"IF($A658<>0,VLOOKUP($A658,Liste!$A$10:$W$459,23,FALSE),\"\")","v":{"$error":"#N/A"}},null,null,null,{"$f":"IF(OR(B659=0,VLOOKUP(A658,Liste!$A$10:'Liste'!$Z$459,26)<>\"\"),\"\", \"Voir autorisation messages électroniques\")","v":{"$error":"#N/A"}}]
[{"$f":"A658+1","v":70},null,null,null,null,null,"Par correspondance reçu le "]
[{"$f":"IF($A667<>0,VLOOKUP($A667,Liste!$A$10:$W$459,3,FALSE),\"\")","v":{"$error":"#N/A"}},{"$f":"IF($A667<>0,VLOOKUP($A667,Liste!$A$10:$W$459,4,FALSE),\"\")","v":{"$error":"#N/A"}},null,null,{"$f":"IF($A667<>0,VLOOKUP($A667,Liste!$A$10:$W$459,8,FALSE),\"\")","v":{"$error":"#N/A"}},null,"Par visio, audio conférence,,,,"]
[{"$f":"IF($A667<>0,VLOOKUP($A667,Liste!$A$10:$W$459,5,FALSE),\"\")","v":{"$error":"#N/A"}},null,null,null,null,null,"Signature/ Mandataire :"]
[{"$f":"IF($A667<>0,VLOOKUP($A667,Liste!$A$10:$W$459,6,FALSE),\"\")","v":{"$error":"#N/A"}},{"$f":"IF($A667<>0,VLOOKUP($A667,Liste!$A$10:$W$459,7,FALSE),\"\")","v":{"$error":"#N/A"}}]
[{"$f":" IF($A667<>0, \"Lot \" & VLOOKUP($A667,Liste!$A$10:$W$459,9,FALSE),\"\")","v":{"$error":"#N/A"}},{"$f":"IF($A667<>0,VLOOKUP($A667,Liste!$A$10:$W$459,10,FALSE),\"\")","v":{"$error":"#N/A"}},{"$f":"IF($A667<>0,VLOOKUP($A667,Liste!$A$10:$W$459,11,FALSE),\"\")","v":{"$error":"#N/A"}}]
[{"$f":"IF($A667<>0,\"Lot \" & VLOOKUP($A667,Liste!$A$10:$W$459,12,FALSE),\"\")","v":{"$error":"#N/A"}},{"$f":"IF($A667<>0,VLOOKUP($A667,Liste!$A$10:$W$459,13,FALSE),\"\")","v":{"$error":"#N/A"}},{"$f":"IF($A667<>0,VLOOKUP($A667,Liste!$A$10:$W$459,14,FALSE),\"\")","v":{"$error":"#N/A"}}]
[{"$f":"IF($A667<>0,\"Lot \" & VLOOKUP($A667,Liste!$A$10:$W$459,15,FALSE),\"\")","v":{"$error":"#N/A"}},{"$f":"IF($A667<>0,VLOOKUP($A667,Liste!$A$10:$W$459,16,FALSE),\"\")","v":{"$error":"#N/A"}},{"$f":"IF($A667<>0,VLOOKUP($A667,Liste!$A$10:$W$459,17,FALSE),\"\")","v":{"$error":"#N/A"}},null,null,null,"Arrivé à","après vote de la Résolution N°"]
[{"$f":"IF($A667<>0,\"Lot \" & VLOOKUP($A667,Liste!$A$10:$W$459,18,FALSE),\"\")","v":{"$error":"#N/A"}},0,{"$f":"IF($A667<>0,VLOOKUP($A667,Liste!$A$10:$W$459,19,FALSE),\"\")","v":{"$error":"#N/A"}},null,null,null,"Départ à","après vote de la Résolution N°"]
[{"$f":"IF($A667<>0,\"Lot \" & VLOOKUP($A667,Liste!$A$10:$W$459,21,FALSE),\"\")","v":{"$error":"#N/A"}},{"$f":"IF($A667<>0,VLOOKUP($A667,Liste!$A$10:$W$459,22,FALSE),\"\")","v":{"$error":"#N/A"}},{"$f":"IF($A667<>0,VLOOKUP($A667,Liste!$A$10:$W$459,23,FALSE),\"\")","v":{"$error":"#N/A"}},null,null,null,{"$f":"IF(OR(B668=0,VLOOKUP(A667,Liste!$A$10:'Liste'!$Z$459,26)<>\"\"),\"\", \"Voir autorisation messages électroniques\")","v":{"$error":"#N/A"}}]
[{"$f":"A667+1","v":71},null,null,null,null,null,"Par correspondance reçu le "]
[{"$f":"IF($A676<>0,VLOOKUP($A676,Liste!$A$10:$W$459,3,FALSE),\"\")","v":{"$error":"#N/A"}},{"$f":"IF($A676<>0,VLOOKUP($A676,Liste!$A$10:$W$459,4,FALSE),\"\")","v":{"$error":"#N/A"}},null,null,{"$f":"IF($A676<>0,VLOOKUP($A676,Liste!$A$10:$W$459,8,FALSE),\"\")","v":{"$error":"#N/A"}},null,"Par visio, audio conférence,,,,"]
[{"$f":"IF($A676<>0,VLOOKUP($A676,Liste!$A$10:$W$459,5,FALSE),\"\")","v":{"$error":"#N/A"}},null,null,null,null,null,"Signature/ Mandataire :"]
[{"$f":"IF($A676<>0,VLOOKUP($A676,Liste!$A$10:$W$459,6,FALSE),\"\")","v":{"$error":"#N/A"}},{"$f":"IF($A676<>0,VLOOKUP($A676,Liste!$A$10:$W$459,7,FALSE),\"\")","v":{"$error":"#N/A"}}]
[{"$f":" IF($A676<>0, \"Lot \" & VLOOKUP($A676,Liste!$A$10:$W$459,9,FALSE),\"\")","v":{"$error":"#N/A"}},{"$f":"IF($A676<>0,VLOOKUP($A676,Liste!$A$10:$W$459,10,FALSE),\"\")","v":{"$error":"#N/A"}},{"$f":"IF($A676<>0,VLOOKUP($A676,Liste!$A$10:$W$459,11,FALSE),\"\")","v":{"$error":"#N/A"}}]
[{"$f":"IF($A676<>0,\"Lot \" & VLOOKUP($A676,Liste!$A$10:$W$459,12,FALSE),\"\")","v":{"$error":"#N/A"}},{"$f":"IF($A676<>0,VLOOKUP($A676,Liste!$A$10:$W$459,13,FALSE),\"\")","v":{"$error":"#N/A"}},{"$f":"IF($A676<>0,VLOOKUP($A676,Liste!$A$10:$W$459,14,FALSE),\"\")","v":{"$error":"#N/A"}}]
[{"$f":"IF($A676<>0,\"Lot \" & VLOOKUP($A676,Liste!$A$10:$W$459,15,FALSE),\"\")","v":{"$error":"#N/A"}},{"$f":"IF($A676<>0,VLOOKUP($A676,Liste!$A$10:$W$459,16,FALSE),\"\")","v":{"$error":"#N/A"}},{"$f":"IF($A676<>0,VLOOKUP($A676,Liste!$A$10:$W$459,17,FALSE),\"\")","v":{"$error":"#N/A"}},null,null,null,"Arrivé à","après vote de la Résolution N°"]
[{"$f":"IF($A676<>0,\"Lot \" & VLOOKUP($A676,Liste!$A$10:$W$459,18,FALSE),\"\")","v":{"$error":"#N/A"}},0,{"$f":"IF($A676<>0,VLOOKUP($A676,Liste!$A$10:$W$459,19,FALSE),\"\")","v":{"$error":"#N/A"}},null,null,null,"Départ à","après vote de la Résolution N°"]
[{"$f":"IF($A676<>0,\"Lot \" & VLOOKUP($A676,Liste!$A$10:$W$459,21,FALSE),\"\")","v":{"$error":"#N/A"}},{"$f":"IF($A676<>0,VLOOKUP($A676,Liste!$A$10:$W$459,22,FALSE),\"\")","v":{"$error":"#N/A"}},{"$f":"IF($A676<>0,VLOOKUP($A676,Liste!$A$10:$W$459,23,FALSE),\"\")","v":{"$error":"#N/A"}},null,null,null,{"$f":"IF(OR(B677=0,VLOOKUP(A676,Liste!$A$10:'Liste'!$Z$459,26)<>\"\"),\"\", \"Voir autorisation messages électroniques\")","v":{"$error":"#N/A"}}]
[{"$f":"A676+1","v":72},null,null,null,null,null,"Par correspondance reçu le "]
[{"$f":"IF($A685<>0,VLOOKUP($A685,Liste!$A$10:$W$459,3,FALSE),\"\")","v":{"$error":"#N/A"}},{"$f":"IF($A685<>0,VLOOKUP($A685,Liste!$A$10:$W$459,4,FALSE),\"\")","v":{"$error":"#N/A"}},null,null,{"$f":"IF($A685<>0,VLOOKUP($A685,Liste!$A$10:$W$459,8,FALSE),\"\")","v":{"$error":"#N/A"}},null,"Par visio, audio conférence,,,,"]
[{"$f":"IF($A685<>0,VLOOKUP($A685,Liste!$A$10:$W$459,5,FALSE),\"\")","v":{"$error":"#N/A"}},null,null,null,null,null,"Signature/ Mandataire :"]
[{"$f":"IF($A685<>0,VLOOKUP($A685,Liste!$A$10:$W$459,6,FALSE),\"\")","v":{"$error":"#N/A"}},{"$f":"IF($A685<>0,VLOOKUP($A685,Liste!$A$10:$W$459,7,FALSE),\"\")","v":{"$error":"#N/A"}}]
[{"$f":" IF($A685<>0, \"Lot \" & VLOOKUP($A685,Liste!$A$10:$W$459,9,FALSE),\"\")","v":{"$error":"#N/A"}},{"$f":"IF($A685<>0,VLOOKUP($A685,Liste!$A$10:$W$459,10,FALSE),\"\")","v":{"$error":"#N/A"}},{"$f":"IF($A685<>0,VLOOKUP($A685,Liste!$A$10:$W$459,11,FALSE),\"\")","v":{"$error":"#N/A"}}]
[{"$f":"IF($A685<>0,\"Lot \" & VLOOKUP($A685,Liste!$A$10:$W$459,12,FALSE),\"\")","v":{"$error":"#N/A"}},{"$f":"IF($A685<>0,VLOOKUP($A685,Liste!$A$10:$W$459,13,FALSE),\"\")","v":{"$error":"#N/A"}},{"$f":"IF($A685<>0,VLOOKUP($A685,Liste!$A$10:$W$459,14,FALSE),\"\")","v":{"$error":"#N/A"}}]
[{"$f":"IF($A685<>0,\"Lot \" & VLOOKUP($A685,Liste!$A$10:$W$459,15,FALSE),\"\")","v":{"$error":"#N/A"}},{"$f":"IF($A685<>0,VLOOKUP($A685,Liste!$A$10:$W$459,16,FALSE),\"\")","v":{"$error":"#N/A"}},{"$f":"IF($A685<>0,VLOOKUP($A685,Liste!$A$10:$W$459,17,FALSE),\"\")","v":{"$error":"#N/A"}},null,null,null,"Arrivé à","après vote de la Résolution N°"]
[{"$f":"IF($A685<>0,\"Lot \" & VLOOKUP($A685,Liste!$A$10:$W$459,18,FALSE),\"\")","v":{"$error":"#N/A"}},0,{"$f":"IF($A685<>0,VLOOKUP($A685,Liste!$A$10:$W$459,19,FALSE),\"\")","v":{"$error":"#N/A"}},null,null,null,"Départ à","après vote de la Résolution N°"]
[{"$f":"IF($A685<>0,\"Lot \" & VLOOKUP($A685,Liste!$A$10:$W$459,21,FALSE),\"\")","v":{"$error":"#N/A"}},{"$f":"IF($A685<>0,VLOOKUP($A685,Liste!$A$10:$W$459,22,FALSE),\"\")","v":{"$error":"#N/A"}},{"$f":"IF($A685<>0,VLOOKUP($A685,Liste!$A$10:$W$459,23,FALSE),\"\")","v":{"$error":"#N/A"}},null,null,null,{"$f":"IF(OR(B686=0,VLOOKUP(A685,Liste!$A$10:'Liste'!$Z$459,26)<>\"\"),\"\", \"Voir autorisation messages électroniques\")","v":{"$error":"#N/A"}}]
[]
[null,null,null,"A S S E M B L E E     G E N E R A L E",null,null,null,null,null,null,"Page",{"$f":"L618+1","v":10}]
[null,null,null,null,null,"du","2019-12-20"]
[null,null,null,"Résidence Le Paradis; Rue de l' espoir 75016 PARIS"]
[]
[{"$f":"A685+1","v":73},null,null,null,null,null,"Par correspondance reçu le "]
[{"$f":"IF($A699<>0,VLOOKUP($A699,Liste!$A$10:$W$459,3,FALSE),\"\")","v":{"$error":"#N/A"}},{"$f":"IF($A699<>0,VLOOKUP($A699,Liste!$A$10:$W$459,4,FALSE),\"\")","v":{"$error":"#N/A"}},null,null,{"$f":"IF($A699<>0,VLOOKUP($A699,Liste!$A$10:$W$459,8,FALSE),\"\")","v":{"$error":"#N/A"}},null,"Par visio, audio conférence,,,,"]
[{"$f":"IF($A699<>0,VLOOKUP($A699,Liste!$A$10:$W$459,5,FALSE),\"\")","v":{"$error":"#N/A"}},null,null,null,null,null,"Signature/ Mandataire :"]
[{"$f":"IF($A699<>0,VLOOKUP($A699,Liste!$A$10:$W$459,6,FALSE),\"\")","v":{"$error":"#N/A"}},{"$f":"IF($A699<>0,VLOOKUP($A699,Liste!$A$10:$W$459,7,FALSE),\"\")","v":{"$error":"#N/A"}}]
[{"$f":" IF($A699<>0, \"Lot \" & VLOOKUP($A699,Liste!$A$10:$W$459,9,FALSE),\"\")","v":{"$error":"#N/A"}},{"$f":"IF($A699<>0,VLOOKUP($A699,Liste!$A$10:$W$459,10,FALSE),\"\")","v":{"$error":"#N/A"}},{"$f":"IF($A699<>0,VLOOKUP($A699,Liste!$A$10:$W$459,11,FALSE),\"\")","v":{"$error":"#N/A"}}]
[{"$f":"IF($A699<>0,\"Lot \" & VLOOKUP($A699,Liste!$A$10:$W$459,12,FALSE),\"\")","v":{"$error":"#N/A"}},{"$f":"IF($A699<>0,VLOOKUP($A699,Liste!$A$10:$W$459,13,FALSE),\"\")","v":{"$error":"#N/A"}},{"$f":"IF($A699<>0,VLOOKUP($A699,Liste!$A$10:$W$459,14,FALSE),\"\")","v":{"$error":"#N/A"}}]
[{"$f":"IF($A699<>0,\"Lot \" & VLOOKUP($A699,Liste!$A$10:$W$459,15,FALSE),\"\")","v":{"$error":"#N/A"}},{"$f":"IF($A699<>0,VLOOKUP($A699,Liste!$A$10:$W$459,16,FALSE),\"\")","v":{"$error":"#N/A"}},{"$f":"IF($A699<>0,VLOOKUP($A699,Liste!$A$10:$W$459,17,FALSE),\"\")","v":{"$error":"#N/A"}},null,null,null,"Arrivé à","après vote de la Résolution N°"]
[{"$f":"IF($A699<>0,\"Lot \" & VLOOKUP($A699,Liste!$A$10:$W$459,18,FALSE),\"\")","v":{"$error":"#N/A"}},0,{"$f":"IF($A699<>0,VLOOKUP($A699,Liste!$A$10:$W$459,19,FALSE),\"\")","v":{"$error":"#N/A"}},null,null,null,"Départ à","après vote de la Résolution N°"]
[{"$f":"IF($A699<>0,\"Lot \" & VLOOKUP($A699,Liste!$A$10:$W$459,21,FALSE),\"\")","v":{"$error":"#N/A"}},{"$f":"IF($A699<>0,VLOOKUP($A699,Liste!$A$10:$W$459,22,FALSE),\"\")","v":{"$error":"#N/A"}},{"$f":"IF($A699<>0,VLOOKUP($A699,Liste!$A$10:$W$459,23,FALSE),\"\")","v":{"$error":"#N/A"}},null,null,null,{"$f":"IF(OR(B700=0,VLOOKUP(A699,Liste!$A$10:'Liste'!$Z$459,26)<>\"\"),\"\", \"Voir autorisation messages électroniques\")","v":{"$error":"#N/A"}}]
[{"$f":"A699+1","v":74},null,null,null,null,null,"Par correspondance reçu le "]
[{"$f":"IF($A708<>0,VLOOKUP($A708,Liste!$A$10:$W$459,3,FALSE),\"\")","v":{"$error":"#N/A"}},{"$f":"IF($A708<>0,VLOOKUP($A708,Liste!$A$10:$W$459,4,FALSE),\"\")","v":{"$error":"#N/A"}},null,null,{"$f":"IF($A708<>0,VLOOKUP($A708,Liste!$A$10:$W$459,8,FALSE),\"\")","v":{"$error":"#N/A"}},null,"Par visio, audio conférence,,,,"]
[{"$f":"IF($A708<>0,VLOOKUP($A708,Liste!$A$10:$W$459,5,FALSE),\"\")","v":{"$error":"#N/A"}},null,null,null,null,null,"Signature/ Mandataire :"]
[{"$f":"IF($A708<>0,VLOOKUP($A708,Liste!$A$10:$W$459,6,FALSE),\"\")","v":{"$error":"#N/A"}},{"$f":"IF($A708<>0,VLOOKUP($A708,Liste!$A$10:$W$459,7,FALSE),\"\")","v":{"$error":"#N/A"}}]
[{"$f":" IF($A708<>0, \"Lot \" & VLOOKUP($A708,Liste!$A$10:$W$459,9,FALSE),\"\")","v":{"$error":"#N/A"}},{"$f":"IF($A708<>0,VLOOKUP($A708,Liste!$A$10:$W$459,10,FALSE),\"\")","v":{"$error":"#N/A"}},{"$f":"IF($A708<>0,VLOOKUP($A708,Liste!$A$10:$W$459,11,FALSE),\"\")","v":{"$error":"#N/A"}}]
[{"$f":"IF($A708<>0,\"Lot \" & VLOOKUP($A708,Liste!$A$10:$W$459,12,FALSE),\"\")","v":{"$error":"#N/A"}},{"$f":"IF($A708<>0,VLOOKUP($A708,Liste!$A$10:$W$459,13,FALSE),\"\")","v":{"$error":"#N/A"}},{"$f":"IF($A708<>0,VLOOKUP($A708,Liste!$A$10:$W$459,14,FALSE),\"\")","v":{"$error":"#N/A"}}]
[{"$f":"IF($A708<>0,\"Lot \" & VLOOKUP($A708,Liste!$A$10:$W$459,15,FALSE),\"\")","v":{"$error":"#N/A"}},{"$f":"IF($A708<>0,VLOOKUP($A708,Liste!$A$10:$W$459,16,FALSE),\"\")","v":{"$error":"#N/A"}},{"$f":"IF($A708<>0,VLOOKUP($A708,Liste!$A$10:$W$459,17,FALSE),\"\")","v":{"$error":"#N/A"}},null,null,null,"Arrivé à","après vote de la Résolution N°"]
[{"$f":"IF($A708<>0,\"Lot \" & VLOOKUP($A708,Liste!$A$10:$W$459,18,FALSE),\"\")","v":{"$error":"#N/A"}},0,{"$f":"IF($A708<>0,VLOOKUP($A708,Liste!$A$10:$W$459,19,FALSE),\"\")","v":{"$error":"#N/A"}},null,null,null,"Départ à","après vote de la Résolution N°"]
[{"$f":"IF($A708<>0,\"Lot \" & VLOOKUP($A708,Liste!$A$10:$W$459,21,FALSE),\"\")","v":{"$error":"#N/A"}},{"$f":"IF($A708<>0,VLOOKUP($A708,Liste!$A$10:$W$459,22,FALSE),\"\")","v":{"$error":"#N/A"}},{"$f":"IF($A708<>0,VLOOKUP($A708,Liste!$A$10:$W$459,23,FALSE),\"\")","v":{"$error":"#N/A"}},null,null,null,{"$f":"IF(OR(B709=0,VLOOKUP(A708,Liste!$A$10:'Liste'!$Z$459,26)<>\"\"),\"\", \"Voir autorisation messages électroniques\")","v":{"$error":"#N/A"}}]
[{"$f":"A708+1","v":75},null,null,null,null,null,"Par correspondance reçu le "]
[{"$f":"IF($A717<>0,VLOOKUP($A717,Liste!$A$10:$W$459,3,FALSE),\"\")","v":{"$error":"#N/A"}},{"$f":"IF($A717<>0,VLOOKUP($A717,Liste!$A$10:$W$459,4,FALSE),\"\")","v":{"$error":"#N/A"}},null,null,{"$f":"IF($A717<>0,VLOOKUP($A717,Liste!$A$10:$W$459,8,FALSE),\"\")","v":{"$error":"#N/A"}},null,"Par visio, audio conférence,,,,"]
[{"$f":"IF($A717<>0,VLOOKUP($A717,Liste!$A$10:$W$459,5,FALSE),\"\")","v":{"$error":"#N/A"}},null,null,null,null,null,"Signature/ Mandataire :"]
[{"$f":"IF($A717<>0,VLOOKUP($A717,Liste!$A$10:$W$459,6,FALSE),\"\")","v":{"$error":"#N/A"}},{"$f":"IF($A717<>0,VLOOKUP($A717,Liste!$A$10:$W$459,7,FALSE),\"\")","v":{"$error":"#N/A"}}]
[{"$f":" IF($A717<>0, \"Lot \" & VLOOKUP($A717,Liste!$A$10:$W$459,9,FALSE),\"\")","v":{"$error":"#N/A"}},{"$f":"IF($A717<>0,VLOOKUP($A717,Liste!$A$10:$W$459,10,FALSE),\"\")","v":{"$error":"#N/A"}},{"$f":"IF($A717<>0,VLOOKUP($A717,Liste!$A$10:$W$459,11,FALSE),\"\")","v":{"$error":"#N/A"}}]
[{"$f":"IF($A717<>0,\"Lot \" & VLOOKUP($A717,Liste!$A$10:$W$459,12,FALSE),\"\")","v":{"$error":"#N/A"}},{"$f":"IF($A717<>0,VLOOKUP($A717,Liste!$A$10:$W$459,13,FALSE),\"\")","v":{"$error":"#N/A"}},{"$f":"IF($A717<>0,VLOOKUP($A717,Liste!$A$10:$W$459,14,FALSE),\"\")","v":{"$error":"#N/A"}}]
[{"$f":"IF($A717<>0,\"Lot \" & VLOOKUP($A717,Liste!$A$10:$W$459,15,FALSE),\"\")","v":{"$error":"#N/A"}},{"$f":"IF($A717<>0,VLOOKUP($A717,Liste!$A$10:$W$459,16,FALSE),\"\")","v":{"$error":"#N/A"}},{"$f":"IF($A717<>0,VLOOKUP($A717,Liste!$A$10:$W$459,17,FALSE),\"\")","v":{"$error":"#N/A"}},null,null,null,"Arrivé à","après vote de la Résolution N°"]
[{"$f":"IF($A717<>0,\"Lot \" & VLOOKUP($A717,Liste!$A$10:$W$459,18,FALSE),\"\")","v":{"$error":"#N/A"}},0,{"$f":"IF($A717<>0,VLOOKUP($A717,Liste!$A$10:$W$459,19,FALSE),\"\")","v":{"$error":"#N/A"}},null,null,null,"Départ à","après vote de la Résolution N°"]
[{"$f":"IF($A717<>0,\"Lot \" & VLOOKUP($A717,Liste!$A$10:$W$459,21,FALSE),\"\")","v":{"$error":"#N/A"}},{"$f":"IF($A717<>0,VLOOKUP($A717,Liste!$A$10:$W$459,22,FALSE),\"\")","v":{"$error":"#N/A"}},{"$f":"IF($A717<>0,VLOOKUP($A717,Liste!$A$10:$W$459,23,FALSE),\"\")","v":{"$error":"#N/A"}},null,null,null,{"$f":"IF(OR(B718=0,VLOOKUP(A717,Liste!$A$10:'Liste'!$Z$459,26)<>\"\"),\"\", \"Voir autorisation messages électroniques\")","v":{"$error":"#N/A"}}]
[{"$f":"A717+1","v":76},null,null,null,null,null,"Par correspondance reçu le "]
[{"$f":"IF($A726<>0,VLOOKUP($A726,Liste!$A$10:$W$459,3,FALSE),\"\")","v":{"$error":"#N/A"}},{"$f":"IF($A726<>0,VLOOKUP($A726,Liste!$A$10:$W$459,4,FALSE),\"\")","v":{"$error":"#N/A"}},null,null,{"$f":"IF($A726<>0,VLOOKUP($A726,Liste!$A$10:$W$459,8,FALSE),\"\")","v":{"$error":"#N/A"}},null,"Par visio, audio conférence,,,,"]
[{"$f":"IF($A726<>0,VLOOKUP($A726,Liste!$A$10:$W$459,5,FALSE),\"\")","v":{"$error":"#N/A"}},null,null,null,null,null,"Signature/ Mandataire :"]
[{"$f":"IF($A726<>0,VLOOKUP($A726,Liste!$A$10:$W$459,6,FALSE),\"\")","v":{"$error":"#N/A"}},{"$f":"IF($A726<>0,VLOOKUP($A726,Liste!$A$10:$W$459,7,FALSE),\"\")","v":{"$error":"#N/A"}}]
[{"$f":" IF($A726<>0, \"Lot \" & VLOOKUP($A726,Liste!$A$10:$W$459,9,FALSE),\"\")","v":{"$error":"#N/A"}},{"$f":"IF($A726<>0,VLOOKUP($A726,Liste!$A$10:$W$459,10,FALSE),\"\")","v":{"$error":"#N/A"}},{"$f":"IF($A726<>0,VLOOKUP($A726,Liste!$A$10:$W$459,11,FALSE),\"\")","v":{"$error":"#N/A"}}]
[{"$f":"IF($A726<>0,\"Lot \" & VLOOKUP($A726,Liste!$A$10:$W$459,12,FALSE),\"\")","v":{"$error":"#N/A"}},{"$f":"IF($A726<>0,VLOOKUP($A726,Liste!$A$10:$W$459,13,FALSE),\"\")","v":{"$error":"#N/A"}},{"$f":"IF($A726<>0,VLOOKUP($A726,Liste!$A$10:$W$459,14,FALSE),\"\")","v":{"$error":"#N/A"}}]
[{"$f":"IF($A726<>0,\"Lot \" & VLOOKUP($A726,Liste!$A$10:$W$459,15,FALSE),\"\")","v":{"$error":"#N/A"}},{"$f":"IF($A726<>0,VLOOKUP($A726,Liste!$A$10:$W$459,16,FALSE),\"\")","v":{"$error":"#N/A"}},{"$f":"IF($A726<>0,VLOOKUP($A726,Liste!$A$10:$W$459,17,FALSE),\"\")","v":{"$error":"#N/A"}},null,null,null,"Arrivé à","après vote de la Résolution N°"]
[{"$f":"IF($A726<>0,\"Lot \" & VLOOKUP($A726,Liste!$A$10:$W$459,18,FALSE),\"\")","v":{"$error":"#N/A"}},0,{"$f":"IF($A726<>0,VLOOKUP($A726,Liste!$A$10:$W$459,19,FALSE),\"\")","v":{"$error":"#N/A"}},null,null,null,"Départ à","après vote de la Résolution N°"]
[{"$f":"IF($A726<>0,\"Lot \" & VLOOKUP($A726,Liste!$A$10:$W$459,21,FALSE),\"\")","v":{"$error":"#N/A"}},{"$f":"IF($A726<>0,VLOOKUP($A726,Liste!$A$10:$W$459,22,FALSE),\"\")","v":{"$error":"#N/A"}},{"$f":"IF($A726<>0,VLOOKUP($A726,Liste!$A$10:$W$459,23,FALSE),\"\")","v":{"$error":"#N/A"}},null,null,null,{"$f":"IF(OR(B727=0,VLOOKUP(A726,Liste!$A$10:'Liste'!$Z$459,26)<>\"\"),\"\", \"Voir autorisation messages électroniques\")","v":{"$error":"#N/A"}}]
[{"$f":"A726+1","v":77},null,null,null,null,null,"Par correspondance reçu le "]
[{"$f":"IF($A735<>0,VLOOKUP($A735,Liste!$A$10:$W$459,3,FALSE),\"\")","v":{"$error":"#N/A"}},{"$f":"IF($A735<>0,VLOOKUP($A735,Liste!$A$10:$W$459,4,FALSE),\"\")","v":{"$error":"#N/A"}},null,null,{"$f":"IF($A735<>0,VLOOKUP($A735,Liste!$A$10:$W$459,8,FALSE),\"\")","v":{"$error":"#N/A"}},null,"Par visio, audio conférence,,,,"]
[{"$f":"IF($A735<>0,VLOOKUP($A735,Liste!$A$10:$W$459,5,FALSE),\"\")","v":{"$error":"#N/A"}},null,null,null,null,null,"Signature/ Mandataire :"]
[{"$f":"IF($A735<>0,VLOOKUP($A735,Liste!$A$10:$W$459,6,FALSE),\"\")","v":{"$error":"#N/A"}},{"$f":"IF($A735<>0,VLOOKUP($A735,Liste!$A$10:$W$459,7,FALSE),\"\")","v":{"$error":"#N/A"}}]
[{"$f":" IF($A735<>0, \"Lot \" & VLOOKUP($A735,Liste!$A$10:$W$459,9,FALSE),\"\")","v":{"$error":"#N/A"}},{"$f":"IF($A735<>0,VLOOKUP($A735,Liste!$A$10:$W$459,10,FALSE),\"\")","v":{"$error":"#N/A"}},{"$f":"IF($A735<>0,VLOOKUP($A735,Liste!$A$10:$W$459,11,FALSE),\"\")","v":{"$error":"#N/A"}}]
[{"$f":"IF($A735<>0,\"Lot \" & VLOOKUP($A735,Liste!$A$10:$W$459,12,FALSE),\"\")","v":{"$error":"#N/A"}},{"$f":"IF($A735<>0,VLOOKUP($A735,Liste!$A$10:$W$459,13,FALSE),\"\")","v":{"$error":"#N/A"}},{"$f":"IF($A735<>0,VLOOKUP($A735,Liste!$A$10:$W$459,14,FALSE),\"\")","v":{"$error":"#N/A"}}]
[{"$f":"IF($A735<>0,\"Lot \" & VLOOKUP($A735,Liste!$A$10:$W$459,15,FALSE),\"\")","v":{"$error":"#N/A"}},{"$f":"IF($A735<>0,VLOOKUP($A735,Liste!$A$10:$W$459,16,FALSE),\"\")","v":{"$error":"#N/A"}},{"$f":"IF($A735<>0,VLOOKUP($A735,Liste!$A$10:$W$459,17,FALSE),\"\")","v":{"$error":"#N/A"}},null,null,null,"Arrivé à","après vote de la Résolution N°"]
[{"$f":"IF($A735<>0,\"Lot \" & VLOOKUP($A735,Liste!$A$10:$W$459,18,FALSE),\"\")","v":{"$error":"#N/A"}},0,{"$f":"IF($A735<>0,VLOOKUP($A735,Liste!$A$10:$W$459,19,FALSE),\"\")","v":{"$error":"#N/A"}},null,null,null,"Départ à","après vote de la Résolution N°"]
[{"$f":"IF($A735<>0,\"Lot \" & VLOOKUP($A735,Liste!$A$10:$W$459,21,FALSE),\"\")","v":{"$error":"#N/A"}},{"$f":"IF($A735<>0,VLOOKUP($A735,Liste!$A$10:$W$459,22,FALSE),\"\")","v":{"$error":"#N/A"}},{"$f":"IF($A735<>0,VLOOKUP($A735,Liste!$A$10:$W$459,23,FALSE),\"\")","v":{"$error":"#N/A"}},null,null,null,{"$f":"IF(OR(B736=0,VLOOKUP(A735,Liste!$A$10:'Liste'!$Z$459,26)<>\"\"),\"\", \"Voir autorisation messages électroniques\")","v":{"$error":"#N/A"}}]
[{"$f":"A735+1","v":78},null,null,null,null,null,"Par correspondance reçu le "]
[{"$f":"IF($A744<>0,VLOOKUP($A744,Liste!$A$10:$W$459,3,FALSE),\"\")","v":{"$error":"#N/A"}},{"$f":"IF($A744<>0,VLOOKUP($A744,Liste!$A$10:$W$459,4,FALSE),\"\")","v":{"$error":"#N/A"}},null,null,{"$f":"IF($A744<>0,VLOOKUP($A744,Liste!$A$10:$W$459,8,FALSE),\"\")","v":{"$error":"#N/A"}},null,"Par visio, audio conférence,,,,"]
[{"$f":"IF($A744<>0,VLOOKUP($A744,Liste!$A$10:$W$459,5,FALSE),\"\")","v":{"$error":"#N/A"}},null,null,null,null,null,"Signature/ Mandataire :"]
[{"$f":"IF($A744<>0,VLOOKUP($A744,Liste!$A$10:$W$459,6,FALSE),\"\")","v":{"$error":"#N/A"}},{"$f":"IF($A744<>0,VLOOKUP($A744,Liste!$A$10:$W$459,7,FALSE),\"\")","v":{"$error":"#N/A"}}]
[{"$f":" IF($A744<>0, \"Lot \" & VLOOKUP($A744,Liste!$A$10:$W$459,9,FALSE),\"\")","v":{"$error":"#N/A"}},{"$f":"IF($A744<>0,VLOOKUP($A744,Liste!$A$10:$W$459,10,FALSE),\"\")","v":{"$error":"#N/A"}},{"$f":"IF($A744<>0,VLOOKUP($A744,Liste!$A$10:$W$459,11,FALSE),\"\")","v":{"$error":"#N/A"}}]
[{"$f":"IF($A744<>0,\"Lot \" & VLOOKUP($A744,Liste!$A$10:$W$459,12,FALSE),\"\")","v":{"$error":"#N/A"}},{"$f":"IF($A744<>0,VLOOKUP($A744,Liste!$A$10:$W$459,13,FALSE),\"\")","v":{"$error":"#N/A"}},{"$f":"IF($A744<>0,VLOOKUP($A744,Liste!$A$10:$W$459,14,FALSE),\"\")","v":{"$error":"#N/A"}}]
[{"$f":"IF($A744<>0,\"Lot \" & VLOOKUP($A744,Liste!$A$10:$W$459,15,FALSE),\"\")","v":{"$error":"#N/A"}},{"$f":"IF($A744<>0,VLOOKUP($A744,Liste!$A$10:$W$459,16,FALSE),\"\")","v":{"$error":"#N/A"}},{"$f":"IF($A744<>0,VLOOKUP($A744,Liste!$A$10:$W$459,17,FALSE),\"\")","v":{"$error":"#N/A"}},null,null,null,"Arrivé à","après vote de la Résolution N°"]
[{"$f":"IF($A744<>0,\"Lot \" & VLOOKUP($A744,Liste!$A$10:$W$459,18,FALSE),\"\")","v":{"$error":"#N/A"}},0,{"$f":"IF($A744<>0,VLOOKUP($A744,Liste!$A$10:$W$459,19,FALSE),\"\")","v":{"$error":"#N/A"}},null,null,null,"Départ à","après vote de la Résolution N°"]
[{"$f":"IF($A744<>0,\"Lot \" & VLOOKUP($A744,Liste!$A$10:$W$459,21,FALSE),\"\")","v":{"$error":"#N/A"}},{"$f":"IF($A744<>0,VLOOKUP($A744,Liste!$A$10:$W$459,22,FALSE),\"\")","v":{"$error":"#N/A"}},{"$f":"IF($A744<>0,VLOOKUP($A744,Liste!$A$10:$W$459,23,FALSE),\"\")","v":{"$error":"#N/A"}},null,null,null,{"$f":"IF(OR(B745=0,VLOOKUP(A744,Liste!$A$10:'Liste'!$Z$459,26)<>\"\"),\"\", \"Voir autorisation messages électroniques\")","v":{"$error":"#N/A"}}]
[{"$f":"A744+1","v":79},null,null,null,null,null,"Par correspondance reçu le "]
[{"$f":"IF($A753<>0,VLOOKUP($A753,Liste!$A$10:$W$459,3,FALSE),\"\")","v":{"$error":"#N/A"}},{"$f":"IF($A753<>0,VLOOKUP($A753,Liste!$A$10:$W$459,4,FALSE),\"\")","v":{"$error":"#N/A"}},null,null,{"$f":"IF($A753<>0,VLOOKUP($A753,Liste!$A$10:$W$459,8,FALSE),\"\")","v":{"$error":"#N/A"}},null,"Par visio, audio conférence,,,,"]
[{"$f":"IF($A753<>0,VLOOKUP($A753,Liste!$A$10:$W$459,5,FALSE),\"\")","v":{"$error":"#N/A"}},null,null,null,null,null,"Signature/ Mandataire :"]
[{"$f":"IF($A753<>0,VLOOKUP($A753,Liste!$A$10:$W$459,6,FALSE),\"\")","v":{"$error":"#N/A"}},{"$f":"IF($A753<>0,VLOOKUP($A753,Liste!$A$10:$W$459,7,FALSE),\"\")","v":{"$error":"#N/A"}}]
[{"$f":" IF($A753<>0, \"Lot \" & VLOOKUP($A753,Liste!$A$10:$W$459,9,FALSE),\"\")","v":{"$error":"#N/A"}},{"$f":"IF($A753<>0,VLOOKUP($A753,Liste!$A$10:$W$459,10,FALSE),\"\")","v":{"$error":"#N/A"}},{"$f":"IF($A753<>0,VLOOKUP($A753,Liste!$A$10:$W$459,11,FALSE),\"\")","v":{"$error":"#N/A"}}]
[{"$f":"IF($A753<>0,\"Lot \" & VLOOKUP($A753,Liste!$A$10:$W$459,12,FALSE),\"\")","v":{"$error":"#N/A"}},{"$f":"IF($A753<>0,VLOOKUP($A753,Liste!$A$10:$W$459,13,FALSE),\"\")","v":{"$error":"#N/A"}},{"$f":"IF($A753<>0,VLOOKUP($A753,Liste!$A$10:$W$459,14,FALSE),\"\")","v":{"$error":"#N/A"}}]
[{"$f":"IF($A753<>0,\"Lot \" & VLOOKUP($A753,Liste!$A$10:$W$459,15,FALSE),\"\")","v":{"$error":"#N/A"}},{"$f":"IF($A753<>0,VLOOKUP($A753,Liste!$A$10:$W$459,16,FALSE),\"\")","v":{"$error":"#N/A"}},{"$f":"IF($A753<>0,VLOOKUP($A753,Liste!$A$10:$W$459,17,FALSE),\"\")","v":{"$error":"#N/A"}},null,null,null,"Arrivé à","après vote de la Résolution N°"]
[{"$f":"IF($A753<>0,\"Lot \" & VLOOKUP($A753,Liste!$A$10:$W$459,18,FALSE),\"\")","v":{"$error":"#N/A"}},0,{"$f":"IF($A753<>0,VLOOKUP($A753,Liste!$A$10:$W$459,19,FALSE),\"\")","v":{"$error":"#N/A"}},null,null,null,"Départ à","après vote de la Résolution N°"]
[{"$f":"IF($A753<>0,\"Lot \" & VLOOKUP($A753,Liste!$A$10:$W$459,21,FALSE),\"\")","v":{"$error":"#N/A"}},{"$f":"IF($A753<>0,VLOOKUP($A753,Liste!$A$10:$W$459,22,FALSE),\"\")","v":{"$error":"#N/A"}},{"$f":"IF($A753<>0,VLOOKUP($A753,Liste!$A$10:$W$459,23,FALSE),\"\")","v":{"$error":"#N/A"}},null,null,null,{"$f":"IF(OR(B754=0,VLOOKUP(A753,Liste!$A$10:'Liste'!$Z$459,26)<>\"\"),\"\", \"Voir autorisation messages électroniques\")","v":{"$error":"#N/A"}}]
[{"$f":"A753+1","v":80},null,null,null,null,null,"Par correspondance reçu le "]
[{"$f":"IF($A762<>0,VLOOKUP($A762,Liste!$A$10:$W$459,3,FALSE),\"\")","v":{"$error":"#N/A"}},{"$f":"IF($A762<>0,VLOOKUP($A762,Liste!$A$10:$W$459,4,FALSE),\"\")","v":{"$error":"#N/A"}},null,null,{"$f":"IF($A762<>0,VLOOKUP($A762,Liste!$A$10:$W$459,8,FALSE),\"\")","v":{"$error":"#N/A"}},null,"Par visio, audio conférence,,,,"]
[{"$f":"IF($A762<>0,VLOOKUP($A762,Liste!$A$10:$W$459,5,FALSE),\"\")","v":{"$error":"#N/A"}},null,null,null,null,null,"Signature/ Mandataire :"]
[{"$f":"IF($A762<>0,VLOOKUP($A762,Liste!$A$10:$W$459,6,FALSE),\"\")","v":{"$error":"#N/A"}},{"$f":"IF($A762<>0,VLOOKUP($A762,Liste!$A$10:$W$459,7,FALSE),\"\")","v":{"$error":"#N/A"}}]
[{"$f":" IF($A762<>0, \"Lot \" & VLOOKUP($A762,Liste!$A$10:$W$459,9,FALSE),\"\")","v":{"$error":"#N/A"}},{"$f":"IF($A762<>0,VLOOKUP($A762,Liste!$A$10:$W$459,10,FALSE),\"\")","v":{"$error":"#N/A"}},{"$f":"IF($A762<>0,VLOOKUP($A762,Liste!$A$10:$W$459,11,FALSE),\"\")","v":{"$error":"#N/A"}}]
[{"$f":"IF($A762<>0,\"Lot \" & VLOOKUP($A762,Liste!$A$10:$W$459,12,FALSE),\"\")","v":{"$error":"#N/A"}},{"$f":"IF($A762<>0,VLOOKUP($A762,Liste!$A$10:$W$459,13,FALSE),\"\")","v":{"$error":"#N/A"}},{"$f":"IF($A762<>0,VLOOKUP($A762,Liste!$A$10:$W$459,14,FALSE),\"\")","v":{"$error":"#N/A"}}]
[{"$f":"IF($A762<>0,\"Lot \" & VLOOKUP($A762,Liste!$A$10:$W$459,15,FALSE),\"\")","v":{"$error":"#N/A"}},{"$f":"IF($A762<>0,VLOOKUP($A762,Liste!$A$10:$W$459,16,FALSE),\"\")","v":{"$error":"#N/A"}},{"$f":"IF($A762<>0,VLOOKUP($A762,Liste!$A$10:$W$459,17,FALSE),\"\")","v":{"$error":"#N/A"}},null,null,null,"Arrivé à","après vote de la Résolution N°"]
[{"$f":"IF($A762<>0,\"Lot \" & VLOOKUP($A762,Liste!$A$10:$W$459,18,FALSE),\"\")","v":{"$error":"#N/A"}},0,{"$f":"IF($A762<>0,VLOOKUP($A762,Liste!$A$10:$W$459,19,FALSE),\"\")","v":{"$error":"#N/A"}},null,null,null,"Départ à","après vote de la Résolution N°"]
[{"$f":"IF($A762<>0,\"Lot \" & VLOOKUP($A762,Liste!$A$10:$W$459,21,FALSE),\"\")","v":{"$error":"#N/A"}},{"$f":"IF($A762<>0,VLOOKUP($A762,Liste!$A$10:$W$459,22,FALSE),\"\")","v":{"$error":"#N/A"}},{"$f":"IF($A762<>0,VLOOKUP($A762,Liste!$A$10:$W$459,23,FALSE),\"\")","v":{"$error":"#N/A"}},null,null,null,{"$f":"IF(OR(B763=0,VLOOKUP(A762,Liste!$A$10:'Liste'!$Z$459,26)<>\"\"),\"\", \"Voir autorisation messages électroniques\")","v":{"$error":"#N/A"}}]
[]
[null,null,null,"A S S E M B L E E     G E N E R A L E",null,null,null,null,null,null,"Page",{"$f":"L695+1","v":11}]
[null,null,null,null,null,"du","2019-12-20"]
[null,null,null,"Résidence Le Paradis; Rue de l' espoir 75016 PARIS"]
[]
[{"$f":"A762+1","v":81},null,null,null,null,null,"Par correspondance reçu le "]
[{"$f":"IF($A776<>0,VLOOKUP($A776,Liste!$A$10:$W$459,3,FALSE),\"\")","v":{"$error":"#N/A"}},{"$f":"IF($A776<>0,VLOOKUP($A776,Liste!$A$10:$W$459,4,FALSE),\"\")","v":{"$error":"#N/A"}},null,null,{"$f":"IF($A776<>0,VLOOKUP($A776,Liste!$A$10:$W$459,8,FALSE),\"\")","v":{"$error":"#N/A"}},null,"Par visio, audio conférence,,,,"]
[{"$f":"IF($A776<>0,VLOOKUP($A776,Liste!$A$10:$W$459,5,FALSE),\"\")","v":{"$error":"#N/A"}},null,null,null,null,null,"Signature/ Mandataire :"]
[{"$f":"IF($A776<>0,VLOOKUP($A776,Liste!$A$10:$W$459,6,FALSE),\"\")","v":{"$error":"#N/A"}},{"$f":"IF($A776<>0,VLOOKUP($A776,Liste!$A$10:$W$459,7,FALSE),\"\")","v":{"$error":"#N/A"}}]
[{"$f":" IF($A776<>0, \"Lot \" & VLOOKUP($A776,Liste!$A$10:$W$459,9,FALSE),\"\")","v":{"$error":"#N/A"}},{"$f":"IF($A776<>0,VLOOKUP($A776,Liste!$A$10:$W$459,10,FALSE),\"\")","v":{"$error":"#N/A"}},{"$f":"IF($A776<>0,VLOOKUP($A776,Liste!$A$10:$W$459,11,FALSE),\"\")","v":{"$error":"#N/A"}}]
[{"$f":"IF($A776<>0,\"Lot \" & VLOOKUP($A776,Liste!$A$10:$W$459,12,FALSE),\"\")","v":{"$error":"#N/A"}},{"$f":"IF($A776<>0,VLOOKUP($A776,Liste!$A$10:$W$459,13,FALSE),\"\")","v":{"$error":"#N/A"}},{"$f":"IF($A776<>0,VLOOKUP($A776,Liste!$A$10:$W$459,14,FALSE),\"\")","v":{"$error":"#N/A"}}]
[{"$f":"IF($A776<>0,\"Lot \" & VLOOKUP($A776,Liste!$A$10:$W$459,15,FALSE),\"\")","v":{"$error":"#N/A"}},{"$f":"IF($A776<>0,VLOOKUP($A776,Liste!$A$10:$W$459,16,FALSE),\"\")","v":{"$error":"#N/A"}},{"$f":"IF($A776<>0,VLOOKUP($A776,Liste!$A$10:$W$459,17,FALSE),\"\")","v":{"$error":"#N/A"}},null,null,null,"Arrivé à","après vote de la Résolution N°"]
[{"$f":"IF($A776<>0,\"Lot \" & VLOOKUP($A776,Liste!$A$10:$W$459,18,FALSE),\"\")","v":{"$error":"#N/A"}},0,{"$f":"IF($A776<>0,VLOOKUP($A776,Liste!$A$10:$W$459,19,FALSE),\"\")","v":{"$error":"#N/A"}},null,null,null,"Départ à","après vote de la Résolution N°"]
[{"$f":"IF($A776<>0,\"Lot \" & VLOOKUP($A776,Liste!$A$10:$W$459,21,FALSE),\"\")","v":{"$error":"#N/A"}},{"$f":"IF($A776<>0,VLOOKUP($A776,Liste!$A$10:$W$459,22,FALSE),\"\")","v":{"$error":"#N/A"}},{"$f":"IF($A776<>0,VLOOKUP($A776,Liste!$A$10:$W$459,23,FALSE),\"\")","v":{"$error":"#N/A"}},null,null,null,{"$f":"IF(OR(B777=0,VLOOKUP(A776,Liste!$A$10:'Liste'!$Z$459,26)<>\"\"),\"\", \"Voir autorisation messages électroniques\")","v":{"$error":"#N/A"}}]
[{"$f":"A776+1","v":82},null,null,null,null,null,"Par correspondance reçu le "]
[{"$f":"IF($A785<>0,VLOOKUP($A785,Liste!$A$10:$W$459,3,FALSE),\"\")","v":{"$error":"#N/A"}},{"$f":"IF($A785<>0,VLOOKUP($A785,Liste!$A$10:$W$459,4,FALSE),\"\")","v":{"$error":"#N/A"}},null,null,{"$f":"IF($A785<>0,VLOOKUP($A785,Liste!$A$10:$W$459,8,FALSE),\"\")","v":{"$error":"#N/A"}},null,"Par visio, audio conférence,,,,"]
[{"$f":"IF($A785<>0,VLOOKUP($A785,Liste!$A$10:$W$459,5,FALSE),\"\")","v":{"$error":"#N/A"}},null,null,null,null,null,"Signature/ Mandataire :"]
[{"$f":"IF($A785<>0,VLOOKUP($A785,Liste!$A$10:$W$459,6,FALSE),\"\")","v":{"$error":"#N/A"}},{"$f":"IF($A785<>0,VLOOKUP($A785,Liste!$A$10:$W$459,7,FALSE),\"\")","v":{"$error":"#N/A"}}]
[{"$f":" IF($A785<>0, \"Lot \" & VLOOKUP($A785,Liste!$A$10:$W$459,9,FALSE),\"\")","v":{"$error":"#N/A"}},{"$f":"IF($A785<>0,VLOOKUP($A785,Liste!$A$10:$W$459,10,FALSE),\"\")","v":{"$error":"#N/A"}},{"$f":"IF($A785<>0,VLOOKUP($A785,Liste!$A$10:$W$459,11,FALSE),\"\")","v":{"$error":"#N/A"}}]
[{"$f":"IF($A785<>0,\"Lot \" & VLOOKUP($A785,Liste!$A$10:$W$459,12,FALSE),\"\")","v":{"$error":"#N/A"}},{"$f":"IF($A785<>0,VLOOKUP($A785,Liste!$A$10:$W$459,13,FALSE),\"\")","v":{"$error":"#N/A"}},{"$f":"IF($A785<>0,VLOOKUP($A785,Liste!$A$10:$W$459,14,FALSE),\"\")","v":{"$error":"#N/A"}}]
[{"$f":"IF($A785<>0,\"Lot \" & VLOOKUP($A785,Liste!$A$10:$W$459,15,FALSE),\"\")","v":{"$error":"#N/A"}},{"$f":"IF($A785<>0,VLOOKUP($A785,Liste!$A$10:$W$459,16,FALSE),\"\")","v":{"$error":"#N/A"}},{"$f":"IF($A785<>0,VLOOKUP($A785,Liste!$A$10:$W$459,17,FALSE),\"\")","v":{"$error":"#N/A"}},null,null,null,"Arrivé à","après vote de la Résolution N°"]
[{"$f":"IF($A785<>0,\"Lot \" & VLOOKUP($A785,Liste!$A$10:$W$459,18,FALSE),\"\")","v":{"$error":"#N/A"}},0,{"$f":"IF($A785<>0,VLOOKUP($A785,Liste!$A$10:$W$459,19,FALSE),\"\")","v":{"$error":"#N/A"}},null,null,null,"Départ à","après vote de la Résolution N°"]
[{"$f":"IF($A785<>0,\"Lot \" & VLOOKUP($A785,Liste!$A$10:$W$459,21,FALSE),\"\")","v":{"$error":"#N/A"}},{"$f":"IF($A785<>0,VLOOKUP($A785,Liste!$A$10:$W$459,22,FALSE),\"\")","v":{"$error":"#N/A"}},{"$f":"IF($A785<>0,VLOOKUP($A785,Liste!$A$10:$W$459,23,FALSE),\"\")","v":{"$error":"#N/A"}},null,null,null,{"$f":"IF(OR(B786=0,VLOOKUP(A785,Liste!$A$10:'Liste'!$Z$459,26)<>\"\"),\"\", \"Voir autorisation messages électroniques\")","v":{"$error":"#N/A"}}]
[{"$f":"A785+1","v":83},null,null,null,null,null,"Par correspondance reçu le "]
[{"$f":"IF($A794<>0,VLOOKUP($A794,Liste!$A$10:$W$459,3,FALSE),\"\")","v":{"$error":"#N/A"}},{"$f":"IF($A794<>0,VLOOKUP($A794,Liste!$A$10:$W$459,4,FALSE),\"\")","v":{"$error":"#N/A"}},null,null,{"$f":"IF($A794<>0,VLOOKUP($A794,Liste!$A$10:$W$459,8,FALSE),\"\")","v":{"$error":"#N/A"}},null,"Par visio, audio conférence,,,,"]
[{"$f":"IF($A794<>0,VLOOKUP($A794,Liste!$A$10:$W$459,5,FALSE),\"\")","v":{"$error":"#N/A"}},null,null,null,null,null,"Signature/ Mandataire :"]
[{"$f":"IF($A794<>0,VLOOKUP($A794,Liste!$A$10:$W$459,6,FALSE),\"\")","v":{"$error":"#N/A"}},{"$f":"IF($A794<>0,VLOOKUP($A794,Liste!$A$10:$W$459,7,FALSE),\"\")","v":{"$error":"#N/A"}}]
[{"$f":" IF($A794<>0, \"Lot \" & VLOOKUP($A794,Liste!$A$10:$W$459,9,FALSE),\"\")","v":{"$error":"#N/A"}},{"$f":"IF($A794<>0,VLOOKUP($A794,Liste!$A$10:$W$459,10,FALSE),\"\")","v":{"$error":"#N/A"}},{"$f":"IF($A794<>0,VLOOKUP($A794,Liste!$A$10:$W$459,11,FALSE),\"\")","v":{"$error":"#N/A"}}]
[{"$f":"IF($A794<>0,\"Lot \" & VLOOKUP($A794,Liste!$A$10:$W$459,12,FALSE),\"\")","v":{"$error":"#N/A"}},{"$f":"IF($A794<>0,VLOOKUP($A794,Liste!$A$10:$W$459,13,FALSE),\"\")","v":{"$error":"#N/A"}},{"$f":"IF($A794<>0,VLOOKUP($A794,Liste!$A$10:$W$459,14,FALSE),\"\")","v":{"$error":"#N/A"}}]
[{"$f":"IF($A794<>0,\"Lot \" & VLOOKUP($A794,Liste!$A$10:$W$459,15,FALSE),\"\")","v":{"$error":"#N/A"}},{"$f":"IF($A794<>0,VLOOKUP($A794,Liste!$A$10:$W$459,16,FALSE),\"\")","v":{"$error":"#N/A"}},{"$f":"IF($A794<>0,VLOOKUP($A794,Liste!$A$10:$W$459,17,FALSE),\"\")","v":{"$error":"#N/A"}},null,null,null,"Arrivé à","après vote de la Résolution N°"]
[{"$f":"IF($A794<>0,\"Lot \" & VLOOKUP($A794,Liste!$A$10:$W$459,18,FALSE),\"\")","v":{"$error":"#N/A"}},0,{"$f":"IF($A794<>0,VLOOKUP($A794,Liste!$A$10:$W$459,19,FALSE),\"\")","v":{"$error":"#N/A"}},null,null,null,"Départ à","après vote de la Résolution N°"]
[{"$f":"IF($A794<>0,\"Lot \" & VLOOKUP($A794,Liste!$A$10:$W$459,21,FALSE),\"\")","v":{"$error":"#N/A"}},{"$f":"IF($A794<>0,VLOOKUP($A794,Liste!$A$10:$W$459,22,FALSE),\"\")","v":{"$error":"#N/A"}},{"$f":"IF($A794<>0,VLOOKUP($A794,Liste!$A$10:$W$459,23,FALSE),\"\")","v":{"$error":"#N/A"}},null,null,null,{"$f":"IF(OR(B795=0,VLOOKUP(A794,Liste!$A$10:'Liste'!$Z$459,26)<>\"\"),\"\", \"Voir autorisation messages électroniques\")","v":{"$error":"#N/A"}}]
[{"$f":"A794+1","v":84},null,null,null,null,null,"Par correspondance reçu le "]
[{"$f":"IF($A803<>0,VLOOKUP($A803,Liste!$A$10:$W$459,3,FALSE),\"\")","v":{"$error":"#N/A"}},{"$f":"IF($A803<>0,VLOOKUP($A803,Liste!$A$10:$W$459,4,FALSE),\"\")","v":{"$error":"#N/A"}},null,null,{"$f":"IF($A803<>0,VLOOKUP($A803,Liste!$A$10:$W$459,8,FALSE),\"\")","v":{"$error":"#N/A"}},null,"Par visio, audio conférence,,,,"]
[{"$f":"IF($A803<>0,VLOOKUP($A803,Liste!$A$10:$W$459,5,FALSE),\"\")","v":{"$error":"#N/A"}},null,null,null,null,null,"Signature/ Mandataire :"]
[{"$f":"IF($A803<>0,VLOOKUP($A803,Liste!$A$10:$W$459,6,FALSE),\"\")","v":{"$error":"#N/A"}},{"$f":"IF($A803<>0,VLOOKUP($A803,Liste!$A$10:$W$459,7,FALSE),\"\")","v":{"$error":"#N/A"}}]
[{"$f":" IF($A803<>0, \"Lot \" & VLOOKUP($A803,Liste!$A$10:$W$459,9,FALSE),\"\")","v":{"$error":"#N/A"}},{"$f":"IF($A803<>0,VLOOKUP($A803,Liste!$A$10:$W$459,10,FALSE),\"\")","v":{"$error":"#N/A"}},{"$f":"IF($A803<>0,VLOOKUP($A803,Liste!$A$10:$W$459,11,FALSE),\"\")","v":{"$error":"#N/A"}}]
[{"$f":"IF($A803<>0,\"Lot \" & VLOOKUP($A803,Liste!$A$10:$W$459,12,FALSE),\"\")","v":{"$error":"#N/A"}},{"$f":"IF($A803<>0,VLOOKUP($A803,Liste!$A$10:$W$459,13,FALSE),\"\")","v":{"$error":"#N/A"}},{"$f":"IF($A803<>0,VLOOKUP($A803,Liste!$A$10:$W$459,14,FALSE),\"\")","v":{"$error":"#N/A"}}]
[{"$f":"IF($A803<>0,\"Lot \" & VLOOKUP($A803,Liste!$A$10:$W$459,15,FALSE),\"\")","v":{"$error":"#N/A"}},{"$f":"IF($A803<>0,VLOOKUP($A803,Liste!$A$10:$W$459,16,FALSE),\"\")","v":{"$error":"#N/A"}},{"$f":"IF($A803<>0,VLOOKUP($A803,Liste!$A$10:$W$459,17,FALSE),\"\")","v":{"$error":"#N/A"}},null,null,null,"Arrivé à","après vote de la Résolution N°"]
[{"$f":"IF($A803<>0,\"Lot \" & VLOOKUP($A803,Liste!$A$10:$W$459,18,FALSE),\"\")","v":{"$error":"#N/A"}},0,{"$f":"IF($A803<>0,VLOOKUP($A803,Liste!$A$10:$W$459,19,FALSE),\"\")","v":{"$error":"#N/A"}},null,null,null,"Départ à","après vote de la Résolution N°"]
[{"$f":"IF($A803<>0,\"Lot \" & VLOOKUP($A803,Liste!$A$10:$W$459,21,FALSE),\"\")","v":{"$error":"#N/A"}},{"$f":"IF($A803<>0,VLOOKUP($A803,Liste!$A$10:$W$459,22,FALSE),\"\")","v":{"$error":"#N/A"}},{"$f":"IF($A803<>0,VLOOKUP($A803,Liste!$A$10:$W$459,23,FALSE),\"\")","v":{"$error":"#N/A"}},null,null,null,{"$f":"IF(OR(B804=0,VLOOKUP(A803,Liste!$A$10:'Liste'!$Z$459,26)<>\"\"),\"\", \"Voir autorisation messages électroniques\")","v":{"$error":"#N/A"}}]
[{"$f":"A803+1","v":85},null,null,null,null,null,"Par correspondance reçu le "]
[{"$f":"IF($A812<>0,VLOOKUP($A812,Liste!$A$10:$W$459,3,FALSE),\"\")","v":{"$error":"#N/A"}},{"$f":"IF($A812<>0,VLOOKUP($A812,Liste!$A$10:$W$459,4,FALSE),\"\")","v":{"$error":"#N/A"}},null,null,{"$f":"IF($A812<>0,VLOOKUP($A812,Liste!$A$10:$W$459,8,FALSE),\"\")","v":{"$error":"#N/A"}},null,"Par visio, audio conférence,,,,"]
[{"$f":"IF($A812<>0,VLOOKUP($A812,Liste!$A$10:$W$459,5,FALSE),\"\")","v":{"$error":"#N/A"}},null,null,null,null,null,"Signature/ Mandataire :"]
[{"$f":"IF($A812<>0,VLOOKUP($A812,Liste!$A$10:$W$459,6,FALSE),\"\")","v":{"$error":"#N/A"}},{"$f":"IF($A812<>0,VLOOKUP($A812,Liste!$A$10:$W$459,7,FALSE),\"\")","v":{"$error":"#N/A"}}]
[{"$f":" IF($A812<>0, \"Lot \" & VLOOKUP($A812,Liste!$A$10:$W$459,9,FALSE),\"\")","v":{"$error":"#N/A"}},{"$f":"IF($A812<>0,VLOOKUP($A812,Liste!$A$10:$W$459,10,FALSE),\"\")","v":{"$error":"#N/A"}},{"$f":"IF($A812<>0,VLOOKUP($A812,Liste!$A$10:$W$459,11,FALSE),\"\")","v":{"$error":"#N/A"}}]
[{"$f":"IF($A812<>0,\"Lot \" & VLOOKUP($A812,Liste!$A$10:$W$459,12,FALSE),\"\")","v":{"$error":"#N/A"}},{"$f":"IF($A812<>0,VLOOKUP($A812,Liste!$A$10:$W$459,13,FALSE),\"\")","v":{"$error":"#N/A"}},{"$f":"IF($A812<>0,VLOOKUP($A812,Liste!$A$10:$W$459,14,FALSE),\"\")","v":{"$error":"#N/A"}}]
[{"$f":"IF($A812<>0,\"Lot \" & VLOOKUP($A812,Liste!$A$10:$W$459,15,FALSE),\"\")","v":{"$error":"#N/A"}},{"$f":"IF($A812<>0,VLOOKUP($A812,Liste!$A$10:$W$459,16,FALSE),\"\")","v":{"$error":"#N/A"}},{"$f":"IF($A812<>0,VLOOKUP($A812,Liste!$A$10:$W$459,17,FALSE),\"\")","v":{"$error":"#N/A"}},null,null,null,"Arrivé à","après vote de la Résolution N°"]
[{"$f":"IF($A812<>0,\"Lot \" & VLOOKUP($A812,Liste!$A$10:$W$459,18,FALSE),\"\")","v":{"$error":"#N/A"}},0,{"$f":"IF($A812<>0,VLOOKUP($A812,Liste!$A$10:$W$459,19,FALSE),\"\")","v":{"$error":"#N/A"}},null,null,null,"Départ à","après vote de la Résolution N°"]
[{"$f":"IF($A812<>0,\"Lot \" & VLOOKUP($A812,Liste!$A$10:$W$459,21,FALSE),\"\")","v":{"$error":"#N/A"}},{"$f":"IF($A812<>0,VLOOKUP($A812,Liste!$A$10:$W$459,22,FALSE),\"\")","v":{"$error":"#N/A"}},{"$f":"IF($A812<>0,VLOOKUP($A812,Liste!$A$10:$W$459,23,FALSE),\"\")","v":{"$error":"#N/A"}},null,null,null,{"$f":"IF(OR(B813=0,VLOOKUP(A812,Liste!$A$10:'Liste'!$Z$459,26)<>\"\"),\"\", \"Voir autorisation messages électroniques\")","v":{"$error":"#N/A"}}]
[{"$f":"A812+1","v":86},null,null,null,null,null,"Par correspondance reçu le "]
[{"$f":"IF($A821<>0,VLOOKUP($A821,Liste!$A$10:$W$459,3,FALSE),\"\")","v":{"$error":"#N/A"}},{"$f":"IF($A821<>0,VLOOKUP($A821,Liste!$A$10:$W$459,4,FALSE),\"\")","v":{"$error":"#N/A"}},null,null,{"$f":"IF($A821<>0,VLOOKUP($A821,Liste!$A$10:$W$459,8,FALSE),\"\")","v":{"$error":"#N/A"}},null,"Par visio, audio conférence,,,,"]
[{"$f":"IF($A821<>0,VLOOKUP($A821,Liste!$A$10:$W$459,5,FALSE),\"\")","v":{"$error":"#N/A"}},null,null,null,null,null,"Signature/ Mandataire :"]
[{"$f":"IF($A821<>0,VLOOKUP($A821,Liste!$A$10:$W$459,6,FALSE),\"\")","v":{"$error":"#N/A"}},{"$f":"IF($A821<>0,VLOOKUP($A821,Liste!$A$10:$W$459,7,FALSE),\"\")","v":{"$error":"#N/A"}}]
[{"$f":" IF($A821<>0, \"Lot \" & VLOOKUP($A821,Liste!$A$10:$W$459,9,FALSE),\"\")","v":{"$error":"#N/A"}},{"$f":"IF($A821<>0,VLOOKUP($A821,Liste!$A$10:$W$459,10,FALSE),\"\")","v":{"$error":"#N/A"}},{"$f":"IF($A821<>0,VLOOKUP($A821,Liste!$A$10:$W$459,11,FALSE),\"\")","v":{"$error":"#N/A"}}]
[{"$f":"IF($A821<>0,\"Lot \" & VLOOKUP($A821,Liste!$A$10:$W$459,12,FALSE),\"\")","v":{"$error":"#N/A"}},{"$f":"IF($A821<>0,VLOOKUP($A821,Liste!$A$10:$W$459,13,FALSE),\"\")","v":{"$error":"#N/A"}},{"$f":"IF($A821<>0,VLOOKUP($A821,Liste!$A$10:$W$459,14,FALSE),\"\")","v":{"$error":"#N/A"}}]
[{"$f":"IF($A821<>0,\"Lot \" & VLOOKUP($A821,Liste!$A$10:$W$459,15,FALSE),\"\")","v":{"$error":"#N/A"}},{"$f":"IF($A821<>0,VLOOKUP($A821,Liste!$A$10:$W$459,16,FALSE),\"\")","v":{"$error":"#N/A"}},{"$f":"IF($A821<>0,VLOOKUP($A821,Liste!$A$10:$W$459,17,FALSE),\"\")","v":{"$error":"#N/A"}},null,null,null,"Arrivé à","après vote de la Résolution N°"]
[{"$f":"IF($A821<>0,\"Lot \" & VLOOKUP($A821,Liste!$A$10:$W$459,18,FALSE),\"\")","v":{"$error":"#N/A"}},0,{"$f":"IF($A821<>0,VLOOKUP($A821,Liste!$A$10:$W$459,19,FALSE),\"\")","v":{"$error":"#N/A"}},null,null,null,"Départ à","après vote de la Résolution N°"]
[{"$f":"IF($A821<>0,\"Lot \" & VLOOKUP($A821,Liste!$A$10:$W$459,21,FALSE),\"\")","v":{"$error":"#N/A"}},{"$f":"IF($A821<>0,VLOOKUP($A821,Liste!$A$10:$W$459,22,FALSE),\"\")","v":{"$error":"#N/A"}},{"$f":"IF($A821<>0,VLOOKUP($A821,Liste!$A$10:$W$459,23,FALSE),\"\")","v":{"$error":"#N/A"}},null,null,null,{"$f":"IF(OR(B822=0,VLOOKUP(A821,Liste!$A$10:'Liste'!$Z$459,26)<>\"\"),\"\", \"Voir autorisation messages électroniques\")","v":{"$error":"#N/A"}}]
[{"$f":"A821+1","v":87},null,null,null,null,null,"Par correspondance reçu le "]
[{"$f":"IF($A830<>0,VLOOKUP($A830,Liste!$A$10:$W$459,3,FALSE),\"\")","v":{"$error":"#N/A"}},{"$f":"IF($A830<>0,VLOOKUP($A830,Liste!$A$10:$W$459,4,FALSE),\"\")","v":{"$error":"#N/A"}},null,null,{"$f":"IF($A830<>0,VLOOKUP($A830,Liste!$A$10:$W$459,8,FALSE),\"\")","v":{"$error":"#N/A"}},null,"Par visio, audio conférence,,,,"]
[{"$f":"IF($A830<>0,VLOOKUP($A830,Liste!$A$10:$W$459,5,FALSE),\"\")","v":{"$error":"#N/A"}},null,null,null,null,null,"Signature/ Mandataire :"]
[{"$f":"IF($A830<>0,VLOOKUP($A830,Liste!$A$10:$W$459,6,FALSE),\"\")","v":{"$error":"#N/A"}},{"$f":"IF($A830<>0,VLOOKUP($A830,Liste!$A$10:$W$459,7,FALSE),\"\")","v":{"$error":"#N/A"}}]
[{"$f":" IF($A830<>0, \"Lot \" & VLOOKUP($A830,Liste!$A$10:$W$459,9,FALSE),\"\")","v":{"$error":"#N/A"}},{"$f":"IF($A830<>0,VLOOKUP($A830,Liste!$A$10:$W$459,10,FALSE),\"\")","v":{"$error":"#N/A"}},{"$f":"IF($A830<>0,VLOOKUP($A830,Liste!$A$10:$W$459,11,FALSE),\"\")","v":{"$error":"#N/A"}}]
[{"$f":"IF($A830<>0,\"Lot \" & VLOOKUP($A830,Liste!$A$10:$W$459,12,FALSE),\"\")","v":{"$error":"#N/A"}},{"$f":"IF($A830<>0,VLOOKUP($A830,Liste!$A$10:$W$459,13,FALSE),\"\")","v":{"$error":"#N/A"}},{"$f":"IF($A830<>0,VLOOKUP($A830,Liste!$A$10:$W$459,14,FALSE),\"\")","v":{"$error":"#N/A"}}]
[{"$f":"IF($A830<>0,\"Lot \" & VLOOKUP($A830,Liste!$A$10:$W$459,15,FALSE),\"\")","v":{"$error":"#N/A"}},{"$f":"IF($A830<>0,VLOOKUP($A830,Liste!$A$10:$W$459,16,FALSE),\"\")","v":{"$error":"#N/A"}},{"$f":"IF($A830<>0,VLOOKUP($A830,Liste!$A$10:$W$459,17,FALSE),\"\")","v":{"$error":"#N/A"}},null,null,null,"Arrivé à","après vote de la Résolution N°"]
[{"$f":"IF($A830<>0,\"Lot \" & VLOOKUP($A830,Liste!$A$10:$W$459,18,FALSE),\"\")","v":{"$error":"#N/A"}},0,{"$f":"IF($A830<>0,VLOOKUP($A830,Liste!$A$10:$W$459,19,FALSE),\"\")","v":{"$error":"#N/A"}},null,null,null,"Départ à","après vote de la Résolution N°"]
[{"$f":"IF($A830<>0,\"Lot \" & VLOOKUP($A830,Liste!$A$10:$W$459,21,FALSE),\"\")","v":{"$error":"#N/A"}},{"$f":"IF($A830<>0,VLOOKUP($A830,Liste!$A$10:$W$459,22,FALSE),\"\")","v":{"$error":"#N/A"}},{"$f":"IF($A830<>0,VLOOKUP($A830,Liste!$A$10:$W$459,23,FALSE),\"\")","v":{"$error":"#N/A"}},null,null,null,{"$f":"IF(OR(B831=0,VLOOKUP(A830,Liste!$A$10:'Liste'!$Z$459,26)<>\"\"),\"\", \"Voir autorisation messages électroniques\")","v":{"$error":"#N/A"}}]
[{"$f":"A830+1","v":88},null,null,null,null,null,"Par correspondance reçu le "]
[{"$f":"IF($A839<>0,VLOOKUP($A839,Liste!$A$10:$W$459,3,FALSE),\"\")","v":{"$error":"#N/A"}},{"$f":"IF($A839<>0,VLOOKUP($A839,Liste!$A$10:$W$459,4,FALSE),\"\")","v":{"$error":"#N/A"}},null,null,{"$f":"IF($A839<>0,VLOOKUP($A839,Liste!$A$10:$W$459,8,FALSE),\"\")","v":{"$error":"#N/A"}},null,"Par visio, audio conférence,,,,"]
[{"$f":"IF($A839<>0,VLOOKUP($A839,Liste!$A$10:$W$459,5,FALSE),\"\")","v":{"$error":"#N/A"}},null,null,null,null,null,"Signature/ Mandataire :"]
[{"$f":"IF($A839<>0,VLOOKUP($A839,Liste!$A$10:$W$459,6,FALSE),\"\")","v":{"$error":"#N/A"}},{"$f":"IF($A839<>0,VLOOKUP($A839,Liste!$A$10:$W$459,7,FALSE),\"\")","v":{"$error":"#N/A"}}]
[{"$f":" IF($A839<>0, \"Lot \" & VLOOKUP($A839,Liste!$A$10:$W$459,9,FALSE),\"\")","v":{"$error":"#N/A"}},{"$f":"IF($A839<>0,VLOOKUP($A839,Liste!$A$10:$W$459,10,FALSE),\"\")","v":{"$error":"#N/A"}},{"$f":"IF($A839<>0,VLOOKUP($A839,Liste!$A$10:$W$459,11,FALSE),\"\")","v":{"$error":"#N/A"}}]
[{"$f":"IF($A839<>0,\"Lot \" & VLOOKUP($A839,Liste!$A$10:$W$459,12,FALSE),\"\")","v":{"$error":"#N/A"}},{"$f":"IF($A839<>0,VLOOKUP($A839,Liste!$A$10:$W$459,13,FALSE),\"\")","v":{"$error":"#N/A"}},{"$f":"IF($A839<>0,VLOOKUP($A839,Liste!$A$10:$W$459,14,FALSE),\"\")","v":{"$error":"#N/A"}}]
[{"$f":"IF($A839<>0,\"Lot \" & VLOOKUP($A839,Liste!$A$10:$W$459,15,FALSE),\"\")","v":{"$error":"#N/A"}},{"$f":"IF($A839<>0,VLOOKUP($A839,Liste!$A$10:$W$459,16,FALSE),\"\")","v":{"$error":"#N/A"}},{"$f":"IF($A839<>0,VLOOKUP($A839,Liste!$A$10:$W$459,17,FALSE),\"\")","v":{"$error":"#N/A"}},null,null,null,"Arrivé à","après vote de la Résolution N°"]
[{"$f":"IF($A839<>0,\"Lot \" & VLOOKUP($A839,Liste!$A$10:$W$459,18,FALSE),\"\")","v":{"$error":"#N/A"}},0,{"$f":"IF($A839<>0,VLOOKUP($A839,Liste!$A$10:$W$459,19,FALSE),\"\")","v":{"$error":"#N/A"}},null,null,null,"Départ à","après vote de la Résolution N°"]
[{"$f":"IF($A839<>0,\"Lot \" & VLOOKUP($A839,Liste!$A$10:$W$459,21,FALSE),\"\")","v":{"$error":"#N/A"}},{"$f":"IF($A839<>0,VLOOKUP($A839,Liste!$A$10:$W$459,22,FALSE),\"\")","v":{"$error":"#N/A"}},{"$f":"IF($A839<>0,VLOOKUP($A839,Liste!$A$10:$W$459,23,FALSE),\"\")","v":{"$error":"#N/A"}},null,null,null,{"$f":"IF(OR(B840=0,VLOOKUP(A839,Liste!$A$10:'Liste'!$Z$459,26)<>\"\"),\"\", \"Voir autorisation messages électroniques\")","v":{"$error":"#N/A"}}]
[]
[null,null,null,"A S S E M B L E E     G E N E R A L E",null,null,null,null,null,null,"Page",{"$f":"L772+1","v":12}]
[null,null,null,null,null,"du","2019-12-20"]
[null,null,null,"Résidence Le Paradis; Rue de l' espoir 75016 PARIS"]
[]
[{"$f":"A839+1","v":89},null,null,null,null,null,"Par correspondance reçu le "]
[{"$f":"IF($A853<>0,VLOOKUP($A853,Liste!$A$10:$W$459,3,FALSE),\"\")","v":{"$error":"#N/A"}},{"$f":"IF($A853<>0,VLOOKUP($A853,Liste!$A$10:$W$459,4,FALSE),\"\")","v":{"$error":"#N/A"}},null,null,{"$f":"IF($A853<>0,VLOOKUP($A853,Liste!$A$10:$W$459,8,FALSE),\"\")","v":{"$error":"#N/A"}},null,"Par visio, audio conférence,,,,"]
[{"$f":"IF($A853<>0,VLOOKUP($A853,Liste!$A$10:$W$459,5,FALSE),\"\")","v":{"$error":"#N/A"}},null,null,null,null,null,"Signature/ Mandataire :"]
[{"$f":"IF($A853<>0,VLOOKUP($A853,Liste!$A$10:$W$459,6,FALSE),\"\")","v":{"$error":"#N/A"}},{"$f":"IF($A853<>0,VLOOKUP($A853,Liste!$A$10:$W$459,7,FALSE),\"\")","v":{"$error":"#N/A"}}]
[{"$f":" IF($A853<>0, \"Lot \" & VLOOKUP($A853,Liste!$A$10:$W$459,9,FALSE),\"\")","v":{"$error":"#N/A"}},{"$f":"IF($A853<>0,VLOOKUP($A853,Liste!$A$10:$W$459,10,FALSE),\"\")","v":{"$error":"#N/A"}},{"$f":"IF($A853<>0,VLOOKUP($A853,Liste!$A$10:$W$459,11,FALSE),\"\")","v":{"$error":"#N/A"}}]
[{"$f":"IF($A853<>0,\"Lot \" & VLOOKUP($A853,Liste!$A$10:$W$459,12,FALSE),\"\")","v":{"$error":"#N/A"}},{"$f":"IF($A853<>0,VLOOKUP($A853,Liste!$A$10:$W$459,13,FALSE),\"\")","v":{"$error":"#N/A"}},{"$f":"IF($A853<>0,VLOOKUP($A853,Liste!$A$10:$W$459,14,FALSE),\"\")","v":{"$error":"#N/A"}}]
[{"$f":"IF($A853<>0,\"Lot \" & VLOOKUP($A853,Liste!$A$10:$W$459,15,FALSE),\"\")","v":{"$error":"#N/A"}},{"$f":"IF($A853<>0,VLOOKUP($A853,Liste!$A$10:$W$459,16,FALSE),\"\")","v":{"$error":"#N/A"}},{"$f":"IF($A853<>0,VLOOKUP($A853,Liste!$A$10:$W$459,17,FALSE),\"\")","v":{"$error":"#N/A"}},null,null,null,"Arrivé à","après vote de la Résolution N°"]
[{"$f":"IF($A853<>0,\"Lot \" & VLOOKUP($A853,Liste!$A$10:$W$459,18,FALSE),\"\")","v":{"$error":"#N/A"}},0,{"$f":"IF($A853<>0,VLOOKUP($A853,Liste!$A$10:$W$459,19,FALSE),\"\")","v":{"$error":"#N/A"}},null,null,null,"Départ à","après vote de la Résolution N°"]
[{"$f":"IF($A853<>0,\"Lot \" & VLOOKUP($A853,Liste!$A$10:$W$459,21,FALSE),\"\")","v":{"$error":"#N/A"}},{"$f":"IF($A853<>0,VLOOKUP($A853,Liste!$A$10:$W$459,22,FALSE),\"\")","v":{"$error":"#N/A"}},{"$f":"IF($A853<>0,VLOOKUP($A853,Liste!$A$10:$W$459,23,FALSE),\"\")","v":{"$error":"#N/A"}},null,null,null,{"$f":"IF(OR(B854=0,VLOOKUP(A853,Liste!$A$10:'Liste'!$Z$459,26)<>\"\"),\"\", \"Voir autorisation messages électroniques\")","v":{"$error":"#N/A"}}]
[{"$f":"A853+1","v":90},null,null,null,null,null,"Par correspondance reçu le "]
[{"$f":"IF($A862<>0,VLOOKUP($A862,Liste!$A$10:$W$459,3,FALSE),\"\")","v":{"$error":"#N/A"}},{"$f":"IF($A862<>0,VLOOKUP($A862,Liste!$A$10:$W$459,4,FALSE),\"\")","v":{"$error":"#N/A"}},null,null,{"$f":"IF($A862<>0,VLOOKUP($A862,Liste!$A$10:$W$459,8,FALSE),\"\")","v":{"$error":"#N/A"}},null,"Par visio, audio conférence,,,,"]
[{"$f":"IF($A862<>0,VLOOKUP($A862,Liste!$A$10:$W$459,5,FALSE),\"\")","v":{"$error":"#N/A"}},null,null,null,null,null,"Signature/ Mandataire :"]
[{"$f":"IF($A862<>0,VLOOKUP($A862,Liste!$A$10:$W$459,6,FALSE),\"\")","v":{"$error":"#N/A"}},{"$f":"IF($A862<>0,VLOOKUP($A862,Liste!$A$10:$W$459,7,FALSE),\"\")","v":{"$error":"#N/A"}}]
[{"$f":" IF($A862<>0, \"Lot \" & VLOOKUP($A862,Liste!$A$10:$W$459,9,FALSE),\"\")","v":{"$error":"#N/A"}},{"$f":"IF($A862<>0,VLOOKUP($A862,Liste!$A$10:$W$459,10,FALSE),\"\")","v":{"$error":"#N/A"}},{"$f":"IF($A862<>0,VLOOKUP($A862,Liste!$A$10:$W$459,11,FALSE),\"\")","v":{"$error":"#N/A"}}]
[{"$f":"IF($A862<>0,\"Lot \" & VLOOKUP($A862,Liste!$A$10:$W$459,12,FALSE),\"\")","v":{"$error":"#N/A"}},{"$f":"IF($A862<>0,VLOOKUP($A862,Liste!$A$10:$W$459,13,FALSE),\"\")","v":{"$error":"#N/A"}},{"$f":"IF($A862<>0,VLOOKUP($A862,Liste!$A$10:$W$459,14,FALSE),\"\")","v":{"$error":"#N/A"}}]
[{"$f":"IF($A862<>0,\"Lot \" & VLOOKUP($A862,Liste!$A$10:$W$459,15,FALSE),\"\")","v":{"$error":"#N/A"}},{"$f":"IF($A862<>0,VLOOKUP($A862,Liste!$A$10:$W$459,16,FALSE),\"\")","v":{"$error":"#N/A"}},{"$f":"IF($A862<>0,VLOOKUP($A862,Liste!$A$10:$W$459,17,FALSE),\"\")","v":{"$error":"#N/A"}},null,null,null,"Arrivé à","après vote de la Résolution N°"]
[{"$f":"IF($A862<>0,\"Lot \" & VLOOKUP($A862,Liste!$A$10:$W$459,18,FALSE),\"\")","v":{"$error":"#N/A"}},0,{"$f":"IF($A862<>0,VLOOKUP($A862,Liste!$A$10:$W$459,19,FALSE),\"\")","v":{"$error":"#N/A"}},null,null,null,"Départ à","après vote de la Résolution N°"]
[{"$f":"IF($A862<>0,\"Lot \" & VLOOKUP($A862,Liste!$A$10:$W$459,21,FALSE),\"\")","v":{"$error":"#N/A"}},{"$f":"IF($A862<>0,VLOOKUP($A862,Liste!$A$10:$W$459,22,FALSE),\"\")","v":{"$error":"#N/A"}},{"$f":"IF($A862<>0,VLOOKUP($A862,Liste!$A$10:$W$459,23,FALSE),\"\")","v":{"$error":"#N/A"}},null,null,null,{"$f":"IF(OR(B863=0,VLOOKUP(A862,Liste!$A$10:'Liste'!$Z$459,26)<>\"\"),\"\", \"Voir autorisation messages électroniques\")","v":{"$error":"#N/A"}}]
[{"$f":"A862+1","v":91},null,null,null,null,null,"Par correspondance reçu le "]
[{"$f":"IF($A871<>0,VLOOKUP($A871,Liste!$A$10:$W$459,3,FALSE),\"\")","v":{"$error":"#N/A"}},{"$f":"IF($A871<>0,VLOOKUP($A871,Liste!$A$10:$W$459,4,FALSE),\"\")","v":{"$error":"#N/A"}},null,null,{"$f":"IF($A871<>0,VLOOKUP($A871,Liste!$A$10:$W$459,8,FALSE),\"\")","v":{"$error":"#N/A"}},null,"Par visio, audio conférence,,,,"]
[{"$f":"IF($A871<>0,VLOOKUP($A871,Liste!$A$10:$W$459,5,FALSE),\"\")","v":{"$error":"#N/A"}},null,null,null,null,null,"Signature/ Mandataire :"]
[{"$f":"IF($A871<>0,VLOOKUP($A871,Liste!$A$10:$W$459,6,FALSE),\"\")","v":{"$error":"#N/A"}},{"$f":"IF($A871<>0,VLOOKUP($A871,Liste!$A$10:$W$459,7,FALSE),\"\")","v":{"$error":"#N/A"}}]
[{"$f":" IF($A871<>0, \"Lot \" & VLOOKUP($A871,Liste!$A$10:$W$459,9,FALSE),\"\")","v":{"$error":"#N/A"}},{"$f":"IF($A871<>0,VLOOKUP($A871,Liste!$A$10:$W$459,10,FALSE),\"\")","v":{"$error":"#N/A"}},{"$f":"IF($A871<>0,VLOOKUP($A871,Liste!$A$10:$W$459,11,FALSE),\"\")","v":{"$error":"#N/A"}}]
[{"$f":"IF($A871<>0,\"Lot \" & VLOOKUP($A871,Liste!$A$10:$W$459,12,FALSE),\"\")","v":{"$error":"#N/A"}},{"$f":"IF($A871<>0,VLOOKUP($A871,Liste!$A$10:$W$459,13,FALSE),\"\")","v":{"$error":"#N/A"}},{"$f":"IF($A871<>0,VLOOKUP($A871,Liste!$A$10:$W$459,14,FALSE),\"\")","v":{"$error":"#N/A"}}]
[{"$f":"IF($A871<>0,\"Lot \" & VLOOKUP($A871,Liste!$A$10:$W$459,15,FALSE),\"\")","v":{"$error":"#N/A"}},{"$f":"IF($A871<>0,VLOOKUP($A871,Liste!$A$10:$W$459,16,FALSE),\"\")","v":{"$error":"#N/A"}},{"$f":"IF($A871<>0,VLOOKUP($A871,Liste!$A$10:$W$459,17,FALSE),\"\")","v":{"$error":"#N/A"}},null,null,null,"Arrivé à","après vote de la Résolution N°"]
[{"$f":"IF($A871<>0,\"Lot \" & VLOOKUP($A871,Liste!$A$10:$W$459,18,FALSE),\"\")","v":{"$error":"#N/A"}},0,{"$f":"IF($A871<>0,VLOOKUP($A871,Liste!$A$10:$W$459,19,FALSE),\"\")","v":{"$error":"#N/A"}},null,null,null,"Départ à","après vote de la Résolution N°"]
[{"$f":"IF($A871<>0,\"Lot \" & VLOOKUP($A871,Liste!$A$10:$W$459,21,FALSE),\"\")","v":{"$error":"#N/A"}},{"$f":"IF($A871<>0,VLOOKUP($A871,Liste!$A$10:$W$459,22,FALSE),\"\")","v":{"$error":"#N/A"}},{"$f":"IF($A871<>0,VLOOKUP($A871,Liste!$A$10:$W$459,23,FALSE),\"\")","v":{"$error":"#N/A"}},null,null,null,{"$f":"IF(OR(B872=0,VLOOKUP(A871,Liste!$A$10:'Liste'!$Z$459,26)<>\"\"),\"\", \"Voir autorisation messages électroniques\")","v":{"$error":"#N/A"}}]
[{"$f":"A871+1","v":92},null,null,null,null,null,"Par correspondance reçu le "]
[{"$f":"IF($A880<>0,VLOOKUP($A880,Liste!$A$10:$W$459,3,FALSE),\"\")","v":{"$error":"#N/A"}},{"$f":"IF($A880<>0,VLOOKUP($A880,Liste!$A$10:$W$459,4,FALSE),\"\")","v":{"$error":"#N/A"}},null,null,{"$f":"IF($A880<>0,VLOOKUP($A880,Liste!$A$10:$W$459,8,FALSE),\"\")","v":{"$error":"#N/A"}},null,"Par visio, audio conférence,,,,"]
[{"$f":"IF($A880<>0,VLOOKUP($A880,Liste!$A$10:$W$459,5,FALSE),\"\")","v":{"$error":"#N/A"}},null,null,null,null,null,"Signature/ Mandataire :"]
[{"$f":"IF($A880<>0,VLOOKUP($A880,Liste!$A$10:$W$459,6,FALSE),\"\")","v":{"$error":"#N/A"}},{"$f":"IF($A880<>0,VLOOKUP($A880,Liste!$A$10:$W$459,7,FALSE),\"\")","v":{"$error":"#N/A"}}]
[{"$f":" IF($A880<>0, \"Lot \" & VLOOKUP($A880,Liste!$A$10:$W$459,9,FALSE),\"\")","v":{"$error":"#N/A"}},{"$f":"IF($A880<>0,VLOOKUP($A880,Liste!$A$10:$W$459,10,FALSE),\"\")","v":{"$error":"#N/A"}},{"$f":"IF($A880<>0,VLOOKUP($A880,Liste!$A$10:$W$459,11,FALSE),\"\")","v":{"$error":"#N/A"}}]
[{"$f":"IF($A880<>0,\"Lot \" & VLOOKUP($A880,Liste!$A$10:$W$459,12,FALSE),\"\")","v":{"$error":"#N/A"}},{"$f":"IF($A880<>0,VLOOKUP($A880,Liste!$A$10:$W$459,13,FALSE),\"\")","v":{"$error":"#N/A"}},{"$f":"IF($A880<>0,VLOOKUP($A880,Liste!$A$10:$W$459,14,FALSE),\"\")","v":{"$error":"#N/A"}}]
[{"$f":"IF($A880<>0,\"Lot \" & VLOOKUP($A880,Liste!$A$10:$W$459,15,FALSE),\"\")","v":{"$error":"#N/A"}},{"$f":"IF($A880<>0,VLOOKUP($A880,Liste!$A$10:$W$459,16,FALSE),\"\")","v":{"$error":"#N/A"}},{"$f":"IF($A880<>0,VLOOKUP($A880,Liste!$A$10:$W$459,17,FALSE),\"\")","v":{"$error":"#N/A"}},null,null,null,"Arrivé à","après vote de la Résolution N°"]
[{"$f":"IF($A880<>0,\"Lot \" & VLOOKUP($A880,Liste!$A$10:$W$459,18,FALSE),\"\")","v":{"$error":"#N/A"}},0,{"$f":"IF($A880<>0,VLOOKUP($A880,Liste!$A$10:$W$459,19,FALSE),\"\")","v":{"$error":"#N/A"}},null,null,null,"Départ à","après vote de la Résolution N°"]
[{"$f":"IF($A880<>0,\"Lot \" & VLOOKUP($A880,Liste!$A$10:$W$459,21,FALSE),\"\")","v":{"$error":"#N/A"}},{"$f":"IF($A880<>0,VLOOKUP($A880,Liste!$A$10:$W$459,22,FALSE),\"\")","v":{"$error":"#N/A"}},{"$f":"IF($A880<>0,VLOOKUP($A880,Liste!$A$10:$W$459,23,FALSE),\"\")","v":{"$error":"#N/A"}},null,null,null,{"$f":"IF(OR(B881=0,VLOOKUP(A880,Liste!$A$10:'Liste'!$Z$459,26)<>\"\"),\"\", \"Voir autorisation messages électroniques\")","v":{"$error":"#N/A"}}]
[{"$f":"A880+1","v":93},null,null,null,null,null,"Par correspondance reçu le "]
[{"$f":"IF($A889<>0,VLOOKUP($A889,Liste!$A$10:$W$459,3,FALSE),\"\")","v":{"$error":"#N/A"}},{"$f":"IF($A889<>0,VLOOKUP($A889,Liste!$A$10:$W$459,4,FALSE),\"\")","v":{"$error":"#N/A"}},null,null,{"$f":"IF($A889<>0,VLOOKUP($A889,Liste!$A$10:$W$459,8,FALSE),\"\")","v":{"$error":"#N/A"}},null,"Par visio, audio conférence,,,,"]
[{"$f":"IF($A889<>0,VLOOKUP($A889,Liste!$A$10:$W$459,5,FALSE),\"\")","v":{"$error":"#N/A"}},null,null,null,null,null,"Signature/ Mandataire :"]
[{"$f":"IF($A889<>0,VLOOKUP($A889,Liste!$A$10:$W$459,6,FALSE),\"\")","v":{"$error":"#N/A"}},{"$f":"IF($A889<>0,VLOOKUP($A889,Liste!$A$10:$W$459,7,FALSE),\"\")","v":{"$error":"#N/A"}}]
[{"$f":" IF($A889<>0, \"Lot \" & VLOOKUP($A889,Liste!$A$10:$W$459,9,FALSE),\"\")","v":{"$error":"#N/A"}},{"$f":"IF($A889<>0,VLOOKUP($A889,Liste!$A$10:$W$459,10,FALSE),\"\")","v":{"$error":"#N/A"}},{"$f":"IF($A889<>0,VLOOKUP($A889,Liste!$A$10:$W$459,11,FALSE),\"\")","v":{"$error":"#N/A"}}]
[{"$f":"IF($A889<>0,\"Lot \" & VLOOKUP($A889,Liste!$A$10:$W$459,12,FALSE),\"\")","v":{"$error":"#N/A"}},{"$f":"IF($A889<>0,VLOOKUP($A889,Liste!$A$10:$W$459,13,FALSE),\"\")","v":{"$error":"#N/A"}},{"$f":"IF($A889<>0,VLOOKUP($A889,Liste!$A$10:$W$459,14,FALSE),\"\")","v":{"$error":"#N/A"}}]
[{"$f":"IF($A889<>0,\"Lot \" & VLOOKUP($A889,Liste!$A$10:$W$459,15,FALSE),\"\")","v":{"$error":"#N/A"}},{"$f":"IF($A889<>0,VLOOKUP($A889,Liste!$A$10:$W$459,16,FALSE),\"\")","v":{"$error":"#N/A"}},{"$f":"IF($A889<>0,VLOOKUP($A889,Liste!$A$10:$W$459,17,FALSE),\"\")","v":{"$error":"#N/A"}},null,null,null,"Arrivé à","après vote de la Résolution N°"]
[{"$f":"IF($A889<>0,\"Lot \" & VLOOKUP($A889,Liste!$A$10:$W$459,18,FALSE),\"\")","v":{"$error":"#N/A"}},0,{"$f":"IF($A889<>0,VLOOKUP($A889,Liste!$A$10:$W$459,19,FALSE),\"\")","v":{"$error":"#N/A"}},null,null,null,"Départ à","après vote de la Résolution N°"]
[{"$f":"IF($A889<>0,\"Lot \" & VLOOKUP($A889,Liste!$A$10:$W$459,21,FALSE),\"\")","v":{"$error":"#N/A"}},{"$f":"IF($A889<>0,VLOOKUP($A889,Liste!$A$10:$W$459,22,FALSE),\"\")","v":{"$error":"#N/A"}},{"$f":"IF($A889<>0,VLOOKUP($A889,Liste!$A$10:$W$459,23,FALSE),\"\")","v":{"$error":"#N/A"}},null,null,null,{"$f":"IF(OR(B890=0,VLOOKUP(A889,Liste!$A$10:'Liste'!$Z$459,26)<>\"\"),\"\", \"Voir autorisation messages électroniques\")","v":{"$error":"#N/A"}}]
[{"$f":"A889+1","v":94},null,null,null,null,null,"Par correspondance reçu le "]
[{"$f":"IF($A898<>0,VLOOKUP($A898,Liste!$A$10:$W$459,3,FALSE),\"\")","v":{"$error":"#N/A"}},{"$f":"IF($A898<>0,VLOOKUP($A898,Liste!$A$10:$W$459,4,FALSE),\"\")","v":{"$error":"#N/A"}},null,null,{"$f":"IF($A898<>0,VLOOKUP($A898,Liste!$A$10:$W$459,8,FALSE),\"\")","v":{"$error":"#N/A"}},null,"Par visio, audio conférence,,,,"]
[{"$f":"IF($A898<>0,VLOOKUP($A898,Liste!$A$10:$W$459,5,FALSE),\"\")","v":{"$error":"#N/A"}},null,null,null,null,null,"Signature/ Mandataire :"]
[{"$f":"IF($A898<>0,VLOOKUP($A898,Liste!$A$10:$W$459,6,FALSE),\"\")","v":{"$error":"#N/A"}},{"$f":"IF($A898<>0,VLOOKUP($A898,Liste!$A$10:$W$459,7,FALSE),\"\")","v":{"$error":"#N/A"}}]
[{"$f":" IF($A898<>0, \"Lot \" & VLOOKUP($A898,Liste!$A$10:$W$459,9,FALSE),\"\")","v":{"$error":"#N/A"}},{"$f":"IF($A898<>0,VLOOKUP($A898,Liste!$A$10:$W$459,10,FALSE),\"\")","v":{"$error":"#N/A"}},{"$f":"IF($A898<>0,VLOOKUP($A898,Liste!$A$10:$W$459,11,FALSE),\"\")","v":{"$error":"#N/A"}}]
[{"$f":"IF($A898<>0,\"Lot \" & VLOOKUP($A898,Liste!$A$10:$W$459,12,FALSE),\"\")","v":{"$error":"#N/A"}},{"$f":"IF($A898<>0,VLOOKUP($A898,Liste!$A$10:$W$459,13,FALSE),\"\")","v":{"$error":"#N/A"}},{"$f":"IF($A898<>0,VLOOKUP($A898,Liste!$A$10:$W$459,14,FALSE),\"\")","v":{"$error":"#N/A"}}]
[{"$f":"IF($A898<>0,\"Lot \" & VLOOKUP($A898,Liste!$A$10:$W$459,15,FALSE),\"\")","v":{"$error":"#N/A"}},{"$f":"IF($A898<>0,VLOOKUP($A898,Liste!$A$10:$W$459,16,FALSE),\"\")","v":{"$error":"#N/A"}},{"$f":"IF($A898<>0,VLOOKUP($A898,Liste!$A$10:$W$459,17,FALSE),\"\")","v":{"$error":"#N/A"}},null,null,null,"Arrivé à","après vote de la Résolution N°"]
[{"$f":"IF($A898<>0,\"Lot \" & VLOOKUP($A898,Liste!$A$10:$W$459,18,FALSE),\"\")","v":{"$error":"#N/A"}},0,{"$f":"IF($A898<>0,VLOOKUP($A898,Liste!$A$10:$W$459,19,FALSE),\"\")","v":{"$error":"#N/A"}},null,null,null,"Départ à","après vote de la Résolution N°"]
[{"$f":"IF($A898<>0,\"Lot \" & VLOOKUP($A898,Liste!$A$10:$W$459,21,FALSE),\"\")","v":{"$error":"#N/A"}},{"$f":"IF($A898<>0,VLOOKUP($A898,Liste!$A$10:$W$459,22,FALSE),\"\")","v":{"$error":"#N/A"}},{"$f":"IF($A898<>0,VLOOKUP($A898,Liste!$A$10:$W$459,23,FALSE),\"\")","v":{"$error":"#N/A"}},null,null,null,{"$f":"IF(OR(B899=0,VLOOKUP(A898,Liste!$A$10:'Liste'!$Z$459,26)<>\"\"),\"\", \"Voir autorisation messages électroniques\")","v":{"$error":"#N/A"}}]
[{"$f":"A898+1","v":95},null,null,null,null,null,"Par correspondance reçu le "]
[{"$f":"IF($A907<>0,VLOOKUP($A907,Liste!$A$10:$W$459,3,FALSE),\"\")","v":{"$error":"#N/A"}},{"$f":"IF($A907<>0,VLOOKUP($A907,Liste!$A$10:$W$459,4,FALSE),\"\")","v":{"$error":"#N/A"}},null,null,{"$f":"IF($A907<>0,VLOOKUP($A907,Liste!$A$10:$W$459,8,FALSE),\"\")","v":{"$error":"#N/A"}},null,"Par visio, audio conférence,,,,"]
[{"$f":"IF($A907<>0,VLOOKUP($A907,Liste!$A$10:$W$459,5,FALSE),\"\")","v":{"$error":"#N/A"}},null,null,null,null,null,"Signature/ Mandataire :"]
[{"$f":"IF($A907<>0,VLOOKUP($A907,Liste!$A$10:$W$459,6,FALSE),\"\")","v":{"$error":"#N/A"}},{"$f":"IF($A907<>0,VLOOKUP($A907,Liste!$A$10:$W$459,7,FALSE),\"\")","v":{"$error":"#N/A"}}]
[{"$f":" IF($A907<>0, \"Lot \" & VLOOKUP($A907,Liste!$A$10:$W$459,9,FALSE),\"\")","v":{"$error":"#N/A"}},{"$f":"IF($A907<>0,VLOOKUP($A907,Liste!$A$10:$W$459,10,FALSE),\"\")","v":{"$error":"#N/A"}},{"$f":"IF($A907<>0,VLOOKUP($A907,Liste!$A$10:$W$459,11,FALSE),\"\")","v":{"$error":"#N/A"}}]
[{"$f":"IF($A907<>0,\"Lot \" & VLOOKUP($A907,Liste!$A$10:$W$459,12,FALSE),\"\")","v":{"$error":"#N/A"}},{"$f":"IF($A907<>0,VLOOKUP($A907,Liste!$A$10:$W$459,13,FALSE),\"\")","v":{"$error":"#N/A"}},{"$f":"IF($A907<>0,VLOOKUP($A907,Liste!$A$10:$W$459,14,FALSE),\"\")","v":{"$error":"#N/A"}}]
[{"$f":"IF($A907<>0,\"Lot \" & VLOOKUP($A907,Liste!$A$10:$W$459,15,FALSE),\"\")","v":{"$error":"#N/A"}},{"$f":"IF($A907<>0,VLOOKUP($A907,Liste!$A$10:$W$459,16,FALSE),\"\")","v":{"$error":"#N/A"}},{"$f":"IF($A907<>0,VLOOKUP($A907,Liste!$A$10:$W$459,17,FALSE),\"\")","v":{"$error":"#N/A"}},null,null,null,"Arrivé à","après vote de la Résolution N°"]
[{"$f":"IF($A907<>0,\"Lot \" & VLOOKUP($A907,Liste!$A$10:$W$459,18,FALSE),\"\")","v":{"$error":"#N/A"}},0,{"$f":"IF($A907<>0,VLOOKUP($A907,Liste!$A$10:$W$459,19,FALSE),\"\")","v":{"$error":"#N/A"}},null,null,null,"Départ à","après vote de la Résolution N°"]
[{"$f":"IF($A907<>0,\"Lot \" & VLOOKUP($A907,Liste!$A$10:$W$459,21,FALSE),\"\")","v":{"$error":"#N/A"}},{"$f":"IF($A907<>0,VLOOKUP($A907,Liste!$A$10:$W$459,22,FALSE),\"\")","v":{"$error":"#N/A"}},{"$f":"IF($A907<>0,VLOOKUP($A907,Liste!$A$10:$W$459,23,FALSE),\"\")","v":{"$error":"#N/A"}},null,null,null,{"$f":"IF(OR(B908=0,VLOOKUP(A907,Liste!$A$10:'Liste'!$Z$459,26)<>\"\"),\"\", \"Voir autorisation messages électroniques\")","v":{"$error":"#N/A"}}]
[{"$f":"A907+1","v":96},null,null,null,null,null,"Par correspondance reçu le "]
[{"$f":"IF($A916<>0,VLOOKUP($A916,Liste!$A$10:$W$459,3,FALSE),\"\")","v":{"$error":"#N/A"}},{"$f":"IF($A916<>0,VLOOKUP($A916,Liste!$A$10:$W$459,4,FALSE),\"\")","v":{"$error":"#N/A"}},null,null,{"$f":"IF($A916<>0,VLOOKUP($A916,Liste!$A$10:$W$459,8,FALSE),\"\")","v":{"$error":"#N/A"}},null,"Par visio, audio conférence,,,,"]
[{"$f":"IF($A916<>0,VLOOKUP($A916,Liste!$A$10:$W$459,5,FALSE),\"\")","v":{"$error":"#N/A"}},null,null,null,null,null,"Signature/ Mandataire :"]
[{"$f":"IF($A916<>0,VLOOKUP($A916,Liste!$A$10:$W$459,6,FALSE),\"\")","v":{"$error":"#N/A"}},{"$f":"IF($A916<>0,VLOOKUP($A916,Liste!$A$10:$W$459,7,FALSE),\"\")","v":{"$error":"#N/A"}}]
[{"$f":" IF($A916<>0, \"Lot \" & VLOOKUP($A916,Liste!$A$10:$W$459,9,FALSE),\"\")","v":{"$error":"#N/A"}},{"$f":"IF($A916<>0,VLOOKUP($A916,Liste!$A$10:$W$459,10,FALSE),\"\")","v":{"$error":"#N/A"}},{"$f":"IF($A916<>0,VLOOKUP($A916,Liste!$A$10:$W$459,11,FALSE),\"\")","v":{"$error":"#N/A"}}]
[{"$f":"IF($A916<>0,\"Lot \" & VLOOKUP($A916,Liste!$A$10:$W$459,12,FALSE),\"\")","v":{"$error":"#N/A"}},{"$f":"IF($A916<>0,VLOOKUP($A916,Liste!$A$10:$W$459,13,FALSE),\"\")","v":{"$error":"#N/A"}},{"$f":"IF($A916<>0,VLOOKUP($A916,Liste!$A$10:$W$459,14,FALSE),\"\")","v":{"$error":"#N/A"}}]
[{"$f":"IF($A916<>0,\"Lot \" & VLOOKUP($A916,Liste!$A$10:$W$459,15,FALSE),\"\")","v":{"$error":"#N/A"}},{"$f":"IF($A916<>0,VLOOKUP($A916,Liste!$A$10:$W$459,16,FALSE),\"\")","v":{"$error":"#N/A"}},{"$f":"IF($A916<>0,VLOOKUP($A916,Liste!$A$10:$W$459,17,FALSE),\"\")","v":{"$error":"#N/A"}},null,null,null,"Arrivé à","après vote de la Résolution N°"]
[{"$f":"IF($A916<>0,\"Lot \" & VLOOKUP($A916,Liste!$A$10:$W$459,18,FALSE),\"\")","v":{"$error":"#N/A"}},0,{"$f":"IF($A916<>0,VLOOKUP($A916,Liste!$A$10:$W$459,19,FALSE),\"\")","v":{"$error":"#N/A"}},null,null,null,"Départ à","après vote de la Résolution N°"]
[{"$f":"IF($A916<>0,\"Lot \" & VLOOKUP($A916,Liste!$A$10:$W$459,21,FALSE),\"\")","v":{"$error":"#N/A"}},{"$f":"IF($A916<>0,VLOOKUP($A916,Liste!$A$10:$W$459,22,FALSE),\"\")","v":{"$error":"#N/A"}},{"$f":"IF($A916<>0,VLOOKUP($A916,Liste!$A$10:$W$459,23,FALSE),\"\")","v":{"$error":"#N/A"}},null,null,null,{"$f":"IF(OR(B917=0,VLOOKUP(A916,Liste!$A$10:'Liste'!$Z$459,26)<>\"\"),\"\", \"Voir autorisation messages électroniques\")","v":{"$error":"#N/A"}}]
[]
[null,null,null,"A S S E M B L E E     G E N E R A L E",null,null,null,null,null,null,"Page",{"$f":"L849+1","v":13}]
[null,null,null,null,null,"du","2019-12-20"]
[null,null,null,"Résidence Le Paradis; Rue de l' espoir 75016 PARIS"]
[]
[{"$f":"A916+1","v":97},null,null,null,null,null,"Par correspondance reçu le "]
[{"$f":"IF($A930<>0,VLOOKUP($A930,Liste!$A$10:$W$459,3,FALSE),\"\")","v":{"$error":"#N/A"}},{"$f":"IF($A930<>0,VLOOKUP($A930,Liste!$A$10:$W$459,4,FALSE),\"\")","v":{"$error":"#N/A"}},null,null,{"$f":"IF($A930<>0,VLOOKUP($A930,Liste!$A$10:$W$459,8,FALSE),\"\")","v":{"$error":"#N/A"}},null,"Par visio, audio conférence,,,,"]
[{"$f":"IF($A930<>0,VLOOKUP($A930,Liste!$A$10:$W$459,5,FALSE),\"\")","v":{"$error":"#N/A"}},null,null,null,null,null,"Signature/ Mandataire :"]
[{"$f":"IF($A930<>0,VLOOKUP($A930,Liste!$A$10:$W$459,6,FALSE),\"\")","v":{"$error":"#N/A"}},{"$f":"IF($A930<>0,VLOOKUP($A930,Liste!$A$10:$W$459,7,FALSE),\"\")","v":{"$error":"#N/A"}}]
[{"$f":" IF($A930<>0, \"Lot \" & VLOOKUP($A930,Liste!$A$10:$W$459,9,FALSE),\"\")","v":{"$error":"#N/A"}},{"$f":"IF($A930<>0,VLOOKUP($A930,Liste!$A$10:$W$459,10,FALSE),\"\")","v":{"$error":"#N/A"}},{"$f":"IF($A930<>0,VLOOKUP($A930,Liste!$A$10:$W$459,11,FALSE),\"\")","v":{"$error":"#N/A"}}]
[{"$f":"IF($A930<>0,\"Lot \" & VLOOKUP($A930,Liste!$A$10:$W$459,12,FALSE),\"\")","v":{"$error":"#N/A"}},{"$f":"IF($A930<>0,VLOOKUP($A930,Liste!$A$10:$W$459,13,FALSE),\"\")","v":{"$error":"#N/A"}},{"$f":"IF($A930<>0,VLOOKUP($A930,Liste!$A$10:$W$459,14,FALSE),\"\")","v":{"$error":"#N/A"}}]
[{"$f":"IF($A930<>0,\"Lot \" & VLOOKUP($A930,Liste!$A$10:$W$459,15,FALSE),\"\")","v":{"$error":"#N/A"}},{"$f":"IF($A930<>0,VLOOKUP($A930,Liste!$A$10:$W$459,16,FALSE),\"\")","v":{"$error":"#N/A"}},{"$f":"IF($A930<>0,VLOOKUP($A930,Liste!$A$10:$W$459,17,FALSE),\"\")","v":{"$error":"#N/A"}},null,null,null,"Arrivé à","après vote de la Résolution N°"]
[{"$f":"IF($A930<>0,\"Lot \" & VLOOKUP($A930,Liste!$A$10:$W$459,18,FALSE),\"\")","v":{"$error":"#N/A"}},0,{"$f":"IF($A930<>0,VLOOKUP($A930,Liste!$A$10:$W$459,19,FALSE),\"\")","v":{"$error":"#N/A"}},null,null,null,"Départ à","après vote de la Résolution N°"]
[{"$f":"IF($A930<>0,\"Lot \" & VLOOKUP($A930,Liste!$A$10:$W$459,21,FALSE),\"\")","v":{"$error":"#N/A"}},{"$f":"IF($A930<>0,VLOOKUP($A930,Liste!$A$10:$W$459,22,FALSE),\"\")","v":{"$error":"#N/A"}},{"$f":"IF($A930<>0,VLOOKUP($A930,Liste!$A$10:$W$459,23,FALSE),\"\")","v":{"$error":"#N/A"}},null,null,null,{"$f":"IF(OR(B931=0,VLOOKUP(A930,Liste!$A$10:'Liste'!$Z$459,26)<>\"\"),\"\", \"Voir autorisation messages électroniques\")","v":{"$error":"#N/A"}}]
[{"$f":"A930+1","v":98},null,null,null,null,null,"Par correspondance reçu le "]
[{"$f":"IF($A939<>0,VLOOKUP($A939,Liste!$A$10:$W$459,3,FALSE),\"\")","v":{"$error":"#N/A"}},{"$f":"IF($A939<>0,VLOOKUP($A939,Liste!$A$10:$W$459,4,FALSE),\"\")","v":{"$error":"#N/A"}},null,null,{"$f":"IF($A939<>0,VLOOKUP($A939,Liste!$A$10:$W$459,8,FALSE),\"\")","v":{"$error":"#N/A"}},null,"Par visio, audio conférence,,,,"]
[{"$f":"IF($A939<>0,VLOOKUP($A939,Liste!$A$10:$W$459,5,FALSE),\"\")","v":{"$error":"#N/A"}},null,null,null,null,null,"Signature/ Mandataire :"]
[{"$f":"IF($A939<>0,VLOOKUP($A939,Liste!$A$10:$W$459,6,FALSE),\"\")","v":{"$error":"#N/A"}},{"$f":"IF($A939<>0,VLOOKUP($A939,Liste!$A$10:$W$459,7,FALSE),\"\")","v":{"$error":"#N/A"}}]
[{"$f":" IF($A939<>0, \"Lot \" & VLOOKUP($A939,Liste!$A$10:$W$459,9,FALSE),\"\")","v":{"$error":"#N/A"}},{"$f":"IF($A939<>0,VLOOKUP($A939,Liste!$A$10:$W$459,10,FALSE),\"\")","v":{"$error":"#N/A"}},{"$f":"IF($A939<>0,VLOOKUP($A939,Liste!$A$10:$W$459,11,FALSE),\"\")","v":{"$error":"#N/A"}}]
[{"$f":"IF($A939<>0,\"Lot \" & VLOOKUP($A939,Liste!$A$10:$W$459,12,FALSE),\"\")","v":{"$error":"#N/A"}},{"$f":"IF($A939<>0,VLOOKUP($A939,Liste!$A$10:$W$459,13,FALSE),\"\")","v":{"$error":"#N/A"}},{"$f":"IF($A939<>0,VLOOKUP($A939,Liste!$A$10:$W$459,14,FALSE),\"\")","v":{"$error":"#N/A"}}]
[{"$f":"IF($A939<>0,\"Lot \" & VLOOKUP($A939,Liste!$A$10:$W$459,15,FALSE),\"\")","v":{"$error":"#N/A"}},{"$f":"IF($A939<>0,VLOOKUP($A939,Liste!$A$10:$W$459,16,FALSE),\"\")","v":{"$error":"#N/A"}},{"$f":"IF($A939<>0,VLOOKUP($A939,Liste!$A$10:$W$459,17,FALSE),\"\")","v":{"$error":"#N/A"}},null,null,null,"Arrivé à","après vote de la Résolution N°"]
[{"$f":"IF($A939<>0,\"Lot \" & VLOOKUP($A939,Liste!$A$10:$W$459,18,FALSE),\"\")","v":{"$error":"#N/A"}},0,{"$f":"IF($A939<>0,VLOOKUP($A939,Liste!$A$10:$W$459,19,FALSE),\"\")","v":{"$error":"#N/A"}},null,null,null,"Départ à","après vote de la Résolution N°"]
[{"$f":"IF($A939<>0,\"Lot \" & VLOOKUP($A939,Liste!$A$10:$W$459,21,FALSE),\"\")","v":{"$error":"#N/A"}},{"$f":"IF($A939<>0,VLOOKUP($A939,Liste!$A$10:$W$459,22,FALSE),\"\")","v":{"$error":"#N/A"}},{"$f":"IF($A939<>0,VLOOKUP($A939,Liste!$A$10:$W$459,23,FALSE),\"\")","v":{"$error":"#N/A"}},null,null,null,{"$f":"IF(OR(B940=0,VLOOKUP(A939,Liste!$A$10:'Liste'!$Z$459,26)<>\"\"),\"\", \"Voir autorisation messages électroniques\")","v":{"$error":"#N/A"}}]
[{"$f":"A939+1","v":99},null,null,null,null,null,"Par correspondance reçu le "]
[{"$f":"IF($A948<>0,VLOOKUP($A948,Liste!$A$10:$W$459,3,FALSE),\"\")","v":{"$error":"#N/A"}},{"$f":"IF($A948<>0,VLOOKUP($A948,Liste!$A$10:$W$459,4,FALSE),\"\")","v":{"$error":"#N/A"}},null,null,{"$f":"IF($A948<>0,VLOOKUP($A948,Liste!$A$10:$W$459,8,FALSE),\"\")","v":{"$error":"#N/A"}},null,"Par visio, audio conférence,,,,"]
[{"$f":"IF($A948<>0,VLOOKUP($A948,Liste!$A$10:$W$459,5,FALSE),\"\")","v":{"$error":"#N/A"}},null,null,null,null,null,"Signature/ Mandataire :"]
[{"$f":"IF($A948<>0,VLOOKUP($A948,Liste!$A$10:$W$459,6,FALSE),\"\")","v":{"$error":"#N/A"}},{"$f":"IF($A948<>0,VLOOKUP($A948,Liste!$A$10:$W$459,7,FALSE),\"\")","v":{"$error":"#N/A"}}]
[{"$f":" IF($A948<>0, \"Lot \" & VLOOKUP($A948,Liste!$A$10:$W$459,9,FALSE),\"\")","v":{"$error":"#N/A"}},{"$f":"IF($A948<>0,VLOOKUP($A948,Liste!$A$10:$W$459,10,FALSE),\"\")","v":{"$error":"#N/A"}},{"$f":"IF($A948<>0,VLOOKUP($A948,Liste!$A$10:$W$459,11,FALSE),\"\")","v":{"$error":"#N/A"}}]
[{"$f":"IF($A948<>0,\"Lot \" & VLOOKUP($A948,Liste!$A$10:$W$459,12,FALSE),\"\")","v":{"$error":"#N/A"}},{"$f":"IF($A948<>0,VLOOKUP($A948,Liste!$A$10:$W$459,13,FALSE),\"\")","v":{"$error":"#N/A"}},{"$f":"IF($A948<>0,VLOOKUP($A948,Liste!$A$10:$W$459,14,FALSE),\"\")","v":{"$error":"#N/A"}}]
[{"$f":"IF($A948<>0,\"Lot \" & VLOOKUP($A948,Liste!$A$10:$W$459,15,FALSE),\"\")","v":{"$error":"#N/A"}},{"$f":"IF($A948<>0,VLOOKUP($A948,Liste!$A$10:$W$459,16,FALSE),\"\")","v":{"$error":"#N/A"}},{"$f":"IF($A948<>0,VLOOKUP($A948,Liste!$A$10:$W$459,17,FALSE),\"\")","v":{"$error":"#N/A"}},null,null,null,"Arrivé à","après vote de la Résolution N°"]
[{"$f":"IF($A948<>0,\"Lot \" & VLOOKUP($A948,Liste!$A$10:$W$459,18,FALSE),\"\")","v":{"$error":"#N/A"}},0,{"$f":"IF($A948<>0,VLOOKUP($A948,Liste!$A$10:$W$459,19,FALSE),\"\")","v":{"$error":"#N/A"}},null,null,null,"Départ à","après vote de la Résolution N°"]
[{"$f":"IF($A948<>0,\"Lot \" & VLOOKUP($A948,Liste!$A$10:$W$459,21,FALSE),\"\")","v":{"$error":"#N/A"}},{"$f":"IF($A948<>0,VLOOKUP($A948,Liste!$A$10:$W$459,22,FALSE),\"\")","v":{"$error":"#N/A"}},{"$f":"IF($A948<>0,VLOOKUP($A948,Liste!$A$10:$W$459,23,FALSE),\"\")","v":{"$error":"#N/A"}},null,null,null,{"$f":"IF(OR(B949=0,VLOOKUP(A948,Liste!$A$10:'Liste'!$Z$459,26)<>\"\"),\"\", \"Voir autorisation messages électroniques\")","v":{"$error":"#N/A"}}]
[{"$f":"A948+1","v":100},null,null,null,null,null,"Par correspondance reçu le "]
[{"$f":"IF($A957<>0,VLOOKUP($A957,Liste!$A$10:$W$459,3,FALSE),\"\")","v":{"$error":"#N/A"}},{"$f":"IF($A957<>0,VLOOKUP($A957,Liste!$A$10:$W$459,4,FALSE),\"\")","v":{"$error":"#N/A"}},null,null,{"$f":"IF($A957<>0,VLOOKUP($A957,Liste!$A$10:$W$459,8,FALSE),\"\")","v":{"$error":"#N/A"}},null,"Par visio, audio conférence,,,,"]
[{"$f":"IF($A957<>0,VLOOKUP($A957,Liste!$A$10:$W$459,5,FALSE),\"\")","v":{"$error":"#N/A"}},null,null,null,null,null,"Signature/ Mandataire :"]
[{"$f":"IF($A957<>0,VLOOKUP($A957,Liste!$A$10:$W$459,6,FALSE),\"\")","v":{"$error":"#N/A"}},{"$f":"IF($A957<>0,VLOOKUP($A957,Liste!$A$10:$W$459,7,FALSE),\"\")","v":{"$error":"#N/A"}}]
[{"$f":" IF($A957<>0, \"Lot \" & VLOOKUP($A957,Liste!$A$10:$W$459,9,FALSE),\"\")","v":{"$error":"#N/A"}},{"$f":"IF($A957<>0,VLOOKUP($A957,Liste!$A$10:$W$459,10,FALSE),\"\")","v":{"$error":"#N/A"}},{"$f":"IF($A957<>0,VLOOKUP($A957,Liste!$A$10:$W$459,11,FALSE),\"\")","v":{"$error":"#N/A"}}]
[{"$f":"IF($A957<>0,\"Lot \" & VLOOKUP($A957,Liste!$A$10:$W$459,12,FALSE),\"\")","v":{"$error":"#N/A"}},{"$f":"IF($A957<>0,VLOOKUP($A957,Liste!$A$10:$W$459,13,FALSE),\"\")","v":{"$error":"#N/A"}},{"$f":"IF($A957<>0,VLOOKUP($A957,Liste!$A$10:$W$459,14,FALSE),\"\")","v":{"$error":"#N/A"}}]
[{"$f":"IF($A957<>0,\"Lot \" & VLOOKUP($A957,Liste!$A$10:$W$459,15,FALSE),\"\")","v":{"$error":"#N/A"}},{"$f":"IF($A957<>0,VLOOKUP($A957,Liste!$A$10:$W$459,16,FALSE),\"\")","v":{"$error":"#N/A"}},{"$f":"IF($A957<>0,VLOOKUP($A957,Liste!$A$10:$W$459,17,FALSE),\"\")","v":{"$error":"#N/A"}},null,null,null,"Arrivé à","après vote de la Résolution N°"]
[{"$f":"IF($A957<>0,\"Lot \" & VLOOKUP($A957,Liste!$A$10:$W$459,18,FALSE),\"\")","v":{"$error":"#N/A"}},0,{"$f":"IF($A957<>0,VLOOKUP($A957,Liste!$A$10:$W$459,19,FALSE),\"\")","v":{"$error":"#N/A"}},null,null,null,"Départ à","après vote de la Résolution N°"]
[{"$f":"IF($A957<>0,\"Lot \" & VLOOKUP($A957,Liste!$A$10:$W$459,21,FALSE),\"\")","v":{"$error":"#N/A"}},{"$f":"IF($A957<>0,VLOOKUP($A957,Liste!$A$10:$W$459,22,FALSE),\"\")","v":{"$error":"#N/A"}},{"$f":"IF($A957<>0,VLOOKUP($A957,Liste!$A$10:$W$459,23,FALSE),\"\")","v":{"$error":"#N/A"}},null,null,null,{"$f":"IF(OR(B958=0,VLOOKUP(A957,Liste!$A$10:'Liste'!$Z$459,26)<>\"\"),\"\", \"Voir autorisation messages électroniques\")","v":{"$error":"#N/A"}}]
[{"$f":"A957+1","v":101},null,null,null,null,null,"Par correspondance reçu le "]
[{"$f":"IF($A966<>0,VLOOKUP($A966,Liste!$A$10:$W$459,3,FALSE),\"\")","v":{"$error":"#N/A"}},{"$f":"IF($A966<>0,VLOOKUP($A966,Liste!$A$10:$W$459,4,FALSE),\"\")","v":{"$error":"#N/A"}},null,null,{"$f":"IF($A966<>0,VLOOKUP($A966,Liste!$A$10:$W$459,8,FALSE),\"\")","v":{"$error":"#N/A"}},null,"Par visio, audio conférence,,,,"]
[{"$f":"IF($A966<>0,VLOOKUP($A966,Liste!$A$10:$W$459,5,FALSE),\"\")","v":{"$error":"#N/A"}},null,null,null,null,null,"Signature/ Mandataire :"]
[{"$f":"IF($A966<>0,VLOOKUP($A966,Liste!$A$10:$W$459,6,FALSE),\"\")","v":{"$error":"#N/A"}},{"$f":"IF($A966<>0,VLOOKUP($A966,Liste!$A$10:$W$459,7,FALSE),\"\")","v":{"$error":"#N/A"}}]
[{"$f":" IF($A966<>0, \"Lot \" & VLOOKUP($A966,Liste!$A$10:$W$459,9,FALSE),\"\")","v":{"$error":"#N/A"}},{"$f":"IF($A966<>0,VLOOKUP($A966,Liste!$A$10:$W$459,10,FALSE),\"\")","v":{"$error":"#N/A"}},{"$f":"IF($A966<>0,VLOOKUP($A966,Liste!$A$10:$W$459,11,FALSE),\"\")","v":{"$error":"#N/A"}}]
[{"$f":"IF($A966<>0,\"Lot \" & VLOOKUP($A966,Liste!$A$10:$W$459,12,FALSE),\"\")","v":{"$error":"#N/A"}},{"$f":"IF($A966<>0,VLOOKUP($A966,Liste!$A$10:$W$459,13,FALSE),\"\")","v":{"$error":"#N/A"}},{"$f":"IF($A966<>0,VLOOKUP($A966,Liste!$A$10:$W$459,14,FALSE),\"\")","v":{"$error":"#N/A"}}]
[{"$f":"IF($A966<>0,\"Lot \" & VLOOKUP($A966,Liste!$A$10:$W$459,15,FALSE),\"\")","v":{"$error":"#N/A"}},{"$f":"IF($A966<>0,VLOOKUP($A966,Liste!$A$10:$W$459,16,FALSE),\"\")","v":{"$error":"#N/A"}},{"$f":"IF($A966<>0,VLOOKUP($A966,Liste!$A$10:$W$459,17,FALSE),\"\")","v":{"$error":"#N/A"}},null,null,null,"Arrivé à","après vote de la Résolution N°"]
[{"$f":"IF($A966<>0,\"Lot \" & VLOOKUP($A966,Liste!$A$10:$W$459,18,FALSE),\"\")","v":{"$error":"#N/A"}},0,{"$f":"IF($A966<>0,VLOOKUP($A966,Liste!$A$10:$W$459,19,FALSE),\"\")","v":{"$error":"#N/A"}},null,null,null,"Départ à","après vote de la Résolution N°"]
[{"$f":"IF($A966<>0,\"Lot \" & VLOOKUP($A966,Liste!$A$10:$W$459,21,FALSE),\"\")","v":{"$error":"#N/A"}},{"$f":"IF($A966<>0,VLOOKUP($A966,Liste!$A$10:$W$459,22,FALSE),\"\")","v":{"$error":"#N/A"}},{"$f":"IF($A966<>0,VLOOKUP($A966,Liste!$A$10:$W$459,23,FALSE),\"\")","v":{"$error":"#N/A"}},null,null,null,{"$f":"IF(OR(B967=0,VLOOKUP(A966,Liste!$A$10:'Liste'!$Z$459,26)<>\"\"),\"\", \"Voir autorisation messages électroniques\")","v":{"$error":"#N/A"}}]
[{"$f":"A966+1","v":102},null,null,null,null,null,"Par correspondance reçu le "]
[{"$f":"IF($A975<>0,VLOOKUP($A975,Liste!$A$10:$W$459,3,FALSE),\"\")","v":{"$error":"#N/A"}},{"$f":"IF($A975<>0,VLOOKUP($A975,Liste!$A$10:$W$459,4,FALSE),\"\")","v":{"$error":"#N/A"}},null,null,{"$f":"IF($A975<>0,VLOOKUP($A975,Liste!$A$10:$W$459,8,FALSE),\"\")","v":{"$error":"#N/A"}},null,"Par visio, audio conférence,,,,"]
[{"$f":"IF($A975<>0,VLOOKUP($A975,Liste!$A$10:$W$459,5,FALSE),\"\")","v":{"$error":"#N/A"}},null,null,null,null,null,"Signature/ Mandataire :"]
[{"$f":"IF($A975<>0,VLOOKUP($A975,Liste!$A$10:$W$459,6,FALSE),\"\")","v":{"$error":"#N/A"}},{"$f":"IF($A975<>0,VLOOKUP($A975,Liste!$A$10:$W$459,7,FALSE),\"\")","v":{"$error":"#N/A"}}]
[{"$f":" IF($A975<>0, \"Lot \" & VLOOKUP($A975,Liste!$A$10:$W$459,9,FALSE),\"\")","v":{"$error":"#N/A"}},{"$f":"IF($A975<>0,VLOOKUP($A975,Liste!$A$10:$W$459,10,FALSE),\"\")","v":{"$error":"#N/A"}},{"$f":"IF($A975<>0,VLOOKUP($A975,Liste!$A$10:$W$459,11,FALSE),\"\")","v":{"$error":"#N/A"}}]
[{"$f":"IF($A975<>0,\"Lot \" & VLOOKUP($A975,Liste!$A$10:$W$459,12,FALSE),\"\")","v":{"$error":"#N/A"}},{"$f":"IF($A975<>0,VLOOKUP($A975,Liste!$A$10:$W$459,13,FALSE),\"\")","v":{"$error":"#N/A"}},{"$f":"IF($A975<>0,VLOOKUP($A975,Liste!$A$10:$W$459,14,FALSE),\"\")","v":{"$error":"#N/A"}}]
[{"$f":"IF($A975<>0,\"Lot \" & VLOOKUP($A975,Liste!$A$10:$W$459,15,FALSE),\"\")","v":{"$error":"#N/A"}},{"$f":"IF($A975<>0,VLOOKUP($A975,Liste!$A$10:$W$459,16,FALSE),\"\")","v":{"$error":"#N/A"}},{"$f":"IF($A975<>0,VLOOKUP($A975,Liste!$A$10:$W$459,17,FALSE),\"\")","v":{"$error":"#N/A"}},null,null,null,"Arrivé à","après vote de la Résolution N°"]
[{"$f":"IF($A975<>0,\"Lot \" & VLOOKUP($A975,Liste!$A$10:$W$459,18,FALSE),\"\")","v":{"$error":"#N/A"}},0,{"$f":"IF($A975<>0,VLOOKUP($A975,Liste!$A$10:$W$459,19,FALSE),\"\")","v":{"$error":"#N/A"}},null,null,null,"Départ à","après vote de la Résolution N°"]
[{"$f":"IF($A975<>0,\"Lot \" & VLOOKUP($A975,Liste!$A$10:$W$459,21,FALSE),\"\")","v":{"$error":"#N/A"}},{"$f":"IF($A975<>0,VLOOKUP($A975,Liste!$A$10:$W$459,22,FALSE),\"\")","v":{"$error":"#N/A"}},{"$f":"IF($A975<>0,VLOOKUP($A975,Liste!$A$10:$W$459,23,FALSE),\"\")","v":{"$error":"#N/A"}},null,null,null,{"$f":"IF(OR(B976=0,VLOOKUP(A975,Liste!$A$10:'Liste'!$Z$459,26)<>\"\"),\"\", \"Voir autorisation messages électroniques\")","v":{"$error":"#N/A"}}]
[{"$f":"A975+1","v":103},null,null,null,null,null,"Par correspondance reçu le "]
[{"$f":"IF($A984<>0,VLOOKUP($A984,Liste!$A$10:$W$459,3,FALSE),\"\")","v":{"$error":"#N/A"}},{"$f":"IF($A984<>0,VLOOKUP($A984,Liste!$A$10:$W$459,4,FALSE),\"\")","v":{"$error":"#N/A"}},null,null,{"$f":"IF($A984<>0,VLOOKUP($A984,Liste!$A$10:$W$459,8,FALSE),\"\")","v":{"$error":"#N/A"}},null,"Par visio, audio conférence,,,,"]
[{"$f":"IF($A984<>0,VLOOKUP($A984,Liste!$A$10:$W$459,5,FALSE),\"\")","v":{"$error":"#N/A"}},null,null,null,null,null,"Signature/ Mandataire :"]
[{"$f":"IF($A984<>0,VLOOKUP($A984,Liste!$A$10:$W$459,6,FALSE),\"\")","v":{"$error":"#N/A"}},{"$f":"IF($A984<>0,VLOOKUP($A984,Liste!$A$10:$W$459,7,FALSE),\"\")","v":{"$error":"#N/A"}}]
[{"$f":" IF($A984<>0, \"Lot \" & VLOOKUP($A984,Liste!$A$10:$W$459,9,FALSE),\"\")","v":{"$error":"#N/A"}},{"$f":"IF($A984<>0,VLOOKUP($A984,Liste!$A$10:$W$459,10,FALSE),\"\")","v":{"$error":"#N/A"}},{"$f":"IF($A984<>0,VLOOKUP($A984,Liste!$A$10:$W$459,11,FALSE),\"\")","v":{"$error":"#N/A"}}]
[{"$f":"IF($A984<>0,\"Lot \" & VLOOKUP($A984,Liste!$A$10:$W$459,12,FALSE),\"\")","v":{"$error":"#N/A"}},{"$f":"IF($A984<>0,VLOOKUP($A984,Liste!$A$10:$W$459,13,FALSE),\"\")","v":{"$error":"#N/A"}},{"$f":"IF($A984<>0,VLOOKUP($A984,Liste!$A$10:$W$459,14,FALSE),\"\")","v":{"$error":"#N/A"}}]
[{"$f":"IF($A984<>0,\"Lot \" & VLOOKUP($A984,Liste!$A$10:$W$459,15,FALSE),\"\")","v":{"$error":"#N/A"}},{"$f":"IF($A984<>0,VLOOKUP($A984,Liste!$A$10:$W$459,16,FALSE),\"\")","v":{"$error":"#N/A"}},{"$f":"IF($A984<>0,VLOOKUP($A984,Liste!$A$10:$W$459,17,FALSE),\"\")","v":{"$error":"#N/A"}},null,null,null,"Arrivé à","après vote de la Résolution N°"]
[{"$f":"IF($A984<>0,\"Lot \" & VLOOKUP($A984,Liste!$A$10:$W$459,18,FALSE),\"\")","v":{"$error":"#N/A"}},0,{"$f":"IF($A984<>0,VLOOKUP($A984,Liste!$A$10:$W$459,19,FALSE),\"\")","v":{"$error":"#N/A"}},null,null,null,"Départ à","après vote de la Résolution N°"]
[{"$f":"IF($A984<>0,\"Lot \" & VLOOKUP($A984,Liste!$A$10:$W$459,21,FALSE),\"\")","v":{"$error":"#N/A"}},{"$f":"IF($A984<>0,VLOOKUP($A984,Liste!$A$10:$W$459,22,FALSE),\"\")","v":{"$error":"#N/A"}},{"$f":"IF($A984<>0,VLOOKUP($A984,Liste!$A$10:$W$459,23,FALSE),\"\")","v":{"$error":"#N/A"}},null,null,null,{"$f":"IF(OR(B985=0,VLOOKUP(A984,Liste!$A$10:'Liste'!$Z$459,26)<>\"\"),\"\", \"Voir autorisation messages électroniques\")","v":{"$error":"#N/A"}}]
[{"$f":"A984+1","v":104},null,null,null,null,null,"Par correspondance reçu le "]
[{"$f":"IF($A993<>0,VLOOKUP($A993,Liste!$A$10:$W$459,3,FALSE),\"\")","v":{"$error":"#N/A"}},{"$f":"IF($A993<>0,VLOOKUP($A993,Liste!$A$10:$W$459,4,FALSE),\"\")","v":{"$error":"#N/A"}},null,null,{"$f":"IF($A993<>0,VLOOKUP($A993,Liste!$A$10:$W$459,8,FALSE),\"\")","v":{"$error":"#N/A"}},null,"Par visio, audio conférence,,,,"]
[{"$f":"IF($A993<>0,VLOOKUP($A993,Liste!$A$10:$W$459,5,FALSE),\"\")","v":{"$error":"#N/A"}},null,null,null,null,null,"Signature/ Mandataire :"]
[{"$f":"IF($A993<>0,VLOOKUP($A993,Liste!$A$10:$W$459,6,FALSE),\"\")","v":{"$error":"#N/A"}},{"$f":"IF($A993<>0,VLOOKUP($A993,Liste!$A$10:$W$459,7,FALSE),\"\")","v":{"$error":"#N/A"}}]
[{"$f":" IF($A993<>0, \"Lot \" & VLOOKUP($A993,Liste!$A$10:$W$459,9,FALSE),\"\")","v":{"$error":"#N/A"}},{"$f":"IF($A993<>0,VLOOKUP($A993,Liste!$A$10:$W$459,10,FALSE),\"\")","v":{"$error":"#N/A"}},{"$f":"IF($A993<>0,VLOOKUP($A993,Liste!$A$10:$W$459,11,FALSE),\"\")","v":{"$error":"#N/A"}}]
[{"$f":"IF($A993<>0,\"Lot \" & VLOOKUP($A993,Liste!$A$10:$W$459,12,FALSE),\"\")","v":{"$error":"#N/A"}},{"$f":"IF($A993<>0,VLOOKUP($A993,Liste!$A$10:$W$459,13,FALSE),\"\")","v":{"$error":"#N/A"}},{"$f":"IF($A993<>0,VLOOKUP($A993,Liste!$A$10:$W$459,14,FALSE),\"\")","v":{"$error":"#N/A"}}]
[{"$f":"IF($A993<>0,\"Lot \" & VLOOKUP($A993,Liste!$A$10:$W$459,15,FALSE),\"\")","v":{"$error":"#N/A"}},{"$f":"IF($A993<>0,VLOOKUP($A993,Liste!$A$10:$W$459,16,FALSE),\"\")","v":{"$error":"#N/A"}},{"$f":"IF($A993<>0,VLOOKUP($A993,Liste!$A$10:$W$459,17,FALSE),\"\")","v":{"$error":"#N/A"}},null,null,null,"Arrivé à","après vote de la Résolution N°"]
[{"$f":"IF($A993<>0,\"Lot \" & VLOOKUP($A993,Liste!$A$10:$W$459,18,FALSE),\"\")","v":{"$error":"#N/A"}},0,{"$f":"IF($A993<>0,VLOOKUP($A993,Liste!$A$10:$W$459,19,FALSE),\"\")","v":{"$error":"#N/A"}},null,null,null,"Départ à","après vote de la Résolution N°"]
[{"$f":"IF($A993<>0,\"Lot \" & VLOOKUP($A993,Liste!$A$10:$W$459,21,FALSE),\"\")","v":{"$error":"#N/A"}},{"$f":"IF($A993<>0,VLOOKUP($A993,Liste!$A$10:$W$459,22,FALSE),\"\")","v":{"$error":"#N/A"}},{"$f":"IF($A993<>0,VLOOKUP($A993,Liste!$A$10:$W$459,23,FALSE),\"\")","v":{"$error":"#N/A"}},null,null,null,{"$f":"IF(OR(B994=0,VLOOKUP(A993,Liste!$A$10:'Liste'!$Z$459,26)<>\"\"),\"\", \"Voir autorisation messages électroniques\")","v":{"$error":"#N/A"}}]
[]
[null,null,null,"A S S E M B L E E     G E N E R A L E",null,null,null,null,null,null,"Page",{"$f":"L926+1","v":14}]
[null,null,null,null,null,"du","2019-12-20"]
[null,null,null,"Résidence Le Paradis; Rue de l' espoir 75016 PARIS"]
[]
[{"$f":"A993+1","v":105},null,null,null,null,null,"Par correspondance reçu le "]
[{"$f":"IF($A1007<>0,VLOOKUP($A1007,Liste!$A$10:$W$459,3,FALSE),\"\")","v":{"$error":"#N/A"}},{"$f":"IF($A1007<>0,VLOOKUP($A1007,Liste!$A$10:$W$459,4,FALSE),\"\")","v":{"$error":"#N/A"}},null,null,{"$f":"IF($A1007<>0,VLOOKUP($A1007,Liste!$A$10:$W$459,8,FALSE),\"\")","v":{"$error":"#N/A"}},null,"Par visio, audio conférence,,,,"]
[{"$f":"IF($A1007<>0,VLOOKUP($A1007,Liste!$A$10:$W$459,5,FALSE),\"\")","v":{"$error":"#N/A"}},null,null,null,null,null,"Signature/ Mandataire :"]
[{"$f":"IF($A1007<>0,VLOOKUP($A1007,Liste!$A$10:$W$459,6,FALSE),\"\")","v":{"$error":"#N/A"}},{"$f":"IF($A1007<>0,VLOOKUP($A1007,Liste!$A$10:$W$459,7,FALSE),\"\")","v":{"$error":"#N/A"}}]
[{"$f":" IF($A1007<>0, \"Lot \" & VLOOKUP($A1007,Liste!$A$10:$W$459,9,FALSE),\"\")","v":{"$error":"#N/A"}},{"$f":"IF($A1007<>0,VLOOKUP($A1007,Liste!$A$10:$W$459,10,FALSE),\"\")","v":{"$error":"#N/A"}},{"$f":"IF($A1007<>0,VLOOKUP($A1007,Liste!$A$10:$W$459,11,FALSE),\"\")","v":{"$error":"#N/A"}}]
[{"$f":"IF($A1007<>0,\"Lot \" & VLOOKUP($A1007,Liste!$A$10:$W$459,12,FALSE),\"\")","v":{"$error":"#N/A"}},{"$f":"IF($A1007<>0,VLOOKUP($A1007,Liste!$A$10:$W$459,13,FALSE),\"\")","v":{"$error":"#N/A"}},{"$f":"IF($A1007<>0,VLOOKUP($A1007,Liste!$A$10:$W$459,14,FALSE),\"\")","v":{"$error":"#N/A"}}]
[{"$f":"IF($A1007<>0,\"Lot \" & VLOOKUP($A1007,Liste!$A$10:$W$459,15,FALSE),\"\")","v":{"$error":"#N/A"}},{"$f":"IF($A1007<>0,VLOOKUP($A1007,Liste!$A$10:$W$459,16,FALSE),\"\")","v":{"$error":"#N/A"}},{"$f":"IF($A1007<>0,VLOOKUP($A1007,Liste!$A$10:$W$459,17,FALSE),\"\")","v":{"$error":"#N/A"}},null,null,null,"Arrivé à","après vote de la Résolution N°"]
[{"$f":"IF($A1007<>0,\"Lot \" & VLOOKUP($A1007,Liste!$A$10:$W$459,18,FALSE),\"\")","v":{"$error":"#N/A"}},0,{"$f":"IF($A1007<>0,VLOOKUP($A1007,Liste!$A$10:$W$459,19,FALSE),\"\")","v":{"$error":"#N/A"}},null,null,null,"Départ à","après vote de la Résolution N°"]
[{"$f":"IF($A1007<>0,\"Lot \" & VLOOKUP($A1007,Liste!$A$10:$W$459,21,FALSE),\"\")","v":{"$error":"#N/A"}},{"$f":"IF($A1007<>0,VLOOKUP($A1007,Liste!$A$10:$W$459,22,FALSE),\"\")","v":{"$error":"#N/A"}},{"$f":"IF($A1007<>0,VLOOKUP($A1007,Liste!$A$10:$W$459,23,FALSE),\"\")","v":{"$error":"#N/A"}},null,null,null,{"$f":"IF(OR(B1008=0,VLOOKUP(A1007,Liste!$A$10:'Liste'!$Z$459,26)<>\"\"),\"\", \"Voir autorisation messages électroniques\")","v":{"$error":"#N/A"}}]
[{"$f":"A1007+1","v":106},null,null,null,null,null,"Par correspondance reçu le "]
[{"$f":"IF($A1016<>0,VLOOKUP($A1016,Liste!$A$10:$W$459,3,FALSE),\"\")","v":{"$error":"#N/A"}},{"$f":"IF($A1016<>0,VLOOKUP($A1016,Liste!$A$10:$W$459,4,FALSE),\"\")","v":{"$error":"#N/A"}},null,null,{"$f":"IF($A1016<>0,VLOOKUP($A1016,Liste!$A$10:$W$459,8,FALSE),\"\")","v":{"$error":"#N/A"}},null,"Par visio, audio conférence,,,,"]
[{"$f":"IF($A1016<>0,VLOOKUP($A1016,Liste!$A$10:$W$459,5,FALSE),\"\")","v":{"$error":"#N/A"}},null,null,null,null,null,"Signature/ Mandataire :"]
[{"$f":"IF($A1016<>0,VLOOKUP($A1016,Liste!$A$10:$W$459,6,FALSE),\"\")","v":{"$error":"#N/A"}},{"$f":"IF($A1016<>0,VLOOKUP($A1016,Liste!$A$10:$W$459,7,FALSE),\"\")","v":{"$error":"#N/A"}}]
[{"$f":" IF($A1016<>0, \"Lot \" & VLOOKUP($A1016,Liste!$A$10:$W$459,9,FALSE),\"\")","v":{"$error":"#N/A"}},{"$f":"IF($A1016<>0,VLOOKUP($A1016,Liste!$A$10:$W$459,10,FALSE),\"\")","v":{"$error":"#N/A"}},{"$f":"IF($A1016<>0,VLOOKUP($A1016,Liste!$A$10:$W$459,11,FALSE),\"\")","v":{"$error":"#N/A"}}]
[{"$f":"IF($A1016<>0,\"Lot \" & VLOOKUP($A1016,Liste!$A$10:$W$459,12,FALSE),\"\")","v":{"$error":"#N/A"}},{"$f":"IF($A1016<>0,VLOOKUP($A1016,Liste!$A$10:$W$459,13,FALSE),\"\")","v":{"$error":"#N/A"}},{"$f":"IF($A1016<>0,VLOOKUP($A1016,Liste!$A$10:$W$459,14,FALSE),\"\")","v":{"$error":"#N/A"}}]
[{"$f":"IF($A1016<>0,\"Lot \" & VLOOKUP($A1016,Liste!$A$10:$W$459,15,FALSE),\"\")","v":{"$error":"#N/A"}},{"$f":"IF($A1016<>0,VLOOKUP($A1016,Liste!$A$10:$W$459,16,FALSE),\"\")","v":{"$error":"#N/A"}},{"$f":"IF($A1016<>0,VLOOKUP($A1016,Liste!$A$10:$W$459,17,FALSE),\"\")","v":{"$error":"#N/A"}},null,null,null,"Arrivé à","après vote de la Résolution N°"]
[{"$f":"IF($A1016<>0,\"Lot \" & VLOOKUP($A1016,Liste!$A$10:$W$459,18,FALSE),\"\")","v":{"$error":"#N/A"}},0,{"$f":"IF($A1016<>0,VLOOKUP($A1016,Liste!$A$10:$W$459,19,FALSE),\"\")","v":{"$error":"#N/A"}},null,null,null,"Départ à","après vote de la Résolution N°"]
[{"$f":"IF($A1016<>0,\"Lot \" & VLOOKUP($A1016,Liste!$A$10:$W$459,21,FALSE),\"\")","v":{"$error":"#N/A"}},{"$f":"IF($A1016<>0,VLOOKUP($A1016,Liste!$A$10:$W$459,22,FALSE),\"\")","v":{"$error":"#N/A"}},{"$f":"IF($A1016<>0,VLOOKUP($A1016,Liste!$A$10:$W$459,23,FALSE),\"\")","v":{"$error":"#N/A"}},null,null,null,{"$f":"IF(OR(B1017=0,VLOOKUP(A1016,Liste!$A$10:'Liste'!$Z$459,26)<>\"\"),\"\", \"Voir autorisation messages électroniques\")","v":{"$error":"#N/A"}}]
[{"$f":"A1016+1","v":107},null,null,null,null,null,"Par correspondance reçu le "]
[{"$f":"IF($A1025<>0,VLOOKUP($A1025,Liste!$A$10:$W$459,3,FALSE),\"\")","v":{"$error":"#N/A"}},{"$f":"IF($A1025<>0,VLOOKUP($A1025,Liste!$A$10:$W$459,4,FALSE),\"\")","v":{"$error":"#N/A"}},null,null,{"$f":"IF($A1025<>0,VLOOKUP($A1025,Liste!$A$10:$W$459,8,FALSE),\"\")","v":{"$error":"#N/A"}},null,"Par visio, audio conférence,,,,"]
[{"$f":"IF($A1025<>0,VLOOKUP($A1025,Liste!$A$10:$W$459,5,FALSE),\"\")","v":{"$error":"#N/A"}},null,null,null,null,null,"Signature/ Mandataire :"]
[{"$f":"IF($A1025<>0,VLOOKUP($A1025,Liste!$A$10:$W$459,6,FALSE),\"\")","v":{"$error":"#N/A"}},{"$f":"IF($A1025<>0,VLOOKUP($A1025,Liste!$A$10:$W$459,7,FALSE),\"\")","v":{"$error":"#N/A"}}]
[{"$f":" IF($A1025<>0, \"Lot \" & VLOOKUP($A1025,Liste!$A$10:$W$459,9,FALSE),\"\")","v":{"$error":"#N/A"}},{"$f":"IF($A1025<>0,VLOOKUP($A1025,Liste!$A$10:$W$459,10,FALSE),\"\")","v":{"$error":"#N/A"}},{"$f":"IF($A1025<>0,VLOOKUP($A1025,Liste!$A$10:$W$459,11,FALSE),\"\")","v":{"$error":"#N/A"}}]
[{"$f":"IF($A1025<>0,\"Lot \" & VLOOKUP($A1025,Liste!$A$10:$W$459,12,FALSE),\"\")","v":{"$error":"#N/A"}},{"$f":"IF($A1025<>0,VLOOKUP($A1025,Liste!$A$10:$W$459,13,FALSE),\"\")","v":{"$error":"#N/A"}},{"$f":"IF($A1025<>0,VLOOKUP($A1025,Liste!$A$10:$W$459,14,FALSE),\"\")","v":{"$error":"#N/A"}}]
[{"$f":"IF($A1025<>0,\"Lot \" & VLOOKUP($A1025,Liste!$A$10:$W$459,15,FALSE),\"\")","v":{"$error":"#N/A"}},{"$f":"IF($A1025<>0,VLOOKUP($A1025,Liste!$A$10:$W$459,16,FALSE),\"\")","v":{"$error":"#N/A"}},{"$f":"IF($A1025<>0,VLOOKUP($A1025,Liste!$A$10:$W$459,17,FALSE),\"\")","v":{"$error":"#N/A"}},null,null,null,"Arrivé à","après vote de la Résolution N°"]
[{"$f":"IF($A1025<>0,\"Lot \" & VLOOKUP($A1025,Liste!$A$10:$W$459,18,FALSE),\"\")","v":{"$error":"#N/A"}},0,{"$f":"IF($A1025<>0,VLOOKUP($A1025,Liste!$A$10:$W$459,19,FALSE),\"\")","v":{"$error":"#N/A"}},null,null,null,"Départ à","après vote de la Résolution N°"]
[{"$f":"IF($A1025<>0,\"Lot \" & VLOOKUP($A1025,Liste!$A$10:$W$459,21,FALSE),\"\")","v":{"$error":"#N/A"}},{"$f":"IF($A1025<>0,VLOOKUP($A1025,Liste!$A$10:$W$459,22,FALSE),\"\")","v":{"$error":"#N/A"}},{"$f":"IF($A1025<>0,VLOOKUP($A1025,Liste!$A$10:$W$459,23,FALSE),\"\")","v":{"$error":"#N/A"}},null,null,null,{"$f":"IF(OR(B1026=0,VLOOKUP(A1025,Liste!$A$10:'Liste'!$Z$459,26)<>\"\"),\"\", \"Voir autorisation messages électroniques\")","v":{"$error":"#N/A"}}]
[{"$f":"A1025+1","v":108},null,null,null,null,null,"Par correspondance reçu le "]
[{"$f":"IF($A1034<>0,VLOOKUP($A1034,Liste!$A$10:$W$459,3,FALSE),\"\")","v":{"$error":"#N/A"}},{"$f":"IF($A1034<>0,VLOOKUP($A1034,Liste!$A$10:$W$459,4,FALSE),\"\")","v":{"$error":"#N/A"}},null,null,{"$f":"IF($A1034<>0,VLOOKUP($A1034,Liste!$A$10:$W$459,8,FALSE),\"\")","v":{"$error":"#N/A"}},null,"Par visio, audio conférence,,,,"]
[{"$f":"IF($A1034<>0,VLOOKUP($A1034,Liste!$A$10:$W$459,5,FALSE),\"\")","v":{"$error":"#N/A"}},null,null,null,null,null,"Signature/ Mandataire :"]
[{"$f":"IF($A1034<>0,VLOOKUP($A1034,Liste!$A$10:$W$459,6,FALSE),\"\")","v":{"$error":"#N/A"}},{"$f":"IF($A1034<>0,VLOOKUP($A1034,Liste!$A$10:$W$459,7,FALSE),\"\")","v":{"$error":"#N/A"}}]
[{"$f":" IF($A1034<>0, \"Lot \" & VLOOKUP($A1034,Liste!$A$10:$W$459,9,FALSE),\"\")","v":{"$error":"#N/A"}},{"$f":"IF($A1034<>0,VLOOKUP($A1034,Liste!$A$10:$W$459,10,FALSE),\"\")","v":{"$error":"#N/A"}},{"$f":"IF($A1034<>0,VLOOKUP($A1034,Liste!$A$10:$W$459,11,FALSE),\"\")","v":{"$error":"#N/A"}}]
[{"$f":"IF($A1034<>0,\"Lot \" & VLOOKUP($A1034,Liste!$A$10:$W$459,12,FALSE),\"\")","v":{"$error":"#N/A"}},{"$f":"IF($A1034<>0,VLOOKUP($A1034,Liste!$A$10:$W$459,13,FALSE),\"\")","v":{"$error":"#N/A"}},{"$f":"IF($A1034<>0,VLOOKUP($A1034,Liste!$A$10:$W$459,14,FALSE),\"\")","v":{"$error":"#N/A"}}]
[{"$f":"IF($A1034<>0,\"Lot \" & VLOOKUP($A1034,Liste!$A$10:$W$459,15,FALSE),\"\")","v":{"$error":"#N/A"}},{"$f":"IF($A1034<>0,VLOOKUP($A1034,Liste!$A$10:$W$459,16,FALSE),\"\")","v":{"$error":"#N/A"}},{"$f":"IF($A1034<>0,VLOOKUP($A1034,Liste!$A$10:$W$459,17,FALSE),\"\")","v":{"$error":"#N/A"}},null,null,null,"Arrivé à","après vote de la Résolution N°"]
[{"$f":"IF($A1034<>0,\"Lot \" & VLOOKUP($A1034,Liste!$A$10:$W$459,18,FALSE),\"\")","v":{"$error":"#N/A"}},0,{"$f":"IF($A1034<>0,VLOOKUP($A1034,Liste!$A$10:$W$459,19,FALSE),\"\")","v":{"$error":"#N/A"}},null,null,null,"Départ à","après vote de la Résolution N°"]
[{"$f":"IF($A1034<>0,\"Lot \" & VLOOKUP($A1034,Liste!$A$10:$W$459,21,FALSE),\"\")","v":{"$error":"#N/A"}},{"$f":"IF($A1034<>0,VLOOKUP($A1034,Liste!$A$10:$W$459,22,FALSE),\"\")","v":{"$error":"#N/A"}},{"$f":"IF($A1034<>0,VLOOKUP($A1034,Liste!$A$10:$W$459,23,FALSE),\"\")","v":{"$error":"#N/A"}},null,null,null,{"$f":"IF(OR(B1035=0,VLOOKUP(A1034,Liste!$A$10:'Liste'!$Z$459,26)<>\"\"),\"\", \"Voir autorisation messages électroniques\")","v":{"$error":"#N/A"}}]
[{"$f":"A1034+1","v":109},null,null,null,null,null,"Par correspondance reçu le "]
[{"$f":"IF($A1043<>0,VLOOKUP($A1043,Liste!$A$10:$W$459,3,FALSE),\"\")","v":{"$error":"#N/A"}},{"$f":"IF($A1043<>0,VLOOKUP($A1043,Liste!$A$10:$W$459,4,FALSE),\"\")","v":{"$error":"#N/A"}},null,null,{"$f":"IF($A1043<>0,VLOOKUP($A1043,Liste!$A$10:$W$459,8,FALSE),\"\")","v":{"$error":"#N/A"}},null,"Par visio, audio conférence,,,,"]
[{"$f":"IF($A1043<>0,VLOOKUP($A1043,Liste!$A$10:$W$459,5,FALSE),\"\")","v":{"$error":"#N/A"}},null,null,null,null,null,"Signature/ Mandataire :"]
[{"$f":"IF($A1043<>0,VLOOKUP($A1043,Liste!$A$10:$W$459,6,FALSE),\"\")","v":{"$error":"#N/A"}},{"$f":"IF($A1043<>0,VLOOKUP($A1043,Liste!$A$10:$W$459,7,FALSE),\"\")","v":{"$error":"#N/A"}}]
[{"$f":" IF($A1043<>0, \"Lot \" & VLOOKUP($A1043,Liste!$A$10:$W$459,9,FALSE),\"\")","v":{"$error":"#N/A"}},{"$f":"IF($A1043<>0,VLOOKUP($A1043,Liste!$A$10:$W$459,10,FALSE),\"\")","v":{"$error":"#N/A"}},{"$f":"IF($A1043<>0,VLOOKUP($A1043,Liste!$A$10:$W$459,11,FALSE),\"\")","v":{"$error":"#N/A"}}]
[{"$f":"IF($A1043<>0,\"Lot \" & VLOOKUP($A1043,Liste!$A$10:$W$459,12,FALSE),\"\")","v":{"$error":"#N/A"}},{"$f":"IF($A1043<>0,VLOOKUP($A1043,Liste!$A$10:$W$459,13,FALSE),\"\")","v":{"$error":"#N/A"}},{"$f":"IF($A1043<>0,VLOOKUP($A1043,Liste!$A$10:$W$459,14,FALSE),\"\")","v":{"$error":"#N/A"}}]
[{"$f":"IF($A1043<>0,\"Lot \" & VLOOKUP($A1043,Liste!$A$10:$W$459,15,FALSE),\"\")","v":{"$error":"#N/A"}},{"$f":"IF($A1043<>0,VLOOKUP($A1043,Liste!$A$10:$W$459,16,FALSE),\"\")","v":{"$error":"#N/A"}},{"$f":"IF($A1043<>0,VLOOKUP($A1043,Liste!$A$10:$W$459,17,FALSE),\"\")","v":{"$error":"#N/A"}},null,null,null,"Arrivé à","après vote de la Résolution N°"]
[{"$f":"IF($A1043<>0,\"Lot \" & VLOOKUP($A1043,Liste!$A$10:$W$459,18,FALSE),\"\")","v":{"$error":"#N/A"}},0,{"$f":"IF($A1043<>0,VLOOKUP($A1043,Liste!$A$10:$W$459,19,FALSE),\"\")","v":{"$error":"#N/A"}},null,null,null,"Départ à","après vote de la Résolution N°"]
[{"$f":"IF($A1043<>0,\"Lot \" & VLOOKUP($A1043,Liste!$A$10:$W$459,21,FALSE),\"\")","v":{"$error":"#N/A"}},{"$f":"IF($A1043<>0,VLOOKUP($A1043,Liste!$A$10:$W$459,22,FALSE),\"\")","v":{"$error":"#N/A"}},{"$f":"IF($A1043<>0,VLOOKUP($A1043,Liste!$A$10:$W$459,23,FALSE),\"\")","v":{"$error":"#N/A"}},null,null,null,{"$f":"IF(OR(B1044=0,VLOOKUP(A1043,Liste!$A$10:'Liste'!$Z$459,26)<>\"\"),\"\", \"Voir autorisation messages électroniques\")","v":{"$error":"#N/A"}}]
[{"$f":"A1043+1","v":110},null,null,null,null,null,"Par correspondance reçu le "]
[{"$f":"IF($A1052<>0,VLOOKUP($A1052,Liste!$A$10:$W$459,3,FALSE),\"\")","v":{"$error":"#N/A"}},{"$f":"IF($A1052<>0,VLOOKUP($A1052,Liste!$A$10:$W$459,4,FALSE),\"\")","v":{"$error":"#N/A"}},null,null,{"$f":"IF($A1052<>0,VLOOKUP($A1052,Liste!$A$10:$W$459,8,FALSE),\"\")","v":{"$error":"#N/A"}},null,"Par visio, audio conférence,,,,"]
[{"$f":"IF($A1052<>0,VLOOKUP($A1052,Liste!$A$10:$W$459,5,FALSE),\"\")","v":{"$error":"#N/A"}},null,null,null,null,null,"Signature/ Mandataire :"]
[{"$f":"IF($A1052<>0,VLOOKUP($A1052,Liste!$A$10:$W$459,6,FALSE),\"\")","v":{"$error":"#N/A"}},{"$f":"IF($A1052<>0,VLOOKUP($A1052,Liste!$A$10:$W$459,7,FALSE),\"\")","v":{"$error":"#N/A"}}]
[{"$f":" IF($A1052<>0, \"Lot \" & VLOOKUP($A1052,Liste!$A$10:$W$459,9,FALSE),\"\")","v":{"$error":"#N/A"}},{"$f":"IF($A1052<>0,VLOOKUP($A1052,Liste!$A$10:$W$459,10,FALSE),\"\")","v":{"$error":"#N/A"}},{"$f":"IF($A1052<>0,VLOOKUP($A1052,Liste!$A$10:$W$459,11,FALSE),\"\")","v":{"$error":"#N/A"}}]
[{"$f":"IF($A1052<>0,\"Lot \" & VLOOKUP($A1052,Liste!$A$10:$W$459,12,FALSE),\"\")","v":{"$error":"#N/A"}},{"$f":"IF($A1052<>0,VLOOKUP($A1052,Liste!$A$10:$W$459,13,FALSE),\"\")","v":{"$error":"#N/A"}},{"$f":"IF($A1052<>0,VLOOKUP($A1052,Liste!$A$10:$W$459,14,FALSE),\"\")","v":{"$error":"#N/A"}}]
[{"$f":"IF($A1052<>0,\"Lot \" & VLOOKUP($A1052,Liste!$A$10:$W$459,15,FALSE),\"\")","v":{"$error":"#N/A"}},{"$f":"IF($A1052<>0,VLOOKUP($A1052,Liste!$A$10:$W$459,16,FALSE),\"\")","v":{"$error":"#N/A"}},{"$f":"IF($A1052<>0,VLOOKUP($A1052,Liste!$A$10:$W$459,17,FALSE),\"\")","v":{"$error":"#N/A"}},null,null,null,"Arrivé à","après vote de la Résolution N°"]
[{"$f":"IF($A1052<>0,\"Lot \" & VLOOKUP($A1052,Liste!$A$10:$W$459,18,FALSE),\"\")","v":{"$error":"#N/A"}},0,{"$f":"IF($A1052<>0,VLOOKUP($A1052,Liste!$A$10:$W$459,19,FALSE),\"\")","v":{"$error":"#N/A"}},null,null,null,"Départ à","après vote de la Résolution N°"]
[{"$f":"IF($A1052<>0,\"Lot \" & VLOOKUP($A1052,Liste!$A$10:$W$459,21,FALSE),\"\")","v":{"$error":"#N/A"}},{"$f":"IF($A1052<>0,VLOOKUP($A1052,Liste!$A$10:$W$459,22,FALSE),\"\")","v":{"$error":"#N/A"}},{"$f":"IF($A1052<>0,VLOOKUP($A1052,Liste!$A$10:$W$459,23,FALSE),\"\")","v":{"$error":"#N/A"}},null,null,null,{"$f":"IF(OR(B1053=0,VLOOKUP(A1052,Liste!$A$10:'Liste'!$Z$459,26)<>\"\"),\"\", \"Voir autorisation messages électroniques\")","v":{"$error":"#N/A"}}]
[{"$f":"A1052+1","v":111},null,null,null,null,null,"Par correspondance reçu le "]
[{"$f":"IF($A1061<>0,VLOOKUP($A1061,Liste!$A$10:$W$459,3,FALSE),\"\")","v":{"$error":"#N/A"}},{"$f":"IF($A1061<>0,VLOOKUP($A1061,Liste!$A$10:$W$459,4,FALSE),\"\")","v":{"$error":"#N/A"}},null,null,{"$f":"IF($A1061<>0,VLOOKUP($A1061,Liste!$A$10:$W$459,8,FALSE),\"\")","v":{"$error":"#N/A"}},null,"Par visio, audio conférence,,,,"]
[{"$f":"IF($A1061<>0,VLOOKUP($A1061,Liste!$A$10:$W$459,5,FALSE),\"\")","v":{"$error":"#N/A"}},null,null,null,null,null,"Signature/ Mandataire :"]
[{"$f":"IF($A1061<>0,VLOOKUP($A1061,Liste!$A$10:$W$459,6,FALSE),\"\")","v":{"$error":"#N/A"}},{"$f":"IF($A1061<>0,VLOOKUP($A1061,Liste!$A$10:$W$459,7,FALSE),\"\")","v":{"$error":"#N/A"}}]
[{"$f":" IF($A1061<>0, \"Lot \" & VLOOKUP($A1061,Liste!$A$10:$W$459,9,FALSE),\"\")","v":{"$error":"#N/A"}},{"$f":"IF($A1061<>0,VLOOKUP($A1061,Liste!$A$10:$W$459,10,FALSE),\"\")","v":{"$error":"#N/A"}},{"$f":"IF($A1061<>0,VLOOKUP($A1061,Liste!$A$10:$W$459,11,FALSE),\"\")","v":{"$error":"#N/A"}}]
[{"$f":"IF($A1061<>0,\"Lot \" & VLOOKUP($A1061,Liste!$A$10:$W$459,12,FALSE),\"\")","v":{"$error":"#N/A"}},{"$f":"IF($A1061<>0,VLOOKUP($A1061,Liste!$A$10:$W$459,13,FALSE),\"\")","v":{"$error":"#N/A"}},{"$f":"IF($A1061<>0,VLOOKUP($A1061,Liste!$A$10:$W$459,14,FALSE),\"\")","v":{"$error":"#N/A"}}]
[{"$f":"IF($A1061<>0,\"Lot \" & VLOOKUP($A1061,Liste!$A$10:$W$459,15,FALSE),\"\")","v":{"$error":"#N/A"}},{"$f":"IF($A1061<>0,VLOOKUP($A1061,Liste!$A$10:$W$459,16,FALSE),\"\")","v":{"$error":"#N/A"}},{"$f":"IF($A1061<>0,VLOOKUP($A1061,Liste!$A$10:$W$459,17,FALSE),\"\")","v":{"$error":"#N/A"}},null,null,null,"Arrivé à","après vote de la Résolution N°"]
[{"$f":"IF($A1061<>0,\"Lot \" & VLOOKUP($A1061,Liste!$A$10:$W$459,18,FALSE),\"\")","v":{"$error":"#N/A"}},0,{"$f":"IF($A1061<>0,VLOOKUP($A1061,Liste!$A$10:$W$459,19,FALSE),\"\")","v":{"$error":"#N/A"}},null,null,null,"Départ à","après vote de la Résolution N°"]
[{"$f":"IF($A1061<>0,\"Lot \" & VLOOKUP($A1061,Liste!$A$10:$W$459,21,FALSE),\"\")","v":{"$error":"#N/A"}},{"$f":"IF($A1061<>0,VLOOKUP($A1061,Liste!$A$10:$W$459,22,FALSE),\"\")","v":{"$error":"#N/A"}},{"$f":"IF($A1061<>0,VLOOKUP($A1061,Liste!$A$10:$W$459,23,FALSE),\"\")","v":{"$error":"#N/A"}},null,null,null,{"$f":"IF(OR(B1062=0,VLOOKUP(A1061,Liste!$A$10:'Liste'!$Z$459,26)<>\"\"),\"\", \"Voir autorisation messages électroniques\")","v":{"$error":"#N/A"}}]
[{"$f":"A1061+1","v":112},null,null,null,null,null,"Par correspondance reçu le "]
[{"$f":"IF($A1070<>0,VLOOKUP($A1070,Liste!$A$10:$W$459,3,FALSE),\"\")","v":{"$error":"#N/A"}},{"$f":"IF($A1070<>0,VLOOKUP($A1070,Liste!$A$10:$W$459,4,FALSE),\"\")","v":{"$error":"#N/A"}},null,null,{"$f":"IF($A1070<>0,VLOOKUP($A1070,Liste!$A$10:$W$459,8,FALSE),\"\")","v":{"$error":"#N/A"}},null,"Par visio, audio conférence,,,,"]
[{"$f":"IF($A1070<>0,VLOOKUP($A1070,Liste!$A$10:$W$459,5,FALSE),\"\")","v":{"$error":"#N/A"}},null,null,null,null,null,"Signature/ Mandataire :"]
[{"$f":"IF($A1070<>0,VLOOKUP($A1070,Liste!$A$10:$W$459,6,FALSE),\"\")","v":{"$error":"#N/A"}},{"$f":"IF($A1070<>0,VLOOKUP($A1070,Liste!$A$10:$W$459,7,FALSE),\"\")","v":{"$error":"#N/A"}}]
[{"$f":" IF($A1070<>0, \"Lot \" & VLOOKUP($A1070,Liste!$A$10:$W$459,9,FALSE),\"\")","v":{"$error":"#N/A"}},{"$f":"IF($A1070<>0,VLOOKUP($A1070,Liste!$A$10:$W$459,10,FALSE),\"\")","v":{"$error":"#N/A"}},{"$f":"IF($A1070<>0,VLOOKUP($A1070,Liste!$A$10:$W$459,11,FALSE),\"\")","v":{"$error":"#N/A"}}]
[{"$f":"IF($A1070<>0,\"Lot \" & VLOOKUP($A1070,Liste!$A$10:$W$459,12,FALSE),\"\")","v":{"$error":"#N/A"}},{"$f":"IF($A1070<>0,VLOOKUP($A1070,Liste!$A$10:$W$459,13,FALSE),\"\")","v":{"$error":"#N/A"}},{"$f":"IF($A1070<>0,VLOOKUP($A1070,Liste!$A$10:$W$459,14,FALSE),\"\")","v":{"$error":"#N/A"}}]
[{"$f":"IF($A1070<>0,\"Lot \" & VLOOKUP($A1070,Liste!$A$10:$W$459,15,FALSE),\"\")","v":{"$error":"#N/A"}},{"$f":"IF($A1070<>0,VLOOKUP($A1070,Liste!$A$10:$W$459,16,FALSE),\"\")","v":{"$error":"#N/A"}},{"$f":"IF($A1070<>0,VLOOKUP($A1070,Liste!$A$10:$W$459,17,FALSE),\"\")","v":{"$error":"#N/A"}},null,null,null,"Arrivé à","après vote de la Résolution N°"]
[{"$f":"IF($A1070<>0,\"Lot \" & VLOOKUP($A1070,Liste!$A$10:$W$459,18,FALSE),\"\")","v":{"$error":"#N/A"}},0,{"$f":"IF($A1070<>0,VLOOKUP($A1070,Liste!$A$10:$W$459,19,FALSE),\"\")","v":{"$error":"#N/A"}},null,null,null,"Départ à","après vote de la Résolution N°"]
[{"$f":"IF($A1070<>0,\"Lot \" & VLOOKUP($A1070,Liste!$A$10:$W$459,21,FALSE),\"\")","v":{"$error":"#N/A"}},{"$f":"IF($A1070<>0,VLOOKUP($A1070,Liste!$A$10:$W$459,22,FALSE),\"\")","v":{"$error":"#N/A"}},{"$f":"IF($A1070<>0,VLOOKUP($A1070,Liste!$A$10:$W$459,23,FALSE),\"\")","v":{"$error":"#N/A"}},null,null,null,{"$f":"IF(OR(B1071=0,VLOOKUP(A1070,Liste!$A$10:'Liste'!$Z$459,26)<>\"\"),\"\", \"Voir autorisation messages électroniques\")","v":{"$error":"#N/A"}}]
[]
[null,null,null,"A S S E M B L E E     G E N E R A L E",null,null,null,null,null,null,"Page",{"$f":"L1003+1","v":15}]
[null,null,null,null,null,"du","2019-12-20"]
[null,null,null,"Résidence Le Paradis; Rue de l' espoir 75016 PARIS"]
[]
[{"$f":"A1070+1","v":113},null,null,null,null,null,"Par correspondance reçu le "]
[{"$f":"IF($A1084<>0,VLOOKUP($A1084,Liste!$A$10:$W$459,3,FALSE),\"\")","v":{"$error":"#N/A"}},{"$f":"IF($A1084<>0,VLOOKUP($A1084,Liste!$A$10:$W$459,4,FALSE),\"\")","v":{"$error":"#N/A"}},null,null,{"$f":"IF($A1084<>0,VLOOKUP($A1084,Liste!$A$10:$W$459,8,FALSE),\"\")","v":{"$error":"#N/A"}},null,"Par visio, audio conférence,,,,"]
[{"$f":"IF($A1084<>0,VLOOKUP($A1084,Liste!$A$10:$W$459,5,FALSE),\"\")","v":{"$error":"#N/A"}},null,null,null,null,null,"Signature/ Mandataire :"]
[{"$f":"IF($A1084<>0,VLOOKUP($A1084,Liste!$A$10:$W$459,6,FALSE),\"\")","v":{"$error":"#N/A"}},{"$f":"IF($A1084<>0,VLOOKUP($A1084,Liste!$A$10:$W$459,7,FALSE),\"\")","v":{"$error":"#N/A"}}]
[{"$f":" IF($A1084<>0, \"Lot \" & VLOOKUP($A1084,Liste!$A$10:$W$459,9,FALSE),\"\")","v":{"$error":"#N/A"}},{"$f":"IF($A1084<>0,VLOOKUP($A1084,Liste!$A$10:$W$459,10,FALSE),\"\")","v":{"$error":"#N/A"}},{"$f":"IF($A1084<>0,VLOOKUP($A1084,Liste!$A$10:$W$459,11,FALSE),\"\")","v":{"$error":"#N/A"}}]
[{"$f":"IF($A1084<>0,\"Lot \" & VLOOKUP($A1084,Liste!$A$10:$W$459,12,FALSE),\"\")","v":{"$error":"#N/A"}},{"$f":"IF($A1084<>0,VLOOKUP($A1084,Liste!$A$10:$W$459,13,FALSE),\"\")","v":{"$error":"#N/A"}},{"$f":"IF($A1084<>0,VLOOKUP($A1084,Liste!$A$10:$W$459,14,FALSE),\"\")","v":{"$error":"#N/A"}}]
[{"$f":"IF($A1084<>0,\"Lot \" & VLOOKUP($A1084,Liste!$A$10:$W$459,15,FALSE),\"\")","v":{"$error":"#N/A"}},{"$f":"IF($A1084<>0,VLOOKUP($A1084,Liste!$A$10:$W$459,16,FALSE),\"\")","v":{"$error":"#N/A"}},{"$f":"IF($A1084<>0,VLOOKUP($A1084,Liste!$A$10:$W$459,17,FALSE),\"\")","v":{"$error":"#N/A"}},null,null,null,"Arrivé à","après vote de la Résolution N°"]
[{"$f":"IF($A1084<>0,\"Lot \" & VLOOKUP($A1084,Liste!$A$10:$W$459,18,FALSE),\"\")","v":{"$error":"#N/A"}},0,{"$f":"IF($A1084<>0,VLOOKUP($A1084,Liste!$A$10:$W$459,19,FALSE),\"\")","v":{"$error":"#N/A"}},null,null,null,"Départ à","après vote de la Résolution N°"]
[{"$f":"IF($A1084<>0,\"Lot \" & VLOOKUP($A1084,Liste!$A$10:$W$459,21,FALSE),\"\")","v":{"$error":"#N/A"}},{"$f":"IF($A1084<>0,VLOOKUP($A1084,Liste!$A$10:$W$459,22,FALSE),\"\")","v":{"$error":"#N/A"}},{"$f":"IF($A1084<>0,VLOOKUP($A1084,Liste!$A$10:$W$459,23,FALSE),\"\")","v":{"$error":"#N/A"}},null,null,null,{"$f":"IF(OR(B1085=0,VLOOKUP(A1084,Liste!$A$10:'Liste'!$Z$459,26)<>\"\"),\"\", \"Voir autorisation messages électroniques\")","v":{"$error":"#N/A"}}]
[{"$f":"A1084+1","v":114},null,null,null,null,null,"Par correspondance reçu le "]
[{"$f":"IF($A1093<>0,VLOOKUP($A1093,Liste!$A$10:$W$459,3,FALSE),\"\")","v":{"$error":"#N/A"}},{"$f":"IF($A1093<>0,VLOOKUP($A1093,Liste!$A$10:$W$459,4,FALSE),\"\")","v":{"$error":"#N/A"}},null,null,{"$f":"IF($A1093<>0,VLOOKUP($A1093,Liste!$A$10:$W$459,8,FALSE),\"\")","v":{"$error":"#N/A"}},null,"Par visio, audio conférence,,,,"]
[{"$f":"IF($A1093<>0,VLOOKUP($A1093,Liste!$A$10:$W$459,5,FALSE),\"\")","v":{"$error":"#N/A"}},null,null,null,null,null,"Signature/ Mandataire :"]
[{"$f":"IF($A1093<>0,VLOOKUP($A1093,Liste!$A$10:$W$459,6,FALSE),\"\")","v":{"$error":"#N/A"}},{"$f":"IF($A1093<>0,VLOOKUP($A1093,Liste!$A$10:$W$459,7,FALSE),\"\")","v":{"$error":"#N/A"}}]
[{"$f":" IF($A1093<>0, \"Lot \" & VLOOKUP($A1093,Liste!$A$10:$W$459,9,FALSE),\"\")","v":{"$error":"#N/A"}},{"$f":"IF($A1093<>0,VLOOKUP($A1093,Liste!$A$10:$W$459,10,FALSE),\"\")","v":{"$error":"#N/A"}},{"$f":"IF($A1093<>0,VLOOKUP($A1093,Liste!$A$10:$W$459,11,FALSE),\"\")","v":{"$error":"#N/A"}}]
[{"$f":"IF($A1093<>0,\"Lot \" & VLOOKUP($A1093,Liste!$A$10:$W$459,12,FALSE),\"\")","v":{"$error":"#N/A"}},{"$f":"IF($A1093<>0,VLOOKUP($A1093,Liste!$A$10:$W$459,13,FALSE),\"\")","v":{"$error":"#N/A"}},{"$f":"IF($A1093<>0,VLOOKUP($A1093,Liste!$A$10:$W$459,14,FALSE),\"\")","v":{"$error":"#N/A"}}]
[{"$f":"IF($A1093<>0,\"Lot \" & VLOOKUP($A1093,Liste!$A$10:$W$459,15,FALSE),\"\")","v":{"$error":"#N/A"}},{"$f":"IF($A1093<>0,VLOOKUP($A1093,Liste!$A$10:$W$459,16,FALSE),\"\")","v":{"$error":"#N/A"}},{"$f":"IF($A1093<>0,VLOOKUP($A1093,Liste!$A$10:$W$459,17,FALSE),\"\")","v":{"$error":"#N/A"}},null,null,null,"Arrivé à","après vote de la Résolution N°"]
[{"$f":"IF($A1093<>0,\"Lot \" & VLOOKUP($A1093,Liste!$A$10:$W$459,18,FALSE),\"\")","v":{"$error":"#N/A"}},0,{"$f":"IF($A1093<>0,VLOOKUP($A1093,Liste!$A$10:$W$459,19,FALSE),\"\")","v":{"$error":"#N/A"}},null,null,null,"Départ à","après vote de la Résolution N°"]
[{"$f":"IF($A1093<>0,\"Lot \" & VLOOKUP($A1093,Liste!$A$10:$W$459,21,FALSE),\"\")","v":{"$error":"#N/A"}},{"$f":"IF($A1093<>0,VLOOKUP($A1093,Liste!$A$10:$W$459,22,FALSE),\"\")","v":{"$error":"#N/A"}},{"$f":"IF($A1093<>0,VLOOKUP($A1093,Liste!$A$10:$W$459,23,FALSE),\"\")","v":{"$error":"#N/A"}},null,null,null,{"$f":"IF(OR(B1094=0,VLOOKUP(A1093,Liste!$A$10:'Liste'!$Z$459,26)<>\"\"),\"\", \"Voir autorisation messages électroniques\")","v":{"$error":"#N/A"}}]
[{"$f":"A1093+1","v":115},null,null,null,null,null,"Par correspondance reçu le "]
[{"$f":"IF($A1102<>0,VLOOKUP($A1102,Liste!$A$10:$W$459,3,FALSE),\"\")","v":{"$error":"#N/A"}},{"$f":"IF($A1102<>0,VLOOKUP($A1102,Liste!$A$10:$W$459,4,FALSE),\"\")","v":{"$error":"#N/A"}},null,null,{"$f":"IF($A1102<>0,VLOOKUP($A1102,Liste!$A$10:$W$459,8,FALSE),\"\")","v":{"$error":"#N/A"}},null,"Par visio, audio conférence,,,,"]
[{"$f":"IF($A1102<>0,VLOOKUP($A1102,Liste!$A$10:$W$459,5,FALSE),\"\")","v":{"$error":"#N/A"}},null,null,null,null,null,"Signature/ Mandataire :"]
[{"$f":"IF($A1102<>0,VLOOKUP($A1102,Liste!$A$10:$W$459,6,FALSE),\"\")","v":{"$error":"#N/A"}},{"$f":"IF($A1102<>0,VLOOKUP($A1102,Liste!$A$10:$W$459,7,FALSE),\"\")","v":{"$error":"#N/A"}}]
[{"$f":" IF($A1102<>0, \"Lot \" & VLOOKUP($A1102,Liste!$A$10:$W$459,9,FALSE),\"\")","v":{"$error":"#N/A"}},{"$f":"IF($A1102<>0,VLOOKUP($A1102,Liste!$A$10:$W$459,10,FALSE),\"\")","v":{"$error":"#N/A"}},{"$f":"IF($A1102<>0,VLOOKUP($A1102,Liste!$A$10:$W$459,11,FALSE),\"\")","v":{"$error":"#N/A"}}]
[{"$f":"IF($A1102<>0,\"Lot \" & VLOOKUP($A1102,Liste!$A$10:$W$459,12,FALSE),\"\")","v":{"$error":"#N/A"}},{"$f":"IF($A1102<>0,VLOOKUP($A1102,Liste!$A$10:$W$459,13,FALSE),\"\")","v":{"$error":"#N/A"}},{"$f":"IF($A1102<>0,VLOOKUP($A1102,Liste!$A$10:$W$459,14,FALSE),\"\")","v":{"$error":"#N/A"}}]
[{"$f":"IF($A1102<>0,\"Lot \" & VLOOKUP($A1102,Liste!$A$10:$W$459,15,FALSE),\"\")","v":{"$error":"#N/A"}},{"$f":"IF($A1102<>0,VLOOKUP($A1102,Liste!$A$10:$W$459,16,FALSE),\"\")","v":{"$error":"#N/A"}},{"$f":"IF($A1102<>0,VLOOKUP($A1102,Liste!$A$10:$W$459,17,FALSE),\"\")","v":{"$error":"#N/A"}},null,null,null,"Arrivé à","après vote de la Résolution N°"]
[{"$f":"IF($A1102<>0,\"Lot \" & VLOOKUP($A1102,Liste!$A$10:$W$459,18,FALSE),\"\")","v":{"$error":"#N/A"}},0,{"$f":"IF($A1102<>0,VLOOKUP($A1102,Liste!$A$10:$W$459,19,FALSE),\"\")","v":{"$error":"#N/A"}},null,null,null,"Départ à","après vote de la Résolution N°"]
[{"$f":"IF($A1102<>0,\"Lot \" & VLOOKUP($A1102,Liste!$A$10:$W$459,21,FALSE),\"\")","v":{"$error":"#N/A"}},{"$f":"IF($A1102<>0,VLOOKUP($A1102,Liste!$A$10:$W$459,22,FALSE),\"\")","v":{"$error":"#N/A"}},{"$f":"IF($A1102<>0,VLOOKUP($A1102,Liste!$A$10:$W$459,23,FALSE),\"\")","v":{"$error":"#N/A"}},null,null,null,{"$f":"IF(OR(B1103=0,VLOOKUP(A1102,Liste!$A$10:'Liste'!$Z$459,26)<>\"\"),\"\", \"Voir autorisation messages électroniques\")","v":{"$error":"#N/A"}}]
[{"$f":"A1102+1","v":116},null,null,null,null,null,"Par correspondance reçu le "]
[{"$f":"IF($A1111<>0,VLOOKUP($A1111,Liste!$A$10:$W$459,3,FALSE),\"\")","v":{"$error":"#N/A"}},{"$f":"IF($A1111<>0,VLOOKUP($A1111,Liste!$A$10:$W$459,4,FALSE),\"\")","v":{"$error":"#N/A"}},null,null,{"$f":"IF($A1111<>0,VLOOKUP($A1111,Liste!$A$10:$W$459,8,FALSE),\"\")","v":{"$error":"#N/A"}},null,"Par visio, audio conférence,,,,"]
[{"$f":"IF($A1111<>0,VLOOKUP($A1111,Liste!$A$10:$W$459,5,FALSE),\"\")","v":{"$error":"#N/A"}},null,null,null,null,null,"Signature/ Mandataire :"]
[{"$f":"IF($A1111<>0,VLOOKUP($A1111,Liste!$A$10:$W$459,6,FALSE),\"\")","v":{"$error":"#N/A"}},{"$f":"IF($A1111<>0,VLOOKUP($A1111,Liste!$A$10:$W$459,7,FALSE),\"\")","v":{"$error":"#N/A"}}]
[{"$f":" IF($A1111<>0, \"Lot \" & VLOOKUP($A1111,Liste!$A$10:$W$459,9,FALSE),\"\")","v":{"$error":"#N/A"}},{"$f":"IF($A1111<>0,VLOOKUP($A1111,Liste!$A$10:$W$459,10,FALSE),\"\")","v":{"$error":"#N/A"}},{"$f":"IF($A1111<>0,VLOOKUP($A1111,Liste!$A$10:$W$459,11,FALSE),\"\")","v":{"$error":"#N/A"}}]
[{"$f":"IF($A1111<>0,\"Lot \" & VLOOKUP($A1111,Liste!$A$10:$W$459,12,FALSE),\"\")","v":{"$error":"#N/A"}},{"$f":"IF($A1111<>0,VLOOKUP($A1111,Liste!$A$10:$W$459,13,FALSE),\"\")","v":{"$error":"#N/A"}},{"$f":"IF($A1111<>0,VLOOKUP($A1111,Liste!$A$10:$W$459,14,FALSE),\"\")","v":{"$error":"#N/A"}}]
[{"$f":"IF($A1111<>0,\"Lot \" & VLOOKUP($A1111,Liste!$A$10:$W$459,15,FALSE),\"\")","v":{"$error":"#N/A"}},{"$f":"IF($A1111<>0,VLOOKUP($A1111,Liste!$A$10:$W$459,16,FALSE),\"\")","v":{"$error":"#N/A"}},{"$f":"IF($A1111<>0,VLOOKUP($A1111,Liste!$A$10:$W$459,17,FALSE),\"\")","v":{"$error":"#N/A"}},null,null,null,"Arrivé à","après vote de la Résolution N°"]
[{"$f":"IF($A1111<>0,\"Lot \" & VLOOKUP($A1111,Liste!$A$10:$W$459,18,FALSE),\"\")","v":{"$error":"#N/A"}},0,{"$f":"IF($A1111<>0,VLOOKUP($A1111,Liste!$A$10:$W$459,19,FALSE),\"\")","v":{"$error":"#N/A"}},null,null,null,"Départ à","après vote de la Résolution N°"]
[{"$f":"IF($A1111<>0,\"Lot \" & VLOOKUP($A1111,Liste!$A$10:$W$459,21,FALSE),\"\")","v":{"$error":"#N/A"}},{"$f":"IF($A1111<>0,VLOOKUP($A1111,Liste!$A$10:$W$459,22,FALSE),\"\")","v":{"$error":"#N/A"}},{"$f":"IF($A1111<>0,VLOOKUP($A1111,Liste!$A$10:$W$459,23,FALSE),\"\")","v":{"$error":"#N/A"}},null,null,null,{"$f":"IF(OR(B1112=0,VLOOKUP(A1111,Liste!$A$10:'Liste'!$Z$459,26)<>\"\"),\"\", \"Voir autorisation messages électroniques\")","v":{"$error":"#N/A"}}]
[{"$f":"A1111+1","v":117},null,null,null,null,null,"Par correspondance reçu le "]
[{"$f":"IF($A1120<>0,VLOOKUP($A1120,Liste!$A$10:$W$459,3,FALSE),\"\")","v":{"$error":"#N/A"}},{"$f":"IF($A1120<>0,VLOOKUP($A1120,Liste!$A$10:$W$459,4,FALSE),\"\")","v":{"$error":"#N/A"}},null,null,{"$f":"IF($A1120<>0,VLOOKUP($A1120,Liste!$A$10:$W$459,8,FALSE),\"\")","v":{"$error":"#N/A"}},null,"Par visio, audio conférence,,,,"]
[{"$f":"IF($A1120<>0,VLOOKUP($A1120,Liste!$A$10:$W$459,5,FALSE),\"\")","v":{"$error":"#N/A"}},null,null,null,null,null,"Signature/ Mandataire :"]
[{"$f":"IF($A1120<>0,VLOOKUP($A1120,Liste!$A$10:$W$459,6,FALSE),\"\")","v":{"$error":"#N/A"}},{"$f":"IF($A1120<>0,VLOOKUP($A1120,Liste!$A$10:$W$459,7,FALSE),\"\")","v":{"$error":"#N/A"}}]
[{"$f":" IF($A1120<>0, \"Lot \" & VLOOKUP($A1120,Liste!$A$10:$W$459,9,FALSE),\"\")","v":{"$error":"#N/A"}},{"$f":"IF($A1120<>0,VLOOKUP($A1120,Liste!$A$10:$W$459,10,FALSE),\"\")","v":{"$error":"#N/A"}},{"$f":"IF($A1120<>0,VLOOKUP($A1120,Liste!$A$10:$W$459,11,FALSE),\"\")","v":{"$error":"#N/A"}}]
[{"$f":"IF($A1120<>0,\"Lot \" & VLOOKUP($A1120,Liste!$A$10:$W$459,12,FALSE),\"\")","v":{"$error":"#N/A"}},{"$f":"IF($A1120<>0,VLOOKUP($A1120,Liste!$A$10:$W$459,13,FALSE),\"\")","v":{"$error":"#N/A"}},{"$f":"IF($A1120<>0,VLOOKUP($A1120,Liste!$A$10:$W$459,14,FALSE),\"\")","v":{"$error":"#N/A"}}]
[{"$f":"IF($A1120<>0,\"Lot \" & VLOOKUP($A1120,Liste!$A$10:$W$459,15,FALSE),\"\")","v":{"$error":"#N/A"}},{"$f":"IF($A1120<>0,VLOOKUP($A1120,Liste!$A$10:$W$459,16,FALSE),\"\")","v":{"$error":"#N/A"}},{"$f":"IF($A1120<>0,VLOOKUP($A1120,Liste!$A$10:$W$459,17,FALSE),\"\")","v":{"$error":"#N/A"}},null,null,null,"Arrivé à","après vote de la Résolution N°"]
[{"$f":"IF($A1120<>0,\"Lot \" & VLOOKUP($A1120,Liste!$A$10:$W$459,18,FALSE),\"\")","v":{"$error":"#N/A"}},0,{"$f":"IF($A1120<>0,VLOOKUP($A1120,Liste!$A$10:$W$459,19,FALSE),\"\")","v":{"$error":"#N/A"}},null,null,null,"Départ à","après vote de la Résolution N°"]
[{"$f":"IF($A1120<>0,\"Lot \" & VLOOKUP($A1120,Liste!$A$10:$W$459,21,FALSE),\"\")","v":{"$error":"#N/A"}},{"$f":"IF($A1120<>0,VLOOKUP($A1120,Liste!$A$10:$W$459,22,FALSE),\"\")","v":{"$error":"#N/A"}},{"$f":"IF($A1120<>0,VLOOKUP($A1120,Liste!$A$10:$W$459,23,FALSE),\"\")","v":{"$error":"#N/A"}},null,null,null,{"$f":"IF(OR(B1121=0,VLOOKUP(A1120,Liste!$A$10:'Liste'!$Z$459,26)<>\"\"),\"\", \"Voir autorisation messages électroniques\")","v":{"$error":"#N/A"}}]
[{"$f":"A1120+1","v":118},null,null,null,null,null,"Par correspondance reçu le "]
[{"$f":"IF($A1129<>0,VLOOKUP($A1129,Liste!$A$10:$W$459,3,FALSE),\"\")","v":{"$error":"#N/A"}},{"$f":"IF($A1129<>0,VLOOKUP($A1129,Liste!$A$10:$W$459,4,FALSE),\"\")","v":{"$error":"#N/A"}},null,null,{"$f":"IF($A1129<>0,VLOOKUP($A1129,Liste!$A$10:$W$459,8,FALSE),\"\")","v":{"$error":"#N/A"}},null,"Par visio, audio conférence,,,,"]
[{"$f":"IF($A1129<>0,VLOOKUP($A1129,Liste!$A$10:$W$459,5,FALSE),\"\")","v":{"$error":"#N/A"}},null,null,null,null,null,"Signature/ Mandataire :"]
[{"$f":"IF($A1129<>0,VLOOKUP($A1129,Liste!$A$10:$W$459,6,FALSE),\"\")","v":{"$error":"#N/A"}},{"$f":"IF($A1129<>0,VLOOKUP($A1129,Liste!$A$10:$W$459,7,FALSE),\"\")","v":{"$error":"#N/A"}}]
[{"$f":" IF($A1129<>0, \"Lot \" & VLOOKUP($A1129,Liste!$A$10:$W$459,9,FALSE),\"\")","v":{"$error":"#N/A"}},{"$f":"IF($A1129<>0,VLOOKUP($A1129,Liste!$A$10:$W$459,10,FALSE),\"\")","v":{"$error":"#N/A"}},{"$f":"IF($A1129<>0,VLOOKUP($A1129,Liste!$A$10:$W$459,11,FALSE),\"\")","v":{"$error":"#N/A"}}]
[{"$f":"IF($A1129<>0,\"Lot \" & VLOOKUP($A1129,Liste!$A$10:$W$459,12,FALSE),\"\")","v":{"$error":"#N/A"}},{"$f":"IF($A1129<>0,VLOOKUP($A1129,Liste!$A$10:$W$459,13,FALSE),\"\")","v":{"$error":"#N/A"}},{"$f":"IF($A1129<>0,VLOOKUP($A1129,Liste!$A$10:$W$459,14,FALSE),\"\")","v":{"$error":"#N/A"}}]
[{"$f":"IF($A1129<>0,\"Lot \" & VLOOKUP($A1129,Liste!$A$10:$W$459,15,FALSE),\"\")","v":{"$error":"#N/A"}},{"$f":"IF($A1129<>0,VLOOKUP($A1129,Liste!$A$10:$W$459,16,FALSE),\"\")","v":{"$error":"#N/A"}},{"$f":"IF($A1129<>0,VLOOKUP($A1129,Liste!$A$10:$W$459,17,FALSE),\"\")","v":{"$error":"#N/A"}},null,null,null,"Arrivé à","après vote de la Résolution N°"]
[{"$f":"IF($A1129<>0,\"Lot \" & VLOOKUP($A1129,Liste!$A$10:$W$459,18,FALSE),\"\")","v":{"$error":"#N/A"}},0,{"$f":"IF($A1129<>0,VLOOKUP($A1129,Liste!$A$10:$W$459,19,FALSE),\"\")","v":{"$error":"#N/A"}},null,null,null,"Départ à","après vote de la Résolution N°"]
[{"$f":"IF($A1129<>0,\"Lot \" & VLOOKUP($A1129,Liste!$A$10:$W$459,21,FALSE),\"\")","v":{"$error":"#N/A"}},{"$f":"IF($A1129<>0,VLOOKUP($A1129,Liste!$A$10:$W$459,22,FALSE),\"\")","v":{"$error":"#N/A"}},{"$f":"IF($A1129<>0,VLOOKUP($A1129,Liste!$A$10:$W$459,23,FALSE),\"\")","v":{"$error":"#N/A"}},null,null,null,{"$f":"IF(OR(B1130=0,VLOOKUP(A1129,Liste!$A$10:'Liste'!$Z$459,26)<>\"\"),\"\", \"Voir autorisation messages électroniques\")","v":{"$error":"#N/A"}}]
[{"$f":"A1129+1","v":119},null,null,null,null,null,"Par correspondance reçu le "]
[{"$f":"IF($A1138<>0,VLOOKUP($A1138,Liste!$A$10:$W$459,3,FALSE),\"\")","v":{"$error":"#N/A"}},{"$f":"IF($A1138<>0,VLOOKUP($A1138,Liste!$A$10:$W$459,4,FALSE),\"\")","v":{"$error":"#N/A"}},null,null,{"$f":"IF($A1138<>0,VLOOKUP($A1138,Liste!$A$10:$W$459,8,FALSE),\"\")","v":{"$error":"#N/A"}},null,"Par visio, audio conférence,,,,"]
[{"$f":"IF($A1138<>0,VLOOKUP($A1138,Liste!$A$10:$W$459,5,FALSE),\"\")","v":{"$error":"#N/A"}},null,null,null,null,null,"Signature/ Mandataire :"]
[{"$f":"IF($A1138<>0,VLOOKUP($A1138,Liste!$A$10:$W$459,6,FALSE),\"\")","v":{"$error":"#N/A"}},{"$f":"IF($A1138<>0,VLOOKUP($A1138,Liste!$A$10:$W$459,7,FALSE),\"\")","v":{"$error":"#N/A"}}]
[{"$f":" IF($A1138<>0, \"Lot \" & VLOOKUP($A1138,Liste!$A$10:$W$459,9,FALSE),\"\")","v":{"$error":"#N/A"}},{"$f":"IF($A1138<>0,VLOOKUP($A1138,Liste!$A$10:$W$459,10,FALSE),\"\")","v":{"$error":"#N/A"}},{"$f":"IF($A1138<>0,VLOOKUP($A1138,Liste!$A$10:$W$459,11,FALSE),\"\")","v":{"$error":"#N/A"}}]
[{"$f":"IF($A1138<>0,\"Lot \" & VLOOKUP($A1138,Liste!$A$10:$W$459,12,FALSE),\"\")","v":{"$error":"#N/A"}},{"$f":"IF($A1138<>0,VLOOKUP($A1138,Liste!$A$10:$W$459,13,FALSE),\"\")","v":{"$error":"#N/A"}},{"$f":"IF($A1138<>0,VLOOKUP($A1138,Liste!$A$10:$W$459,14,FALSE),\"\")","v":{"$error":"#N/A"}}]
[{"$f":"IF($A1138<>0,\"Lot \" & VLOOKUP($A1138,Liste!$A$10:$W$459,15,FALSE),\"\")","v":{"$error":"#N/A"}},{"$f":"IF($A1138<>0,VLOOKUP($A1138,Liste!$A$10:$W$459,16,FALSE),\"\")","v":{"$error":"#N/A"}},{"$f":"IF($A1138<>0,VLOOKUP($A1138,Liste!$A$10:$W$459,17,FALSE),\"\")","v":{"$error":"#N/A"}},null,null,null,"Arrivé à","après vote de la Résolution N°"]
[{"$f":"IF($A1138<>0,\"Lot \" & VLOOKUP($A1138,Liste!$A$10:$W$459,18,FALSE),\"\")","v":{"$error":"#N/A"}},0,{"$f":"IF($A1138<>0,VLOOKUP($A1138,Liste!$A$10:$W$459,19,FALSE),\"\")","v":{"$error":"#N/A"}},null,null,null,"Départ à","après vote de la Résolution N°"]
[{"$f":"IF($A1138<>0,\"Lot \" & VLOOKUP($A1138,Liste!$A$10:$W$459,21,FALSE),\"\")","v":{"$error":"#N/A"}},{"$f":"IF($A1138<>0,VLOOKUP($A1138,Liste!$A$10:$W$459,22,FALSE),\"\")","v":{"$error":"#N/A"}},{"$f":"IF($A1138<>0,VLOOKUP($A1138,Liste!$A$10:$W$459,23,FALSE),\"\")","v":{"$error":"#N/A"}},null,null,null,{"$f":"IF(OR(B1139=0,VLOOKUP(A1138,Liste!$A$10:'Liste'!$Z$459,26)<>\"\"),\"\", \"Voir autorisation messages électroniques\")","v":{"$error":"#N/A"}}]
[{"$f":"A1138+1","v":120},null,null,null,null,null,"Par correspondance reçu le "]
[{"$f":"IF($A1147<>0,VLOOKUP($A1147,Liste!$A$10:$W$459,3,FALSE),\"\")","v":{"$error":"#N/A"}},{"$f":"IF($A1147<>0,VLOOKUP($A1147,Liste!$A$10:$W$459,4,FALSE),\"\")","v":{"$error":"#N/A"}},null,null,{"$f":"IF($A1147<>0,VLOOKUP($A1147,Liste!$A$10:$W$459,8,FALSE),\"\")","v":{"$error":"#N/A"}},null,"Par visio, audio conférence,,,,"]
[{"$f":"IF($A1147<>0,VLOOKUP($A1147,Liste!$A$10:$W$459,5,FALSE),\"\")","v":{"$error":"#N/A"}},null,null,null,null,null,"Signature/ Mandataire :"]
[{"$f":"IF($A1147<>0,VLOOKUP($A1147,Liste!$A$10:$W$459,6,FALSE),\"\")","v":{"$error":"#N/A"}},{"$f":"IF($A1147<>0,VLOOKUP($A1147,Liste!$A$10:$W$459,7,FALSE),\"\")","v":{"$error":"#N/A"}}]
[{"$f":" IF($A1147<>0, \"Lot \" & VLOOKUP($A1147,Liste!$A$10:$W$459,9,FALSE),\"\")","v":{"$error":"#N/A"}},{"$f":"IF($A1147<>0,VLOOKUP($A1147,Liste!$A$10:$W$459,10,FALSE),\"\")","v":{"$error":"#N/A"}},{"$f":"IF($A1147<>0,VLOOKUP($A1147,Liste!$A$10:$W$459,11,FALSE),\"\")","v":{"$error":"#N/A"}}]
[{"$f":"IF($A1147<>0,\"Lot \" & VLOOKUP($A1147,Liste!$A$10:$W$459,12,FALSE),\"\")","v":{"$error":"#N/A"}},{"$f":"IF($A1147<>0,VLOOKUP($A1147,Liste!$A$10:$W$459,13,FALSE),\"\")","v":{"$error":"#N/A"}},{"$f":"IF($A1147<>0,VLOOKUP($A1147,Liste!$A$10:$W$459,14,FALSE),\"\")","v":{"$error":"#N/A"}}]
[{"$f":"IF($A1147<>0,\"Lot \" & VLOOKUP($A1147,Liste!$A$10:$W$459,15,FALSE),\"\")","v":{"$error":"#N/A"}},{"$f":"IF($A1147<>0,VLOOKUP($A1147,Liste!$A$10:$W$459,16,FALSE),\"\")","v":{"$error":"#N/A"}},{"$f":"IF($A1147<>0,VLOOKUP($A1147,Liste!$A$10:$W$459,17,FALSE),\"\")","v":{"$error":"#N/A"}},null,null,null,"Arrivé à","après vote de la Résolution N°"]
[{"$f":"IF($A1147<>0,\"Lot \" & VLOOKUP($A1147,Liste!$A$10:$W$459,18,FALSE),\"\")","v":{"$error":"#N/A"}},0,{"$f":"IF($A1147<>0,VLOOKUP($A1147,Liste!$A$10:$W$459,19,FALSE),\"\")","v":{"$error":"#N/A"}},null,null,null,"Départ à","après vote de la Résolution N°"]
[{"$f":"IF($A1147<>0,\"Lot \" & VLOOKUP($A1147,Liste!$A$10:$W$459,21,FALSE),\"\")","v":{"$error":"#N/A"}},{"$f":"IF($A1147<>0,VLOOKUP($A1147,Liste!$A$10:$W$459,22,FALSE),\"\")","v":{"$error":"#N/A"}},{"$f":"IF($A1147<>0,VLOOKUP($A1147,Liste!$A$10:$W$459,23,FALSE),\"\")","v":{"$error":"#N/A"}},null,null,null,{"$f":"IF(OR(B1148=0,VLOOKUP(A1147,Liste!$A$10:'Liste'!$Z$459,26)<>\"\"),\"\", \"Voir autorisation messages électroniques\")","v":{"$error":"#N/A"}}]
[]
[null,null,null,"A S S E M B L E E     G E N E R A L E",null,null,null,null,null,null,"Page",{"$f":"L1080+1","v":16}]
[null,null,null,null,null,"du","2019-12-20"]
[null,null,null,"Résidence Le Paradis; Rue de l' espoir 75016 PARIS"]
[]
[{"$f":"A1147+1","v":121},null,null,null,null,null,"Par correspondance reçu le "]
[{"$f":"IF($A1161<>0,VLOOKUP($A1161,Liste!$A$10:$W$459,3,FALSE),\"\")","v":{"$error":"#N/A"}},{"$f":"IF($A1161<>0,VLOOKUP($A1161,Liste!$A$10:$W$459,4,FALSE),\"\")","v":{"$error":"#N/A"}},null,null,{"$f":"IF($A1161<>0,VLOOKUP($A1161,Liste!$A$10:$W$459,8,FALSE),\"\")","v":{"$error":"#N/A"}},null,"Par visio, audio conférence,,,,"]
[{"$f":"IF($A1161<>0,VLOOKUP($A1161,Liste!$A$10:$W$459,5,FALSE),\"\")","v":{"$error":"#N/A"}},null,null,null,null,null,"Signature/ Mandataire :"]
[{"$f":"IF($A1161<>0,VLOOKUP($A1161,Liste!$A$10:$W$459,6,FALSE),\"\")","v":{"$error":"#N/A"}},{"$f":"IF($A1161<>0,VLOOKUP($A1161,Liste!$A$10:$W$459,7,FALSE),\"\")","v":{"$error":"#N/A"}}]
[{"$f":" IF($A1161<>0, \"Lot \" & VLOOKUP($A1161,Liste!$A$10:$W$459,9,FALSE),\"\")","v":{"$error":"#N/A"}},{"$f":"IF($A1161<>0,VLOOKUP($A1161,Liste!$A$10:$W$459,10,FALSE),\"\")","v":{"$error":"#N/A"}},{"$f":"IF($A1161<>0,VLOOKUP($A1161,Liste!$A$10:$W$459,11,FALSE),\"\")","v":{"$error":"#N/A"}}]
[{"$f":"IF($A1161<>0,\"Lot \" & VLOOKUP($A1161,Liste!$A$10:$W$459,12,FALSE),\"\")","v":{"$error":"#N/A"}},{"$f":"IF($A1161<>0,VLOOKUP($A1161,Liste!$A$10:$W$459,13,FALSE),\"\")","v":{"$error":"#N/A"}},{"$f":"IF($A1161<>0,VLOOKUP($A1161,Liste!$A$10:$W$459,14,FALSE),\"\")","v":{"$error":"#N/A"}}]
[{"$f":"IF($A1161<>0,\"Lot \" & VLOOKUP($A1161,Liste!$A$10:$W$459,15,FALSE),\"\")","v":{"$error":"#N/A"}},{"$f":"IF($A1161<>0,VLOOKUP($A1161,Liste!$A$10:$W$459,16,FALSE),\"\")","v":{"$error":"#N/A"}},{"$f":"IF($A1161<>0,VLOOKUP($A1161,Liste!$A$10:$W$459,17,FALSE),\"\")","v":{"$error":"#N/A"}},null,null,null,"Arrivé à","après vote de la Résolution N°"]
[{"$f":"IF($A1161<>0,\"Lot \" & VLOOKUP($A1161,Liste!$A$10:$W$459,18,FALSE),\"\")","v":{"$error":"#N/A"}},0,{"$f":"IF($A1161<>0,VLOOKUP($A1161,Liste!$A$10:$W$459,19,FALSE),\"\")","v":{"$error":"#N/A"}},null,null,null,"Départ à","après vote de la Résolution N°"]
[{"$f":"IF($A1161<>0,\"Lot \" & VLOOKUP($A1161,Liste!$A$10:$W$459,21,FALSE),\"\")","v":{"$error":"#N/A"}},{"$f":"IF($A1161<>0,VLOOKUP($A1161,Liste!$A$10:$W$459,22,FALSE),\"\")","v":{"$error":"#N/A"}},{"$f":"IF($A1161<>0,VLOOKUP($A1161,Liste!$A$10:$W$459,23,FALSE),\"\")","v":{"$error":"#N/A"}},null,null,null,{"$f":"IF(OR(B1162=0,VLOOKUP(A1161,Liste!$A$10:'Liste'!$Z$459,26)<>\"\"),\"\", \"Voir autorisation messages électroniques\")","v":{"$error":"#N/A"}}]
[{"$f":"A1161+1","v":122},null,null,null,null,null,"Par correspondance reçu le "]
[{"$f":"IF($A1170<>0,VLOOKUP($A1170,Liste!$A$10:$W$459,3,FALSE),\"\")","v":{"$error":"#N/A"}},{"$f":"IF($A1170<>0,VLOOKUP($A1170,Liste!$A$10:$W$459,4,FALSE),\"\")","v":{"$error":"#N/A"}},null,null,{"$f":"IF($A1170<>0,VLOOKUP($A1170,Liste!$A$10:$W$459,8,FALSE),\"\")","v":{"$error":"#N/A"}},null,"Par visio, audio conférence,,,,"]
[{"$f":"IF($A1170<>0,VLOOKUP($A1170,Liste!$A$10:$W$459,5,FALSE),\"\")","v":{"$error":"#N/A"}},null,null,null,null,null,"Signature/ Mandataire :"]
[{"$f":"IF($A1170<>0,VLOOKUP($A1170,Liste!$A$10:$W$459,6,FALSE),\"\")","v":{"$error":"#N/A"}},{"$f":"IF($A1170<>0,VLOOKUP($A1170,Liste!$A$10:$W$459,7,FALSE),\"\")","v":{"$error":"#N/A"}}]
[{"$f":" IF($A1170<>0, \"Lot \" & VLOOKUP($A1170,Liste!$A$10:$W$459,9,FALSE),\"\")","v":{"$error":"#N/A"}},{"$f":"IF($A1170<>0,VLOOKUP($A1170,Liste!$A$10:$W$459,10,FALSE),\"\")","v":{"$error":"#N/A"}},{"$f":"IF($A1170<>0,VLOOKUP($A1170,Liste!$A$10:$W$459,11,FALSE),\"\")","v":{"$error":"#N/A"}}]
[{"$f":"IF($A1170<>0,\"Lot \" & VLOOKUP($A1170,Liste!$A$10:$W$459,12,FALSE),\"\")","v":{"$error":"#N/A"}},{"$f":"IF($A1170<>0,VLOOKUP($A1170,Liste!$A$10:$W$459,13,FALSE),\"\")","v":{"$error":"#N/A"}},{"$f":"IF($A1170<>0,VLOOKUP($A1170,Liste!$A$10:$W$459,14,FALSE),\"\")","v":{"$error":"#N/A"}}]
[{"$f":"IF($A1170<>0,\"Lot \" & VLOOKUP($A1170,Liste!$A$10:$W$459,15,FALSE),\"\")","v":{"$error":"#N/A"}},{"$f":"IF($A1170<>0,VLOOKUP($A1170,Liste!$A$10:$W$459,16,FALSE),\"\")","v":{"$error":"#N/A"}},{"$f":"IF($A1170<>0,VLOOKUP($A1170,Liste!$A$10:$W$459,17,FALSE),\"\")","v":{"$error":"#N/A"}},null,null,null,"Arrivé à","après vote de la Résolution N°"]
[{"$f":"IF($A1170<>0,\"Lot \" & VLOOKUP($A1170,Liste!$A$10:$W$459,18,FALSE),\"\")","v":{"$error":"#N/A"}},0,{"$f":"IF($A1170<>0,VLOOKUP($A1170,Liste!$A$10:$W$459,19,FALSE),\"\")","v":{"$error":"#N/A"}},null,null,null,"Départ à","après vote de la Résolution N°"]
[{"$f":"IF($A1170<>0,\"Lot \" & VLOOKUP($A1170,Liste!$A$10:$W$459,21,FALSE),\"\")","v":{"$error":"#N/A"}},{"$f":"IF($A1170<>0,VLOOKUP($A1170,Liste!$A$10:$W$459,22,FALSE),\"\")","v":{"$error":"#N/A"}},{"$f":"IF($A1170<>0,VLOOKUP($A1170,Liste!$A$10:$W$459,23,FALSE),\"\")","v":{"$error":"#N/A"}},null,null,null,{"$f":"IF(OR(B1171=0,VLOOKUP(A1170,Liste!$A$10:'Liste'!$Z$459,26)<>\"\"),\"\", \"Voir autorisation messages électroniques\")","v":{"$error":"#N/A"}}]
[{"$f":"A1170+1","v":123},null,null,null,null,null,"Par correspondance reçu le "]
[{"$f":"IF($A1179<>0,VLOOKUP($A1179,Liste!$A$10:$W$459,3,FALSE),\"\")","v":{"$error":"#N/A"}},{"$f":"IF($A1179<>0,VLOOKUP($A1179,Liste!$A$10:$W$459,4,FALSE),\"\")","v":{"$error":"#N/A"}},null,null,{"$f":"IF($A1179<>0,VLOOKUP($A1179,Liste!$A$10:$W$459,8,FALSE),\"\")","v":{"$error":"#N/A"}},null,"Par visio, audio conférence,,,,"]
[{"$f":"IF($A1179<>0,VLOOKUP($A1179,Liste!$A$10:$W$459,5,FALSE),\"\")","v":{"$error":"#N/A"}},null,null,null,null,null,"Signature/ Mandataire :"]
[{"$f":"IF($A1179<>0,VLOOKUP($A1179,Liste!$A$10:$W$459,6,FALSE),\"\")","v":{"$error":"#N/A"}},{"$f":"IF($A1179<>0,VLOOKUP($A1179,Liste!$A$10:$W$459,7,FALSE),\"\")","v":{"$error":"#N/A"}}]
[{"$f":" IF($A1179<>0, \"Lot \" & VLOOKUP($A1179,Liste!$A$10:$W$459,9,FALSE),\"\")","v":{"$error":"#N/A"}},{"$f":"IF($A1179<>0,VLOOKUP($A1179,Liste!$A$10:$W$459,10,FALSE),\"\")","v":{"$error":"#N/A"}},{"$f":"IF($A1179<>0,VLOOKUP($A1179,Liste!$A$10:$W$459,11,FALSE),\"\")","v":{"$error":"#N/A"}}]
[{"$f":"IF($A1179<>0,\"Lot \" & VLOOKUP($A1179,Liste!$A$10:$W$459,12,FALSE),\"\")","v":{"$error":"#N/A"}},{"$f":"IF($A1179<>0,VLOOKUP($A1179,Liste!$A$10:$W$459,13,FALSE),\"\")","v":{"$error":"#N/A"}},{"$f":"IF($A1179<>0,VLOOKUP($A1179,Liste!$A$10:$W$459,14,FALSE),\"\")","v":{"$error":"#N/A"}}]
[{"$f":"IF($A1179<>0,\"Lot \" & VLOOKUP($A1179,Liste!$A$10:$W$459,15,FALSE),\"\")","v":{"$error":"#N/A"}},{"$f":"IF($A1179<>0,VLOOKUP($A1179,Liste!$A$10:$W$459,16,FALSE),\"\")","v":{"$error":"#N/A"}},{"$f":"IF($A1179<>0,VLOOKUP($A1179,Liste!$A$10:$W$459,17,FALSE),\"\")","v":{"$error":"#N/A"}},null,null,null,"Arrivé à","après vote de la Résolution N°"]
[{"$f":"IF($A1179<>0,\"Lot \" & VLOOKUP($A1179,Liste!$A$10:$W$459,18,FALSE),\"\")","v":{"$error":"#N/A"}},0,{"$f":"IF($A1179<>0,VLOOKUP($A1179,Liste!$A$10:$W$459,19,FALSE),\"\")","v":{"$error":"#N/A"}},null,null,null,"Départ à","après vote de la Résolution N°"]
[{"$f":"IF($A1179<>0,\"Lot \" & VLOOKUP($A1179,Liste!$A$10:$W$459,21,FALSE),\"\")","v":{"$error":"#N/A"}},{"$f":"IF($A1179<>0,VLOOKUP($A1179,Liste!$A$10:$W$459,22,FALSE),\"\")","v":{"$error":"#N/A"}},{"$f":"IF($A1179<>0,VLOOKUP($A1179,Liste!$A$10:$W$459,23,FALSE),\"\")","v":{"$error":"#N/A"}},null,null,null,{"$f":"IF(OR(B1180=0,VLOOKUP(A1179,Liste!$A$10:'Liste'!$Z$459,26)<>\"\"),\"\", \"Voir autorisation messages électroniques\")","v":{"$error":"#N/A"}}]
[{"$f":"A1179+1","v":124},null,null,null,null,null,"Par correspondance reçu le "]
[{"$f":"IF($A1188<>0,VLOOKUP($A1188,Liste!$A$10:$W$459,3,FALSE),\"\")","v":{"$error":"#N/A"}},{"$f":"IF($A1188<>0,VLOOKUP($A1188,Liste!$A$10:$W$459,4,FALSE),\"\")","v":{"$error":"#N/A"}},null,null,{"$f":"IF($A1188<>0,VLOOKUP($A1188,Liste!$A$10:$W$459,8,FALSE),\"\")","v":{"$error":"#N/A"}},null,"Par visio, audio conférence,,,,"]
[{"$f":"IF($A1188<>0,VLOOKUP($A1188,Liste!$A$10:$W$459,5,FALSE),\"\")","v":{"$error":"#N/A"}},null,null,null,null,null,"Signature/ Mandataire :"]
[{"$f":"IF($A1188<>0,VLOOKUP($A1188,Liste!$A$10:$W$459,6,FALSE),\"\")","v":{"$error":"#N/A"}},{"$f":"IF($A1188<>0,VLOOKUP($A1188,Liste!$A$10:$W$459,7,FALSE),\"\")","v":{"$error":"#N/A"}}]
[{"$f":" IF($A1188<>0, \"Lot \" & VLOOKUP($A1188,Liste!$A$10:$W$459,9,FALSE),\"\")","v":{"$error":"#N/A"}},{"$f":"IF($A1188<>0,VLOOKUP($A1188,Liste!$A$10:$W$459,10,FALSE),\"\")","v":{"$error":"#N/A"}},{"$f":"IF($A1188<>0,VLOOKUP($A1188,Liste!$A$10:$W$459,11,FALSE),\"\")","v":{"$error":"#N/A"}}]
[{"$f":"IF($A1188<>0,\"Lot \" & VLOOKUP($A1188,Liste!$A$10:$W$459,12,FALSE),\"\")","v":{"$error":"#N/A"}},{"$f":"IF($A1188<>0,VLOOKUP($A1188,Liste!$A$10:$W$459,13,FALSE),\"\")","v":{"$error":"#N/A"}},{"$f":"IF($A1188<>0,VLOOKUP($A1188,Liste!$A$10:$W$459,14,FALSE),\"\")","v":{"$error":"#N/A"}}]
[{"$f":"IF($A1188<>0,\"Lot \" & VLOOKUP($A1188,Liste!$A$10:$W$459,15,FALSE),\"\")","v":{"$error":"#N/A"}},{"$f":"IF($A1188<>0,VLOOKUP($A1188,Liste!$A$10:$W$459,16,FALSE),\"\")","v":{"$error":"#N/A"}},{"$f":"IF($A1188<>0,VLOOKUP($A1188,Liste!$A$10:$W$459,17,FALSE),\"\")","v":{"$error":"#N/A"}},null,null,null,"Arrivé à","après vote de la Résolution N°"]
[{"$f":"IF($A1188<>0,\"Lot \" & VLOOKUP($A1188,Liste!$A$10:$W$459,18,FALSE),\"\")","v":{"$error":"#N/A"}},0,{"$f":"IF($A1188<>0,VLOOKUP($A1188,Liste!$A$10:$W$459,19,FALSE),\"\")","v":{"$error":"#N/A"}},null,null,null,"Départ à","après vote de la Résolution N°"]
[{"$f":"IF($A1188<>0,\"Lot \" & VLOOKUP($A1188,Liste!$A$10:$W$459,21,FALSE),\"\")","v":{"$error":"#N/A"}},{"$f":"IF($A1188<>0,VLOOKUP($A1188,Liste!$A$10:$W$459,22,FALSE),\"\")","v":{"$error":"#N/A"}},{"$f":"IF($A1188<>0,VLOOKUP($A1188,Liste!$A$10:$W$459,23,FALSE),\"\")","v":{"$error":"#N/A"}},null,null,null,{"$f":"IF(OR(B1189=0,VLOOKUP(A1188,Liste!$A$10:'Liste'!$Z$459,26)<>\"\"),\"\", \"Voir autorisation messages électroniques\")","v":{"$error":"#N/A"}}]
[{"$f":"A1188+1","v":125},null,null,null,null,null,"Par correspondance reçu le "]
[{"$f":"IF($A1197<>0,VLOOKUP($A1197,Liste!$A$10:$W$459,3,FALSE),\"\")","v":{"$error":"#N/A"}},{"$f":"IF($A1197<>0,VLOOKUP($A1197,Liste!$A$10:$W$459,4,FALSE),\"\")","v":{"$error":"#N/A"}},null,null,{"$f":"IF($A1197<>0,VLOOKUP($A1197,Liste!$A$10:$W$459,8,FALSE),\"\")","v":{"$error":"#N/A"}},null,"Par visio, audio conférence,,,,"]
[{"$f":"IF($A1197<>0,VLOOKUP($A1197,Liste!$A$10:$W$459,5,FALSE),\"\")","v":{"$error":"#N/A"}},null,null,null,null,null,"Signature/ Mandataire :"]
[{"$f":"IF($A1197<>0,VLOOKUP($A1197,Liste!$A$10:$W$459,6,FALSE),\"\")","v":{"$error":"#N/A"}},{"$f":"IF($A1197<>0,VLOOKUP($A1197,Liste!$A$10:$W$459,7,FALSE),\"\")","v":{"$error":"#N/A"}}]
[{"$f":" IF($A1197<>0, \"Lot \" & VLOOKUP($A1197,Liste!$A$10:$W$459,9,FALSE),\"\")","v":{"$error":"#N/A"}},{"$f":"IF($A1197<>0,VLOOKUP($A1197,Liste!$A$10:$W$459,10,FALSE),\"\")","v":{"$error":"#N/A"}},{"$f":"IF($A1197<>0,VLOOKUP($A1197,Liste!$A$10:$W$459,11,FALSE),\"\")","v":{"$error":"#N/A"}}]
[{"$f":"IF($A1197<>0,\"Lot \" & VLOOKUP($A1197,Liste!$A$10:$W$459,12,FALSE),\"\")","v":{"$error":"#N/A"}},{"$f":"IF($A1197<>0,VLOOKUP($A1197,Liste!$A$10:$W$459,13,FALSE),\"\")","v":{"$error":"#N/A"}},{"$f":"IF($A1197<>0,VLOOKUP($A1197,Liste!$A$10:$W$459,14,FALSE),\"\")","v":{"$error":"#N/A"}}]
[{"$f":"IF($A1197<>0,\"Lot \" & VLOOKUP($A1197,Liste!$A$10:$W$459,15,FALSE),\"\")","v":{"$error":"#N/A"}},{"$f":"IF($A1197<>0,VLOOKUP($A1197,Liste!$A$10:$W$459,16,FALSE),\"\")","v":{"$error":"#N/A"}},{"$f":"IF($A1197<>0,VLOOKUP($A1197,Liste!$A$10:$W$459,17,FALSE),\"\")","v":{"$error":"#N/A"}},null,null,null,"Arrivé à","après vote de la Résolution N°"]
[{"$f":"IF($A1197<>0,\"Lot \" & VLOOKUP($A1197,Liste!$A$10:$W$459,18,FALSE),\"\")","v":{"$error":"#N/A"}},0,{"$f":"IF($A1197<>0,VLOOKUP($A1197,Liste!$A$10:$W$459,19,FALSE),\"\")","v":{"$error":"#N/A"}},null,null,null,"Départ à","après vote de la Résolution N°"]
[{"$f":"IF($A1197<>0,\"Lot \" & VLOOKUP($A1197,Liste!$A$10:$W$459,21,FALSE),\"\")","v":{"$error":"#N/A"}},{"$f":"IF($A1197<>0,VLOOKUP($A1197,Liste!$A$10:$W$459,22,FALSE),\"\")","v":{"$error":"#N/A"}},{"$f":"IF($A1197<>0,VLOOKUP($A1197,Liste!$A$10:$W$459,23,FALSE),\"\")","v":{"$error":"#N/A"}},null,null,null,{"$f":"IF(OR(B1198=0,VLOOKUP(A1197,Liste!$A$10:'Liste'!$Z$459,26)<>\"\"),\"\", \"Voir autorisation messages électroniques\")","v":{"$error":"#N/A"}}]
[{"$f":"A1197+1","v":126},null,null,null,null,null,"Par correspondance reçu le "]
[{"$f":"IF($A1206<>0,VLOOKUP($A1206,Liste!$A$10:$W$459,3,FALSE),\"\")","v":{"$error":"#N/A"}},{"$f":"IF($A1206<>0,VLOOKUP($A1206,Liste!$A$10:$W$459,4,FALSE),\"\")","v":{"$error":"#N/A"}},null,null,{"$f":"IF($A1206<>0,VLOOKUP($A1206,Liste!$A$10:$W$459,8,FALSE),\"\")","v":{"$error":"#N/A"}},null,"Par visio, audio conférence,,,,"]
[{"$f":"IF($A1206<>0,VLOOKUP($A1206,Liste!$A$10:$W$459,5,FALSE),\"\")","v":{"$error":"#N/A"}},null,null,null,null,null,"Signature/ Mandataire :"]
[{"$f":"IF($A1206<>0,VLOOKUP($A1206,Liste!$A$10:$W$459,6,FALSE),\"\")","v":{"$error":"#N/A"}},{"$f":"IF($A1206<>0,VLOOKUP($A1206,Liste!$A$10:$W$459,7,FALSE),\"\")","v":{"$error":"#N/A"}}]
[{"$f":" IF($A1206<>0, \"Lot \" & VLOOKUP($A1206,Liste!$A$10:$W$459,9,FALSE),\"\")","v":{"$error":"#N/A"}},{"$f":"IF($A1206<>0,VLOOKUP($A1206,Liste!$A$10:$W$459,10,FALSE),\"\")","v":{"$error":"#N/A"}},{"$f":"IF($A1206<>0,VLOOKUP($A1206,Liste!$A$10:$W$459,11,FALSE),\"\")","v":{"$error":"#N/A"}}]
[{"$f":"IF($A1206<>0,\"Lot \" & VLOOKUP($A1206,Liste!$A$10:$W$459,12,FALSE),\"\")","v":{"$error":"#N/A"}},{"$f":"IF($A1206<>0,VLOOKUP($A1206,Liste!$A$10:$W$459,13,FALSE),\"\")","v":{"$error":"#N/A"}},{"$f":"IF($A1206<>0,VLOOKUP($A1206,Liste!$A$10:$W$459,14,FALSE),\"\")","v":{"$error":"#N/A"}}]
[{"$f":"IF($A1206<>0,\"Lot \" & VLOOKUP($A1206,Liste!$A$10:$W$459,15,FALSE),\"\")","v":{"$error":"#N/A"}},{"$f":"IF($A1206<>0,VLOOKUP($A1206,Liste!$A$10:$W$459,16,FALSE),\"\")","v":{"$error":"#N/A"}},{"$f":"IF($A1206<>0,VLOOKUP($A1206,Liste!$A$10:$W$459,17,FALSE),\"\")","v":{"$error":"#N/A"}},null,null,null,"Arrivé à","après vote de la Résolution N°"]
[{"$f":"IF($A1206<>0,\"Lot \" & VLOOKUP($A1206,Liste!$A$10:$W$459,18,FALSE),\"\")","v":{"$error":"#N/A"}},0,{"$f":"IF($A1206<>0,VLOOKUP($A1206,Liste!$A$10:$W$459,19,FALSE),\"\")","v":{"$error":"#N/A"}},null,null,null,"Départ à","après vote de la Résolution N°"]
[{"$f":"IF($A1206<>0,\"Lot \" & VLOOKUP($A1206,Liste!$A$10:$W$459,21,FALSE),\"\")","v":{"$error":"#N/A"}},{"$f":"IF($A1206<>0,VLOOKUP($A1206,Liste!$A$10:$W$459,22,FALSE),\"\")","v":{"$error":"#N/A"}},{"$f":"IF($A1206<>0,VLOOKUP($A1206,Liste!$A$10:$W$459,23,FALSE),\"\")","v":{"$error":"#N/A"}},null,null,null,{"$f":"IF(OR(B1207=0,VLOOKUP(A1206,Liste!$A$10:'Liste'!$Z$459,26)<>\"\"),\"\", \"Voir autorisation messages électroniques\")","v":{"$error":"#N/A"}}]
[{"$f":"A1206+1","v":127},null,null,null,null,null,"Par correspondance reçu le "]
[{"$f":"IF($A1215<>0,VLOOKUP($A1215,Liste!$A$10:$W$459,3,FALSE),\"\")","v":{"$error":"#N/A"}},{"$f":"IF($A1215<>0,VLOOKUP($A1215,Liste!$A$10:$W$459,4,FALSE),\"\")","v":{"$error":"#N/A"}},null,null,{"$f":"IF($A1215<>0,VLOOKUP($A1215,Liste!$A$10:$W$459,8,FALSE),\"\")","v":{"$error":"#N/A"}},null,"Par visio, audio conférence,,,,"]
[{"$f":"IF($A1215<>0,VLOOKUP($A1215,Liste!$A$10:$W$459,5,FALSE),\"\")","v":{"$error":"#N/A"}},null,null,null,null,null,"Signature/ Mandataire :"]
[{"$f":"IF($A1215<>0,VLOOKUP($A1215,Liste!$A$10:$W$459,6,FALSE),\"\")","v":{"$error":"#N/A"}},{"$f":"IF($A1215<>0,VLOOKUP($A1215,Liste!$A$10:$W$459,7,FALSE),\"\")","v":{"$error":"#N/A"}}]
[{"$f":" IF($A1215<>0, \"Lot \" & VLOOKUP($A1215,Liste!$A$10:$W$459,9,FALSE),\"\")","v":{"$error":"#N/A"}},{"$f":"IF($A1215<>0,VLOOKUP($A1215,Liste!$A$10:$W$459,10,FALSE),\"\")","v":{"$error":"#N/A"}},{"$f":"IF($A1215<>0,VLOOKUP($A1215,Liste!$A$10:$W$459,11,FALSE),\"\")","v":{"$error":"#N/A"}}]
[{"$f":"IF($A1215<>0,\"Lot \" & VLOOKUP($A1215,Liste!$A$10:$W$459,12,FALSE),\"\")","v":{"$error":"#N/A"}},{"$f":"IF($A1215<>0,VLOOKUP($A1215,Liste!$A$10:$W$459,13,FALSE),\"\")","v":{"$error":"#N/A"}},{"$f":"IF($A1215<>0,VLOOKUP($A1215,Liste!$A$10:$W$459,14,FALSE),\"\")","v":{"$error":"#N/A"}}]
[{"$f":"IF($A1215<>0,\"Lot \" & VLOOKUP($A1215,Liste!$A$10:$W$459,15,FALSE),\"\")","v":{"$error":"#N/A"}},{"$f":"IF($A1215<>0,VLOOKUP($A1215,Liste!$A$10:$W$459,16,FALSE),\"\")","v":{"$error":"#N/A"}},{"$f":"IF($A1215<>0,VLOOKUP($A1215,Liste!$A$10:$W$459,17,FALSE),\"\")","v":{"$error":"#N/A"}},null,null,null,"Arrivé à","après vote de la Résolution N°"]
[{"$f":"IF($A1215<>0,\"Lot \" & VLOOKUP($A1215,Liste!$A$10:$W$459,18,FALSE),\"\")","v":{"$error":"#N/A"}},0,{"$f":"IF($A1215<>0,VLOOKUP($A1215,Liste!$A$10:$W$459,19,FALSE),\"\")","v":{"$error":"#N/A"}},null,null,null,"Départ à","après vote de la Résolution N°"]
[{"$f":"IF($A1215<>0,\"Lot \" & VLOOKUP($A1215,Liste!$A$10:$W$459,21,FALSE),\"\")","v":{"$error":"#N/A"}},{"$f":"IF($A1215<>0,VLOOKUP($A1215,Liste!$A$10:$W$459,22,FALSE),\"\")","v":{"$error":"#N/A"}},{"$f":"IF($A1215<>0,VLOOKUP($A1215,Liste!$A$10:$W$459,23,FALSE),\"\")","v":{"$error":"#N/A"}},null,null,null,{"$f":"IF(OR(B1216=0,VLOOKUP(A1215,Liste!$A$10:'Liste'!$Z$459,26)<>\"\"),\"\", \"Voir autorisation messages électroniques\")","v":{"$error":"#N/A"}}]
[{"$f":"A1215+1","v":128},null,null,null,null,null,"Par correspondance reçu le "]
[{"$f":"IF($A1224<>0,VLOOKUP($A1224,Liste!$A$10:$W$459,3,FALSE),\"\")","v":{"$error":"#N/A"}},{"$f":"IF($A1224<>0,VLOOKUP($A1224,Liste!$A$10:$W$459,4,FALSE),\"\")","v":{"$error":"#N/A"}},null,null,{"$f":"IF($A1224<>0,VLOOKUP($A1224,Liste!$A$10:$W$459,8,FALSE),\"\")","v":{"$error":"#N/A"}},null,"Par visio, audio conférence,,,,"]
[{"$f":"IF($A1224<>0,VLOOKUP($A1224,Liste!$A$10:$W$459,5,FALSE),\"\")","v":{"$error":"#N/A"}},null,null,null,null,null,"Signature/ Mandataire :"]
[{"$f":"IF($A1224<>0,VLOOKUP($A1224,Liste!$A$10:$W$459,6,FALSE),\"\")","v":{"$error":"#N/A"}},{"$f":"IF($A1224<>0,VLOOKUP($A1224,Liste!$A$10:$W$459,7,FALSE),\"\")","v":{"$error":"#N/A"}}]
[{"$f":" IF($A1224<>0, \"Lot \" & VLOOKUP($A1224,Liste!$A$10:$W$459,9,FALSE),\"\")","v":{"$error":"#N/A"}},{"$f":"IF($A1224<>0,VLOOKUP($A1224,Liste!$A$10:$W$459,10,FALSE),\"\")","v":{"$error":"#N/A"}},{"$f":"IF($A1224<>0,VLOOKUP($A1224,Liste!$A$10:$W$459,11,FALSE),\"\")","v":{"$error":"#N/A"}}]
[{"$f":"IF($A1224<>0,\"Lot \" & VLOOKUP($A1224,Liste!$A$10:$W$459,12,FALSE),\"\")","v":{"$error":"#N/A"}},{"$f":"IF($A1224<>0,VLOOKUP($A1224,Liste!$A$10:$W$459,13,FALSE),\"\")","v":{"$error":"#N/A"}},{"$f":"IF($A1224<>0,VLOOKUP($A1224,Liste!$A$10:$W$459,14,FALSE),\"\")","v":{"$error":"#N/A"}}]
[{"$f":"IF($A1224<>0,\"Lot \" & VLOOKUP($A1224,Liste!$A$10:$W$459,15,FALSE),\"\")","v":{"$error":"#N/A"}},{"$f":"IF($A1224<>0,VLOOKUP($A1224,Liste!$A$10:$W$459,16,FALSE),\"\")","v":{"$error":"#N/A"}},{"$f":"IF($A1224<>0,VLOOKUP($A1224,Liste!$A$10:$W$459,17,FALSE),\"\")","v":{"$error":"#N/A"}},null,null,null,"Arrivé à","après vote de la Résolution N°"]
[{"$f":"IF($A1224<>0,\"Lot \" & VLOOKUP($A1224,Liste!$A$10:$W$459,18,FALSE),\"\")","v":{"$error":"#N/A"}},0,{"$f":"IF($A1224<>0,VLOOKUP($A1224,Liste!$A$10:$W$459,19,FALSE),\"\")","v":{"$error":"#N/A"}},null,null,null,"Départ à","après vote de la Résolution N°"]
[{"$f":"IF($A1224<>0,\"Lot \" & VLOOKUP($A1224,Liste!$A$10:$W$459,21,FALSE),\"\")","v":{"$error":"#N/A"}},{"$f":"IF($A1224<>0,VLOOKUP($A1224,Liste!$A$10:$W$459,22,FALSE),\"\")","v":{"$error":"#N/A"}},{"$f":"IF($A1224<>0,VLOOKUP($A1224,Liste!$A$10:$W$459,23,FALSE),\"\")","v":{"$error":"#N/A"}},null,null,null,{"$f":"IF(OR(B1225=0,VLOOKUP(A1224,Liste!$A$10:'Liste'!$Z$459,26)<>\"\"),\"\", \"Voir autorisation messages électroniques\")","v":{"$error":"#N/A"}}]
[]
[null,null,null,"A S S E M B L E E     G E N E R A L E",null,null,null,null,null,null,"Page",{"$f":"L1157+1","v":17}]
[null,null,null,null,null,"du","2019-12-20"]
[null,null,null,"Résidence Le Paradis; Rue de l' espoir 75016 PARIS"]
[]
[{"$f":"A1224+1","v":129},null,null,null,null,null,"Par correspondance reçu le "]
[{"$f":"IF($A1238<>0,VLOOKUP($A1238,Liste!$A$10:$W$459,3,FALSE),\"\")","v":{"$error":"#N/A"}},{"$f":"IF($A1238<>0,VLOOKUP($A1238,Liste!$A$10:$W$459,4,FALSE),\"\")","v":{"$error":"#N/A"}},null,null,{"$f":"IF($A1238<>0,VLOOKUP($A1238,Liste!$A$10:$W$459,8,FALSE),\"\")","v":{"$error":"#N/A"}},null,"Par visio, audio conférence,,,,"]
[{"$f":"IF($A1238<>0,VLOOKUP($A1238,Liste!$A$10:$W$459,5,FALSE),\"\")","v":{"$error":"#N/A"}},null,null,null,null,null,"Signature/ Mandataire :"]
[{"$f":"IF($A1238<>0,VLOOKUP($A1238,Liste!$A$10:$W$459,6,FALSE),\"\")","v":{"$error":"#N/A"}},{"$f":"IF($A1238<>0,VLOOKUP($A1238,Liste!$A$10:$W$459,7,FALSE),\"\")","v":{"$error":"#N/A"}}]
[{"$f":" IF($A1238<>0, \"Lot \" & VLOOKUP($A1238,Liste!$A$10:$W$459,9,FALSE),\"\")","v":{"$error":"#N/A"}},{"$f":"IF($A1238<>0,VLOOKUP($A1238,Liste!$A$10:$W$459,10,FALSE),\"\")","v":{"$error":"#N/A"}},{"$f":"IF($A1238<>0,VLOOKUP($A1238,Liste!$A$10:$W$459,11,FALSE),\"\")","v":{"$error":"#N/A"}}]
[{"$f":"IF($A1238<>0,\"Lot \" & VLOOKUP($A1238,Liste!$A$10:$W$459,12,FALSE),\"\")","v":{"$error":"#N/A"}},{"$f":"IF($A1238<>0,VLOOKUP($A1238,Liste!$A$10:$W$459,13,FALSE),\"\")","v":{"$error":"#N/A"}},{"$f":"IF($A1238<>0,VLOOKUP($A1238,Liste!$A$10:$W$459,14,FALSE),\"\")","v":{"$error":"#N/A"}}]
[{"$f":"IF($A1238<>0,\"Lot \" & VLOOKUP($A1238,Liste!$A$10:$W$459,15,FALSE),\"\")","v":{"$error":"#N/A"}},{"$f":"IF($A1238<>0,VLOOKUP($A1238,Liste!$A$10:$W$459,16,FALSE),\"\")","v":{"$error":"#N/A"}},{"$f":"IF($A1238<>0,VLOOKUP($A1238,Liste!$A$10:$W$459,17,FALSE),\"\")","v":{"$error":"#N/A"}},null,null,null,"Arrivé à","après vote de la Résolution N°"]
[{"$f":"IF($A1238<>0,\"Lot \" & VLOOKUP($A1238,Liste!$A$10:$W$459,18,FALSE),\"\")","v":{"$error":"#N/A"}},0,{"$f":"IF($A1238<>0,VLOOKUP($A1238,Liste!$A$10:$W$459,19,FALSE),\"\")","v":{"$error":"#N/A"}},null,null,null,"Départ à","après vote de la Résolution N°"]
[{"$f":"IF($A1238<>0,\"Lot \" & VLOOKUP($A1238,Liste!$A$10:$W$459,21,FALSE),\"\")","v":{"$error":"#N/A"}},{"$f":"IF($A1238<>0,VLOOKUP($A1238,Liste!$A$10:$W$459,22,FALSE),\"\")","v":{"$error":"#N/A"}},{"$f":"IF($A1238<>0,VLOOKUP($A1238,Liste!$A$10:$W$459,23,FALSE),\"\")","v":{"$error":"#N/A"}},null,null,null,{"$f":"IF(OR(B1239=0,VLOOKUP(A1238,Liste!$A$10:'Liste'!$Z$459,26)<>\"\"),\"\", \"Voir autorisation messages électroniques\")","v":{"$error":"#N/A"}}]
[{"$f":"A1238+1","v":130},null,null,null,null,null,"Par correspondance reçu le "]
[{"$f":"IF($A1247<>0,VLOOKUP($A1247,Liste!$A$10:$W$459,3,FALSE),\"\")","v":{"$error":"#N/A"}},{"$f":"IF($A1247<>0,VLOOKUP($A1247,Liste!$A$10:$W$459,4,FALSE),\"\")","v":{"$error":"#N/A"}},null,null,{"$f":"IF($A1247<>0,VLOOKUP($A1247,Liste!$A$10:$W$459,8,FALSE),\"\")","v":{"$error":"#N/A"}},null,"Par visio, audio conférence,,,,"]
[{"$f":"IF($A1247<>0,VLOOKUP($A1247,Liste!$A$10:$W$459,5,FALSE),\"\")","v":{"$error":"#N/A"}},null,null,null,null,null,"Signature/ Mandataire :"]
[{"$f":"IF($A1247<>0,VLOOKUP($A1247,Liste!$A$10:$W$459,6,FALSE),\"\")","v":{"$error":"#N/A"}},{"$f":"IF($A1247<>0,VLOOKUP($A1247,Liste!$A$10:$W$459,7,FALSE),\"\")","v":{"$error":"#N/A"}}]
[{"$f":" IF($A1247<>0, \"Lot \" & VLOOKUP($A1247,Liste!$A$10:$W$459,9,FALSE),\"\")","v":{"$error":"#N/A"}},{"$f":"IF($A1247<>0,VLOOKUP($A1247,Liste!$A$10:$W$459,10,FALSE),\"\")","v":{"$error":"#N/A"}},{"$f":"IF($A1247<>0,VLOOKUP($A1247,Liste!$A$10:$W$459,11,FALSE),\"\")","v":{"$error":"#N/A"}}]
[{"$f":"IF($A1247<>0,\"Lot \" & VLOOKUP($A1247,Liste!$A$10:$W$459,12,FALSE),\"\")","v":{"$error":"#N/A"}},{"$f":"IF($A1247<>0,VLOOKUP($A1247,Liste!$A$10:$W$459,13,FALSE),\"\")","v":{"$error":"#N/A"}},{"$f":"IF($A1247<>0,VLOOKUP($A1247,Liste!$A$10:$W$459,14,FALSE),\"\")","v":{"$error":"#N/A"}}]
[{"$f":"IF($A1247<>0,\"Lot \" & VLOOKUP($A1247,Liste!$A$10:$W$459,15,FALSE),\"\")","v":{"$error":"#N/A"}},{"$f":"IF($A1247<>0,VLOOKUP($A1247,Liste!$A$10:$W$459,16,FALSE),\"\")","v":{"$error":"#N/A"}},{"$f":"IF($A1247<>0,VLOOKUP($A1247,Liste!$A$10:$W$459,17,FALSE),\"\")","v":{"$error":"#N/A"}},null,null,null,"Arrivé à","après vote de la Résolution N°"]
[{"$f":"IF($A1247<>0,\"Lot \" & VLOOKUP($A1247,Liste!$A$10:$W$459,18,FALSE),\"\")","v":{"$error":"#N/A"}},0,{"$f":"IF($A1247<>0,VLOOKUP($A1247,Liste!$A$10:$W$459,19,FALSE),\"\")","v":{"$error":"#N/A"}},null,null,null,"Départ à","après vote de la Résolution N°"]
[{"$f":"IF($A1247<>0,\"Lot \" & VLOOKUP($A1247,Liste!$A$10:$W$459,21,FALSE),\"\")","v":{"$error":"#N/A"}},{"$f":"IF($A1247<>0,VLOOKUP($A1247,Liste!$A$10:$W$459,22,FALSE),\"\")","v":{"$error":"#N/A"}},{"$f":"IF($A1247<>0,VLOOKUP($A1247,Liste!$A$10:$W$459,23,FALSE),\"\")","v":{"$error":"#N/A"}},null,null,null,{"$f":"IF(OR(B1248=0,VLOOKUP(A1247,Liste!$A$10:'Liste'!$Z$459,26)<>\"\"),\"\", \"Voir autorisation messages électroniques\")","v":{"$error":"#N/A"}}]
[{"$f":"A1247+1","v":131},null,null,null,null,null,"Par correspondance reçu le "]
[{"$f":"IF($A1256<>0,VLOOKUP($A1256,Liste!$A$10:$W$459,3,FALSE),\"\")","v":{"$error":"#N/A"}},{"$f":"IF($A1256<>0,VLOOKUP($A1256,Liste!$A$10:$W$459,4,FALSE),\"\")","v":{"$error":"#N/A"}},null,null,{"$f":"IF($A1256<>0,VLOOKUP($A1256,Liste!$A$10:$W$459,8,FALSE),\"\")","v":{"$error":"#N/A"}},null,"Par visio, audio conférence,,,,"]
[{"$f":"IF($A1256<>0,VLOOKUP($A1256,Liste!$A$10:$W$459,5,FALSE),\"\")","v":{"$error":"#N/A"}},null,null,null,null,null,"Signature/ Mandataire :"]
[{"$f":"IF($A1256<>0,VLOOKUP($A1256,Liste!$A$10:$W$459,6,FALSE),\"\")","v":{"$error":"#N/A"}},{"$f":"IF($A1256<>0,VLOOKUP($A1256,Liste!$A$10:$W$459,7,FALSE),\"\")","v":{"$error":"#N/A"}}]
[{"$f":" IF($A1256<>0, \"Lot \" & VLOOKUP($A1256,Liste!$A$10:$W$459,9,FALSE),\"\")","v":{"$error":"#N/A"}},{"$f":"IF($A1256<>0,VLOOKUP($A1256,Liste!$A$10:$W$459,10,FALSE),\"\")","v":{"$error":"#N/A"}},{"$f":"IF($A1256<>0,VLOOKUP($A1256,Liste!$A$10:$W$459,11,FALSE),\"\")","v":{"$error":"#N/A"}}]
[{"$f":"IF($A1256<>0,\"Lot \" & VLOOKUP($A1256,Liste!$A$10:$W$459,12,FALSE),\"\")","v":{"$error":"#N/A"}},{"$f":"IF($A1256<>0,VLOOKUP($A1256,Liste!$A$10:$W$459,13,FALSE),\"\")","v":{"$error":"#N/A"}},{"$f":"IF($A1256<>0,VLOOKUP($A1256,Liste!$A$10:$W$459,14,FALSE),\"\")","v":{"$error":"#N/A"}}]
[{"$f":"IF($A1256<>0,\"Lot \" & VLOOKUP($A1256,Liste!$A$10:$W$459,15,FALSE),\"\")","v":{"$error":"#N/A"}},{"$f":"IF($A1256<>0,VLOOKUP($A1256,Liste!$A$10:$W$459,16,FALSE),\"\")","v":{"$error":"#N/A"}},{"$f":"IF($A1256<>0,VLOOKUP($A1256,Liste!$A$10:$W$459,17,FALSE),\"\")","v":{"$error":"#N/A"}},null,null,null,"Arrivé à","après vote de la Résolution N°"]
[{"$f":"IF($A1256<>0,\"Lot \" & VLOOKUP($A1256,Liste!$A$10:$W$459,18,FALSE),\"\")","v":{"$error":"#N/A"}},0,{"$f":"IF($A1256<>0,VLOOKUP($A1256,Liste!$A$10:$W$459,19,FALSE),\"\")","v":{"$error":"#N/A"}},null,null,null,"Départ à","après vote de la Résolution N°"]
[{"$f":"IF($A1256<>0,\"Lot \" & VLOOKUP($A1256,Liste!$A$10:$W$459,21,FALSE),\"\")","v":{"$error":"#N/A"}},{"$f":"IF($A1256<>0,VLOOKUP($A1256,Liste!$A$10:$W$459,22,FALSE),\"\")","v":{"$error":"#N/A"}},{"$f":"IF($A1256<>0,VLOOKUP($A1256,Liste!$A$10:$W$459,23,FALSE),\"\")","v":{"$error":"#N/A"}},null,null,null,{"$f":"IF(OR(B1257=0,VLOOKUP(A1256,Liste!$A$10:'Liste'!$Z$459,26)<>\"\"),\"\", \"Voir autorisation messages électroniques\")","v":{"$error":"#N/A"}}]
[{"$f":"A1256+1","v":132},null,null,null,null,null,"Par correspondance reçu le "]
[{"$f":"IF($A1265<>0,VLOOKUP($A1265,Liste!$A$10:$W$459,3,FALSE),\"\")","v":{"$error":"#N/A"}},{"$f":"IF($A1265<>0,VLOOKUP($A1265,Liste!$A$10:$W$459,4,FALSE),\"\")","v":{"$error":"#N/A"}},null,null,{"$f":"IF($A1265<>0,VLOOKUP($A1265,Liste!$A$10:$W$459,8,FALSE),\"\")","v":{"$error":"#N/A"}},null,"Par visio, audio conférence,,,,"]
[{"$f":"IF($A1265<>0,VLOOKUP($A1265,Liste!$A$10:$W$459,5,FALSE),\"\")","v":{"$error":"#N/A"}},null,null,null,null,null,"Signature/ Mandataire :"]
[{"$f":"IF($A1265<>0,VLOOKUP($A1265,Liste!$A$10:$W$459,6,FALSE),\"\")","v":{"$error":"#N/A"}},{"$f":"IF($A1265<>0,VLOOKUP($A1265,Liste!$A$10:$W$459,7,FALSE),\"\")","v":{"$error":"#N/A"}}]
[{"$f":" IF($A1265<>0, \"Lot \" & VLOOKUP($A1265,Liste!$A$10:$W$459,9,FALSE),\"\")","v":{"$error":"#N/A"}},{"$f":"IF($A1265<>0,VLOOKUP($A1265,Liste!$A$10:$W$459,10,FALSE),\"\")","v":{"$error":"#N/A"}},{"$f":"IF($A1265<>0,VLOOKUP($A1265,Liste!$A$10:$W$459,11,FALSE),\"\")","v":{"$error":"#N/A"}}]
[{"$f":"IF($A1265<>0,\"Lot \" & VLOOKUP($A1265,Liste!$A$10:$W$459,12,FALSE),\"\")","v":{"$error":"#N/A"}},{"$f":"IF($A1265<>0,VLOOKUP($A1265,Liste!$A$10:$W$459,13,FALSE),\"\")","v":{"$error":"#N/A"}},{"$f":"IF($A1265<>0,VLOOKUP($A1265,Liste!$A$10:$W$459,14,FALSE),\"\")","v":{"$error":"#N/A"}}]
[{"$f":"IF($A1265<>0,\"Lot \" & VLOOKUP($A1265,Liste!$A$10:$W$459,15,FALSE),\"\")","v":{"$error":"#N/A"}},{"$f":"IF($A1265<>0,VLOOKUP($A1265,Liste!$A$10:$W$459,16,FALSE),\"\")","v":{"$error":"#N/A"}},{"$f":"IF($A1265<>0,VLOOKUP($A1265,Liste!$A$10:$W$459,17,FALSE),\"\")","v":{"$error":"#N/A"}},null,null,null,"Arrivé à","après vote de la Résolution N°"]
[{"$f":"IF($A1265<>0,\"Lot \" & VLOOKUP($A1265,Liste!$A$10:$W$459,18,FALSE),\"\")","v":{"$error":"#N/A"}},0,{"$f":"IF($A1265<>0,VLOOKUP($A1265,Liste!$A$10:$W$459,19,FALSE),\"\")","v":{"$error":"#N/A"}},null,null,null,"Départ à","après vote de la Résolution N°"]
[{"$f":"IF($A1265<>0,\"Lot \" & VLOOKUP($A1265,Liste!$A$10:$W$459,21,FALSE),\"\")","v":{"$error":"#N/A"}},{"$f":"IF($A1265<>0,VLOOKUP($A1265,Liste!$A$10:$W$459,22,FALSE),\"\")","v":{"$error":"#N/A"}},{"$f":"IF($A1265<>0,VLOOKUP($A1265,Liste!$A$10:$W$459,23,FALSE),\"\")","v":{"$error":"#N/A"}},null,null,null,{"$f":"IF(OR(B1266=0,VLOOKUP(A1265,Liste!$A$10:'Liste'!$Z$459,26)<>\"\"),\"\", \"Voir autorisation messages électroniques\")","v":{"$error":"#N/A"}}]
[{"$f":"A1265+1","v":133},null,null,null,null,null,"Par correspondance reçu le "]
[{"$f":"IF($A1274<>0,VLOOKUP($A1274,Liste!$A$10:$W$459,3,FALSE),\"\")","v":{"$error":"#N/A"}},{"$f":"IF($A1274<>0,VLOOKUP($A1274,Liste!$A$10:$W$459,4,FALSE),\"\")","v":{"$error":"#N/A"}},null,null,{"$f":"IF($A1274<>0,VLOOKUP($A1274,Liste!$A$10:$W$459,8,FALSE),\"\")","v":{"$error":"#N/A"}},null,"Par visio, audio conférence,,,,"]
[{"$f":"IF($A1274<>0,VLOOKUP($A1274,Liste!$A$10:$W$459,5,FALSE),\"\")","v":{"$error":"#N/A"}},null,null,null,null,null,"Signature/ Mandataire :"]
[{"$f":"IF($A1274<>0,VLOOKUP($A1274,Liste!$A$10:$W$459,6,FALSE),\"\")","v":{"$error":"#N/A"}},{"$f":"IF($A1274<>0,VLOOKUP($A1274,Liste!$A$10:$W$459,7,FALSE),\"\")","v":{"$error":"#N/A"}}]
[{"$f":" IF($A1274<>0, \"Lot \" & VLOOKUP($A1274,Liste!$A$10:$W$459,9,FALSE),\"\")","v":{"$error":"#N/A"}},{"$f":"IF($A1274<>0,VLOOKUP($A1274,Liste!$A$10:$W$459,10,FALSE),\"\")","v":{"$error":"#N/A"}},{"$f":"IF($A1274<>0,VLOOKUP($A1274,Liste!$A$10:$W$459,11,FALSE),\"\")","v":{"$error":"#N/A"}}]
[{"$f":"IF($A1274<>0,\"Lot \" & VLOOKUP($A1274,Liste!$A$10:$W$459,12,FALSE),\"\")","v":{"$error":"#N/A"}},{"$f":"IF($A1274<>0,VLOOKUP($A1274,Liste!$A$10:$W$459,13,FALSE),\"\")","v":{"$error":"#N/A"}},{"$f":"IF($A1274<>0,VLOOKUP($A1274,Liste!$A$10:$W$459,14,FALSE),\"\")","v":{"$error":"#N/A"}}]
[{"$f":"IF($A1274<>0,\"Lot \" & VLOOKUP($A1274,Liste!$A$10:$W$459,15,FALSE),\"\")","v":{"$error":"#N/A"}},{"$f":"IF($A1274<>0,VLOOKUP($A1274,Liste!$A$10:$W$459,16,FALSE),\"\")","v":{"$error":"#N/A"}},{"$f":"IF($A1274<>0,VLOOKUP($A1274,Liste!$A$10:$W$459,17,FALSE),\"\")","v":{"$error":"#N/A"}},null,null,null,"Arrivé à","après vote de la Résolution N°"]
[{"$f":"IF($A1274<>0,\"Lot \" & VLOOKUP($A1274,Liste!$A$10:$W$459,18,FALSE),\"\")","v":{"$error":"#N/A"}},0,{"$f":"IF($A1274<>0,VLOOKUP($A1274,Liste!$A$10:$W$459,19,FALSE),\"\")","v":{"$error":"#N/A"}},null,null,null,"Départ à","après vote de la Résolution N°"]
[{"$f":"IF($A1274<>0,\"Lot \" & VLOOKUP($A1274,Liste!$A$10:$W$459,21,FALSE),\"\")","v":{"$error":"#N/A"}},{"$f":"IF($A1274<>0,VLOOKUP($A1274,Liste!$A$10:$W$459,22,FALSE),\"\")","v":{"$error":"#N/A"}},{"$f":"IF($A1274<>0,VLOOKUP($A1274,Liste!$A$10:$W$459,23,FALSE),\"\")","v":{"$error":"#N/A"}},null,null,null,{"$f":"IF(OR(B1275=0,VLOOKUP(A1274,Liste!$A$10:'Liste'!$Z$459,26)<>\"\"),\"\", \"Voir autorisation messages électroniques\")","v":{"$error":"#N/A"}}]
[{"$f":"A1274+1","v":134},null,null,null,null,null,"Par correspondance reçu le "]
[{"$f":"IF($A1283<>0,VLOOKUP($A1283,Liste!$A$10:$W$459,3,FALSE),\"\")","v":{"$error":"#N/A"}},{"$f":"IF($A1283<>0,VLOOKUP($A1283,Liste!$A$10:$W$459,4,FALSE),\"\")","v":{"$error":"#N/A"}},null,null,{"$f":"IF($A1283<>0,VLOOKUP($A1283,Liste!$A$10:$W$459,8,FALSE),\"\")","v":{"$error":"#N/A"}},null,"Par visio, audio conférence,,,,"]
[{"$f":"IF($A1283<>0,VLOOKUP($A1283,Liste!$A$10:$W$459,5,FALSE),\"\")","v":{"$error":"#N/A"}},null,null,null,null,null,"Signature/ Mandataire :"]
[{"$f":"IF($A1283<>0,VLOOKUP($A1283,Liste!$A$10:$W$459,6,FALSE),\"\")","v":{"$error":"#N/A"}},{"$f":"IF($A1283<>0,VLOOKUP($A1283,Liste!$A$10:$W$459,7,FALSE),\"\")","v":{"$error":"#N/A"}}]
[{"$f":" IF($A1283<>0, \"Lot \" & VLOOKUP($A1283,Liste!$A$10:$W$459,9,FALSE),\"\")","v":{"$error":"#N/A"}},{"$f":"IF($A1283<>0,VLOOKUP($A1283,Liste!$A$10:$W$459,10,FALSE),\"\")","v":{"$error":"#N/A"}},{"$f":"IF($A1283<>0,VLOOKUP($A1283,Liste!$A$10:$W$459,11,FALSE),\"\")","v":{"$error":"#N/A"}}]
[{"$f":"IF($A1283<>0,\"Lot \" & VLOOKUP($A1283,Liste!$A$10:$W$459,12,FALSE),\"\")","v":{"$error":"#N/A"}},{"$f":"IF($A1283<>0,VLOOKUP($A1283,Liste!$A$10:$W$459,13,FALSE),\"\")","v":{"$error":"#N/A"}},{"$f":"IF($A1283<>0,VLOOKUP($A1283,Liste!$A$10:$W$459,14,FALSE),\"\")","v":{"$error":"#N/A"}}]
[{"$f":"IF($A1283<>0,\"Lot \" & VLOOKUP($A1283,Liste!$A$10:$W$459,15,FALSE),\"\")","v":{"$error":"#N/A"}},{"$f":"IF($A1283<>0,VLOOKUP($A1283,Liste!$A$10:$W$459,16,FALSE),\"\")","v":{"$error":"#N/A"}},{"$f":"IF($A1283<>0,VLOOKUP($A1283,Liste!$A$10:$W$459,17,FALSE),\"\")","v":{"$error":"#N/A"}},null,null,null,"Arrivé à","après vote de la Résolution N°"]
[{"$f":"IF($A1283<>0,\"Lot \" & VLOOKUP($A1283,Liste!$A$10:$W$459,18,FALSE),\"\")","v":{"$error":"#N/A"}},0,{"$f":"IF($A1283<>0,VLOOKUP($A1283,Liste!$A$10:$W$459,19,FALSE),\"\")","v":{"$error":"#N/A"}},null,null,null,"Départ à","après vote de la Résolution N°"]
[{"$f":"IF($A1283<>0,\"Lot \" & VLOOKUP($A1283,Liste!$A$10:$W$459,21,FALSE),\"\")","v":{"$error":"#N/A"}},{"$f":"IF($A1283<>0,VLOOKUP($A1283,Liste!$A$10:$W$459,22,FALSE),\"\")","v":{"$error":"#N/A"}},{"$f":"IF($A1283<>0,VLOOKUP($A1283,Liste!$A$10:$W$459,23,FALSE),\"\")","v":{"$error":"#N/A"}},null,null,null,{"$f":"IF(OR(B1284=0,VLOOKUP(A1283,Liste!$A$10:'Liste'!$Z$459,26)<>\"\"),\"\", \"Voir autorisation messages électroniques\")","v":{"$error":"#N/A"}}]
[{"$f":"A1283+1","v":135},null,null,null,null,null,"Par correspondance reçu le "]
[{"$f":"IF($A1292<>0,VLOOKUP($A1292,Liste!$A$10:$W$459,3,FALSE),\"\")","v":{"$error":"#N/A"}},{"$f":"IF($A1292<>0,VLOOKUP($A1292,Liste!$A$10:$W$459,4,FALSE),\"\")","v":{"$error":"#N/A"}},null,null,{"$f":"IF($A1292<>0,VLOOKUP($A1292,Liste!$A$10:$W$459,8,FALSE),\"\")","v":{"$error":"#N/A"}},null,"Par visio, audio conférence,,,,"]
[{"$f":"IF($A1292<>0,VLOOKUP($A1292,Liste!$A$10:$W$459,5,FALSE),\"\")","v":{"$error":"#N/A"}},null,null,null,null,null,"Signature/ Mandataire :"]
[{"$f":"IF($A1292<>0,VLOOKUP($A1292,Liste!$A$10:$W$459,6,FALSE),\"\")","v":{"$error":"#N/A"}},{"$f":"IF($A1292<>0,VLOOKUP($A1292,Liste!$A$10:$W$459,7,FALSE),\"\")","v":{"$error":"#N/A"}}]
[{"$f":" IF($A1292<>0, \"Lot \" & VLOOKUP($A1292,Liste!$A$10:$W$459,9,FALSE),\"\")","v":{"$error":"#N/A"}},{"$f":"IF($A1292<>0,VLOOKUP($A1292,Liste!$A$10:$W$459,10,FALSE),\"\")","v":{"$error":"#N/A"}},{"$f":"IF($A1292<>0,VLOOKUP($A1292,Liste!$A$10:$W$459,11,FALSE),\"\")","v":{"$error":"#N/A"}}]
[{"$f":"IF($A1292<>0,\"Lot \" & VLOOKUP($A1292,Liste!$A$10:$W$459,12,FALSE),\"\")","v":{"$error":"#N/A"}},{"$f":"IF($A1292<>0,VLOOKUP($A1292,Liste!$A$10:$W$459,13,FALSE),\"\")","v":{"$error":"#N/A"}},{"$f":"IF($A1292<>0,VLOOKUP($A1292,Liste!$A$10:$W$459,14,FALSE),\"\")","v":{"$error":"#N/A"}}]
[{"$f":"IF($A1292<>0,\"Lot \" & VLOOKUP($A1292,Liste!$A$10:$W$459,15,FALSE),\"\")","v":{"$error":"#N/A"}},{"$f":"IF($A1292<>0,VLOOKUP($A1292,Liste!$A$10:$W$459,16,FALSE),\"\")","v":{"$error":"#N/A"}},{"$f":"IF($A1292<>0,VLOOKUP($A1292,Liste!$A$10:$W$459,17,FALSE),\"\")","v":{"$error":"#N/A"}},null,null,null,"Arrivé à","après vote de la Résolution N°"]
[{"$f":"IF($A1292<>0,\"Lot \" & VLOOKUP($A1292,Liste!$A$10:$W$459,18,FALSE),\"\")","v":{"$error":"#N/A"}},0,{"$f":"IF($A1292<>0,VLOOKUP($A1292,Liste!$A$10:$W$459,19,FALSE),\"\")","v":{"$error":"#N/A"}},null,null,null,"Départ à","après vote de la Résolution N°"]
[{"$f":"IF($A1292<>0,\"Lot \" & VLOOKUP($A1292,Liste!$A$10:$W$459,21,FALSE),\"\")","v":{"$error":"#N/A"}},{"$f":"IF($A1292<>0,VLOOKUP($A1292,Liste!$A$10:$W$459,22,FALSE),\"\")","v":{"$error":"#N/A"}},{"$f":"IF($A1292<>0,VLOOKUP($A1292,Liste!$A$10:$W$459,23,FALSE),\"\")","v":{"$error":"#N/A"}},null,null,null,{"$f":"IF(OR(B1293=0,VLOOKUP(A1292,Liste!$A$10:'Liste'!$Z$459,26)<>\"\"),\"\", \"Voir autorisation messages électroniques\")","v":{"$error":"#N/A"}}]
[{"$f":"A1292+1","v":136},null,null,null,null,null,"Par correspondance reçu le "]
[{"$f":"IF($A1301<>0,VLOOKUP($A1301,Liste!$A$10:$W$459,3,FALSE),\"\")","v":{"$error":"#N/A"}},{"$f":"IF($A1301<>0,VLOOKUP($A1301,Liste!$A$10:$W$459,4,FALSE),\"\")","v":{"$error":"#N/A"}},null,null,{"$f":"IF($A1301<>0,VLOOKUP($A1301,Liste!$A$10:$W$459,8,FALSE),\"\")","v":{"$error":"#N/A"}},null,"Par visio, audio conférence,,,,"]
[{"$f":"IF($A1301<>0,VLOOKUP($A1301,Liste!$A$10:$W$459,5,FALSE),\"\")","v":{"$error":"#N/A"}},null,null,null,null,null,"Signature/ Mandataire :"]
[{"$f":"IF($A1301<>0,VLOOKUP($A1301,Liste!$A$10:$W$459,6,FALSE),\"\")","v":{"$error":"#N/A"}},{"$f":"IF($A1301<>0,VLOOKUP($A1301,Liste!$A$10:$W$459,7,FALSE),\"\")","v":{"$error":"#N/A"}}]
[{"$f":" IF($A1301<>0, \"Lot \" & VLOOKUP($A1301,Liste!$A$10:$W$459,9,FALSE),\"\")","v":{"$error":"#N/A"}},{"$f":"IF($A1301<>0,VLOOKUP($A1301,Liste!$A$10:$W$459,10,FALSE),\"\")","v":{"$error":"#N/A"}},{"$f":"IF($A1301<>0,VLOOKUP($A1301,Liste!$A$10:$W$459,11,FALSE),\"\")","v":{"$error":"#N/A"}}]
[{"$f":"IF($A1301<>0,\"Lot \" & VLOOKUP($A1301,Liste!$A$10:$W$459,12,FALSE),\"\")","v":{"$error":"#N/A"}},{"$f":"IF($A1301<>0,VLOOKUP($A1301,Liste!$A$10:$W$459,13,FALSE),\"\")","v":{"$error":"#N/A"}},{"$f":"IF($A1301<>0,VLOOKUP($A1301,Liste!$A$10:$W$459,14,FALSE),\"\")","v":{"$error":"#N/A"}}]
[{"$f":"IF($A1301<>0,\"Lot \" & VLOOKUP($A1301,Liste!$A$10:$W$459,15,FALSE),\"\")","v":{"$error":"#N/A"}},{"$f":"IF($A1301<>0,VLOOKUP($A1301,Liste!$A$10:$W$459,16,FALSE),\"\")","v":{"$error":"#N/A"}},{"$f":"IF($A1301<>0,VLOOKUP($A1301,Liste!$A$10:$W$459,17,FALSE),\"\")","v":{"$error":"#N/A"}},null,null,null,"Arrivé à","après vote de la Résolution N°"]
[{"$f":"IF($A1301<>0,\"Lot \" & VLOOKUP($A1301,Liste!$A$10:$W$459,18,FALSE),\"\")","v":{"$error":"#N/A"}},0,{"$f":"IF($A1301<>0,VLOOKUP($A1301,Liste!$A$10:$W$459,19,FALSE),\"\")","v":{"$error":"#N/A"}},null,null,null,"Départ à","après vote de la Résolution N°"]
[{"$f":"IF($A1301<>0,\"Lot \" & VLOOKUP($A1301,Liste!$A$10:$W$459,21,FALSE),\"\")","v":{"$error":"#N/A"}},{"$f":"IF($A1301<>0,VLOOKUP($A1301,Liste!$A$10:$W$459,22,FALSE),\"\")","v":{"$error":"#N/A"}},{"$f":"IF($A1301<>0,VLOOKUP($A1301,Liste!$A$10:$W$459,23,FALSE),\"\")","v":{"$error":"#N/A"}},null,null,null,{"$f":"IF(OR(B1302=0,VLOOKUP(A1301,Liste!$A$10:'Liste'!$Z$459,26)<>\"\"),\"\", \"Voir autorisation messages électroniques\")","v":{"$error":"#N/A"}}]
[]
[null,null,null,"A S S E M B L E E     G E N E R A L E",null,null,null,null,null,null,"Page",{"$f":"L1234+1","v":18}]
[null,null,null,null,null,"du","2019-12-20"]
[null,null,null,"Résidence Le Paradis; Rue de l' espoir 75016 PARIS"]
[]
[{"$f":"A1301+1","v":137},null,null,null,null,null,"Par correspondance reçu le "]
[{"$f":"IF($A1315<>0,VLOOKUP($A1315,Liste!$A$10:$W$459,3,FALSE),\"\")","v":{"$error":"#N/A"}},{"$f":"IF($A1315<>0,VLOOKUP($A1315,Liste!$A$10:$W$459,4,FALSE),\"\")","v":{"$error":"#N/A"}},null,null,{"$f":"IF($A1315<>0,VLOOKUP($A1315,Liste!$A$10:$W$459,8,FALSE),\"\")","v":{"$error":"#N/A"}},null,"Par visio, audio conférence,,,,"]
[{"$f":"IF($A1315<>0,VLOOKUP($A1315,Liste!$A$10:$W$459,5,FALSE),\"\")","v":{"$error":"#N/A"}},null,null,null,null,null,"Signature/ Mandataire :"]
[{"$f":"IF($A1315<>0,VLOOKUP($A1315,Liste!$A$10:$W$459,6,FALSE),\"\")","v":{"$error":"#N/A"}},{"$f":"IF($A1315<>0,VLOOKUP($A1315,Liste!$A$10:$W$459,7,FALSE),\"\")","v":{"$error":"#N/A"}}]
[{"$f":" IF($A1315<>0, \"Lot \" & VLOOKUP($A1315,Liste!$A$10:$W$459,9,FALSE),\"\")","v":{"$error":"#N/A"}},{"$f":"IF($A1315<>0,VLOOKUP($A1315,Liste!$A$10:$W$459,10,FALSE),\"\")","v":{"$error":"#N/A"}},{"$f":"IF($A1315<>0,VLOOKUP($A1315,Liste!$A$10:$W$459,11,FALSE),\"\")","v":{"$error":"#N/A"}}]
[{"$f":"IF($A1315<>0,\"Lot \" & VLOOKUP($A1315,Liste!$A$10:$W$459,12,FALSE),\"\")","v":{"$error":"#N/A"}},{"$f":"IF($A1315<>0,VLOOKUP($A1315,Liste!$A$10:$W$459,13,FALSE),\"\")","v":{"$error":"#N/A"}},{"$f":"IF($A1315<>0,VLOOKUP($A1315,Liste!$A$10:$W$459,14,FALSE),\"\")","v":{"$error":"#N/A"}}]
[{"$f":"IF($A1315<>0,\"Lot \" & VLOOKUP($A1315,Liste!$A$10:$W$459,15,FALSE),\"\")","v":{"$error":"#N/A"}},{"$f":"IF($A1315<>0,VLOOKUP($A1315,Liste!$A$10:$W$459,16,FALSE),\"\")","v":{"$error":"#N/A"}},{"$f":"IF($A1315<>0,VLOOKUP($A1315,Liste!$A$10:$W$459,17,FALSE),\"\")","v":{"$error":"#N/A"}},null,null,null,"Arrivé à","après vote de la Résolution N°"]
[{"$f":"IF($A1315<>0,\"Lot \" & VLOOKUP($A1315,Liste!$A$10:$W$459,18,FALSE),\"\")","v":{"$error":"#N/A"}},0,{"$f":"IF($A1315<>0,VLOOKUP($A1315,Liste!$A$10:$W$459,19,FALSE),\"\")","v":{"$error":"#N/A"}},null,null,null,"Départ à","après vote de la Résolution N°"]
[{"$f":"IF($A1315<>0,\"Lot \" & VLOOKUP($A1315,Liste!$A$10:$W$459,21,FALSE),\"\")","v":{"$error":"#N/A"}},{"$f":"IF($A1315<>0,VLOOKUP($A1315,Liste!$A$10:$W$459,22,FALSE),\"\")","v":{"$error":"#N/A"}},{"$f":"IF($A1315<>0,VLOOKUP($A1315,Liste!$A$10:$W$459,23,FALSE),\"\")","v":{"$error":"#N/A"}},null,null,null,{"$f":"IF(OR(B1316=0,VLOOKUP(A1315,Liste!$A$10:'Liste'!$Z$459,26)<>\"\"),\"\", \"Voir autorisation messages électroniques\")","v":{"$error":"#N/A"}}]
[{"$f":"A1315+1","v":138},null,null,null,null,null,"Par correspondance reçu le "]
[{"$f":"IF($A1324<>0,VLOOKUP($A1324,Liste!$A$10:$W$459,3,FALSE),\"\")","v":{"$error":"#N/A"}},{"$f":"IF($A1324<>0,VLOOKUP($A1324,Liste!$A$10:$W$459,4,FALSE),\"\")","v":{"$error":"#N/A"}},null,null,{"$f":"IF($A1324<>0,VLOOKUP($A1324,Liste!$A$10:$W$459,8,FALSE),\"\")","v":{"$error":"#N/A"}},null,"Par visio, audio conférence,,,,"]
[{"$f":"IF($A1324<>0,VLOOKUP($A1324,Liste!$A$10:$W$459,5,FALSE),\"\")","v":{"$error":"#N/A"}},null,null,null,null,null,"Signature/ Mandataire :"]
[{"$f":"IF($A1324<>0,VLOOKUP($A1324,Liste!$A$10:$W$459,6,FALSE),\"\")","v":{"$error":"#N/A"}},{"$f":"IF($A1324<>0,VLOOKUP($A1324,Liste!$A$10:$W$459,7,FALSE),\"\")","v":{"$error":"#N/A"}}]
[{"$f":" IF($A1324<>0, \"Lot \" & VLOOKUP($A1324,Liste!$A$10:$W$459,9,FALSE),\"\")","v":{"$error":"#N/A"}},{"$f":"IF($A1324<>0,VLOOKUP($A1324,Liste!$A$10:$W$459,10,FALSE),\"\")","v":{"$error":"#N/A"}},{"$f":"IF($A1324<>0,VLOOKUP($A1324,Liste!$A$10:$W$459,11,FALSE),\"\")","v":{"$error":"#N/A"}}]
[{"$f":"IF($A1324<>0,\"Lot \" & VLOOKUP($A1324,Liste!$A$10:$W$459,12,FALSE),\"\")","v":{"$error":"#N/A"}},{"$f":"IF($A1324<>0,VLOOKUP($A1324,Liste!$A$10:$W$459,13,FALSE),\"\")","v":{"$error":"#N/A"}},{"$f":"IF($A1324<>0,VLOOKUP($A1324,Liste!$A$10:$W$459,14,FALSE),\"\")","v":{"$error":"#N/A"}}]
[{"$f":"IF($A1324<>0,\"Lot \" & VLOOKUP($A1324,Liste!$A$10:$W$459,15,FALSE),\"\")","v":{"$error":"#N/A"}},{"$f":"IF($A1324<>0,VLOOKUP($A1324,Liste!$A$10:$W$459,16,FALSE),\"\")","v":{"$error":"#N/A"}},{"$f":"IF($A1324<>0,VLOOKUP($A1324,Liste!$A$10:$W$459,17,FALSE),\"\")","v":{"$error":"#N/A"}},null,null,null,"Arrivé à","après vote de la Résolution N°"]
[{"$f":"IF($A1324<>0,\"Lot \" & VLOOKUP($A1324,Liste!$A$10:$W$459,18,FALSE),\"\")","v":{"$error":"#N/A"}},0,{"$f":"IF($A1324<>0,VLOOKUP($A1324,Liste!$A$10:$W$459,19,FALSE),\"\")","v":{"$error":"#N/A"}},null,null,null,"Départ à","après vote de la Résolution N°"]
[{"$f":"IF($A1324<>0,\"Lot \" & VLOOKUP($A1324,Liste!$A$10:$W$459,21,FALSE),\"\")","v":{"$error":"#N/A"}},{"$f":"IF($A1324<>0,VLOOKUP($A1324,Liste!$A$10:$W$459,22,FALSE),\"\")","v":{"$error":"#N/A"}},{"$f":"IF($A1324<>0,VLOOKUP($A1324,Liste!$A$10:$W$459,23,FALSE),\"\")","v":{"$error":"#N/A"}},null,null,null,{"$f":"IF(OR(B1325=0,VLOOKUP(A1324,Liste!$A$10:'Liste'!$Z$459,26)<>\"\"),\"\", \"Voir autorisation messages électroniques\")","v":{"$error":"#N/A"}}]
[{"$f":"A1324+1","v":139},null,null,null,null,null,"Par correspondance reçu le "]
[{"$f":"IF($A1333<>0,VLOOKUP($A1333,Liste!$A$10:$W$459,3,FALSE),\"\")","v":{"$error":"#N/A"}},{"$f":"IF($A1333<>0,VLOOKUP($A1333,Liste!$A$10:$W$459,4,FALSE),\"\")","v":{"$error":"#N/A"}},null,null,{"$f":"IF($A1333<>0,VLOOKUP($A1333,Liste!$A$10:$W$459,8,FALSE),\"\")","v":{"$error":"#N/A"}},null,"Par visio, audio conférence,,,,"]
[{"$f":"IF($A1333<>0,VLOOKUP($A1333,Liste!$A$10:$W$459,5,FALSE),\"\")","v":{"$error":"#N/A"}},null,null,null,null,null,"Signature/ Mandataire :"]
[{"$f":"IF($A1333<>0,VLOOKUP($A1333,Liste!$A$10:$W$459,6,FALSE),\"\")","v":{"$error":"#N/A"}},{"$f":"IF($A1333<>0,VLOOKUP($A1333,Liste!$A$10:$W$459,7,FALSE),\"\")","v":{"$error":"#N/A"}}]
[{"$f":" IF($A1333<>0, \"Lot \" & VLOOKUP($A1333,Liste!$A$10:$W$459,9,FALSE),\"\")","v":{"$error":"#N/A"}},{"$f":"IF($A1333<>0,VLOOKUP($A1333,Liste!$A$10:$W$459,10,FALSE),\"\")","v":{"$error":"#N/A"}},{"$f":"IF($A1333<>0,VLOOKUP($A1333,Liste!$A$10:$W$459,11,FALSE),\"\")","v":{"$error":"#N/A"}}]
[{"$f":"IF($A1333<>0,\"Lot \" & VLOOKUP($A1333,Liste!$A$10:$W$459,12,FALSE),\"\")","v":{"$error":"#N/A"}},{"$f":"IF($A1333<>0,VLOOKUP($A1333,Liste!$A$10:$W$459,13,FALSE),\"\")","v":{"$error":"#N/A"}},{"$f":"IF($A1333<>0,VLOOKUP($A1333,Liste!$A$10:$W$459,14,FALSE),\"\")","v":{"$error":"#N/A"}}]
[{"$f":"IF($A1333<>0,\"Lot \" & VLOOKUP($A1333,Liste!$A$10:$W$459,15,FALSE),\"\")","v":{"$error":"#N/A"}},{"$f":"IF($A1333<>0,VLOOKUP($A1333,Liste!$A$10:$W$459,16,FALSE),\"\")","v":{"$error":"#N/A"}},{"$f":"IF($A1333<>0,VLOOKUP($A1333,Liste!$A$10:$W$459,17,FALSE),\"\")","v":{"$error":"#N/A"}},null,null,null,"Arrivé à","après vote de la Résolution N°"]
[{"$f":"IF($A1333<>0,\"Lot \" & VLOOKUP($A1333,Liste!$A$10:$W$459,18,FALSE),\"\")","v":{"$error":"#N/A"}},0,{"$f":"IF($A1333<>0,VLOOKUP($A1333,Liste!$A$10:$W$459,19,FALSE),\"\")","v":{"$error":"#N/A"}},null,null,null,"Départ à","après vote de la Résolution N°"]
[{"$f":"IF($A1333<>0,\"Lot \" & VLOOKUP($A1333,Liste!$A$10:$W$459,21,FALSE),\"\")","v":{"$error":"#N/A"}},{"$f":"IF($A1333<>0,VLOOKUP($A1333,Liste!$A$10:$W$459,22,FALSE),\"\")","v":{"$error":"#N/A"}},{"$f":"IF($A1333<>0,VLOOKUP($A1333,Liste!$A$10:$W$459,23,FALSE),\"\")","v":{"$error":"#N/A"}},null,null,null,{"$f":"IF(OR(B1334=0,VLOOKUP(A1333,Liste!$A$10:'Liste'!$Z$459,26)<>\"\"),\"\", \"Voir autorisation messages électroniques\")","v":{"$error":"#N/A"}}]
[{"$f":"A1333+1","v":140},null,null,null,null,null,"Par correspondance reçu le "]
[{"$f":"IF($A1342<>0,VLOOKUP($A1342,Liste!$A$10:$W$459,3,FALSE),\"\")","v":{"$error":"#N/A"}},{"$f":"IF($A1342<>0,VLOOKUP($A1342,Liste!$A$10:$W$459,4,FALSE),\"\")","v":{"$error":"#N/A"}},null,null,{"$f":"IF($A1342<>0,VLOOKUP($A1342,Liste!$A$10:$W$459,8,FALSE),\"\")","v":{"$error":"#N/A"}},null,"Par visio, audio conférence,,,,"]
[{"$f":"IF($A1342<>0,VLOOKUP($A1342,Liste!$A$10:$W$459,5,FALSE),\"\")","v":{"$error":"#N/A"}},null,null,null,null,null,"Signature/ Mandataire :"]
[{"$f":"IF($A1342<>0,VLOOKUP($A1342,Liste!$A$10:$W$459,6,FALSE),\"\")","v":{"$error":"#N/A"}},{"$f":"IF($A1342<>0,VLOOKUP($A1342,Liste!$A$10:$W$459,7,FALSE),\"\")","v":{"$error":"#N/A"}}]
[{"$f":" IF($A1342<>0, \"Lot \" & VLOOKUP($A1342,Liste!$A$10:$W$459,9,FALSE),\"\")","v":{"$error":"#N/A"}},{"$f":"IF($A1342<>0,VLOOKUP($A1342,Liste!$A$10:$W$459,10,FALSE),\"\")","v":{"$error":"#N/A"}},{"$f":"IF($A1342<>0,VLOOKUP($A1342,Liste!$A$10:$W$459,11,FALSE),\"\")","v":{"$error":"#N/A"}}]
[{"$f":"IF($A1342<>0,\"Lot \" & VLOOKUP($A1342,Liste!$A$10:$W$459,12,FALSE),\"\")","v":{"$error":"#N/A"}},{"$f":"IF($A1342<>0,VLOOKUP($A1342,Liste!$A$10:$W$459,13,FALSE),\"\")","v":{"$error":"#N/A"}},{"$f":"IF($A1342<>0,VLOOKUP($A1342,Liste!$A$10:$W$459,14,FALSE),\"\")","v":{"$error":"#N/A"}}]
[{"$f":"IF($A1342<>0,\"Lot \" & VLOOKUP($A1342,Liste!$A$10:$W$459,15,FALSE),\"\")","v":{"$error":"#N/A"}},{"$f":"IF($A1342<>0,VLOOKUP($A1342,Liste!$A$10:$W$459,16,FALSE),\"\")","v":{"$error":"#N/A"}},{"$f":"IF($A1342<>0,VLOOKUP($A1342,Liste!$A$10:$W$459,17,FALSE),\"\")","v":{"$error":"#N/A"}},null,null,null,"Arrivé à","après vote de la Résolution N°"]
[{"$f":"IF($A1342<>0,\"Lot \" & VLOOKUP($A1342,Liste!$A$10:$W$459,18,FALSE),\"\")","v":{"$error":"#N/A"}},0,{"$f":"IF($A1342<>0,VLOOKUP($A1342,Liste!$A$10:$W$459,19,FALSE),\"\")","v":{"$error":"#N/A"}},null,null,null,"Départ à","après vote de la Résolution N°"]
[{"$f":"IF($A1342<>0,\"Lot \" & VLOOKUP($A1342,Liste!$A$10:$W$459,21,FALSE),\"\")","v":{"$error":"#N/A"}},{"$f":"IF($A1342<>0,VLOOKUP($A1342,Liste!$A$10:$W$459,22,FALSE),\"\")","v":{"$error":"#N/A"}},{"$f":"IF($A1342<>0,VLOOKUP($A1342,Liste!$A$10:$W$459,23,FALSE),\"\")","v":{"$error":"#N/A"}},null,null,null,{"$f":"IF(OR(B1343=0,VLOOKUP(A1342,Liste!$A$10:'Liste'!$Z$459,26)<>\"\"),\"\", \"Voir autorisation messages électroniques\")","v":{"$error":"#N/A"}}]
[{"$f":"A1342+1","v":141},null,null,null,null,null,"Par correspondance reçu le "]
[{"$f":"IF($A1351<>0,VLOOKUP($A1351,Liste!$A$10:$W$459,3,FALSE),\"\")","v":{"$error":"#N/A"}},{"$f":"IF($A1351<>0,VLOOKUP($A1351,Liste!$A$10:$W$459,4,FALSE),\"\")","v":{"$error":"#N/A"}},null,null,{"$f":"IF($A1351<>0,VLOOKUP($A1351,Liste!$A$10:$W$459,8,FALSE),\"\")","v":{"$error":"#N/A"}},null,"Par visio, audio conférence,,,,"]
[{"$f":"IF($A1351<>0,VLOOKUP($A1351,Liste!$A$10:$W$459,5,FALSE),\"\")","v":{"$error":"#N/A"}},null,null,null,null,null,"Signature/ Mandataire :"]
[{"$f":"IF($A1351<>0,VLOOKUP($A1351,Liste!$A$10:$W$459,6,FALSE),\"\")","v":{"$error":"#N/A"}},{"$f":"IF($A1351<>0,VLOOKUP($A1351,Liste!$A$10:$W$459,7,FALSE),\"\")","v":{"$error":"#N/A"}}]
[{"$f":" IF($A1351<>0, \"Lot \" & VLOOKUP($A1351,Liste!$A$10:$W$459,9,FALSE),\"\")","v":{"$error":"#N/A"}},{"$f":"IF($A1351<>0,VLOOKUP($A1351,Liste!$A$10:$W$459,10,FALSE),\"\")","v":{"$error":"#N/A"}},{"$f":"IF($A1351<>0,VLOOKUP($A1351,Liste!$A$10:$W$459,11,FALSE),\"\")","v":{"$error":"#N/A"}}]
[{"$f":"IF($A1351<>0,\"Lot \" & VLOOKUP($A1351,Liste!$A$10:$W$459,12,FALSE),\"\")","v":{"$error":"#N/A"}},{"$f":"IF($A1351<>0,VLOOKUP($A1351,Liste!$A$10:$W$459,13,FALSE),\"\")","v":{"$error":"#N/A"}},{"$f":"IF($A1351<>0,VLOOKUP($A1351,Liste!$A$10:$W$459,14,FALSE),\"\")","v":{"$error":"#N/A"}}]
[{"$f":"IF($A1351<>0,\"Lot \" & VLOOKUP($A1351,Liste!$A$10:$W$459,15,FALSE),\"\")","v":{"$error":"#N/A"}},{"$f":"IF($A1351<>0,VLOOKUP($A1351,Liste!$A$10:$W$459,16,FALSE),\"\")","v":{"$error":"#N/A"}},{"$f":"IF($A1351<>0,VLOOKUP($A1351,Liste!$A$10:$W$459,17,FALSE),\"\")","v":{"$error":"#N/A"}},null,null,null,"Arrivé à","après vote de la Résolution N°"]
[{"$f":"IF($A1351<>0,\"Lot \" & VLOOKUP($A1351,Liste!$A$10:$W$459,18,FALSE),\"\")","v":{"$error":"#N/A"}},0,{"$f":"IF($A1351<>0,VLOOKUP($A1351,Liste!$A$10:$W$459,19,FALSE),\"\")","v":{"$error":"#N/A"}},null,null,null,"Départ à","après vote de la Résolution N°"]
[{"$f":"IF($A1351<>0,\"Lot \" & VLOOKUP($A1351,Liste!$A$10:$W$459,21,FALSE),\"\")","v":{"$error":"#N/A"}},{"$f":"IF($A1351<>0,VLOOKUP($A1351,Liste!$A$10:$W$459,22,FALSE),\"\")","v":{"$error":"#N/A"}},{"$f":"IF($A1351<>0,VLOOKUP($A1351,Liste!$A$10:$W$459,23,FALSE),\"\")","v":{"$error":"#N/A"}},null,null,null,{"$f":"IF(OR(B1352=0,VLOOKUP(A1351,Liste!$A$10:'Liste'!$Z$459,26)<>\"\"),\"\", \"Voir autorisation messages électroniques\")","v":{"$error":"#N/A"}}]
[{"$f":"A1351+1","v":142},null,null,null,null,null,"Par correspondance reçu le "]
[{"$f":"IF($A1360<>0,VLOOKUP($A1360,Liste!$A$10:$W$459,3,FALSE),\"\")","v":{"$error":"#N/A"}},{"$f":"IF($A1360<>0,VLOOKUP($A1360,Liste!$A$10:$W$459,4,FALSE),\"\")","v":{"$error":"#N/A"}},null,null,{"$f":"IF($A1360<>0,VLOOKUP($A1360,Liste!$A$10:$W$459,8,FALSE),\"\")","v":{"$error":"#N/A"}},null,"Par visio, audio conférence,,,,"]
[{"$f":"IF($A1360<>0,VLOOKUP($A1360,Liste!$A$10:$W$459,5,FALSE),\"\")","v":{"$error":"#N/A"}},null,null,null,null,null,"Signature/ Mandataire :"]
[{"$f":"IF($A1360<>0,VLOOKUP($A1360,Liste!$A$10:$W$459,6,FALSE),\"\")","v":{"$error":"#N/A"}},{"$f":"IF($A1360<>0,VLOOKUP($A1360,Liste!$A$10:$W$459,7,FALSE),\"\")","v":{"$error":"#N/A"}}]
[{"$f":" IF($A1360<>0, \"Lot \" & VLOOKUP($A1360,Liste!$A$10:$W$459,9,FALSE),\"\")","v":{"$error":"#N/A"}},{"$f":"IF($A1360<>0,VLOOKUP($A1360,Liste!$A$10:$W$459,10,FALSE),\"\")","v":{"$error":"#N/A"}},{"$f":"IF($A1360<>0,VLOOKUP($A1360,Liste!$A$10:$W$459,11,FALSE),\"\")","v":{"$error":"#N/A"}}]
[{"$f":"IF($A1360<>0,\"Lot \" & VLOOKUP($A1360,Liste!$A$10:$W$459,12,FALSE),\"\")","v":{"$error":"#N/A"}},{"$f":"IF($A1360<>0,VLOOKUP($A1360,Liste!$A$10:$W$459,13,FALSE),\"\")","v":{"$error":"#N/A"}},{"$f":"IF($A1360<>0,VLOOKUP($A1360,Liste!$A$10:$W$459,14,FALSE),\"\")","v":{"$error":"#N/A"}}]
[{"$f":"IF($A1360<>0,\"Lot \" & VLOOKUP($A1360,Liste!$A$10:$W$459,15,FALSE),\"\")","v":{"$error":"#N/A"}},{"$f":"IF($A1360<>0,VLOOKUP($A1360,Liste!$A$10:$W$459,16,FALSE),\"\")","v":{"$error":"#N/A"}},{"$f":"IF($A1360<>0,VLOOKUP($A1360,Liste!$A$10:$W$459,17,FALSE),\"\")","v":{"$error":"#N/A"}},null,null,null,"Arrivé à","après vote de la Résolution N°"]
[{"$f":"IF($A1360<>0,\"Lot \" & VLOOKUP($A1360,Liste!$A$10:$W$459,18,FALSE),\"\")","v":{"$error":"#N/A"}},0,{"$f":"IF($A1360<>0,VLOOKUP($A1360,Liste!$A$10:$W$459,19,FALSE),\"\")","v":{"$error":"#N/A"}},null,null,null,"Départ à","après vote de la Résolution N°"]
[{"$f":"IF($A1360<>0,\"Lot \" & VLOOKUP($A1360,Liste!$A$10:$W$459,21,FALSE),\"\")","v":{"$error":"#N/A"}},{"$f":"IF($A1360<>0,VLOOKUP($A1360,Liste!$A$10:$W$459,22,FALSE),\"\")","v":{"$error":"#N/A"}},{"$f":"IF($A1360<>0,VLOOKUP($A1360,Liste!$A$10:$W$459,23,FALSE),\"\")","v":{"$error":"#N/A"}},null,null,null,{"$f":"IF(OR(B1361=0,VLOOKUP(A1360,Liste!$A$10:'Liste'!$Z$459,26)<>\"\"),\"\", \"Voir autorisation messages électroniques\")","v":{"$error":"#N/A"}}]
[{"$f":"A1360+1","v":143},null,null,null,null,null,"Par correspondance reçu le "]
[{"$f":"IF($A1369<>0,VLOOKUP($A1369,Liste!$A$10:$W$459,3,FALSE),\"\")","v":{"$error":"#N/A"}},{"$f":"IF($A1369<>0,VLOOKUP($A1369,Liste!$A$10:$W$459,4,FALSE),\"\")","v":{"$error":"#N/A"}},null,null,{"$f":"IF($A1369<>0,VLOOKUP($A1369,Liste!$A$10:$W$459,8,FALSE),\"\")","v":{"$error":"#N/A"}},null,"Par visio, audio conférence,,,,"]
[{"$f":"IF($A1369<>0,VLOOKUP($A1369,Liste!$A$10:$W$459,5,FALSE),\"\")","v":{"$error":"#N/A"}},null,null,null,null,null,"Signature/ Mandataire :"]
[{"$f":"IF($A1369<>0,VLOOKUP($A1369,Liste!$A$10:$W$459,6,FALSE),\"\")","v":{"$error":"#N/A"}},{"$f":"IF($A1369<>0,VLOOKUP($A1369,Liste!$A$10:$W$459,7,FALSE),\"\")","v":{"$error":"#N/A"}}]
[{"$f":" IF($A1369<>0, \"Lot \" & VLOOKUP($A1369,Liste!$A$10:$W$459,9,FALSE),\"\")","v":{"$error":"#N/A"}},{"$f":"IF($A1369<>0,VLOOKUP($A1369,Liste!$A$10:$W$459,10,FALSE),\"\")","v":{"$error":"#N/A"}},{"$f":"IF($A1369<>0,VLOOKUP($A1369,Liste!$A$10:$W$459,11,FALSE),\"\")","v":{"$error":"#N/A"}}]
[{"$f":"IF($A1369<>0,\"Lot \" & VLOOKUP($A1369,Liste!$A$10:$W$459,12,FALSE),\"\")","v":{"$error":"#N/A"}},{"$f":"IF($A1369<>0,VLOOKUP($A1369,Liste!$A$10:$W$459,13,FALSE),\"\")","v":{"$error":"#N/A"}},{"$f":"IF($A1369<>0,VLOOKUP($A1369,Liste!$A$10:$W$459,14,FALSE),\"\")","v":{"$error":"#N/A"}}]
[{"$f":"IF($A1369<>0,\"Lot \" & VLOOKUP($A1369,Liste!$A$10:$W$459,15,FALSE),\"\")","v":{"$error":"#N/A"}},{"$f":"IF($A1369<>0,VLOOKUP($A1369,Liste!$A$10:$W$459,16,FALSE),\"\")","v":{"$error":"#N/A"}},{"$f":"IF($A1369<>0,VLOOKUP($A1369,Liste!$A$10:$W$459,17,FALSE),\"\")","v":{"$error":"#N/A"}},null,null,null,"Arrivé à","après vote de la Résolution N°"]
[{"$f":"IF($A1369<>0,\"Lot \" & VLOOKUP($A1369,Liste!$A$10:$W$459,18,FALSE),\"\")","v":{"$error":"#N/A"}},0,{"$f":"IF($A1369<>0,VLOOKUP($A1369,Liste!$A$10:$W$459,19,FALSE),\"\")","v":{"$error":"#N/A"}},null,null,null,"Départ à","après vote de la Résolution N°"]
[{"$f":"IF($A1369<>0,\"Lot \" & VLOOKUP($A1369,Liste!$A$10:$W$459,21,FALSE),\"\")","v":{"$error":"#N/A"}},{"$f":"IF($A1369<>0,VLOOKUP($A1369,Liste!$A$10:$W$459,22,FALSE),\"\")","v":{"$error":"#N/A"}},{"$f":"IF($A1369<>0,VLOOKUP($A1369,Liste!$A$10:$W$459,23,FALSE),\"\")","v":{"$error":"#N/A"}},null,null,null,{"$f":"IF(OR(B1370=0,VLOOKUP(A1369,Liste!$A$10:'Liste'!$Z$459,26)<>\"\"),\"\", \"Voir autorisation messages électroniques\")","v":{"$error":"#N/A"}}]
[{"$f":"A1369+1","v":144},null,null,null,null,null,"Par correspondance reçu le "]
[{"$f":"IF($A1378<>0,VLOOKUP($A1378,Liste!$A$10:$W$459,3,FALSE),\"\")","v":{"$error":"#N/A"}},{"$f":"IF($A1378<>0,VLOOKUP($A1378,Liste!$A$10:$W$459,4,FALSE),\"\")","v":{"$error":"#N/A"}},null,null,{"$f":"IF($A1378<>0,VLOOKUP($A1378,Liste!$A$10:$W$459,8,FALSE),\"\")","v":{"$error":"#N/A"}},null,"Par visio, audio conférence,,,,"]
[{"$f":"IF($A1378<>0,VLOOKUP($A1378,Liste!$A$10:$W$459,5,FALSE),\"\")","v":{"$error":"#N/A"}},null,null,null,null,null,"Signature/ Mandataire :"]
[{"$f":"IF($A1378<>0,VLOOKUP($A1378,Liste!$A$10:$W$459,6,FALSE),\"\")","v":{"$error":"#N/A"}},{"$f":"IF($A1378<>0,VLOOKUP($A1378,Liste!$A$10:$W$459,7,FALSE),\"\")","v":{"$error":"#N/A"}}]
[{"$f":" IF($A1378<>0, \"Lot \" & VLOOKUP($A1378,Liste!$A$10:$W$459,9,FALSE),\"\")","v":{"$error":"#N/A"}},{"$f":"IF($A1378<>0,VLOOKUP($A1378,Liste!$A$10:$W$459,10,FALSE),\"\")","v":{"$error":"#N/A"}},{"$f":"IF($A1378<>0,VLOOKUP($A1378,Liste!$A$10:$W$459,11,FALSE),\"\")","v":{"$error":"#N/A"}}]
[{"$f":"IF($A1378<>0,\"Lot \" & VLOOKUP($A1378,Liste!$A$10:$W$459,12,FALSE),\"\")","v":{"$error":"#N/A"}},{"$f":"IF($A1378<>0,VLOOKUP($A1378,Liste!$A$10:$W$459,13,FALSE),\"\")","v":{"$error":"#N/A"}},{"$f":"IF($A1378<>0,VLOOKUP($A1378,Liste!$A$10:$W$459,14,FALSE),\"\")","v":{"$error":"#N/A"}}]
[{"$f":"IF($A1378<>0,\"Lot \" & VLOOKUP($A1378,Liste!$A$10:$W$459,15,FALSE),\"\")","v":{"$error":"#N/A"}},{"$f":"IF($A1378<>0,VLOOKUP($A1378,Liste!$A$10:$W$459,16,FALSE),\"\")","v":{"$error":"#N/A"}},{"$f":"IF($A1378<>0,VLOOKUP($A1378,Liste!$A$10:$W$459,17,FALSE),\"\")","v":{"$error":"#N/A"}},null,null,null,"Arrivé à","après vote de la Résolution N°"]
[{"$f":"IF($A1378<>0,\"Lot \" & VLOOKUP($A1378,Liste!$A$10:$W$459,18,FALSE),\"\")","v":{"$error":"#N/A"}},0,{"$f":"IF($A1378<>0,VLOOKUP($A1378,Liste!$A$10:$W$459,19,FALSE),\"\")","v":{"$error":"#N/A"}},null,null,null,"Départ à","après vote de la Résolution N°"]
[{"$f":"IF($A1378<>0,\"Lot \" & VLOOKUP($A1378,Liste!$A$10:$W$459,21,FALSE),\"\")","v":{"$error":"#N/A"}},{"$f":"IF($A1378<>0,VLOOKUP($A1378,Liste!$A$10:$W$459,22,FALSE),\"\")","v":{"$error":"#N/A"}},{"$f":"IF($A1378<>0,VLOOKUP($A1378,Liste!$A$10:$W$459,23,FALSE),\"\")","v":{"$error":"#N/A"}},null,null,null,{"$f":"IF(OR(B1379=0,VLOOKUP(A1378,Liste!$A$10:'Liste'!$Z$459,26)<>\"\"),\"\", \"Voir autorisation messages électroniques\")","v":{"$error":"#N/A"}}]
[]
[null,null,null,"A S S E M B L E E     G E N E R A L E",null,null,null,null,null,null,"Page",{"$f":"L1311+1","v":19}]
[null,null,null,null,null,"du","2019-12-20"]
[null,null,null,"Résidence Le Paradis; Rue de l' espoir 75016 PARIS"]
[]
[{"$f":"A1378+1","v":145},null,null,null,null,null,"Par correspondance reçu le "]
[{"$f":"IF($A1392<>0,VLOOKUP($A1392,Liste!$A$10:$W$459,3,FALSE),\"\")","v":{"$error":"#N/A"}},{"$f":"IF($A1392<>0,VLOOKUP($A1392,Liste!$A$10:$W$459,4,FALSE),\"\")","v":{"$error":"#N/A"}},null,null,{"$f":"IF($A1392<>0,VLOOKUP($A1392,Liste!$A$10:$W$459,8,FALSE),\"\")","v":{"$error":"#N/A"}},null,"Par visio, audio conférence,,,,"]
[{"$f":"IF($A1392<>0,VLOOKUP($A1392,Liste!$A$10:$W$459,5,FALSE),\"\")","v":{"$error":"#N/A"}},null,null,null,null,null,"Signature/ Mandataire :"]
[{"$f":"IF($A1392<>0,VLOOKUP($A1392,Liste!$A$10:$W$459,6,FALSE),\"\")","v":{"$error":"#N/A"}},{"$f":"IF($A1392<>0,VLOOKUP($A1392,Liste!$A$10:$W$459,7,FALSE),\"\")","v":{"$error":"#N/A"}}]
[{"$f":" IF($A1392<>0, \"Lot \" & VLOOKUP($A1392,Liste!$A$10:$W$459,9,FALSE),\"\")","v":{"$error":"#N/A"}},{"$f":"IF($A1392<>0,VLOOKUP($A1392,Liste!$A$10:$W$459,10,FALSE),\"\")","v":{"$error":"#N/A"}},{"$f":"IF($A1392<>0,VLOOKUP($A1392,Liste!$A$10:$W$459,11,FALSE),\"\")","v":{"$error":"#N/A"}}]
[{"$f":"IF($A1392<>0,\"Lot \" & VLOOKUP($A1392,Liste!$A$10:$W$459,12,FALSE),\"\")","v":{"$error":"#N/A"}},{"$f":"IF($A1392<>0,VLOOKUP($A1392,Liste!$A$10:$W$459,13,FALSE),\"\")","v":{"$error":"#N/A"}},{"$f":"IF($A1392<>0,VLOOKUP($A1392,Liste!$A$10:$W$459,14,FALSE),\"\")","v":{"$error":"#N/A"}}]
[{"$f":"IF($A1392<>0,\"Lot \" & VLOOKUP($A1392,Liste!$A$10:$W$459,15,FALSE),\"\")","v":{"$error":"#N/A"}},{"$f":"IF($A1392<>0,VLOOKUP($A1392,Liste!$A$10:$W$459,16,FALSE),\"\")","v":{"$error":"#N/A"}},{"$f":"IF($A1392<>0,VLOOKUP($A1392,Liste!$A$10:$W$459,17,FALSE),\"\")","v":{"$error":"#N/A"}},null,null,null,"Arrivé à","après vote de la Résolution N°"]
[{"$f":"IF($A1392<>0,\"Lot \" & VLOOKUP($A1392,Liste!$A$10:$W$459,18,FALSE),\"\")","v":{"$error":"#N/A"}},0,{"$f":"IF($A1392<>0,VLOOKUP($A1392,Liste!$A$10:$W$459,19,FALSE),\"\")","v":{"$error":"#N/A"}},null,null,null,"Départ à","après vote de la Résolution N°"]
[{"$f":"IF($A1392<>0,\"Lot \" & VLOOKUP($A1392,Liste!$A$10:$W$459,21,FALSE),\"\")","v":{"$error":"#N/A"}},{"$f":"IF($A1392<>0,VLOOKUP($A1392,Liste!$A$10:$W$459,22,FALSE),\"\")","v":{"$error":"#N/A"}},{"$f":"IF($A1392<>0,VLOOKUP($A1392,Liste!$A$10:$W$459,23,FALSE),\"\")","v":{"$error":"#N/A"}},null,null,null,{"$f":"IF(OR(B1393=0,VLOOKUP(A1392,Liste!$A$10:'Liste'!$Z$459,26)<>\"\"),\"\", \"Voir autorisation messages électroniques\")","v":{"$error":"#N/A"}}]
[{"$f":"A1392+1","v":146},null,null,null,null,null,"Par correspondance reçu le "]
[{"$f":"IF($A1401<>0,VLOOKUP($A1401,Liste!$A$10:$W$459,3,FALSE),\"\")","v":{"$error":"#N/A"}},{"$f":"IF($A1401<>0,VLOOKUP($A1401,Liste!$A$10:$W$459,4,FALSE),\"\")","v":{"$error":"#N/A"}},null,null,{"$f":"IF($A1401<>0,VLOOKUP($A1401,Liste!$A$10:$W$459,8,FALSE),\"\")","v":{"$error":"#N/A"}},null,"Par visio, audio conférence,,,,"]
[{"$f":"IF($A1401<>0,VLOOKUP($A1401,Liste!$A$10:$W$459,5,FALSE),\"\")","v":{"$error":"#N/A"}},null,null,null,null,null,"Signature/ Mandataire :"]
[{"$f":"IF($A1401<>0,VLOOKUP($A1401,Liste!$A$10:$W$459,6,FALSE),\"\")","v":{"$error":"#N/A"}},{"$f":"IF($A1401<>0,VLOOKUP($A1401,Liste!$A$10:$W$459,7,FALSE),\"\")","v":{"$error":"#N/A"}}]
[{"$f":" IF($A1401<>0, \"Lot \" & VLOOKUP($A1401,Liste!$A$10:$W$459,9,FALSE),\"\")","v":{"$error":"#N/A"}},{"$f":"IF($A1401<>0,VLOOKUP($A1401,Liste!$A$10:$W$459,10,FALSE),\"\")","v":{"$error":"#N/A"}},{"$f":"IF($A1401<>0,VLOOKUP($A1401,Liste!$A$10:$W$459,11,FALSE),\"\")","v":{"$error":"#N/A"}}]
[{"$f":"IF($A1401<>0,\"Lot \" & VLOOKUP($A1401,Liste!$A$10:$W$459,12,FALSE),\"\")","v":{"$error":"#N/A"}},{"$f":"IF($A1401<>0,VLOOKUP($A1401,Liste!$A$10:$W$459,13,FALSE),\"\")","v":{"$error":"#N/A"}},{"$f":"IF($A1401<>0,VLOOKUP($A1401,Liste!$A$10:$W$459,14,FALSE),\"\")","v":{"$error":"#N/A"}}]
[{"$f":"IF($A1401<>0,\"Lot \" & VLOOKUP($A1401,Liste!$A$10:$W$459,15,FALSE),\"\")","v":{"$error":"#N/A"}},{"$f":"IF($A1401<>0,VLOOKUP($A1401,Liste!$A$10:$W$459,16,FALSE),\"\")","v":{"$error":"#N/A"}},{"$f":"IF($A1401<>0,VLOOKUP($A1401,Liste!$A$10:$W$459,17,FALSE),\"\")","v":{"$error":"#N/A"}},null,null,null,"Arrivé à","après vote de la Résolution N°"]
[{"$f":"IF($A1401<>0,\"Lot \" & VLOOKUP($A1401,Liste!$A$10:$W$459,18,FALSE),\"\")","v":{"$error":"#N/A"}},0,{"$f":"IF($A1401<>0,VLOOKUP($A1401,Liste!$A$10:$W$459,19,FALSE),\"\")","v":{"$error":"#N/A"}},null,null,null,"Départ à","après vote de la Résolution N°"]
[{"$f":"IF($A1401<>0,\"Lot \" & VLOOKUP($A1401,Liste!$A$10:$W$459,21,FALSE),\"\")","v":{"$error":"#N/A"}},{"$f":"IF($A1401<>0,VLOOKUP($A1401,Liste!$A$10:$W$459,22,FALSE),\"\")","v":{"$error":"#N/A"}},{"$f":"IF($A1401<>0,VLOOKUP($A1401,Liste!$A$10:$W$459,23,FALSE),\"\")","v":{"$error":"#N/A"}},null,null,null,{"$f":"IF(OR(B1402=0,VLOOKUP(A1401,Liste!$A$10:'Liste'!$Z$459,26)<>\"\"),\"\", \"Voir autorisation messages électroniques\")","v":{"$error":"#N/A"}}]
[{"$f":"A1401+1","v":147},null,null,null,null,null,"Par correspondance reçu le "]
[{"$f":"IF($A1410<>0,VLOOKUP($A1410,Liste!$A$10:$W$459,3,FALSE),\"\")","v":{"$error":"#N/A"}},{"$f":"IF($A1410<>0,VLOOKUP($A1410,Liste!$A$10:$W$459,4,FALSE),\"\")","v":{"$error":"#N/A"}},null,null,{"$f":"IF($A1410<>0,VLOOKUP($A1410,Liste!$A$10:$W$459,8,FALSE),\"\")","v":{"$error":"#N/A"}},null,"Par visio, audio conférence,,,,"]
[{"$f":"IF($A1410<>0,VLOOKUP($A1410,Liste!$A$10:$W$459,5,FALSE),\"\")","v":{"$error":"#N/A"}},null,null,null,null,null,"Signature/ Mandataire :"]
[{"$f":"IF($A1410<>0,VLOOKUP($A1410,Liste!$A$10:$W$459,6,FALSE),\"\")","v":{"$error":"#N/A"}},{"$f":"IF($A1410<>0,VLOOKUP($A1410,Liste!$A$10:$W$459,7,FALSE),\"\")","v":{"$error":"#N/A"}}]
[{"$f":" IF($A1410<>0, \"Lot \" & VLOOKUP($A1410,Liste!$A$10:$W$459,9,FALSE),\"\")","v":{"$error":"#N/A"}},{"$f":"IF($A1410<>0,VLOOKUP($A1410,Liste!$A$10:$W$459,10,FALSE),\"\")","v":{"$error":"#N/A"}},{"$f":"IF($A1410<>0,VLOOKUP($A1410,Liste!$A$10:$W$459,11,FALSE),\"\")","v":{"$error":"#N/A"}}]
[{"$f":"IF($A1410<>0,\"Lot \" & VLOOKUP($A1410,Liste!$A$10:$W$459,12,FALSE),\"\")","v":{"$error":"#N/A"}},{"$f":"IF($A1410<>0,VLOOKUP($A1410,Liste!$A$10:$W$459,13,FALSE),\"\")","v":{"$error":"#N/A"}},{"$f":"IF($A1410<>0,VLOOKUP($A1410,Liste!$A$10:$W$459,14,FALSE),\"\")","v":{"$error":"#N/A"}}]
[{"$f":"IF($A1410<>0,\"Lot \" & VLOOKUP($A1410,Liste!$A$10:$W$459,15,FALSE),\"\")","v":{"$error":"#N/A"}},{"$f":"IF($A1410<>0,VLOOKUP($A1410,Liste!$A$10:$W$459,16,FALSE),\"\")","v":{"$error":"#N/A"}},{"$f":"IF($A1410<>0,VLOOKUP($A1410,Liste!$A$10:$W$459,17,FALSE),\"\")","v":{"$error":"#N/A"}},null,null,null,"Arrivé à","après vote de la Résolution N°"]
[{"$f":"IF($A1410<>0,\"Lot \" & VLOOKUP($A1410,Liste!$A$10:$W$459,18,FALSE),\"\")","v":{"$error":"#N/A"}},0,{"$f":"IF($A1410<>0,VLOOKUP($A1410,Liste!$A$10:$W$459,19,FALSE),\"\")","v":{"$error":"#N/A"}},null,null,null,"Départ à","après vote de la Résolution N°"]
[{"$f":"IF($A1410<>0,\"Lot \" & VLOOKUP($A1410,Liste!$A$10:$W$459,21,FALSE),\"\")","v":{"$error":"#N/A"}},{"$f":"IF($A1410<>0,VLOOKUP($A1410,Liste!$A$10:$W$459,22,FALSE),\"\")","v":{"$error":"#N/A"}},{"$f":"IF($A1410<>0,VLOOKUP($A1410,Liste!$A$10:$W$459,23,FALSE),\"\")","v":{"$error":"#N/A"}},null,null,null,{"$f":"IF(OR(B1411=0,VLOOKUP(A1410,Liste!$A$10:'Liste'!$Z$459,26)<>\"\"),\"\", \"Voir autorisation messages électroniques\")","v":{"$error":"#N/A"}}]
[{"$f":"A1410+1","v":148},null,null,null,null,null,"Par correspondance reçu le "]
[{"$f":"IF($A1419<>0,VLOOKUP($A1419,Liste!$A$10:$W$459,3,FALSE),\"\")","v":{"$error":"#N/A"}},{"$f":"IF($A1419<>0,VLOOKUP($A1419,Liste!$A$10:$W$459,4,FALSE),\"\")","v":{"$error":"#N/A"}},null,null,{"$f":"IF($A1419<>0,VLOOKUP($A1419,Liste!$A$10:$W$459,8,FALSE),\"\")","v":{"$error":"#N/A"}},null,"Par visio, audio conférence,,,,"]
[{"$f":"IF($A1419<>0,VLOOKUP($A1419,Liste!$A$10:$W$459,5,FALSE),\"\")","v":{"$error":"#N/A"}},null,null,null,null,null,"Signature/ Mandataire :"]
[{"$f":"IF($A1419<>0,VLOOKUP($A1419,Liste!$A$10:$W$459,6,FALSE),\"\")","v":{"$error":"#N/A"}},{"$f":"IF($A1419<>0,VLOOKUP($A1419,Liste!$A$10:$W$459,7,FALSE),\"\")","v":{"$error":"#N/A"}}]
[{"$f":" IF($A1419<>0, \"Lot \" & VLOOKUP($A1419,Liste!$A$10:$W$459,9,FALSE),\"\")","v":{"$error":"#N/A"}},{"$f":"IF($A1419<>0,VLOOKUP($A1419,Liste!$A$10:$W$459,10,FALSE),\"\")","v":{"$error":"#N/A"}},{"$f":"IF($A1419<>0,VLOOKUP($A1419,Liste!$A$10:$W$459,11,FALSE),\"\")","v":{"$error":"#N/A"}}]
[{"$f":"IF($A1419<>0,\"Lot \" & VLOOKUP($A1419,Liste!$A$10:$W$459,12,FALSE),\"\")","v":{"$error":"#N/A"}},{"$f":"IF($A1419<>0,VLOOKUP($A1419,Liste!$A$10:$W$459,13,FALSE),\"\")","v":{"$error":"#N/A"}},{"$f":"IF($A1419<>0,VLOOKUP($A1419,Liste!$A$10:$W$459,14,FALSE),\"\")","v":{"$error":"#N/A"}}]
[{"$f":"IF($A1419<>0,\"Lot \" & VLOOKUP($A1419,Liste!$A$10:$W$459,15,FALSE),\"\")","v":{"$error":"#N/A"}},{"$f":"IF($A1419<>0,VLOOKUP($A1419,Liste!$A$10:$W$459,16,FALSE),\"\")","v":{"$error":"#N/A"}},{"$f":"IF($A1419<>0,VLOOKUP($A1419,Liste!$A$10:$W$459,17,FALSE),\"\")","v":{"$error":"#N/A"}},null,null,null,"Arrivé à","après vote de la Résolution N°"]
[{"$f":"IF($A1419<>0,\"Lot \" & VLOOKUP($A1419,Liste!$A$10:$W$459,18,FALSE),\"\")","v":{"$error":"#N/A"}},0,{"$f":"IF($A1419<>0,VLOOKUP($A1419,Liste!$A$10:$W$459,19,FALSE),\"\")","v":{"$error":"#N/A"}},null,null,null,"Départ à","après vote de la Résolution N°"]
[{"$f":"IF($A1419<>0,\"Lot \" & VLOOKUP($A1419,Liste!$A$10:$W$459,21,FALSE),\"\")","v":{"$error":"#N/A"}},{"$f":"IF($A1419<>0,VLOOKUP($A1419,Liste!$A$10:$W$459,22,FALSE),\"\")","v":{"$error":"#N/A"}},{"$f":"IF($A1419<>0,VLOOKUP($A1419,Liste!$A$10:$W$459,23,FALSE),\"\")","v":{"$error":"#N/A"}},null,null,null,{"$f":"IF(OR(B1420=0,VLOOKUP(A1419,Liste!$A$10:'Liste'!$Z$459,26)<>\"\"),\"\", \"Voir autorisation messages électroniques\")","v":{"$error":"#N/A"}}]
[{"$f":"A1419+1","v":149},null,null,null,null,null,"Par correspondance reçu le "]
[{"$f":"IF($A1428<>0,VLOOKUP($A1428,Liste!$A$10:$W$459,3,FALSE),\"\")","v":{"$error":"#N/A"}},{"$f":"IF($A1428<>0,VLOOKUP($A1428,Liste!$A$10:$W$459,4,FALSE),\"\")","v":{"$error":"#N/A"}},null,null,{"$f":"IF($A1428<>0,VLOOKUP($A1428,Liste!$A$10:$W$459,8,FALSE),\"\")","v":{"$error":"#N/A"}},null,"Par visio, audio conférence,,,,"]
[{"$f":"IF($A1428<>0,VLOOKUP($A1428,Liste!$A$10:$W$459,5,FALSE),\"\")","v":{"$error":"#N/A"}},null,null,null,null,null,"Signature/ Mandataire :"]
[{"$f":"IF($A1428<>0,VLOOKUP($A1428,Liste!$A$10:$W$459,6,FALSE),\"\")","v":{"$error":"#N/A"}},{"$f":"IF($A1428<>0,VLOOKUP($A1428,Liste!$A$10:$W$459,7,FALSE),\"\")","v":{"$error":"#N/A"}}]
[{"$f":" IF($A1428<>0, \"Lot \" & VLOOKUP($A1428,Liste!$A$10:$W$459,9,FALSE),\"\")","v":{"$error":"#N/A"}},{"$f":"IF($A1428<>0,VLOOKUP($A1428,Liste!$A$10:$W$459,10,FALSE),\"\")","v":{"$error":"#N/A"}},{"$f":"IF($A1428<>0,VLOOKUP($A1428,Liste!$A$10:$W$459,11,FALSE),\"\")","v":{"$error":"#N/A"}}]
[{"$f":"IF($A1428<>0,\"Lot \" & VLOOKUP($A1428,Liste!$A$10:$W$459,12,FALSE),\"\")","v":{"$error":"#N/A"}},{"$f":"IF($A1428<>0,VLOOKUP($A1428,Liste!$A$10:$W$459,13,FALSE),\"\")","v":{"$error":"#N/A"}},{"$f":"IF($A1428<>0,VLOOKUP($A1428,Liste!$A$10:$W$459,14,FALSE),\"\")","v":{"$error":"#N/A"}}]
[{"$f":"IF($A1428<>0,\"Lot \" & VLOOKUP($A1428,Liste!$A$10:$W$459,15,FALSE),\"\")","v":{"$error":"#N/A"}},{"$f":"IF($A1428<>0,VLOOKUP($A1428,Liste!$A$10:$W$459,16,FALSE),\"\")","v":{"$error":"#N/A"}},{"$f":"IF($A1428<>0,VLOOKUP($A1428,Liste!$A$10:$W$459,17,FALSE),\"\")","v":{"$error":"#N/A"}},null,null,null,"Arrivé à","après vote de la Résolution N°"]
[{"$f":"IF($A1428<>0,\"Lot \" & VLOOKUP($A1428,Liste!$A$10:$W$459,18,FALSE),\"\")","v":{"$error":"#N/A"}},0,{"$f":"IF($A1428<>0,VLOOKUP($A1428,Liste!$A$10:$W$459,19,FALSE),\"\")","v":{"$error":"#N/A"}},null,null,null,"Départ à","après vote de la Résolution N°"]
[{"$f":"IF($A1428<>0,\"Lot \" & VLOOKUP($A1428,Liste!$A$10:$W$459,21,FALSE),\"\")","v":{"$error":"#N/A"}},{"$f":"IF($A1428<>0,VLOOKUP($A1428,Liste!$A$10:$W$459,22,FALSE),\"\")","v":{"$error":"#N/A"}},{"$f":"IF($A1428<>0,VLOOKUP($A1428,Liste!$A$10:$W$459,23,FALSE),\"\")","v":{"$error":"#N/A"}},null,null,null,{"$f":"IF(OR(B1429=0,VLOOKUP(A1428,Liste!$A$10:'Liste'!$Z$459,26)<>\"\"),\"\", \"Voir autorisation messages électroniques\")","v":{"$error":"#N/A"}}]
[{"$f":"A1428+1","v":150},null,null,null,null,null,"Par correspondance reçu le "]
[{"$f":"IF($A1437<>0,VLOOKUP($A1437,Liste!$A$10:$W$459,3,FALSE),\"\")","v":{"$error":"#N/A"}},{"$f":"IF($A1437<>0,VLOOKUP($A1437,Liste!$A$10:$W$459,4,FALSE),\"\")","v":{"$error":"#N/A"}},null,null,{"$f":"IF($A1437<>0,VLOOKUP($A1437,Liste!$A$10:$W$459,8,FALSE),\"\")","v":{"$error":"#N/A"}},null,"Par visio, audio conférence,,,,"]
[{"$f":"IF($A1437<>0,VLOOKUP($A1437,Liste!$A$10:$W$459,5,FALSE),\"\")","v":{"$error":"#N/A"}},null,null,null,null,null,"Signature/ Mandataire :"]
[{"$f":"IF($A1437<>0,VLOOKUP($A1437,Liste!$A$10:$W$459,6,FALSE),\"\")","v":{"$error":"#N/A"}},{"$f":"IF($A1437<>0,VLOOKUP($A1437,Liste!$A$10:$W$459,7,FALSE),\"\")","v":{"$error":"#N/A"}}]
[{"$f":" IF($A1437<>0, \"Lot \" & VLOOKUP($A1437,Liste!$A$10:$W$459,9,FALSE),\"\")","v":{"$error":"#N/A"}},{"$f":"IF($A1437<>0,VLOOKUP($A1437,Liste!$A$10:$W$459,10,FALSE),\"\")","v":{"$error":"#N/A"}},{"$f":"IF($A1437<>0,VLOOKUP($A1437,Liste!$A$10:$W$459,11,FALSE),\"\")","v":{"$error":"#N/A"}}]
[{"$f":"IF($A1437<>0,\"Lot \" & VLOOKUP($A1437,Liste!$A$10:$W$459,12,FALSE),\"\")","v":{"$error":"#N/A"}},{"$f":"IF($A1437<>0,VLOOKUP($A1437,Liste!$A$10:$W$459,13,FALSE),\"\")","v":{"$error":"#N/A"}},{"$f":"IF($A1437<>0,VLOOKUP($A1437,Liste!$A$10:$W$459,14,FALSE),\"\")","v":{"$error":"#N/A"}}]
[{"$f":"IF($A1437<>0,\"Lot \" & VLOOKUP($A1437,Liste!$A$10:$W$459,15,FALSE),\"\")","v":{"$error":"#N/A"}},{"$f":"IF($A1437<>0,VLOOKUP($A1437,Liste!$A$10:$W$459,16,FALSE),\"\")","v":{"$error":"#N/A"}},{"$f":"IF($A1437<>0,VLOOKUP($A1437,Liste!$A$10:$W$459,17,FALSE),\"\")","v":{"$error":"#N/A"}},null,null,null,"Arrivé à","après vote de la Résolution N°"]
[{"$f":"IF($A1437<>0,\"Lot \" & VLOOKUP($A1437,Liste!$A$10:$W$459,18,FALSE),\"\")","v":{"$error":"#N/A"}},0,{"$f":"IF($A1437<>0,VLOOKUP($A1437,Liste!$A$10:$W$459,19,FALSE),\"\")","v":{"$error":"#N/A"}},null,null,null,"Départ à","après vote de la Résolution N°"]
[{"$f":"IF($A1437<>0,\"Lot \" & VLOOKUP($A1437,Liste!$A$10:$W$459,21,FALSE),\"\")","v":{"$error":"#N/A"}},{"$f":"IF($A1437<>0,VLOOKUP($A1437,Liste!$A$10:$W$459,22,FALSE),\"\")","v":{"$error":"#N/A"}},{"$f":"IF($A1437<>0,VLOOKUP($A1437,Liste!$A$10:$W$459,23,FALSE),\"\")","v":{"$error":"#N/A"}},null,null,null,{"$f":"IF(OR(B1438=0,VLOOKUP(A1437,Liste!$A$10:'Liste'!$Z$459,26)<>\"\"),\"\", \"Voir autorisation messages électroniques\")","v":{"$error":"#N/A"}}]

{"sheet":"VPC","index":2,"n_rows":3011,"n_cols":12,"rows_kept":3011,"cut":false,"hidden":false,"merged":[]}
[]
[null,null,null,null,null,null,null,null,null,null,null,"VOTES PAR CORRESPONDANCE."]
[null,null,null,null,null,null,null,null,null,null,null,"TRI PAR QUESTION"]
[null,null,null,null,null,null,null,null,null,null,null,"Collage spécial des valeurs dans feuilles de votes"]
["Question","Objet","CLES","N°Copros","NOMS","POUR","CONTRE","ABBST","VERIF"]
[1,{"$f":"IF(A6>0,VLOOKUP(A6,Liste!$B$179                         : Liste!$C$189,2),\"\")","v":"Charges générales   "},1,15,{"$f":"IF(D6>0,VLOOKUP(D6,Liste!$A$10:$D$163,4),\"\")","v":"BESSON Gabriel"},null,null,1,{"$f":"IF(AND(D6>0,F6+G6+H6=0),\"EN ATTENTE\",IF(F6+G6+H6>1,\"ERREUR\",\"\"))","v":""}]
[2,{"$f":"IF(A7>0,VLOOKUP(A7,Liste!$B$179                         : Liste!$C$189,2),\"\")","v":"Charges Bat,A"},2,15,{"$f":"IF(D7>0,VLOOKUP(D7,Liste!$A$10:$D$163,4),\"\")","v":"BESSON Gabriel"},null,null,1,""]
[3,{"$f":"IF(A8>0,VLOOKUP(A8,Liste!$B$179                         : Liste!$C$189,2),\"\")","v":"Chardes Bât,B"},3,15,{"$f":"IF(D8>0,VLOOKUP(D8,Liste!$A$10:$D$163,4),\"\")","v":"BESSON Gabriel"},null,null,1,""]
[4,{"$f":"IF(A9>0,VLOOKUP(A9,Liste!$B$179                         : Liste!$C$189,2),\"\")","v":"Ch,4"},1,15,{"$f":"IF(D9>0,VLOOKUP(D9,Liste!$A$10:$D$163,4),\"\")","v":"BESSON Gabriel"},null,null,1,""]
[5,{"$f":"IF(A10>0,VLOOKUP(A10,Liste!$B$179                         : Liste!$C$189,2),\"\")","v":"Ch,5"},1,15,{"$f":"IF(D10>0,VLOOKUP(D10,Liste!$A$10:$D$163,4),\"\")","v":"BESSON Gabriel"},null,null,1,""]
[1,{"$f":"IF(A11>0,VLOOKUP(A11,Liste!$B$179                         : Liste!$C$189,2),\"\")","v":"Charges générales   "},1,14,{"$f":"IF(D11>0,VLOOKUP(D11,Liste!$A$10:$D$163,4),\"\")","v":"BERLIER David"},1,null,null,""]
[2,{"$f":"IF(A12>0,VLOOKUP(A12,Liste!$B$179                         : Liste!$C$189,2),\"\")","v":"Charges Bat,A"},2,14,{"$f":"IF(D12>0,VLOOKUP(D12,Liste!$A$10:$D$163,4),\"\")","v":"BERLIER David"},1,null,null,""]
[3,{"$f":"IF(A13>0,VLOOKUP(A13,Liste!$B$179                         : Liste!$C$189,2),\"\")","v":"Chardes Bât,B"},3,14,{"$f":"IF(D13>0,VLOOKUP(D13,Liste!$A$10:$D$163,4),\"\")","v":"BERLIER David"},1,null,null,""]
[4,{"$f":"IF(A14>0,VLOOKUP(A14,Liste!$B$179                         : Liste!$C$189,2),\"\")","v":"Ch,4"},1,14,{"$f":"IF(D14>0,VLOOKUP(D14,Liste!$A$10:$D$163,4),\"\")","v":"BERLIER David"},1,null,null,""]
[5,{"$f":"IF(A15>0,VLOOKUP(A15,Liste!$B$179                         : Liste!$C$189,2),\"\")","v":"Ch,5"},1,14,{"$f":"IF(D15>0,VLOOKUP(D15,Liste!$A$10:$D$163,4),\"\")","v":"BERLIER David"},1,null,null,""]
[1,{"$f":"IF(A16>0,VLOOKUP(A16,Liste!$B$179                         : Liste!$C$189,2),\"\")","v":"Charges générales   "},1,18,{"$f":"IF(D16>0,VLOOKUP(D16,Liste!$A$10:$D$163,4),\"\")","v":"DI JORIO Marcel"},null,null,1,""]
[2,{"$f":"IF(A17>0,VLOOKUP(A17,Liste!$B$179                         : Liste!$C$189,2),\"\")","v":"Charges Bat,A"},2,18,{"$f":"IF(D17>0,VLOOKUP(D17,Liste!$A$10:$D$163,4),\"\")","v":"DI JORIO Marcel"},null,null,1,""]
[3,{"$f":"IF(A18>0,VLOOKUP(A18,Liste!$B$179                         : Liste!$C$189,2),\"\")","v":"Chardes Bât,B"},3,18,{"$f":"IF(D18>0,VLOOKUP(D18,Liste!$A$10:$D$163,4),\"\")","v":"DI JORIO Marcel"},null,null,1,""]
[4,{"$f":"IF(A19>0,VLOOKUP(A19,Liste!$B$179                         : Liste!$C$189,2),\"\")","v":"Ch,4"},1,18,{"$f":"IF(D19>0,VLOOKUP(D19,Liste!$A$10:$D$163,4),\"\")","v":"DI JORIO Marcel"},null,null,1,""]
[5,{"$f":"IF(A20>0,VLOOKUP(A20,Liste!$B$179                         : Liste!$C$189,2),\"\")","v":"Ch,5"},1,18,"DI JORIO Marcel",null,null,1,""]
[1,{"$f":"IF(A21>0,VLOOKUP(A21,Liste!$B$179                         : Liste!$C$189,2),\"\")","v":"Charges générales   "},1,26,{"$f":"IF(D21>0,VLOOKUP(D21,Liste!$A$10:$D$163,4),\"\")","v":"GARCIA Christophe"},1,null,null,""]
[2,{"$f":"IF(A22>0,VLOOKUP(A22,Liste!$B$179                         : Liste!$C$189,2),\"\")","v":"Charges Bat,A"},2,26,{"$f":"IF(D22>0,VLOOKUP(D22,Liste!$A$10:$D$163,4),\"\")","v":"GARCIA Christophe"},1,null,null,""]
[3,{"$f":"IF(A23>0,VLOOKUP(A23,Liste!$B$179                         : Liste!$C$189,2),\"\")","v":"Chardes Bât,B"},3,26,{"$f":"IF(D23>0,VLOOKUP(D23,Liste!$A$10:$D$163,4),\"\")","v":"GARCIA Christophe"},1,null,null,""]
[4,{"$f":"IF(A24>0,VLOOKUP(A24,Liste!$B$179                         : Liste!$C$189,2),\"\")","v":"Ch,4"},1,26,{"$f":"IF(D24>0,VLOOKUP(D24,Liste!$A$10:$D$163,4),\"\")","v":"GARCIA Christophe"},1,null,null,""]
[5,{"$f":"IF(A25>0,VLOOKUP(A25,Liste!$B$179                         : Liste!$C$189,2),\"\")","v":"Ch,5"},3,26,{"$f":"IF(D25>0,VLOOKUP(D25,Liste!$A$10:$D$163,4),\"\")","v":"GARCIA Christophe"},1,null,null,""]
[1,{"$f":"IF(A26>0,VLOOKUP(A26,Liste!$B$179                         : Liste!$C$189,2),\"\")","v":"Charges générales   "},1,4,{"$f":"IF(D26>0,VLOOKUP(D26,Liste!$A$10:$D$163,4),\"\")","v":"BANCHET Joseph"},null,1,null,""]
[2,{"$f":"IF(A27>0,VLOOKUP(A27,Liste!$B$179                         : Liste!$C$189,2),\"\")","v":"Charges Bat,A"},2,4,{"$f":"IF(D27>0,VLOOKUP(D27,Liste!$A$10:$D$163,4),\"\")","v":"BANCHET Joseph"},null,1,null,""]
[3,{"$f":"IF(A28>0,VLOOKUP(A28,Liste!$B$179                         : Liste!$C$189,2),\"\")","v":"Chardes Bât,B"},3,4,{"$f":"IF(D28>0,VLOOKUP(D28,Liste!$A$10:$D$163,4),\"\")","v":"BANCHET Joseph"},null,1,null,""]
[4,{"$f":"IF(A29>0,VLOOKUP(A29,Liste!$B$179                         : Liste!$C$189,2),\"\")","v":"Ch,4"},1,4,{"$f":"IF(D29>0,VLOOKUP(D29,Liste!$A$10:$D$163,4),\"\")","v":"BANCHET Joseph"},null,1,null,""]
[5,{"$f":"IF(A30>0,VLOOKUP(A30,Liste!$B$179                         : Liste!$C$189,2),\"\")","v":"Ch,5"},1,4,{"$f":"IF(D30>0,VLOOKUP(D30,Liste!$A$10:$D$163,4),\"\")","v":"BANCHET Joseph"},null,1,null,""]
[1,{"$f":"IF(A31>0,VLOOKUP(A31,Liste!$B$179                         : Liste!$C$189,2),\"\")","v":"Charges générales   "},1,2,{"$f":"IF(D31>0,VLOOKUP(D31,Liste!$A$10:$D$163,4),\"\")","v":"ANNINOS Henri"},null,null,1,""]
[2,{"$f":"IF(A32>0,VLOOKUP(A32,Liste!$B$179                         : Liste!$C$189,2),\"\")","v":"Charges Bat,A"},2,2,{"$f":"IF(D32>0,VLOOKUP(D32,Liste!$A$10:$D$163,4),\"\")","v":"ANNINOS Henri"},null,null,1,""]
[3,{"$f":"IF(A33>0,VLOOKUP(A33,Liste!$B$179                         : Liste!$C$189,2),\"\")","v":"Chardes Bât,B"},3,2,{"$f":"IF(D33>0,VLOOKUP(D33,Liste!$A$10:$D$163,4),\"\")","v":"ANNINOS Henri"},null,null,1,""]
[4,{"$f":"IF(A34>0,VLOOKUP(A34,Liste!$B$179                         : Liste!$C$189,2),\"\")","v":"Ch,4"},1,2,{"$f":"IF(D34>0,VLOOKUP(D34,Liste!$A$10:$D$163,4),\"\")","v":"ANNINOS Henri"},null,null,1,""]
[5,{"$f":"IF(A35>0,VLOOKUP(A35,Liste!$B$179                         : Liste!$C$189,2),\"\")","v":"Ch,5"},1,2,{"$f":"IF(D35>0,VLOOKUP(D35,Liste!$A$10:$D$163,4),\"\")","v":"ANNINOS Henri"},null,null,1,""]
[1,{"$f":"IF(A36>0,VLOOKUP(A36,Liste!$B$179                         : Liste!$C$189,2),\"\")","v":"Charges générales   "},1,3,{"$f":"IF(D36>0,VLOOKUP(D36,Liste!$A$10:$D$163,4),\"\")","v":"BALDACCHINO Laurence"},1]
[2,{"$f":"IF(A37>0,VLOOKUP(A37,Liste!$B$179                         : Liste!$C$189,2),\"\")","v":"Charges Bat,A"},2,3,{"$f":"IF(D37>0,VLOOKUP(D37,Liste!$A$10:$D$163,4),\"\")","v":"BALDACCHINO Laurence"},1,null,null,""]
[3,{"$f":"IF(A38>0,VLOOKUP(A38,Liste!$B$179                         : Liste!$C$189,2),\"\")","v":"Chardes Bât,B"},3,3,{"$f":"IF(D38>0,VLOOKUP(D38,Liste!$A$10:$D$163,4),\"\")","v":"BALDACCHINO Laurence"},1,null,null,""]
[4,{"$f":"IF(A39>0,VLOOKUP(A39,Liste!$B$179                         : Liste!$C$189,2),\"\")","v":"Ch,4"},1,3,{"$f":"IF(D39>0,VLOOKUP(D39,Liste!$A$10:$D$163,4),\"\")","v":"BALDACCHINO Laurence"},1,null,null,""]
[5,{"$f":"IF(A40>0,VLOOKUP(A40,Liste!$B$179                         : Liste!$C$189,2),\"\")","v":"Ch,5"},1,3,{"$f":"IF(D40>0,VLOOKUP(D40,Liste!$A$10:$D$163,4),\"\")","v":"BALDACCHINO Laurence"},1,null,null,""]
[null,{"$f":"IF(A41>0,VLOOKUP(A41,Liste!$B$179                         : Liste!$C$189,2),\"\")","v":""},null,null,{"$f":"IF(D41>0,VLOOKUP(D41,Liste!$A$10:$D$163,4),\"\")","v":""},null,null,null,""]
[null,{"$f":"IF(A42>0,VLOOKUP(A42,Liste!$B$179                         : Liste!$C$189,2),\"\")","v":""},null,null,{"$f":"IF(D42>0,VLOOKUP(D42,Liste!$A$10:$D$163,4),\"\")","v":""},null,null,null,""]
[null,{"$f":"IF(A43>0,VLOOKUP(A43,Liste!$B$179                         : Liste!$C$189,2),\"\")","v":""},null,null,{"$f":"IF(D43>0,VLOOKUP(D43,Liste!$A$10:$D$163,4),\"\")","v":""},null,null,null,""]
[null,{"$f":"IF(A44>0,VLOOKUP(A44,Liste!$B$179                         : Liste!$C$189,2),\"\")","v":""},null,null,{"$f":"IF(D44>0,VLOOKUP(D44,Liste!$A$10:$D$163,4),\"\")","v":""},null,null,null,""]
[null,{"$f":"IF(A45>0,VLOOKUP(A45,Liste!$B$179                         : Liste!$C$189,2),\"\")","v":""},null,null,{"$f":"IF(D45>0,VLOOKUP(D45,Liste!$A$10:$D$163,4),\"\")","v":""},null,null,null,""]
[null,{"$f":"IF(A46>0,VLOOKUP(A46,Liste!$B$179                         : Liste!$C$189,2),\"\")","v":""},null,null,{"$f":"IF(D46>0,VLOOKUP(D46,Liste!$A$10:$D$163,4),\"\")","v":""},null,null,null,""]
[null,{"$f":"IF(A47>0,VLOOKUP(A47,Liste!$B$179                         : Liste!$C$189,2),\"\")","v":""},null,null,{"$f":"IF(D47>0,VLOOKUP(D47,Liste!$A$10:$D$163,4),\"\")","v":""},null,null,null,""]
[null,{"$f":"IF(A48>0,VLOOKUP(A48,Liste!$B$179                         : Liste!$C$189,2),\"\")","v":""},null,null,{"$f":"IF(D48>0,VLOOKUP(D48,Liste!$A$10:$D$163,4),\"\")","v":""},null,null,null,""]
[null,{"$f":"IF(A49>0,VLOOKUP(A49,Liste!$B$179                         : Liste!$C$189,2),\"\")","v":""},null,null,{"$f":"IF(D49>0,VLOOKUP(D49,Liste!$A$10:$D$163,4),\"\")","v":""},null,null,null,""]
[null,{"$f":"IF(A50>0,VLOOKUP(A50,Liste!$B$179                         : Liste!$C$189,2),\"\")","v":""},null,null,{"$f":"IF(D50>0,VLOOKUP(D50,Liste!$A$10:$D$163,4),\"\")","v":""},null,null,null,""]
[null,{"$f":"IF(A51>0,VLOOKUP(A51,Liste!$B$179                         : Liste!$C$189,2),\"\")","v":""},null,null,{"$f":"IF(D51>0,VLOOKUP(D51,Liste!$A$10:$D$163,4),\"\")","v":""},null,null,null,""]
[null,{"$f":"IF(A52>0,VLOOKUP(A52,Liste!$B$179                         : Liste!$C$189,2),\"\")","v":""},null,null,{"$f":"IF(D52>0,VLOOKUP(D52,Liste!$A$10:$D$163,4),\"\")","v":""},null,null,null,""]
[null,{"$f":"IF(A53>0,VLOOKUP(A53,Liste!$B$179                         : Liste!$C$189,2),\"\")","v":""},null,null,{"$f":"IF(D53>0,VLOOKUP(D53,Liste!$A$10:$D$163,4),\"\")","v":""},null,null,null,""]
[null,{"$f":"IF(A54>0,VLOOKUP(A54,Liste!$B$179                         : Liste!$C$189,2),\"\")","v":""},null,null,{"$f":"IF(D54>0,VLOOKUP(D54,Liste!$A$10:$D$163,4),\"\")","v":""},null,null,null,""]
[null,{"$f":"IF(A55>0,VLOOKUP(A55,Liste!$B$179                         : Liste!$C$189,2),\"\")","v":""},null,null,{"$f":"IF(D55>0,VLOOKUP(D55,Liste!$A$10:$D$163,4),\"\")","v":""},null,null,null,""]
[null,{"$f":"IF(A56>0,VLOOKUP(A56,Liste!$B$179                         : Liste!$C$189,2),\"\")","v":""},null,null,{"$f":"IF(D56>0,VLOOKUP(D56,Liste!$A$10:$D$163,4),\"\")","v":""},null,null,null,""]
[null,{"$f":"IF(A57>0,VLOOKUP(A57,Liste!$B$179                         : Liste!$C$189,2),\"\")","v":""},null,null,{"$f":"IF(D57>0,VLOOKUP(D57,Liste!$A$10:$D$163,4),\"\")","v":""},null,null,null,""]
[null,{"$f":"IF(A58>0,VLOOKUP(A58,Liste!$B$179                         : Liste!$C$189,2),\"\")","v":""},null,null,{"$f":"IF(D58>0,VLOOKUP(D58,Liste!$A$10:$D$163,4),\"\")","v":""},null,null,null,""]
[null,{"$f":"IF(A59>0,VLOOKUP(A59,Liste!$B$179                         : Liste!$C$189,2),\"\")","v":""},null,null,{"$f":"IF(D59>0,VLOOKUP(D59,Liste!$A$10:$D$163,4),\"\")","v":""},null,null,null,""]
[null,{"$f":"IF(A60>0,VLOOKUP(A60,Liste!$B$179                         : Liste!$C$189,2),\"\")","v":""},null,null,{"$f":"IF(D60>0,VLOOKUP(D60,Liste!$A$10:$D$163,4),\"\")","v":""},null,null,null,""]
[null,{"$f":"IF(A61>0,VLOOKUP(A61,Liste!$B$179                         : Liste!$C$189,2),\"\")","v":""},null,null,{"$f":"IF(D61>0,VLOOKUP(D61,Liste!$A$10:$D$163,4),\"\")","v":""},null,null,null,""]
[null,{"$f":"IF(A62>0,VLOOKUP(A62,Liste!$B$179                         : Liste!$C$189,2),\"\")","v":""},null,null,{"$f":"IF(D62>0,VLOOKUP(D62,Liste!$A$10:$D$163,4),\"\")","v":""},null,null,null,""]
[null,{"$f":"IF(A63>0,VLOOKUP(A63,Liste!$B$179                         : Liste!$C$189,2),\"\")","v":""},null,null,{"$f":"IF(D63>0,VLOOKUP(D63,Liste!$A$10:$D$163,4),\"\")","v":""},null,null,null,""]
[null,{"$f":"IF(A64>0,VLOOKUP(A64,Liste!$B$179                         : Liste!$C$189,2),\"\")","v":""},null,null,{"$f":"IF(D64>0,VLOOKUP(D64,Liste!$A$10:$D$163,4),\"\")","v":""},null,null,null,""]
[null,{"$f":"IF(A65>0,VLOOKUP(A65,Liste!$B$179                         : Liste!$C$189,2),\"\")","v":""},null,null,{"$f":"IF(D65>0,VLOOKUP(D65,Liste!$A$10:$D$163,4),\"\")","v":""},null,null,null,""]
[null,{"$f":"IF(A66>0,VLOOKUP(A66,Liste!$B$179                         : Liste!$C$189,2),\"\")","v":""},null,null,{"$f":"IF(D66>0,VLOOKUP(D66,Liste!$A$10:$D$163,4),\"\")","v":""},null,null,null,""]
[null,{"$f":"IF(A67>0,VLOOKUP(A67,Liste!$B$179                         : Liste!$C$189,2),\"\")","v":""},null,null,{"$f":"IF(D67>0,VLOOKUP(D67,Liste!$A$10:$D$163,4),\"\")","v":""},null,null,null,""]
[null,{"$f":"IF(A68>0,VLOOKUP(A68,Liste!$B$179                         : Liste!$C$189,2),\"\")","v":""},null,null,{"$f":"IF(D68>0,VLOOKUP(D68,Liste!$A$10:$D$163,4),\"\")","v":""},null,null,null,""]
[null,{"$f":"IF(A69>0,VLOOKUP(A69,Liste!$B$179                         : Liste!$C$189,2),\"\")","v":""},null,null,{"$f":"IF(D69>0,VLOOKUP(D69,Liste!$A$10:$D$163,4),\"\")","v":""},null,null,null,""]
[null,{"$f":"IF(A70>0,VLOOKUP(A70,Liste!$B$179                         : Liste!$C$189,2),\"\")","v":""},null,null,{"$f":"IF(D70>0,VLOOKUP(D70,Liste!$A$10:$D$163,4),\"\")","v":""},null,null,null,{"$f":"IF(AND(D70>0,F70+G70+H70=0),\"EN ATTENTE\",IF(F70+G70+H70>1,\"ERREUR\",\"\"))","v":""}]
[null,{"$f":"IF(A71>0,VLOOKUP(A71,Liste!$B$179                         : Liste!$C$189,2),\"\")","v":""},null,null,{"$f":"IF(D71>0,VLOOKUP(D71,Liste!$A$10:$D$163,4),\"\")","v":""},null,null,null,""]
[null,{"$f":"IF(A72>0,VLOOKUP(A72,Liste!$B$179                         : Liste!$C$189,2),\"\")","v":""},null,null,{"$f":"IF(D72>0,VLOOKUP(D72,Liste!$A$10:$D$163,4),\"\")","v":""},null,null,null,""]
[null,{"$f":"IF(A73>0,VLOOKUP(A73,Liste!$B$179                         : Liste!$C$189,2),\"\")","v":""},null,null,{"$f":"IF(D73>0,VLOOKUP(D73,Liste!$A$10:$D$163,4),\"\")","v":""},null,null,null,""]
[null,{"$f":"IF(A74>0,VLOOKUP(A74,Liste!$B$179                         : Liste!$C$189,2),\"\")","v":""},null,null,{"$f":"IF(D74>0,VLOOKUP(D74,Liste!$A$10:$D$163,4),\"\")","v":""},null,null,null,""]
[null,{"$f":"IF(A75>0,VLOOKUP(A75,Liste!$B$179                         : Liste!$C$189,2),\"\")","v":""},null,null,{"$f":"IF(D75>0,VLOOKUP(D75,Liste!$A$10:$D$163,4),\"\")","v":""},null,null,null,""]
[null,{"$f":"IF(A76>0,VLOOKUP(A76,Liste!$B$179                         : Liste!$C$189,2),\"\")","v":""},null,null,{"$f":"IF(D76>0,VLOOKUP(D76,Liste!$A$10:$D$163,4),\"\")","v":""},null,null,null,""]
[null,{"$f":"IF(A77>0,VLOOKUP(A77,Liste!$B$179                         : Liste!$C$189,2),\"\")","v":""},null,null,{"$f":"IF(D77>0,VLOOKUP(D77,Liste!$A$10:$D$163,4),\"\")","v":""},null,null,null,""]
[null,{"$f":"IF(A78>0,VLOOKUP(A78,Liste!$B$179                         : Liste!$C$189,2),\"\")","v":""},null,null,{"$f":"IF(D78>0,VLOOKUP(D78,Liste!$A$10:$D$163,4),\"\")","v":""},null,null,null,""]
[null,{"$f":"IF(A79>0,VLOOKUP(A79,Liste!$B$179                         : Liste!$C$189,2),\"\")","v":""},null,null,{"$f":"IF(D79>0,VLOOKUP(D79,Liste!$A$10:$D$163,4),\"\")","v":""},null,null,null,""]
[null,{"$f":"IF(A80>0,VLOOKUP(A80,Liste!$B$179                         : Liste!$C$189,2),\"\")","v":""},null,null,{"$f":"IF(D80>0,VLOOKUP(D80,Liste!$A$10:$D$163,4),\"\")","v":""},null,null,null,""]
[null,{"$f":"IF(A81>0,VLOOKUP(A81,Liste!$B$179                         : Liste!$C$189,2),\"\")","v":""},null,null,{"$f":"IF(D81>0,VLOOKUP(D81,Liste!$A$10:$D$163,4),\"\")","v":""},null,null,null,""]
[null,{"$f":"IF(A82>0,VLOOKUP(A82,Liste!$B$179                         : Liste!$C$189,2),\"\")","v":""},null,null,{"$f":"IF(D82>0,VLOOKUP(D82,Liste!$A$10:$D$163,4),\"\")","v":""},null,null,null,""]
[null,{"$f":"IF(A83>0,VLOOKUP(A83,Liste!$B$179                         : Liste!$C$189,2),\"\")","v":""},null,null,{"$f":"IF(D83>0,VLOOKUP(D83,Liste!$A$10:$D$163,4),\"\")","v":""},null,null,null,""]
[null,{"$f":"IF(A84>0,VLOOKUP(A84,Liste!$B$179                         : Liste!$C$189,2),\"\")","v":""},null,null,{"$f":"IF(D84>0,VLOOKUP(D84,Liste!$A$10:$D$163,4),\"\")","v":""},null,null,null,""]
[null,{"$f":"IF(A85>0,VLOOKUP(A85,Liste!$B$179                         : Liste!$C$189,2),\"\")","v":""},null,null,{"$f":"IF(D85>0,VLOOKUP(D85,Liste!$A$10:$D$163,4),\"\")","v":""},null,null,null,""]
[null,{"$f":"IF(A86>0,VLOOKUP(A86,Liste!$B$179                         : Liste!$C$189,2),\"\")","v":""},null,null,{"$f":"IF(D86>0,VLOOKUP(D86,Liste!$A$10:$D$163,4),\"\")","v":""},null,null,null,""]
[null,{"$f":"IF(A87>0,VLOOKUP(A87,Liste!$B$179                         : Liste!$C$189,2),\"\")","v":""},null,null,{"$f":"IF(D87>0,VLOOKUP(D87,Liste!$A$10:$D$163,4),\"\")","v":""},null,null,null,""]
[null,{"$f":"IF(A88>0,VLOOKUP(A88,Liste!$B$179                         : Liste!$C$189,2),\"\")","v":""},null,null,{"$f":"IF(D88>0,VLOOKUP(D88,Liste!$A$10:$D$163,4),\"\")","v":""},null,null,null,""]
[null,{"$f":"IF(A89>0,VLOOKUP(A89,Liste!$B$179                         : Liste!$C$189,2),\"\")","v":""},null,null,{"$f":"IF(D89>0,VLOOKUP(D89,Liste!$A$10:$D$163,4),\"\")","v":""},null,null,null,""]
[null,{"$f":"IF(A90>0,VLOOKUP(A90,Liste!$B$179                         : Liste!$C$189,2),\"\")","v":""},null,null,{"$f":"IF(D90>0,VLOOKUP(D90,Liste!$A$10:$D$163,4),\"\")","v":""},null,null,null,""]
[null,{"$f":"IF(A91>0,VLOOKUP(A91,Liste!$B$179                         : Liste!$C$189,2),\"\")","v":""},null,null,{"$f":"IF(D91>0,VLOOKUP(D91,Liste!$A$10:$D$163,4),\"\")","v":""},null,null,null,""]
[null,{"$f":"IF(A92>0,VLOOKUP(A92,Liste!$B$179                         : Liste!$C$189,2),\"\")","v":""},null,null,{"$f":"IF(D92>0,VLOOKUP(D92,Liste!$A$10:$D$163,4),\"\")","v":""},null,null,null,""]
[null,{"$f":"IF(A93>0,VLOOKUP(A93,Liste!$B$179                         : Liste!$C$189,2),\"\")","v":""},null,null,{"$f":"IF(D93>0,VLOOKUP(D93,Liste!$A$10:$D$163,4),\"\")","v":""},null,null,null,""]
[null,{"$f":"IF(A94>0,VLOOKUP(A94,Liste!$B$179                         : Liste!$C$189,2),\"\")","v":""},null,null,{"$f":"IF(D94>0,VLOOKUP(D94,Liste!$A$10:$D$163,4),\"\")","v":""},null,null,null,""]
[null,{"$f":"IF(A95>0,VLOOKUP(A95,Liste!$B$179                         : Liste!$C$189,2),\"\")","v":""},null,null,{"$f":"IF(D95>0,VLOOKUP(D95,Liste!$A$10:$D$163,4),\"\")","v":""},null,null,null,""]
[null,{"$f":"IF(A96>0,VLOOKUP(A96,Liste!$B$179                         : Liste!$C$189,2),\"\")","v":""},null,null,{"$f":"IF(D96>0,VLOOKUP(D96,Liste!$A$10:$D$163,4),\"\")","v":""},null,null,null,""]
[null,{"$f":"IF(A97>0,VLOOKUP(A97,Liste!$B$179                         : Liste!$C$189,2),\"\")","v":""},null,null,{"$f":"IF(D97>0,VLOOKUP(D97,Liste!$A$10:$D$163,4),\"\")","v":""},null,null,null,""]
[null,{"$f":"IF(A98>0,VLOOKUP(A98,Liste!$B$179                         : Liste!$C$189,2),\"\")","v":""},null,null,{"$f":"IF(D98>0,VLOOKUP(D98,Liste!$A$10:$D$163,4),\"\")","v":""},null,null,null,""]
[null,{"$f":"IF(A99>0,VLOOKUP(A99,Liste!$B$179                         : Liste!$C$189,2),\"\")","v":""},null,null,{"$f":"IF(D99>0,VLOOKUP(D99,Liste!$A$10:$D$163,4),\"\")","v":""},null,null,null,""]
[null,{"$f":"IF(A100>0,VLOOKUP(A100,Liste!$B$179                         : Liste!$C$189,2),\"\")","v":""},null,null,{"$f":"IF(D100>0,VLOOKUP(D100,Liste!$A$10:$D$163,4),\"\")","v":""},null,null,null,""]
[null,{"$f":"IF(A101>0,VLOOKUP(A101,Liste!$B$179                         : Liste!$C$189,2),\"\")","v":""},null,null,{"$f":"IF(D101>0,VLOOKUP(D101,Liste!$A$10:$D$163,4),\"\")","v":""},null,null,null,""]
[null,{"$f":"IF(A102>0,VLOOKUP(A102,Liste!$B$179                         : Liste!$C$189,2),\"\")","v":""},null,null,{"$f":"IF(D102>0,VLOOKUP(D102,Liste!$A$10:$D$163,4),\"\")","v":""},null,null,null,""]
[null,{"$f":"IF(A103>0,VLOOKUP(A103,Liste!$B$179                         : Liste!$C$189,2),\"\")","v":""},null,null,{"$f":"IF(D103>0,VLOOKUP(D103,Liste!$A$10:$D$163,4),\"\")","v":""},null,null,null,""]
[null,{"$f":"IF(A104>0,VLOOKUP(A104,Liste!$B$179                         : Liste!$C$189,2),\"\")","v":""},null,null,{"$f":"IF(D104>0,VLOOKUP(D104,Liste!$A$10:$D$163,4),\"\")","v":""},null,null,null,""]
[null,{"$f":"IF(A105>0,VLOOKUP(A105,Liste!$B$179                         : Liste!$C$189,2),\"\")","v":""},null,null,{"$f":"IF(D105>0,VLOOKUP(D105,Liste!$A$10:$D$163,4),\"\")","v":""},null,null,null,""]
[null,{"$f":"IF(A106>0,VLOOKUP(A106,Liste!$B$179                         : Liste!$C$189,2),\"\")","v":""},null,null,{"$f":"IF(D106>0,VLOOKUP(D106,Liste!$A$10:$D$163,4),\"\")","v":""},null,null,null,""]
[null,{"$f":"IF(A107>0,VLOOKUP(A107,Liste!$B$179                         : Liste!$C$189,2),\"\")","v":""},null,null,{"$f":"IF(D107>0,VLOOKUP(D107,Liste!$A$10:$D$163,4),\"\")","v":""},null,null,null,""]
[null,{"$f":"IF(A108>0,VLOOKUP(A108,Liste!$B$179                         : Liste!$C$189,2),\"\")","v":""},null,null,{"$f":"IF(D108>0,VLOOKUP(D108,Liste!$A$10:$D$163,4),\"\")","v":""},null,null,null,""]
[null,{"$f":"IF(A109>0,VLOOKUP(A109,Liste!$B$179                         : Liste!$C$189,2),\"\")","v":""},null,null,{"$f":"IF(D109>0,VLOOKUP(D109,Liste!$A$10:$D$163,4),\"\")","v":""},null,null,null,""]
[null,{"$f":"IF(A110>0,VLOOKUP(A110,Liste!$B$179                         : Liste!$C$189,2),\"\")","v":""},null,null,{"$f":"IF(D110>0,VLOOKUP(D110,Liste!$A$10:$D$163,4),\"\")","v":""},null,null,null,""]
[null,{"$f":"IF(A111>0,VLOOKUP(A111,Liste!$B$179                         : Liste!$C$189,2),\"\")","v":""},null,null,{"$f":"IF(D111>0,VLOOKUP(D111,Liste!$A$10:$D$163,4),\"\")","v":""},null,null,null,""]
[null,{"$f":"IF(A112>0,VLOOKUP(A112,Liste!$B$179                         : Liste!$C$189,2),\"\")","v":""},null,null,{"$f":"IF(D112>0,VLOOKUP(D112,Liste!$A$10:$D$163,4),\"\")","v":""},null,null,null,""]
[null,{"$f":"IF(A113>0,VLOOKUP(A113,Liste!$B$179                         : Liste!$C$189,2),\"\")","v":""},null,null,{"$f":"IF(D113>0,VLOOKUP(D113,Liste!$A$10:$D$163,4),\"\")","v":""},null,null,null,""]
[null,{"$f":"IF(A114>0,VLOOKUP(A114,Liste!$B$179                         : Liste!$C$189,2),\"\")","v":""},null,null,{"$f":"IF(D114>0,VLOOKUP(D114,Liste!$A$10:$D$163,4),\"\")","v":""},null,null,null,""]
[null,{"$f":"IF(A115>0,VLOOKUP(A115,Liste!$B$179                         : Liste!$C$189,2),\"\")","v":""},null,null,{"$f":"IF(D115>0,VLOOKUP(D115,Liste!$A$10:$D$163,4),\"\")","v":""},null,null,null,""]
[null,{"$f":"IF(A116>0,VLOOKUP(A116,Liste!$B$179                         : Liste!$C$189,2),\"\")","v":""},null,null,{"$f":"IF(D116>0,VLOOKUP(D116,Liste!$A$10:$D$163,4),\"\")","v":""},null,null,null,""]
[null,{"$f":"IF(A117>0,VLOOKUP(A117,Liste!$B$179                         : Liste!$C$189,2),\"\")","v":""},null,null,{"$f":"IF(D117>0,VLOOKUP(D117,Liste!$A$10:$D$163,4),\"\")","v":""},null,null,null,""]
[null,{"$f":"IF(A118>0,VLOOKUP(A118,Liste!$B$179                         : Liste!$C$189,2),\"\")","v":""},null,null,{"$f":"IF(D118>0,VLOOKUP(D118,Liste!$A$10:$D$163,4),\"\")","v":""},null,null,null,""]
[null,{"$f":"IF(A119>0,VLOOKUP(A119,Liste!$B$179                         : Liste!$C$189,2),\"\")","v":""},null,null,{"$f":"IF(D119>0,VLOOKUP(D119,Liste!$A$10:$D$163,4),\"\")","v":""},null,null,null,""]
[null,{"$f":"IF(A120>0,VLOOKUP(A120,Liste!$B$179                         : Liste!$C$189,2),\"\")","v":""},null,null,{"$f":"IF(D120>0,VLOOKUP(D120,Liste!$A$10:$D$163,4),\"\")","v":""},null,null,null,""]
[null,{"$f":"IF(A121>0,VLOOKUP(A121,Liste!$B$179                         : Liste!$C$189,2),\"\")","v":""},null,null,{"$f":"IF(D121>0,VLOOKUP(D121,Liste!$A$10:$D$163,4),\"\")","v":""},null,null,null,""]
[null,{"$f":"IF(A122>0,VLOOKUP(A122,Liste!$B$179                         : Liste!$C$189,2),\"\")","v":""},null,null,{"$f":"IF(D122>0,VLOOKUP(D122,Liste!$A$10:$D$163,4),\"\")","v":""},null,null,null,""]
[null,{"$f":"IF(A123>0,VLOOKUP(A123,Liste!$B$179                         : Liste!$C$189,2),\"\")","v":""},null,null,{"$f":"IF(D123>0,VLOOKUP(D123,Liste!$A$10:$D$163,4),\"\")","v":""},null,null,null,""]
[null,{"$f":"IF(A124>0,VLOOKUP(A124,Liste!$B$179                         : Liste!$C$189,2),\"\")","v":""},null,null,{"$f":"IF(D124>0,VLOOKUP(D124,Liste!$A$10:$D$163,4),\"\")","v":""},null,null,null,""]
[null,{"$f":"IF(A125>0,VLOOKUP(A125,Liste!$B$179                         : Liste!$C$189,2),\"\")","v":""},null,null,{"$f":"IF(D125>0,VLOOKUP(D125,Liste!$A$10:$D$163,4),\"\")","v":""},null,null,null,""]
[null,{"$f":"IF(A126>0,VLOOKUP(A126,Liste!$B$179                         : Liste!$C$189,2),\"\")","v":""},null,null,{"$f":"IF(D126>0,VLOOKUP(D126,Liste!$A$10:$D$163,4),\"\")","v":""},null,null,null,""]
[null,{"$f":"IF(A127>0,VLOOKUP(A127,Liste!$B$179                         : Liste!$C$189,2),\"\")","v":""},null,null,{"$f":"IF(D127>0,VLOOKUP(D127,Liste!$A$10:$D$163,4),\"\")","v":""},null,null,null,""]
[null,{"$f":"IF(A128>0,VLOOKUP(A128,Liste!$B$179                         : Liste!$C$189,2),\"\")","v":""},null,null,{"$f":"IF(D128>0,VLOOKUP(D128,Liste!$A$10:$D$163,4),\"\")","v":""},null,null,null,""]
[null,{"$f":"IF(A129>0,VLOOKUP(A129,Liste!$B$179                         : Liste!$C$189,2),\"\")","v":""},null,null,{"$f":"IF(D129>0,VLOOKUP(D129,Liste!$A$10:$D$163,4),\"\")","v":""},null,null,null,""]
[null,{"$f":"IF(A130>0,VLOOKUP(A130,Liste!$B$179                         : Liste!$C$189,2),\"\")","v":""},null,null,{"$f":"IF(D130>0,VLOOKUP(D130,Liste!$A$10:$D$163,4),\"\")","v":""},null,null,null,""]
[null,{"$f":"IF(A131>0,VLOOKUP(A131,Liste!$B$179                         : Liste!$C$189,2),\"\")","v":""},null,null,{"$f":"IF(D131>0,VLOOKUP(D131,Liste!$A$10:$D$163,4),\"\")","v":""},null,null,null,""]
[null,{"$f":"IF(A132>0,VLOOKUP(A132,Liste!$B$179                         : Liste!$C$189,2),\"\")","v":""},null,null,{"$f":"IF(D132>0,VLOOKUP(D132,Liste!$A$10:$D$163,4),\"\")","v":""},null,null,null,""]
[null,{"$f":"IF(A133>0,VLOOKUP(A133,Liste!$B$179                         : Liste!$C$189,2),\"\")","v":""},null,null,{"$f":"IF(D133>0,VLOOKUP(D133,Liste!$A$10:$D$163,4),\"\")","v":""},null,null,null,""]
[null,{"$f":"IF(A134>0,VLOOKUP(A134,Liste!$B$179                         : Liste!$C$189,2),\"\")","v":""},null,null,{"$f":"IF(D134>0,VLOOKUP(D134,Liste!$A$10:$D$163,4),\"\")","v":""},null,null,null,{"$f":"IF(AND(D134>0,F134+G134+H134=0),\"EN ATTENTE\",IF(F134+G134+H134>1,\"ERREUR\",\"\"))","v":""}]
[null,{"$f":"IF(A135>0,VLOOKUP(A135,Liste!$B$179                         : Liste!$C$189,2),\"\")","v":""},null,null,{"$f":"IF(D135>0,VLOOKUP(D135,Liste!$A$10:$D$163,4),\"\")","v":""},null,null,null,""]
[null,{"$f":"IF(A136>0,VLOOKUP(A136,Liste!$B$179                         : Liste!$C$189,2),\"\")","v":""},null,null,{"$f":"IF(D136>0,VLOOKUP(D136,Liste!$A$10:$D$163,4),\"\")","v":""},null,null,null,""]
[null,{"$f":"IF(A137>0,VLOOKUP(A137,Liste!$B$179                         : Liste!$C$189,2),\"\")","v":""},null,null,{"$f":"IF(D137>0,VLOOKUP(D137,Liste!$A$10:$D$163,4),\"\")","v":""},null,null,null,""]
[null,{"$f":"IF(A138>0,VLOOKUP(A138,Liste!$B$179                         : Liste!$C$189,2),\"\")","v":""},null,null,{"$f":"IF(D138>0,VLOOKUP(D138,Liste!$A$10:$D$163,4),\"\")","v":""},null,null,null,""]
[null,{"$f":"IF(A139>0,VLOOKUP(A139,Liste!$B$179                         : Liste!$C$189,2),\"\")","v":""},null,null,{"$f":"IF(D139>0,VLOOKUP(D139,Liste!$A$10:$D$163,4),\"\")","v":""},null,null,null,""]
[null,{"$f":"IF(A140>0,VLOOKUP(A140,Liste!$B$179                         : Liste!$C$189,2),\"\")","v":""},null,null,{"$f":"IF(D140>0,VLOOKUP(D140,Liste!$A$10:$D$163,4),\"\")","v":""},null,null,null,""]
[null,{"$f":"IF(A141>0,VLOOKUP(A141,Liste!$B$179                         : Liste!$C$189,2),\"\")","v":""},null,null,{"$f":"IF(D141>0,VLOOKUP(D141,Liste!$A$10:$D$163,4),\"\")","v":""},null,null,null,""]
[null,{"$f":"IF(A142>0,VLOOKUP(A142,Liste!$B$179                         : Liste!$C$189,2),\"\")","v":""},null,null,{"$f":"IF(D142>0,VLOOKUP(D142,Liste!$A$10:$D$163,4),\"\")","v":""},null,null,null,""]
[null,{"$f":"IF(A143>0,VLOOKUP(A143,Liste!$B$179                         : Liste!$C$189,2),\"\")","v":""},null,null,{"$f":"IF(D143>0,VLOOKUP(D143,Liste!$A$10:$D$163,4),\"\")","v":""},null,null,null,""]
[null,{"$f":"IF(A144>0,VLOOKUP(A144,Liste!$B$179                         : Liste!$C$189,2),\"\")","v":""},null,null,{"$f":"IF(D144>0,VLOOKUP(D144,Liste!$A$10:$D$163,4),\"\")","v":""},null,null,null,""]
[null,{"$f":"IF(A145>0,VLOOKUP(A145,Liste!$B$179                         : Liste!$C$189,2),\"\")","v":""},null,null,{"$f":"IF(D145>0,VLOOKUP(D145,Liste!$A$10:$D$163,4),\"\")","v":""},null,null,null,""]
[null,{"$f":"IF(A146>0,VLOOKUP(A146,Liste!$B$179                         : Liste!$C$189,2),\"\")","v":""},null,null,{"$f":"IF(D146>0,VLOOKUP(D146,Liste!$A$10:$D$163,4),\"\")","v":""},null,null,null,""]
[null,{"$f":"IF(A147>0,VLOOKUP(A147,Liste!$B$179                         : Liste!$C$189,2),\"\")","v":""},null,null,{"$f":"IF(D147>0,VLOOKUP(D147,Liste!$A$10:$D$163,4),\"\")","v":""},null,null,null,""]
[null,{"$f":"IF(A148>0,VLOOKUP(A148,Liste!$B$179                         : Liste!$C$189,2),\"\")","v":""},null,null,{"$f":"IF(D148>0,VLOOKUP(D148,Liste!$A$10:$D$163,4),\"\")","v":""},null,null,null,""]
[null,{"$f":"IF(A149>0,VLOOKUP(A149,Liste!$B$179                         : Liste!$C$189,2),\"\")","v":""},null,null,{"$f":"IF(D149>0,VLOOKUP(D149,Liste!$A$10:$D$163,4),\"\")","v":""},null,null,null,""]
[null,{"$f":"IF(A150>0,VLOOKUP(A150,Liste!$B$179                         : Liste!$C$189,2),\"\")","v":""},null,null,{"$f":"IF(D150>0,VLOOKUP(D150,Liste!$A$10:$D$163,4),\"\")","v":""},null,null,null,""]
[null,{"$f":"IF(A151>0,VLOOKUP(A151,Liste!$B$179                         : Liste!$C$189,2),\"\")","v":""},null,null,{"$f":"IF(D151>0,VLOOKUP(D151,Liste!$A$10:$D$163,4),\"\")","v":""},null,null,null,""]
[null,{"$f":"IF(A152>0,VLOOKUP(A152,Liste!$B$179                         : Liste!$C$189,2),\"\")","v":""},null,null,{"$f":"IF(D152>0,VLOOKUP(D152,Liste!$A$10:$D$163,4),\"\")","v":""},null,null,null,""]
[null,{"$f":"IF(A153>0,VLOOKUP(A153,Liste!$B$179                         : Liste!$C$189,2),\"\")","v":""},null,null,{"$f":"IF(D153>0,VLOOKUP(D153,Liste!$A$10:$D$163,4),\"\")","v":""},null,null,null,""]
[null,{"$f":"IF(A154>0,VLOOKUP(A154,Liste!$B$179                         : Liste!$C$189,2),\"\")","v":""},null,null,{"$f":"IF(D154>0,VLOOKUP(D154,Liste!$A$10:$D$163,4),\"\")","v":""},null,null,null,""]
[null,{"$f":"IF(A155>0,VLOOKUP(A155,Liste!$B$179                         : Liste!$C$189,2),\"\")","v":""},null,null,{"$f":"IF(D155>0,VLOOKUP(D155,Liste!$A$10:$D$163,4),\"\")","v":""},null,null,null,""]
[null,{"$f":"IF(A156>0,VLOOKUP(A156,Liste!$B$179                         : Liste!$C$189,2),\"\")","v":""},null,null,{"$f":"IF(D156>0,VLOOKUP(D156,Liste!$A$10:$D$163,4),\"\")","v":""},null,null,null,""]
[null,{"$f":"IF(A157>0,VLOOKUP(A157,Liste!$B$179                         : Liste!$C$189,2),\"\")","v":""},null,null,{"$f":"IF(D157>0,VLOOKUP(D157,Liste!$A$10:$D$163,4),\"\")","v":""},null,null,null,""]
[null,{"$f":"IF(A158>0,VLOOKUP(A158,Liste!$B$179                         : Liste!$C$189,2),\"\")","v":""},null,null,{"$f":"IF(D158>0,VLOOKUP(D158,Liste!$A$10:$D$163,4),\"\")","v":""},null,null,null,""]
[null,{"$f":"IF(A159>0,VLOOKUP(A159,Liste!$B$179                         : Liste!$C$189,2),\"\")","v":""},null,null,{"$f":"IF(D159>0,VLOOKUP(D159,Liste!$A$10:$D$163,4),\"\")","v":""},null,null,null,""]
[null,{"$f":"IF(A160>0,VLOOKUP(A160,Liste!$B$179                         : Liste!$C$189,2),\"\")","v":""},null,null,{"$f":"IF(D160>0,VLOOKUP(D160,Liste!$A$10:$D$163,4),\"\")","v":""},null,null,null,""]
[null,{"$f":"IF(A161>0,VLOOKUP(A161,Liste!$B$179                         : Liste!$C$189,2),\"\")","v":""},null,null,{"$f":"IF(D161>0,VLOOKUP(D161,Liste!$A$10:$D$163,4),\"\")","v":""},null,null,null,""]
[null,{"$f":"IF(A162>0,VLOOKUP(A162,Liste!$B$179                         : Liste!$C$189,2),\"\")","v":""},null,null,{"$f":"IF(D162>0,VLOOKUP(D162,Liste!$A$10:$D$163,4),\"\")","v":""},null,null,null,""]
[null,{"$f":"IF(A163>0,VLOOKUP(A163,Liste!$B$179                         : Liste!$C$189,2),\"\")","v":""},null,null,{"$f":"IF(D163>0,VLOOKUP(D163,Liste!$A$10:$D$163,4),\"\")","v":""},null,null,null,""]
[null,{"$f":"IF(A164>0,VLOOKUP(A164,Liste!$B$179                         : Liste!$C$189,2),\"\")","v":""},null,null,{"$f":"IF(D164>0,VLOOKUP(D164,Liste!$A$10:$D$163,4),\"\")","v":""},null,null,null,""]
[null,{"$f":"IF(A165>0,VLOOKUP(A165,Liste!$B$179                         : Liste!$C$189,2),\"\")","v":""},null,null,{"$f":"IF(D165>0,VLOOKUP(D165,Liste!$A$10:$D$163,4),\"\")","v":""},null,null,null,""]
[null,{"$f":"IF(A166>0,VLOOKUP(A166,Liste!$B$179                         : Liste!$C$189,2),\"\")","v":""},null,null,{"$f":"IF(D166>0,VLOOKUP(D166,Liste!$A$10:$D$163,4),\"\")","v":""},null,null,null,""]
[null,{"$f":"IF(A167>0,VLOOKUP(A167,Liste!$B$179                         : Liste!$C$189,2),\"\")","v":""},null,null,{"$f":"IF(D167>0,VLOOKUP(D167,Liste!$A$10:$D$163,4),\"\")","v":""},null,null,null,""]
[null,{"$f":"IF(A168>0,VLOOKUP(A168,Liste!$B$179                         : Liste!$C$189,2),\"\")","v":""},null,null,{"$f":"IF(D168>0,VLOOKUP(D168,Liste!$A$10:$D$163,4),\"\")","v":""},null,null,null,""]
[null,{"$f":"IF(A169>0,VLOOKUP(A169,Liste!$B$179                         : Liste!$C$189,2),\"\")","v":""},null,null,{"$f":"IF(D169>0,VLOOKUP(D169,Liste!$A$10:$D$163,4),\"\")","v":""},null,null,null,""]
[null,{"$f":"IF(A170>0,VLOOKUP(A170,Liste!$B$179                         : Liste!$C$189,2),\"\")","v":""},null,null,{"$f":"IF(D170>0,VLOOKUP(D170,Liste!$A$10:$D$163,4),\"\")","v":""},null,null,null,""]
[null,{"$f":"IF(A171>0,VLOOKUP(A171,Liste!$B$179                         : Liste!$C$189,2),\"\")","v":""},null,null,{"$f":"IF(D171>0,VLOOKUP(D171,Liste!$A$10:$D$163,4),\"\")","v":""},null,null,null,""]
[null,{"$f":"IF(A172>0,VLOOKUP(A172,Liste!$B$179                         : Liste!$C$189,2),\"\")","v":""},null,null,{"$f":"IF(D172>0,VLOOKUP(D172,Liste!$A$10:$D$163,4),\"\")","v":""},null,null,null,""]
[null,{"$f":"IF(A173>0,VLOOKUP(A173,Liste!$B$179                         : Liste!$C$189,2),\"\")","v":""},null,null,{"$f":"IF(D173>0,VLOOKUP(D173,Liste!$A$10:$D$163,4),\"\")","v":""},null,null,null,""]
[null,{"$f":"IF(A174>0,VLOOKUP(A174,Liste!$B$179                         : Liste!$C$189,2),\"\")","v":""},null,null,{"$f":"IF(D174>0,VLOOKUP(D174,Liste!$A$10:$D$163,4),\"\")","v":""},null,null,null,""]
[null,{"$f":"IF(A175>0,VLOOKUP(A175,Liste!$B$179                         : Liste!$C$189,2),\"\")","v":""},null,null,{"$f":"IF(D175>0,VLOOKUP(D175,Liste!$A$10:$D$163,4),\"\")","v":""},null,null,null,""]
[null,{"$f":"IF(A176>0,VLOOKUP(A176,Liste!$B$179                         : Liste!$C$189,2),\"\")","v":""},null,null,{"$f":"IF(D176>0,VLOOKUP(D176,Liste!$A$10:$D$163,4),\"\")","v":""},null,null,null,""]
[null,{"$f":"IF(A177>0,VLOOKUP(A177,Liste!$B$179                         : Liste!$C$189,2),\"\")","v":""},null,null,{"$f":"IF(D177>0,VLOOKUP(D177,Liste!$A$10:$D$163,4),\"\")","v":""},null,null,null,""]
[null,{"$f":"IF(A178>0,VLOOKUP(A178,Liste!$B$179                         : Liste!$C$189,2),\"\")","v":""},null,null,{"$f":"IF(D178>0,VLOOKUP(D178,Liste!$A$10:$D$163,4),\"\")","v":""},null,null,null,""]
[null,{"$f":"IF(A179>0,VLOOKUP(A179,Liste!$B$179                         : Liste!$C$189,2),\"\")","v":""},null,null,{"$f":"IF(D179>0,VLOOKUP(D179,Liste!$A$10:$D$163,4),\"\")","v":""},null,null,null,""]
[null,{"$f":"IF(A180>0,VLOOKUP(A180,Liste!$B$179                         : Liste!$C$189,2),\"\")","v":""},null,null,{"$f":"IF(D180>0,VLOOKUP(D180,Liste!$A$10:$D$163,4),\"\")","v":""},null,null,null,""]
[null,{"$f":"IF(A181>0,VLOOKUP(A181,Liste!$B$179                         : Liste!$C$189,2),\"\")","v":""},null,null,{"$f":"IF(D181>0,VLOOKUP(D181,Liste!$A$10:$D$163,4),\"\")","v":""},null,null,null,""]
[null,{"$f":"IF(A182>0,VLOOKUP(A182,Liste!$B$179                         : Liste!$C$189,2),\"\")","v":""},null,null,{"$f":"IF(D182>0,VLOOKUP(D182,Liste!$A$10:$D$163,4),\"\")","v":""},null,null,null,""]
[null,{"$f":"IF(A183>0,VLOOKUP(A183,Liste!$B$179                         : Liste!$C$189,2),\"\")","v":""},null,null,{"$f":"IF(D183>0,VLOOKUP(D183,Liste!$A$10:$D$163,4),\"\")","v":""},null,null,null,""]
[null,{"$f":"IF(A184>0,VLOOKUP(A184,Liste!$B$179                         : Liste!$C$189,2),\"\")","v":""},null,null,{"$f":"IF(D184>0,VLOOKUP(D184,Liste!$A$10:$D$163,4),\"\")","v":""},null,null,null,""]
[null,{"$f":"IF(A185>0,VLOOKUP(A185,Liste!$B$179                         : Liste!$C$189,2),\"\")","v":""},null,null,{"$f":"IF(D185>0,VLOOKUP(D185,Liste!$A$10:$D$163,4),\"\")","v":""},null,null,null,""]
[null,{"$f":"IF(A186>0,VLOOKUP(A186,Liste!$B$179                         : Liste!$C$189,2),\"\")","v":""},null,null,{"$f":"IF(D186>0,VLOOKUP(D186,Liste!$A$10:$D$163,4),\"\")","v":""},null,null,null,""]
[null,{"$f":"IF(A187>0,VLOOKUP(A187,Liste!$B$179                         : Liste!$C$189,2),\"\")","v":""},null,null,{"$f":"IF(D187>0,VLOOKUP(D187,Liste!$A$10:$D$163,4),\"\")","v":""},null,null,null,""]
[null,{"$f":"IF(A188>0,VLOOKUP(A188,Liste!$B$179                         : Liste!$C$189,2),\"\")","v":""},null,null,{"$f":"IF(D188>0,VLOOKUP(D188,Liste!$A$10:$D$163,4),\"\")","v":""},null,null,null,""]
[null,{"$f":"IF(A189>0,VLOOKUP(A189,Liste!$B$179                         : Liste!$C$189,2),\"\")","v":""},null,null,{"$f":"IF(D189>0,VLOOKUP(D189,Liste!$A$10:$D$163,4),\"\")","v":""},null,null,null,""]
[null,{"$f":"IF(A190>0,VLOOKUP(A190,Liste!$B$179                         : Liste!$C$189,2),\"\")","v":""},null,null,{"$f":"IF(D190>0,VLOOKUP(D190,Liste!$A$10:$D$163,4),\"\")","v":""},null,null,null,""]
[null,{"$f":"IF(A191>0,VLOOKUP(A191,Liste!$B$179                         : Liste!$C$189,2),\"\")","v":""},null,null,{"$f":"IF(D191>0,VLOOKUP(D191,Liste!$A$10:$D$163,4),\"\")","v":""},null,null,null,""]
[null,{"$f":"IF(A192>0,VLOOKUP(A192,Liste!$B$179                         : Liste!$C$189,2),\"\")","v":""},null,null,{"$f":"IF(D192>0,VLOOKUP(D192,Liste!$A$10:$D$163,4),\"\")","v":""},null,null,null,""]
[null,{"$f":"IF(A193>0,VLOOKUP(A193,Liste!$B$179                         : Liste!$C$189,2),\"\")","v":""},null,null,{"$f":"IF(D193>0,VLOOKUP(D193,Liste!$A$10:$D$163,4),\"\")","v":""},null,null,null,""]
[null,{"$f":"IF(A194>0,VLOOKUP(A194,Liste!$B$179                         : Liste!$C$189,2),\"\")","v":""},null,null,{"$f":"IF(D194>0,VLOOKUP(D194,Liste!$A$10:$D$163,4),\"\")","v":""},null,null,null,""]
[null,{"$f":"IF(A195>0,VLOOKUP(A195,Liste!$B$179                         : Liste!$C$189,2),\"\")","v":""},null,null,{"$f":"IF(D195>0,VLOOKUP(D195,Liste!$A$10:$D$163,4),\"\")","v":""},null,null,null,""]
[null,{"$f":"IF(A196>0,VLOOKUP(A196,Liste!$B$179                         : Liste!$C$189,2),\"\")","v":""},null,null,{"$f":"IF(D196>0,VLOOKUP(D196,Liste!$A$10:$D$163,4),\"\")","v":""},null,null,null,""]
[null,{"$f":"IF(A197>0,VLOOKUP(A197,Liste!$B$179                         : Liste!$C$189,2),\"\")","v":""},null,null,{"$f":"IF(D197>0,VLOOKUP(D197,Liste!$A$10:$D$163,4),\"\")","v":""},null,null,null,""]
[null,{"$f":"IF(A198>0,VLOOKUP(A198,Liste!$B$179                         : Liste!$C$189,2),\"\")","v":""},null,null,{"$f":"IF(D198>0,VLOOKUP(D198,Liste!$A$10:$D$163,4),\"\")","v":""},null,null,null,{"$f":"IF(AND(D198>0,F198+G198+H198=0),\"EN ATTENTE\",IF(F198+G198+H198>1,\"ERREUR\",\"\"))","v":""}]
[null,{"$f":"IF(A199>0,VLOOKUP(A199,Liste!$B$179                         : Liste!$C$189,2),\"\")","v":""},null,null,{"$f":"IF(D199>0,VLOOKUP(D199,Liste!$A$10:$D$163,4),\"\")","v":""},null,null,null,""]
[null,{"$f":"IF(A200>0,VLOOKUP(A200,Liste!$B$179                         : Liste!$C$189,2),\"\")","v":""},null,null,{"$f":"IF(D200>0,VLOOKUP(D200,Liste!$A$10:$D$163,4),\"\")","v":""},null,null,null,""]
[null,{"$f":"IF(A201>0,VLOOKUP(A201,Liste!$B$179                         : Liste!$C$189,2),\"\")","v":""},null,null,{"$f":"IF(D201>0,VLOOKUP(D201,Liste!$A$10:$D$163,4),\"\")","v":""},null,null,null,""]
[null,{"$f":"IF(A202>0,VLOOKUP(A202,Liste!$B$179                         : Liste!$C$189,2),\"\")","v":""},null,null,{"$f":"IF(D202>0,VLOOKUP(D202,Liste!$A$10:$D$163,4),\"\")","v":""},null,null,null,""]
[null,{"$f":"IF(A203>0,VLOOKUP(A203,Liste!$B$179                         : Liste!$C$189,2),\"\")","v":""},null,null,{"$f":"IF(D203>0,VLOOKUP(D203,Liste!$A$10:$D$163,4),\"\")","v":""},null,null,null,""]
[null,{"$f":"IF(A204>0,VLOOKUP(A204,Liste!$B$179                         : Liste!$C$189,2),\"\")","v":""},null,null,{"$f":"IF(D204>0,VLOOKUP(D204,Liste!$A$10:$D$163,4),\"\")","v":""},null,null,null,""]
[null,{"$f":"IF(A205>0,VLOOKUP(A205,Liste!$B$179                         : Liste!$C$189,2),\"\")","v":""},null,null,{"$f":"IF(D205>0,VLOOKUP(D205,Liste!$A$10:$D$163,4),\"\")","v":""},null,null,null,""]
[null,{"$f":"IF(A206>0,VLOOKUP(A206,Liste!$B$179                         : Liste!$C$189,2),\"\")","v":""},null,null,{"$f":"IF(D206>0,VLOOKUP(D206,Liste!$A$10:$D$163,4),\"\")","v":""},null,null,null,""]
[null,{"$f":"IF(A207>0,VLOOKUP(A207,Liste!$B$179                         : Liste!$C$189,2),\"\")","v":""},null,null,{"$f":"IF(D207>0,VLOOKUP(D207,Liste!$A$10:$D$163,4),\"\")","v":""},null,null,null,""]
[null,{"$f":"IF(A208>0,VLOOKUP(A208,Liste!$B$179                         : Liste!$C$189,2),\"\")","v":""},null,null,{"$f":"IF(D208>0,VLOOKUP(D208,Liste!$A$10:$D$163,4),\"\")","v":""},null,null,null,""]
[null,{"$f":"IF(A209>0,VLOOKUP(A209,Liste!$B$179                         : Liste!$C$189,2),\"\")","v":""},null,null,{"$f":"IF(D209>0,VLOOKUP(D209,Liste!$A$10:$D$163,4),\"\")","v":""},null,null,null,""]
[null,{"$f":"IF(A210>0,VLOOKUP(A210,Liste!$B$179                         : Liste!$C$189,2),\"\")","v":""},null,null,{"$f":"IF(D210>0,VLOOKUP(D210,Liste!$A$10:$D$163,4),\"\")","v":""},null,null,null,""]
[null,{"$f":"IF(A211>0,VLOOKUP(A211,Liste!$B$179                         : Liste!$C$189,2),\"\")","v":""},null,null,{"$f":"IF(D211>0,VLOOKUP(D211,Liste!$A$10:$D$163,4),\"\")","v":""},null,null,null,""]
[null,{"$f":"IF(A212>0,VLOOKUP(A212,Liste!$B$179                         : Liste!$C$189,2),\"\")","v":""},null,null,{"$f":"IF(D212>0,VLOOKUP(D212,Liste!$A$10:$D$163,4),\"\")","v":""},null,null,null,""]
[null,{"$f":"IF(A213>0,VLOOKUP(A213,Liste!$B$179                         : Liste!$C$189,2),\"\")","v":""},null,null,{"$f":"IF(D213>0,VLOOKUP(D213,Liste!$A$10:$D$163,4),\"\")","v":""},null,null,null,""]
[null,{"$f":"IF(A214>0,VLOOKUP(A214,Liste!$B$179                         : Liste!$C$189,2),\"\")","v":""},null,null,{"$f":"IF(D214>0,VLOOKUP(D214,Liste!$A$10:$D$163,4),\"\")","v":""},null,null,null,""]
[null,{"$f":"IF(A215>0,VLOOKUP(A215,Liste!$B$179                         : Liste!$C$189,2),\"\")","v":""},null,null,{"$f":"IF(D215>0,VLOOKUP(D215,Liste!$A$10:$D$163,4),\"\")","v":""},null,null,null,""]
[null,{"$f":"IF(A216>0,VLOOKUP(A216,Liste!$B$179                         : Liste!$C$189,2),\"\")","v":""},null,null,{"$f":"IF(D216>0,VLOOKUP(D216,Liste!$A$10:$D$163,4),\"\")","v":""},null,null,null,""]
[null,{"$f":"IF(A217>0,VLOOKUP(A217,Liste!$B$179                         : Liste!$C$189,2),\"\")","v":""},null,null,{"$f":"IF(D217>0,VLOOKUP(D217,Liste!$A$10:$D$163,4),\"\")","v":""},null,null,null,""]
[null,{"$f":"IF(A218>0,VLOOKUP(A218,Liste!$B$179                         : Liste!$C$189,2),\"\")","v":""},null,null,{"$f":"IF(D218>0,VLOOKUP(D218,Liste!$A$10:$D$163,4),\"\")","v":""},null,null,null,""]
[null,{"$f":"IF(A219>0,VLOOKUP(A219,Liste!$B$179                         : Liste!$C$189,2),\"\")","v":""},null,null,{"$f":"IF(D219>0,VLOOKUP(D219,Liste!$A$10:$D$163,4),\"\")","v":""},null,null,null,""]
[null,{"$f":"IF(A220>0,VLOOKUP(A220,Liste!$B$179                         : Liste!$C$189,2),\"\")","v":""},null,null,{"$f":"IF(D220>0,VLOOKUP(D220,Liste!$A$10:$D$163,4),\"\")","v":""},null,null,null,""]
[null,{"$f":"IF(A221>0,VLOOKUP(A221,Liste!$B$179                         : Liste!$C$189,2),\"\")","v":""},null,null,{"$f":"IF(D221>0,VLOOKUP(D221,Liste!$A$10:$D$163,4),\"\")","v":""},null,null,null,""]
[null,{"$f":"IF(A222>0,VLOOKUP(A222,Liste!$B$179                         : Liste!$C$189,2),\"\")","v":""},null,null,{"$f":"IF(D222>0,VLOOKUP(D222,Liste!$A$10:$D$163,4),\"\")","v":""},null,null,null,""]
[null,{"$f":"IF(A223>0,VLOOKUP(A223,Liste!$B$179                         : Liste!$C$189,2),\"\")","v":""},null,null,{"$f":"IF(D223>0,VLOOKUP(D223,Liste!$A$10:$D$163,4),\"\")","v":""},null,null,null,""]
[null,{"$f":"IF(A224>0,VLOOKUP(A224,Liste!$B$179                         : Liste!$C$189,2),\"\")","v":""},null,null,{"$f":"IF(D224>0,VLOOKUP(D224,Liste!$A$10:$D$163,4),\"\")","v":""},null,null,null,""]
[null,{"$f":"IF(A225>0,VLOOKUP(A225,Liste!$B$179                         : Liste!$C$189,2),\"\")","v":""},null,null,{"$f":"IF(D225>0,VLOOKUP(D225,Liste!$A$10:$D$163,4),\"\")","v":""},null,null,null,""]
[null,{"$f":"IF(A226>0,VLOOKUP(A226,Liste!$B$179                         : Liste!$C$189,2),\"\")","v":""},null,null,{"$f":"IF(D226>0,VLOOKUP(D226,Liste!$A$10:$D$163,4),\"\")","v":""},null,null,null,""]
[null,{"$f":"IF(A227>0,VLOOKUP(A227,Liste!$B$179                         : Liste!$C$189,2),\"\")","v":""},null,null,{"$f":"IF(D227>0,VLOOKUP(D227,Liste!$A$10:$D$163,4),\"\")","v":""},null,null,null,""]
[null,{"$f":"IF(A228>0,VLOOKUP(A228,Liste!$B$179                         : Liste!$C$189,2),\"\")","v":""},null,null,{"$f":"IF(D228>0,VLOOKUP(D228,Liste!$A$10:$D$163,4),\"\")","v":""},null,null,null,""]
[null,{"$f":"IF(A229>0,VLOOKUP(A229,Liste!$B$179                         : Liste!$C$189,2),\"\")","v":""},null,null,{"$f":"IF(D229>0,VLOOKUP(D229,Liste!$A$10:$D$163,4),\"\")","v":""},null,null,null,""]
[null,{"$f":"IF(A230>0,VLOOKUP(A230,Liste!$B$179                         : Liste!$C$189,2),\"\")","v":""},null,null,{"$f":"IF(D230>0,VLOOKUP(D230,Liste!$A$10:$D$163,4),\"\")","v":""},null,null,null,""]
[null,{"$f":"IF(A231>0,VLOOKUP(A231,Liste!$B$179                         : Liste!$C$189,2),\"\")","v":""},null,null,{"$f":"IF(D231>0,VLOOKUP(D231,Liste!$A$10:$D$163,4),\"\")","v":""},null,null,null,""]
[null,{"$f":"IF(A232>0,VLOOKUP(A232,Liste!$B$179                         : Liste!$C$189,2),\"\")","v":""},null,null,{"$f":"IF(D232>0,VLOOKUP(D232,Liste!$A$10:$D$163,4),\"\")","v":""},null,null,null,""]
[null,{"$f":"IF(A233>0,VLOOKUP(A233,Liste!$B$179                         : Liste!$C$189,2),\"\")","v":""},null,null,{"$f":"IF(D233>0,VLOOKUP(D233,Liste!$A$10:$D$163,4),\"\")","v":""},null,null,null,""]
[null,{"$f":"IF(A234>0,VLOOKUP(A234,Liste!$B$179                         : Liste!$C$189,2),\"\")","v":""},null,null,{"$f":"IF(D234>0,VLOOKUP(D234,Liste!$A$10:$D$163,4),\"\")","v":""},null,null,null,""]
[null,{"$f":"IF(A235>0,VLOOKUP(A235,Liste!$B$179                         : Liste!$C$189,2),\"\")","v":""},null,null,{"$f":"IF(D235>0,VLOOKUP(D235,Liste!$A$10:$D$163,4),\"\")","v":""},null,null,null,""]
[null,{"$f":"IF(A236>0,VLOOKUP(A236,Liste!$B$179                         : Liste!$C$189,2),\"\")","v":""},null,null,{"$f":"IF(D236>0,VLOOKUP(D236,Liste!$A$10:$D$163,4),\"\")","v":""},null,null,null,""]
[null,{"$f":"IF(A237>0,VLOOKUP(A237,Liste!$B$179                         : Liste!$C$189,2),\"\")","v":""},null,null,{"$f":"IF(D237>0,VLOOKUP(D237,Liste!$A$10:$D$163,4),\"\")","v":""},null,null,null,""]
[null,{"$f":"IF(A238>0,VLOOKUP(A238,Liste!$B$179                         : Liste!$C$189,2),\"\")","v":""},null,null,{"$f":"IF(D238>0,VLOOKUP(D238,Liste!$A$10:$D$163,4),\"\")","v":""},null,null,null,""]
[null,{"$f":"IF(A239>0,VLOOKUP(A239,Liste!$B$179                         : Liste!$C$189,2),\"\")","v":""},null,null,{"$f":"IF(D239>0,VLOOKUP(D239,Liste!$A$10:$D$163,4),\"\")","v":""},null,null,null,""]
[null,{"$f":"IF(A240>0,VLOOKUP(A240,Liste!$B$179                         : Liste!$C$189,2),\"\")","v":""},null,null,{"$f":"IF(D240>0,VLOOKUP(D240,Liste!$A$10:$D$163,4),\"\")","v":""},null,null,null,""]
[null,{"$f":"IF(A241>0,VLOOKUP(A241,Liste!$B$179                         : Liste!$C$189,2),\"\")","v":""},null,null,{"$f":"IF(D241>0,VLOOKUP(D241,Liste!$A$10:$D$163,4),\"\")","v":""},null,null,null,""]
[null,{"$f":"IF(A242>0,VLOOKUP(A242,Liste!$B$179                         : Liste!$C$189,2),\"\")","v":""},null,null,{"$f":"IF(D242>0,VLOOKUP(D242,Liste!$A$10:$D$163,4),\"\")","v":""},null,null,null,""]
[null,{"$f":"IF(A243>0,VLOOKUP(A243,Liste!$B$179                         : Liste!$C$189,2),\"\")","v":""},null,null,{"$f":"IF(D243>0,VLOOKUP(D243,Liste!$A$10:$D$163,4),\"\")","v":""},null,null,null,""]
[null,{"$f":"IF(A244>0,VLOOKUP(A244,Liste!$B$179                         : Liste!$C$189,2),\"\")","v":""},null,null,{"$f":"IF(D244>0,VLOOKUP(D244,Liste!$A$10:$D$163,4),\"\")","v":""},null,null,null,""]
[null,{"$f":"IF(A245>0,VLOOKUP(A245,Liste!$B$179                         : Liste!$C$189,2),\"\")","v":""},null,null,{"$f":"IF(D245>0,VLOOKUP(D245,Liste!$A$10:$D$163,4),\"\")","v":""},null,null,null,""]
[null,{"$f":"IF(A246>0,VLOOKUP(A246,Liste!$B$179                         : Liste!$C$189,2),\"\")","v":""},null,null,{"$f":"IF(D246>0,VLOOKUP(D246,Liste!$A$10:$D$163,4),\"\")","v":""},null,null,null,""]
[null,{"$f":"IF(A247>0,VLOOKUP(A247,Liste!$B$179                         : Liste!$C$189,2),\"\")","v":""},null,null,{"$f":"IF(D247>0,VLOOKUP(D247,Liste!$A$10:$D$163,4),\"\")","v":""},null,null,null,""]
[null,{"$f":"IF(A248>0,VLOOKUP(A248,Liste!$B$179                         : Liste!$C$189,2),\"\")","v":""},null,null,{"$f":"IF(D248>0,VLOOKUP(D248,Liste!$A$10:$D$163,4),\"\")","v":""},null,null,null,""]
[null,{"$f":"IF(A249>0,VLOOKUP(A249,Liste!$B$179                         : Liste!$C$189,2),\"\")","v":""},null,null,{"$f":"IF(D249>0,VLOOKUP(D249,Liste!$A$10:$D$163,4),\"\")","v":""},null,null,null,""]
[null,{"$f":"IF(A250>0,VLOOKUP(A250,Liste!$B$179                         : Liste!$C$189,2),\"\")","v":""},null,null,{"$f":"IF(D250>0,VLOOKUP(D250,Liste!$A$10:$D$163,4),\"\")","v":""},null,null,null,""]
[null,{"$f":"IF(A251>0,VLOOKUP(A251,Liste!$B$179                         : Liste!$C$189,2),\"\")","v":""},null,null,{"$f":"IF(D251>0,VLOOKUP(D251,Liste!$A$10:$D$163,4),\"\")","v":""},null,null,null,""]
[null,{"$f":"IF(A252>0,VLOOKUP(A252,Liste!$B$179                         : Liste!$C$189,2),\"\")","v":""},null,null,{"$f":"IF(D252>0,VLOOKUP(D252,Liste!$A$10:$D$163,4),\"\")","v":""},null,null,null,""]
[null,{"$f":"IF(A253>0,VLOOKUP(A253,Liste!$B$179                         : Liste!$C$189,2),\"\")","v":""},null,null,{"$f":"IF(D253>0,VLOOKUP(D253,Liste!$A$10:$D$163,4),\"\")","v":""},null,null,null,""]
[null,{"$f":"IF(A254>0,VLOOKUP(A254,Liste!$B$179                         : Liste!$C$189,2),\"\")","v":""},null,null,{"$f":"IF(D254>0,VLOOKUP(D254,Liste!$A$10:$D$163,4),\"\")","v":""},null,null,null,""]
[null,{"$f":"IF(A255>0,VLOOKUP(A255,Liste!$B$179                         : Liste!$C$189,2),\"\")","v":""},null,null,{"$f":"IF(D255>0,VLOOKUP(D255,Liste!$A$10:$D$163,4),\"\")","v":""},null,null,null,""]
[null,{"$f":"IF(A256>0,VLOOKUP(A256,Liste!$B$179                         : Liste!$C$189,2),\"\")","v":""},null,null,{"$f":"IF(D256>0,VLOOKUP(D256,Liste!$A$10:$D$163,4),\"\")","v":""},null,null,null,""]
[null,{"$f":"IF(A257>0,VLOOKUP(A257,Liste!$B$179                         : Liste!$C$189,2),\"\")","v":""},null,null,{"$f":"IF(D257>0,VLOOKUP(D257,Liste!$A$10:$D$163,4),\"\")","v":""},null,null,null,""]
[null,{"$f":"IF(A258>0,VLOOKUP(A258,Liste!$B$179                         : Liste!$C$189,2),\"\")","v":""},null,null,{"$f":"IF(D258>0,VLOOKUP(D258,Liste!$A$10:$D$163,4),\"\")","v":""},null,null,null,""]
[null,{"$f":"IF(A259>0,VLOOKUP(A259,Liste!$B$179                         : Liste!$C$189,2),\"\")","v":""},null,null,{"$f":"IF(D259>0,VLOOKUP(D259,Liste!$A$10:$D$163,4),\"\")","v":""},null,null,null,""]
[null,{"$f":"IF(A260>0,VLOOKUP(A260,Liste!$B$179                         : Liste!$C$189,2),\"\")","v":""},null,null,{"$f":"IF(D260>0,VLOOKUP(D260,Liste!$A$10:$D$163,4),\"\")","v":""},null,null,null,""]
[null,{"$f":"IF(A261>0,VLOOKUP(A261,Liste!$B$179                         : Liste!$C$189,2),\"\")","v":""},null,null,{"$f":"IF(D261>0,VLOOKUP(D261,Liste!$A$10:$D$163,4),\"\")","v":""},null,null,null,""]
[null,{"$f":"IF(A262>0,VLOOKUP(A262,Liste!$B$179                         : Liste!$C$189,2),\"\")","v":""},null,null,{"$f":"IF(D262>0,VLOOKUP(D262,Liste!$A$10:$D$163,4),\"\")","v":""},null,null,null,{"$f":"IF(AND(D262>0,F262+G262+H262=0),\"EN ATTENTE\",IF(F262+G262+H262>1,\"ERREUR\",\"\"))","v":""}]
[null,{"$f":"IF(A263>0,VLOOKUP(A263,Liste!$B$179                         : Liste!$C$189,2),\"\")","v":""},null,null,{"$f":"IF(D263>0,VLOOKUP(D263,Liste!$A$10:$D$163,4),\"\")","v":""},null,null,null,""]
[null,{"$f":"IF(A264>0,VLOOKUP(A264,Liste!$B$179                         : Liste!$C$189,2),\"\")","v":""},null,null,{"$f":"IF(D264>0,VLOOKUP(D264,Liste!$A$10:$D$163,4),\"\")","v":""},null,null,null,""]
[null,{"$f":"IF(A265>0,VLOOKUP(A265,Liste!$B$179                         : Liste!$C$189,2),\"\")","v":""},null,null,{"$f":"IF(D265>0,VLOOKUP(D265,Liste!$A$10:$D$163,4),\"\")","v":""},null,null,null,""]
[null,{"$f":"IF(A266>0,VLOOKUP(A266,Liste!$B$179                         : Liste!$C$189,2),\"\")","v":""},null,null,{"$f":"IF(D266>0,VLOOKUP(D266,Liste!$A$10:$D$163,4),\"\")","v":""},null,null,null,""]
[null,{"$f":"IF(A267>0,VLOOKUP(A267,Liste!$B$179                         : Liste!$C$189,2),\"\")","v":""},null,null,{"$f":"IF(D267>0,VLOOKUP(D267,Liste!$A$10:$D$163,4),\"\")","v":""},null,null,null,""]
[null,{"$f":"IF(A268>0,VLOOKUP(A268,Liste!$B$179                         : Liste!$C$189,2),\"\")","v":""},null,null,{"$f":"IF(D268>0,VLOOKUP(D268,Liste!$A$10:$D$163,4),\"\")","v":""},null,null,null,""]
[null,{"$f":"IF(A269>0,VLOOKUP(A269,Liste!$B$179                         : Liste!$C$189,2),\"\")","v":""},null,null,{"$f":"IF(D269>0,VLOOKUP(D269,Liste!$A$10:$D$163,4),\"\")","v":""},null,null,null,""]
[null,{"$f":"IF(A270>0,VLOOKUP(A270,Liste!$B$179                         : Liste!$C$189,2),\"\")","v":""},null,null,{"$f":"IF(D270>0,VLOOKUP(D270,Liste!$A$10:$D$163,4),\"\")","v":""},null,null,null,""]
[null,{"$f":"IF(A271>0,VLOOKUP(A271,Liste!$B$179                         : Liste!$C$189,2),\"\")","v":""},null,null,{"$f":"IF(D271>0,VLOOKUP(D271,Liste!$A$10:$D$163,4),\"\")","v":""},null,null,null,""]
[null,{"$f":"IF(A272>0,VLOOKUP(A272,Liste!$B$179                         : Liste!$C$189,2),\"\")","v":""},null,null,{"$f":"IF(D272>0,VLOOKUP(D272,Liste!$A$10:$D$163,4),\"\")","v":""},null,null,null,""]
[null,{"$f":"IF(A273>0,VLOOKUP(A273,Liste!$B$179                         : Liste!$C$189,2),\"\")","v":""},null,null,{"$f":"IF(D273>0,VLOOKUP(D273,Liste!$A$10:$D$163,4),\"\")","v":""},null,null,null,""]
[null,{"$f":"IF(A274>0,VLOOKUP(A274,Liste!$B$179                         : Liste!$C$189,2),\"\")","v":""},null,null,{"$f":"IF(D274>0,VLOOKUP(D274,Liste!$A$10:$D$163,4),\"\")","v":""},null,null,null,""]
[null,{"$f":"IF(A275>0,VLOOKUP(A275,Liste!$B$179                         : Liste!$C$189,2),\"\")","v":""},null,null,{"$f":"IF(D275>0,VLOOKUP(D275,Liste!$A$10:$D$163,4),\"\")","v":""},null,null,null,""]
[null,{"$f":"IF(A276>0,VLOOKUP(A276,Liste!$B$179                         : Liste!$C$189,2),\"\")","v":""},null,null,{"$f":"IF(D276>0,VLOOKUP(D276,Liste!$A$10:$D$163,4),\"\")","v":""},null,null,null,""]
[null,{"$f":"IF(A277>0,VLOOKUP(A277,Liste!$B$179                         : Liste!$C$189,2),\"\")","v":""},null,null,{"$f":"IF(D277>0,VLOOKUP(D277,Liste!$A$10:$D$163,4),\"\")","v":""},null,null,null,""]
[null,{"$f":"IF(A278>0,VLOOKUP(A278,Liste!$B$179                         : Liste!$C$189,2),\"\")","v":""},null,null,{"$f":"IF(D278>0,VLOOKUP(D278,Liste!$A$10:$D$163,4),\"\")","v":""},null,null,null,""]
[null,{"$f":"IF(A279>0,VLOOKUP(A279,Liste!$B$179                         : Liste!$C$189,2),\"\")","v":""},null,null,{"$f":"IF(D279>0,VLOOKUP(D279,Liste!$A$10:$D$163,4),\"\")","v":""},null,null,null,""]
[null,{"$f":"IF(A280>0,VLOOKUP(A280,Liste!$B$179                         : Liste!$C$189,2),\"\")","v":""},null,null,{"$f":"IF(D280>0,VLOOKUP(D280,Liste!$A$10:$D$163,4),\"\")","v":""},null,null,null,""]
[null,{"$f":"IF(A281>0,VLOOKUP(A281,Liste!$B$179                         : Liste!$C$189,2),\"\")","v":""},null,null,{"$f":"IF(D281>0,VLOOKUP(D281,Liste!$A$10:$D$163,4),\"\")","v":""},null,null,null,""]
[null,{"$f":"IF(A282>0,VLOOKUP(A282,Liste!$B$179                         : Liste!$C$189,2),\"\")","v":""},null,null,{"$f":"IF(D282>0,VLOOKUP(D282,Liste!$A$10:$D$163,4),\"\")","v":""},null,null,null,""]
[null,{"$f":"IF(A283>0,VLOOKUP(A283,Liste!$B$179                         : Liste!$C$189,2),\"\")","v":""},null,null,{"$f":"IF(D283>0,VLOOKUP(D283,Liste!$A$10:$D$163,4),\"\")","v":""},null,null,null,""]
[null,{"$f":"IF(A284>0,VLOOKUP(A284,Liste!$B$179                         : Liste!$C$189,2),\"\")","v":""},null,null,{"$f":"IF(D284>0,VLOOKUP(D284,Liste!$A$10:$D$163,4),\"\")","v":""},null,null,null,""]
[null,{"$f":"IF(A285>0,VLOOKUP(A285,Liste!$B$179                         : Liste!$C$189,2),\"\")","v":""},null,null,{"$f":"IF(D285>0,VLOOKUP(D285,Liste!$A$10:$D$163,4),\"\")","v":""},null,null,null,""]
[null,{"$f":"IF(A286>0,VLOOKUP(A286,Liste!$B$179                         : Liste!$C$189,2),\"\")","v":""},null,null,{"$f":"IF(D286>0,VLOOKUP(D286,Liste!$A$10:$D$163,4),\"\")","v":""},null,null,null,""]
[null,{"$f":"IF(A287>0,VLOOKUP(A287,Liste!$B$179                         : Liste!$C$189,2),\"\")","v":""},null,null,{"$f":"IF(D287>0,VLOOKUP(D287,Liste!$A$10:$D$163,4),\"\")","v":""},null,null,null,""]
[null,{"$f":"IF(A288>0,VLOOKUP(A288,Liste!$B$179                         : Liste!$C$189,2),\"\")","v":""},null,null,{"$f":"IF(D288>0,VLOOKUP(D288,Liste!$A$10:$D$163,4),\"\")","v":""},null,null,null,""]
[null,{"$f":"IF(A289>0,VLOOKUP(A289,Liste!$B$179                         : Liste!$C$189,2),\"\")","v":""},null,null,{"$f":"IF(D289>0,VLOOKUP(D289,Liste!$A$10:$D$163,4),\"\")","v":""},null,null,null,""]
[null,{"$f":"IF(A290>0,VLOOKUP(A290,Liste!$B$179                         : Liste!$C$189,2),\"\")","v":""},null,null,{"$f":"IF(D290>0,VLOOKUP(D290,Liste!$A$10:$D$163,4),\"\")","v":""},null,null,null,""]
[null,{"$f":"IF(A291>0,VLOOKUP(A291,Liste!$B$179                         : Liste!$C$189,2),\"\")","v":""},null,null,{"$f":"IF(D291>0,VLOOKUP(D291,Liste!$A$10:$D$163,4),\"\")","v":""},null,null,null,""]
[null,{"$f":"IF(A292>0,VLOOKUP(A292,Liste!$B$179                         : Liste!$C$189,2),\"\")","v":""},null,null,{"$f":"IF(D292>0,VLOOKUP(D292,Liste!$A$10:$D$163,4),\"\")","v":""},null,null,null,""]
[null,{"$f":"IF(A293>0,VLOOKUP(A293,Liste!$B$179                         : Liste!$C$189,2),\"\")","v":""},null,null,{"$f":"IF(D293>0,VLOOKUP(D293,Liste!$A$10:$D$163,4),\"\")","v":""},null,null,null,""]
[null,{"$f":"IF(A294>0,VLOOKUP(A294,Liste!$B$179                         : Liste!$C$189,2),\"\")","v":""},null,null,{"$f":"IF(D294>0,VLOOKUP(D294,Liste!$A$10:$D$163,4),\"\")","v":""},null,null,null,""]
[null,{"$f":"IF(A295>0,VLOOKUP(A295,Liste!$B$179                         : Liste!$C$189,2),\"\")","v":""},null,null,{"$f":"IF(D295>0,VLOOKUP(D295,Liste!$A$10:$D$163,4),\"\")","v":""},null,null,null,""]
[null,{"$f":"IF(A296>0,VLOOKUP(A296,Liste!$B$179                         : Liste!$C$189,2),\"\")","v":""},null,null,{"$f":"IF(D296>0,VLOOKUP(D296,Liste!$A$10:$D$163,4),\"\")","v":""},null,null,null,""]
[null,{"$f":"IF(A297>0,VLOOKUP(A297,Liste!$B$179                         : Liste!$C$189,2),\"\")","v":""},null,null,{"$f":"IF(D297>0,VLOOKUP(D297,Liste!$A$10:$D$163,4),\"\")","v":""},null,null,null,""]
[null,{"$f":"IF(A298>0,VLOOKUP(A298,Liste!$B$179                         : Liste!$C$189,2),\"\")","v":""},null,null,{"$f":"IF(D298>0,VLOOKUP(D298,Liste!$A$10:$D$163,4),\"\")","v":""},null,null,null,""]
[null,{"$f":"IF(A299>0,VLOOKUP(A299,Liste!$B$179                         : Liste!$C$189,2),\"\")","v":""},null,null,{"$f":"IF(D299>0,VLOOKUP(D299,Liste!$A$10:$D$163,4),\"\")","v":""},null,null,null,""]
[null,{"$f":"IF(A300>0,VLOOKUP(A300,Liste!$B$179                         : Liste!$C$189,2),\"\")","v":""},null,null,{"$f":"IF(D300>0,VLOOKUP(D300,Liste!$A$10:$D$163,4),\"\")","v":""},null,null,null,""]
[null,{"$f":"IF(A301>0,VLOOKUP(A301,Liste!$B$179                         : Liste!$C$189,2),\"\")","v":""},null,null,{"$f":"IF(D301>0,VLOOKUP(D301,Liste!$A$10:$D$163,4),\"\")","v":""},null,null,null,""]
[null,{"$f":"IF(A302>0,VLOOKUP(A302,Liste!$B$179                         : Liste!$C$189,2),\"\")","v":""},null,null,{"$f":"IF(D302>0,VLOOKUP(D302,Liste!$A$10:$D$163,4),\"\")","v":""},null,null,null,""]
[null,{"$f":"IF(A303>0,VLOOKUP(A303,Liste!$B$179                         : Liste!$C$189,2),\"\")","v":""},null,null,{"$f":"IF(D303>0,VLOOKUP(D303,Liste!$A$10:$D$163,4),\"\")","v":""},null,null,null,""]
[null,{"$f":"IF(A304>0,VLOOKUP(A304,Liste!$B$179                         : Liste!$C$189,2),\"\")","v":""},null,null,{"$f":"IF(D304>0,VLOOKUP(D304,Liste!$A$10:$D$163,4),\"\")","v":""},null,null,null,""]
[null,{"$f":"IF(A305>0,VLOOKUP(A305,Liste!$B$179                         : Liste!$C$189,2),\"\")","v":""},null,null,{"$f":"IF(D305>0,VLOOKUP(D305,Liste!$A$10:$D$163,4),\"\")","v":""},null,null,null,""]
[null,{"$f":"IF(A306>0,VLOOKUP(A306,Liste!$B$179                         : Liste!$C$189,2),\"\")","v":""},null,null,{"$f":"IF(D306>0,VLOOKUP(D306,Liste!$A$10:$D$163,4),\"\")","v":""},null,null,null,""]
[null,{"$f":"IF(A307>0,VLOOKUP(A307,Liste!$B$179                         : Liste!$C$189,2),\"\")","v":""},null,null,{"$f":"IF(D307>0,VLOOKUP(D307,Liste!$A$10:$D$163,4),\"\")","v":""},null,null,null,""]
[null,{"$f":"IF(A308>0,VLOOKUP(A308,Liste!$B$179                         : Liste!$C$189,2),\"\")","v":""},null,null,{"$f":"IF(D308>0,VLOOKUP(D308,Liste!$A$10:$D$163,4),\"\")","v":""},null,null,null,""]
[null,{"$f":"IF(A309>0,VLOOKUP(A309,Liste!$B$179                         : Liste!$C$189,2),\"\")","v":""},null,null,{"$f":"IF(D309>0,VLOOKUP(D309,Liste!$A$10:$D$163,4),\"\")","v":""},null,null,null,""]
[null,{"$f":"IF(A310>0,VLOOKUP(A310,Liste!$B$179                         : Liste!$C$189,2),\"\")","v":""},null,null,{"$f":"IF(D310>0,VLOOKUP(D310,Liste!$A$10:$D$163,4),\"\")","v":""},null,null,null,""]
[null,{"$f":"IF(A311>0,VLOOKUP(A311,Liste!$B$179                         : Liste!$C$189,2),\"\")","v":""},null,null,{"$f":"IF(D311>0,VLOOKUP(D311,Liste!$A$10:$D$163,4),\"\")","v":""},null,null,null,""]
[null,{"$f":"IF(A312>0,VLOOKUP(A312,Liste!$B$179                         : Liste!$C$189,2),\"\")","v":""},null,null,{"$f":"IF(D312>0,VLOOKUP(D312,Liste!$A$10:$D$163,4),\"\")","v":""},null,null,null,""]
[null,{"$f":"IF(A313>0,VLOOKUP(A313,Liste!$B$179                         : Liste!$C$189,2),\"\")","v":""},null,null,{"$f":"IF(D313>0,VLOOKUP(D313,Liste!$A$10:$D$163,4),\"\")","v":""},null,null,null,""]
[null,{"$f":"IF(A314>0,VLOOKUP(A314,Liste!$B$179                         : Liste!$C$189,2),\"\")","v":""},null,null,{"$f":"IF(D314>0,VLOOKUP(D314,Liste!$A$10:$D$163,4),\"\")","v":""},null,null,null,""]
[null,{"$f":"IF(A315>0,VLOOKUP(A315,Liste!$B$179                         : Liste!$C$189,2),\"\")","v":""},null,null,{"$f":"IF(D315>0,VLOOKUP(D315,Liste!$A$10:$D$163,4),\"\")","v":""},null,null,null,""]
[null,{"$f":"IF(A316>0,VLOOKUP(A316,Liste!$B$179                         : Liste!$C$189,2),\"\")","v":""},null,null,{"$f":"IF(D316>0,VLOOKUP(D316,Liste!$A$10:$D$163,4),\"\")","v":""},null,null,null,""]
[null,{"$f":"IF(A317>0,VLOOKUP(A317,Liste!$B$179                         : Liste!$C$189,2),\"\")","v":""},null,null,{"$f":"IF(D317>0,VLOOKUP(D317,Liste!$A$10:$D$163,4),\"\")","v":""},null,null,null,""]
[null,{"$f":"IF(A318>0,VLOOKUP(A318,Liste!$B$179                         : Liste!$C$189,2),\"\")","v":""},null,null,{"$f":"IF(D318>0,VLOOKUP(D318,Liste!$A$10:$D$163,4),\"\")","v":""},null,null,null,""]
[null,{"$f":"IF(A319>0,VLOOKUP(A319,Liste!$B$179                         : Liste!$C$189,2),\"\")","v":""},null,null,{"$f":"IF(D319>0,VLOOKUP(D319,Liste!$A$10:$D$163,4),\"\")","v":""},null,null,null,""]
[null,{"$f":"IF(A320>0,VLOOKUP(A320,Liste!$B$179                         : Liste!$C$189,2),\"\")","v":""},null,null,{"$f":"IF(D320>0,VLOOKUP(D320,Liste!$A$10:$D$163,4),\"\")","v":""},null,null,null,""]
[null,{"$f":"IF(A321>0,VLOOKUP(A321,Liste!$B$179                         : Liste!$C$189,2),\"\")","v":""},null,null,{"$f":"IF(D321>0,VLOOKUP(D321,Liste!$A$10:$D$163,4),\"\")","v":""},null,null,null,""]
[null,{"$f":"IF(A322>0,VLOOKUP(A322,Liste!$B$179                         : Liste!$C$189,2),\"\")","v":""},null,null,{"$f":"IF(D322>0,VLOOKUP(D322,Liste!$A$10:$D$163,4),\"\")","v":""},null,null,null,""]
[null,{"$f":"IF(A323>0,VLOOKUP(A323,Liste!$B$179                         : Liste!$C$189,2),\"\")","v":""},null,null,{"$f":"IF(D323>0,VLOOKUP(D323,Liste!$A$10:$D$163,4),\"\")","v":""},null,null,null,""]
[null,{"$f":"IF(A324>0,VLOOKUP(A324,Liste!$B$179                         : Liste!$C$189,2),\"\")","v":""},null,null,{"$f":"IF(D324>0,VLOOKUP(D324,Liste!$A$10:$D$163,4),\"\")","v":""},null,null,null,""]
[null,{"$f":"IF(A325>0,VLOOKUP(A325,Liste!$B$179                         : Liste!$C$189,2),\"\")","v":""},null,null,{"$f":"IF(D325>0,VLOOKUP(D325,Liste!$A$10:$D$163,4),\"\")","v":""},null,null,null,""]
[null,{"$f":"IF(A326>0,VLOOKUP(A326,Liste!$B$179                         : Liste!$C$189,2),\"\")","v":""},null,null,{"$f":"IF(D326>0,VLOOKUP(D326,Liste!$A$10:$D$163,4),\"\")","v":""},null,null,null,{"$f":"IF(AND(D326>0,F326+G326+H326=0),\"EN ATTENTE\",IF(F326+G326+H326>1,\"ERREUR\",\"\"))","v":""}]
[null,{"$f":"IF(A327>0,VLOOKUP(A327,Liste!$B$179                         : Liste!$C$189,2),\"\")","v":""},null,null,{"$f":"IF(D327>0,VLOOKUP(D327,Liste!$A$10:$D$163,4),\"\")","v":""},null,null,null,""]
[null,{"$f":"IF(A328>0,VLOOKUP(A328,Liste!$B$179                         : Liste!$C$189,2),\"\")","v":""},null,null,{"$f":"IF(D328>0,VLOOKUP(D328,Liste!$A$10:$D$163,4),\"\")","v":""},null,null,null,""]
[null,{"$f":"IF(A329>0,VLOOKUP(A329,Liste!$B$179                         : Liste!$C$189,2),\"\")","v":""},null,null,{"$f":"IF(D329>0,VLOOKUP(D329,Liste!$A$10:$D$163,4),\"\")","v":""},null,null,null,""]
[null,{"$f":"IF(A330>0,VLOOKUP(A330,Liste!$B$179                         : Liste!$C$189,2),\"\")","v":""},null,null,{"$f":"IF(D330>0,VLOOKUP(D330,Liste!$A$10:$D$163,4),\"\")","v":""},null,null,null,""]
[null,{"$f":"IF(A331>0,VLOOKUP(A331,Liste!$B$179                         : Liste!$C$189,2),\"\")","v":""},null,null,{"$f":"IF(D331>0,VLOOKUP(D331,Liste!$A$10:$D$163,4),\"\")","v":""},null,null,null,""]
[null,{"$f":"IF(A332>0,VLOOKUP(A332,Liste!$B$179                         : Liste!$C$189,2),\"\")","v":""},null,null,{"$f":"IF(D332>0,VLOOKUP(D332,Liste!$A$10:$D$163,4),\"\")","v":""},null,null,null,""]
[null,{"$f":"IF(A333>0,VLOOKUP(A333,Liste!$B$179                         : Liste!$C$189,2),\"\")","v":""},null,null,{"$f":"IF(D333>0,VLOOKUP(D333,Liste!$A$10:$D$163,4),\"\")","v":""},null,null,null,""]
[null,{"$f":"IF(A334>0,VLOOKUP(A334,Liste!$B$179                         : Liste!$C$189,2),\"\")","v":""},null,null,{"$f":"IF(D334>0,VLOOKUP(D334,Liste!$A$10:$D$163,4),\"\")","v":""},null,null,null,""]
[null,{"$f":"IF(A335>0,VLOOKUP(A335,Liste!$B$179                         : Liste!$C$189,2),\"\")","v":""},null,null,{"$f":"IF(D335>0,VLOOKUP(D335,Liste!$A$10:$D$163,4),\"\")","v":""},null,null,null,""]
[null,{"$f":"IF(A336>0,VLOOKUP(A336,Liste!$B$179                         : Liste!$C$189,2),\"\")","v":""},null,null,{"$f":"IF(D336>0,VLOOKUP(D336,Liste!$A$10:$D$163,4),\"\")","v":""},null,null,null,""]
[null,{"$f":"IF(A337>0,VLOOKUP(A337,Liste!$B$179                         : Liste!$C$189,2),\"\")","v":""},null,null,{"$f":"IF(D337>0,VLOOKUP(D337,Liste!$A$10:$D$163,4),\"\")","v":""},null,null,null,""]
[null,{"$f":"IF(A338>0,VLOOKUP(A338,Liste!$B$179                         : Liste!$C$189,2),\"\")","v":""},null,null,{"$f":"IF(D338>0,VLOOKUP(D338,Liste!$A$10:$D$163,4),\"\")","v":""},null,null,null,""]
[null,{"$f":"IF(A339>0,VLOOKUP(A339,Liste!$B$179                         : Liste!$C$189,2),\"\")","v":""},null,null,{"$f":"IF(D339>0,VLOOKUP(D339,Liste!$A$10:$D$163,4),\"\")","v":""},null,null,null,""]
[null,{"$f":"IF(A340>0,VLOOKUP(A340,Liste!$B$179                         : Liste!$C$189,2),\"\")","v":""},null,null,{"$f":"IF(D340>0,VLOOKUP(D340,Liste!$A$10:$D$163,4),\"\")","v":""},null,null,null,""]
[null,{"$f":"IF(A341>0,VLOOKUP(A341,Liste!$B$179                         : Liste!$C$189,2),\"\")","v":""},null,null,{"$f":"IF(D341>0,VLOOKUP(D341,Liste!$A$10:$D$163,4),\"\")","v":""},null,null,null,""]
[null,{"$f":"IF(A342>0,VLOOKUP(A342,Liste!$B$179                         : Liste!$C$189,2),\"\")","v":""},null,null,{"$f":"IF(D342>0,VLOOKUP(D342,Liste!$A$10:$D$163,4),\"\")","v":""},null,null,null,""]
[null,{"$f":"IF(A343>0,VLOOKUP(A343,Liste!$B$179                         : Liste!$C$189,2),\"\")","v":""},null,null,{"$f":"IF(D343>0,VLOOKUP(D343,Liste!$A$10:$D$163,4),\"\")","v":""},null,null,null,""]
[null,{"$f":"IF(A344>0,VLOOKUP(A344,Liste!$B$179                         : Liste!$C$189,2),\"\")","v":""},null,null,{"$f":"IF(D344>0,VLOOKUP(D344,Liste!$A$10:$D$163,4),\"\")","v":""},null,null,null,""]
[null,{"$f":"IF(A345>0,VLOOKUP(A345,Liste!$B$179                         : Liste!$C$189,2),\"\")","v":""},null,null,{"$f":"IF(D345>0,VLOOKUP(D345,Liste!$A$10:$D$163,4),\"\")","v":""},null,null,null,""]
[null,{"$f":"IF(A346>0,VLOOKUP(A346,Liste!$B$179                         : Liste!$C$189,2),\"\")","v":""},null,null,{"$f":"IF(D346>0,VLOOKUP(D346,Liste!$A$10:$D$163,4),\"\")","v":""},null,null,null,""]
[null,{"$f":"IF(A347>0,VLOOKUP(A347,Liste!$B$179                         : Liste!$C$189,2),\"\")","v":""},null,null,{"$f":"IF(D347>0,VLOOKUP(D347,Liste!$A$10:$D$163,4),\"\")","v":""},null,null,null,""]
[null,{"$f":"IF(A348>0,VLOOKUP(A348,Liste!$B$179                         : Liste!$C$189,2),\"\")","v":""},null,null,{"$f":"IF(D348>0,VLOOKUP(D348,Liste!$A$10:$D$163,4),\"\")","v":""},null,null,null,""]
[null,{"$f":"IF(A349>0,VLOOKUP(A349,Liste!$B$179                         : Liste!$C$189,2),\"\")","v":""},null,null,{"$f":"IF(D349>0,VLOOKUP(D349,Liste!$A$10:$D$163,4),\"\")","v":""},null,null,null,""]
[null,{"$f":"IF(A350>0,VLOOKUP(A350,Liste!$B$179                         : Liste!$C$189,2),\"\")","v":""},null,null,{"$f":"IF(D350>0,VLOOKUP(D350,Liste!$A$10:$D$163,4),\"\")","v":""},null,null,null,""]
[null,{"$f":"IF(A351>0,VLOOKUP(A351,Liste!$B$179                         : Liste!$C$189,2),\"\")","v":""},null,null,{"$f":"IF(D351>0,VLOOKUP(D351,Liste!$A$10:$D$163,4),\"\")","v":""},null,null,null,""]
[null,{"$f":"IF(A352>0,VLOOKUP(A352,Liste!$B$179                         : Liste!$C$189,2),\"\")","v":""},null,null,{"$f":"IF(D352>0,VLOOKUP(D352,Liste!$A$10:$D$163,4),\"\")","v":""},null,null,null,""]
[null,{"$f":"IF(A353>0,VLOOKUP(A353,Liste!$B$179                         : Liste!$C$189,2),\"\")","v":""},null,null,{"$f":"IF(D353>0,VLOOKUP(D353,Liste!$A$10:$D$163,4),\"\")","v":""},null,null,null,""]
[null,{"$f":"IF(A354>0,VLOOKUP(A354,Liste!$B$179                         : Liste!$C$189,2),\"\")","v":""},null,null,{"$f":"IF(D354>0,VLOOKUP(D354,Liste!$A$10:$D$163,4),\"\")","v":""},null,null,null,""]
[null,{"$f":"IF(A355>0,VLOOKUP(A355,Liste!$B$179                         : Liste!$C$189,2),\"\")","v":""},null,null,{"$f":"IF(D355>0,VLOOKUP(D355,Liste!$A$10:$D$163,4),\"\")","v":""},null,null,null,""]
[null,{"$f":"IF(A356>0,VLOOKUP(A356,Liste!$B$179                         : Liste!$C$189,2),\"\")","v":""},null,null,{"$f":"IF(D356>0,VLOOKUP(D356,Liste!$A$10:$D$163,4),\"\")","v":""},null,null,null,""]
[null,{"$f":"IF(A357>0,VLOOKUP(A357,Liste!$B$179                         : Liste!$C$189,2),\"\")","v":""},null,null,{"$f":"IF(D357>0,VLOOKUP(D357,Liste!$A$10:$D$163,4),\"\")","v":""},null,null,null,""]
[null,{"$f":"IF(A358>0,VLOOKUP(A358,Liste!$B$179                         : Liste!$C$189,2),\"\")","v":""},null,null,{"$f":"IF(D358>0,VLOOKUP(D358,Liste!$A$10:$D$163,4),\"\")","v":""},null,null,null,""]
[null,{"$f":"IF(A359>0,VLOOKUP(A359,Liste!$B$179                         : Liste!$C$189,2),\"\")","v":""},null,null,{"$f":"IF(D359>0,VLOOKUP(D359,Liste!$A$10:$D$163,4),\"\")","v":""},null,null,null,""]
[null,{"$f":"IF(A360>0,VLOOKUP(A360,Liste!$B$179                         : Liste!$C$189,2),\"\")","v":""},null,null,{"$f":"IF(D360>0,VLOOKUP(D360,Liste!$A$10:$D$163,4),\"\")","v":""},null,null,null,""]
[null,{"$f":"IF(A361>0,VLOOKUP(A361,Liste!$B$179                         : Liste!$C$189,2),\"\")","v":""},null,null,{"$f":"IF(D361>0,VLOOKUP(D361,Liste!$A$10:$D$163,4),\"\")","v":""},null,null,null,""]
[null,{"$f":"IF(A362>0,VLOOKUP(A362,Liste!$B$179                         : Liste!$C$189,2),\"\")","v":""},null,null,{"$f":"IF(D362>0,VLOOKUP(D362,Liste!$A$10:$D$163,4),\"\")","v":""},null,null,null,""]
[null,{"$f":"IF(A363>0,VLOOKUP(A363,Liste!$B$179                         : Liste!$C$189,2),\"\")","v":""},null,null,{"$f":"IF(D363>0,VLOOKUP(D363,Liste!$A$10:$D$163,4),\"\")","v":""},null,null,null,""]
[null,{"$f":"IF(A364>0,VLOOKUP(A364,Liste!$B$179                         : Liste!$C$189,2),\"\")","v":""},null,null,{"$f":"IF(D364>0,VLOOKUP(D364,Liste!$A$10:$D$163,4),\"\")","v":""},null,null,null,""]
[null,{"$f":"IF(A365>0,VLOOKUP(A365,Liste!$B$179                         : Liste!$C$189,2),\"\")","v":""},null,null,{"$f":"IF(D365>0,VLOOKUP(D365,Liste!$A$10:$D$163,4),\"\")","v":""},null,null,null,""]
[null,{"$f":"IF(A366>0,VLOOKUP(A366,Liste!$B$179                         : Liste!$C$189,2),\"\")","v":""},null,null,{"$f":"IF(D366>0,VLOOKUP(D366,Liste!$A$10:$D$163,4),\"\")","v":""},null,null,null,""]
[null,{"$f":"IF(A367>0,VLOOKUP(A367,Liste!$B$179                         : Liste!$C$189,2),\"\")","v":""},null,null,{"$f":"IF(D367>0,VLOOKUP(D367,Liste!$A$10:$D$163,4),\"\")","v":""},null,null,null,""]
[null,{"$f":"IF(A368>0,VLOOKUP(A368,Liste!$B$179                         : Liste!$C$189,2),\"\")","v":""},null,null,{"$f":"IF(D368>0,VLOOKUP(D368,Liste!$A$10:$D$163,4),\"\")","v":""},null,null,null,""]
[null,{"$f":"IF(A369>0,VLOOKUP(A369,Liste!$B$179                         : Liste!$C$189,2),\"\")","v":""},null,null,{"$f":"IF(D369>0,VLOOKUP(D369,Liste!$A$10:$D$163,4),\"\")","v":""},null,null,null,""]
[null,{"$f":"IF(A370>0,VLOOKUP(A370,Liste!$B$179                         : Liste!$C$189,2),\"\")","v":""},null,null,{"$f":"IF(D370>0,VLOOKUP(D370,Liste!$A$10:$D$163,4),\"\")","v":""},null,null,null,""]
[null,{"$f":"IF(A371>0,VLOOKUP(A371,Liste!$B$179                         : Liste!$C$189,2),\"\")","v":""},null,null,{"$f":"IF(D371>0,VLOOKUP(D371,Liste!$A$10:$D$163,4),\"\")","v":""},null,null,null,""]
[null,{"$f":"IF(A372>0,VLOOKUP(A372,Liste!$B$179                         : Liste!$C$189,2),\"\")","v":""},null,null,{"$f":"IF(D372>0,VLOOKUP(D372,Liste!$A$10:$D$163,4),\"\")","v":""},null,null,null,""]
[null,{"$f":"IF(A373>0,VLOOKUP(A373,Liste!$B$179                         : Liste!$C$189,2),\"\")","v":""},null,null,{"$f":"IF(D373>0,VLOOKUP(D373,Liste!$A$10:$D$163,4),\"\")","v":""},null,null,null,""]
[null,{"$f":"IF(A374>0,VLOOKUP(A374,Liste!$B$179                         : Liste!$C$189,2),\"\")","v":""},null,null,{"$f":"IF(D374>0,VLOOKUP(D374,Liste!$A$10:$D$163,4),\"\")","v":""},null,null,null,""]
[null,{"$f":"IF(A375>0,VLOOKUP(A375,Liste!$B$179                         : Liste!$C$189,2),\"\")","v":""},null,null,{"$f":"IF(D375>0,VLOOKUP(D375,Liste!$A$10:$D$163,4),\"\")","v":""},null,null,null,""]
[null,{"$f":"IF(A376>0,VLOOKUP(A376,Liste!$B$179                         : Liste!$C$189,2),\"\")","v":""},null,null,{"$f":"IF(D376>0,VLOOKUP(D376,Liste!$A$10:$D$163,4),\"\")","v":""},null,null,null,""]
[null,{"$f":"IF(A377>0,VLOOKUP(A377,Liste!$B$179                         : Liste!$C$189,2),\"\")","v":""},null,null,{"$f":"IF(D377>0,VLOOKUP(D377,Liste!$A$10:$D$163,4),\"\")","v":""},null,null,null,""]
[null,{"$f":"IF(A378>0,VLOOKUP(A378,Liste!$B$179                         : Liste!$C$189,2),\"\")","v":""},null,null,{"$f":"IF(D378>0,VLOOKUP(D378,Liste!$A$10:$D$163,4),\"\")","v":""},null,null,null,""]
[null,{"$f":"IF(A379>0,VLOOKUP(A379,Liste!$B$179                         : Liste!$C$189,2),\"\")","v":""},null,null,{"$f":"IF(D379>0,VLOOKUP(D379,Liste!$A$10:$D$163,4),\"\")","v":""},null,null,null,""]
[null,{"$f":"IF(A380>0,VLOOKUP(A380,Liste!$B$179                         : Liste!$C$189,2),\"\")","v":""},null,null,{"$f":"IF(D380>0,VLOOKUP(D380,Liste!$A$10:$D$163,4),\"\")","v":""},null,null,null,""]
[null,{"$f":"IF(A381>0,VLOOKUP(A381,Liste!$B$179                         : Liste!$C$189,2),\"\")","v":""},null,null,{"$f":"IF(D381>0,VLOOKUP(D381,Liste!$A$10:$D$163,4),\"\")","v":""},null,null,null,""]
[null,{"$f":"IF(A382>0,VLOOKUP(A382,Liste!$B$179                         : Liste!$C$189,2),\"\")","v":""},null,null,{"$f":"IF(D382>0,VLOOKUP(D382,Liste!$A$10:$D$163,4),\"\")","v":""},null,null,null,""]
[null,{"$f":"IF(A383>0,VLOOKUP(A383,Liste!$B$179                         : Liste!$C$189,2),\"\")","v":""},null,null,{"$f":"IF(D383>0,VLOOKUP(D383,Liste!$A$10:$D$163,4),\"\")","v":""},null,null,null,""]
[null,{"$f":"IF(A384>0,VLOOKUP(A384,Liste!$B$179                         : Liste!$C$189,2),\"\")","v":""},null,null,{"$f":"IF(D384>0,VLOOKUP(D384,Liste!$A$10:$D$163,4),\"\")","v":""},null,null,null,""]
[null,{"$f":"IF(A385>0,VLOOKUP(A385,Liste!$B$179                         : Liste!$C$189,2),\"\")","v":""},null,null,{"$f":"IF(D385>0,VLOOKUP(D385,Liste!$A$10:$D$163,4),\"\")","v":""},null,null,null,""]
[null,{"$f":"IF(A386>0,VLOOKUP(A386,Liste!$B$179                         : Liste!$C$189,2),\"\")","v":""},null,null,{"$f":"IF(D386>0,VLOOKUP(D386,Liste!$A$10:$D$163,4),\"\")","v":""},null,null,null,""]
[null,{"$f":"IF(A387>0,VLOOKUP(A387,Liste!$B$179                         : Liste!$C$189,2),\"\")","v":""},null,null,{"$f":"IF(D387>0,VLOOKUP(D387,Liste!$A$10:$D$163,4),\"\")","v":""},null,null,null,""]
[null,{"$f":"IF(A388>0,VLOOKUP(A388,Liste!$B$179                         : Liste!$C$189,2),\"\")","v":""},null,null,{"$f":"IF(D388>0,VLOOKUP(D388,Liste!$A$10:$D$163,4),\"\")","v":""},null,null,null,""]
[null,{"$f":"IF(A389>0,VLOOKUP(A389,Liste!$B$179                         : Liste!$C$189,2),\"\")","v":""},null,null,{"$f":"IF(D389>0,VLOOKUP(D389,Liste!$A$10:$D$163,4),\"\")","v":""},null,null,null,""]
[null,{"$f":"IF(A390>0,VLOOKUP(A390,Liste!$B$179                         : Liste!$C$189,2),\"\")","v":""},null,null,{"$f":"IF(D390>0,VLOOKUP(D390,Liste!$A$10:$D$163,4),\"\")","v":""},null,null,null,{"$f":"IF(AND(D390>0,F390+G390+H390=0),\"EN ATTENTE\",IF(F390+G390+H390>1,\"ERREUR\",\"\"))","v":""}]
[null,{"$f":"IF(A391>0,VLOOKUP(A391,Liste!$B$179                         : Liste!$C$189,2),\"\")","v":""},null,null,{"$f":"IF(D391>0,VLOOKUP(D391,Liste!$A$10:$D$163,4),\"\")","v":""},null,null,null,""]
[null,{"$f":"IF(A392>0,VLOOKUP(A392,Liste!$B$179                         : Liste!$C$189,2),\"\")","v":""},null,null,{"$f":"IF(D392>0,VLOOKUP(D392,Liste!$A$10:$D$163,4),\"\")","v":""},null,null,null,""]
[null,{"$f":"IF(A393>0,VLOOKUP(A393,Liste!$B$179                         : Liste!$C$189,2),\"\")","v":""},null,null,{"$f":"IF(D393>0,VLOOKUP(D393,Liste!$A$10:$D$163,4),\"\")","v":""},null,null,null,""]
[null,{"$f":"IF(A394>0,VLOOKUP(A394,Liste!$B$179                         : Liste!$C$189,2),\"\")","v":""},null,null,{"$f":"IF(D394>0,VLOOKUP(D394,Liste!$A$10:$D$163,4),\"\")","v":""},null,null,null,""]
[null,{"$f":"IF(A395>0,VLOOKUP(A395,Liste!$B$179                         : Liste!$C$189,2),\"\")","v":""},null,null,{"$f":"IF(D395>0,VLOOKUP(D395,Liste!$A$10:$D$163,4),\"\")","v":""},null,null,null,""]
[null,{"$f":"IF(A396>0,VLOOKUP(A396,Liste!$B$179                         : Liste!$C$189,2),\"\")","v":""},null,null,{"$f":"IF(D396>0,VLOOKUP(D396,Liste!$A$10:$D$163,4),\"\")","v":""},null,null,null,""]
[null,{"$f":"IF(A397>0,VLOOKUP(A397,Liste!$B$179                         : Liste!$C$189,2),\"\")","v":""},null,null,{"$f":"IF(D397>0,VLOOKUP(D397,Liste!$A$10:$D$163,4),\"\")","v":""},null,null,null,""]
[null,{"$f":"IF(A398>0,VLOOKUP(A398,Liste!$B$179                         : Liste!$C$189,2),\"\")","v":""},null,null,{"$f":"IF(D398>0,VLOOKUP(D398,Liste!$A$10:$D$163,4),\"\")","v":""},null,null,null,""]
[null,{"$f":"IF(A399>0,VLOOKUP(A399,Liste!$B$179                         : Liste!$C$189,2),\"\")","v":""},null,null,{"$f":"IF(D399>0,VLOOKUP(D399,Liste!$A$10:$D$163,4),\"\")","v":""},null,null,null,""]
[null,{"$f":"IF(A400>0,VLOOKUP(A400,Liste!$B$179                         : Liste!$C$189,2),\"\")","v":""},null,null,{"$f":"IF(D400>0,VLOOKUP(D400,Liste!$A$10:$D$163,4),\"\")","v":""},null,null,null,""]
[null,{"$f":"IF(A401>0,VLOOKUP(A401,Liste!$B$179                         : Liste!$C$189,2),\"\")","v":""},null,null,{"$f":"IF(D401>0,VLOOKUP(D401,Liste!$A$10:$D$163,4),\"\")","v":""},null,null,null,""]
[null,{"$f":"IF(A402>0,VLOOKUP(A402,Liste!$B$179                         : Liste!$C$189,2),\"\")","v":""},null,null,{"$f":"IF(D402>0,VLOOKUP(D402,Liste!$A$10:$D$163,4),\"\")","v":""},null,null,null,""]
[null,{"$f":"IF(A403>0,VLOOKUP(A403,Liste!$B$179                         : Liste!$C$189,2),\"\")","v":""},null,null,{"$f":"IF(D403>0,VLOOKUP(D403,Liste!$A$10:$D$163,4),\"\")","v":""},null,null,null,""]
[null,{"$f":"IF(A404>0,VLOOKUP(A404,Liste!$B$179                         : Liste!$C$189,2),\"\")","v":""},null,null,{"$f":"IF(D404>0,VLOOKUP(D404,Liste!$A$10:$D$163,4),\"\")","v":""},null,null,null,""]
[null,{"$f":"IF(A405>0,VLOOKUP(A405,Liste!$B$179                         : Liste!$C$189,2),\"\")","v":""},null,null,{"$f":"IF(D405>0,VLOOKUP(D405,Liste!$A$10:$D$163,4),\"\")","v":""},null,null,null,""]
[null,{"$f":"IF(A406>0,VLOOKUP(A406,Liste!$B$179                         : Liste!$C$189,2),\"\")","v":""},null,null,{"$f":"IF(D406>0,VLOOKUP(D406,Liste!$A$10:$D$163,4),\"\")","v":""},null,null,null,""]
[null,{"$f":"IF(A407>0,VLOOKUP(A407,Liste!$B$179                         : Liste!$C$189,2),\"\")","v":""},null,null,{"$f":"IF(D407>0,VLOOKUP(D407,Liste!$A$10:$D$163,4),\"\")","v":""},null,null,null,""]
[null,{"$f":"IF(A408>0,VLOOKUP(A408,Liste!$B$179                         : Liste!$C$189,2),\"\")","v":""},null,null,{"$f":"IF(D408>0,VLOOKUP(D408,Liste!$A$10:$D$163,4),\"\")","v":""},null,null,null,""]
[null,{"$f":"IF(A409>0,VLOOKUP(A409,Liste!$B$179                         : Liste!$C$189,2),\"\")","v":""},null,null,{"$f":"IF(D409>0,VLOOKUP(D409,Liste!$A$10:$D$163,4),\"\")","v":""},null,null,null,""]
[null,{"$f":"IF(A410>0,VLOOKUP(A410,Liste!$B$179                         : Liste!$C$189,2),\"\")","v":""},null,null,{"$f":"IF(D410>0,VLOOKUP(D410,Liste!$A$10:$D$163,4),\"\")","v":""},null,null,null,""]
[null,{"$f":"IF(A411>0,VLOOKUP(A411,Liste!$B$179                         : Liste!$C$189,2),\"\")","v":""},null,null,{"$f":"IF(D411>0,VLOOKUP(D411,Liste!$A$10:$D$163,4),\"\")","v":""},null,null,null,""]
[null,{"$f":"IF(A412>0,VLOOKUP(A412,Liste!$B$179                         : Liste!$C$189,2),\"\")","v":""},null,null,{"$f":"IF(D412>0,VLOOKUP(D412,Liste!$A$10:$D$163,4),\"\")","v":""},null,null,null,""]
[null,{"$f":"IF(A413>0,VLOOKUP(A413,Liste!$B$179                         : Liste!$C$189,2),\"\")","v":""},null,null,{"$f":"IF(D413>0,VLOOKUP(D413,Liste!$A$10:$D$163,4),\"\")","v":""},null,null,null,""]
[null,{"$f":"IF(A414>0,VLOOKUP(A414,Liste!$B$179                         : Liste!$C$189,2),\"\")","v":""},null,null,{"$f":"IF(D414>0,VLOOKUP(D414,Liste!$A$10:$D$163,4),\"\")","v":""},null,null,null,""]
[null,{"$f":"IF(A415>0,VLOOKUP(A415,Liste!$B$179                         : Liste!$C$189,2),\"\")","v":""},null,null,{"$f":"IF(D415>0,VLOOKUP(D415,Liste!$A$10:$D$163,4),\"\")","v":""},null,null,null,""]
[null,{"$f":"IF(A416>0,VLOOKUP(A416,Liste!$B$179                         : Liste!$C$189,2),\"\")","v":""},null,null,{"$f":"IF(D416>0,VLOOKUP(D416,Liste!$A$10:$D$163,4),\"\")","v":""},null,null,null,""]
[null,{"$f":"IF(A417>0,VLOOKUP(A417,Liste!$B$179                         : Liste!$C$189,2),\"\")","v":""},null,null,{"$f":"IF(D417>0,VLOOKUP(D417,Liste!$A$10:$D$163,4),\"\")","v":""},null,null,null,""]
[null,{"$f":"IF(A418>0,VLOOKUP(A418,Liste!$B$179                         : Liste!$C$189,2),\"\")","v":""},null,null,{"$f":"IF(D418>0,VLOOKUP(D418,Liste!$A$10:$D$163,4),\"\")","v":""},null,null,null,""]
[null,{"$f":"IF(A419>0,VLOOKUP(A419,Liste!$B$179                         : Liste!$C$189,2),\"\")","v":""},null,null,{"$f":"IF(D419>0,VLOOKUP(D419,Liste!$A$10:$D$163,4),\"\")","v":""},null,null,null,""]
[null,{"$f":"IF(A420>0,VLOOKUP(A420,Liste!$B$179                         : Liste!$C$189,2),\"\")","v":""},null,null,{"$f":"IF(D420>0,VLOOKUP(D420,Liste!$A$10:$D$163,4),\"\")","v":""},null,null,null,""]
[null,{"$f":"IF(A421>0,VLOOKUP(A421,Liste!$B$179                         : Liste!$C$189,2),\"\")","v":""},null,null,{"$f":"IF(D421>0,VLOOKUP(D421,Liste!$A$10:$D$163,4),\"\")","v":""},null,null,null,""]
[null,{"$f":"IF(A422>0,VLOOKUP(A422,Liste!$B$179                         : Liste!$C$189,2),\"\")","v":""},null,null,{"$f":"IF(D422>0,VLOOKUP(D422,Liste!$A$10:$D$163,4),\"\")","v":""},null,null,null,""]
[null,{"$f":"IF(A423>0,VLOOKUP(A423,Liste!$B$179                         : Liste!$C$189,2),\"\")","v":""},null,null,{"$f":"IF(D423>0,VLOOKUP(D423,Liste!$A$10:$D$163,4),\"\")","v":""},null,null,null,""]
[null,{"$f":"IF(A424>0,VLOOKUP(A424,Liste!$B$179                         : Liste!$C$189,2),\"\")","v":""},null,null,{"$f":"IF(D424>0,VLOOKUP(D424,Liste!$A$10:$D$163,4),\"\")","v":""},null,null,null,""]
[null,{"$f":"IF(A425>0,VLOOKUP(A425,Liste!$B$179                         : Liste!$C$189,2),\"\")","v":""},null,null,{"$f":"IF(D425>0,VLOOKUP(D425,Liste!$A$10:$D$163,4),\"\")","v":""},null,null,null,""]
[null,{"$f":"IF(A426>0,VLOOKUP(A426,Liste!$B$179                         : Liste!$C$189,2),\"\")","v":""},null,null,{"$f":"IF(D426>0,VLOOKUP(D426,Liste!$A$10:$D$163,4),\"\")","v":""},null,null,null,""]
[null,{"$f":"IF(A427>0,VLOOKUP(A427,Liste!$B$179                         : Liste!$C$189,2),\"\")","v":""},null,null,{"$f":"IF(D427>0,VLOOKUP(D427,Liste!$A$10:$D$163,4),\"\")","v":""},null,null,null,""]
[null,{"$f":"IF(A428>0,VLOOKUP(A428,Liste!$B$179                         : Liste!$C$189,2),\"\")","v":""},null,null,{"$f":"IF(D428>0,VLOOKUP(D428,Liste!$A$10:$D$163,4),\"\")","v":""},null,null,null,""]
[null,{"$f":"IF(A429>0,VLOOKUP(A429,Liste!$B$179                         : Liste!$C$189,2),\"\")","v":""},null,null,{"$f":"IF(D429>0,VLOOKUP(D429,Liste!$A$10:$D$163,4),\"\")","v":""},null,null,null,""]
[null,{"$f":"IF(A430>0,VLOOKUP(A430,Liste!$B$179                         : Liste!$C$189,2),\"\")","v":""},null,null,{"$f":"IF(D430>0,VLOOKUP(D430,Liste!$A$10:$D$163,4),\"\")","v":""},null,null,null,""]
[null,{"$f":"IF(A431>0,VLOOKUP(A431,Liste!$B$179                         : Liste!$C$189,2),\"\")","v":""},null,null,{"$f":"IF(D431>0,VLOOKUP(D431,Liste!$A$10:$D$163,4),\"\")","v":""},null,null,null,""]
[null,{"$f":"IF(A432>0,VLOOKUP(A432,Liste!$B$179                         : Liste!$C$189,2),\"\")","v":""},null,null,{"$f":"IF(D432>0,VLOOKUP(D432,Liste!$A$10:$D$163,4),\"\")","v":""},null,null,null,""]
[null,{"$f":"IF(A433>0,VLOOKUP(A433,Liste!$B$179                         : Liste!$C$189,2),\"\")","v":""},null,null,{"$f":"IF(D433>0,VLOOKUP(D433,Liste!$A$10:$D$163,4),\"\")","v":""},null,null,null,""]
[null,{"$f":"IF(A434>0,VLOOKUP(A434,Liste!$B$179                         : Liste!$C$189,2),\"\")","v":""},null,null,{"$f":"IF(D434>0,VLOOKUP(D434,Liste!$A$10:$D$163,4),\"\")","v":""},null,null,null,""]
[null,{"$f":"IF(A435>0,VLOOKUP(A435,Liste!$B$179                         : Liste!$C$189,2),\"\")","v":""},null,null,{"$f":"IF(D435>0,VLOOKUP(D435,Liste!$A$10:$D$163,4),\"\")","v":""},null,null,null,""]
[null,{"$f":"IF(A436>0,VLOOKUP(A436,Liste!$B$179                         : Liste!$C$189,2),\"\")","v":""},null,null,{"$f":"IF(D436>0,VLOOKUP(D436,Liste!$A$10:$D$163,4),\"\")","v":""},null,null,null,""]
[null,{"$f":"IF(A437>0,VLOOKUP(A437,Liste!$B$179                         : Liste!$C$189,2),\"\")","v":""},null,null,{"$f":"IF(D437>0,VLOOKUP(D437,Liste!$A$10:$D$163,4),\"\")","v":""},null,null,null,""]
[null,{"$f":"IF(A438>0,VLOOKUP(A438,Liste!$B$179                         : Liste!$C$189,2),\"\")","v":""},null,null,{"$f":"IF(D438>0,VLOOKUP(D438,Liste!$A$10:$D$163,4),\"\")","v":""},null,null,null,""]
[null,{"$f":"IF(A439>0,VLOOKUP(A439,Liste!$B$179                         : Liste!$C$189,2),\"\")","v":""},null,null,{"$f":"IF(D439>0,VLOOKUP(D439,Liste!$A$10:$D$163,4),\"\")","v":""},null,null,null,""]
[null,{"$f":"IF(A440>0,VLOOKUP(A440,Liste!$B$179                         : Liste!$C$189,2),\"\")","v":""},null,null,{"$f":"IF(D440>0,VLOOKUP(D440,Liste!$A$10:$D$163,4),\"\")","v":""},null,null,null,""]
[null,{"$f":"IF(A441>0,VLOOKUP(A441,Liste!$B$179                         : Liste!$C$189,2),\"\")","v":""},null,null,{"$f":"IF(D441>0,VLOOKUP(D441,Liste!$A$10:$D$163,4),\"\")","v":""},null,null,null,""]
[null,{"$f":"IF(A442>0,VLOOKUP(A442,Liste!$B$179                         : Liste!$C$189,2),\"\")","v":""},null,null,{"$f":"IF(D442>0,VLOOKUP(D442,Liste!$A$10:$D$163,4),\"\")","v":""},null,null,null,""]
[null,{"$f":"IF(A443>0,VLOOKUP(A443,Liste!$B$179                         : Liste!$C$189,2),\"\")","v":""},null,null,{"$f":"IF(D443>0,VLOOKUP(D443,Liste!$A$10:$D$163,4),\"\")","v":""},null,null,null,""]
[null,{"$f":"IF(A444>0,VLOOKUP(A444,Liste!$B$179                         : Liste!$C$189,2),\"\")","v":""},null,null,{"$f":"IF(D444>0,VLOOKUP(D444,Liste!$A$10:$D$163,4),\"\")","v":""},null,null,null,""]
[null,{"$f":"IF(A445>0,VLOOKUP(A445,Liste!$B$179                         : Liste!$C$189,2),\"\")","v":""},null,null,{"$f":"IF(D445>0,VLOOKUP(D445,Liste!$A$10:$D$163,4),\"\")","v":""},null,null,null,""]
[null,{"$f":"IF(A446>0,VLOOKUP(A446,Liste!$B$179                         : Liste!$C$189,2),\"\")","v":""},null,null,{"$f":"IF(D446>0,VLOOKUP(D446,Liste!$A$10:$D$163,4),\"\")","v":""},null,null,null,""]
[null,{"$f":"IF(A447>0,VLOOKUP(A447,Liste!$B$179                         : Liste!$C$189,2),\"\")","v":""},null,null,{"$f":"IF(D447>0,VLOOKUP(D447,Liste!$A$10:$D$163,4),\"\")","v":""},null,null,null,""]
[null,{"$f":"IF(A448>0,VLOOKUP(A448,Liste!$B$179                         : Liste!$C$189,2),\"\")","v":""},null,null,{"$f":"IF(D448>0,VLOOKUP(D448,Liste!$A$10:$D$163,4),\"\")","v":""},null,null,null,""]
[null,{"$f":"IF(A449>0,VLOOKUP(A449,Liste!$B$179                         : Liste!$C$189,2),\"\")","v":""},null,null,{"$f":"IF(D449>0,VLOOKUP(D449,Liste!$A$10:$D$163,4),\"\")","v":""},null,null,null,""]
[null,{"$f":"IF(A450>0,VLOOKUP(A450,Liste!$B$179                         : Liste!$C$189,2),\"\")","v":""},null,null,{"$f":"IF(D450>0,VLOOKUP(D450,Liste!$A$10:$D$163,4),\"\")","v":""},null,null,null,""]
[null,{"$f":"IF(A451>0,VLOOKUP(A451,Liste!$B$179                         : Liste!$C$189,2),\"\")","v":""},null,null,{"$f":"IF(D451>0,VLOOKUP(D451,Liste!$A$10:$D$163,4),\"\")","v":""},null,null,null,""]
[null,{"$f":"IF(A452>0,VLOOKUP(A452,Liste!$B$179                         : Liste!$C$189,2),\"\")","v":""},null,null,{"$f":"IF(D452>0,VLOOKUP(D452,Liste!$A$10:$D$163,4),\"\")","v":""},null,null,null,""]
[null,{"$f":"IF(A453>0,VLOOKUP(A453,Liste!$B$179                         : Liste!$C$189,2),\"\")","v":""},null,null,{"$f":"IF(D453>0,VLOOKUP(D453,Liste!$A$10:$D$163,4),\"\")","v":""},null,null,null,""]
[null,{"$f":"IF(A454>0,VLOOKUP(A454,Liste!$B$179                         : Liste!$C$189,2),\"\")","v":""},null,null,{"$f":"IF(D454>0,VLOOKUP(D454,Liste!$A$10:$D$163,4),\"\")","v":""},null,null,null,{"$f":"IF(AND(D454>0,F454+G454+H454=0),\"EN ATTENTE\",IF(F454+G454+H454>1,\"ERREUR\",\"\"))","v":""}]
[null,{"$f":"IF(A455>0,VLOOKUP(A455,Liste!$B$179                         : Liste!$C$189,2),\"\")","v":""},null,null,{"$f":"IF(D455>0,VLOOKUP(D455,Liste!$A$10:$D$163,4),\"\")","v":""},null,null,null,""]
[null,{"$f":"IF(A456>0,VLOOKUP(A456,Liste!$B$179                         : Liste!$C$189,2),\"\")","v":""},null,null,{"$f":"IF(D456>0,VLOOKUP(D456,Liste!$A$10:$D$163,4),\"\")","v":""},null,null,null,""]
[null,{"$f":"IF(A457>0,VLOOKUP(A457,Liste!$B$179                         : Liste!$C$189,2),\"\")","v":""},null,null,{"$f":"IF(D457>0,VLOOKUP(D457,Liste!$A$10:$D$163,4),\"\")","v":""},null,null,null,""]
[null,{"$f":"IF(A458>0,VLOOKUP(A458,Liste!$B$179                         : Liste!$C$189,2),\"\")","v":""},null,null,{"$f":"IF(D458>0,VLOOKUP(D458,Liste!$A$10:$D$163,4),\"\")","v":""},null,null,null,""]
[null,{"$f":"IF(A459>0,VLOOKUP(A459,Liste!$B$179                         : Liste!$C$189,2),\"\")","v":""},null,null,{"$f":"IF(D459>0,VLOOKUP(D459,Liste!$A$10:$D$163,4),\"\")","v":""},null,null,null,""]
[null,{"$f":"IF(A460>0,VLOOKUP(A460,Liste!$B$179                         : Liste!$C$189,2),\"\")","v":""},null,null,{"$f":"IF(D460>0,VLOOKUP(D460,Liste!$A$10:$D$163,4),\"\")","v":""},null,null,null,""]
[null,{"$f":"IF(A461>0,VLOOKUP(A461,Liste!$B$179                         : Liste!$C$189,2),\"\")","v":""},null,null,{"$f":"IF(D461>0,VLOOKUP(D461,Liste!$A$10:$D$163,4),\"\")","v":""},null,null,null,""]
[null,{"$f":"IF(A462>0,VLOOKUP(A462,Liste!$B$179                         : Liste!$C$189,2),\"\")","v":""},null,null,{"$f":"IF(D462>0,VLOOKUP(D462,Liste!$A$10:$D$163,4),\"\")","v":""},null,null,null,""]
[null,{"$f":"IF(A463>0,VLOOKUP(A463,Liste!$B$179                         : Liste!$C$189,2),\"\")","v":""},null,null,{"$f":"IF(D463>0,VLOOKUP(D463,Liste!$A$10:$D$163,4),\"\")","v":""},null,null,null,""]
[null,{"$f":"IF(A464>0,VLOOKUP(A464,Liste!$B$179                         : Liste!$C$189,2),\"\")","v":""},null,null,{"$f":"IF(D464>0,VLOOKUP(D464,Liste!$A$10:$D$163,4),\"\")","v":""},null,null,null,""]
[null,{"$f":"IF(A465>0,VLOOKUP(A465,Liste!$B$179                         : Liste!$C$189,2),\"\")","v":""},null,null,{"$f":"IF(D465>0,VLOOKUP(D465,Liste!$A$10:$D$163,4),\"\")","v":""},null,null,null,""]
[null,{"$f":"IF(A466>0,VLOOKUP(A466,Liste!$B$179                         : Liste!$C$189,2),\"\")","v":""},null,null,{"$f":"IF(D466>0,VLOOKUP(D466,Liste!$A$10:$D$163,4),\"\")","v":""},null,null,null,""]
[null,{"$f":"IF(A467>0,VLOOKUP(A467,Liste!$B$179                         : Liste!$C$189,2),\"\")","v":""},null,null,{"$f":"IF(D467>0,VLOOKUP(D467,Liste!$A$10:$D$163,4),\"\")","v":""},null,null,null,""]
[null,{"$f":"IF(A468>0,VLOOKUP(A468,Liste!$B$179                         : Liste!$C$189,2),\"\")","v":""},null,null,{"$f":"IF(D468>0,VLOOKUP(D468,Liste!$A$10:$D$163,4),\"\")","v":""},null,null,null,""]
[null,{"$f":"IF(A469>0,VLOOKUP(A469,Liste!$B$179                         : Liste!$C$189,2),\"\")","v":""},null,null,{"$f":"IF(D469>0,VLOOKUP(D469,Liste!$A$10:$D$163,4),\"\")","v":""},null,null,null,""]
[null,{"$f":"IF(A470>0,VLOOKUP(A470,Liste!$B$179                         : Liste!$C$189,2),\"\")","v":""},null,null,{"$f":"IF(D470>0,VLOOKUP(D470,Liste!$A$10:$D$163,4),\"\")","v":""},null,null,null,""]
[null,{"$f":"IF(A471>0,VLOOKUP(A471,Liste!$B$179                         : Liste!$C$189,2),\"\")","v":""},null,null,{"$f":"IF(D471>0,VLOOKUP(D471,Liste!$A$10:$D$163,4),\"\")","v":""},null,null,null,""]
[null,{"$f":"IF(A472>0,VLOOKUP(A472,Liste!$B$179                         : Liste!$C$189,2),\"\")","v":""},null,null,{"$f":"IF(D472>0,VLOOKUP(D472,Liste!$A$10:$D$163,4),\"\")","v":""},null,null,null,""]
[null,{"$f":"IF(A473>0,VLOOKUP(A473,Liste!$B$179                         : Liste!$C$189,2),\"\")","v":""},null,null,{"$f":"IF(D473>0,VLOOKUP(D473,Liste!$A$10:$D$163,4),\"\")","v":""},null,null,null,""]
[null,{"$f":"IF(A474>0,VLOOKUP(A474,Liste!$B$179                         : Liste!$C$189,2),\"\")","v":""},null,null,{"$f":"IF(D474>0,VLOOKUP(D474,Liste!$A$10:$D$163,4),\"\")","v":""},null,null,null,""]
[null,{"$f":"IF(A475>0,VLOOKUP(A475,Liste!$B$179                         : Liste!$C$189,2),\"\")","v":""},null,null,{"$f":"IF(D475>0,VLOOKUP(D475,Liste!$A$10:$D$163,4),\"\")","v":""},null,null,null,""]
[null,{"$f":"IF(A476>0,VLOOKUP(A476,Liste!$B$179                         : Liste!$C$189,2),\"\")","v":""},null,null,{"$f":"IF(D476>0,VLOOKUP(D476,Liste!$A$10:$D$163,4),\"\")","v":""},null,null,null,""]
[null,{"$f":"IF(A477>0,VLOOKUP(A477,Liste!$B$179                         : Liste!$C$189,2),\"\")","v":""},null,null,{"$f":"IF(D477>0,VLOOKUP(D477,Liste!$A$10:$D$163,4),\"\")","v":""},null,null,null,""]
[null,{"$f":"IF(A478>0,VLOOKUP(A478,Liste!$B$179                         : Liste!$C$189,2),\"\")","v":""},null,null,{"$f":"IF(D478>0,VLOOKUP(D478,Liste!$A$10:$D$163,4),\"\")","v":""},null,null,null,""]
[null,{"$f":"IF(A479>0,VLOOKUP(A479,Liste!$B$179                         : Liste!$C$189,2),\"\")","v":""},null,null,{"$f":"IF(D479>0,VLOOKUP(D479,Liste!$A$10:$D$163,4),\"\")","v":""},null,null,null,""]
[null,{"$f":"IF(A480>0,VLOOKUP(A480,Liste!$B$179                         : Liste!$C$189,2),\"\")","v":""},null,null,{"$f":"IF(D480>0,VLOOKUP(D480,Liste!$A$10:$D$163,4),\"\")","v":""},null,null,null,""]
[null,{"$f":"IF(A481>0,VLOOKUP(A481,Liste!$B$179                         : Liste!$C$189,2),\"\")","v":""},null,null,{"$f":"IF(D481>0,VLOOKUP(D481,Liste!$A$10:$D$163,4),\"\")","v":""},null,null,null,""]
[null,{"$f":"IF(A482>0,VLOOKUP(A482,Liste!$B$179                         : Liste!$C$189,2),\"\")","v":""},null,null,{"$f":"IF(D482>0,VLOOKUP(D482,Liste!$A$10:$D$163,4),\"\")","v":""},null,null,null,""]
[null,{"$f":"IF(A483>0,VLOOKUP(A483,Liste!$B$179                         : Liste!$C$189,2),\"\")","v":""},null,null,{"$f":"IF(D483>0,VLOOKUP(D483,Liste!$A$10:$D$163,4),\"\")","v":""},null,null,null,""]
[null,{"$f":"IF(A484>0,VLOOKUP(A484,Liste!$B$179                         : Liste!$C$189,2),\"\")","v":""},null,null,{"$f":"IF(D484>0,VLOOKUP(D484,Liste!$A$10:$D$163,4),\"\")","v":""},null,null,null,""]
[null,{"$f":"IF(A485>0,VLOOKUP(A485,Liste!$B$179                         : Liste!$C$189,2),\"\")","v":""},null,null,{"$f":"IF(D485>0,VLOOKUP(D485,Liste!$A$10:$D$163,4),\"\")","v":""},null,null,null,""]
[null,{"$f":"IF(A486>0,VLOOKUP(A486,Liste!$B$179                         : Liste!$C$189,2),\"\")","v":""},null,null,{"$f":"IF(D486>0,VLOOKUP(D486,Liste!$A$10:$D$163,4),\"\")","v":""},null,null,null,""]
[null,{"$f":"IF(A487>0,VLOOKUP(A487,Liste!$B$179                         : Liste!$C$189,2),\"\")","v":""},null,null,{"$f":"IF(D487>0,VLOOKUP(D487,Liste!$A$10:$D$163,4),\"\")","v":""},null,null,null,""]
[null,{"$f":"IF(A488>0,VLOOKUP(A488,Liste!$B$179                         : Liste!$C$189,2),\"\")","v":""},null,null,{"$f":"IF(D488>0,VLOOKUP(D488,Liste!$A$10:$D$163,4),\"\")","v":""},null,null,null,""]
[null,{"$f":"IF(A489>0,VLOOKUP(A489,Liste!$B$179                         : Liste!$C$189,2),\"\")","v":""},null,null,{"$f":"IF(D489>0,VLOOKUP(D489,Liste!$A$10:$D$163,4),\"\")","v":""},null,null,null,""]
[null,{"$f":"IF(A490>0,VLOOKUP(A490,Liste!$B$179                         : Liste!$C$189,2),\"\")","v":""},null,null,{"$f":"IF(D490>0,VLOOKUP(D490,Liste!$A$10:$D$163,4),\"\")","v":""},null,null,null,""]
[null,{"$f":"IF(A491>0,VLOOKUP(A491,Liste!$B$179                         : Liste!$C$189,2),\"\")","v":""},null,null,{"$f":"IF(D491>0,VLOOKUP(D491,Liste!$A$10:$D$163,4),\"\")","v":""},null,null,null,""]
[null,{"$f":"IF(A492>0,VLOOKUP(A492,Liste!$B$179                         : Liste!$C$189,2),\"\")","v":""},null,null,{"$f":"IF(D492>0,VLOOKUP(D492,Liste!$A$10:$D$163,4),\"\")","v":""},null,null,null,""]
[null,{"$f":"IF(A493>0,VLOOKUP(A493,Liste!$B$179                         : Liste!$C$189,2),\"\")","v":""},null,null,{"$f":"IF(D493>0,VLOOKUP(D493,Liste!$A$10:$D$163,4),\"\")","v":""},null,null,null,""]
[null,{"$f":"IF(A494>0,VLOOKUP(A494,Liste!$B$179                         : Liste!$C$189,2),\"\")","v":""},null,null,{"$f":"IF(D494>0,VLOOKUP(D494,Liste!$A$10:$D$163,4),\"\")","v":""},null,null,null,""]
[null,{"$f":"IF(A495>0,VLOOKUP(A495,Liste!$B$179                         : Liste!$C$189,2),\"\")","v":""},null,null,{"$f":"IF(D495>0,VLOOKUP(D495,Liste!$A$10:$D$163,4),\"\")","v":""},null,null,null,""]
[null,{"$f":"IF(A496>0,VLOOKUP(A496,Liste!$B$179                         : Liste!$C$189,2),\"\")","v":""},null,null,{"$f":"IF(D496>0,VLOOKUP(D496,Liste!$A$10:$D$163,4),\"\")","v":""},null,null,null,""]
[null,{"$f":"IF(A497>0,VLOOKUP(A497,Liste!$B$179                         : Liste!$C$189,2),\"\")","v":""},null,null,{"$f":"IF(D497>0,VLOOKUP(D497,Liste!$A$10:$D$163,4),\"\")","v":""},null,null,null,""]
[null,{"$f":"IF(A498>0,VLOOKUP(A498,Liste!$B$179                         : Liste!$C$189,2),\"\")","v":""},null,null,{"$f":"IF(D498>0,VLOOKUP(D498,Liste!$A$10:$D$163,4),\"\")","v":""},null,null,null,""]
[null,{"$f":"IF(A499>0,VLOOKUP(A499,Liste!$B$179                         : Liste!$C$189,2),\"\")","v":""},null,null,{"$f":"IF(D499>0,VLOOKUP(D499,Liste!$A$10:$D$163,4),\"\")","v":""},null,null,null,""]
[null,{"$f":"IF(A500>0,VLOOKUP(A500,Liste!$B$179                         : Liste!$C$189,2),\"\")","v":""},null,null,{"$f":"IF(D500>0,VLOOKUP(D500,Liste!$A$10:$D$163,4),\"\")","v":""},null,null,null,""]
[null,{"$f":"IF(A501>0,VLOOKUP(A501,Liste!$B$179                         : Liste!$C$189,2),\"\")","v":""},null,null,{"$f":"IF(D501>0,VLOOKUP(D501,Liste!$A$10:$D$163,4),\"\")","v":""},null,null,null,""]
[null,{"$f":"IF(A502>0,VLOOKUP(A502,Liste!$B$179                         : Liste!$C$189,2),\"\")","v":""},null,null,{"$f":"IF(D502>0,VLOOKUP(D502,Liste!$A$10:$D$163,4),\"\")","v":""},null,null,null,""]
[null,{"$f":"IF(A503>0,VLOOKUP(A503,Liste!$B$179                         : Liste!$C$189,2),\"\")","v":""},null,null,{"$f":"IF(D503>0,VLOOKUP(D503,Liste!$A$10:$D$163,4),\"\")","v":""},null,null,null,""]
[null,{"$f":"IF(A504>0,VLOOKUP(A504,Liste!$B$179                         : Liste!$C$189,2),\"\")","v":""},null,null,{"$f":"IF(D504>0,VLOOKUP(D504,Liste!$A$10:$D$163,4),\"\")","v":""},null,null,null,""]
[null,{"$f":"IF(A505>0,VLOOKUP(A505,Liste!$B$179                         : Liste!$C$189,2),\"\")","v":""},null,null,{"$f":"IF(D505>0,VLOOKUP(D505,Liste!$A$10:$D$163,4),\"\")","v":""},null,null,null,""]
[null,{"$f":"IF(A506>0,VLOOKUP(A506,Liste!$B$179                         : Liste!$C$189,2),\"\")","v":""},null,null,{"$f":"IF(D506>0,VLOOKUP(D506,Liste!$A$10:$D$163,4),\"\")","v":""},null,null,null,""]
[null,{"$f":"IF(A507>0,VLOOKUP(A507,Liste!$B$179                         : Liste!$C$189,2),\"\")","v":""},null,null,{"$f":"IF(D507>0,VLOOKUP(D507,Liste!$A$10:$D$163,4),\"\")","v":""},null,null,null,""]
[null,{"$f":"IF(A508>0,VLOOKUP(A508,Liste!$B$179                         : Liste!$C$189,2),\"\")","v":""},null,null,{"$f":"IF(D508>0,VLOOKUP(D508,Liste!$A$10:$D$163,4),\"\")","v":""},null,null,null,""]
[null,{"$f":"IF(A509>0,VLOOKUP(A509,Liste!$B$179                         : Liste!$C$189,2),\"\")","v":""},null,null,{"$f":"IF(D509>0,VLOOKUP(D509,Liste!$A$10:$D$163,4),\"\")","v":""},null,null,null,""]
[null,{"$f":"IF(A510>0,VLOOKUP(A510,Liste!$B$179                         : Liste!$C$189,2),\"\")","v":""},null,null,{"$f":"IF(D510>0,VLOOKUP(D510,Liste!$A$10:$D$163,4),\"\")","v":""},null,null,null,""]
[null,{"$f":"IF(A511>0,VLOOKUP(A511,Liste!$B$179                         : Liste!$C$189,2),\"\")","v":""},null,null,{"$f":"IF(D511>0,VLOOKUP(D511,Liste!$A$10:$D$163,4),\"\")","v":""},null,null,null,""]
[null,{"$f":"IF(A512>0,VLOOKUP(A512,Liste!$B$179                         : Liste!$C$189,2),\"\")","v":""},null,null,{"$f":"IF(D512>0,VLOOKUP(D512,Liste!$A$10:$D$163,4),\"\")","v":""},null,null,null,""]
[null,{"$f":"IF(A513>0,VLOOKUP(A513,Liste!$B$179                         : Liste!$C$189,2),\"\")","v":""},null,null,{"$f":"IF(D513>0,VLOOKUP(D513,Liste!$A$10:$D$163,4),\"\")","v":""},null,null,null,""]
[null,{"$f":"IF(A514>0,VLOOKUP(A514,Liste!$B$179                         : Liste!$C$189,2),\"\")","v":""},null,null,{"$f":"IF(D514>0,VLOOKUP(D514,Liste!$A$10:$D$163,4),\"\")","v":""},null,null,null,""]
[null,{"$f":"IF(A515>0,VLOOKUP(A515,Liste!$B$179                         : Liste!$C$189,2),\"\")","v":""},null,null,{"$f":"IF(D515>0,VLOOKUP(D515,Liste!$A$10:$D$163,4),\"\")","v":""},null,null,null,""]
[null,{"$f":"IF(A516>0,VLOOKUP(A516,Liste!$B$179                         : Liste!$C$189,2),\"\")","v":""},null,null,{"$f":"IF(D516>0,VLOOKUP(D516,Liste!$A$10:$D$163,4),\"\")","v":""},null,null,null,""]
[null,{"$f":"IF(A517>0,VLOOKUP(A517,Liste!$B$179                         : Liste!$C$189,2),\"\")","v":""},null,null,{"$f":"IF(D517>0,VLOOKUP(D517,Liste!$A$10:$D$163,4),\"\")","v":""},null,null,null,""]
[null,{"$f":"IF(A518>0,VLOOKUP(A518,Liste!$B$179                         : Liste!$C$189,2),\"\")","v":""},null,null,{"$f":"IF(D518>0,VLOOKUP(D518,Liste!$A$10:$D$163,4),\"\")","v":""},null,null,null,{"$f":"IF(AND(D518>0,F518+G518+H518=0),\"EN ATTENTE\",IF(F518+G518+H518>1,\"ERREUR\",\"\"))","v":""}]
[null,{"$f":"IF(A519>0,VLOOKUP(A519,Liste!$B$179                         : Liste!$C$189,2),\"\")","v":""},null,null,{"$f":"IF(D519>0,VLOOKUP(D519,Liste!$A$10:$D$163,4),\"\")","v":""},null,null,null,""]
[null,{"$f":"IF(A520>0,VLOOKUP(A520,Liste!$B$179                         : Liste!$C$189,2),\"\")","v":""},null,null,{"$f":"IF(D520>0,VLOOKUP(D520,Liste!$A$10:$D$163,4),\"\")","v":""},null,null,null,""]
[null,{"$f":"IF(A521>0,VLOOKUP(A521,Liste!$B$179                         : Liste!$C$189,2),\"\")","v":""},null,null,{"$f":"IF(D521>0,VLOOKUP(D521,Liste!$A$10:$D$163,4),\"\")","v":""},null,null,null,""]
[null,{"$f":"IF(A522>0,VLOOKUP(A522,Liste!$B$179                         : Liste!$C$189,2),\"\")","v":""},null,null,{"$f":"IF(D522>0,VLOOKUP(D522,Liste!$A$10:$D$163,4),\"\")","v":""},null,null,null,""]
[null,{"$f":"IF(A523>0,VLOOKUP(A523,Liste!$B$179                         : Liste!$C$189,2),\"\")","v":""},null,null,{"$f":"IF(D523>0,VLOOKUP(D523,Liste!$A$10:$D$163,4),\"\")","v":""},null,null,null,""]
[null,{"$f":"IF(A524>0,VLOOKUP(A524,Liste!$B$179                         : Liste!$C$189,2),\"\")","v":""},null,null,{"$f":"IF(D524>0,VLOOKUP(D524,Liste!$A$10:$D$163,4),\"\")","v":""},null,null,null,""]
[null,{"$f":"IF(A525>0,VLOOKUP(A525,Liste!$B$179                         : Liste!$C$189,2),\"\")","v":""},null,null,{"$f":"IF(D525>0,VLOOKUP(D525,Liste!$A$10:$D$163,4),\"\")","v":""},null,null,null,""]
[null,{"$f":"IF(A526>0,VLOOKUP(A526,Liste!$B$179                         : Liste!$C$189,2),\"\")","v":""},null,null,{"$f":"IF(D526>0,VLOOKUP(D526,Liste!$A$10:$D$163,4),\"\")","v":""},null,null,null,""]
[null,{"$f":"IF(A527>0,VLOOKUP(A527,Liste!$B$179                         : Liste!$C$189,2),\"\")","v":""},null,null,{"$f":"IF(D527>0,VLOOKUP(D527,Liste!$A$10:$D$163,4),\"\")","v":""},null,null,null,""]
[null,{"$f":"IF(A528>0,VLOOKUP(A528,Liste!$B$179                         : Liste!$C$189,2),\"\")","v":""},null,null,{"$f":"IF(D528>0,VLOOKUP(D528,Liste!$A$10:$D$163,4),\"\")","v":""},null,null,null,""]
[null,{"$f":"IF(A529>0,VLOOKUP(A529,Liste!$B$179                         : Liste!$C$189,2),\"\")","v":""},null,null,{"$f":"IF(D529>0,VLOOKUP(D529,Liste!$A$10:$D$163,4),\"\")","v":""},null,null,null,""]
[null,{"$f":"IF(A530>0,VLOOKUP(A530,Liste!$B$179                         : Liste!$C$189,2),\"\")","v":""},null,null,{"$f":"IF(D530>0,VLOOKUP(D530,Liste!$A$10:$D$163,4),\"\")","v":""},null,null,null,""]
[null,{"$f":"IF(A531>0,VLOOKUP(A531,Liste!$B$179                         : Liste!$C$189,2),\"\")","v":""},null,null,{"$f":"IF(D531>0,VLOOKUP(D531,Liste!$A$10:$D$163,4),\"\")","v":""},null,null,null,""]
[null,{"$f":"IF(A532>0,VLOOKUP(A532,Liste!$B$179                         : Liste!$C$189,2),\"\")","v":""},null,null,{"$f":"IF(D532>0,VLOOKUP(D532,Liste!$A$10:$D$163,4),\"\")","v":""},null,null,null,""]
[null,{"$f":"IF(A533>0,VLOOKUP(A533,Liste!$B$179                         : Liste!$C$189,2),\"\")","v":""},null,null,{"$f":"IF(D533>0,VLOOKUP(D533,Liste!$A$10:$D$163,4),\"\")","v":""},null,null,null,""]
[null,{"$f":"IF(A534>0,VLOOKUP(A534,Liste!$B$179                         : Liste!$C$189,2),\"\")","v":""},null,null,{"$f":"IF(D534>0,VLOOKUP(D534,Liste!$A$10:$D$163,4),\"\")","v":""},null,null,null,""]
[null,{"$f":"IF(A535>0,VLOOKUP(A535,Liste!$B$179                         : Liste!$C$189,2),\"\")","v":""},null,null,{"$f":"IF(D535>0,VLOOKUP(D535,Liste!$A$10:$D$163,4),\"\")","v":""},null,null,null,""]
[null,{"$f":"IF(A536>0,VLOOKUP(A536,Liste!$B$179                         : Liste!$C$189,2),\"\")","v":""},null,null,{"$f":"IF(D536>0,VLOOKUP(D536,Liste!$A$10:$D$163,4),\"\")","v":""},null,null,null,""]
[null,{"$f":"IF(A537>0,VLOOKUP(A537,Liste!$B$179                         : Liste!$C$189,2),\"\")","v":""},null,null,{"$f":"IF(D537>0,VLOOKUP(D537,Liste!$A$10:$D$163,4),\"\")","v":""},null,null,null,""]
[null,{"$f":"IF(A538>0,VLOOKUP(A538,Liste!$B$179                         : Liste!$C$189,2),\"\")","v":""},null,null,{"$f":"IF(D538>0,VLOOKUP(D538,Liste!$A$10:$D$163,4),\"\")","v":""},null,null,null,""]
[null,{"$f":"IF(A539>0,VLOOKUP(A539,Liste!$B$179                         : Liste!$C$189,2),\"\")","v":""},null,null,{"$f":"IF(D539>0,VLOOKUP(D539,Liste!$A$10:$D$163,4),\"\")","v":""},null,null,null,""]
[null,{"$f":"IF(A540>0,VLOOKUP(A540,Liste!$B$179                         : Liste!$C$189,2),\"\")","v":""},null,null,{"$f":"IF(D540>0,VLOOKUP(D540,Liste!$A$10:$D$163,4),\"\")","v":""},null,null,null,""]
[null,{"$f":"IF(A541>0,VLOOKUP(A541,Liste!$B$179                         : Liste!$C$189,2),\"\")","v":""},null,null,{"$f":"IF(D541>0,VLOOKUP(D541,Liste!$A$10:$D$163,4),\"\")","v":""},null,null,null,""]
[null,{"$f":"IF(A542>0,VLOOKUP(A542,Liste!$B$179                         : Liste!$C$189,2),\"\")","v":""},null,null,{"$f":"IF(D542>0,VLOOKUP(D542,Liste!$A$10:$D$163,4),\"\")","v":""},null,null,null,""]
[null,{"$f":"IF(A543>0,VLOOKUP(A543,Liste!$B$179                         : Liste!$C$189,2),\"\")","v":""},null,null,{"$f":"IF(D543>0,VLOOKUP(D543,Liste!$A$10:$D$163,4),\"\")","v":""},null,null,null,""]
[null,{"$f":"IF(A544>0,VLOOKUP(A544,Liste!$B$179                         : Liste!$C$189,2),\"\")","v":""},null,null,{"$f":"IF(D544>0,VLOOKUP(D544,Liste!$A$10:$D$163,4),\"\")","v":""},null,null,null,""]
[null,{"$f":"IF(A545>0,VLOOKUP(A545,Liste!$B$179                         : Liste!$C$189,2),\"\")","v":""},null,null,{"$f":"IF(D545>0,VLOOKUP(D545,Liste!$A$10:$D$163,4),\"\")","v":""},null,null,null,""]
[null,{"$f":"IF(A546>0,VLOOKUP(A546,Liste!$B$179                         : Liste!$C$189,2),\"\")","v":""},null,null,{"$f":"IF(D546>0,VLOOKUP(D546,Liste!$A$10:$D$163,4),\"\")","v":""},null,null,null,""]
[null,{"$f":"IF(A547>0,VLOOKUP(A547,Liste!$B$179                         : Liste!$C$189,2),\"\")","v":""},null,null,{"$f":"IF(D547>0,VLOOKUP(D547,Liste!$A$10:$D$163,4),\"\")","v":""},null,null,null,""]
[null,{"$f":"IF(A548>0,VLOOKUP(A548,Liste!$B$179                         : Liste!$C$189,2),\"\")","v":""},null,null,{"$f":"IF(D548>0,VLOOKUP(D548,Liste!$A$10:$D$163,4),\"\")","v":""},null,null,null,""]
[null,{"$f":"IF(A549>0,VLOOKUP(A549,Liste!$B$179                         : Liste!$C$189,2),\"\")","v":""},null,null,{"$f":"IF(D549>0,VLOOKUP(D549,Liste!$A$10:$D$163,4),\"\")","v":""},null,null,null,""]
[null,{"$f":"IF(A550>0,VLOOKUP(A550,Liste!$B$179                         : Liste!$C$189,2),\"\")","v":""},null,null,{"$f":"IF(D550>0,VLOOKUP(D550,Liste!$A$10:$D$163,4),\"\")","v":""},null,null,null,""]
[null,{"$f":"IF(A551>0,VLOOKUP(A551,Liste!$B$179                         : Liste!$C$189,2),\"\")","v":""},null,null,{"$f":"IF(D551>0,VLOOKUP(D551,Liste!$A$10:$D$163,4),\"\")","v":""},null,null,null,""]
[null,{"$f":"IF(A552>0,VLOOKUP(A552,Liste!$B$179                         : Liste!$C$189,2),\"\")","v":""},null,null,{"$f":"IF(D552>0,VLOOKUP(D552,Liste!$A$10:$D$163,4),\"\")","v":""},null,null,null,""]
[null,{"$f":"IF(A553>0,VLOOKUP(A553,Liste!$B$179                         : Liste!$C$189,2),\"\")","v":""},null,null,{"$f":"IF(D553>0,VLOOKUP(D553,Liste!$A$10:$D$163,4),\"\")","v":""},null,null,null,""]
[null,{"$f":"IF(A554>0,VLOOKUP(A554,Liste!$B$179                         : Liste!$C$189,2),\"\")","v":""},null,null,{"$f":"IF(D554>0,VLOOKUP(D554,Liste!$A$10:$D$163,4),\"\")","v":""},null,null,null,""]
[null,{"$f":"IF(A555>0,VLOOKUP(A555,Liste!$B$179                         : Liste!$C$189,2),\"\")","v":""},null,null,{"$f":"IF(D555>0,VLOOKUP(D555,Liste!$A$10:$D$163,4),\"\")","v":""},null,null,null,""]
[null,{"$f":"IF(A556>0,VLOOKUP(A556,Liste!$B$179                         : Liste!$C$189,2),\"\")","v":""},null,null,{"$f":"IF(D556>0,VLOOKUP(D556,Liste!$A$10:$D$163,4),\"\")","v":""},null,null,null,""]
[null,{"$f":"IF(A557>0,VLOOKUP(A557,Liste!$B$179                         : Liste!$C$189,2),\"\")","v":""},null,null,{"$f":"IF(D557>0,VLOOKUP(D557,Liste!$A$10:$D$163,4),\"\")","v":""},null,null,null,""]
[null,{"$f":"IF(A558>0,VLOOKUP(A558,Liste!$B$179                         : Liste!$C$189,2),\"\")","v":""},null,null,{"$f":"IF(D558>0,VLOOKUP(D558,Liste!$A$10:$D$163,4),\"\")","v":""},null,null,null,""]
[null,{"$f":"IF(A559>0,VLOOKUP(A559,Liste!$B$179                         : Liste!$C$189,2),\"\")","v":""},null,null,{"$f":"IF(D559>0,VLOOKUP(D559,Liste!$A$10:$D$163,4),\"\")","v":""},null,null,null,""]
[null,{"$f":"IF(A560>0,VLOOKUP(A560,Liste!$B$179                         : Liste!$C$189,2),\"\")","v":""},null,null,{"$f":"IF(D560>0,VLOOKUP(D560,Liste!$A$10:$D$163,4),\"\")","v":""},null,null,null,""]
[null,{"$f":"IF(A561>0,VLOOKUP(A561,Liste!$B$179                         : Liste!$C$189,2),\"\")","v":""},null,null,{"$f":"IF(D561>0,VLOOKUP(D561,Liste!$A$10:$D$163,4),\"\")","v":""},null,null,null,""]
[null,{"$f":"IF(A562>0,VLOOKUP(A562,Liste!$B$179                         : Liste!$C$189,2),\"\")","v":""},null,null,{"$f":"IF(D562>0,VLOOKUP(D562,Liste!$A$10:$D$163,4),\"\")","v":""},null,null,null,""]
[null,{"$f":"IF(A563>0,VLOOKUP(A563,Liste!$B$179                         : Liste!$C$189,2),\"\")","v":""},null,null,{"$f":"IF(D563>0,VLOOKUP(D563,Liste!$A$10:$D$163,4),\"\")","v":""},null,null,null,""]
[null,{"$f":"IF(A564>0,VLOOKUP(A564,Liste!$B$179                         : Liste!$C$189,2),\"\")","v":""},null,null,{"$f":"IF(D564>0,VLOOKUP(D564,Liste!$A$10:$D$163,4),\"\")","v":""},null,null,null,""]
[null,{"$f":"IF(A565>0,VLOOKUP(A565,Liste!$B$179                         : Liste!$C$189,2),\"\")","v":""},null,null,{"$f":"IF(D565>0,VLOOKUP(D565,Liste!$A$10:$D$163,4),\"\")","v":""},null,null,null,""]
[null,{"$f":"IF(A566>0,VLOOKUP(A566,Liste!$B$179                         : Liste!$C$189,2),\"\")","v":""},null,null,{"$f":"IF(D566>0,VLOOKUP(D566,Liste!$A$10:$D$163,4),\"\")","v":""},null,null,null,""]
[null,{"$f":"IF(A567>0,VLOOKUP(A567,Liste!$B$179                         : Liste!$C$189,2),\"\")","v":""},null,null,{"$f":"IF(D567>0,VLOOKUP(D567,Liste!$A$10:$D$163,4),\"\")","v":""},null,null,null,""]
[null,{"$f":"IF(A568>0,VLOOKUP(A568,Liste!$B$179                         : Liste!$C$189,2),\"\")","v":""},null,null,{"$f":"IF(D568>0,VLOOKUP(D568,Liste!$A$10:$D$163,4),\"\")","v":""},null,null,null,""]
[null,{"$f":"IF(A569>0,VLOOKUP(A569,Liste!$B$179                         : Liste!$C$189,2),\"\")","v":""},null,null,{"$f":"IF(D569>0,VLOOKUP(D569,Liste!$A$10:$D$163,4),\"\")","v":""},null,null,null,""]
[null,{"$f":"IF(A570>0,VLOOKUP(A570,Liste!$B$179                         : Liste!$C$189,2),\"\")","v":""},null,null,{"$f":"IF(D570>0,VLOOKUP(D570,Liste!$A$10:$D$163,4),\"\")","v":""},null,null,null,""]
[null,{"$f":"IF(A571>0,VLOOKUP(A571,Liste!$B$179                         : Liste!$C$189,2),\"\")","v":""},null,null,{"$f":"IF(D571>0,VLOOKUP(D571,Liste!$A$10:$D$163,4),\"\")","v":""},null,null,null,""]
[null,{"$f":"IF(A572>0,VLOOKUP(A572,Liste!$B$179                         : Liste!$C$189,2),\"\")","v":""},null,null,{"$f":"IF(D572>0,VLOOKUP(D572,Liste!$A$10:$D$163,4),\"\")","v":""},null,null,null,""]
[null,{"$f":"IF(A573>0,VLOOKUP(A573,Liste!$B$179                         : Liste!$C$189,2),\"\")","v":""},null,null,{"$f":"IF(D573>0,VLOOKUP(D573,Liste!$A$10:$D$163,4),\"\")","v":""},null,null,null,""]
[null,{"$f":"IF(A574>0,VLOOKUP(A574,Liste!$B$179                         : Liste!$C$189,2),\"\")","v":""},null,null,{"$f":"IF(D574>0,VLOOKUP(D574,Liste!$A$10:$D$163,4),\"\")","v":""},null,null,null,""]
[null,{"$f":"IF(A575>0,VLOOKUP(A575,Liste!$B$179                         : Liste!$C$189,2),\"\")","v":""},null,null,{"$f":"IF(D575>0,VLOOKUP(D575,Liste!$A$10:$D$163,4),\"\")","v":""},null,null,null,""]
[null,{"$f":"IF(A576>0,VLOOKUP(A576,Liste!$B$179                         : Liste!$C$189,2),\"\")","v":""},null,null,{"$f":"IF(D576>0,VLOOKUP(D576,Liste!$A$10:$D$163,4),\"\")","v":""},null,null,null,""]
[null,{"$f":"IF(A577>0,VLOOKUP(A577,Liste!$B$179                         : Liste!$C$189,2),\"\")","v":""},null,null,{"$f":"IF(D577>0,VLOOKUP(D577,Liste!$A$10:$D$163,4),\"\")","v":""},null,null,null,""]
[null,{"$f":"IF(A578>0,VLOOKUP(A578,Liste!$B$179                         : Liste!$C$189,2),\"\")","v":""},null,null,{"$f":"IF(D578>0,VLOOKUP(D578,Liste!$A$10:$D$163,4),\"\")","v":""},null,null,null,""]
[null,{"$f":"IF(A579>0,VLOOKUP(A579,Liste!$B$179                         : Liste!$C$189,2),\"\")","v":""},null,null,{"$f":"IF(D579>0,VLOOKUP(D579,Liste!$A$10:$D$163,4),\"\")","v":""},null,null,null,""]
[null,{"$f":"IF(A580>0,VLOOKUP(A580,Liste!$B$179                         : Liste!$C$189,2),\"\")","v":""},null,null,{"$f":"IF(D580>0,VLOOKUP(D580,Liste!$A$10:$D$163,4),\"\")","v":""},null,null,null,""]
[null,{"$f":"IF(A581>0,VLOOKUP(A581,Liste!$B$179                         : Liste!$C$189,2),\"\")","v":""},null,null,{"$f":"IF(D581>0,VLOOKUP(D581,Liste!$A$10:$D$163,4),\"\")","v":""},null,null,null,""]
[null,{"$f":"IF(A582>0,VLOOKUP(A582,Liste!$B$179                         : Liste!$C$189,2),\"\")","v":""},null,null,{"$f":"IF(D582>0,VLOOKUP(D582,Liste!$A$10:$D$163,4),\"\")","v":""},null,null,null,{"$f":"IF(AND(D582>0,F582+G582+H582=0),\"EN ATTENTE\",IF(F582+G582+H582>1,\"ERREUR\",\"\"))","v":""}]
[null,{"$f":"IF(A583>0,VLOOKUP(A583,Liste!$B$179                         : Liste!$C$189,2),\"\")","v":""},null,null,{"$f":"IF(D583>0,VLOOKUP(D583,Liste!$A$10:$D$163,4),\"\")","v":""},null,null,null,""]
[null,{"$f":"IF(A584>0,VLOOKUP(A584,Liste!$B$179                         : Liste!$C$189,2),\"\")","v":""},null,null,{"$f":"IF(D584>0,VLOOKUP(D584,Liste!$A$10:$D$163,4),\"\")","v":""},null,null,null,""]
[null,{"$f":"IF(A585>0,VLOOKUP(A585,Liste!$B$179                         : Liste!$C$189,2),\"\")","v":""},null,null,{"$f":"IF(D585>0,VLOOKUP(D585,Liste!$A$10:$D$163,4),\"\")","v":""},null,null,null,""]
[null,{"$f":"IF(A586>0,VLOOKUP(A586,Liste!$B$179                         : Liste!$C$189,2),\"\")","v":""},null,null,{"$f":"IF(D586>0,VLOOKUP(D586,Liste!$A$10:$D$163,4),\"\")","v":""},null,null,null,""]
[null,{"$f":"IF(A587>0,VLOOKUP(A587,Liste!$B$179                         : Liste!$C$189,2),\"\")","v":""},null,null,{"$f":"IF(D587>0,VLOOKUP(D587,Liste!$A$10:$D$163,4),\"\")","v":""},null,null,null,""]
[null,{"$f":"IF(A588>0,VLOOKUP(A588,Liste!$B$179                         : Liste!$C$189,2),\"\")","v":""},null,null,{"$f":"IF(D588>0,VLOOKUP(D588,Liste!$A$10:$D$163,4),\"\")","v":""},null,null,null,""]
[null,{"$f":"IF(A589>0,VLOOKUP(A589,Liste!$B$179                         : Liste!$C$189,2),\"\")","v":""},null,null,{"$f":"IF(D589>0,VLOOKUP(D589,Liste!$A$10:$D$163,4),\"\")","v":""},null,null,null,""]
[null,{"$f":"IF(A590>0,VLOOKUP(A590,Liste!$B$179                         : Liste!$C$189,2),\"\")","v":""},null,null,{"$f":"IF(D590>0,VLOOKUP(D590,Liste!$A$10:$D$163,4),\"\")","v":""},null,null,null,""]
[null,{"$f":"IF(A591>0,VLOOKUP(A591,Liste!$B$179                         : Liste!$C$189,2),\"\")","v":""},null,null,{"$f":"IF(D591>0,VLOOKUP(D591,Liste!$A$10:$D$163,4),\"\")","v":""},null,null,null,""]
[null,{"$f":"IF(A592>0,VLOOKUP(A592,Liste!$B$179                         : Liste!$C$189,2),\"\")","v":""},null,null,{"$f":"IF(D592>0,VLOOKUP(D592,Liste!$A$10:$D$163,4),\"\")","v":""},null,null,null,""]
[null,{"$f":"IF(A593>0,VLOOKUP(A593,Liste!$B$179                         : Liste!$C$189,2),\"\")","v":""},null,null,{"$f":"IF(D593>0,VLOOKUP(D593,Liste!$A$10:$D$163,4),\"\")","v":""},null,null,null,""]
[null,{"$f":"IF(A594>0,VLOOKUP(A594,Liste!$B$179                         : Liste!$C$189,2),\"\")","v":""},null,null,{"$f":"IF(D594>0,VLOOKUP(D594,Liste!$A$10:$D$163,4),\"\")","v":""},null,null,null,""]
[null,{"$f":"IF(A595>0,VLOOKUP(A595,Liste!$B$179                         : Liste!$C$189,2),\"\")","v":""},null,null,{"$f":"IF(D595>0,VLOOKUP(D595,Liste!$A$10:$D$163,4),\"\")","v":""},null,null,null,""]
[null,{"$f":"IF(A596>0,VLOOKUP(A596,Liste!$B$179                         : Liste!$C$189,2),\"\")","v":""},null,null,{"$f":"IF(D596>0,VLOOKUP(D596,Liste!$A$10:$D$163,4),\"\")","v":""},null,null,null,""]
[null,{"$f":"IF(A597>0,VLOOKUP(A597,Liste!$B$179                         : Liste!$C$189,2),\"\")","v":""},null,null,{"$f":"IF(D597>0,VLOOKUP(D597,Liste!$A$10:$D$163,4),\"\")","v":""},null,null,null,""]
[null,{"$f":"IF(A598>0,VLOOKUP(A598,Liste!$B$179                         : Liste!$C$189,2),\"\")","v":""},null,null,{"$f":"IF(D598>0,VLOOKUP(D598,Liste!$A$10:$D$163,4),\"\")","v":""},null,null,null,""]
[null,{"$f":"IF(A599>0,VLOOKUP(A599,Liste!$B$179                         : Liste!$C$189,2),\"\")","v":""},null,null,{"$f":"IF(D599>0,VLOOKUP(D599,Liste!$A$10:$D$163,4),\"\")","v":""},null,null,null,""]
[null,{"$f":"IF(A600>0,VLOOKUP(A600,Liste!$B$179                         : Liste!$C$189,2),\"\")","v":""},null,null,{"$f":"IF(D600>0,VLOOKUP(D600,Liste!$A$10:$D$163,4),\"\")","v":""},null,null,null,""]
[null,{"$f":"IF(A601>0,VLOOKUP(A601,Liste!$B$179                         : Liste!$C$189,2),\"\")","v":""},null,null,{"$f":"IF(D601>0,VLOOKUP(D601,Liste!$A$10:$D$163,4),\"\")","v":""},null,null,null,""]
[null,{"$f":"IF(A602>0,VLOOKUP(A602,Liste!$B$179                         : Liste!$C$189,2),\"\")","v":""},null,null,{"$f":"IF(D602>0,VLOOKUP(D602,Liste!$A$10:$D$163,4),\"\")","v":""},null,null,null,""]
[null,{"$f":"IF(A603>0,VLOOKUP(A603,Liste!$B$179                         : Liste!$C$189,2),\"\")","v":""},null,null,{"$f":"IF(D603>0,VLOOKUP(D603,Liste!$A$10:$D$163,4),\"\")","v":""},null,null,null,""]
[null,{"$f":"IF(A604>0,VLOOKUP(A604,Liste!$B$179                         : Liste!$C$189,2),\"\")","v":""},null,null,{"$f":"IF(D604>0,VLOOKUP(D604,Liste!$A$10:$D$163,4),\"\")","v":""},null,null,null,""]
[null,{"$f":"IF(A605>0,VLOOKUP(A605,Liste!$B$179                         : Liste!$C$189,2),\"\")","v":""},null,null,{"$f":"IF(D605>0,VLOOKUP(D605,Liste!$A$10:$D$163,4),\"\")","v":""},null,null,null,""]
[null,{"$f":"IF(A606>0,VLOOKUP(A606,Liste!$B$179                         : Liste!$C$189,2),\"\")","v":""},null,null,{"$f":"IF(D606>0,VLOOKUP(D606,Liste!$A$10:$D$163,4),\"\")","v":""},null,null,null,""]
[null,{"$f":"IF(A607>0,VLOOKUP(A607,Liste!$B$179                         : Liste!$C$189,2),\"\")","v":""},null,null,{"$f":"IF(D607>0,VLOOKUP(D607,Liste!$A$10:$D$163,4),\"\")","v":""},null,null,null,""]
[null,{"$f":"IF(A608>0,VLOOKUP(A608,Liste!$B$179                         : Liste!$C$189,2),\"\")","v":""},null,null,{"$f":"IF(D608>0,VLOOKUP(D608,Liste!$A$10:$D$163,4),\"\")","v":""},null,null,null,""]
[null,{"$f":"IF(A609>0,VLOOKUP(A609,Liste!$B$179                         : Liste!$C$189,2),\"\")","v":""},null,null,{"$f":"IF(D609>0,VLOOKUP(D609,Liste!$A$10:$D$163,4),\"\")","v":""},null,null,null,""]
[null,{"$f":"IF(A610>0,VLOOKUP(A610,Liste!$B$179                         : Liste!$C$189,2),\"\")","v":""},null,null,{"$f":"IF(D610>0,VLOOKUP(D610,Liste!$A$10:$D$163,4),\"\")","v":""},null,null,null,""]
[null,{"$f":"IF(A611>0,VLOOKUP(A611,Liste!$B$179                         : Liste!$C$189,2),\"\")","v":""},null,null,{"$f":"IF(D611>0,VLOOKUP(D611,Liste!$A$10:$D$163,4),\"\")","v":""},null,null,null,""]
[null,{"$f":"IF(A612>0,VLOOKUP(A612,Liste!$B$179                         : Liste!$C$189,2),\"\")","v":""},null,null,{"$f":"IF(D612>0,VLOOKUP(D612,Liste!$A$10:$D$163,4),\"\")","v":""},null,null,null,""]
[null,{"$f":"IF(A613>0,VLOOKUP(A613,Liste!$B$179                         : Liste!$C$189,2),\"\")","v":""},null,null,{"$f":"IF(D613>0,VLOOKUP(D613,Liste!$A$10:$D$163,4),\"\")","v":""},null,null,null,""]
[null,{"$f":"IF(A614>0,VLOOKUP(A614,Liste!$B$179                         : Liste!$C$189,2),\"\")","v":""},null,null,{"$f":"IF(D614>0,VLOOKUP(D614,Liste!$A$10:$D$163,4),\"\")","v":""},null,null,null,""]
[null,{"$f":"IF(A615>0,VLOOKUP(A615,Liste!$B$179                         : Liste!$C$189,2),\"\")","v":""},null,null,{"$f":"IF(D615>0,VLOOKUP(D615,Liste!$A$10:$D$163,4),\"\")","v":""},null,null,null,""]
[null,{"$f":"IF(A616>0,VLOOKUP(A616,Liste!$B$179                         : Liste!$C$189,2),\"\")","v":""},null,null,{"$f":"IF(D616>0,VLOOKUP(D616,Liste!$A$10:$D$163,4),\"\")","v":""},null,null,null,""]
[null,{"$f":"IF(A617>0,VLOOKUP(A617,Liste!$B$179                         : Liste!$C$189,2),\"\")","v":""},null,null,{"$f":"IF(D617>0,VLOOKUP(D617,Liste!$A$10:$D$163,4),\"\")","v":""},null,null,null,""]
[null,{"$f":"IF(A618>0,VLOOKUP(A618,Liste!$B$179                         : Liste!$C$189,2),\"\")","v":""},null,null,{"$f":"IF(D618>0,VLOOKUP(D618,Liste!$A$10:$D$163,4),\"\")","v":""},null,null,null,""]
[null,{"$f":"IF(A619>0,VLOOKUP(A619,Liste!$B$179                         : Liste!$C$189,2),\"\")","v":""},null,null,{"$f":"IF(D619>0,VLOOKUP(D619,Liste!$A$10:$D$163,4),\"\")","v":""},null,null,null,""]
[null,{"$f":"IF(A620>0,VLOOKUP(A620,Liste!$B$179                         : Liste!$C$189,2),\"\")","v":""},null,null,{"$f":"IF(D620>0,VLOOKUP(D620,Liste!$A$10:$D$163,4),\"\")","v":""},null,null,null,""]
[null,{"$f":"IF(A621>0,VLOOKUP(A621,Liste!$B$179                         : Liste!$C$189,2),\"\")","v":""},null,null,{"$f":"IF(D621>0,VLOOKUP(D621,Liste!$A$10:$D$163,4),\"\")","v":""},null,null,null,""]
[null,{"$f":"IF(A622>0,VLOOKUP(A622,Liste!$B$179                         : Liste!$C$189,2),\"\")","v":""},null,null,{"$f":"IF(D622>0,VLOOKUP(D622,Liste!$A$10:$D$163,4),\"\")","v":""},null,null,null,""]
[null,{"$f":"IF(A623>0,VLOOKUP(A623,Liste!$B$179                         : Liste!$C$189,2),\"\")","v":""},null,null,{"$f":"IF(D623>0,VLOOKUP(D623,Liste!$A$10:$D$163,4),\"\")","v":""},null,null,null,""]
[null,{"$f":"IF(A624>0,VLOOKUP(A624,Liste!$B$179                         : Liste!$C$189,2),\"\")","v":""},null,null,{"$f":"IF(D624>0,VLOOKUP(D624,Liste!$A$10:$D$163,4),\"\")","v":""},null,null,null,""]
[null,{"$f":"IF(A625>0,VLOOKUP(A625,Liste!$B$179                         : Liste!$C$189,2),\"\")","v":""},null,null,{"$f":"IF(D625>0,VLOOKUP(D625,Liste!$A$10:$D$163,4),\"\")","v":""},null,null,null,""]
[null,{"$f":"IF(A626>0,VLOOKUP(A626,Liste!$B$179                         : Liste!$C$189,2),\"\")","v":""},null,null,{"$f":"IF(D626>0,VLOOKUP(D626,Liste!$A$10:$D$163,4),\"\")","v":""},null,null,null,""]
[null,{"$f":"IF(A627>0,VLOOKUP(A627,Liste!$B$179                         : Liste!$C$189,2),\"\")","v":""},null,null,{"$f":"IF(D627>0,VLOOKUP(D627,Liste!$A$10:$D$163,4),\"\")","v":""},null,null,null,""]
[null,{"$f":"IF(A628>0,VLOOKUP(A628,Liste!$B$179                         : Liste!$C$189,2),\"\")","v":""},null,null,{"$f":"IF(D628>0,VLOOKUP(D628,Liste!$A$10:$D$163,4),\"\")","v":""},null,null,null,""]
[null,{"$f":"IF(A629>0,VLOOKUP(A629,Liste!$B$179                         : Liste!$C$189,2),\"\")","v":""},null,null,{"$f":"IF(D629>0,VLOOKUP(D629,Liste!$A$10:$D$163,4),\"\")","v":""},null,null,null,""]
[null,{"$f":"IF(A630>0,VLOOKUP(A630,Liste!$B$179                         : Liste!$C$189,2),\"\")","v":""},null,null,{"$f":"IF(D630>0,VLOOKUP(D630,Liste!$A$10:$D$163,4),\"\")","v":""},null,null,null,""]
[null,{"$f":"IF(A631>0,VLOOKUP(A631,Liste!$B$179                         : Liste!$C$189,2),\"\")","v":""},null,null,{"$f":"IF(D631>0,VLOOKUP(D631,Liste!$A$10:$D$163,4),\"\")","v":""},null,null,null,""]
[null,{"$f":"IF(A632>0,VLOOKUP(A632,Liste!$B$179                         : Liste!$C$189,2),\"\")","v":""},null,null,{"$f":"IF(D632>0,VLOOKUP(D632,Liste!$A$10:$D$163,4),\"\")","v":""},null,null,null,""]
[null,{"$f":"IF(A633>0,VLOOKUP(A633,Liste!$B$179                         : Liste!$C$189,2),\"\")","v":""},null,null,{"$f":"IF(D633>0,VLOOKUP(D633,Liste!$A$10:$D$163,4),\"\")","v":""},null,null,null,""]
[null,{"$f":"IF(A634>0,VLOOKUP(A634,Liste!$B$179                         : Liste!$C$189,2),\"\")","v":""},null,null,{"$f":"IF(D634>0,VLOOKUP(D634,Liste!$A$10:$D$163,4),\"\")","v":""},null,null,null,""]
[null,{"$f":"IF(A635>0,VLOOKUP(A635,Liste!$B$179                         : Liste!$C$189,2),\"\")","v":""},null,null,{"$f":"IF(D635>0,VLOOKUP(D635,Liste!$A$10:$D$163,4),\"\")","v":""},null,null,null,""]
[null,{"$f":"IF(A636>0,VLOOKUP(A636,Liste!$B$179                         : Liste!$C$189,2),\"\")","v":""},null,null,{"$f":"IF(D636>0,VLOOKUP(D636,Liste!$A$10:$D$163,4),\"\")","v":""},null,null,null,""]
[null,{"$f":"IF(A637>0,VLOOKUP(A637,Liste!$B$179                         : Liste!$C$189,2),\"\")","v":""},null,null,{"$f":"IF(D637>0,VLOOKUP(D637,Liste!$A$10:$D$163,4),\"\")","v":""},null,null,null,""]
[null,{"$f":"IF(A638>0,VLOOKUP(A638,Liste!$B$179                         : Liste!$C$189,2),\"\")","v":""},null,null,{"$f":"IF(D638>0,VLOOKUP(D638,Liste!$A$10:$D$163,4),\"\")","v":""},null,null,null,""]
[null,{"$f":"IF(A639>0,VLOOKUP(A639,Liste!$B$179                         : Liste!$C$189,2),\"\")","v":""},null,null,{"$f":"IF(D639>0,VLOOKUP(D639,Liste!$A$10:$D$163,4),\"\")","v":""},null,null,null,""]
[null,{"$f":"IF(A640>0,VLOOKUP(A640,Liste!$B$179                         : Liste!$C$189,2),\"\")","v":""},null,null,{"$f":"IF(D640>0,VLOOKUP(D640,Liste!$A$10:$D$163,4),\"\")","v":""},null,null,null,""]
[null,{"$f":"IF(A641>0,VLOOKUP(A641,Liste!$B$179                         : Liste!$C$189,2),\"\")","v":""},null,null,{"$f":"IF(D641>0,VLOOKUP(D641,Liste!$A$10:$D$163,4),\"\")","v":""},null,null,null,""]
[null,{"$f":"IF(A642>0,VLOOKUP(A642,Liste!$B$179                         : Liste!$C$189,2),\"\")","v":""},null,null,{"$f":"IF(D642>0,VLOOKUP(D642,Liste!$A$10:$D$163,4),\"\")","v":""},null,null,null,""]
[null,{"$f":"IF(A643>0,VLOOKUP(A643,Liste!$B$179                         : Liste!$C$189,2),\"\")","v":""},null,null,{"$f":"IF(D643>0,VLOOKUP(D643,Liste!$A$10:$D$163,4),\"\")","v":""},null,null,null,""]
[null,{"$f":"IF(A644>0,VLOOKUP(A644,Liste!$B$179                         : Liste!$C$189,2),\"\")","v":""},null,null,{"$f":"IF(D644>0,VLOOKUP(D644,Liste!$A$10:$D$163,4),\"\")","v":""},null,null,null,""]
[null,{"$f":"IF(A645>0,VLOOKUP(A645,Liste!$B$179                         : Liste!$C$189,2),\"\")","v":""},null,null,{"$f":"IF(D645>0,VLOOKUP(D645,Liste!$A$10:$D$163,4),\"\")","v":""},null,null,null,""]
[null,{"$f":"IF(A646>0,VLOOKUP(A646,Liste!$B$179                         : Liste!$C$189,2),\"\")","v":""},null,null,{"$f":"IF(D646>0,VLOOKUP(D646,Liste!$A$10:$D$163,4),\"\")","v":""},null,null,null,{"$f":"IF(AND(D646>0,F646+G646+H646=0),\"EN ATTENTE\",IF(F646+G646+H646>1,\"ERREUR\",\"\"))","v":""}]
[null,{"$f":"IF(A647>0,VLOOKUP(A647,Liste!$B$179                         : Liste!$C$189,2),\"\")","v":""},null,null,{"$f":"IF(D647>0,VLOOKUP(D647,Liste!$A$10:$D$163,4),\"\")","v":""},null,null,null,""]
[null,{"$f":"IF(A648>0,VLOOKUP(A648,Liste!$B$179                         : Liste!$C$189,2),\"\")","v":""},null,null,{"$f":"IF(D648>0,VLOOKUP(D648,Liste!$A$10:$D$163,4),\"\")","v":""},null,null,null,""]
[null,{"$f":"IF(A649>0,VLOOKUP(A649,Liste!$B$179                         : Liste!$C$189,2),\"\")","v":""},null,null,{"$f":"IF(D649>0,VLOOKUP(D649,Liste!$A$10:$D$163,4),\"\")","v":""},null,null,null,""]
[null,{"$f":"IF(A650>0,VLOOKUP(A650,Liste!$B$179                         : Liste!$C$189,2),\"\")","v":""},null,null,{"$f":"IF(D650>0,VLOOKUP(D650,Liste!$A$10:$D$163,4),\"\")","v":""},null,null,null,""]
[null,{"$f":"IF(A651>0,VLOOKUP(A651,Liste!$B$179                         : Liste!$C$189,2),\"\")","v":""},null,null,{"$f":"IF(D651>0,VLOOKUP(D651,Liste!$A$10:$D$163,4),\"\")","v":""},null,null,null,""]
[null,{"$f":"IF(A652>0,VLOOKUP(A652,Liste!$B$179                         : Liste!$C$189,2),\"\")","v":""},null,null,{"$f":"IF(D652>0,VLOOKUP(D652,Liste!$A$10:$D$163,4),\"\")","v":""},null,null,null,""]
[null,{"$f":"IF(A653>0,VLOOKUP(A653,Liste!$B$179                         : Liste!$C$189,2),\"\")","v":""},null,null,{"$f":"IF(D653>0,VLOOKUP(D653,Liste!$A$10:$D$163,4),\"\")","v":""},null,null,null,""]
[null,{"$f":"IF(A654>0,VLOOKUP(A654,Liste!$B$179                         : Liste!$C$189,2),\"\")","v":""},null,null,{"$f":"IF(D654>0,VLOOKUP(D654,Liste!$A$10:$D$163,4),\"\")","v":""},null,null,null,""]
[null,{"$f":"IF(A655>0,VLOOKUP(A655,Liste!$B$179                         : Liste!$C$189,2),\"\")","v":""},null,null,{"$f":"IF(D655>0,VLOOKUP(D655,Liste!$A$10:$D$163,4),\"\")","v":""},null,null,null,""]
[null,{"$f":"IF(A656>0,VLOOKUP(A656,Liste!$B$179                         : Liste!$C$189,2),\"\")","v":""},null,null,{"$f":"IF(D656>0,VLOOKUP(D656,Liste!$A$10:$D$163,4),\"\")","v":""},null,null,null,""]
[null,{"$f":"IF(A657>0,VLOOKUP(A657,Liste!$B$179                         : Liste!$C$189,2),\"\")","v":""},null,null,{"$f":"IF(D657>0,VLOOKUP(D657,Liste!$A$10:$D$163,4),\"\")","v":""},null,null,null,""]
[null,{"$f":"IF(A658>0,VLOOKUP(A658,Liste!$B$179                         : Liste!$C$189,2),\"\")","v":""},null,null,{"$f":"IF(D658>0,VLOOKUP(D658,Liste!$A$10:$D$163,4),\"\")","v":""},null,null,null,""]
[null,{"$f":"IF(A659>0,VLOOKUP(A659,Liste!$B$179                         : Liste!$C$189,2),\"\")","v":""},null,null,{"$f":"IF(D659>0,VLOOKUP(D659,Liste!$A$10:$D$163,4),\"\")","v":""},null,null,null,""]
[null,{"$f":"IF(A660>0,VLOOKUP(A660,Liste!$B$179                         : Liste!$C$189,2),\"\")","v":""},null,null,{"$f":"IF(D660>0,VLOOKUP(D660,Liste!$A$10:$D$163,4),\"\")","v":""},null,null,null,""]
[null,{"$f":"IF(A661>0,VLOOKUP(A661,Liste!$B$179                         : Liste!$C$189,2),\"\")","v":""},null,null,{"$f":"IF(D661>0,VLOOKUP(D661,Liste!$A$10:$D$163,4),\"\")","v":""},null,null,null,""]
[null,{"$f":"IF(A662>0,VLOOKUP(A662,Liste!$B$179                         : Liste!$C$189,2),\"\")","v":""},null,null,{"$f":"IF(D662>0,VLOOKUP(D662,Liste!$A$10:$D$163,4),\"\")","v":""},null,null,null,""]
[null,{"$f":"IF(A663>0,VLOOKUP(A663,Liste!$B$179                         : Liste!$C$189,2),\"\")","v":""},null,null,{"$f":"IF(D663>0,VLOOKUP(D663,Liste!$A$10:$D$163,4),\"\")","v":""},null,null,null,""]
[null,{"$f":"IF(A664>0,VLOOKUP(A664,Liste!$B$179                         : Liste!$C$189,2),\"\")","v":""},null,null,{"$f":"IF(D664>0,VLOOKUP(D664,Liste!$A$10:$D$163,4),\"\")","v":""},null,null,null,""]
[null,{"$f":"IF(A665>0,VLOOKUP(A665,Liste!$B$179                         : Liste!$C$189,2),\"\")","v":""},null,null,{"$f":"IF(D665>0,VLOOKUP(D665,Liste!$A$10:$D$163,4),\"\")","v":""},null,null,null,""]
[null,{"$f":"IF(A666>0,VLOOKUP(A666,Liste!$B$179                         : Liste!$C$189,2),\"\")","v":""},null,null,{"$f":"IF(D666>0,VLOOKUP(D666,Liste!$A$10:$D$163,4),\"\")","v":""},null,null,null,""]
[null,{"$f":"IF(A667>0,VLOOKUP(A667,Liste!$B$179                         : Liste!$C$189,2),\"\")","v":""},null,null,{"$f":"IF(D667>0,VLOOKUP(D667,Liste!$A$10:$D$163,4),\"\")","v":""},null,null,null,""]
[null,{"$f":"IF(A668>0,VLOOKUP(A668,Liste!$B$179                         : Liste!$C$189,2),\"\")","v":""},null,null,{"$f":"IF(D668>0,VLOOKUP(D668,Liste!$A$10:$D$163,4),\"\")","v":""},null,null,null,""]
[null,{"$f":"IF(A669>0,VLOOKUP(A669,Liste!$B$179                         : Liste!$C$189,2),\"\")","v":""},null,null,{"$f":"IF(D669>0,VLOOKUP(D669,Liste!$A$10:$D$163,4),\"\")","v":""},null,null,null,""]
[null,{"$f":"IF(A670>0,VLOOKUP(A670,Liste!$B$179                         : Liste!$C$189,2),\"\")","v":""},null,null,{"$f":"IF(D670>0,VLOOKUP(D670,Liste!$A$10:$D$163,4),\"\")","v":""},null,null,null,""]
[null,{"$f":"IF(A671>0,VLOOKUP(A671,Liste!$B$179                         : Liste!$C$189,2),\"\")","v":""},null,null,{"$f":"IF(D671>0,VLOOKUP(D671,Liste!$A$10:$D$163,4),\"\")","v":""},null,null,null,""]
[null,{"$f":"IF(A672>0,VLOOKUP(A672,Liste!$B$179                         : Liste!$C$189,2),\"\")","v":""},null,null,{"$f":"IF(D672>0,VLOOKUP(D672,Liste!$A$10:$D$163,4),\"\")","v":""},null,null,null,""]
[null,{"$f":"IF(A673>0,VLOOKUP(A673,Liste!$B$179                         : Liste!$C$189,2),\"\")","v":""},null,null,{"$f":"IF(D673>0,VLOOKUP(D673,Liste!$A$10:$D$163,4),\"\")","v":""},null,null,null,""]
[null,{"$f":"IF(A674>0,VLOOKUP(A674,Liste!$B$179                         : Liste!$C$189,2),\"\")","v":""},null,null,{"$f":"IF(D674>0,VLOOKUP(D674,Liste!$A$10:$D$163,4),\"\")","v":""},null,null,null,""]
[null,{"$f":"IF(A675>0,VLOOKUP(A675,Liste!$B$179                         : Liste!$C$189,2),\"\")","v":""},null,null,{"$f":"IF(D675>0,VLOOKUP(D675,Liste!$A$10:$D$163,4),\"\")","v":""},null,null,null,""]
[null,{"$f":"IF(A676>0,VLOOKUP(A676,Liste!$B$179                         : Liste!$C$189,2),\"\")","v":""},null,null,{"$f":"IF(D676>0,VLOOKUP(D676,Liste!$A$10:$D$163,4),\"\")","v":""},null,null,null,""]
[null,{"$f":"IF(A677>0,VLOOKUP(A677,Liste!$B$179                         : Liste!$C$189,2),\"\")","v":""},null,null,{"$f":"IF(D677>0,VLOOKUP(D677,Liste!$A$10:$D$163,4),\"\")","v":""},null,null,null,""]
[null,{"$f":"IF(A678>0,VLOOKUP(A678,Liste!$B$179                         : Liste!$C$189,2),\"\")","v":""},null,null,{"$f":"IF(D678>0,VLOOKUP(D678,Liste!$A$10:$D$163,4),\"\")","v":""},null,null,null,""]
[null,{"$f":"IF(A679>0,VLOOKUP(A679,Liste!$B$179                         : Liste!$C$189,2),\"\")","v":""},null,null,{"$f":"IF(D679>0,VLOOKUP(D679,Liste!$A$10:$D$163,4),\"\")","v":""},null,null,null,""]
[null,{"$f":"IF(A680>0,VLOOKUP(A680,Liste!$B$179                         : Liste!$C$189,2),\"\")","v":""},null,null,{"$f":"IF(D680>0,VLOOKUP(D680,Liste!$A$10:$D$163,4),\"\")","v":""},null,null,null,""]
[null,{"$f":"IF(A681>0,VLOOKUP(A681,Liste!$B$179                         : Liste!$C$189,2),\"\")","v":""},null,null,{"$f":"IF(D681>0,VLOOKUP(D681,Liste!$A$10:$D$163,4),\"\")","v":""},null,null,null,""]
[null,{"$f":"IF(A682>0,VLOOKUP(A682,Liste!$B$179                         : Liste!$C$189,2),\"\")","v":""},null,null,{"$f":"IF(D682>0,VLOOKUP(D682,Liste!$A$10:$D$163,4),\"\")","v":""},null,null,null,""]
[null,{"$f":"IF(A683>0,VLOOKUP(A683,Liste!$B$179                         : Liste!$C$189,2),\"\")","v":""},null,null,{"$f":"IF(D683>0,VLOOKUP(D683,Liste!$A$10:$D$163,4),\"\")","v":""},null,null,null,""]
[null,{"$f":"IF(A684>0,VLOOKUP(A684,Liste!$B$179                         : Liste!$C$189,2),\"\")","v":""},null,null,{"$f":"IF(D684>0,VLOOKUP(D684,Liste!$A$10:$D$163,4),\"\")","v":""},null,null,null,""]
[null,{"$f":"IF(A685>0,VLOOKUP(A685,Liste!$B$179                         : Liste!$C$189,2),\"\")","v":""},null,null,{"$f":"IF(D685>0,VLOOKUP(D685,Liste!$A$10:$D$163,4),\"\")","v":""},null,null,null,""]
[null,{"$f":"IF(A686>0,VLOOKUP(A686,Liste!$B$179                         : Liste!$C$189,2),\"\")","v":""},null,null,{"$f":"IF(D686>0,VLOOKUP(D686,Liste!$A$10:$D$163,4),\"\")","v":""},null,null,null,""]
[null,{"$f":"IF(A687>0,VLOOKUP(A687,Liste!$B$179                         : Liste!$C$189,2),\"\")","v":""},null,null,{"$f":"IF(D687>0,VLOOKUP(D687,Liste!$A$10:$D$163,4),\"\")","v":""},null,null,null,""]
[null,{"$f":"IF(A688>0,VLOOKUP(A688,Liste!$B$179                         : Liste!$C$189,2),\"\")","v":""},null,null,{"$f":"IF(D688>0,VLOOKUP(D688,Liste!$A$10:$D$163,4),\"\")","v":""},null,null,null,""]
[null,{"$f":"IF(A689>0,VLOOKUP(A689,Liste!$B$179                         : Liste!$C$189,2),\"\")","v":""},null,null,{"$f":"IF(D689>0,VLOOKUP(D689,Liste!$A$10:$D$163,4),\"\")","v":""},null,null,null,""]
[null,{"$f":"IF(A690>0,VLOOKUP(A690,Liste!$B$179                         : Liste!$C$189,2),\"\")","v":""},null,null,{"$f":"IF(D690>0,VLOOKUP(D690,Liste!$A$10:$D$163,4),\"\")","v":""},null,null,null,""]
[null,{"$f":"IF(A691>0,VLOOKUP(A691,Liste!$B$179                         : Liste!$C$189,2),\"\")","v":""},null,null,{"$f":"IF(D691>0,VLOOKUP(D691,Liste!$A$10:$D$163,4),\"\")","v":""},null,null,null,""]
[null,{"$f":"IF(A692>0,VLOOKUP(A692,Liste!$B$179                         : Liste!$C$189,2),\"\")","v":""},null,null,{"$f":"IF(D692>0,VLOOKUP(D692,Liste!$A$10:$D$163,4),\"\")","v":""},null,null,null,""]
[null,{"$f":"IF(A693>0,VLOOKUP(A693,Liste!$B$179                         : Liste!$C$189,2),\"\")","v":""},null,null,{"$f":"IF(D693>0,VLOOKUP(D693,Liste!$A$10:$D$163,4),\"\")","v":""},null,null,null,""]
[null,{"$f":"IF(A694>0,VLOOKUP(A694,Liste!$B$179                         : Liste!$C$189,2),\"\")","v":""},null,null,{"$f":"IF(D694>0,VLOOKUP(D694,Liste!$A$10:$D$163,4),\"\")","v":""},null,null,null,""]
[null,{"$f":"IF(A695>0,VLOOKUP(A695,Liste!$B$179                         : Liste!$C$189,2),\"\")","v":""},null,null,{"$f":"IF(D695>0,VLOOKUP(D695,Liste!$A$10:$D$163,4),\"\")","v":""},null,null,null,""]
[null,{"$f":"IF(A696>0,VLOOKUP(A696,Liste!$B$179                         : Liste!$C$189,2),\"\")","v":""},null,null,{"$f":"IF(D696>0,VLOOKUP(D696,Liste!$A$10:$D$163,4),\"\")","v":""},null,null,null,""]
[null,{"$f":"IF(A697>0,VLOOKUP(A697,Liste!$B$179                         : Liste!$C$189,2),\"\")","v":""},null,null,{"$f":"IF(D697>0,VLOOKUP(D697,Liste!$A$10:$D$163,4),\"\")","v":""},null,null,null,""]
[null,{"$f":"IF(A698>0,VLOOKUP(A698,Liste!$B$179                         : Liste!$C$189,2),\"\")","v":""},null,null,{"$f":"IF(D698>0,VLOOKUP(D698,Liste!$A$10:$D$163,4),\"\")","v":""},null,null,null,""]
[null,{"$f":"IF(A699>0,VLOOKUP(A699,Liste!$B$179                         : Liste!$C$189,2),\"\")","v":""},null,null,{"$f":"IF(D699>0,VLOOKUP(D699,Liste!$A$10:$D$163,4),\"\")","v":""},null,null,null,""]
[null,{"$f":"IF(A700>0,VLOOKUP(A700,Liste!$B$179                         : Liste!$C$189,2),\"\")","v":""},null,null,{"$f":"IF(D700>0,VLOOKUP(D700,Liste!$A$10:$D$163,4),\"\")","v":""},null,null,null,""]
[null,{"$f":"IF(A701>0,VLOOKUP(A701,Liste!$B$179                         : Liste!$C$189,2),\"\")","v":""},null,null,{"$f":"IF(D701>0,VLOOKUP(D701,Liste!$A$10:$D$163,4),\"\")","v":""},null,null,null,""]
[null,{"$f":"IF(A702>0,VLOOKUP(A702,Liste!$B$179                         : Liste!$C$189,2),\"\")","v":""},null,null,{"$f":"IF(D702>0,VLOOKUP(D702,Liste!$A$10:$D$163,4),\"\")","v":""},null,null,null,""]
[null,{"$f":"IF(A703>0,VLOOKUP(A703,Liste!$B$179                         : Liste!$C$189,2),\"\")","v":""},null,null,{"$f":"IF(D703>0,VLOOKUP(D703,Liste!$A$10:$D$163,4),\"\")","v":""},null,null,null,""]
[null,{"$f":"IF(A704>0,VLOOKUP(A704,Liste!$B$179                         : Liste!$C$189,2),\"\")","v":""},null,null,{"$f":"IF(D704>0,VLOOKUP(D704,Liste!$A$10:$D$163,4),\"\")","v":""},null,null,null,""]
[null,{"$f":"IF(A705>0,VLOOKUP(A705,Liste!$B$179                         : Liste!$C$189,2),\"\")","v":""},null,null,{"$f":"IF(D705>0,VLOOKUP(D705,Liste!$A$10:$D$163,4),\"\")","v":""},null,null,null,""]
[null,{"$f":"IF(A706>0,VLOOKUP(A706,Liste!$B$179                         : Liste!$C$189,2),\"\")","v":""},null,null,{"$f":"IF(D706>0,VLOOKUP(D706,Liste!$A$10:$D$163,4),\"\")","v":""},null,null,null,""]
[null,{"$f":"IF(A707>0,VLOOKUP(A707,Liste!$B$179                         : Liste!$C$189,2),\"\")","v":""},null,null,{"$f":"IF(D707>0,VLOOKUP(D707,Liste!$A$10:$D$163,4),\"\")","v":""},null,null,null,""]
[null,{"$f":"IF(A708>0,VLOOKUP(A708,Liste!$B$179                         : Liste!$C$189,2),\"\")","v":""},null,null,{"$f":"IF(D708>0,VLOOKUP(D708,Liste!$A$10:$D$163,4),\"\")","v":""},null,null,null,""]
[null,{"$f":"IF(A709>0,VLOOKUP(A709,Liste!$B$179                         : Liste!$C$189,2),\"\")","v":""},null,null,{"$f":"IF(D709>0,VLOOKUP(D709,Liste!$A$10:$D$163,4),\"\")","v":""},null,null,null,""]
[null,{"$f":"IF(A710>0,VLOOKUP(A710,Liste!$B$179                         : Liste!$C$189,2),\"\")","v":""},null,null,{"$f":"IF(D710>0,VLOOKUP(D710,Liste!$A$10:$D$163,4),\"\")","v":""},null,null,null,{"$f":"IF(AND(D710>0,F710+G710+H710=0),\"EN ATTENTE\",IF(F710+G710+H710>1,\"ERREUR\",\"\"))","v":""}]
[null,{"$f":"IF(A711>0,VLOOKUP(A711,Liste!$B$179                         : Liste!$C$189,2),\"\")","v":""},null,null,{"$f":"IF(D711>0,VLOOKUP(D711,Liste!$A$10:$D$163,4),\"\")","v":""},null,null,null,""]
[null,{"$f":"IF(A712>0,VLOOKUP(A712,Liste!$B$179                         : Liste!$C$189,2),\"\")","v":""},null,null,{"$f":"IF(D712>0,VLOOKUP(D712,Liste!$A$10:$D$163,4),\"\")","v":""},null,null,null,""]
[null,{"$f":"IF(A713>0,VLOOKUP(A713,Liste!$B$179                         : Liste!$C$189,2),\"\")","v":""},null,null,{"$f":"IF(D713>0,VLOOKUP(D713,Liste!$A$10:$D$163,4),\"\")","v":""},null,null,null,""]
[null,{"$f":"IF(A714>0,VLOOKUP(A714,Liste!$B$179                         : Liste!$C$189,2),\"\")","v":""},null,null,{"$f":"IF(D714>0,VLOOKUP(D714,Liste!$A$10:$D$163,4),\"\")","v":""},null,null,null,""]
[null,{"$f":"IF(A715>0,VLOOKUP(A715,Liste!$B$179                         : Liste!$C$189,2),\"\")","v":""},null,null,{"$f":"IF(D715>0,VLOOKUP(D715,Liste!$A$10:$D$163,4),\"\")","v":""},null,null,null,""]
[null,{"$f":"IF(A716>0,VLOOKUP(A716,Liste!$B$179                         : Liste!$C$189,2),\"\")","v":""},null,null,{"$f":"IF(D716>0,VLOOKUP(D716,Liste!$A$10:$D$163,4),\"\")","v":""},null,null,null,""]
[null,{"$f":"IF(A717>0,VLOOKUP(A717,Liste!$B$179                         : Liste!$C$189,2),\"\")","v":""},null,null,{"$f":"IF(D717>0,VLOOKUP(D717,Liste!$A$10:$D$163,4),\"\")","v":""},null,null,null,""]
[null,{"$f":"IF(A718>0,VLOOKUP(A718,Liste!$B$179                         : Liste!$C$189,2),\"\")","v":""},null,null,{"$f":"IF(D718>0,VLOOKUP(D718,Liste!$A$10:$D$163,4),\"\")","v":""},null,null,null,""]
[null,{"$f":"IF(A719>0,VLOOKUP(A719,Liste!$B$179                         : Liste!$C$189,2),\"\")","v":""},null,null,{"$f":"IF(D719>0,VLOOKUP(D719,Liste!$A$10:$D$163,4),\"\")","v":""},null,null,null,""]
[null,{"$f":"IF(A720>0,VLOOKUP(A720,Liste!$B$179                         : Liste!$C$189,2),\"\")","v":""},null,null,{"$f":"IF(D720>0,VLOOKUP(D720,Liste!$A$10:$D$163,4),\"\")","v":""},null,null,null,""]
[null,{"$f":"IF(A721>0,VLOOKUP(A721,Liste!$B$179                         : Liste!$C$189,2),\"\")","v":""},null,null,{"$f":"IF(D721>0,VLOOKUP(D721,Liste!$A$10:$D$163,4),\"\")","v":""},null,null,null,""]
[null,{"$f":"IF(A722>0,VLOOKUP(A722,Liste!$B$179                         : Liste!$C$189,2),\"\")","v":""},null,null,{"$f":"IF(D722>0,VLOOKUP(D722,Liste!$A$10:$D$163,4),\"\")","v":""},null,null,null,""]
[null,{"$f":"IF(A723>0,VLOOKUP(A723,Liste!$B$179                         : Liste!$C$189,2),\"\")","v":""},null,null,{"$f":"IF(D723>0,VLOOKUP(D723,Liste!$A$10:$D$163,4),\"\")","v":""},null,null,null,""]
[null,{"$f":"IF(A724>0,VLOOKUP(A724,Liste!$B$179                         : Liste!$C$189,2),\"\")","v":""},null,null,{"$f":"IF(D724>0,VLOOKUP(D724,Liste!$A$10:$D$163,4),\"\")","v":""},null,null,null,""]
[null,{"$f":"IF(A725>0,VLOOKUP(A725,Liste!$B$179                         : Liste!$C$189,2),\"\")","v":""},null,null,{"$f":"IF(D725>0,VLOOKUP(D725,Liste!$A$10:$D$163,4),\"\")","v":""},null,null,null,""]
[null,{"$f":"IF(A726>0,VLOOKUP(A726,Liste!$B$179                         : Liste!$C$189,2),\"\")","v":""},null,null,{"$f":"IF(D726>0,VLOOKUP(D726,Liste!$A$10:$D$163,4),\"\")","v":""},null,null,null,""]
[null,{"$f":"IF(A727>0,VLOOKUP(A727,Liste!$B$179                         : Liste!$C$189,2),\"\")","v":""},null,null,{"$f":"IF(D727>0,VLOOKUP(D727,Liste!$A$10:$D$163,4),\"\")","v":""},null,null,null,""]
[null,{"$f":"IF(A728>0,VLOOKUP(A728,Liste!$B$179                         : Liste!$C$189,2),\"\")","v":""},null,null,{"$f":"IF(D728>0,VLOOKUP(D728,Liste!$A$10:$D$163,4),\"\")","v":""},null,null,null,""]
[null,{"$f":"IF(A729>0,VLOOKUP(A729,Liste!$B$179                         : Liste!$C$189,2),\"\")","v":""},null,null,{"$f":"IF(D729>0,VLOOKUP(D729,Liste!$A$10:$D$163,4),\"\")","v":""},null,null,null,""]
[null,{"$f":"IF(A730>0,VLOOKUP(A730,Liste!$B$179                         : Liste!$C$189,2),\"\")","v":""},null,null,{"$f":"IF(D730>0,VLOOKUP(D730,Liste!$A$10:$D$163,4),\"\")","v":""},null,null,null,""]
[null,{"$f":"IF(A731>0,VLOOKUP(A731,Liste!$B$179                         : Liste!$C$189,2),\"\")","v":""},null,null,{"$f":"IF(D731>0,VLOOKUP(D731,Liste!$A$10:$D$163,4),\"\")","v":""},null,null,null,""]
[null,{"$f":"IF(A732>0,VLOOKUP(A732,Liste!$B$179                         : Liste!$C$189,2),\"\")","v":""},null,null,{"$f":"IF(D732>0,VLOOKUP(D732,Liste!$A$10:$D$163,4),\"\")","v":""},null,null,null,""]
[null,{"$f":"IF(A733>0,VLOOKUP(A733,Liste!$B$179                         : Liste!$C$189,2),\"\")","v":""},null,null,{"$f":"IF(D733>0,VLOOKUP(D733,Liste!$A$10:$D$163,4),\"\")","v":""},null,null,null,""]
[null,{"$f":"IF(A734>0,VLOOKUP(A734,Liste!$B$179                         : Liste!$C$189,2),\"\")","v":""},null,null,{"$f":"IF(D734>0,VLOOKUP(D734,Liste!$A$10:$D$163,4),\"\")","v":""},null,null,null,""]
[null,{"$f":"IF(A735>0,VLOOKUP(A735,Liste!$B$179                         : Liste!$C$189,2),\"\")","v":""},null,null,{"$f":"IF(D735>0,VLOOKUP(D735,Liste!$A$10:$D$163,4),\"\")","v":""},null,null,null,""]
[null,{"$f":"IF(A736>0,VLOOKUP(A736,Liste!$B$179                         : Liste!$C$189,2),\"\")","v":""},null,null,{"$f":"IF(D736>0,VLOOKUP(D736,Liste!$A$10:$D$163,4),\"\")","v":""},null,null,null,""]
[null,{"$f":"IF(A737>0,VLOOKUP(A737,Liste!$B$179                         : Liste!$C$189,2),\"\")","v":""},null,null,{"$f":"IF(D737>0,VLOOKUP(D737,Liste!$A$10:$D$163,4),\"\")","v":""},null,null,null,""]
[null,{"$f":"IF(A738>0,VLOOKUP(A738,Liste!$B$179                         : Liste!$C$189,2),\"\")","v":""},null,null,{"$f":"IF(D738>0,VLOOKUP(D738,Liste!$A$10:$D$163,4),\"\")","v":""},null,null,null,""]
[null,{"$f":"IF(A739>0,VLOOKUP(A739,Liste!$B$179                         : Liste!$C$189,2),\"\")","v":""},null,null,{"$f":"IF(D739>0,VLOOKUP(D739,Liste!$A$10:$D$163,4),\"\")","v":""},null,null,null,""]
[null,{"$f":"IF(A740>0,VLOOKUP(A740,Liste!$B$179                         : Liste!$C$189,2),\"\")","v":""},null,null,{"$f":"IF(D740>0,VLOOKUP(D740,Liste!$A$10:$D$163,4),\"\")","v":""},null,null,null,""]
[null,{"$f":"IF(A741>0,VLOOKUP(A741,Liste!$B$179                         : Liste!$C$189,2),\"\")","v":""},null,null,{"$f":"IF(D741>0,VLOOKUP(D741,Liste!$A$10:$D$163,4),\"\")","v":""},null,null,null,""]
[null,{"$f":"IF(A742>0,VLOOKUP(A742,Liste!$B$179                         : Liste!$C$189,2),\"\")","v":""},null,null,{"$f":"IF(D742>0,VLOOKUP(D742,Liste!$A$10:$D$163,4),\"\")","v":""},null,null,null,""]
[null,{"$f":"IF(A743>0,VLOOKUP(A743,Liste!$B$179                         : Liste!$C$189,2),\"\")","v":""},null,null,{"$f":"IF(D743>0,VLOOKUP(D743,Liste!$A$10:$D$163,4),\"\")","v":""},null,null,null,""]
[null,{"$f":"IF(A744>0,VLOOKUP(A744,Liste!$B$179                         : Liste!$C$189,2),\"\")","v":""},null,null,{"$f":"IF(D744>0,VLOOKUP(D744,Liste!$A$10:$D$163,4),\"\")","v":""},null,null,null,""]
[null,{"$f":"IF(A745>0,VLOOKUP(A745,Liste!$B$179                         : Liste!$C$189,2),\"\")","v":""},null,null,{"$f":"IF(D745>0,VLOOKUP(D745,Liste!$A$10:$D$163,4),\"\")","v":""},null,null,null,""]
[null,{"$f":"IF(A746>0,VLOOKUP(A746,Liste!$B$179                         : Liste!$C$189,2),\"\")","v":""},null,null,{"$f":"IF(D746>0,VLOOKUP(D746,Liste!$A$10:$D$163,4),\"\")","v":""},null,null,null,""]
[null,{"$f":"IF(A747>0,VLOOKUP(A747,Liste!$B$179                         : Liste!$C$189,2),\"\")","v":""},null,null,{"$f":"IF(D747>0,VLOOKUP(D747,Liste!$A$10:$D$163,4),\"\")","v":""},null,null,null,""]
[null,{"$f":"IF(A748>0,VLOOKUP(A748,Liste!$B$179                         : Liste!$C$189,2),\"\")","v":""},null,null,{"$f":"IF(D748>0,VLOOKUP(D748,Liste!$A$10:$D$163,4),\"\")","v":""},null,null,null,""]
[null,{"$f":"IF(A749>0,VLOOKUP(A749,Liste!$B$179                         : Liste!$C$189,2),\"\")","v":""},null,null,{"$f":"IF(D749>0,VLOOKUP(D749,Liste!$A$10:$D$163,4),\"\")","v":""},null,null,null,""]
[null,{"$f":"IF(A750>0,VLOOKUP(A750,Liste!$B$179                         : Liste!$C$189,2),\"\")","v":""},null,null,{"$f":"IF(D750>0,VLOOKUP(D750,Liste!$A$10:$D$163,4),\"\")","v":""},null,null,null,""]
[null,{"$f":"IF(A751>0,VLOOKUP(A751,Liste!$B$179                         : Liste!$C$189,2),\"\")","v":""},null,null,{"$f":"IF(D751>0,VLOOKUP(D751,Liste!$A$10:$D$163,4),\"\")","v":""},null,null,null,""]
[null,{"$f":"IF(A752>0,VLOOKUP(A752,Liste!$B$179                         : Liste!$C$189,2),\"\")","v":""},null,null,{"$f":"IF(D752>0,VLOOKUP(D752,Liste!$A$10:$D$163,4),\"\")","v":""},null,null,null,""]
[null,{"$f":"IF(A753>0,VLOOKUP(A753,Liste!$B$179                         : Liste!$C$189,2),\"\")","v":""},null,null,{"$f":"IF(D753>0,VLOOKUP(D753,Liste!$A$10:$D$163,4),\"\")","v":""},null,null,null,""]
[null,{"$f":"IF(A754>0,VLOOKUP(A754,Liste!$B$179                         : Liste!$C$189,2),\"\")","v":""},null,null,{"$f":"IF(D754>0,VLOOKUP(D754,Liste!$A$10:$D$163,4),\"\")","v":""},null,null,null,""]
[null,{"$f":"IF(A755>0,VLOOKUP(A755,Liste!$B$179                         : Liste!$C$189,2),\"\")","v":""},null,null,{"$f":"IF(D755>0,VLOOKUP(D755,Liste!$A$10:$D$163,4),\"\")","v":""},null,null,null,""]
[null,{"$f":"IF(A756>0,VLOOKUP(A756,Liste!$B$179                         : Liste!$C$189,2),\"\")","v":""},null,null,{"$f":"IF(D756>0,VLOOKUP(D756,Liste!$A$10:$D$163,4),\"\")","v":""},null,null,null,""]
[null,{"$f":"IF(A757>0,VLOOKUP(A757,Liste!$B$179                         : Liste!$C$189,2),\"\")","v":""},null,null,{"$f":"IF(D757>0,VLOOKUP(D757,Liste!$A$10:$D$163,4),\"\")","v":""},null,null,null,""]
[null,{"$f":"IF(A758>0,VLOOKUP(A758,Liste!$B$179                         : Liste!$C$189,2),\"\")","v":""},null,null,{"$f":"IF(D758>0,VLOOKUP(D758,Liste!$A$10:$D$163,4),\"\")","v":""},null,null,null,""]
[null,{"$f":"IF(A759>0,VLOOKUP(A759,Liste!$B$179                         : Liste!$C$189,2),\"\")","v":""},null,null,{"$f":"IF(D759>0,VLOOKUP(D759,Liste!$A$10:$D$163,4),\"\")","v":""},null,null,null,""]
[null,{"$f":"IF(A760>0,VLOOKUP(A760,Liste!$B$179                         : Liste!$C$189,2),\"\")","v":""},null,null,{"$f":"IF(D760>0,VLOOKUP(D760,Liste!$A$10:$D$163,4),\"\")","v":""},null,null,null,""]
[null,{"$f":"IF(A761>0,VLOOKUP(A761,Liste!$B$179                         : Liste!$C$189,2),\"\")","v":""},null,null,{"$f":"IF(D761>0,VLOOKUP(D761,Liste!$A$10:$D$163,4),\"\")","v":""},null,null,null,""]
[null,{"$f":"IF(A762>0,VLOOKUP(A762,Liste!$B$179                         : Liste!$C$189,2),\"\")","v":""},null,null,{"$f":"IF(D762>0,VLOOKUP(D762,Liste!$A$10:$D$163,4),\"\")","v":""},null,null,null,""]
[null,{"$f":"IF(A763>0,VLOOKUP(A763,Liste!$B$179                         : Liste!$C$189,2),\"\")","v":""},null,null,{"$f":"IF(D763>0,VLOOKUP(D763,Liste!$A$10:$D$163,4),\"\")","v":""},null,null,null,""]
[null,{"$f":"IF(A764>0,VLOOKUP(A764,Liste!$B$179                         : Liste!$C$189,2),\"\")","v":""},null,null,{"$f":"IF(D764>0,VLOOKUP(D764,Liste!$A$10:$D$163,4),\"\")","v":""},null,null,null,""]
[null,{"$f":"IF(A765>0,VLOOKUP(A765,Liste!$B$179                         : Liste!$C$189,2),\"\")","v":""},null,null,{"$f":"IF(D765>0,VLOOKUP(D765,Liste!$A$10:$D$163,4),\"\")","v":""},null,null,null,""]
[null,{"$f":"IF(A766>0,VLOOKUP(A766,Liste!$B$179                         : Liste!$C$189,2),\"\")","v":""},null,null,{"$f":"IF(D766>0,VLOOKUP(D766,Liste!$A$10:$D$163,4),\"\")","v":""},null,null,null,""]
[null,{"$f":"IF(A767>0,VLOOKUP(A767,Liste!$B$179                         : Liste!$C$189,2),\"\")","v":""},null,null,{"$f":"IF(D767>0,VLOOKUP(D767,Liste!$A$10:$D$163,4),\"\")","v":""},null,null,null,""]
[null,{"$f":"IF(A768>0,VLOOKUP(A768,Liste!$B$179                         : Liste!$C$189,2),\"\")","v":""},null,null,{"$f":"IF(D768>0,VLOOKUP(D768,Liste!$A$10:$D$163,4),\"\")","v":""},null,null,null,""]
[null,{"$f":"IF(A769>0,VLOOKUP(A769,Liste!$B$179                         : Liste!$C$189,2),\"\")","v":""},null,null,{"$f":"IF(D769>0,VLOOKUP(D769,Liste!$A$10:$D$163,4),\"\")","v":""},null,null,null,""]
[null,{"$f":"IF(A770>0,VLOOKUP(A770,Liste!$B$179                         : Liste!$C$189,2),\"\")","v":""},null,null,{"$f":"IF(D770>0,VLOOKUP(D770,Liste!$A$10:$D$163,4),\"\")","v":""},null,null,null,""]
[null,{"$f":"IF(A771>0,VLOOKUP(A771,Liste!$B$179                         : Liste!$C$189,2),\"\")","v":""},null,null,{"$f":"IF(D771>0,VLOOKUP(D771,Liste!$A$10:$D$163,4),\"\")","v":""},null,null,null,""]
[null,{"$f":"IF(A772>0,VLOOKUP(A772,Liste!$B$179                         : Liste!$C$189,2),\"\")","v":""},null,null,{"$f":"IF(D772>0,VLOOKUP(D772,Liste!$A$10:$D$163,4),\"\")","v":""},null,null,null,""]
[null,{"$f":"IF(A773>0,VLOOKUP(A773,Liste!$B$179                         : Liste!$C$189,2),\"\")","v":""},null,null,{"$f":"IF(D773>0,VLOOKUP(D773,Liste!$A$10:$D$163,4),\"\")","v":""},null,null,null,""]
[null,{"$f":"IF(A774>0,VLOOKUP(A774,Liste!$B$179                         : Liste!$C$189,2),\"\")","v":""},null,null,{"$f":"IF(D774>0,VLOOKUP(D774,Liste!$A$10:$D$163,4),\"\")","v":""},null,null,null,{"$f":"IF(AND(D774>0,F774+G774+H774=0),\"EN ATTENTE\",IF(F774+G774+H774>1,\"ERREUR\",\"\"))","v":""}]
[null,{"$f":"IF(A775>0,VLOOKUP(A775,Liste!$B$179                         : Liste!$C$189,2),\"\")","v":""},null,null,{"$f":"IF(D775>0,VLOOKUP(D775,Liste!$A$10:$D$163,4),\"\")","v":""},null,null,null,""]
[null,{"$f":"IF(A776>0,VLOOKUP(A776,Liste!$B$179                         : Liste!$C$189,2),\"\")","v":""},null,null,{"$f":"IF(D776>0,VLOOKUP(D776,Liste!$A$10:$D$163,4),\"\")","v":""},null,null,null,""]
[null,{"$f":"IF(A777>0,VLOOKUP(A777,Liste!$B$179                         : Liste!$C$189,2),\"\")","v":""},null,null,{"$f":"IF(D777>0,VLOOKUP(D777,Liste!$A$10:$D$163,4),\"\")","v":""},null,null,null,""]
[null,{"$f":"IF(A778>0,VLOOKUP(A778,Liste!$B$179                         : Liste!$C$189,2),\"\")","v":""},null,null,{"$f":"IF(D778>0,VLOOKUP(D778,Liste!$A$10:$D$163,4),\"\")","v":""},null,null,null,""]
[null,{"$f":"IF(A779>0,VLOOKUP(A779,Liste!$B$179                         : Liste!$C$189,2),\"\")","v":""},null,null,{"$f":"IF(D779>0,VLOOKUP(D779,Liste!$A$10:$D$163,4),\"\")","v":""},null,null,null,""]
[null,{"$f":"IF(A780>0,VLOOKUP(A780,Liste!$B$179                         : Liste!$C$189,2),\"\")","v":""},null,null,{"$f":"IF(D780>0,VLOOKUP(D780,Liste!$A$10:$D$163,4),\"\")","v":""},null,null,null,""]
[null,{"$f":"IF(A781>0,VLOOKUP(A781,Liste!$B$179                         : Liste!$C$189,2),\"\")","v":""},null,null,{"$f":"IF(D781>0,VLOOKUP(D781,Liste!$A$10:$D$163,4),\"\")","v":""},null,null,null,""]
[null,{"$f":"IF(A782>0,VLOOKUP(A782,Liste!$B$179                         : Liste!$C$189,2),\"\")","v":""},null,null,{"$f":"IF(D782>0,VLOOKUP(D782,Liste!$A$10:$D$163,4),\"\")","v":""},null,null,null,""]
[null,{"$f":"IF(A783>0,VLOOKUP(A783,Liste!$B$179                         : Liste!$C$189,2),\"\")","v":""},null,null,{"$f":"IF(D783>0,VLOOKUP(D783,Liste!$A$10:$D$163,4),\"\")","v":""},null,null,null,""]
[null,{"$f":"IF(A784>0,VLOOKUP(A784,Liste!$B$179                         : Liste!$C$189,2),\"\")","v":""},null,null,{"$f":"IF(D784>0,VLOOKUP(D784,Liste!$A$10:$D$163,4),\"\")","v":""},null,null,null,""]
[null,{"$f":"IF(A785>0,VLOOKUP(A785,Liste!$B$179                         : Liste!$C$189,2),\"\")","v":""},null,null,{"$f":"IF(D785>0,VLOOKUP(D785,Liste!$A$10:$D$163,4),\"\")","v":""},null,null,null,""]
[null,{"$f":"IF(A786>0,VLOOKUP(A786,Liste!$B$179                         : Liste!$C$189,2),\"\")","v":""},null,null,{"$f":"IF(D786>0,VLOOKUP(D786,Liste!$A$10:$D$163,4),\"\")","v":""},null,null,null,""]
[null,{"$f":"IF(A787>0,VLOOKUP(A787,Liste!$B$179                         : Liste!$C$189,2),\"\")","v":""},null,null,{"$f":"IF(D787>0,VLOOKUP(D787,Liste!$A$10:$D$163,4),\"\")","v":""},null,null,null,""]
[null,{"$f":"IF(A788>0,VLOOKUP(A788,Liste!$B$179                         : Liste!$C$189,2),\"\")","v":""},null,null,{"$f":"IF(D788>0,VLOOKUP(D788,Liste!$A$10:$D$163,4),\"\")","v":""},null,null,null,""]
[null,{"$f":"IF(A789>0,VLOOKUP(A789,Liste!$B$179                         : Liste!$C$189,2),\"\")","v":""},null,null,{"$f":"IF(D789>0,VLOOKUP(D789,Liste!$A$10:$D$163,4),\"\")","v":""},null,null,null,""]
[null,{"$f":"IF(A790>0,VLOOKUP(A790,Liste!$B$179                         : Liste!$C$189,2),\"\")","v":""},null,null,{"$f":"IF(D790>0,VLOOKUP(D790,Liste!$A$10:$D$163,4),\"\")","v":""},null,null,null,""]
[null,{"$f":"IF(A791>0,VLOOKUP(A791,Liste!$B$179                         : Liste!$C$189,2),\"\")","v":""},null,null,{"$f":"IF(D791>0,VLOOKUP(D791,Liste!$A$10:$D$163,4),\"\")","v":""},null,null,null,""]
[null,{"$f":"IF(A792>0,VLOOKUP(A792,Liste!$B$179                         : Liste!$C$189,2),\"\")","v":""},null,null,{"$f":"IF(D792>0,VLOOKUP(D792,Liste!$A$10:$D$163,4),\"\")","v":""},null,null,null,""]
[null,{"$f":"IF(A793>0,VLOOKUP(A793,Liste!$B$179                         : Liste!$C$189,2),\"\")","v":""},null,null,{"$f":"IF(D793>0,VLOOKUP(D793,Liste!$A$10:$D$163,4),\"\")","v":""},null,null,null,""]
[null,{"$f":"IF(A794>0,VLOOKUP(A794,Liste!$B$179                         : Liste!$C$189,2),\"\")","v":""},null,null,{"$f":"IF(D794>0,VLOOKUP(D794,Liste!$A$10:$D$163,4),\"\")","v":""},null,null,null,""]
[null,{"$f":"IF(A795>0,VLOOKUP(A795,Liste!$B$179                         : Liste!$C$189,2),\"\")","v":""},null,null,{"$f":"IF(D795>0,VLOOKUP(D795,Liste!$A$10:$D$163,4),\"\")","v":""},null,null,null,""]
[null,{"$f":"IF(A796>0,VLOOKUP(A796,Liste!$B$179                         : Liste!$C$189,2),\"\")","v":""},null,null,{"$f":"IF(D796>0,VLOOKUP(D796,Liste!$A$10:$D$163,4),\"\")","v":""},null,null,null,""]
[null,{"$f":"IF(A797>0,VLOOKUP(A797,Liste!$B$179                         : Liste!$C$189,2),\"\")","v":""},null,null,{"$f":"IF(D797>0,VLOOKUP(D797,Liste!$A$10:$D$163,4),\"\")","v":""},null,null,null,""]
[null,{"$f":"IF(A798>0,VLOOKUP(A798,Liste!$B$179                         : Liste!$C$189,2),\"\")","v":""},null,null,{"$f":"IF(D798>0,VLOOKUP(D798,Liste!$A$10:$D$163,4),\"\")","v":""},null,null,null,""]
[null,{"$f":"IF(A799>0,VLOOKUP(A799,Liste!$B$179                         : Liste!$C$189,2),\"\")","v":""},null,null,{"$f":"IF(D799>0,VLOOKUP(D799,Liste!$A$10:$D$163,4),\"\")","v":""},null,null,null,""]
[null,{"$f":"IF(A800>0,VLOOKUP(A800,Liste!$B$179                         : Liste!$C$189,2),\"\")","v":""},null,null,{"$f":"IF(D800>0,VLOOKUP(D800,Liste!$A$10:$D$163,4),\"\")","v":""},null,null,null,""]
[null,{"$f":"IF(A801>0,VLOOKUP(A801,Liste!$B$179                         : Liste!$C$189,2),\"\")","v":""},null,null,{"$f":"IF(D801>0,VLOOKUP(D801,Liste!$A$10:$D$163,4),\"\")","v":""},null,null,null,""]
[null,{"$f":"IF(A802>0,VLOOKUP(A802,Liste!$B$179                         : Liste!$C$189,2),\"\")","v":""},null,null,{"$f":"IF(D802>0,VLOOKUP(D802,Liste!$A$10:$D$163,4),\"\")","v":""},null,null,null,""]
[null,{"$f":"IF(A803>0,VLOOKUP(A803,Liste!$B$179                         : Liste!$C$189,2),\"\")","v":""},null,null,{"$f":"IF(D803>0,VLOOKUP(D803,Liste!$A$10:$D$163,4),\"\")","v":""},null,null,null,""]
[null,{"$f":"IF(A804>0,VLOOKUP(A804,Liste!$B$179                         : Liste!$C$189,2),\"\")","v":""},null,null,{"$f":"IF(D804>0,VLOOKUP(D804,Liste!$A$10:$D$163,4),\"\")","v":""},null,null,null,""]
[null,{"$f":"IF(A805>0,VLOOKUP(A805,Liste!$B$179                         : Liste!$C$189,2),\"\")","v":""},null,null,{"$f":"IF(D805>0,VLOOKUP(D805,Liste!$A$10:$D$163,4),\"\")","v":""},null,null,null,""]
[null,{"$f":"IF(A806>0,VLOOKUP(A806,Liste!$B$179                         : Liste!$C$189,2),\"\")","v":""},null,null,{"$f":"IF(D806>0,VLOOKUP(D806,Liste!$A$10:$D$163,4),\"\")","v":""},null,null,null,""]
[null,{"$f":"IF(A807>0,VLOOKUP(A807,Liste!$B$179                         : Liste!$C$189,2),\"\")","v":""},null,null,{"$f":"IF(D807>0,VLOOKUP(D807,Liste!$A$10:$D$163,4),\"\")","v":""},null,null,null,""]
[null,{"$f":"IF(A808>0,VLOOKUP(A808,Liste!$B$179                         : Liste!$C$189,2),\"\")","v":""},null,null,{"$f":"IF(D808>0,VLOOKUP(D808,Liste!$A$10:$D$163,4),\"\")","v":""},null,null,null,""]
[null,{"$f":"IF(A809>0,VLOOKUP(A809,Liste!$B$179                         : Liste!$C$189,2),\"\")","v":""},null,null,{"$f":"IF(D809>0,VLOOKUP(D809,Liste!$A$10:$D$163,4),\"\")","v":""},null,null,null,""]
[null,{"$f":"IF(A810>0,VLOOKUP(A810,Liste!$B$179                         : Liste!$C$189,2),\"\")","v":""},null,null,{"$f":"IF(D810>0,VLOOKUP(D810,Liste!$A$10:$D$163,4),\"\")","v":""},null,null,null,""]
[null,{"$f":"IF(A811>0,VLOOKUP(A811,Liste!$B$179                         : Liste!$C$189,2),\"\")","v":""},null,null,{"$f":"IF(D811>0,VLOOKUP(D811,Liste!$A$10:$D$163,4),\"\")","v":""},null,null,null,""]
[null,{"$f":"IF(A812>0,VLOOKUP(A812,Liste!$B$179                         : Liste!$C$189,2),\"\")","v":""},null,null,{"$f":"IF(D812>0,VLOOKUP(D812,Liste!$A$10:$D$163,4),\"\")","v":""},null,null,null,""]
[null,{"$f":"IF(A813>0,VLOOKUP(A813,Liste!$B$179                         : Liste!$C$189,2),\"\")","v":""},null,null,{"$f":"IF(D813>0,VLOOKUP(D813,Liste!$A$10:$D$163,4),\"\")","v":""},null,null,null,""]
[null,{"$f":"IF(A814>0,VLOOKUP(A814,Liste!$B$179                         : Liste!$C$189,2),\"\")","v":""},null,null,{"$f":"IF(D814>0,VLOOKUP(D814,Liste!$A$10:$D$163,4),\"\")","v":""},null,null,null,""]
[null,{"$f":"IF(A815>0,VLOOKUP(A815,Liste!$B$179                         : Liste!$C$189,2),\"\")","v":""},null,null,{"$f":"IF(D815>0,VLOOKUP(D815,Liste!$A$10:$D$163,4),\"\")","v":""},null,null,null,""]
[null,{"$f":"IF(A816>0,VLOOKUP(A816,Liste!$B$179                         : Liste!$C$189,2),\"\")","v":""},null,null,{"$f":"IF(D816>0,VLOOKUP(D816,Liste!$A$10:$D$163,4),\"\")","v":""},null,null,null,""]
[null,{"$f":"IF(A817>0,VLOOKUP(A817,Liste!$B$179                         : Liste!$C$189,2),\"\")","v":""},null,null,{"$f":"IF(D817>0,VLOOKUP(D817,Liste!$A$10:$D$163,4),\"\")","v":""},null,null,null,""]
[null,{"$f":"IF(A818>0,VLOOKUP(A818,Liste!$B$179                         : Liste!$C$189,2),\"\")","v":""},null,null,{"$f":"IF(D818>0,VLOOKUP(D818,Liste!$A$10:$D$163,4),\"\")","v":""},null,null,null,""]
[null,{"$f":"IF(A819>0,VLOOKUP(A819,Liste!$B$179                         : Liste!$C$189,2),\"\")","v":""},null,null,{"$f":"IF(D819>0,VLOOKUP(D819,Liste!$A$10:$D$163,4),\"\")","v":""},null,null,null,""]
[null,{"$f":"IF(A820>0,VLOOKUP(A820,Liste!$B$179                         : Liste!$C$189,2),\"\")","v":""},null,null,{"$f":"IF(D820>0,VLOOKUP(D820,Liste!$A$10:$D$163,4),\"\")","v":""},null,null,null,""]
[null,{"$f":"IF(A821>0,VLOOKUP(A821,Liste!$B$179                         : Liste!$C$189,2),\"\")","v":""},null,null,{"$f":"IF(D821>0,VLOOKUP(D821,Liste!$A$10:$D$163,4),\"\")","v":""},null,null,null,""]
[null,{"$f":"IF(A822>0,VLOOKUP(A822,Liste!$B$179                         : Liste!$C$189,2),\"\")","v":""},null,null,{"$f":"IF(D822>0,VLOOKUP(D822,Liste!$A$10:$D$163,4),\"\")","v":""},null,null,null,""]
[null,{"$f":"IF(A823>0,VLOOKUP(A823,Liste!$B$179                         : Liste!$C$189,2),\"\")","v":""},null,null,{"$f":"IF(D823>0,VLOOKUP(D823,Liste!$A$10:$D$163,4),\"\")","v":""},null,null,null,""]
[null,{"$f":"IF(A824>0,VLOOKUP(A824,Liste!$B$179                         : Liste!$C$189,2),\"\")","v":""},null,null,{"$f":"IF(D824>0,VLOOKUP(D824,Liste!$A$10:$D$163,4),\"\")","v":""},null,null,null,""]
[null,{"$f":"IF(A825>0,VLOOKUP(A825,Liste!$B$179                         : Liste!$C$189,2),\"\")","v":""},null,null,{"$f":"IF(D825>0,VLOOKUP(D825,Liste!$A$10:$D$163,4),\"\")","v":""},null,null,null,""]
[null,{"$f":"IF(A826>0,VLOOKUP(A826,Liste!$B$179                         : Liste!$C$189,2),\"\")","v":""},null,null,{"$f":"IF(D826>0,VLOOKUP(D826,Liste!$A$10:$D$163,4),\"\")","v":""},null,null,null,""]
[null,{"$f":"IF(A827>0,VLOOKUP(A827,Liste!$B$179                         : Liste!$C$189,2),\"\")","v":""},null,null,{"$f":"IF(D827>0,VLOOKUP(D827,Liste!$A$10:$D$163,4),\"\")","v":""},null,null,null,""]
[null,{"$f":"IF(A828>0,VLOOKUP(A828,Liste!$B$179                         : Liste!$C$189,2),\"\")","v":""},null,null,{"$f":"IF(D828>0,VLOOKUP(D828,Liste!$A$10:$D$163,4),\"\")","v":""},null,null,null,""]
[null,{"$f":"IF(A829>0,VLOOKUP(A829,Liste!$B$179                         : Liste!$C$189,2),\"\")","v":""},null,null,{"$f":"IF(D829>0,VLOOKUP(D829,Liste!$A$10:$D$163,4),\"\")","v":""},null,null,null,""]
[null,{"$f":"IF(A830>0,VLOOKUP(A830,Liste!$B$179                         : Liste!$C$189,2),\"\")","v":""},null,null,{"$f":"IF(D830>0,VLOOKUP(D830,Liste!$A$10:$D$163,4),\"\")","v":""},null,null,null,""]
[null,{"$f":"IF(A831>0,VLOOKUP(A831,Liste!$B$179                         : Liste!$C$189,2),\"\")","v":""},null,null,{"$f":"IF(D831>0,VLOOKUP(D831,Liste!$A$10:$D$163,4),\"\")","v":""},null,null,null,""]
[null,{"$f":"IF(A832>0,VLOOKUP(A832,Liste!$B$179                         : Liste!$C$189,2),\"\")","v":""},null,null,{"$f":"IF(D832>0,VLOOKUP(D832,Liste!$A$10:$D$163,4),\"\")","v":""},null,null,null,""]
[null,{"$f":"IF(A833>0,VLOOKUP(A833,Liste!$B$179                         : Liste!$C$189,2),\"\")","v":""},null,null,{"$f":"IF(D833>0,VLOOKUP(D833,Liste!$A$10:$D$163,4),\"\")","v":""},null,null,null,""]
[null,{"$f":"IF(A834>0,VLOOKUP(A834,Liste!$B$179                         : Liste!$C$189,2),\"\")","v":""},null,null,{"$f":"IF(D834>0,VLOOKUP(D834,Liste!$A$10:$D$163,4),\"\")","v":""},null,null,null,""]
[null,{"$f":"IF(A835>0,VLOOKUP(A835,Liste!$B$179                         : Liste!$C$189,2),\"\")","v":""},null,null,{"$f":"IF(D835>0,VLOOKUP(D835,Liste!$A$10:$D$163,4),\"\")","v":""},null,null,null,""]
[null,{"$f":"IF(A836>0,VLOOKUP(A836,Liste!$B$179                         : Liste!$C$189,2),\"\")","v":""},null,null,{"$f":"IF(D836>0,VLOOKUP(D836,Liste!$A$10:$D$163,4),\"\")","v":""},null,null,null,""]
[null,{"$f":"IF(A837>0,VLOOKUP(A837,Liste!$B$179                         : Liste!$C$189,2),\"\")","v":""},null,null,{"$f":"IF(D837>0,VLOOKUP(D837,Liste!$A$10:$D$163,4),\"\")","v":""},null,null,null,""]
[null,{"$f":"IF(A838>0,VLOOKUP(A838,Liste!$B$179                         : Liste!$C$189,2),\"\")","v":""},null,null,{"$f":"IF(D838>0,VLOOKUP(D838,Liste!$A$10:$D$163,4),\"\")","v":""},null,null,null,{"$f":"IF(AND(D838>0,F838+G838+H838=0),\"EN ATTENTE\",IF(F838+G838+H838>1,\"ERREUR\",\"\"))","v":""}]
[null,{"$f":"IF(A839>0,VLOOKUP(A839,Liste!$B$179                         : Liste!$C$189,2),\"\")","v":""},null,null,{"$f":"IF(D839>0,VLOOKUP(D839,Liste!$A$10:$D$163,4),\"\")","v":""},null,null,null,""]
[null,{"$f":"IF(A840>0,VLOOKUP(A840,Liste!$B$179                         : Liste!$C$189,2),\"\")","v":""},null,null,{"$f":"IF(D840>0,VLOOKUP(D840,Liste!$A$10:$D$163,4),\"\")","v":""},null,null,null,""]
[null,{"$f":"IF(A841>0,VLOOKUP(A841,Liste!$B$179                         : Liste!$C$189,2),\"\")","v":""},null,null,{"$f":"IF(D841>0,VLOOKUP(D841,Liste!$A$10:$D$163,4),\"\")","v":""},null,null,null,""]
[null,{"$f":"IF(A842>0,VLOOKUP(A842,Liste!$B$179                         : Liste!$C$189,2),\"\")","v":""},null,null,{"$f":"IF(D842>0,VLOOKUP(D842,Liste!$A$10:$D$163,4),\"\")","v":""},null,null,null,""]
[null,{"$f":"IF(A843>0,VLOOKUP(A843,Liste!$B$179                         : Liste!$C$189,2),\"\")","v":""},null,null,{"$f":"IF(D843>0,VLOOKUP(D843,Liste!$A$10:$D$163,4),\"\")","v":""},null,null,null,""]
[null,{"$f":"IF(A844>0,VLOOKUP(A844,Liste!$B$179                         : Liste!$C$189,2),\"\")","v":""},null,null,{"$f":"IF(D844>0,VLOOKUP(D844,Liste!$A$10:$D$163,4),\"\")","v":""},null,null,null,""]
[null,{"$f":"IF(A845>0,VLOOKUP(A845,Liste!$B$179                         : Liste!$C$189,2),\"\")","v":""},null,null,{"$f":"IF(D845>0,VLOOKUP(D845,Liste!$A$10:$D$163,4),\"\")","v":""},null,null,null,""]
[null,{"$f":"IF(A846>0,VLOOKUP(A846,Liste!$B$179                         : Liste!$C$189,2),\"\")","v":""},null,null,{"$f":"IF(D846>0,VLOOKUP(D846,Liste!$A$10:$D$163,4),\"\")","v":""},null,null,null,""]
[null,{"$f":"IF(A847>0,VLOOKUP(A847,Liste!$B$179                         : Liste!$C$189,2),\"\")","v":""},null,null,{"$f":"IF(D847>0,VLOOKUP(D847,Liste!$A$10:$D$163,4),\"\")","v":""},null,null,null,""]
[null,{"$f":"IF(A848>0,VLOOKUP(A848,Liste!$B$179                         : Liste!$C$189,2),\"\")","v":""},null,null,{"$f":"IF(D848>0,VLOOKUP(D848,Liste!$A$10:$D$163,4),\"\")","v":""},null,null,null,""]
[null,{"$f":"IF(A849>0,VLOOKUP(A849,Liste!$B$179                         : Liste!$C$189,2),\"\")","v":""},null,null,{"$f":"IF(D849>0,VLOOKUP(D849,Liste!$A$10:$D$163,4),\"\")","v":""},null,null,null,""]
[null,{"$f":"IF(A850>0,VLOOKUP(A850,Liste!$B$179                         : Liste!$C$189,2),\"\")","v":""},null,null,{"$f":"IF(D850>0,VLOOKUP(D850,Liste!$A$10:$D$163,4),\"\")","v":""},null,null,null,""]
[null,{"$f":"IF(A851>0,VLOOKUP(A851,Liste!$B$179                         : Liste!$C$189,2),\"\")","v":""},null,null,{"$f":"IF(D851>0,VLOOKUP(D851,Liste!$A$10:$D$163,4),\"\")","v":""},null,null,null,""]
[null,{"$f":"IF(A852>0,VLOOKUP(A852,Liste!$B$179                         : Liste!$C$189,2),\"\")","v":""},null,null,{"$f":"IF(D852>0,VLOOKUP(D852,Liste!$A$10:$D$163,4),\"\")","v":""},null,null,null,""]
[null,{"$f":"IF(A853>0,VLOOKUP(A853,Liste!$B$179                         : Liste!$C$189,2),\"\")","v":""},null,null,{"$f":"IF(D853>0,VLOOKUP(D853,Liste!$A$10:$D$163,4),\"\")","v":""},null,null,null,""]
[null,{"$f":"IF(A854>0,VLOOKUP(A854,Liste!$B$179                         : Liste!$C$189,2),\"\")","v":""},null,null,{"$f":"IF(D854>0,VLOOKUP(D854,Liste!$A$10:$D$163,4),\"\")","v":""},null,null,null,""]
[null,{"$f":"IF(A855>0,VLOOKUP(A855,Liste!$B$179                         : Liste!$C$189,2),\"\")","v":""},null,null,{"$f":"IF(D855>0,VLOOKUP(D855,Liste!$A$10:$D$163,4),\"\")","v":""},null,null,null,""]
[null,{"$f":"IF(A856>0,VLOOKUP(A856,Liste!$B$179                         : Liste!$C$189,2),\"\")","v":""},null,null,{"$f":"IF(D856>0,VLOOKUP(D856,Liste!$A$10:$D$163,4),\"\")","v":""},null,null,null,""]
[null,{"$f":"IF(A857>0,VLOOKUP(A857,Liste!$B$179                         : Liste!$C$189,2),\"\")","v":""},null,null,{"$f":"IF(D857>0,VLOOKUP(D857,Liste!$A$10:$D$163,4),\"\")","v":""},null,null,null,""]
[null,{"$f":"IF(A858>0,VLOOKUP(A858,Liste!$B$179                         : Liste!$C$189,2),\"\")","v":""},null,null,{"$f":"IF(D858>0,VLOOKUP(D858,Liste!$A$10:$D$163,4),\"\")","v":""},null,null,null,""]
[null,{"$f":"IF(A859>0,VLOOKUP(A859,Liste!$B$179                         : Liste!$C$189,2),\"\")","v":""},null,null,{"$f":"IF(D859>0,VLOOKUP(D859,Liste!$A$10:$D$163,4),\"\")","v":""},null,null,null,""]
[null,{"$f":"IF(A860>0,VLOOKUP(A860,Liste!$B$179                         : Liste!$C$189,2),\"\")","v":""},null,null,{"$f":"IF(D860>0,VLOOKUP(D860,Liste!$A$10:$D$163,4),\"\")","v":""},null,null,null,""]
[null,{"$f":"IF(A861>0,VLOOKUP(A861,Liste!$B$179                         : Liste!$C$189,2),\"\")","v":""},null,null,{"$f":"IF(D861>0,VLOOKUP(D861,Liste!$A$10:$D$163,4),\"\")","v":""},null,null,null,""]
[null,{"$f":"IF(A862>0,VLOOKUP(A862,Liste!$B$179                         : Liste!$C$189,2),\"\")","v":""},null,null,{"$f":"IF(D862>0,VLOOKUP(D862,Liste!$A$10:$D$163,4),\"\")","v":""},null,null,null,""]
[null,{"$f":"IF(A863>0,VLOOKUP(A863,Liste!$B$179                         : Liste!$C$189,2),\"\")","v":""},null,null,{"$f":"IF(D863>0,VLOOKUP(D863,Liste!$A$10:$D$163,4),\"\")","v":""},null,null,null,""]
[null,{"$f":"IF(A864>0,VLOOKUP(A864,Liste!$B$179                         : Liste!$C$189,2),\"\")","v":""},null,null,{"$f":"IF(D864>0,VLOOKUP(D864,Liste!$A$10:$D$163,4),\"\")","v":""},null,null,null,""]
[null,{"$f":"IF(A865>0,VLOOKUP(A865,Liste!$B$179                         : Liste!$C$189,2),\"\")","v":""},null,null,{"$f":"IF(D865>0,VLOOKUP(D865,Liste!$A$10:$D$163,4),\"\")","v":""},null,null,null,""]
[null,{"$f":"IF(A866>0,VLOOKUP(A866,Liste!$B$179                         : Liste!$C$189,2),\"\")","v":""},null,null,{"$f":"IF(D866>0,VLOOKUP(D866,Liste!$A$10:$D$163,4),\"\")","v":""},null,null,null,""]
[null,{"$f":"IF(A867>0,VLOOKUP(A867,Liste!$B$179                         : Liste!$C$189,2),\"\")","v":""},null,null,{"$f":"IF(D867>0,VLOOKUP(D867,Liste!$A$10:$D$163,4),\"\")","v":""},null,null,null,""]
[null,{"$f":"IF(A868>0,VLOOKUP(A868,Liste!$B$179                         : Liste!$C$189,2),\"\")","v":""},null,null,{"$f":"IF(D868>0,VLOOKUP(D868,Liste!$A$10:$D$163,4),\"\")","v":""},null,null,null,""]
[null,{"$f":"IF(A869>0,VLOOKUP(A869,Liste!$B$179                         : Liste!$C$189,2),\"\")","v":""},null,null,{"$f":"IF(D869>0,VLOOKUP(D869,Liste!$A$10:$D$163,4),\"\")","v":""},null,null,null,""]
[null,{"$f":"IF(A870>0,VLOOKUP(A870,Liste!$B$179                         : Liste!$C$189,2),\"\")","v":""},null,null,{"$f":"IF(D870>0,VLOOKUP(D870,Liste!$A$10:$D$163,4),\"\")","v":""},null,null,null,""]
[null,{"$f":"IF(A871>0,VLOOKUP(A871,Liste!$B$179                         : Liste!$C$189,2),\"\")","v":""},null,null,{"$f":"IF(D871>0,VLOOKUP(D871,Liste!$A$10:$D$163,4),\"\")","v":""},null,null,null,""]
[null,{"$f":"IF(A872>0,VLOOKUP(A872,Liste!$B$179                         : Liste!$C$189,2),\"\")","v":""},null,null,{"$f":"IF(D872>0,VLOOKUP(D872,Liste!$A$10:$D$163,4),\"\")","v":""},null,null,null,""]
[null,{"$f":"IF(A873>0,VLOOKUP(A873,Liste!$B$179                         : Liste!$C$189,2),\"\")","v":""},null,null,{"$f":"IF(D873>0,VLOOKUP(D873,Liste!$A$10:$D$163,4),\"\")","v":""},null,null,null,""]
[null,{"$f":"IF(A874>0,VLOOKUP(A874,Liste!$B$179                         : Liste!$C$189,2),\"\")","v":""},null,null,{"$f":"IF(D874>0,VLOOKUP(D874,Liste!$A$10:$D$163,4),\"\")","v":""},null,null,null,""]
[null,{"$f":"IF(A875>0,VLOOKUP(A875,Liste!$B$179                         : Liste!$C$189,2),\"\")","v":""},null,null,{"$f":"IF(D875>0,VLOOKUP(D875,Liste!$A$10:$D$163,4),\"\")","v":""},null,null,null,""]
[null,{"$f":"IF(A876>0,VLOOKUP(A876,Liste!$B$179                         : Liste!$C$189,2),\"\")","v":""},null,null,{"$f":"IF(D876>0,VLOOKUP(D876,Liste!$A$10:$D$163,4),\"\")","v":""},null,null,null,""]
[null,{"$f":"IF(A877>0,VLOOKUP(A877,Liste!$B$179                         : Liste!$C$189,2),\"\")","v":""},null,null,{"$f":"IF(D877>0,VLOOKUP(D877,Liste!$A$10:$D$163,4),\"\")","v":""},null,null,null,""]
[null,{"$f":"IF(A878>0,VLOOKUP(A878,Liste!$B$179                         : Liste!$C$189,2),\"\")","v":""},null,null,{"$f":"IF(D878>0,VLOOKUP(D878,Liste!$A$10:$D$163,4),\"\")","v":""},null,null,null,""]
[null,{"$f":"IF(A879>0,VLOOKUP(A879,Liste!$B$179                         : Liste!$C$189,2),\"\")","v":""},null,null,{"$f":"IF(D879>0,VLOOKUP(D879,Liste!$A$10:$D$163,4),\"\")","v":""},null,null,null,""]
[null,{"$f":"IF(A880>0,VLOOKUP(A880,Liste!$B$179                         : Liste!$C$189,2),\"\")","v":""},null,null,{"$f":"IF(D880>0,VLOOKUP(D880,Liste!$A$10:$D$163,4),\"\")","v":""},null,null,null,""]
[null,{"$f":"IF(A881>0,VLOOKUP(A881,Liste!$B$179                         : Liste!$C$189,2),\"\")","v":""},null,null,{"$f":"IF(D881>0,VLOOKUP(D881,Liste!$A$10:$D$163,4),\"\")","v":""},null,null,null,""]
[null,{"$f":"IF(A882>0,VLOOKUP(A882,Liste!$B$179                         : Liste!$C$189,2),\"\")","v":""},null,null,{"$f":"IF(D882>0,VLOOKUP(D882,Liste!$A$10:$D$163,4),\"\")","v":""},null,null,null,""]
[null,{"$f":"IF(A883>0,VLOOKUP(A883,Liste!$B$179                         : Liste!$C$189,2),\"\")","v":""},null,null,{"$f":"IF(D883>0,VLOOKUP(D883,Liste!$A$10:$D$163,4),\"\")","v":""},null,null,null,""]
[null,{"$f":"IF(A884>0,VLOOKUP(A884,Liste!$B$179                         : Liste!$C$189,2),\"\")","v":""},null,null,{"$f":"IF(D884>0,VLOOKUP(D884,Liste!$A$10:$D$163,4),\"\")","v":""},null,null,null,""]
[null,{"$f":"IF(A885>0,VLOOKUP(A885,Liste!$B$179                         : Liste!$C$189,2),\"\")","v":""},null,null,{"$f":"IF(D885>0,VLOOKUP(D885,Liste!$A$10:$D$163,4),\"\")","v":""},null,null,null,""]
[null,{"$f":"IF(A886>0,VLOOKUP(A886,Liste!$B$179                         : Liste!$C$189,2),\"\")","v":""},null,null,{"$f":"IF(D886>0,VLOOKUP(D886,Liste!$A$10:$D$163,4),\"\")","v":""},null,null,null,""]
[null,{"$f":"IF(A887>0,VLOOKUP(A887,Liste!$B$179                         : Liste!$C$189,2),\"\")","v":""},null,null,{"$f":"IF(D887>0,VLOOKUP(D887,Liste!$A$10:$D$163,4),\"\")","v":""},null,null,null,""]
[null,{"$f":"IF(A888>0,VLOOKUP(A888,Liste!$B$179                         : Liste!$C$189,2),\"\")","v":""},null,null,{"$f":"IF(D888>0,VLOOKUP(D888,Liste!$A$10:$D$163,4),\"\")","v":""},null,null,null,""]
[null,{"$f":"IF(A889>0,VLOOKUP(A889,Liste!$B$179                         : Liste!$C$189,2),\"\")","v":""},null,null,{"$f":"IF(D889>0,VLOOKUP(D889,Liste!$A$10:$D$163,4),\"\")","v":""},null,null,null,""]
[null,{"$f":"IF(A890>0,VLOOKUP(A890,Liste!$B$179                         : Liste!$C$189,2),\"\")","v":""},null,null,{"$f":"IF(D890>0,VLOOKUP(D890,Liste!$A$10:$D$163,4),\"\")","v":""},null,null,null,""]
[null,{"$f":"IF(A891>0,VLOOKUP(A891,Liste!$B$179                         : Liste!$C$189,2),\"\")","v":""},null,null,{"$f":"IF(D891>0,VLOOKUP(D891,Liste!$A$10:$D$163,4),\"\")","v":""},null,null,null,""]
[null,{"$f":"IF(A892>0,VLOOKUP(A892,Liste!$B$179                         : Liste!$C$189,2),\"\")","v":""},null,null,{"$f":"IF(D892>0,VLOOKUP(D892,Liste!$A$10:$D$163,4),\"\")","v":""},null,null,null,""]
[null,{"$f":"IF(A893>0,VLOOKUP(A893,Liste!$B$179                         : Liste!$C$189,2),\"\")","v":""},null,null,{"$f":"IF(D893>0,VLOOKUP(D893,Liste!$A$10:$D$163,4),\"\")","v":""},null,null,null,""]
[null,{"$f":"IF(A894>0,VLOOKUP(A894,Liste!$B$179                         : Liste!$C$189,2),\"\")","v":""},null,null,{"$f":"IF(D894>0,VLOOKUP(D894,Liste!$A$10:$D$163,4),\"\")","v":""},null,null,null,""]
[null,{"$f":"IF(A895>0,VLOOKUP(A895,Liste!$B$179                         : Liste!$C$189,2),\"\")","v":""},null,null,{"$f":"IF(D895>0,VLOOKUP(D895,Liste!$A$10:$D$163,4),\"\")","v":""},null,null,null,""]
[null,{"$f":"IF(A896>0,VLOOKUP(A896,Liste!$B$179                         : Liste!$C$189,2),\"\")","v":""},null,null,{"$f":"IF(D896>0,VLOOKUP(D896,Liste!$A$10:$D$163,4),\"\")","v":""},null,null,null,""]
[null,{"$f":"IF(A897>0,VLOOKUP(A897,Liste!$B$179                         : Liste!$C$189,2),\"\")","v":""},null,null,{"$f":"IF(D897>0,VLOOKUP(D897,Liste!$A$10:$D$163,4),\"\")","v":""},null,null,null,""]
[null,{"$f":"IF(A898>0,VLOOKUP(A898,Liste!$B$179                         : Liste!$C$189,2),\"\")","v":""},null,null,{"$f":"IF(D898>0,VLOOKUP(D898,Liste!$A$10:$D$163,4),\"\")","v":""},null,null,null,""]
[null,{"$f":"IF(A899>0,VLOOKUP(A899,Liste!$B$179                         : Liste!$C$189,2),\"\")","v":""},null,null,{"$f":"IF(D899>0,VLOOKUP(D899,Liste!$A$10:$D$163,4),\"\")","v":""},null,null,null,""]
[null,{"$f":"IF(A900>0,VLOOKUP(A900,Liste!$B$179                         : Liste!$C$189,2),\"\")","v":""},null,null,{"$f":"IF(D900>0,VLOOKUP(D900,Liste!$A$10:$D$163,4),\"\")","v":""},null,null,null,""]
[null,{"$f":"IF(A901>0,VLOOKUP(A901,Liste!$B$179                         : Liste!$C$189,2),\"\")","v":""},null,null,{"$f":"IF(D901>0,VLOOKUP(D901,Liste!$A$10:$D$163,4),\"\")","v":""},null,null,null,""]
[null,{"$f":"IF(A902>0,VLOOKUP(A902,Liste!$B$179                         : Liste!$C$189,2),\"\")","v":""},null,null,{"$f":"IF(D902>0,VLOOKUP(D902,Liste!$A$10:$D$163,4),\"\")","v":""},null,null,null,{"$f":"IF(AND(D902>0,F902+G902+H902=0),\"EN ATTENTE\",IF(F902+G902+H902>1,\"ERREUR\",\"\"))","v":""}]
[null,{"$f":"IF(A903>0,VLOOKUP(A903,Liste!$B$179                         : Liste!$C$189,2),\"\")","v":""},null,null,{"$f":"IF(D903>0,VLOOKUP(D903,Liste!$A$10:$D$163,4),\"\")","v":""},null,null,null,""]
[null,{"$f":"IF(A904>0,VLOOKUP(A904,Liste!$B$179                         : Liste!$C$189,2),\"\")","v":""},null,null,{"$f":"IF(D904>0,VLOOKUP(D904,Liste!$A$10:$D$163,4),\"\")","v":""},null,null,null,""]
[null,{"$f":"IF(A905>0,VLOOKUP(A905,Liste!$B$179                         : Liste!$C$189,2),\"\")","v":""},null,null,{"$f":"IF(D905>0,VLOOKUP(D905,Liste!$A$10:$D$163,4),\"\")","v":""},null,null,null,""]
[null,{"$f":"IF(A906>0,VLOOKUP(A906,Liste!$B$179                         : Liste!$C$189,2),\"\")","v":""},null,null,{"$f":"IF(D906>0,VLOOKUP(D906,Liste!$A$10:$D$163,4),\"\")","v":""},null,null,null,""]
[null,{"$f":"IF(A907>0,VLOOKUP(A907,Liste!$B$179                         : Liste!$C$189,2),\"\")","v":""},null,null,{"$f":"IF(D907>0,VLOOKUP(D907,Liste!$A$10:$D$163,4),\"\")","v":""},null,null,null,""]
[null,{"$f":"IF(A908>0,VLOOKUP(A908,Liste!$B$179                         : Liste!$C$189,2),\"\")","v":""},null,null,{"$f":"IF(D908>0,VLOOKUP(D908,Liste!$A$10:$D$163,4),\"\")","v":""},null,null,null,""]
[null,{"$f":"IF(A909>0,VLOOKUP(A909,Liste!$B$179                         : Liste!$C$189,2),\"\")","v":""},null,null,{"$f":"IF(D909>0,VLOOKUP(D909,Liste!$A$10:$D$163,4),\"\")","v":""},null,null,null,""]
[null,{"$f":"IF(A910>0,VLOOKUP(A910,Liste!$B$179                         : Liste!$C$189,2),\"\")","v":""},null,null,{"$f":"IF(D910>0,VLOOKUP(D910,Liste!$A$10:$D$163,4),\"\")","v":""},null,null,null,""]
[null,{"$f":"IF(A911>0,VLOOKUP(A911,Liste!$B$179                         : Liste!$C$189,2),\"\")","v":""},null,null,{"$f":"IF(D911>0,VLOOKUP(D911,Liste!$A$10:$D$163,4),\"\")","v":""},null,null,null,""]
[null,{"$f":"IF(A912>0,VLOOKUP(A912,Liste!$B$179                         : Liste!$C$189,2),\"\")","v":""},null,null,{"$f":"IF(D912>0,VLOOKUP(D912,Liste!$A$10:$D$163,4),\"\")","v":""},null,null,null,""]
[null,{"$f":"IF(A913>0,VLOOKUP(A913,Liste!$B$179                         : Liste!$C$189,2),\"\")","v":""},null,null,{"$f":"IF(D913>0,VLOOKUP(D913,Liste!$A$10:$D$163,4),\"\")","v":""},null,null,null,""]
[null,{"$f":"IF(A914>0,VLOOKUP(A914,Liste!$B$179                         : Liste!$C$189,2),\"\")","v":""},null,null,{"$f":"IF(D914>0,VLOOKUP(D914,Liste!$A$10:$D$163,4),\"\")","v":""},null,null,null,""]
[null,{"$f":"IF(A915>0,VLOOKUP(A915,Liste!$B$179                         : Liste!$C$189,2),\"\")","v":""},null,null,{"$f":"IF(D915>0,VLOOKUP(D915,Liste!$A$10:$D$163,4),\"\")","v":""},null,null,null,""]
[null,{"$f":"IF(A916>0,VLOOKUP(A916,Liste!$B$179                         : Liste!$C$189,2),\"\")","v":""},null,null,{"$f":"IF(D916>0,VLOOKUP(D916,Liste!$A$10:$D$163,4),\"\")","v":""},null,null,null,""]
[null,{"$f":"IF(A917>0,VLOOKUP(A917,Liste!$B$179                         : Liste!$C$189,2),\"\")","v":""},null,null,{"$f":"IF(D917>0,VLOOKUP(D917,Liste!$A$10:$D$163,4),\"\")","v":""},null,null,null,""]
[null,{"$f":"IF(A918>0,VLOOKUP(A918,Liste!$B$179                         : Liste!$C$189,2),\"\")","v":""},null,null,{"$f":"IF(D918>0,VLOOKUP(D918,Liste!$A$10:$D$163,4),\"\")","v":""},null,null,null,""]
[null,{"$f":"IF(A919>0,VLOOKUP(A919,Liste!$B$179                         : Liste!$C$189,2),\"\")","v":""},null,null,{"$f":"IF(D919>0,VLOOKUP(D919,Liste!$A$10:$D$163,4),\"\")","v":""},null,null,null,""]
[null,{"$f":"IF(A920>0,VLOOKUP(A920,Liste!$B$179                         : Liste!$C$189,2),\"\")","v":""},null,null,{"$f":"IF(D920>0,VLOOKUP(D920,Liste!$A$10:$D$163,4),\"\")","v":""},null,null,null,""]
[null,{"$f":"IF(A921>0,VLOOKUP(A921,Liste!$B$179                         : Liste!$C$189,2),\"\")","v":""},null,null,{"$f":"IF(D921>0,VLOOKUP(D921,Liste!$A$10:$D$163,4),\"\")","v":""},null,null,null,""]
[null,{"$f":"IF(A922>0,VLOOKUP(A922,Liste!$B$179                         : Liste!$C$189,2),\"\")","v":""},null,null,{"$f":"IF(D922>0,VLOOKUP(D922,Liste!$A$10:$D$163,4),\"\")","v":""},null,null,null,""]
[null,{"$f":"IF(A923>0,VLOOKUP(A923,Liste!$B$179                         : Liste!$C$189,2),\"\")","v":""},null,null,{"$f":"IF(D923>0,VLOOKUP(D923,Liste!$A$10:$D$163,4),\"\")","v":""},null,null,null,""]
[null,{"$f":"IF(A924>0,VLOOKUP(A924,Liste!$B$179                         : Liste!$C$189,2),\"\")","v":""},null,null,{"$f":"IF(D924>0,VLOOKUP(D924,Liste!$A$10:$D$163,4),\"\")","v":""},null,null,null,""]
[null,{"$f":"IF(A925>0,VLOOKUP(A925,Liste!$B$179                         : Liste!$C$189,2),\"\")","v":""},null,null,{"$f":"IF(D925>0,VLOOKUP(D925,Liste!$A$10:$D$163,4),\"\")","v":""},null,null,null,""]
[null,{"$f":"IF(A926>0,VLOOKUP(A926,Liste!$B$179                         : Liste!$C$189,2),\"\")","v":""},null,null,{"$f":"IF(D926>0,VLOOKUP(D926,Liste!$A$10:$D$163,4),\"\")","v":""},null,null,null,""]
[null,{"$f":"IF(A927>0,VLOOKUP(A927,Liste!$B$179                         : Liste!$C$189,2),\"\")","v":""},null,null,{"$f":"IF(D927>0,VLOOKUP(D927,Liste!$A$10:$D$163,4),\"\")","v":""},null,null,null,""]
[null,{"$f":"IF(A928>0,VLOOKUP(A928,Liste!$B$179                         : Liste!$C$189,2),\"\")","v":""},null,null,{"$f":"IF(D928>0,VLOOKUP(D928,Liste!$A$10:$D$163,4),\"\")","v":""},null,null,null,""]
[null,{"$f":"IF(A929>0,VLOOKUP(A929,Liste!$B$179                         : Liste!$C$189,2),\"\")","v":""},null,null,{"$f":"IF(D929>0,VLOOKUP(D929,Liste!$A$10:$D$163,4),\"\")","v":""},null,null,null,""]
[null,{"$f":"IF(A930>0,VLOOKUP(A930,Liste!$B$179                         : Liste!$C$189,2),\"\")","v":""},null,null,{"$f":"IF(D930>0,VLOOKUP(D930,Liste!$A$10:$D$163,4),\"\")","v":""},null,null,null,""]
[null,{"$f":"IF(A931>0,VLOOKUP(A931,Liste!$B$179                         : Liste!$C$189,2),\"\")","v":""},null,null,{"$f":"IF(D931>0,VLOOKUP(D931,Liste!$A$10:$D$163,4),\"\")","v":""},null,null,null,""]
[null,{"$f":"IF(A932>0,VLOOKUP(A932,Liste!$B$179                         : Liste!$C$189,2),\"\")","v":""},null,null,{"$f":"IF(D932>0,VLOOKUP(D932,Liste!$A$10:$D$163,4),\"\")","v":""},null,null,null,""]
[null,{"$f":"IF(A933>0,VLOOKUP(A933,Liste!$B$179                         : Liste!$C$189,2),\"\")","v":""},null,null,{"$f":"IF(D933>0,VLOOKUP(D933,Liste!$A$10:$D$163,4),\"\")","v":""},null,null,null,""]
[null,{"$f":"IF(A934>0,VLOOKUP(A934,Liste!$B$179                         : Liste!$C$189,2),\"\")","v":""},null,null,{"$f":"IF(D934>0,VLOOKUP(D934,Liste!$A$10:$D$163,4),\"\")","v":""},null,null,null,""]
[null,{"$f":"IF(A935>0,VLOOKUP(A935,Liste!$B$179                         : Liste!$C$189,2),\"\")","v":""},null,null,{"$f":"IF(D935>0,VLOOKUP(D935,Liste!$A$10:$D$163,4),\"\")","v":""},null,null,null,""]
[null,{"$f":"IF(A936>0,VLOOKUP(A936,Liste!$B$179                         : Liste!$C$189,2),\"\")","v":""},null,null,{"$f":"IF(D936>0,VLOOKUP(D936,Liste!$A$10:$D$163,4),\"\")","v":""},null,null,null,""]
[null,{"$f":"IF(A937>0,VLOOKUP(A937,Liste!$B$179                         : Liste!$C$189,2),\"\")","v":""},null,null,{"$f":"IF(D937>0,VLOOKUP(D937,Liste!$A$10:$D$163,4),\"\")","v":""},null,null,null,""]
[null,{"$f":"IF(A938>0,VLOOKUP(A938,Liste!$B$179                         : Liste!$C$189,2),\"\")","v":""},null,null,{"$f":"IF(D938>0,VLOOKUP(D938,Liste!$A$10:$D$163,4),\"\")","v":""},null,null,null,""]
[null,{"$f":"IF(A939>0,VLOOKUP(A939,Liste!$B$179                         : Liste!$C$189,2),\"\")","v":""},null,null,{"$f":"IF(D939>0,VLOOKUP(D939,Liste!$A$10:$D$163,4),\"\")","v":""},null,null,null,""]
[null,{"$f":"IF(A940>0,VLOOKUP(A940,Liste!$B$179                         : Liste!$C$189,2),\"\")","v":""},null,null,{"$f":"IF(D940>0,VLOOKUP(D940,Liste!$A$10:$D$163,4),\"\")","v":""},null,null,null,""]
[null,{"$f":"IF(A941>0,VLOOKUP(A941,Liste!$B$179                         : Liste!$C$189,2),\"\")","v":""},null,null,{"$f":"IF(D941>0,VLOOKUP(D941,Liste!$A$10:$D$163,4),\"\")","v":""},null,null,null,""]
[null,{"$f":"IF(A942>0,VLOOKUP(A942,Liste!$B$179                         : Liste!$C$189,2),\"\")","v":""},null,null,{"$f":"IF(D942>0,VLOOKUP(D942,Liste!$A$10:$D$163,4),\"\")","v":""},null,null,null,""]
[null,{"$f":"IF(A943>0,VLOOKUP(A943,Liste!$B$179                         : Liste!$C$189,2),\"\")","v":""},null,null,{"$f":"IF(D943>0,VLOOKUP(D943,Liste!$A$10:$D$163,4),\"\")","v":""},null,null,null,""]
[null,{"$f":"IF(A944>0,VLOOKUP(A944,Liste!$B$179                         : Liste!$C$189,2),\"\")","v":""},null,null,{"$f":"IF(D944>0,VLOOKUP(D944,Liste!$A$10:$D$163,4),\"\")","v":""},null,null,null,""]
[null,{"$f":"IF(A945>0,VLOOKUP(A945,Liste!$B$179                         : Liste!$C$189,2),\"\")","v":""},null,null,{"$f":"IF(D945>0,VLOOKUP(D945,Liste!$A$10:$D$163,4),\"\")","v":""},null,null,null,""]
[null,{"$f":"IF(A946>0,VLOOKUP(A946,Liste!$B$179                         : Liste!$C$189,2),\"\")","v":""},null,null,{"$f":"IF(D946>0,VLOOKUP(D946,Liste!$A$10:$D$163,4),\"\")","v":""},null,null,null,""]
[null,{"$f":"IF(A947>0,VLOOKUP(A947,Liste!$B$179                         : Liste!$C$189,2),\"\")","v":""},null,null,{"$f":"IF(D947>0,VLOOKUP(D947,Liste!$A$10:$D$163,4),\"\")","v":""},null,null,null,""]
[null,{"$f":"IF(A948>0,VLOOKUP(A948,Liste!$B$179                         : Liste!$C$189,2),\"\")","v":""},null,null,{"$f":"IF(D948>0,VLOOKUP(D948,Liste!$A$10:$D$163,4),\"\")","v":""},null,null,null,""]
[null,{"$f":"IF(A949>0,VLOOKUP(A949,Liste!$B$179                         : Liste!$C$189,2),\"\")","v":""},null,null,{"$f":"IF(D949>0,VLOOKUP(D949,Liste!$A$10:$D$163,4),\"\")","v":""},null,null,null,""]
[null,{"$f":"IF(A950>0,VLOOKUP(A950,Liste!$B$179                         : Liste!$C$189,2),\"\")","v":""},null,null,{"$f":"IF(D950>0,VLOOKUP(D950,Liste!$A$10:$D$163,4),\"\")","v":""},null,null,null,""]
[null,{"$f":"IF(A951>0,VLOOKUP(A951,Liste!$B$179                         : Liste!$C$189,2),\"\")","v":""},null,null,{"$f":"IF(D951>0,VLOOKUP(D951,Liste!$A$10:$D$163,4),\"\")","v":""},null,null,null,""]
[null,{"$f":"IF(A952>0,VLOOKUP(A952,Liste!$B$179                         : Liste!$C$189,2),\"\")","v":""},null,null,{"$f":"IF(D952>0,VLOOKUP(D952,Liste!$A$10:$D$163,4),\"\")","v":""},null,null,null,""]
[null,{"$f":"IF(A953>0,VLOOKUP(A953,Liste!$B$179                         : Liste!$C$189,2),\"\")","v":""},null,null,{"$f":"IF(D953>0,VLOOKUP(D953,Liste!$A$10:$D$163,4),\"\")","v":""},null,null,null,""]
[null,{"$f":"IF(A954>0,VLOOKUP(A954,Liste!$B$179                         : Liste!$C$189,2),\"\")","v":""},null,null,{"$f":"IF(D954>0,VLOOKUP(D954,Liste!$A$10:$D$163,4),\"\")","v":""},null,null,null,""]
[null,{"$f":"IF(A955>0,VLOOKUP(A955,Liste!$B$179                         : Liste!$C$189,2),\"\")","v":""},null,null,{"$f":"IF(D955>0,VLOOKUP(D955,Liste!$A$10:$D$163,4),\"\")","v":""},null,null,null,""]
[null,{"$f":"IF(A956>0,VLOOKUP(A956,Liste!$B$179                         : Liste!$C$189,2),\"\")","v":""},null,null,{"$f":"IF(D956>0,VLOOKUP(D956,Liste!$A$10:$D$163,4),\"\")","v":""},null,null,null,""]
[null,{"$f":"IF(A957>0,VLOOKUP(A957,Liste!$B$179                         : Liste!$C$189,2),\"\")","v":""},null,null,{"$f":"IF(D957>0,VLOOKUP(D957,Liste!$A$10:$D$163,4),\"\")","v":""},null,null,null,""]
[null,{"$f":"IF(A958>0,VLOOKUP(A958,Liste!$B$179                         : Liste!$C$189,2),\"\")","v":""},null,null,{"$f":"IF(D958>0,VLOOKUP(D958,Liste!$A$10:$D$163,4),\"\")","v":""},null,null,null,""]
[null,{"$f":"IF(A959>0,VLOOKUP(A959,Liste!$B$179                         : Liste!$C$189,2),\"\")","v":""},null,null,{"$f":"IF(D959>0,VLOOKUP(D959,Liste!$A$10:$D$163,4),\"\")","v":""},null,null,null,""]
[null,{"$f":"IF(A960>0,VLOOKUP(A960,Liste!$B$179                         : Liste!$C$189,2),\"\")","v":""},null,null,{"$f":"IF(D960>0,VLOOKUP(D960,Liste!$A$10:$D$163,4),\"\")","v":""},null,null,null,""]
[null,{"$f":"IF(A961>0,VLOOKUP(A961,Liste!$B$179                         : Liste!$C$189,2),\"\")","v":""},null,null,{"$f":"IF(D961>0,VLOOKUP(D961,Liste!$A$10:$D$163,4),\"\")","v":""},null,null,null,""]
[null,{"$f":"IF(A962>0,VLOOKUP(A962,Liste!$B$179                         : Liste!$C$189,2),\"\")","v":""},null,null,{"$f":"IF(D962>0,VLOOKUP(D962,Liste!$A$10:$D$163,4),\"\")","v":""},null,null,null,""]
[null,{"$f":"IF(A963>0,VLOOKUP(A963,Liste!$B$179                         : Liste!$C$189,2),\"\")","v":""},null,null,{"$f":"IF(D963>0,VLOOKUP(D963,Liste!$A$10:$D$163,4),\"\")","v":""},null,null,null,""]
[null,{"$f":"IF(A964>0,VLOOKUP(A964,Liste!$B$179                         : Liste!$C$189,2),\"\")","v":""},null,null,{"$f":"IF(D964>0,VLOOKUP(D964,Liste!$A$10:$D$163,4),\"\")","v":""},null,null,null,""]
[null,{"$f":"IF(A965>0,VLOOKUP(A965,Liste!$B$179                         : Liste!$C$189,2),\"\")","v":""},null,null,{"$f":"IF(D965>0,VLOOKUP(D965,Liste!$A$10:$D$163,4),\"\")","v":""},null,null,null,""]
[null,{"$f":"IF(A966>0,VLOOKUP(A966,Liste!$B$179                         : Liste!$C$189,2),\"\")","v":""},null,null,{"$f":"IF(D966>0,VLOOKUP(D966,Liste!$A$10:$D$163,4),\"\")","v":""},null,null,null,{"$f":"IF(AND(D966>0,F966+G966+H966=0),\"EN ATTENTE\",IF(F966+G966+H966>1,\"ERREUR\",\"\"))","v":""}]
[null,{"$f":"IF(A967>0,VLOOKUP(A967,Liste!$B$179                         : Liste!$C$189,2),\"\")","v":""},null,null,{"$f":"IF(D967>0,VLOOKUP(D967,Liste!$A$10:$D$163,4),\"\")","v":""},null,null,null,""]
[null,{"$f":"IF(A968>0,VLOOKUP(A968,Liste!$B$179                         : Liste!$C$189,2),\"\")","v":""},null,null,{"$f":"IF(D968>0,VLOOKUP(D968,Liste!$A$10:$D$163,4),\"\")","v":""},null,null,null,""]
[null,{"$f":"IF(A969>0,VLOOKUP(A969,Liste!$B$179                         : Liste!$C$189,2),\"\")","v":""},null,null,{"$f":"IF(D969>0,VLOOKUP(D969,Liste!$A$10:$D$163,4),\"\")","v":""},null,null,null,""]
[null,{"$f":"IF(A970>0,VLOOKUP(A970,Liste!$B$179                         : Liste!$C$189,2),\"\")","v":""},null,null,{"$f":"IF(D970>0,VLOOKUP(D970,Liste!$A$10:$D$163,4),\"\")","v":""},null,null,null,""]
[null,{"$f":"IF(A971>0,VLOOKUP(A971,Liste!$B$179                         : Liste!$C$189,2),\"\")","v":""},null,null,{"$f":"IF(D971>0,VLOOKUP(D971,Liste!$A$10:$D$163,4),\"\")","v":""},null,null,null,""]
[null,{"$f":"IF(A972>0,VLOOKUP(A972,Liste!$B$179                         : Liste!$C$189,2),\"\")","v":""},null,null,{"$f":"IF(D972>0,VLOOKUP(D972,Liste!$A$10:$D$163,4),\"\")","v":""},null,null,null,""]
[null,{"$f":"IF(A973>0,VLOOKUP(A973,Liste!$B$179                         : Liste!$C$189,2),\"\")","v":""},null,null,{"$f":"IF(D973>0,VLOOKUP(D973,Liste!$A$10:$D$163,4),\"\")","v":""},null,null,null,""]
[null,{"$f":"IF(A974>0,VLOOKUP(A974,Liste!$B$179                         : Liste!$C$189,2),\"\")","v":""},null,null,{"$f":"IF(D974>0,VLOOKUP(D974,Liste!$A$10:$D$163,4),\"\")","v":""},null,null,null,""]
[null,{"$f":"IF(A975>0,VLOOKUP(A975,Liste!$B$179                         : Liste!$C$189,2),\"\")","v":""},null,null,{"$f":"IF(D975>0,VLOOKUP(D975,Liste!$A$10:$D$163,4),\"\")","v":""},null,null,null,""]
[null,{"$f":"IF(A976>0,VLOOKUP(A976,Liste!$B$179                         : Liste!$C$189,2),\"\")","v":""},null,null,{"$f":"IF(D976>0,VLOOKUP(D976,Liste!$A$10:$D$163,4),\"\")","v":""},null,null,null,""]
[null,{"$f":"IF(A977>0,VLOOKUP(A977,Liste!$B$179                         : Liste!$C$189,2),\"\")","v":""},null,null,{"$f":"IF(D977>0,VLOOKUP(D977,Liste!$A$10:$D$163,4),\"\")","v":""},null,null,null,""]
[null,{"$f":"IF(A978>0,VLOOKUP(A978,Liste!$B$179                         : Liste!$C$189,2),\"\")","v":""},null,null,{"$f":"IF(D978>0,VLOOKUP(D978,Liste!$A$10:$D$163,4),\"\")","v":""},null,null,null,""]
[null,{"$f":"IF(A979>0,VLOOKUP(A979,Liste!$B$179                         : Liste!$C$189,2),\"\")","v":""},null,null,{"$f":"IF(D979>0,VLOOKUP(D979,Liste!$A$10:$D$163,4),\"\")","v":""},null,null,null,""]
[null,{"$f":"IF(A980>0,VLOOKUP(A980,Liste!$B$179                         : Liste!$C$189,2),\"\")","v":""},null,null,{"$f":"IF(D980>0,VLOOKUP(D980,Liste!$A$10:$D$163,4),\"\")","v":""},null,null,null,""]
[null,{"$f":"IF(A981>0,VLOOKUP(A981,Liste!$B$179                         : Liste!$C$189,2),\"\")","v":""},null,null,{"$f":"IF(D981>0,VLOOKUP(D981,Liste!$A$10:$D$163,4),\"\")","v":""},null,null,null,""]
[null,{"$f":"IF(A982>0,VLOOKUP(A982,Liste!$B$179                         : Liste!$C$189,2),\"\")","v":""},null,null,{"$f":"IF(D982>0,VLOOKUP(D982,Liste!$A$10:$D$163,4),\"\")","v":""},null,null,null,""]
[null,{"$f":"IF(A983>0,VLOOKUP(A983,Liste!$B$179                         : Liste!$C$189,2),\"\")","v":""},null,null,{"$f":"IF(D983>0,VLOOKUP(D983,Liste!$A$10:$D$163,4),\"\")","v":""},null,null,null,""]
[null,{"$f":"IF(A984>0,VLOOKUP(A984,Liste!$B$179                         : Liste!$C$189,2),\"\")","v":""},null,null,{"$f":"IF(D984>0,VLOOKUP(D984,Liste!$A$10:$D$163,4),\"\")","v":""},null,null,null,""]
[null,{"$f":"IF(A985>0,VLOOKUP(A985,Liste!$B$179                         : Liste!$C$189,2),\"\")","v":""},null,null,{"$f":"IF(D985>0,VLOOKUP(D985,Liste!$A$10:$D$163,4),\"\")","v":""},null,null,null,""]
[null,{"$f":"IF(A986>0,VLOOKUP(A986,Liste!$B$179                         : Liste!$C$189,2),\"\")","v":""},null,null,{"$f":"IF(D986>0,VLOOKUP(D986,Liste!$A$10:$D$163,4),\"\")","v":""},null,null,null,""]
[null,{"$f":"IF(A987>0,VLOOKUP(A987,Liste!$B$179                         : Liste!$C$189,2),\"\")","v":""},null,null,{"$f":"IF(D987>0,VLOOKUP(D987,Liste!$A$10:$D$163,4),\"\")","v":""},null,null,null,""]
[null,{"$f":"IF(A988>0,VLOOKUP(A988,Liste!$B$179                         : Liste!$C$189,2),\"\")","v":""},null,null,{"$f":"IF(D988>0,VLOOKUP(D988,Liste!$A$10:$D$163,4),\"\")","v":""},null,null,null,""]
[null,{"$f":"IF(A989>0,VLOOKUP(A989,Liste!$B$179                         : Liste!$C$189,2),\"\")","v":""},null,null,{"$f":"IF(D989>0,VLOOKUP(D989,Liste!$A$10:$D$163,4),\"\")","v":""},null,null,null,""]
[null,{"$f":"IF(A990>0,VLOOKUP(A990,Liste!$B$179                         : Liste!$C$189,2),\"\")","v":""},null,null,{"$f":"IF(D990>0,VLOOKUP(D990,Liste!$A$10:$D$163,4),\"\")","v":""},null,null,null,""]
[null,{"$f":"IF(A991>0,VLOOKUP(A991,Liste!$B$179                         : Liste!$C$189,2),\"\")","v":""},null,null,{"$f":"IF(D991>0,VLOOKUP(D991,Liste!$A$10:$D$163,4),\"\")","v":""},null,null,null,""]
[null,{"$f":"IF(A992>0,VLOOKUP(A992,Liste!$B$179                         : Liste!$C$189,2),\"\")","v":""},null,null,{"$f":"IF(D992>0,VLOOKUP(D992,Liste!$A$10:$D$163,4),\"\")","v":""},null,null,null,""]
[null,{"$f":"IF(A993>0,VLOOKUP(A993,Liste!$B$179                         : Liste!$C$189,2),\"\")","v":""},null,null,{"$f":"IF(D993>0,VLOOKUP(D993,Liste!$A$10:$D$163,4),\"\")","v":""},null,null,null,""]
[null,{"$f":"IF(A994>0,VLOOKUP(A994,Liste!$B$179                         : Liste!$C$189,2),\"\")","v":""},null,null,{"$f":"IF(D994>0,VLOOKUP(D994,Liste!$A$10:$D$163,4),\"\")","v":""},null,null,null,""]
[null,{"$f":"IF(A995>0,VLOOKUP(A995,Liste!$B$179                         : Liste!$C$189,2),\"\")","v":""},null,null,{"$f":"IF(D995>0,VLOOKUP(D995,Liste!$A$10:$D$163,4),\"\")","v":""},null,null,null,""]
[null,{"$f":"IF(A996>0,VLOOKUP(A996,Liste!$B$179                         : Liste!$C$189,2),\"\")","v":""},null,null,{"$f":"IF(D996>0,VLOOKUP(D996,Liste!$A$10:$D$163,4),\"\")","v":""},null,null,null,""]
[null,{"$f":"IF(A997>0,VLOOKUP(A997,Liste!$B$179                         : Liste!$C$189,2),\"\")","v":""},null,null,{"$f":"IF(D997>0,VLOOKUP(D997,Liste!$A$10:$D$163,4),\"\")","v":""},null,null,null,""]
[null,{"$f":"IF(A998>0,VLOOKUP(A998,Liste!$B$179                         : Liste!$C$189,2),\"\")","v":""},null,null,{"$f":"IF(D998>0,VLOOKUP(D998,Liste!$A$10:$D$163,4),\"\")","v":""},null,null,null,""]
[null,{"$f":"IF(A999>0,VLOOKUP(A999,Liste!$B$179                         : Liste!$C$189,2),\"\")","v":""},null,null,{"$f":"IF(D999>0,VLOOKUP(D999,Liste!$A$10:$D$163,4),\"\")","v":""},null,null,null,""]
[null,{"$f":"IF(A1000>0,VLOOKUP(A1000,Liste!$B$179                         : Liste!$C$189,2),\"\")","v":""},null,null,{"$f":"IF(D1000>0,VLOOKUP(D1000,Liste!$A$10:$D$163,4),\"\")","v":""},null,null,null,""]
[null,{"$f":"IF(A1001>0,VLOOKUP(A1001,Liste!$B$179                         : Liste!$C$189,2),\"\")","v":""},null,null,{"$f":"IF(D1001>0,VLOOKUP(D1001,Liste!$A$10:$D$163,4),\"\")","v":""},null,null,null,""]
[null,{"$f":"IF(A1002>0,VLOOKUP(A1002,Liste!$B$179                         : Liste!$C$189,2),\"\")","v":""},null,null,{"$f":"IF(D1002>0,VLOOKUP(D1002,Liste!$A$10:$D$163,4),\"\")","v":""},null,null,null,""]
[null,{"$f":"IF(A1003>0,VLOOKUP(A1003,Liste!$B$179                         : Liste!$C$189,2),\"\")","v":""},null,null,{"$f":"IF(D1003>0,VLOOKUP(D1003,Liste!$A$10:$D$163,4),\"\")","v":""},null,null,null,""]
[null,{"$f":"IF(A1004>0,VLOOKUP(A1004,Liste!$B$179                         : Liste!$C$189,2),\"\")","v":""},null,null,{"$f":"IF(D1004>0,VLOOKUP(D1004,Liste!$A$10:$D$163,4),\"\")","v":""},null,null,null,""]
[null,{"$f":"IF(A1005>0,VLOOKUP(A1005,Liste!$B$179                         : Liste!$C$189,2),\"\")","v":""},null,null,{"$f":"IF(D1005>0,VLOOKUP(D1005,Liste!$A$10:$D$163,4),\"\")","v":""},null,null,null,""]
[null,{"$f":"IF(A1006>0,VLOOKUP(A1006,Liste!$B$179                         : Liste!$C$189,2),\"\")","v":""},null,null,{"$f":"IF(D1006>0,VLOOKUP(D1006,Liste!$A$10:$D$163,4),\"\")","v":""},null,null,null,""]
[null,{"$f":"IF(A1007>0,VLOOKUP(A1007,Liste!$B$179                         : Liste!$C$189,2),\"\")","v":""},null,null,{"$f":"IF(D1007>0,VLOOKUP(D1007,Liste!$A$10:$D$163,4),\"\")","v":""},null,null,null,""]
[null,{"$f":"IF(A1008>0,VLOOKUP(A1008,Liste!$B$179                         : Liste!$C$189,2),\"\")","v":""},null,null,{"$f":"IF(D1008>0,VLOOKUP(D1008,Liste!$A$10:$D$163,4),\"\")","v":""},null,null,null,""]
[null,{"$f":"IF(A1009>0,VLOOKUP(A1009,Liste!$B$179                         : Liste!$C$189,2),\"\")","v":""},null,null,{"$f":"IF(D1009>0,VLOOKUP(D1009,Liste!$A$10:$D$163,4),\"\")","v":""},null,null,null,""]
[null,{"$f":"IF(A1010>0,VLOOKUP(A1010,Liste!$B$179                         : Liste!$C$189,2),\"\")","v":""},null,null,{"$f":"IF(D1010>0,VLOOKUP(D1010,Liste!$A$10:$D$163,4),\"\")","v":""},null,null,null,""]
[null,{"$f":"IF(A1011>0,VLOOKUP(A1011,Liste!$B$179                         : Liste!$C$189,2),\"\")","v":""},null,null,{"$f":"IF(D1011>0,VLOOKUP(D1011,Liste!$A$10:$D$163,4),\"\")","v":""},null,null,null,""]
[null,{"$f":"IF(A1012>0,VLOOKUP(A1012,Liste!$B$179                         : Liste!$C$189,2),\"\")","v":""},null,null,{"$f":"IF(D1012>0,VLOOKUP(D1012,Liste!$A$10:$D$163,4),\"\")","v":""},null,null,null,""]
[null,{"$f":"IF(A1013>0,VLOOKUP(A1013,Liste!$B$179                         : Liste!$C$189,2),\"\")","v":""},null,null,{"$f":"IF(D1013>0,VLOOKUP(D1013,Liste!$A$10:$D$163,4),\"\")","v":""},null,null,null,""]
[null,{"$f":"IF(A1014>0,VLOOKUP(A1014,Liste!$B$179                         : Liste!$C$189,2),\"\")","v":""},null,null,{"$f":"IF(D1014>0,VLOOKUP(D1014,Liste!$A$10:$D$163,4),\"\")","v":""},null,null,null,""]
[null,{"$f":"IF(A1015>0,VLOOKUP(A1015,Liste!$B$179                         : Liste!$C$189,2),\"\")","v":""},null,null,{"$f":"IF(D1015>0,VLOOKUP(D1015,Liste!$A$10:$D$163,4),\"\")","v":""},null,null,null,""]
[null,{"$f":"IF(A1016>0,VLOOKUP(A1016,Liste!$B$179                         : Liste!$C$189,2),\"\")","v":""},null,null,{"$f":"IF(D1016>0,VLOOKUP(D1016,Liste!$A$10:$D$163,4),\"\")","v":""},null,null,null,""]
[null,{"$f":"IF(A1017>0,VLOOKUP(A1017,Liste!$B$179                         : Liste!$C$189,2),\"\")","v":""},null,null,{"$f":"IF(D1017>0,VLOOKUP(D1017,Liste!$A$10:$D$163,4),\"\")","v":""},null,null,null,""]
[null,{"$f":"IF(A1018>0,VLOOKUP(A1018,Liste!$B$179                         : Liste!$C$189,2),\"\")","v":""},null,null,{"$f":"IF(D1018>0,VLOOKUP(D1018,Liste!$A$10:$D$163,4),\"\")","v":""},null,null,null,""]
[null,{"$f":"IF(A1019>0,VLOOKUP(A1019,Liste!$B$179                         : Liste!$C$189,2),\"\")","v":""},null,null,{"$f":"IF(D1019>0,VLOOKUP(D1019,Liste!$A$10:$D$163,4),\"\")","v":""},null,null,null,""]
[null,{"$f":"IF(A1020>0,VLOOKUP(A1020,Liste!$B$179                         : Liste!$C$189,2),\"\")","v":""},null,null,{"$f":"IF(D1020>0,VLOOKUP(D1020,Liste!$A$10:$D$163,4),\"\")","v":""},null,null,null,""]
[null,{"$f":"IF(A1021>0,VLOOKUP(A1021,Liste!$B$179                         : Liste!$C$189,2),\"\")","v":""},null,null,{"$f":"IF(D1021>0,VLOOKUP(D1021,Liste!$A$10:$D$163,4),\"\")","v":""},null,null,null,""]
[null,{"$f":"IF(A1022>0,VLOOKUP(A1022,Liste!$B$179                         : Liste!$C$189,2),\"\")","v":""},null,null,{"$f":"IF(D1022>0,VLOOKUP(D1022,Liste!$A$10:$D$163,4),\"\")","v":""},null,null,null,""]
[null,{"$f":"IF(A1023>0,VLOOKUP(A1023,Liste!$B$179                         : Liste!$C$189,2),\"\")","v":""},null,null,{"$f":"IF(D1023>0,VLOOKUP(D1023,Liste!$A$10:$D$163,4),\"\")","v":""},null,null,null,""]
[null,{"$f":"IF(A1024>0,VLOOKUP(A1024,Liste!$B$179                         : Liste!$C$189,2),\"\")","v":""},null,null,{"$f":"IF(D1024>0,VLOOKUP(D1024,Liste!$A$10:$D$163,4),\"\")","v":""},null,null,null,""]
[null,{"$f":"IF(A1025>0,VLOOKUP(A1025,Liste!$B$179                         : Liste!$C$189,2),\"\")","v":""},null,null,{"$f":"IF(D1025>0,VLOOKUP(D1025,Liste!$A$10:$D$163,4),\"\")","v":""},null,null,null,""]
[null,{"$f":"IF(A1026>0,VLOOKUP(A1026,Liste!$B$179                         : Liste!$C$189,2),\"\")","v":""},null,null,{"$f":"IF(D1026>0,VLOOKUP(D1026,Liste!$A$10:$D$163,4),\"\")","v":""},null,null,null,""]
[null,{"$f":"IF(A1027>0,VLOOKUP(A1027,Liste!$B$179                         : Liste!$C$189,2),\"\")","v":""},null,null,{"$f":"IF(D1027>0,VLOOKUP(D1027,Liste!$A$10:$D$163,4),\"\")","v":""},null,null,null,""]
[null,{"$f":"IF(A1028>0,VLOOKUP(A1028,Liste!$B$179                         : Liste!$C$189,2),\"\")","v":""},null,null,{"$f":"IF(D1028>0,VLOOKUP(D1028,Liste!$A$10:$D$163,4),\"\")","v":""},null,null,null,""]
[null,{"$f":"IF(A1029>0,VLOOKUP(A1029,Liste!$B$179                         : Liste!$C$189,2),\"\")","v":""},null,null,{"$f":"IF(D1029>0,VLOOKUP(D1029,Liste!$A$10:$D$163,4),\"\")","v":""},null,null,null,""]
[null,{"$f":"IF(A1030>0,VLOOKUP(A1030,Liste!$B$179                         : Liste!$C$189,2),\"\")","v":""},null,null,{"$f":"IF(D1030>0,VLOOKUP(D1030,Liste!$A$10:$D$163,4),\"\")","v":""},null,null,null,{"$f":"IF(AND(D1030>0,F1030+G1030+H1030=0),\"EN ATTENTE\",IF(F1030+G1030+H1030>1,\"ERREUR\",\"\"))","v":""}]
[null,{"$f":"IF(A1031>0,VLOOKUP(A1031,Liste!$B$179                         : Liste!$C$189,2),\"\")","v":""},null,null,{"$f":"IF(D1031>0,VLOOKUP(D1031,Liste!$A$10:$D$163,4),\"\")","v":""},null,null,null,""]
[null,{"$f":"IF(A1032>0,VLOOKUP(A1032,Liste!$B$179                         : Liste!$C$189,2),\"\")","v":""},null,null,{"$f":"IF(D1032>0,VLOOKUP(D1032,Liste!$A$10:$D$163,4),\"\")","v":""},null,null,null,""]
[null,{"$f":"IF(A1033>0,VLOOKUP(A1033,Liste!$B$179                         : Liste!$C$189,2),\"\")","v":""},null,null,{"$f":"IF(D1033>0,VLOOKUP(D1033,Liste!$A$10:$D$163,4),\"\")","v":""},null,null,null,""]
[null,{"$f":"IF(A1034>0,VLOOKUP(A1034,Liste!$B$179                         : Liste!$C$189,2),\"\")","v":""},null,null,{"$f":"IF(D1034>0,VLOOKUP(D1034,Liste!$A$10:$D$163,4),\"\")","v":""},null,null,null,""]
[null,{"$f":"IF(A1035>0,VLOOKUP(A1035,Liste!$B$179                         : Liste!$C$189,2),\"\")","v":""},null,null,{"$f":"IF(D1035>0,VLOOKUP(D1035,Liste!$A$10:$D$163,4),\"\")","v":""},null,null,null,""]
[null,{"$f":"IF(A1036>0,VLOOKUP(A1036,Liste!$B$179                         : Liste!$C$189,2),\"\")","v":""},null,null,{"$f":"IF(D1036>0,VLOOKUP(D1036,Liste!$A$10:$D$163,4),\"\")","v":""},null,null,null,""]
[null,{"$f":"IF(A1037>0,VLOOKUP(A1037,Liste!$B$179                         : Liste!$C$189,2),\"\")","v":""},null,null,{"$f":"IF(D1037>0,VLOOKUP(D1037,Liste!$A$10:$D$163,4),\"\")","v":""},null,null,null,""]
[null,{"$f":"IF(A1038>0,VLOOKUP(A1038,Liste!$B$179                         : Liste!$C$189,2),\"\")","v":""},null,null,{"$f":"IF(D1038>0,VLOOKUP(D1038,Liste!$A$10:$D$163,4),\"\")","v":""},null,null,null,""]
[null,{"$f":"IF(A1039>0,VLOOKUP(A1039,Liste!$B$179                         : Liste!$C$189,2),\"\")","v":""},null,null,{"$f":"IF(D1039>0,VLOOKUP(D1039,Liste!$A$10:$D$163,4),\"\")","v":""},null,null,null,""]
[null,{"$f":"IF(A1040>0,VLOOKUP(A1040,Liste!$B$179                         : Liste!$C$189,2),\"\")","v":""},null,null,{"$f":"IF(D1040>0,VLOOKUP(D1040,Liste!$A$10:$D$163,4),\"\")","v":""},null,null,null,""]
[null,{"$f":"IF(A1041>0,VLOOKUP(A1041,Liste!$B$179                         : Liste!$C$189,2),\"\")","v":""},null,null,{"$f":"IF(D1041>0,VLOOKUP(D1041,Liste!$A$10:$D$163,4),\"\")","v":""},null,null,null,""]
[null,{"$f":"IF(A1042>0,VLOOKUP(A1042,Liste!$B$179                         : Liste!$C$189,2),\"\")","v":""},null,null,{"$f":"IF(D1042>0,VLOOKUP(D1042,Liste!$A$10:$D$163,4),\"\")","v":""},null,null,null,""]
[null,{"$f":"IF(A1043>0,VLOOKUP(A1043,Liste!$B$179                         : Liste!$C$189,2),\"\")","v":""},null,null,{"$f":"IF(D1043>0,VLOOKUP(D1043,Liste!$A$10:$D$163,4),\"\")","v":""},null,null,null,""]
[null,{"$f":"IF(A1044>0,VLOOKUP(A1044,Liste!$B$179                         : Liste!$C$189,2),\"\")","v":""},null,null,{"$f":"IF(D1044>0,VLOOKUP(D1044,Liste!$A$10:$D$163,4),\"\")","v":""},null,null,null,""]
[null,{"$f":"IF(A1045>0,VLOOKUP(A1045,Liste!$B$179                         : Liste!$C$189,2),\"\")","v":""},null,null,{"$f":"IF(D1045>0,VLOOKUP(D1045,Liste!$A$10:$D$163,4),\"\")","v":""},null,null,null,""]
[null,{"$f":"IF(A1046>0,VLOOKUP(A1046,Liste!$B$179                         : Liste!$C$189,2),\"\")","v":""},null,null,{"$f":"IF(D1046>0,VLOOKUP(D1046,Liste!$A$10:$D$163,4),\"\")","v":""},null,null,null,""]
[null,{"$f":"IF(A1047>0,VLOOKUP(A1047,Liste!$B$179                         : Liste!$C$189,2),\"\")","v":""},null,null,{"$f":"IF(D1047>0,VLOOKUP(D1047,Liste!$A$10:$D$163,4),\"\")","v":""},null,null,null,""]
[null,{"$f":"IF(A1048>0,VLOOKUP(A1048,Liste!$B$179                         : Liste!$C$189,2),\"\")","v":""},null,null,{"$f":"IF(D1048>0,VLOOKUP(D1048,Liste!$A$10:$D$163,4),\"\")","v":""},null,null,null,""]
[null,{"$f":"IF(A1049>0,VLOOKUP(A1049,Liste!$B$179                         : Liste!$C$189,2),\"\")","v":""},null,null,{"$f":"IF(D1049>0,VLOOKUP(D1049,Liste!$A$10:$D$163,4),\"\")","v":""},null,null,null,""]
[null,{"$f":"IF(A1050>0,VLOOKUP(A1050,Liste!$B$179                         : Liste!$C$189,2),\"\")","v":""},null,null,{"$f":"IF(D1050>0,VLOOKUP(D1050,Liste!$A$10:$D$163,4),\"\")","v":""},null,null,null,""]
[null,{"$f":"IF(A1051>0,VLOOKUP(A1051,Liste!$B$179                         : Liste!$C$189,2),\"\")","v":""},null,null,{"$f":"IF(D1051>0,VLOOKUP(D1051,Liste!$A$10:$D$163,4),\"\")","v":""},null,null,null,""]
[null,{"$f":"IF(A1052>0,VLOOKUP(A1052,Liste!$B$179                         : Liste!$C$189,2),\"\")","v":""},null,null,{"$f":"IF(D1052>0,VLOOKUP(D1052,Liste!$A$10:$D$163,4),\"\")","v":""},null,null,null,""]
[null,{"$f":"IF(A1053>0,VLOOKUP(A1053,Liste!$B$179                         : Liste!$C$189,2),\"\")","v":""},null,null,{"$f":"IF(D1053>0,VLOOKUP(D1053,Liste!$A$10:$D$163,4),\"\")","v":""},null,null,null,""]
[null,{"$f":"IF(A1054>0,VLOOKUP(A1054,Liste!$B$179                         : Liste!$C$189,2),\"\")","v":""},null,null,{"$f":"IF(D1054>0,VLOOKUP(D1054,Liste!$A$10:$D$163,4),\"\")","v":""},null,null,null,""]
[null,{"$f":"IF(A1055>0,VLOOKUP(A1055,Liste!$B$179                         : Liste!$C$189,2),\"\")","v":""},null,null,{"$f":"IF(D1055>0,VLOOKUP(D1055,Liste!$A$10:$D$163,4),\"\")","v":""},null,null,null,""]
[null,{"$f":"IF(A1056>0,VLOOKUP(A1056,Liste!$B$179                         : Liste!$C$189,2),\"\")","v":""},null,null,{"$f":"IF(D1056>0,VLOOKUP(D1056,Liste!$A$10:$D$163,4),\"\")","v":""},null,null,null,""]
[null,{"$f":"IF(A1057>0,VLOOKUP(A1057,Liste!$B$179                         : Liste!$C$189,2),\"\")","v":""},null,null,{"$f":"IF(D1057>0,VLOOKUP(D1057,Liste!$A$10:$D$163,4),\"\")","v":""},null,null,null,""]
[null,{"$f":"IF(A1058>0,VLOOKUP(A1058,Liste!$B$179                         : Liste!$C$189,2),\"\")","v":""},null,null,{"$f":"IF(D1058>0,VLOOKUP(D1058,Liste!$A$10:$D$163,4),\"\")","v":""},null,null,null,""]
[null,{"$f":"IF(A1059>0,VLOOKUP(A1059,Liste!$B$179                         : Liste!$C$189,2),\"\")","v":""},null,null,{"$f":"IF(D1059>0,VLOOKUP(D1059,Liste!$A$10:$D$163,4),\"\")","v":""},null,null,null,""]
[null,{"$f":"IF(A1060>0,VLOOKUP(A1060,Liste!$B$179                         : Liste!$C$189,2),\"\")","v":""},null,null,{"$f":"IF(D1060>0,VLOOKUP(D1060,Liste!$A$10:$D$163,4),\"\")","v":""},null,null,null,""]
[null,{"$f":"IF(A1061>0,VLOOKUP(A1061,Liste!$B$179                         : Liste!$C$189,2),\"\")","v":""},null,null,{"$f":"IF(D1061>0,VLOOKUP(D1061,Liste!$A$10:$D$163,4),\"\")","v":""},null,null,null,""]
[null,{"$f":"IF(A1062>0,VLOOKUP(A1062,Liste!$B$179                         : Liste!$C$189,2),\"\")","v":""},null,null,{"$f":"IF(D1062>0,VLOOKUP(D1062,Liste!$A$10:$D$163,4),\"\")","v":""},null,null,null,""]
[null,{"$f":"IF(A1063>0,VLOOKUP(A1063,Liste!$B$179                         : Liste!$C$189,2),\"\")","v":""},null,null,{"$f":"IF(D1063>0,VLOOKUP(D1063,Liste!$A$10:$D$163,4),\"\")","v":""},null,null,null,""]
[null,{"$f":"IF(A1064>0,VLOOKUP(A1064,Liste!$B$179                         : Liste!$C$189,2),\"\")","v":""},null,null,{"$f":"IF(D1064>0,VLOOKUP(D1064,Liste!$A$10:$D$163,4),\"\")","v":""},null,null,null,""]
[null,{"$f":"IF(A1065>0,VLOOKUP(A1065,Liste!$B$179                         : Liste!$C$189,2),\"\")","v":""},null,null,{"$f":"IF(D1065>0,VLOOKUP(D1065,Liste!$A$10:$D$163,4),\"\")","v":""},null,null,null,""]
[null,{"$f":"IF(A1066>0,VLOOKUP(A1066,Liste!$B$179                         : Liste!$C$189,2),\"\")","v":""},null,null,{"$f":"IF(D1066>0,VLOOKUP(D1066,Liste!$A$10:$D$163,4),\"\")","v":""},null,null,null,""]
[null,{"$f":"IF(A1067>0,VLOOKUP(A1067,Liste!$B$179                         : Liste!$C$189,2),\"\")","v":""},null,null,{"$f":"IF(D1067>0,VLOOKUP(D1067,Liste!$A$10:$D$163,4),\"\")","v":""},null,null,null,""]
[null,{"$f":"IF(A1068>0,VLOOKUP(A1068,Liste!$B$179                         : Liste!$C$189,2),\"\")","v":""},null,null,{"$f":"IF(D1068>0,VLOOKUP(D1068,Liste!$A$10:$D$163,4),\"\")","v":""},null,null,null,""]
[null,{"$f":"IF(A1069>0,VLOOKUP(A1069,Liste!$B$179                         : Liste!$C$189,2),\"\")","v":""},null,null,{"$f":"IF(D1069>0,VLOOKUP(D1069,Liste!$A$10:$D$163,4),\"\")","v":""},null,null,null,""]
[null,{"$f":"IF(A1070>0,VLOOKUP(A1070,Liste!$B$179                         : Liste!$C$189,2),\"\")","v":""},null,null,{"$f":"IF(D1070>0,VLOOKUP(D1070,Liste!$A$10:$D$163,4),\"\")","v":""},null,null,null,""]
[null,{"$f":"IF(A1071>0,VLOOKUP(A1071,Liste!$B$179                         : Liste!$C$189,2),\"\")","v":""},null,null,{"$f":"IF(D1071>0,VLOOKUP(D1071,Liste!$A$10:$D$163,4),\"\")","v":""},null,null,null,""]
[null,{"$f":"IF(A1072>0,VLOOKUP(A1072,Liste!$B$179                         : Liste!$C$189,2),\"\")","v":""},null,null,{"$f":"IF(D1072>0,VLOOKUP(D1072,Liste!$A$10:$D$163,4),\"\")","v":""},null,null,null,""]
[null,{"$f":"IF(A1073>0,VLOOKUP(A1073,Liste!$B$179                         : Liste!$C$189,2),\"\")","v":""},null,null,{"$f":"IF(D1073>0,VLOOKUP(D1073,Liste!$A$10:$D$163,4),\"\")","v":""},null,null,null,""]
[null,{"$f":"IF(A1074>0,VLOOKUP(A1074,Liste!$B$179                         : Liste!$C$189,2),\"\")","v":""},null,null,{"$f":"IF(D1074>0,VLOOKUP(D1074,Liste!$A$10:$D$163,4),\"\")","v":""},null,null,null,""]
[null,{"$f":"IF(A1075>0,VLOOKUP(A1075,Liste!$B$179                         : Liste!$C$189,2),\"\")","v":""},null,null,{"$f":"IF(D1075>0,VLOOKUP(D1075,Liste!$A$10:$D$163,4),\"\")","v":""},null,null,null,""]
[null,{"$f":"IF(A1076>0,VLOOKUP(A1076,Liste!$B$179                         : Liste!$C$189,2),\"\")","v":""},null,null,{"$f":"IF(D1076>0,VLOOKUP(D1076,Liste!$A$10:$D$163,4),\"\")","v":""},null,null,null,""]
[null,{"$f":"IF(A1077>0,VLOOKUP(A1077,Liste!$B$179                         : Liste!$C$189,2),\"\")","v":""},null,null,{"$f":"IF(D1077>0,VLOOKUP(D1077,Liste!$A$10:$D$163,4),\"\")","v":""},null,null,null,""]
[null,{"$f":"IF(A1078>0,VLOOKUP(A1078,Liste!$B$179                         : Liste!$C$189,2),\"\")","v":""},null,null,{"$f":"IF(D1078>0,VLOOKUP(D1078,Liste!$A$10:$D$163,4),\"\")","v":""},null,null,null,""]
[null,{"$f":"IF(A1079>0,VLOOKUP(A1079,Liste!$B$179                         : Liste!$C$189,2),\"\")","v":""},null,null,{"$f":"IF(D1079>0,VLOOKUP(D1079,Liste!$A$10:$D$163,4),\"\")","v":""},null,null,null,""]
[null,{"$f":"IF(A1080>0,VLOOKUP(A1080,Liste!$B$179                         : Liste!$C$189,2),\"\")","v":""},null,null,{"$f":"IF(D1080>0,VLOOKUP(D1080,Liste!$A$10:$D$163,4),\"\")","v":""},null,null,null,""]
[null,{"$f":"IF(A1081>0,VLOOKUP(A1081,Liste!$B$179                         : Liste!$C$189,2),\"\")","v":""},null,null,{"$f":"IF(D1081>0,VLOOKUP(D1081,Liste!$A$10:$D$163,4),\"\")","v":""},null,null,null,""]
[null,{"$f":"IF(A1082>0,VLOOKUP(A1082,Liste!$B$179                         : Liste!$C$189,2),\"\")","v":""},null,null,{"$f":"IF(D1082>0,VLOOKUP(D1082,Liste!$A$10:$D$163,4),\"\")","v":""},null,null,null,""]
[null,{"$f":"IF(A1083>0,VLOOKUP(A1083,Liste!$B$179                         : Liste!$C$189,2),\"\")","v":""},null,null,{"$f":"IF(D1083>0,VLOOKUP(D1083,Liste!$A$10:$D$163,4),\"\")","v":""},null,null,null,""]
[null,{"$f":"IF(A1084>0,VLOOKUP(A1084,Liste!$B$179                         : Liste!$C$189,2),\"\")","v":""},null,null,{"$f":"IF(D1084>0,VLOOKUP(D1084,Liste!$A$10:$D$163,4),\"\")","v":""},null,null,null,""]
[null,{"$f":"IF(A1085>0,VLOOKUP(A1085,Liste!$B$179                         : Liste!$C$189,2),\"\")","v":""},null,null,{"$f":"IF(D1085>0,VLOOKUP(D1085,Liste!$A$10:$D$163,4),\"\")","v":""},null,null,null,""]
[null,{"$f":"IF(A1086>0,VLOOKUP(A1086,Liste!$B$179                         : Liste!$C$189,2),\"\")","v":""},null,null,{"$f":"IF(D1086>0,VLOOKUP(D1086,Liste!$A$10:$D$163,4),\"\")","v":""},null,null,null,""]
[null,{"$f":"IF(A1087>0,VLOOKUP(A1087,Liste!$B$179                         : Liste!$C$189,2),\"\")","v":""},null,null,{"$f":"IF(D1087>0,VLOOKUP(D1087,Liste!$A$10:$D$163,4),\"\")","v":""},null,null,null,""]
[null,{"$f":"IF(A1088>0,VLOOKUP(A1088,Liste!$B$179                         : Liste!$C$189,2),\"\")","v":""},null,null,{"$f":"IF(D1088>0,VLOOKUP(D1088,Liste!$A$10:$D$163,4),\"\")","v":""},null,null,null,""]
[null,{"$f":"IF(A1089>0,VLOOKUP(A1089,Liste!$B$179                         : Liste!$C$189,2),\"\")","v":""},null,null,{"$f":"IF(D1089>0,VLOOKUP(D1089,Liste!$A$10:$D$163,4),\"\")","v":""},null,null,null,""]
[null,{"$f":"IF(A1090>0,VLOOKUP(A1090,Liste!$B$179                         : Liste!$C$189,2),\"\")","v":""},null,null,{"$f":"IF(D1090>0,VLOOKUP(D1090,Liste!$A$10:$D$163,4),\"\")","v":""},null,null,null,""]
[null,{"$f":"IF(A1091>0,VLOOKUP(A1091,Liste!$B$179                         : Liste!$C$189,2),\"\")","v":""},null,null,{"$f":"IF(D1091>0,VLOOKUP(D1091,Liste!$A$10:$D$163,4),\"\")","v":""},null,null,null,""]
[null,{"$f":"IF(A1092>0,VLOOKUP(A1092,Liste!$B$179                         : Liste!$C$189,2),\"\")","v":""},null,null,{"$f":"IF(D1092>0,VLOOKUP(D1092,Liste!$A$10:$D$163,4),\"\")","v":""},null,null,null,""]
[null,{"$f":"IF(A1093>0,VLOOKUP(A1093,Liste!$B$179                         : Liste!$C$189,2),\"\")","v":""},null,null,{"$f":"IF(D1093>0,VLOOKUP(D1093,Liste!$A$10:$D$163,4),\"\")","v":""},null,null,null,""]
[null,{"$f":"IF(A1094>0,VLOOKUP(A1094,Liste!$B$179                         : Liste!$C$189,2),\"\")","v":""},null,null,{"$f":"IF(D1094>0,VLOOKUP(D1094,Liste!$A$10:$D$163,4),\"\")","v":""},null,null,null,{"$f":"IF(AND(D1094>0,F1094+G1094+H1094=0),\"EN ATTENTE\",IF(F1094+G1094+H1094>1,\"ERREUR\",\"\"))","v":""}]
[null,{"$f":"IF(A1095>0,VLOOKUP(A1095,Liste!$B$179                         : Liste!$C$189,2),\"\")","v":""},null,null,{"$f":"IF(D1095>0,VLOOKUP(D1095,Liste!$A$10:$D$163,4),\"\")","v":""},null,null,null,""]
[null,{"$f":"IF(A1096>0,VLOOKUP(A1096,Liste!$B$179                         : Liste!$C$189,2),\"\")","v":""},null,null,{"$f":"IF(D1096>0,VLOOKUP(D1096,Liste!$A$10:$D$163,4),\"\")","v":""},null,null,null,""]
[null,{"$f":"IF(A1097>0,VLOOKUP(A1097,Liste!$B$179                         : Liste!$C$189,2),\"\")","v":""},null,null,{"$f":"IF(D1097>0,VLOOKUP(D1097,Liste!$A$10:$D$163,4),\"\")","v":""},null,null,null,""]
[null,{"$f":"IF(A1098>0,VLOOKUP(A1098,Liste!$B$179                         : Liste!$C$189,2),\"\")","v":""},null,null,{"$f":"IF(D1098>0,VLOOKUP(D1098,Liste!$A$10:$D$163,4),\"\")","v":""},null,null,null,""]
[null,{"$f":"IF(A1099>0,VLOOKUP(A1099,Liste!$B$179                         : Liste!$C$189,2),\"\")","v":""},null,null,{"$f":"IF(D1099>0,VLOOKUP(D1099,Liste!$A$10:$D$163,4),\"\")","v":""},null,null,null,""]
[null,{"$f":"IF(A1100>0,VLOOKUP(A1100,Liste!$B$179                         : Liste!$C$189,2),\"\")","v":""},null,null,{"$f":"IF(D1100>0,VLOOKUP(D1100,Liste!$A$10:$D$163,4),\"\")","v":""},null,null,null,""]
[null,{"$f":"IF(A1101>0,VLOOKUP(A1101,Liste!$B$179                         : Liste!$C$189,2),\"\")","v":""},null,null,{"$f":"IF(D1101>0,VLOOKUP(D1101,Liste!$A$10:$D$163,4),\"\")","v":""},null,null,null,""]
[null,{"$f":"IF(A1102>0,VLOOKUP(A1102,Liste!$B$179                         : Liste!$C$189,2),\"\")","v":""},null,null,{"$f":"IF(D1102>0,VLOOKUP(D1102,Liste!$A$10:$D$163,4),\"\")","v":""},null,null,null,""]
[null,{"$f":"IF(A1103>0,VLOOKUP(A1103,Liste!$B$179                         : Liste!$C$189,2),\"\")","v":""},null,null,{"$f":"IF(D1103>0,VLOOKUP(D1103,Liste!$A$10:$D$163,4),\"\")","v":""},null,null,null,""]
[null,{"$f":"IF(A1104>0,VLOOKUP(A1104,Liste!$B$179                         : Liste!$C$189,2),\"\")","v":""},null,null,{"$f":"IF(D1104>0,VLOOKUP(D1104,Liste!$A$10:$D$163,4),\"\")","v":""},null,null,null,""]
[null,{"$f":"IF(A1105>0,VLOOKUP(A1105,Liste!$B$179                         : Liste!$C$189,2),\"\")","v":""},null,null,{"$f":"IF(D1105>0,VLOOKUP(D1105,Liste!$A$10:$D$163,4),\"\")","v":""},null,null,null,""]
[null,{"$f":"IF(A1106>0,VLOOKUP(A1106,Liste!$B$179                         : Liste!$C$189,2),\"\")","v":""},null,null,{"$f":"IF(D1106>0,VLOOKUP(D1106,Liste!$A$10:$D$163,4),\"\")","v":""},null,null,null,""]
[null,{"$f":"IF(A1107>0,VLOOKUP(A1107,Liste!$B$179                         : Liste!$C$189,2),\"\")","v":""},null,null,{"$f":"IF(D1107>0,VLOOKUP(D1107,Liste!$A$10:$D$163,4),\"\")","v":""},null,null,null,""]
[null,{"$f":"IF(A1108>0,VLOOKUP(A1108,Liste!$B$179                         : Liste!$C$189,2),\"\")","v":""},null,null,{"$f":"IF(D1108>0,VLOOKUP(D1108,Liste!$A$10:$D$163,4),\"\")","v":""},null,null,null,""]
[null,{"$f":"IF(A1109>0,VLOOKUP(A1109,Liste!$B$179                         : Liste!$C$189,2),\"\")","v":""},null,null,{"$f":"IF(D1109>0,VLOOKUP(D1109,Liste!$A$10:$D$163,4),\"\")","v":""},null,null,null,""]
[null,{"$f":"IF(A1110>0,VLOOKUP(A1110,Liste!$B$179                         : Liste!$C$189,2),\"\")","v":""},null,null,{"$f":"IF(D1110>0,VLOOKUP(D1110,Liste!$A$10:$D$163,4),\"\")","v":""},null,null,null,""]
[null,{"$f":"IF(A1111>0,VLOOKUP(A1111,Liste!$B$179                         : Liste!$C$189,2),\"\")","v":""},null,null,{"$f":"IF(D1111>0,VLOOKUP(D1111,Liste!$A$10:$D$163,4),\"\")","v":""},null,null,null,""]
[null,{"$f":"IF(A1112>0,VLOOKUP(A1112,Liste!$B$179                         : Liste!$C$189,2),\"\")","v":""},null,null,{"$f":"IF(D1112>0,VLOOKUP(D1112,Liste!$A$10:$D$163,4),\"\")","v":""},null,null,null,""]
[null,{"$f":"IF(A1113>0,VLOOKUP(A1113,Liste!$B$179                         : Liste!$C$189,2),\"\")","v":""},null,null,{"$f":"IF(D1113>0,VLOOKUP(D1113,Liste!$A$10:$D$163,4),\"\")","v":""},null,null,null,""]
[null,{"$f":"IF(A1114>0,VLOOKUP(A1114,Liste!$B$179                         : Liste!$C$189,2),\"\")","v":""},null,null,{"$f":"IF(D1114>0,VLOOKUP(D1114,Liste!$A$10:$D$163,4),\"\")","v":""},null,null,null,""]
[null,{"$f":"IF(A1115>0,VLOOKUP(A1115,Liste!$B$179                         : Liste!$C$189,2),\"\")","v":""},null,null,{"$f":"IF(D1115>0,VLOOKUP(D1115,Liste!$A$10:$D$163,4),\"\")","v":""},null,null,null,""]
[null,{"$f":"IF(A1116>0,VLOOKUP(A1116,Liste!$B$179                         : Liste!$C$189,2),\"\")","v":""},null,null,{"$f":"IF(D1116>0,VLOOKUP(D1116,Liste!$A$10:$D$163,4),\"\")","v":""},null,null,null,""]
[null,{"$f":"IF(A1117>0,VLOOKUP(A1117,Liste!$B$179                         : Liste!$C$189,2),\"\")","v":""},null,null,{"$f":"IF(D1117>0,VLOOKUP(D1117,Liste!$A$10:$D$163,4),\"\")","v":""},null,null,null,""]
[null,{"$f":"IF(A1118>0,VLOOKUP(A1118,Liste!$B$179                         : Liste!$C$189,2),\"\")","v":""},null,null,{"$f":"IF(D1118>0,VLOOKUP(D1118,Liste!$A$10:$D$163,4),\"\")","v":""},null,null,null,""]
[null,{"$f":"IF(A1119>0,VLOOKUP(A1119,Liste!$B$179                         : Liste!$C$189,2),\"\")","v":""},null,null,{"$f":"IF(D1119>0,VLOOKUP(D1119,Liste!$A$10:$D$163,4),\"\")","v":""},null,null,null,""]
[null,{"$f":"IF(A1120>0,VLOOKUP(A1120,Liste!$B$179                         : Liste!$C$189,2),\"\")","v":""},null,null,{"$f":"IF(D1120>0,VLOOKUP(D1120,Liste!$A$10:$D$163,4),\"\")","v":""},null,null,null,""]
[null,{"$f":"IF(A1121>0,VLOOKUP(A1121,Liste!$B$179                         : Liste!$C$189,2),\"\")","v":""},null,null,{"$f":"IF(D1121>0,VLOOKUP(D1121,Liste!$A$10:$D$163,4),\"\")","v":""},null,null,null,""]
[null,{"$f":"IF(A1122>0,VLOOKUP(A1122,Liste!$B$179                         : Liste!$C$189,2),\"\")","v":""},null,null,{"$f":"IF(D1122>0,VLOOKUP(D1122,Liste!$A$10:$D$163,4),\"\")","v":""},null,null,null,""]
[null,{"$f":"IF(A1123>0,VLOOKUP(A1123,Liste!$B$179                         : Liste!$C$189,2),\"\")","v":""},null,null,{"$f":"IF(D1123>0,VLOOKUP(D1123,Liste!$A$10:$D$163,4),\"\")","v":""},null,null,null,""]
[null,{"$f":"IF(A1124>0,VLOOKUP(A1124,Liste!$B$179                         : Liste!$C$189,2),\"\")","v":""},null,null,{"$f":"IF(D1124>0,VLOOKUP(D1124,Liste!$A$10:$D$163,4),\"\")","v":""},null,null,null,""]
[null,{"$f":"IF(A1125>0,VLOOKUP(A1125,Liste!$B$179                         : Liste!$C$189,2),\"\")","v":""},null,null,{"$f":"IF(D1125>0,VLOOKUP(D1125,Liste!$A$10:$D$163,4),\"\")","v":""},null,null,null,""]
[null,{"$f":"IF(A1126>0,VLOOKUP(A1126,Liste!$B$179                         : Liste!$C$189,2),\"\")","v":""},null,null,{"$f":"IF(D1126>0,VLOOKUP(D1126,Liste!$A$10:$D$163,4),\"\")","v":""},null,null,null,""]
[null,{"$f":"IF(A1127>0,VLOOKUP(A1127,Liste!$B$179                         : Liste!$C$189,2),\"\")","v":""},null,null,{"$f":"IF(D1127>0,VLOOKUP(D1127,Liste!$A$10:$D$163,4),\"\")","v":""},null,null,null,""]
[null,{"$f":"IF(A1128>0,VLOOKUP(A1128,Liste!$B$179                         : Liste!$C$189,2),\"\")","v":""},null,null,{"$f":"IF(D1128>0,VLOOKUP(D1128,Liste!$A$10:$D$163,4),\"\")","v":""},null,null,null,""]
[null,{"$f":"IF(A1129>0,VLOOKUP(A1129,Liste!$B$179                         : Liste!$C$189,2),\"\")","v":""},null,null,{"$f":"IF(D1129>0,VLOOKUP(D1129,Liste!$A$10:$D$163,4),\"\")","v":""},null,null,null,""]
[null,{"$f":"IF(A1130>0,VLOOKUP(A1130,Liste!$B$179                         : Liste!$C$189,2),\"\")","v":""},null,null,{"$f":"IF(D1130>0,VLOOKUP(D1130,Liste!$A$10:$D$163,4),\"\")","v":""},null,null,null,""]
[null,{"$f":"IF(A1131>0,VLOOKUP(A1131,Liste!$B$179                         : Liste!$C$189,2),\"\")","v":""},null,null,{"$f":"IF(D1131>0,VLOOKUP(D1131,Liste!$A$10:$D$163,4),\"\")","v":""},null,null,null,""]
[null,{"$f":"IF(A1132>0,VLOOKUP(A1132,Liste!$B$179                         : Liste!$C$189,2),\"\")","v":""},null,null,{"$f":"IF(D1132>0,VLOOKUP(D1132,Liste!$A$10:$D$163,4),\"\")","v":""},null,null,null,""]
[null,{"$f":"IF(A1133>0,VLOOKUP(A1133,Liste!$B$179                         : Liste!$C$189,2),\"\")","v":""},null,null,{"$f":"IF(D1133>0,VLOOKUP(D1133,Liste!$A$10:$D$163,4),\"\")","v":""},null,null,null,""]
[null,{"$f":"IF(A1134>0,VLOOKUP(A1134,Liste!$B$179                         : Liste!$C$189,2),\"\")","v":""},null,null,{"$f":"IF(D1134>0,VLOOKUP(D1134,Liste!$A$10:$D$163,4),\"\")","v":""},null,null,null,""]
[null,{"$f":"IF(A1135>0,VLOOKUP(A1135,Liste!$B$179                         : Liste!$C$189,2),\"\")","v":""},null,null,{"$f":"IF(D1135>0,VLOOKUP(D1135,Liste!$A$10:$D$163,4),\"\")","v":""},null,null,null,""]
[null,{"$f":"IF(A1136>0,VLOOKUP(A1136,Liste!$B$179                         : Liste!$C$189,2),\"\")","v":""},null,null,{"$f":"IF(D1136>0,VLOOKUP(D1136,Liste!$A$10:$D$163,4),\"\")","v":""},null,null,null,""]
[null,{"$f":"IF(A1137>0,VLOOKUP(A1137,Liste!$B$179                         : Liste!$C$189,2),\"\")","v":""},null,null,{"$f":"IF(D1137>0,VLOOKUP(D1137,Liste!$A$10:$D$163,4),\"\")","v":""},null,null,null,""]
[null,{"$f":"IF(A1138>0,VLOOKUP(A1138,Liste!$B$179                         : Liste!$C$189,2),\"\")","v":""},null,null,{"$f":"IF(D1138>0,VLOOKUP(D1138,Liste!$A$10:$D$163,4),\"\")","v":""},null,null,null,""]
[null,{"$f":"IF(A1139>0,VLOOKUP(A1139,Liste!$B$179                         : Liste!$C$189,2),\"\")","v":""},null,null,{"$f":"IF(D1139>0,VLOOKUP(D1139,Liste!$A$10:$D$163,4),\"\")","v":""},null,null,null,""]
[null,{"$f":"IF(A1140>0,VLOOKUP(A1140,Liste!$B$179                         : Liste!$C$189,2),\"\")","v":""},null,null,{"$f":"IF(D1140>0,VLOOKUP(D1140,Liste!$A$10:$D$163,4),\"\")","v":""},null,null,null,""]
[null,{"$f":"IF(A1141>0,VLOOKUP(A1141,Liste!$B$179                         : Liste!$C$189,2),\"\")","v":""},null,null,{"$f":"IF(D1141>0,VLOOKUP(D1141,Liste!$A$10:$D$163,4),\"\")","v":""},null,null,null,""]
[null,{"$f":"IF(A1142>0,VLOOKUP(A1142,Liste!$B$179                         : Liste!$C$189,2),\"\")","v":""},null,null,{"$f":"IF(D1142>0,VLOOKUP(D1142,Liste!$A$10:$D$163,4),\"\")","v":""},null,null,null,""]
[null,{"$f":"IF(A1143>0,VLOOKUP(A1143,Liste!$B$179                         : Liste!$C$189,2),\"\")","v":""},null,null,{"$f":"IF(D1143>0,VLOOKUP(D1143,Liste!$A$10:$D$163,4),\"\")","v":""},null,null,null,""]
[null,{"$f":"IF(A1144>0,VLOOKUP(A1144,Liste!$B$179                         : Liste!$C$189,2),\"\")","v":""},null,null,{"$f":"IF(D1144>0,VLOOKUP(D1144,Liste!$A$10:$D$163,4),\"\")","v":""},null,null,null,""]
[null,{"$f":"IF(A1145>0,VLOOKUP(A1145,Liste!$B$179                         : Liste!$C$189,2),\"\")","v":""},null,null,{"$f":"IF(D1145>0,VLOOKUP(D1145,Liste!$A$10:$D$163,4),\"\")","v":""},null,null,null,""]
[null,{"$f":"IF(A1146>0,VLOOKUP(A1146,Liste!$B$179                         : Liste!$C$189,2),\"\")","v":""},null,null,{"$f":"IF(D1146>0,VLOOKUP(D1146,Liste!$A$10:$D$163,4),\"\")","v":""},null,null,null,""]
[null,{"$f":"IF(A1147>0,VLOOKUP(A1147,Liste!$B$179                         : Liste!$C$189,2),\"\")","v":""},null,null,{"$f":"IF(D1147>0,VLOOKUP(D1147,Liste!$A$10:$D$163,4),\"\")","v":""},null,null,null,""]
[null,{"$f":"IF(A1148>0,VLOOKUP(A1148,Liste!$B$179                         : Liste!$C$189,2),\"\")","v":""},null,null,{"$f":"IF(D1148>0,VLOOKUP(D1148,Liste!$A$10:$D$163,4),\"\")","v":""},null,null,null,""]
[null,{"$f":"IF(A1149>0,VLOOKUP(A1149,Liste!$B$179                         : Liste!$C$189,2),\"\")","v":""},null,null,{"$f":"IF(D1149>0,VLOOKUP(D1149,Liste!$A$10:$D$163,4),\"\")","v":""},null,null,null,""]
[null,{"$f":"IF(A1150>0,VLOOKUP(A1150,Liste!$B$179                         : Liste!$C$189,2),\"\")","v":""},null,null,{"$f":"IF(D1150>0,VLOOKUP(D1150,Liste!$A$10:$D$163,4),\"\")","v":""},null,null,null,""]
[null,{"$f":"IF(A1151>0,VLOOKUP(A1151,Liste!$B$179                         : Liste!$C$189,2),\"\")","v":""},null,null,{"$f":"IF(D1151>0,VLOOKUP(D1151,Liste!$A$10:$D$163,4),\"\")","v":""},null,null,null,""]
[null,{"$f":"IF(A1152>0,VLOOKUP(A1152,Liste!$B$179                         : Liste!$C$189,2),\"\")","v":""},null,null,{"$f":"IF(D1152>0,VLOOKUP(D1152,Liste!$A$10:$D$163,4),\"\")","v":""},null,null,null,""]
[null,{"$f":"IF(A1153>0,VLOOKUP(A1153,Liste!$B$179                         : Liste!$C$189,2),\"\")","v":""},null,null,{"$f":"IF(D1153>0,VLOOKUP(D1153,Liste!$A$10:$D$163,4),\"\")","v":""},null,null,null,""]
[null,{"$f":"IF(A1154>0,VLOOKUP(A1154,Liste!$B$179                         : Liste!$C$189,2),\"\")","v":""},null,null,{"$f":"IF(D1154>0,VLOOKUP(D1154,Liste!$A$10:$D$163,4),\"\")","v":""},null,null,null,""]
[null,{"$f":"IF(A1155>0,VLOOKUP(A1155,Liste!$B$179                         : Liste!$C$189,2),\"\")","v":""},null,null,{"$f":"IF(D1155>0,VLOOKUP(D1155,Liste!$A$10:$D$163,4),\"\")","v":""},null,null,null,""]
[null,{"$f":"IF(A1156>0,VLOOKUP(A1156,Liste!$B$179                         : Liste!$C$189,2),\"\")","v":""},null,null,{"$f":"IF(D1156>0,VLOOKUP(D1156,Liste!$A$10:$D$163,4),\"\")","v":""},null,null,null,""]
[null,{"$f":"IF(A1157>0,VLOOKUP(A1157,Liste!$B$179                         : Liste!$C$189,2),\"\")","v":""},null,null,{"$f":"IF(D1157>0,VLOOKUP(D1157,Liste!$A$10:$D$163,4),\"\")","v":""},null,null,null,""]
[null,{"$f":"IF(A1158>0,VLOOKUP(A1158,Liste!$B$179                         : Liste!$C$189,2),\"\")","v":""},null,null,{"$f":"IF(D1158>0,VLOOKUP(D1158,Liste!$A$10:$D$163,4),\"\")","v":""},null,null,null,{"$f":"IF(AND(D1158>0,F1158+G1158+H1158=0),\"EN ATTENTE\",IF(F1158+G1158+H1158>1,\"ERREUR\",\"\"))","v":""}]
[null,{"$f":"IF(A1159>0,VLOOKUP(A1159,Liste!$B$179                         : Liste!$C$189,2),\"\")","v":""},null,null,{"$f":"IF(D1159>0,VLOOKUP(D1159,Liste!$A$10:$D$163,4),\"\")","v":""},null,null,null,""]
[null,{"$f":"IF(A1160>0,VLOOKUP(A1160,Liste!$B$179                         : Liste!$C$189,2),\"\")","v":""},null,null,{"$f":"IF(D1160>0,VLOOKUP(D1160,Liste!$A$10:$D$163,4),\"\")","v":""},null,null,null,""]
[null,{"$f":"IF(A1161>0,VLOOKUP(A1161,Liste!$B$179                         : Liste!$C$189,2),\"\")","v":""},null,null,{"$f":"IF(D1161>0,VLOOKUP(D1161,Liste!$A$10:$D$163,4),\"\")","v":""},null,null,null,""]
[null,{"$f":"IF(A1162>0,VLOOKUP(A1162,Liste!$B$179                         : Liste!$C$189,2),\"\")","v":""},null,null,{"$f":"IF(D1162>0,VLOOKUP(D1162,Liste!$A$10:$D$163,4),\"\")","v":""},null,null,null,""]
[null,{"$f":"IF(A1163>0,VLOOKUP(A1163,Liste!$B$179                         : Liste!$C$189,2),\"\")","v":""},null,null,{"$f":"IF(D1163>0,VLOOKUP(D1163,Liste!$A$10:$D$163,4),\"\")","v":""},null,null,null,""]
[null,{"$f":"IF(A1164>0,VLOOKUP(A1164,Liste!$B$179                         : Liste!$C$189,2),\"\")","v":""},null,null,{"$f":"IF(D1164>0,VLOOKUP(D1164,Liste!$A$10:$D$163,4),\"\")","v":""},null,null,null,""]
[null,{"$f":"IF(A1165>0,VLOOKUP(A1165,Liste!$B$179                         : Liste!$C$189,2),\"\")","v":""},null,null,{"$f":"IF(D1165>0,VLOOKUP(D1165,Liste!$A$10:$D$163,4),\"\")","v":""},null,null,null,""]
[null,{"$f":"IF(A1166>0,VLOOKUP(A1166,Liste!$B$179                         : Liste!$C$189,2),\"\")","v":""},null,null,{"$f":"IF(D1166>0,VLOOKUP(D1166,Liste!$A$10:$D$163,4),\"\")","v":""},null,null,null,""]
[null,{"$f":"IF(A1167>0,VLOOKUP(A1167,Liste!$B$179                         : Liste!$C$189,2),\"\")","v":""},null,null,{"$f":"IF(D1167>0,VLOOKUP(D1167,Liste!$A$10:$D$163,4),\"\")","v":""},null,null,null,""]
[null,{"$f":"IF(A1168>0,VLOOKUP(A1168,Liste!$B$179                         : Liste!$C$189,2),\"\")","v":""},null,null,{"$f":"IF(D1168>0,VLOOKUP(D1168,Liste!$A$10:$D$163,4),\"\")","v":""},null,null,null,""]
[null,{"$f":"IF(A1169>0,VLOOKUP(A1169,Liste!$B$179                         : Liste!$C$189,2),\"\")","v":""},null,null,{"$f":"IF(D1169>0,VLOOKUP(D1169,Liste!$A$10:$D$163,4),\"\")","v":""},null,null,null,""]
[null,{"$f":"IF(A1170>0,VLOOKUP(A1170,Liste!$B$179                         : Liste!$C$189,2),\"\")","v":""},null,null,{"$f":"IF(D1170>0,VLOOKUP(D1170,Liste!$A$10:$D$163,4),\"\")","v":""},null,null,null,""]
[null,{"$f":"IF(A1171>0,VLOOKUP(A1171,Liste!$B$179                         : Liste!$C$189,2),\"\")","v":""},null,null,{"$f":"IF(D1171>0,VLOOKUP(D1171,Liste!$A$10:$D$163,4),\"\")","v":""},null,null,null,""]
[null,{"$f":"IF(A1172>0,VLOOKUP(A1172,Liste!$B$179                         : Liste!$C$189,2),\"\")","v":""},null,null,{"$f":"IF(D1172>0,VLOOKUP(D1172,Liste!$A$10:$D$163,4),\"\")","v":""},null,null,null,""]
[null,{"$f":"IF(A1173>0,VLOOKUP(A1173,Liste!$B$179                         : Liste!$C$189,2),\"\")","v":""},null,null,{"$f":"IF(D1173>0,VLOOKUP(D1173,Liste!$A$10:$D$163,4),\"\")","v":""},null,null,null,""]
[null,{"$f":"IF(A1174>0,VLOOKUP(A1174,Liste!$B$179                         : Liste!$C$189,2),\"\")","v":""},null,null,{"$f":"IF(D1174>0,VLOOKUP(D1174,Liste!$A$10:$D$163,4),\"\")","v":""},null,null,null,""]
[null,{"$f":"IF(A1175>0,VLOOKUP(A1175,Liste!$B$179                         : Liste!$C$189,2),\"\")","v":""},null,null,{"$f":"IF(D1175>0,VLOOKUP(D1175,Liste!$A$10:$D$163,4),\"\")","v":""},null,null,null,""]
[null,{"$f":"IF(A1176>0,VLOOKUP(A1176,Liste!$B$179                         : Liste!$C$189,2),\"\")","v":""},null,null,{"$f":"IF(D1176>0,VLOOKUP(D1176,Liste!$A$10:$D$163,4),\"\")","v":""},null,null,null,""]
[null,{"$f":"IF(A1177>0,VLOOKUP(A1177,Liste!$B$179                         : Liste!$C$189,2),\"\")","v":""},null,null,{"$f":"IF(D1177>0,VLOOKUP(D1177,Liste!$A$10:$D$163,4),\"\")","v":""},null,null,null,""]
[null,{"$f":"IF(A1178>0,VLOOKUP(A1178,Liste!$B$179                         : Liste!$C$189,2),\"\")","v":""},null,null,{"$f":"IF(D1178>0,VLOOKUP(D1178,Liste!$A$10:$D$163,4),\"\")","v":""},null,null,null,""]
[null,{"$f":"IF(A1179>0,VLOOKUP(A1179,Liste!$B$179                         : Liste!$C$189,2),\"\")","v":""},null,null,{"$f":"IF(D1179>0,VLOOKUP(D1179,Liste!$A$10:$D$163,4),\"\")","v":""},null,null,null,""]
[null,{"$f":"IF(A1180>0,VLOOKUP(A1180,Liste!$B$179                         : Liste!$C$189,2),\"\")","v":""},null,null,{"$f":"IF(D1180>0,VLOOKUP(D1180,Liste!$A$10:$D$163,4),\"\")","v":""},null,null,null,""]
[null,{"$f":"IF(A1181>0,VLOOKUP(A1181,Liste!$B$179                         : Liste!$C$189,2),\"\")","v":""},null,null,{"$f":"IF(D1181>0,VLOOKUP(D1181,Liste!$A$10:$D$163,4),\"\")","v":""},null,null,null,""]
[null,{"$f":"IF(A1182>0,VLOOKUP(A1182,Liste!$B$179                         : Liste!$C$189,2),\"\")","v":""},null,null,{"$f":"IF(D1182>0,VLOOKUP(D1182,Liste!$A$10:$D$163,4),\"\")","v":""},null,null,null,""]
[null,{"$f":"IF(A1183>0,VLOOKUP(A1183,Liste!$B$179                         : Liste!$C$189,2),\"\")","v":""},null,null,{"$f":"IF(D1183>0,VLOOKUP(D1183,Liste!$A$10:$D$163,4),\"\")","v":""},null,null,null,""]
[null,{"$f":"IF(A1184>0,VLOOKUP(A1184,Liste!$B$179                         : Liste!$C$189,2),\"\")","v":""},null,null,{"$f":"IF(D1184>0,VLOOKUP(D1184,Liste!$A$10:$D$163,4),\"\")","v":""},null,null,null,""]
[null,{"$f":"IF(A1185>0,VLOOKUP(A1185,Liste!$B$179                         : Liste!$C$189,2),\"\")","v":""},null,null,{"$f":"IF(D1185>0,VLOOKUP(D1185,Liste!$A$10:$D$163,4),\"\")","v":""},null,null,null,""]
[null,{"$f":"IF(A1186>0,VLOOKUP(A1186,Liste!$B$179                         : Liste!$C$189,2),\"\")","v":""},null,null,{"$f":"IF(D1186>0,VLOOKUP(D1186,Liste!$A$10:$D$163,4),\"\")","v":""},null,null,null,""]
[null,{"$f":"IF(A1187>0,VLOOKUP(A1187,Liste!$B$179                         : Liste!$C$189,2),\"\")","v":""},null,null,{"$f":"IF(D1187>0,VLOOKUP(D1187,Liste!$A$10:$D$163,4),\"\")","v":""},null,null,null,""]
[null,{"$f":"IF(A1188>0,VLOOKUP(A1188,Liste!$B$179                         : Liste!$C$189,2),\"\")","v":""},null,null,{"$f":"IF(D1188>0,VLOOKUP(D1188,Liste!$A$10:$D$163,4),\"\")","v":""},null,null,null,""]
[null,{"$f":"IF(A1189>0,VLOOKUP(A1189,Liste!$B$179                         : Liste!$C$189,2),\"\")","v":""},null,null,{"$f":"IF(D1189>0,VLOOKUP(D1189,Liste!$A$10:$D$163,4),\"\")","v":""},null,null,null,""]
[null,{"$f":"IF(A1190>0,VLOOKUP(A1190,Liste!$B$179                         : Liste!$C$189,2),\"\")","v":""},null,null,{"$f":"IF(D1190>0,VLOOKUP(D1190,Liste!$A$10:$D$163,4),\"\")","v":""},null,null,null,""]
[null,{"$f":"IF(A1191>0,VLOOKUP(A1191,Liste!$B$179                         : Liste!$C$189,2),\"\")","v":""},null,null,{"$f":"IF(D1191>0,VLOOKUP(D1191,Liste!$A$10:$D$163,4),\"\")","v":""},null,null,null,""]
[null,{"$f":"IF(A1192>0,VLOOKUP(A1192,Liste!$B$179                         : Liste!$C$189,2),\"\")","v":""},null,null,{"$f":"IF(D1192>0,VLOOKUP(D1192,Liste!$A$10:$D$163,4),\"\")","v":""},null,null,null,""]
[null,{"$f":"IF(A1193>0,VLOOKUP(A1193,Liste!$B$179                         : Liste!$C$189,2),\"\")","v":""},null,null,{"$f":"IF(D1193>0,VLOOKUP(D1193,Liste!$A$10:$D$163,4),\"\")","v":""},null,null,null,""]
[null,{"$f":"IF(A1194>0,VLOOKUP(A1194,Liste!$B$179                         : Liste!$C$189,2),\"\")","v":""},null,null,{"$f":"IF(D1194>0,VLOOKUP(D1194,Liste!$A$10:$D$163,4),\"\")","v":""},null,null,null,""]
[null,{"$f":"IF(A1195>0,VLOOKUP(A1195,Liste!$B$179                         : Liste!$C$189,2),\"\")","v":""},null,null,{"$f":"IF(D1195>0,VLOOKUP(D1195,Liste!$A$10:$D$163,4),\"\")","v":""},null,null,null,""]
[null,{"$f":"IF(A1196>0,VLOOKUP(A1196,Liste!$B$179                         : Liste!$C$189,2),\"\")","v":""},null,null,{"$f":"IF(D1196>0,VLOOKUP(D1196,Liste!$A$10:$D$163,4),\"\")","v":""},null,null,null,""]
[null,{"$f":"IF(A1197>0,VLOOKUP(A1197,Liste!$B$179                         : Liste!$C$189,2),\"\")","v":""},null,null,{"$f":"IF(D1197>0,VLOOKUP(D1197,Liste!$A$10:$D$163,4),\"\")","v":""},null,null,null,""]
[null,{"$f":"IF(A1198>0,VLOOKUP(A1198,Liste!$B$179                         : Liste!$C$189,2),\"\")","v":""},null,null,{"$f":"IF(D1198>0,VLOOKUP(D1198,Liste!$A$10:$D$163,4),\"\")","v":""},null,null,null,""]
[null,{"$f":"IF(A1199>0,VLOOKUP(A1199,Liste!$B$179                         : Liste!$C$189,2),\"\")","v":""},null,null,{"$f":"IF(D1199>0,VLOOKUP(D1199,Liste!$A$10:$D$163,4),\"\")","v":""},null,null,null,""]
[null,{"$f":"IF(A1200>0,VLOOKUP(A1200,Liste!$B$179                         : Liste!$C$189,2),\"\")","v":""},null,null,{"$f":"IF(D1200>0,VLOOKUP(D1200,Liste!$A$10:$D$163,4),\"\")","v":""},null,null,null,""]
[null,{"$f":"IF(A1201>0,VLOOKUP(A1201,Liste!$B$179                         : Liste!$C$189,2),\"\")","v":""},null,null,{"$f":"IF(D1201>0,VLOOKUP(D1201,Liste!$A$10:$D$163,4),\"\")","v":""},null,null,null,""]
[null,{"$f":"IF(A1202>0,VLOOKUP(A1202,Liste!$B$179                         : Liste!$C$189,2),\"\")","v":""},null,null,{"$f":"IF(D1202>0,VLOOKUP(D1202,Liste!$A$10:$D$163,4),\"\")","v":""},null,null,null,""]
[null,{"$f":"IF(A1203>0,VLOOKUP(A1203,Liste!$B$179                         : Liste!$C$189,2),\"\")","v":""},null,null,{"$f":"IF(D1203>0,VLOOKUP(D1203,Liste!$A$10:$D$163,4),\"\")","v":""},null,null,null,""]
[null,{"$f":"IF(A1204>0,VLOOKUP(A1204,Liste!$B$179                         : Liste!$C$189,2),\"\")","v":""},null,null,{"$f":"IF(D1204>0,VLOOKUP(D1204,Liste!$A$10:$D$163,4),\"\")","v":""},null,null,null,""]
[null,{"$f":"IF(A1205>0,VLOOKUP(A1205,Liste!$B$179                         : Liste!$C$189,2),\"\")","v":""},null,null,{"$f":"IF(D1205>0,VLOOKUP(D1205,Liste!$A$10:$D$163,4),\"\")","v":""},null,null,null,""]
[null,{"$f":"IF(A1206>0,VLOOKUP(A1206,Liste!$B$179                         : Liste!$C$189,2),\"\")","v":""},null,null,{"$f":"IF(D1206>0,VLOOKUP(D1206,Liste!$A$10:$D$163,4),\"\")","v":""},null,null,null,""]
[null,{"$f":"IF(A1207>0,VLOOKUP(A1207,Liste!$B$179                         : Liste!$C$189,2),\"\")","v":""},null,null,{"$f":"IF(D1207>0,VLOOKUP(D1207,Liste!$A$10:$D$163,4),\"\")","v":""},null,null,null,""]
[null,{"$f":"IF(A1208>0,VLOOKUP(A1208,Liste!$B$179                         : Liste!$C$189,2),\"\")","v":""},null,null,{"$f":"IF(D1208>0,VLOOKUP(D1208,Liste!$A$10:$D$163,4),\"\")","v":""},null,null,null,""]
[null,{"$f":"IF(A1209>0,VLOOKUP(A1209,Liste!$B$179                         : Liste!$C$189,2),\"\")","v":""},null,null,{"$f":"IF(D1209>0,VLOOKUP(D1209,Liste!$A$10:$D$163,4),\"\")","v":""},null,null,null,""]
[null,{"$f":"IF(A1210>0,VLOOKUP(A1210,Liste!$B$179                         : Liste!$C$189,2),\"\")","v":""},null,null,{"$f":"IF(D1210>0,VLOOKUP(D1210,Liste!$A$10:$D$163,4),\"\")","v":""},null,null,null,""]
[null,{"$f":"IF(A1211>0,VLOOKUP(A1211,Liste!$B$179                         : Liste!$C$189,2),\"\")","v":""},null,null,{"$f":"IF(D1211>0,VLOOKUP(D1211,Liste!$A$10:$D$163,4),\"\")","v":""},null,null,null,""]
[null,{"$f":"IF(A1212>0,VLOOKUP(A1212,Liste!$B$179                         : Liste!$C$189,2),\"\")","v":""},null,null,{"$f":"IF(D1212>0,VLOOKUP(D1212,Liste!$A$10:$D$163,4),\"\")","v":""},null,null,null,""]
[null,{"$f":"IF(A1213>0,VLOOKUP(A1213,Liste!$B$179                         : Liste!$C$189,2),\"\")","v":""},null,null,{"$f":"IF(D1213>0,VLOOKUP(D1213,Liste!$A$10:$D$163,4),\"\")","v":""},null,null,null,""]
[null,{"$f":"IF(A1214>0,VLOOKUP(A1214,Liste!$B$179                         : Liste!$C$189,2),\"\")","v":""},null,null,{"$f":"IF(D1214>0,VLOOKUP(D1214,Liste!$A$10:$D$163,4),\"\")","v":""},null,null,null,""]
[null,{"$f":"IF(A1215>0,VLOOKUP(A1215,Liste!$B$179                         : Liste!$C$189,2),\"\")","v":""},null,null,{"$f":"IF(D1215>0,VLOOKUP(D1215,Liste!$A$10:$D$163,4),\"\")","v":""},null,null,null,""]
[null,{"$f":"IF(A1216>0,VLOOKUP(A1216,Liste!$B$179                         : Liste!$C$189,2),\"\")","v":""},null,null,{"$f":"IF(D1216>0,VLOOKUP(D1216,Liste!$A$10:$D$163,4),\"\")","v":""},null,null,null,""]
[null,{"$f":"IF(A1217>0,VLOOKUP(A1217,Liste!$B$179                         : Liste!$C$189,2),\"\")","v":""},null,null,{"$f":"IF(D1217>0,VLOOKUP(D1217,Liste!$A$10:$D$163,4),\"\")","v":""},null,null,null,""]
[null,{"$f":"IF(A1218>0,VLOOKUP(A1218,Liste!$B$179                         : Liste!$C$189,2),\"\")","v":""},null,null,{"$f":"IF(D1218>0,VLOOKUP(D1218,Liste!$A$10:$D$163,4),\"\")","v":""},null,null,null,""]
[null,{"$f":"IF(A1219>0,VLOOKUP(A1219,Liste!$B$179                         : Liste!$C$189,2),\"\")","v":""},null,null,{"$f":"IF(D1219>0,VLOOKUP(D1219,Liste!$A$10:$D$163,4),\"\")","v":""},null,null,null,""]
[null,{"$f":"IF(A1220>0,VLOOKUP(A1220,Liste!$B$179                         : Liste!$C$189,2),\"\")","v":""},null,null,{"$f":"IF(D1220>0,VLOOKUP(D1220,Liste!$A$10:$D$163,4),\"\")","v":""},null,null,null,""]
[null,{"$f":"IF(A1221>0,VLOOKUP(A1221,Liste!$B$179                         : Liste!$C$189,2),\"\")","v":""},null,null,{"$f":"IF(D1221>0,VLOOKUP(D1221,Liste!$A$10:$D$163,4),\"\")","v":""},null,null,null,""]
[null,{"$f":"IF(A1222>0,VLOOKUP(A1222,Liste!$B$179                         : Liste!$C$189,2),\"\")","v":""},null,null,{"$f":"IF(D1222>0,VLOOKUP(D1222,Liste!$A$10:$D$163,4),\"\")","v":""},null,null,null,{"$f":"IF(AND(D1222>0,F1222+G1222+H1222=0),\"EN ATTENTE\",IF(F1222+G1222+H1222>1,\"ERREUR\",\"\"))","v":""}]
[null,{"$f":"IF(A1223>0,VLOOKUP(A1223,Liste!$B$179                         : Liste!$C$189,2),\"\")","v":""},null,null,{"$f":"IF(D1223>0,VLOOKUP(D1223,Liste!$A$10:$D$163,4),\"\")","v":""},null,null,null,""]
[null,{"$f":"IF(A1224>0,VLOOKUP(A1224,Liste!$B$179                         : Liste!$C$189,2),\"\")","v":""},null,null,{"$f":"IF(D1224>0,VLOOKUP(D1224,Liste!$A$10:$D$163,4),\"\")","v":""},null,null,null,""]
[null,{"$f":"IF(A1225>0,VLOOKUP(A1225,Liste!$B$179                         : Liste!$C$189,2),\"\")","v":""},null,null,{"$f":"IF(D1225>0,VLOOKUP(D1225,Liste!$A$10:$D$163,4),\"\")","v":""},null,null,null,""]
[null,{"$f":"IF(A1226>0,VLOOKUP(A1226,Liste!$B$179                         : Liste!$C$189,2),\"\")","v":""},null,null,{"$f":"IF(D1226>0,VLOOKUP(D1226,Liste!$A$10:$D$163,4),\"\")","v":""},null,null,null,""]
[null,{"$f":"IF(A1227>0,VLOOKUP(A1227,Liste!$B$179                         : Liste!$C$189,2),\"\")","v":""},null,null,{"$f":"IF(D1227>0,VLOOKUP(D1227,Liste!$A$10:$D$163,4),\"\")","v":""},null,null,null,""]
[null,{"$f":"IF(A1228>0,VLOOKUP(A1228,Liste!$B$179                         : Liste!$C$189,2),\"\")","v":""},null,null,{"$f":"IF(D1228>0,VLOOKUP(D1228,Liste!$A$10:$D$163,4),\"\")","v":""},null,null,null,""]
[null,{"$f":"IF(A1229>0,VLOOKUP(A1229,Liste!$B$179                         : Liste!$C$189,2),\"\")","v":""},null,null,{"$f":"IF(D1229>0,VLOOKUP(D1229,Liste!$A$10:$D$163,4),\"\")","v":""},null,null,null,""]
[null,{"$f":"IF(A1230>0,VLOOKUP(A1230,Liste!$B$179                         : Liste!$C$189,2),\"\")","v":""},null,null,{"$f":"IF(D1230>0,VLOOKUP(D1230,Liste!$A$10:$D$163,4),\"\")","v":""},null,null,null,""]
[null,{"$f":"IF(A1231>0,VLOOKUP(A1231,Liste!$B$179                         : Liste!$C$189,2),\"\")","v":""},null,null,{"$f":"IF(D1231>0,VLOOKUP(D1231,Liste!$A$10:$D$163,4),\"\")","v":""},null,null,null,""]
[null,{"$f":"IF(A1232>0,VLOOKUP(A1232,Liste!$B$179                         : Liste!$C$189,2),\"\")","v":""},null,null,{"$f":"IF(D1232>0,VLOOKUP(D1232,Liste!$A$10:$D$163,4),\"\")","v":""},null,null,null,""]
[null,{"$f":"IF(A1233>0,VLOOKUP(A1233,Liste!$B$179                         : Liste!$C$189,2),\"\")","v":""},null,null,{"$f":"IF(D1233>0,VLOOKUP(D1233,Liste!$A$10:$D$163,4),\"\")","v":""},null,null,null,""]
[null,{"$f":"IF(A1234>0,VLOOKUP(A1234,Liste!$B$179                         : Liste!$C$189,2),\"\")","v":""},null,null,{"$f":"IF(D1234>0,VLOOKUP(D1234,Liste!$A$10:$D$163,4),\"\")","v":""},null,null,null,""]
[null,{"$f":"IF(A1235>0,VLOOKUP(A1235,Liste!$B$179                         : Liste!$C$189,2),\"\")","v":""},null,null,{"$f":"IF(D1235>0,VLOOKUP(D1235,Liste!$A$10:$D$163,4),\"\")","v":""},null,null,null,""]
[null,{"$f":"IF(A1236>0,VLOOKUP(A1236,Liste!$B$179                         : Liste!$C$189,2),\"\")","v":""},null,null,{"$f":"IF(D1236>0,VLOOKUP(D1236,Liste!$A$10:$D$163,4),\"\")","v":""},null,null,null,""]
[null,{"$f":"IF(A1237>0,VLOOKUP(A1237,Liste!$B$179                         : Liste!$C$189,2),\"\")","v":""},null,null,{"$f":"IF(D1237>0,VLOOKUP(D1237,Liste!$A$10:$D$163,4),\"\")","v":""},null,null,null,""]
[null,{"$f":"IF(A1238>0,VLOOKUP(A1238,Liste!$B$179                         : Liste!$C$189,2),\"\")","v":""},null,null,{"$f":"IF(D1238>0,VLOOKUP(D1238,Liste!$A$10:$D$163,4),\"\")","v":""},null,null,null,""]
[null,{"$f":"IF(A1239>0,VLOOKUP(A1239,Liste!$B$179                         : Liste!$C$189,2),\"\")","v":""},null,null,{"$f":"IF(D1239>0,VLOOKUP(D1239,Liste!$A$10:$D$163,4),\"\")","v":""},null,null,null,""]
[null,{"$f":"IF(A1240>0,VLOOKUP(A1240,Liste!$B$179                         : Liste!$C$189,2),\"\")","v":""},null,null,{"$f":"IF(D1240>0,VLOOKUP(D1240,Liste!$A$10:$D$163,4),\"\")","v":""},null,null,null,""]
[null,{"$f":"IF(A1241>0,VLOOKUP(A1241,Liste!$B$179                         : Liste!$C$189,2),\"\")","v":""},null,null,{"$f":"IF(D1241>0,VLOOKUP(D1241,Liste!$A$10:$D$163,4),\"\")","v":""},null,null,null,""]
[null,{"$f":"IF(A1242>0,VLOOKUP(A1242,Liste!$B$179                         : Liste!$C$189,2),\"\")","v":""},null,null,{"$f":"IF(D1242>0,VLOOKUP(D1242,Liste!$A$10:$D$163,4),\"\")","v":""},null,null,null,""]
[null,{"$f":"IF(A1243>0,VLOOKUP(A1243,Liste!$B$179                         : Liste!$C$189,2),\"\")","v":""},null,null,{"$f":"IF(D1243>0,VLOOKUP(D1243,Liste!$A$10:$D$163,4),\"\")","v":""},null,null,null,""]
[null,{"$f":"IF(A1244>0,VLOOKUP(A1244,Liste!$B$179                         : Liste!$C$189,2),\"\")","v":""},null,null,{"$f":"IF(D1244>0,VLOOKUP(D1244,Liste!$A$10:$D$163,4),\"\")","v":""},null,null,null,""]
[null,{"$f":"IF(A1245>0,VLOOKUP(A1245,Liste!$B$179                         : Liste!$C$189,2),\"\")","v":""},null,null,{"$f":"IF(D1245>0,VLOOKUP(D1245,Liste!$A$10:$D$163,4),\"\")","v":""},null,null,null,""]
[null,{"$f":"IF(A1246>0,VLOOKUP(A1246,Liste!$B$179                         : Liste!$C$189,2),\"\")","v":""},null,null,{"$f":"IF(D1246>0,VLOOKUP(D1246,Liste!$A$10:$D$163,4),\"\")","v":""},null,null,null,""]
[null,{"$f":"IF(A1247>0,VLOOKUP(A1247,Liste!$B$179                         : Liste!$C$189,2),\"\")","v":""},null,null,{"$f":"IF(D1247>0,VLOOKUP(D1247,Liste!$A$10:$D$163,4),\"\")","v":""},null,null,null,""]
[null,{"$f":"IF(A1248>0,VLOOKUP(A1248,Liste!$B$179                         : Liste!$C$189,2),\"\")","v":""},null,null,{"$f":"IF(D1248>0,VLOOKUP(D1248,Liste!$A$10:$D$163,4),\"\")","v":""},null,null,null,""]
[null,{"$f":"IF(A1249>0,VLOOKUP(A1249,Liste!$B$179                         : Liste!$C$189,2),\"\")","v":""},null,null,{"$f":"IF(D1249>0,VLOOKUP(D1249,Liste!$A$10:$D$163,4),\"\")","v":""},null,null,null,""]
[null,{"$f":"IF(A1250>0,VLOOKUP(A1250,Liste!$B$179                         : Liste!$C$189,2),\"\")","v":""},null,null,{"$f":"IF(D1250>0,VLOOKUP(D1250,Liste!$A$10:$D$163,4),\"\")","v":""},null,null,null,""]
[null,{"$f":"IF(A1251>0,VLOOKUP(A1251,Liste!$B$179                         : Liste!$C$189,2),\"\")","v":""},null,null,{"$f":"IF(D1251>0,VLOOKUP(D1251,Liste!$A$10:$D$163,4),\"\")","v":""},null,null,null,""]
[null,{"$f":"IF(A1252>0,VLOOKUP(A1252,Liste!$B$179                         : Liste!$C$189,2),\"\")","v":""},null,null,{"$f":"IF(D1252>0,VLOOKUP(D1252,Liste!$A$10:$D$163,4),\"\")","v":""},null,null,null,""]
[null,{"$f":"IF(A1253>0,VLOOKUP(A1253,Liste!$B$179                         : Liste!$C$189,2),\"\")","v":""},null,null,{"$f":"IF(D1253>0,VLOOKUP(D1253,Liste!$A$10:$D$163,4),\"\")","v":""},null,null,null,""]
[null,{"$f":"IF(A1254>0,VLOOKUP(A1254,Liste!$B$179                         : Liste!$C$189,2),\"\")","v":""},null,null,{"$f":"IF(D1254>0,VLOOKUP(D1254,Liste!$A$10:$D$163,4),\"\")","v":""},null,null,null,""]
[null,{"$f":"IF(A1255>0,VLOOKUP(A1255,Liste!$B$179                         : Liste!$C$189,2),\"\")","v":""},null,null,{"$f":"IF(D1255>0,VLOOKUP(D1255,Liste!$A$10:$D$163,4),\"\")","v":""},null,null,null,""]
[null,{"$f":"IF(A1256>0,VLOOKUP(A1256,Liste!$B$179                         : Liste!$C$189,2),\"\")","v":""},null,null,{"$f":"IF(D1256>0,VLOOKUP(D1256,Liste!$A$10:$D$163,4),\"\")","v":""},null,null,null,""]
[null,{"$f":"IF(A1257>0,VLOOKUP(A1257,Liste!$B$179                         : Liste!$C$189,2),\"\")","v":""},null,null,{"$f":"IF(D1257>0,VLOOKUP(D1257,Liste!$A$10:$D$163,4),\"\")","v":""},null,null,null,""]
[null,{"$f":"IF(A1258>0,VLOOKUP(A1258,Liste!$B$179                         : Liste!$C$189,2),\"\")","v":""},null,null,{"$f":"IF(D1258>0,VLOOKUP(D1258,Liste!$A$10:$D$163,4),\"\")","v":""},null,null,null,""]
[null,{"$f":"IF(A1259>0,VLOOKUP(A1259,Liste!$B$179                         : Liste!$C$189,2),\"\")","v":""},null,null,{"$f":"IF(D1259>0,VLOOKUP(D1259,Liste!$A$10:$D$163,4),\"\")","v":""},null,null,null,""]
[null,{"$f":"IF(A1260>0,VLOOKUP(A1260,Liste!$B$179                         : Liste!$C$189,2),\"\")","v":""},null,null,{"$f":"IF(D1260>0,VLOOKUP(D1260,Liste!$A$10:$D$163,4),\"\")","v":""},null,null,null,""]
[null,{"$f":"IF(A1261>0,VLOOKUP(A1261,Liste!$B$179                         : Liste!$C$189,2),\"\")","v":""},null,null,{"$f":"IF(D1261>0,VLOOKUP(D1261,Liste!$A$10:$D$163,4),\"\")","v":""},null,null,null,""]
[null,{"$f":"IF(A1262>0,VLOOKUP(A1262,Liste!$B$179                         : Liste!$C$189,2),\"\")","v":""},null,null,{"$f":"IF(D1262>0,VLOOKUP(D1262,Liste!$A$10:$D$163,4),\"\")","v":""},null,null,null,""]
[null,{"$f":"IF(A1263>0,VLOOKUP(A1263,Liste!$B$179                         : Liste!$C$189,2),\"\")","v":""},null,null,{"$f":"IF(D1263>0,VLOOKUP(D1263,Liste!$A$10:$D$163,4),\"\")","v":""},null,null,null,""]
[null,{"$f":"IF(A1264>0,VLOOKUP(A1264,Liste!$B$179                         : Liste!$C$189,2),\"\")","v":""},null,null,{"$f":"IF(D1264>0,VLOOKUP(D1264,Liste!$A$10:$D$163,4),\"\")","v":""},null,null,null,""]
[null,{"$f":"IF(A1265>0,VLOOKUP(A1265,Liste!$B$179                         : Liste!$C$189,2),\"\")","v":""},null,null,{"$f":"IF(D1265>0,VLOOKUP(D1265,Liste!$A$10:$D$163,4),\"\")","v":""},null,null,null,""]
[null,{"$f":"IF(A1266>0,VLOOKUP(A1266,Liste!$B$179                         : Liste!$C$189,2),\"\")","v":""},null,null,{"$f":"IF(D1266>0,VLOOKUP(D1266,Liste!$A$10:$D$163,4),\"\")","v":""},null,null,null,""]
[null,{"$f":"IF(A1267>0,VLOOKUP(A1267,Liste!$B$179                         : Liste!$C$189,2),\"\")","v":""},null,null,{"$f":"IF(D1267>0,VLOOKUP(D1267,Liste!$A$10:$D$163,4),\"\")","v":""},null,null,null,""]
[null,{"$f":"IF(A1268>0,VLOOKUP(A1268,Liste!$B$179                         : Liste!$C$189,2),\"\")","v":""},null,null,{"$f":"IF(D1268>0,VLOOKUP(D1268,Liste!$A$10:$D$163,4),\"\")","v":""},null,null,null,""]
[null,{"$f":"IF(A1269>0,VLOOKUP(A1269,Liste!$B$179                         : Liste!$C$189,2),\"\")","v":""},null,null,{"$f":"IF(D1269>0,VLOOKUP(D1269,Liste!$A$10:$D$163,4),\"\")","v":""},null,null,null,""]
[null,{"$f":"IF(A1270>0,VLOOKUP(A1270,Liste!$B$179                         : Liste!$C$189,2),\"\")","v":""},null,null,{"$f":"IF(D1270>0,VLOOKUP(D1270,Liste!$A$10:$D$163,4),\"\")","v":""},null,null,null,""]
[null,{"$f":"IF(A1271>0,VLOOKUP(A1271,Liste!$B$179                         : Liste!$C$189,2),\"\")","v":""},null,null,{"$f":"IF(D1271>0,VLOOKUP(D1271,Liste!$A$10:$D$163,4),\"\")","v":""},null,null,null,""]
[null,{"$f":"IF(A1272>0,VLOOKUP(A1272,Liste!$B$179                         : Liste!$C$189,2),\"\")","v":""},null,null,{"$f":"IF(D1272>0,VLOOKUP(D1272,Liste!$A$10:$D$163,4),\"\")","v":""},null,null,null,""]
[null,{"$f":"IF(A1273>0,VLOOKUP(A1273,Liste!$B$179                         : Liste!$C$189,2),\"\")","v":""},null,null,{"$f":"IF(D1273>0,VLOOKUP(D1273,Liste!$A$10:$D$163,4),\"\")","v":""},null,null,null,""]
[null,{"$f":"IF(A1274>0,VLOOKUP(A1274,Liste!$B$179                         : Liste!$C$189,2),\"\")","v":""},null,null,{"$f":"IF(D1274>0,VLOOKUP(D1274,Liste!$A$10:$D$163,4),\"\")","v":""},null,null,null,""]
[null,{"$f":"IF(A1275>0,VLOOKUP(A1275,Liste!$B$179                         : Liste!$C$189,2),\"\")","v":""},null,null,{"$f":"IF(D1275>0,VLOOKUP(D1275,Liste!$A$10:$D$163,4),\"\")","v":""},null,null,null,""]
[null,{"$f":"IF(A1276>0,VLOOKUP(A1276,Liste!$B$179                         : Liste!$C$189,2),\"\")","v":""},null,null,{"$f":"IF(D1276>0,VLOOKUP(D1276,Liste!$A$10:$D$163,4),\"\")","v":""},null,null,null,""]
[null,{"$f":"IF(A1277>0,VLOOKUP(A1277,Liste!$B$179                         : Liste!$C$189,2),\"\")","v":""},null,null,{"$f":"IF(D1277>0,VLOOKUP(D1277,Liste!$A$10:$D$163,4),\"\")","v":""},null,null,null,""]
[null,{"$f":"IF(A1278>0,VLOOKUP(A1278,Liste!$B$179                         : Liste!$C$189,2),\"\")","v":""},null,null,{"$f":"IF(D1278>0,VLOOKUP(D1278,Liste!$A$10:$D$163,4),\"\")","v":""},null,null,null,""]
[null,{"$f":"IF(A1279>0,VLOOKUP(A1279,Liste!$B$179                         : Liste!$C$189,2),\"\")","v":""},null,null,{"$f":"IF(D1279>0,VLOOKUP(D1279,Liste!$A$10:$D$163,4),\"\")","v":""},null,null,null,""]
[null,{"$f":"IF(A1280>0,VLOOKUP(A1280,Liste!$B$179                         : Liste!$C$189,2),\"\")","v":""},null,null,{"$f":"IF(D1280>0,VLOOKUP(D1280,Liste!$A$10:$D$163,4),\"\")","v":""},null,null,null,""]
[null,{"$f":"IF(A1281>0,VLOOKUP(A1281,Liste!$B$179                         : Liste!$C$189,2),\"\")","v":""},null,null,{"$f":"IF(D1281>0,VLOOKUP(D1281,Liste!$A$10:$D$163,4),\"\")","v":""},null,null,null,""]
[null,{"$f":"IF(A1282>0,VLOOKUP(A1282,Liste!$B$179                         : Liste!$C$189,2),\"\")","v":""},null,null,{"$f":"IF(D1282>0,VLOOKUP(D1282,Liste!$A$10:$D$163,4),\"\")","v":""},null,null,null,""]
[null,{"$f":"IF(A1283>0,VLOOKUP(A1283,Liste!$B$179                         : Liste!$C$189,2),\"\")","v":""},null,null,{"$f":"IF(D1283>0,VLOOKUP(D1283,Liste!$A$10:$D$163,4),\"\")","v":""},null,null,null,""]
[null,{"$f":"IF(A1284>0,VLOOKUP(A1284,Liste!$B$179                         : Liste!$C$189,2),\"\")","v":""},null,null,{"$f":"IF(D1284>0,VLOOKUP(D1284,Liste!$A$10:$D$163,4),\"\")","v":""},null,null,null,""]
[null,{"$f":"IF(A1285>0,VLOOKUP(A1285,Liste!$B$179                         : Liste!$C$189,2),\"\")","v":""},null,null,{"$f":"IF(D1285>0,VLOOKUP(D1285,Liste!$A$10:$D$163,4),\"\")","v":""},null,null,null,""]
[null,{"$f":"IF(A1286>0,VLOOKUP(A1286,Liste!$B$179                         : Liste!$C$189,2),\"\")","v":""},null,null,{"$f":"IF(D1286>0,VLOOKUP(D1286,Liste!$A$10:$D$163,4),\"\")","v":""},null,null,null,{"$f":"IF(AND(D1286>0,F1286+G1286+H1286=0),\"EN ATTENTE\",IF(F1286+G1286+H1286>1,\"ERREUR\",\"\"))","v":""}]
[null,{"$f":"IF(A1287>0,VLOOKUP(A1287,Liste!$B$179                         : Liste!$C$189,2),\"\")","v":""},null,null,{"$f":"IF(D1287>0,VLOOKUP(D1287,Liste!$A$10:$D$163,4),\"\")","v":""},null,null,null,""]
[null,{"$f":"IF(A1288>0,VLOOKUP(A1288,Liste!$B$179                         : Liste!$C$189,2),\"\")","v":""},null,null,{"$f":"IF(D1288>0,VLOOKUP(D1288,Liste!$A$10:$D$163,4),\"\")","v":""},null,null,null,""]
[null,{"$f":"IF(A1289>0,VLOOKUP(A1289,Liste!$B$179                         : Liste!$C$189,2),\"\")","v":""},null,null,{"$f":"IF(D1289>0,VLOOKUP(D1289,Liste!$A$10:$D$163,4),\"\")","v":""},null,null,null,""]
[null,{"$f":"IF(A1290>0,VLOOKUP(A1290,Liste!$B$179                         : Liste!$C$189,2),\"\")","v":""},null,null,{"$f":"IF(D1290>0,VLOOKUP(D1290,Liste!$A$10:$D$163,4),\"\")","v":""},null,null,null,""]
[null,{"$f":"IF(A1291>0,VLOOKUP(A1291,Liste!$B$179                         : Liste!$C$189,2),\"\")","v":""},null,null,{"$f":"IF(D1291>0,VLOOKUP(D1291,Liste!$A$10:$D$163,4),\"\")","v":""},null,null,null,""]
[null,{"$f":"IF(A1292>0,VLOOKUP(A1292,Liste!$B$179                         : Liste!$C$189,2),\"\")","v":""},null,null,{"$f":"IF(D1292>0,VLOOKUP(D1292,Liste!$A$10:$D$163,4),\"\")","v":""},null,null,null,""]
[null,{"$f":"IF(A1293>0,VLOOKUP(A1293,Liste!$B$179                         : Liste!$C$189,2),\"\")","v":""},null,null,{"$f":"IF(D1293>0,VLOOKUP(D1293,Liste!$A$10:$D$163,4),\"\")","v":""},null,null,null,""]
[null,{"$f":"IF(A1294>0,VLOOKUP(A1294,Liste!$B$179                         : Liste!$C$189,2),\"\")","v":""},null,null,{"$f":"IF(D1294>0,VLOOKUP(D1294,Liste!$A$10:$D$163,4),\"\")","v":""},null,null,null,""]
[null,{"$f":"IF(A1295>0,VLOOKUP(A1295,Liste!$B$179                         : Liste!$C$189,2),\"\")","v":""},null,null,{"$f":"IF(D1295>0,VLOOKUP(D1295,Liste!$A$10:$D$163,4),\"\")","v":""},null,null,null,""]
[null,{"$f":"IF(A1296>0,VLOOKUP(A1296,Liste!$B$179                         : Liste!$C$189,2),\"\")","v":""},null,null,{"$f":"IF(D1296>0,VLOOKUP(D1296,Liste!$A$10:$D$163,4),\"\")","v":""},null,null,null,""]
[null,{"$f":"IF(A1297>0,VLOOKUP(A1297,Liste!$B$179                         : Liste!$C$189,2),\"\")","v":""},null,null,{"$f":"IF(D1297>0,VLOOKUP(D1297,Liste!$A$10:$D$163,4),\"\")","v":""},null,null,null,""]
[null,{"$f":"IF(A1298>0,VLOOKUP(A1298,Liste!$B$179                         : Liste!$C$189,2),\"\")","v":""},null,null,{"$f":"IF(D1298>0,VLOOKUP(D1298,Liste!$A$10:$D$163,4),\"\")","v":""},null,null,null,""]
[null,{"$f":"IF(A1299>0,VLOOKUP(A1299,Liste!$B$179                         : Liste!$C$189,2),\"\")","v":""},null,null,{"$f":"IF(D1299>0,VLOOKUP(D1299,Liste!$A$10:$D$163,4),\"\")","v":""},null,null,null,""]
[null,{"$f":"IF(A1300>0,VLOOKUP(A1300,Liste!$B$179                         : Liste!$C$189,2),\"\")","v":""},null,null,{"$f":"IF(D1300>0,VLOOKUP(D1300,Liste!$A$10:$D$163,4),\"\")","v":""},null,null,null,""]
[null,{"$f":"IF(A1301>0,VLOOKUP(A1301,Liste!$B$179                         : Liste!$C$189,2),\"\")","v":""},null,null,{"$f":"IF(D1301>0,VLOOKUP(D1301,Liste!$A$10:$D$163,4),\"\")","v":""},null,null,null,""]
[null,{"$f":"IF(A1302>0,VLOOKUP(A1302,Liste!$B$179                         : Liste!$C$189,2),\"\")","v":""},null,null,{"$f":"IF(D1302>0,VLOOKUP(D1302,Liste!$A$10:$D$163,4),\"\")","v":""},null,null,null,""]
[null,{"$f":"IF(A1303>0,VLOOKUP(A1303,Liste!$B$179                         : Liste!$C$189,2),\"\")","v":""},null,null,{"$f":"IF(D1303>0,VLOOKUP(D1303,Liste!$A$10:$D$163,4),\"\")","v":""},null,null,null,""]
[null,{"$f":"IF(A1304>0,VLOOKUP(A1304,Liste!$B$179                         : Liste!$C$189,2),\"\")","v":""},null,null,{"$f":"IF(D1304>0,VLOOKUP(D1304,Liste!$A$10:$D$163,4),\"\")","v":""},null,null,null,""]
[null,{"$f":"IF(A1305>0,VLOOKUP(A1305,Liste!$B$179                         : Liste!$C$189,2),\"\")","v":""},null,null,{"$f":"IF(D1305>0,VLOOKUP(D1305,Liste!$A$10:$D$163,4),\"\")","v":""},null,null,null,""]
[null,{"$f":"IF(A1306>0,VLOOKUP(A1306,Liste!$B$179                         : Liste!$C$189,2),\"\")","v":""},null,null,{"$f":"IF(D1306>0,VLOOKUP(D1306,Liste!$A$10:$D$163,4),\"\")","v":""},null,null,null,""]
[null,{"$f":"IF(A1307>0,VLOOKUP(A1307,Liste!$B$179                         : Liste!$C$189,2),\"\")","v":""},null,null,{"$f":"IF(D1307>0,VLOOKUP(D1307,Liste!$A$10:$D$163,4),\"\")","v":""},null,null,null,""]
[null,{"$f":"IF(A1308>0,VLOOKUP(A1308,Liste!$B$179                         : Liste!$C$189,2),\"\")","v":""},null,null,{"$f":"IF(D1308>0,VLOOKUP(D1308,Liste!$A$10:$D$163,4),\"\")","v":""},null,null,null,""]
[null,{"$f":"IF(A1309>0,VLOOKUP(A1309,Liste!$B$179                         : Liste!$C$189,2),\"\")","v":""},null,null,{"$f":"IF(D1309>0,VLOOKUP(D1309,Liste!$A$10:$D$163,4),\"\")","v":""},null,null,null,""]
[null,{"$f":"IF(A1310>0,VLOOKUP(A1310,Liste!$B$179                         : Liste!$C$189,2),\"\")","v":""},null,null,{"$f":"IF(D1310>0,VLOOKUP(D1310,Liste!$A$10:$D$163,4),\"\")","v":""},null,null,null,""]
[null,{"$f":"IF(A1311>0,VLOOKUP(A1311,Liste!$B$179                         : Liste!$C$189,2),\"\")","v":""},null,null,{"$f":"IF(D1311>0,VLOOKUP(D1311,Liste!$A$10:$D$163,4),\"\")","v":""},null,null,null,""]
[null,{"$f":"IF(A1312>0,VLOOKUP(A1312,Liste!$B$179                         : Liste!$C$189,2),\"\")","v":""},null,null,{"$f":"IF(D1312>0,VLOOKUP(D1312,Liste!$A$10:$D$163,4),\"\")","v":""},null,null,null,""]
[null,{"$f":"IF(A1313>0,VLOOKUP(A1313,Liste!$B$179                         : Liste!$C$189,2),\"\")","v":""},null,null,{"$f":"IF(D1313>0,VLOOKUP(D1313,Liste!$A$10:$D$163,4),\"\")","v":""},null,null,null,""]
[null,{"$f":"IF(A1314>0,VLOOKUP(A1314,Liste!$B$179                         : Liste!$C$189,2),\"\")","v":""},null,null,{"$f":"IF(D1314>0,VLOOKUP(D1314,Liste!$A$10:$D$163,4),\"\")","v":""},null,null,null,""]
[null,{"$f":"IF(A1315>0,VLOOKUP(A1315,Liste!$B$179                         : Liste!$C$189,2),\"\")","v":""},null,null,{"$f":"IF(D1315>0,VLOOKUP(D1315,Liste!$A$10:$D$163,4),\"\")","v":""},null,null,null,""]
[null,{"$f":"IF(A1316>0,VLOOKUP(A1316,Liste!$B$179                         : Liste!$C$189,2),\"\")","v":""},null,null,{"$f":"IF(D1316>0,VLOOKUP(D1316,Liste!$A$10:$D$163,4),\"\")","v":""},null,null,null,""]
[null,{"$f":"IF(A1317>0,VLOOKUP(A1317,Liste!$B$179                         : Liste!$C$189,2),\"\")","v":""},null,null,{"$f":"IF(D1317>0,VLOOKUP(D1317,Liste!$A$10:$D$163,4),\"\")","v":""},null,null,null,""]
[null,{"$f":"IF(A1318>0,VLOOKUP(A1318,Liste!$B$179                         : Liste!$C$189,2),\"\")","v":""},null,null,{"$f":"IF(D1318>0,VLOOKUP(D1318,Liste!$A$10:$D$163,4),\"\")","v":""},null,null,null,""]
[null,{"$f":"IF(A1319>0,VLOOKUP(A1319,Liste!$B$179                         : Liste!$C$189,2),\"\")","v":""},null,null,{"$f":"IF(D1319>0,VLOOKUP(D1319,Liste!$A$10:$D$163,4),\"\")","v":""},null,null,null,""]
[null,{"$f":"IF(A1320>0,VLOOKUP(A1320,Liste!$B$179                         : Liste!$C$189,2),\"\")","v":""},null,null,{"$f":"IF(D1320>0,VLOOKUP(D1320,Liste!$A$10:$D$163,4),\"\")","v":""},null,null,null,""]
[null,{"$f":"IF(A1321>0,VLOOKUP(A1321,Liste!$B$179                         : Liste!$C$189,2),\"\")","v":""},null,null,{"$f":"IF(D1321>0,VLOOKUP(D1321,Liste!$A$10:$D$163,4),\"\")","v":""},null,null,null,""]
[null,{"$f":"IF(A1322>0,VLOOKUP(A1322,Liste!$B$179                         : Liste!$C$189,2),\"\")","v":""},null,null,{"$f":"IF(D1322>0,VLOOKUP(D1322,Liste!$A$10:$D$163,4),\"\")","v":""},null,null,null,""]
[null,{"$f":"IF(A1323>0,VLOOKUP(A1323,Liste!$B$179                         : Liste!$C$189,2),\"\")","v":""},null,null,{"$f":"IF(D1323>0,VLOOKUP(D1323,Liste!$A$10:$D$163,4),\"\")","v":""},null,null,null,""]
[null,{"$f":"IF(A1324>0,VLOOKUP(A1324,Liste!$B$179                         : Liste!$C$189,2),\"\")","v":""},null,null,{"$f":"IF(D1324>0,VLOOKUP(D1324,Liste!$A$10:$D$163,4),\"\")","v":""},null,null,null,""]
[null,{"$f":"IF(A1325>0,VLOOKUP(A1325,Liste!$B$179                         : Liste!$C$189,2),\"\")","v":""},null,null,{"$f":"IF(D1325>0,VLOOKUP(D1325,Liste!$A$10:$D$163,4),\"\")","v":""},null,null,null,""]
[null,{"$f":"IF(A1326>0,VLOOKUP(A1326,Liste!$B$179                         : Liste!$C$189,2),\"\")","v":""},null,null,{"$f":"IF(D1326>0,VLOOKUP(D1326,Liste!$A$10:$D$163,4),\"\")","v":""},null,null,null,""]
[null,{"$f":"IF(A1327>0,VLOOKUP(A1327,Liste!$B$179                         : Liste!$C$189,2),\"\")","v":""},null,null,{"$f":"IF(D1327>0,VLOOKUP(D1327,Liste!$A$10:$D$163,4),\"\")","v":""},null,null,null,""]
[null,{"$f":"IF(A1328>0,VLOOKUP(A1328,Liste!$B$179                         : Liste!$C$189,2),\"\")","v":""},null,null,{"$f":"IF(D1328>0,VLOOKUP(D1328,Liste!$A$10:$D$163,4),\"\")","v":""},null,null,null,""]
[null,{"$f":"IF(A1329>0,VLOOKUP(A1329,Liste!$B$179                         : Liste!$C$189,2),\"\")","v":""},null,null,{"$f":"IF(D1329>0,VLOOKUP(D1329,Liste!$A$10:$D$163,4),\"\")","v":""},null,null,null,""]
[null,{"$f":"IF(A1330>0,VLOOKUP(A1330,Liste!$B$179                         : Liste!$C$189,2),\"\")","v":""},null,null,{"$f":"IF(D1330>0,VLOOKUP(D1330,Liste!$A$10:$D$163,4),\"\")","v":""},null,null,null,""]
[null,{"$f":"IF(A1331>0,VLOOKUP(A1331,Liste!$B$179                         : Liste!$C$189,2),\"\")","v":""},null,null,{"$f":"IF(D1331>0,VLOOKUP(D1331,Liste!$A$10:$D$163,4),\"\")","v":""},null,null,null,""]
[null,{"$f":"IF(A1332>0,VLOOKUP(A1332,Liste!$B$179                         : Liste!$C$189,2),\"\")","v":""},null,null,{"$f":"IF(D1332>0,VLOOKUP(D1332,Liste!$A$10:$D$163,4),\"\")","v":""},null,null,null,""]
[null,{"$f":"IF(A1333>0,VLOOKUP(A1333,Liste!$B$179                         : Liste!$C$189,2),\"\")","v":""},null,null,{"$f":"IF(D1333>0,VLOOKUP(D1333,Liste!$A$10:$D$163,4),\"\")","v":""},null,null,null,""]
[null,{"$f":"IF(A1334>0,VLOOKUP(A1334,Liste!$B$179                         : Liste!$C$189,2),\"\")","v":""},null,null,{"$f":"IF(D1334>0,VLOOKUP(D1334,Liste!$A$10:$D$163,4),\"\")","v":""},null,null,null,""]
[null,{"$f":"IF(A1335>0,VLOOKUP(A1335,Liste!$B$179                         : Liste!$C$189,2),\"\")","v":""},null,null,{"$f":"IF(D1335>0,VLOOKUP(D1335,Liste!$A$10:$D$163,4),\"\")","v":""},null,null,null,""]
[null,{"$f":"IF(A1336>0,VLOOKUP(A1336,Liste!$B$179                         : Liste!$C$189,2),\"\")","v":""},null,null,{"$f":"IF(D1336>0,VLOOKUP(D1336,Liste!$A$10:$D$163,4),\"\")","v":""},null,null,null,""]
[null,{"$f":"IF(A1337>0,VLOOKUP(A1337,Liste!$B$179                         : Liste!$C$189,2),\"\")","v":""},null,null,{"$f":"IF(D1337>0,VLOOKUP(D1337,Liste!$A$10:$D$163,4),\"\")","v":""},null,null,null,""]
[null,{"$f":"IF(A1338>0,VLOOKUP(A1338,Liste!$B$179                         : Liste!$C$189,2),\"\")","v":""},null,null,{"$f":"IF(D1338>0,VLOOKUP(D1338,Liste!$A$10:$D$163,4),\"\")","v":""},null,null,null,""]
[null,{"$f":"IF(A1339>0,VLOOKUP(A1339,Liste!$B$179                         : Liste!$C$189,2),\"\")","v":""},null,null,{"$f":"IF(D1339>0,VLOOKUP(D1339,Liste!$A$10:$D$163,4),\"\")","v":""},null,null,null,""]
[null,{"$f":"IF(A1340>0,VLOOKUP(A1340,Liste!$B$179                         : Liste!$C$189,2),\"\")","v":""},null,null,{"$f":"IF(D1340>0,VLOOKUP(D1340,Liste!$A$10:$D$163,4),\"\")","v":""},null,null,null,""]
[null,{"$f":"IF(A1341>0,VLOOKUP(A1341,Liste!$B$179                         : Liste!$C$189,2),\"\")","v":""},null,null,{"$f":"IF(D1341>0,VLOOKUP(D1341,Liste!$A$10:$D$163,4),\"\")","v":""},null,null,null,""]
[null,{"$f":"IF(A1342>0,VLOOKUP(A1342,Liste!$B$179                         : Liste!$C$189,2),\"\")","v":""},null,null,{"$f":"IF(D1342>0,VLOOKUP(D1342,Liste!$A$10:$D$163,4),\"\")","v":""},null,null,null,""]
[null,{"$f":"IF(A1343>0,VLOOKUP(A1343,Liste!$B$179                         : Liste!$C$189,2),\"\")","v":""},null,null,{"$f":"IF(D1343>0,VLOOKUP(D1343,Liste!$A$10:$D$163,4),\"\")","v":""},null,null,null,""]
[null,{"$f":"IF(A1344>0,VLOOKUP(A1344,Liste!$B$179                         : Liste!$C$189,2),\"\")","v":""},null,null,{"$f":"IF(D1344>0,VLOOKUP(D1344,Liste!$A$10:$D$163,4),\"\")","v":""},null,null,null,""]
[null,{"$f":"IF(A1345>0,VLOOKUP(A1345,Liste!$B$179                         : Liste!$C$189,2),\"\")","v":""},null,null,{"$f":"IF(D1345>0,VLOOKUP(D1345,Liste!$A$10:$D$163,4),\"\")","v":""},null,null,null,""]
[null,{"$f":"IF(A1346>0,VLOOKUP(A1346,Liste!$B$179                         : Liste!$C$189,2),\"\")","v":""},null,null,{"$f":"IF(D1346>0,VLOOKUP(D1346,Liste!$A$10:$D$163,4),\"\")","v":""},null,null,null,""]
[null,{"$f":"IF(A1347>0,VLOOKUP(A1347,Liste!$B$179                         : Liste!$C$189,2),\"\")","v":""},null,null,{"$f":"IF(D1347>0,VLOOKUP(D1347,Liste!$A$10:$D$163,4),\"\")","v":""},null,null,null,""]
[null,{"$f":"IF(A1348>0,VLOOKUP(A1348,Liste!$B$179                         : Liste!$C$189,2),\"\")","v":""},null,null,{"$f":"IF(D1348>0,VLOOKUP(D1348,Liste!$A$10:$D$163,4),\"\")","v":""},null,null,null,""]
[null,{"$f":"IF(A1349>0,VLOOKUP(A1349,Liste!$B$179                         : Liste!$C$189,2),\"\")","v":""},null,null,{"$f":"IF(D1349>0,VLOOKUP(D1349,Liste!$A$10:$D$163,4),\"\")","v":""},null,null,null,""]
[null,{"$f":"IF(A1350>0,VLOOKUP(A1350,Liste!$B$179                         : Liste!$C$189,2),\"\")","v":""},null,null,{"$f":"IF(D1350>0,VLOOKUP(D1350,Liste!$A$10:$D$163,4),\"\")","v":""},null,null,null,{"$f":"IF(AND(D1350>0,F1350+G1350+H1350=0),\"EN ATTENTE\",IF(F1350+G1350+H1350>1,\"ERREUR\",\"\"))","v":""}]
[null,{"$f":"IF(A1351>0,VLOOKUP(A1351,Liste!$B$179                         : Liste!$C$189,2),\"\")","v":""},null,null,{"$f":"IF(D1351>0,VLOOKUP(D1351,Liste!$A$10:$D$163,4),\"\")","v":""},null,null,null,""]
[null,{"$f":"IF(A1352>0,VLOOKUP(A1352,Liste!$B$179                         : Liste!$C$189,2),\"\")","v":""},null,null,{"$f":"IF(D1352>0,VLOOKUP(D1352,Liste!$A$10:$D$163,4),\"\")","v":""},null,null,null,""]
[null,{"$f":"IF(A1353>0,VLOOKUP(A1353,Liste!$B$179                         : Liste!$C$189,2),\"\")","v":""},null,null,{"$f":"IF(D1353>0,VLOOKUP(D1353,Liste!$A$10:$D$163,4),\"\")","v":""},null,null,null,""]
[null,{"$f":"IF(A1354>0,VLOOKUP(A1354,Liste!$B$179                         : Liste!$C$189,2),\"\")","v":""},null,null,{"$f":"IF(D1354>0,VLOOKUP(D1354,Liste!$A$10:$D$163,4),\"\")","v":""},null,null,null,""]
[null,{"$f":"IF(A1355>0,VLOOKUP(A1355,Liste!$B$179                         : Liste!$C$189,2),\"\")","v":""},null,null,{"$f":"IF(D1355>0,VLOOKUP(D1355,Liste!$A$10:$D$163,4),\"\")","v":""},null,null,null,""]
[null,{"$f":"IF(A1356>0,VLOOKUP(A1356,Liste!$B$179                         : Liste!$C$189,2),\"\")","v":""},null,null,{"$f":"IF(D1356>0,VLOOKUP(D1356,Liste!$A$10:$D$163,4),\"\")","v":""},null,null,null,""]
[null,{"$f":"IF(A1357>0,VLOOKUP(A1357,Liste!$B$179                         : Liste!$C$189,2),\"\")","v":""},null,null,{"$f":"IF(D1357>0,VLOOKUP(D1357,Liste!$A$10:$D$163,4),\"\")","v":""},null,null,null,""]
[null,{"$f":"IF(A1358>0,VLOOKUP(A1358,Liste!$B$179                         : Liste!$C$189,2),\"\")","v":""},null,null,{"$f":"IF(D1358>0,VLOOKUP(D1358,Liste!$A$10:$D$163,4),\"\")","v":""},null,null,null,""]
[null,{"$f":"IF(A1359>0,VLOOKUP(A1359,Liste!$B$179                         : Liste!$C$189,2),\"\")","v":""},null,null,{"$f":"IF(D1359>0,VLOOKUP(D1359,Liste!$A$10:$D$163,4),\"\")","v":""},null,null,null,""]
[null,{"$f":"IF(A1360>0,VLOOKUP(A1360,Liste!$B$179                         : Liste!$C$189,2),\"\")","v":""},null,null,{"$f":"IF(D1360>0,VLOOKUP(D1360,Liste!$A$10:$D$163,4),\"\")","v":""},null,null,null,""]
[null,{"$f":"IF(A1361>0,VLOOKUP(A1361,Liste!$B$179                         : Liste!$C$189,2),\"\")","v":""},null,null,{"$f":"IF(D1361>0,VLOOKUP(D1361,Liste!$A$10:$D$163,4),\"\")","v":""},null,null,null,""]
[null,{"$f":"IF(A1362>0,VLOOKUP(A1362,Liste!$B$179                         : Liste!$C$189,2),\"\")","v":""},null,null,{"$f":"IF(D1362>0,VLOOKUP(D1362,Liste!$A$10:$D$163,4),\"\")","v":""},null,null,null,""]
[null,{"$f":"IF(A1363>0,VLOOKUP(A1363,Liste!$B$179                         : Liste!$C$189,2),\"\")","v":""},null,null,{"$f":"IF(D1363>0,VLOOKUP(D1363,Liste!$A$10:$D$163,4),\"\")","v":""},null,null,null,""]
[null,{"$f":"IF(A1364>0,VLOOKUP(A1364,Liste!$B$179                         : Liste!$C$189,2),\"\")","v":""},null,null,{"$f":"IF(D1364>0,VLOOKUP(D1364,Liste!$A$10:$D$163,4),\"\")","v":""},null,null,null,""]
[null,{"$f":"IF(A1365>0,VLOOKUP(A1365,Liste!$B$179                         : Liste!$C$189,2),\"\")","v":""},null,null,{"$f":"IF(D1365>0,VLOOKUP(D1365,Liste!$A$10:$D$163,4),\"\")","v":""},null,null,null,""]
[null,{"$f":"IF(A1366>0,VLOOKUP(A1366,Liste!$B$179                         : Liste!$C$189,2),\"\")","v":""},null,null,{"$f":"IF(D1366>0,VLOOKUP(D1366,Liste!$A$10:$D$163,4),\"\")","v":""},null,null,null,""]
[null,{"$f":"IF(A1367>0,VLOOKUP(A1367,Liste!$B$179                         : Liste!$C$189,2),\"\")","v":""},null,null,{"$f":"IF(D1367>0,VLOOKUP(D1367,Liste!$A$10:$D$163,4),\"\")","v":""},null,null,null,""]
[null,{"$f":"IF(A1368>0,VLOOKUP(A1368,Liste!$B$179                         : Liste!$C$189,2),\"\")","v":""},null,null,{"$f":"IF(D1368>0,VLOOKUP(D1368,Liste!$A$10:$D$163,4),\"\")","v":""},null,null,null,""]
[null,{"$f":"IF(A1369>0,VLOOKUP(A1369,Liste!$B$179                         : Liste!$C$189,2),\"\")","v":""},null,null,{"$f":"IF(D1369>0,VLOOKUP(D1369,Liste!$A$10:$D$163,4),\"\")","v":""},null,null,null,""]
[null,{"$f":"IF(A1370>0,VLOOKUP(A1370,Liste!$B$179                         : Liste!$C$189,2),\"\")","v":""},null,null,{"$f":"IF(D1370>0,VLOOKUP(D1370,Liste!$A$10:$D$163,4),\"\")","v":""},null,null,null,""]
[null,{"$f":"IF(A1371>0,VLOOKUP(A1371,Liste!$B$179                         : Liste!$C$189,2),\"\")","v":""},null,null,{"$f":"IF(D1371>0,VLOOKUP(D1371,Liste!$A$10:$D$163,4),\"\")","v":""},null,null,null,""]
[null,{"$f":"IF(A1372>0,VLOOKUP(A1372,Liste!$B$179                         : Liste!$C$189,2),\"\")","v":""},null,null,{"$f":"IF(D1372>0,VLOOKUP(D1372,Liste!$A$10:$D$163,4),\"\")","v":""},null,null,null,""]
[null,{"$f":"IF(A1373>0,VLOOKUP(A1373,Liste!$B$179                         : Liste!$C$189,2),\"\")","v":""},null,null,{"$f":"IF(D1373>0,VLOOKUP(D1373,Liste!$A$10:$D$163,4),\"\")","v":""},null,null,null,""]
[null,{"$f":"IF(A1374>0,VLOOKUP(A1374,Liste!$B$179                         : Liste!$C$189,2),\"\")","v":""},null,null,{"$f":"IF(D1374>0,VLOOKUP(D1374,Liste!$A$10:$D$163,4),\"\")","v":""},null,null,null,""]
[null,{"$f":"IF(A1375>0,VLOOKUP(A1375,Liste!$B$179                         : Liste!$C$189,2),\"\")","v":""},null,null,{"$f":"IF(D1375>0,VLOOKUP(D1375,Liste!$A$10:$D$163,4),\"\")","v":""},null,null,null,""]
[null,{"$f":"IF(A1376>0,VLOOKUP(A1376,Liste!$B$179                         : Liste!$C$189,2),\"\")","v":""},null,null,{"$f":"IF(D1376>0,VLOOKUP(D1376,Liste!$A$10:$D$163,4),\"\")","v":""},null,null,null,""]
[null,{"$f":"IF(A1377>0,VLOOKUP(A1377,Liste!$B$179                         : Liste!$C$189,2),\"\")","v":""},null,null,{"$f":"IF(D1377>0,VLOOKUP(D1377,Liste!$A$10:$D$163,4),\"\")","v":""},null,null,null,""]
[null,{"$f":"IF(A1378>0,VLOOKUP(A1378,Liste!$B$179                         : Liste!$C$189,2),\"\")","v":""},null,null,{"$f":"IF(D1378>0,VLOOKUP(D1378,Liste!$A$10:$D$163,4),\"\")","v":""},null,null,null,""]
[null,{"$f":"IF(A1379>0,VLOOKUP(A1379,Liste!$B$179                         : Liste!$C$189,2),\"\")","v":""},null,null,{"$f":"IF(D1379>0,VLOOKUP(D1379,Liste!$A$10:$D$163,4),\"\")","v":""},null,null,null,""]
[null,{"$f":"IF(A1380>0,VLOOKUP(A1380,Liste!$B$179                         : Liste!$C$189,2),\"\")","v":""},null,null,{"$f":"IF(D1380>0,VLOOKUP(D1380,Liste!$A$10:$D$163,4),\"\")","v":""},null,null,null,""]
[null,{"$f":"IF(A1381>0,VLOOKUP(A1381,Liste!$B$179                         : Liste!$C$189,2),\"\")","v":""},null,null,{"$f":"IF(D1381>0,VLOOKUP(D1381,Liste!$A$10:$D$163,4),\"\")","v":""},null,null,null,""]
[null,{"$f":"IF(A1382>0,VLOOKUP(A1382,Liste!$B$179                         : Liste!$C$189,2),\"\")","v":""},null,null,{"$f":"IF(D1382>0,VLOOKUP(D1382,Liste!$A$10:$D$163,4),\"\")","v":""},null,null,null,""]
[null,{"$f":"IF(A1383>0,VLOOKUP(A1383,Liste!$B$179                         : Liste!$C$189,2),\"\")","v":""},null,null,{"$f":"IF(D1383>0,VLOOKUP(D1383,Liste!$A$10:$D$163,4),\"\")","v":""},null,null,null,""]
[null,{"$f":"IF(A1384>0,VLOOKUP(A1384,Liste!$B$179                         : Liste!$C$189,2),\"\")","v":""},null,null,{"$f":"IF(D1384>0,VLOOKUP(D1384,Liste!$A$10:$D$163,4),\"\")","v":""},null,null,null,""]
[null,{"$f":"IF(A1385>0,VLOOKUP(A1385,Liste!$B$179                         : Liste!$C$189,2),\"\")","v":""},null,null,{"$f":"IF(D1385>0,VLOOKUP(D1385,Liste!$A$10:$D$163,4),\"\")","v":""},null,null,null,""]
[null,{"$f":"IF(A1386>0,VLOOKUP(A1386,Liste!$B$179                         : Liste!$C$189,2),\"\")","v":""},null,null,{"$f":"IF(D1386>0,VLOOKUP(D1386,Liste!$A$10:$D$163,4),\"\")","v":""},null,null,null,""]
[null,{"$f":"IF(A1387>0,VLOOKUP(A1387,Liste!$B$179                         : Liste!$C$189,2),\"\")","v":""},null,null,{"$f":"IF(D1387>0,VLOOKUP(D1387,Liste!$A$10:$D$163,4),\"\")","v":""},null,null,null,""]
[null,{"$f":"IF(A1388>0,VLOOKUP(A1388,Liste!$B$179                         : Liste!$C$189,2),\"\")","v":""},null,null,{"$f":"IF(D1388>0,VLOOKUP(D1388,Liste!$A$10:$D$163,4),\"\")","v":""},null,null,null,""]
[null,{"$f":"IF(A1389>0,VLOOKUP(A1389,Liste!$B$179                         : Liste!$C$189,2),\"\")","v":""},null,null,{"$f":"IF(D1389>0,VLOOKUP(D1389,Liste!$A$10:$D$163,4),\"\")","v":""},null,null,null,""]
[null,{"$f":"IF(A1390>0,VLOOKUP(A1390,Liste!$B$179                         : Liste!$C$189,2),\"\")","v":""},null,null,{"$f":"IF(D1390>0,VLOOKUP(D1390,Liste!$A$10:$D$163,4),\"\")","v":""},null,null,null,""]
[null,{"$f":"IF(A1391>0,VLOOKUP(A1391,Liste!$B$179                         : Liste!$C$189,2),\"\")","v":""},null,null,{"$f":"IF(D1391>0,VLOOKUP(D1391,Liste!$A$10:$D$163,4),\"\")","v":""},null,null,null,""]
[null,{"$f":"IF(A1392>0,VLOOKUP(A1392,Liste!$B$179                         : Liste!$C$189,2),\"\")","v":""},null,null,{"$f":"IF(D1392>0,VLOOKUP(D1392,Liste!$A$10:$D$163,4),\"\")","v":""},null,null,null,""]
[null,{"$f":"IF(A1393>0,VLOOKUP(A1393,Liste!$B$179                         : Liste!$C$189,2),\"\")","v":""},null,null,{"$f":"IF(D1393>0,VLOOKUP(D1393,Liste!$A$10:$D$163,4),\"\")","v":""},null,null,null,""]
[null,{"$f":"IF(A1394>0,VLOOKUP(A1394,Liste!$B$179                         : Liste!$C$189,2),\"\")","v":""},null,null,{"$f":"IF(D1394>0,VLOOKUP(D1394,Liste!$A$10:$D$163,4),\"\")","v":""},null,null,null,""]
[null,{"$f":"IF(A1395>0,VLOOKUP(A1395,Liste!$B$179                         : Liste!$C$189,2),\"\")","v":""},null,null,{"$f":"IF(D1395>0,VLOOKUP(D1395,Liste!$A$10:$D$163,4),\"\")","v":""},null,null,null,""]
[null,{"$f":"IF(A1396>0,VLOOKUP(A1396,Liste!$B$179                         : Liste!$C$189,2),\"\")","v":""},null,null,{"$f":"IF(D1396>0,VLOOKUP(D1396,Liste!$A$10:$D$163,4),\"\")","v":""},null,null,null,""]
[null,{"$f":"IF(A1397>0,VLOOKUP(A1397,Liste!$B$179                         : Liste!$C$189,2),\"\")","v":""},null,null,{"$f":"IF(D1397>0,VLOOKUP(D1397,Liste!$A$10:$D$163,4),\"\")","v":""},null,null,null,""]
[null,{"$f":"IF(A1398>0,VLOOKUP(A1398,Liste!$B$179                         : Liste!$C$189,2),\"\")","v":""},null,null,{"$f":"IF(D1398>0,VLOOKUP(D1398,Liste!$A$10:$D$163,4),\"\")","v":""},null,null,null,""]
[null,{"$f":"IF(A1399>0,VLOOKUP(A1399,Liste!$B$179                         : Liste!$C$189,2),\"\")","v":""},null,null,{"$f":"IF(D1399>0,VLOOKUP(D1399,Liste!$A$10:$D$163,4),\"\")","v":""},null,null,null,""]
[null,{"$f":"IF(A1400>0,VLOOKUP(A1400,Liste!$B$179                         : Liste!$C$189,2),\"\")","v":""},null,null,{"$f":"IF(D1400>0,VLOOKUP(D1400,Liste!$A$10:$D$163,4),\"\")","v":""},null,null,null,""]
[null,{"$f":"IF(A1401>0,VLOOKUP(A1401,Liste!$B$179                         : Liste!$C$189,2),\"\")","v":""},null,null,{"$f":"IF(D1401>0,VLOOKUP(D1401,Liste!$A$10:$D$163,4),\"\")","v":""},null,null,null,""]
[null,{"$f":"IF(A1402>0,VLOOKUP(A1402,Liste!$B$179                         : Liste!$C$189,2),\"\")","v":""},null,null,{"$f":"IF(D1402>0,VLOOKUP(D1402,Liste!$A$10:$D$163,4),\"\")","v":""},null,null,null,""]
[null,{"$f":"IF(A1403>0,VLOOKUP(A1403,Liste!$B$179                         : Liste!$C$189,2),\"\")","v":""},null,null,{"$f":"IF(D1403>0,VLOOKUP(D1403,Liste!$A$10:$D$163,4),\"\")","v":""},null,null,null,""]
[null,{"$f":"IF(A1404>0,VLOOKUP(A1404,Liste!$B$179                         : Liste!$C$189,2),\"\")","v":""},null,null,{"$f":"IF(D1404>0,VLOOKUP(D1404,Liste!$A$10:$D$163,4),\"\")","v":""},null,null,null,""]
[null,{"$f":"IF(A1405>0,VLOOKUP(A1405,Liste!$B$179                         : Liste!$C$189,2),\"\")","v":""},null,null,{"$f":"IF(D1405>0,VLOOKUP(D1405,Liste!$A$10:$D$163,4),\"\")","v":""},null,null,null,""]
[null,{"$f":"IF(A1406>0,VLOOKUP(A1406,Liste!$B$179                         : Liste!$C$189,2),\"\")","v":""},null,null,{"$f":"IF(D1406>0,VLOOKUP(D1406,Liste!$A$10:$D$163,4),\"\")","v":""},null,null,null,""]
[null,{"$f":"IF(A1407>0,VLOOKUP(A1407,Liste!$B$179                         : Liste!$C$189,2),\"\")","v":""},null,null,{"$f":"IF(D1407>0,VLOOKUP(D1407,Liste!$A$10:$D$163,4),\"\")","v":""},null,null,null,""]
[null,{"$f":"IF(A1408>0,VLOOKUP(A1408,Liste!$B$179                         : Liste!$C$189,2),\"\")","v":""},null,null,{"$f":"IF(D1408>0,VLOOKUP(D1408,Liste!$A$10:$D$163,4),\"\")","v":""},null,null,null,""]
[null,{"$f":"IF(A1409>0,VLOOKUP(A1409,Liste!$B$179                         : Liste!$C$189,2),\"\")","v":""},null,null,{"$f":"IF(D1409>0,VLOOKUP(D1409,Liste!$A$10:$D$163,4),\"\")","v":""},null,null,null,""]
[null,{"$f":"IF(A1410>0,VLOOKUP(A1410,Liste!$B$179                         : Liste!$C$189,2),\"\")","v":""},null,null,{"$f":"IF(D1410>0,VLOOKUP(D1410,Liste!$A$10:$D$163,4),\"\")","v":""},null,null,null,""]
[null,{"$f":"IF(A1411>0,VLOOKUP(A1411,Liste!$B$179                         : Liste!$C$189,2),\"\")","v":""},null,null,{"$f":"IF(D1411>0,VLOOKUP(D1411,Liste!$A$10:$D$163,4),\"\")","v":""},null,null,null,""]
[null,{"$f":"IF(A1412>0,VLOOKUP(A1412,Liste!$B$179                         : Liste!$C$189,2),\"\")","v":""},null,null,{"$f":"IF(D1412>0,VLOOKUP(D1412,Liste!$A$10:$D$163,4),\"\")","v":""},null,null,null,""]
[null,{"$f":"IF(A1413>0,VLOOKUP(A1413,Liste!$B$179                         : Liste!$C$189,2),\"\")","v":""},null,null,{"$f":"IF(D1413>0,VLOOKUP(D1413,Liste!$A$10:$D$163,4),\"\")","v":""},null,null,null,""]
[null,{"$f":"IF(A1414>0,VLOOKUP(A1414,Liste!$B$179                         : Liste!$C$189,2),\"\")","v":""},null,null,{"$f":"IF(D1414>0,VLOOKUP(D1414,Liste!$A$10:$D$163,4),\"\")","v":""},null,null,null,{"$f":"IF(AND(D1414>0,F1414+G1414+H1414=0),\"EN ATTENTE\",IF(F1414+G1414+H1414>1,\"ERREUR\",\"\"))","v":""}]
[null,{"$f":"IF(A1415>0,VLOOKUP(A1415,Liste!$B$179                         : Liste!$C$189,2),\"\")","v":""},null,null,{"$f":"IF(D1415>0,VLOOKUP(D1415,Liste!$A$10:$D$163,4),\"\")","v":""},null,null,null,""]
[null,{"$f":"IF(A1416>0,VLOOKUP(A1416,Liste!$B$179                         : Liste!$C$189,2),\"\")","v":""},null,null,{"$f":"IF(D1416>0,VLOOKUP(D1416,Liste!$A$10:$D$163,4),\"\")","v":""},null,null,null,""]
[null,{"$f":"IF(A1417>0,VLOOKUP(A1417,Liste!$B$179                         : Liste!$C$189,2),\"\")","v":""},null,null,{"$f":"IF(D1417>0,VLOOKUP(D1417,Liste!$A$10:$D$163,4),\"\")","v":""},null,null,null,""]
[null,{"$f":"IF(A1418>0,VLOOKUP(A1418,Liste!$B$179                         : Liste!$C$189,2),\"\")","v":""},null,null,{"$f":"IF(D1418>0,VLOOKUP(D1418,Liste!$A$10:$D$163,4),\"\")","v":""},null,null,null,""]
[null,{"$f":"IF(A1419>0,VLOOKUP(A1419,Liste!$B$179                         : Liste!$C$189,2),\"\")","v":""},null,null,{"$f":"IF(D1419>0,VLOOKUP(D1419,Liste!$A$10:$D$163,4),\"\")","v":""},null,null,null,""]
[null,{"$f":"IF(A1420>0,VLOOKUP(A1420,Liste!$B$179                         : Liste!$C$189,2),\"\")","v":""},null,null,{"$f":"IF(D1420>0,VLOOKUP(D1420,Liste!$A$10:$D$163,4),\"\")","v":""},null,null,null,""]
[null,{"$f":"IF(A1421>0,VLOOKUP(A1421,Liste!$B$179                         : Liste!$C$189,2),\"\")","v":""},null,null,{"$f":"IF(D1421>0,VLOOKUP(D1421,Liste!$A$10:$D$163,4),\"\")","v":""},null,null,null,""]
[null,{"$f":"IF(A1422>0,VLOOKUP(A1422,Liste!$B$179                         : Liste!$C$189,2),\"\")","v":""},null,null,{"$f":"IF(D1422>0,VLOOKUP(D1422,Liste!$A$10:$D$163,4),\"\")","v":""},null,null,null,""]
[null,{"$f":"IF(A1423>0,VLOOKUP(A1423,Liste!$B$179                         : Liste!$C$189,2),\"\")","v":""},null,null,{"$f":"IF(D1423>0,VLOOKUP(D1423,Liste!$A$10:$D$163,4),\"\")","v":""},null,null,null,""]
[null,{"$f":"IF(A1424>0,VLOOKUP(A1424,Liste!$B$179                         : Liste!$C$189,2),\"\")","v":""},null,null,{"$f":"IF(D1424>0,VLOOKUP(D1424,Liste!$A$10:$D$163,4),\"\")","v":""},null,null,null,""]
[null,{"$f":"IF(A1425>0,VLOOKUP(A1425,Liste!$B$179                         : Liste!$C$189,2),\"\")","v":""},null,null,{"$f":"IF(D1425>0,VLOOKUP(D1425,Liste!$A$10:$D$163,4),\"\")","v":""},null,null,null,""]
[null,{"$f":"IF(A1426>0,VLOOKUP(A1426,Liste!$B$179                         : Liste!$C$189,2),\"\")","v":""},null,null,{"$f":"IF(D1426>0,VLOOKUP(D1426,Liste!$A$10:$D$163,4),\"\")","v":""},null,null,null,""]
[null,{"$f":"IF(A1427>0,VLOOKUP(A1427,Liste!$B$179                         : Liste!$C$189,2),\"\")","v":""},null,null,{"$f":"IF(D1427>0,VLOOKUP(D1427,Liste!$A$10:$D$163,4),\"\")","v":""},null,null,null,""]
[null,{"$f":"IF(A1428>0,VLOOKUP(A1428,Liste!$B$179                         : Liste!$C$189,2),\"\")","v":""},null,null,{"$f":"IF(D1428>0,VLOOKUP(D1428,Liste!$A$10:$D$163,4),\"\")","v":""},null,null,null,""]
[null,{"$f":"IF(A1429>0,VLOOKUP(A1429,Liste!$B$179                         : Liste!$C$189,2),\"\")","v":""},null,null,{"$f":"IF(D1429>0,VLOOKUP(D1429,Liste!$A$10:$D$163,4),\"\")","v":""},null,null,null,""]
[null,{"$f":"IF(A1430>0,VLOOKUP(A1430,Liste!$B$179                         : Liste!$C$189,2),\"\")","v":""},null,null,{"$f":"IF(D1430>0,VLOOKUP(D1430,Liste!$A$10:$D$163,4),\"\")","v":""},null,null,null,""]
[null,{"$f":"IF(A1431>0,VLOOKUP(A1431,Liste!$B$179                         : Liste!$C$189,2),\"\")","v":""},null,null,{"$f":"IF(D1431>0,VLOOKUP(D1431,Liste!$A$10:$D$163,4),\"\")","v":""},null,null,null,""]
[null,{"$f":"IF(A1432>0,VLOOKUP(A1432,Liste!$B$179                         : Liste!$C$189,2),\"\")","v":""},null,null,{"$f":"IF(D1432>0,VLOOKUP(D1432,Liste!$A$10:$D$163,4),\"\")","v":""},null,null,null,""]
[null,{"$f":"IF(A1433>0,VLOOKUP(A1433,Liste!$B$179                         : Liste!$C$189,2),\"\")","v":""},null,null,{"$f":"IF(D1433>0,VLOOKUP(D1433,Liste!$A$10:$D$163,4),\"\")","v":""},null,null,null,""]
[null,{"$f":"IF(A1434>0,VLOOKUP(A1434,Liste!$B$179                         : Liste!$C$189,2),\"\")","v":""},null,null,{"$f":"IF(D1434>0,VLOOKUP(D1434,Liste!$A$10:$D$163,4),\"\")","v":""},null,null,null,""]
[null,{"$f":"IF(A1435>0,VLOOKUP(A1435,Liste!$B$179                         : Liste!$C$189,2),\"\")","v":""},null,null,{"$f":"IF(D1435>0,VLOOKUP(D1435,Liste!$A$10:$D$163,4),\"\")","v":""},null,null,null,""]
[null,{"$f":"IF(A1436>0,VLOOKUP(A1436,Liste!$B$179                         : Liste!$C$189,2),\"\")","v":""},null,null,{"$f":"IF(D1436>0,VLOOKUP(D1436,Liste!$A$10:$D$163,4),\"\")","v":""},null,null,null,""]
[null,{"$f":"IF(A1437>0,VLOOKUP(A1437,Liste!$B$179                         : Liste!$C$189,2),\"\")","v":""},null,null,{"$f":"IF(D1437>0,VLOOKUP(D1437,Liste!$A$10:$D$163,4),\"\")","v":""},null,null,null,""]
[null,{"$f":"IF(A1438>0,VLOOKUP(A1438,Liste!$B$179                         : Liste!$C$189,2),\"\")","v":""},null,null,{"$f":"IF(D1438>0,VLOOKUP(D1438,Liste!$A$10:$D$163,4),\"\")","v":""},null,null,null,""]
[null,{"$f":"IF(A1439>0,VLOOKUP(A1439,Liste!$B$179                         : Liste!$C$189,2),\"\")","v":""},null,null,{"$f":"IF(D1439>0,VLOOKUP(D1439,Liste!$A$10:$D$163,4),\"\")","v":""},null,null,null,""]
[null,{"$f":"IF(A1440>0,VLOOKUP(A1440,Liste!$B$179                         : Liste!$C$189,2),\"\")","v":""},null,null,{"$f":"IF(D1440>0,VLOOKUP(D1440,Liste!$A$10:$D$163,4),\"\")","v":""},null,null,null,""]
[null,{"$f":"IF(A1441>0,VLOOKUP(A1441,Liste!$B$179                         : Liste!$C$189,2),\"\")","v":""},null,null,{"$f":"IF(D1441>0,VLOOKUP(D1441,Liste!$A$10:$D$163,4),\"\")","v":""},null,null,null,""]
[null,{"$f":"IF(A1442>0,VLOOKUP(A1442,Liste!$B$179                         : Liste!$C$189,2),\"\")","v":""},null,null,{"$f":"IF(D1442>0,VLOOKUP(D1442,Liste!$A$10:$D$163,4),\"\")","v":""},null,null,null,""]
[null,{"$f":"IF(A1443>0,VLOOKUP(A1443,Liste!$B$179                         : Liste!$C$189,2),\"\")","v":""},null,null,{"$f":"IF(D1443>0,VLOOKUP(D1443,Liste!$A$10:$D$163,4),\"\")","v":""},null,null,null,""]
[null,{"$f":"IF(A1444>0,VLOOKUP(A1444,Liste!$B$179                         : Liste!$C$189,2),\"\")","v":""},null,null,{"$f":"IF(D1444>0,VLOOKUP(D1444,Liste!$A$10:$D$163,4),\"\")","v":""},null,null,null,""]
[null,{"$f":"IF(A1445>0,VLOOKUP(A1445,Liste!$B$179                         : Liste!$C$189,2),\"\")","v":""},null,null,{"$f":"IF(D1445>0,VLOOKUP(D1445,Liste!$A$10:$D$163,4),\"\")","v":""},null,null,null,""]
[null,{"$f":"IF(A1446>0,VLOOKUP(A1446,Liste!$B$179                         : Liste!$C$189,2),\"\")","v":""},null,null,{"$f":"IF(D1446>0,VLOOKUP(D1446,Liste!$A$10:$D$163,4),\"\")","v":""},null,null,null,""]
[null,{"$f":"IF(A1447>0,VLOOKUP(A1447,Liste!$B$179                         : Liste!$C$189,2),\"\")","v":""},null,null,{"$f":"IF(D1447>0,VLOOKUP(D1447,Liste!$A$10:$D$163,4),\"\")","v":""},null,null,null,""]
[null,{"$f":"IF(A1448>0,VLOOKUP(A1448,Liste!$B$179                         : Liste!$C$189,2),\"\")","v":""},null,null,{"$f":"IF(D1448>0,VLOOKUP(D1448,Liste!$A$10:$D$163,4),\"\")","v":""},null,null,null,""]
[null,{"$f":"IF(A1449>0,VLOOKUP(A1449,Liste!$B$179                         : Liste!$C$189,2),\"\")","v":""},null,null,{"$f":"IF(D1449>0,VLOOKUP(D1449,Liste!$A$10:$D$163,4),\"\")","v":""},null,null,null,""]
[null,{"$f":"IF(A1450>0,VLOOKUP(A1450,Liste!$B$179                         : Liste!$C$189,2),\"\")","v":""},null,null,{"$f":"IF(D1450>0,VLOOKUP(D1450,Liste!$A$10:$D$163,4),\"\")","v":""},null,null,null,""]
[null,{"$f":"IF(A1451>0,VLOOKUP(A1451,Liste!$B$179                         : Liste!$C$189,2),\"\")","v":""},null,null,{"$f":"IF(D1451>0,VLOOKUP(D1451,Liste!$A$10:$D$163,4),\"\")","v":""},null,null,null,""]
[null,{"$f":"IF(A1452>0,VLOOKUP(A1452,Liste!$B$179                         : Liste!$C$189,2),\"\")","v":""},null,null,{"$f":"IF(D1452>0,VLOOKUP(D1452,Liste!$A$10:$D$163,4),\"\")","v":""},null,null,null,""]
[null,{"$f":"IF(A1453>0,VLOOKUP(A1453,Liste!$B$179                         : Liste!$C$189,2),\"\")","v":""},null,null,{"$f":"IF(D1453>0,VLOOKUP(D1453,Liste!$A$10:$D$163,4),\"\")","v":""},null,null,null,""]
[null,{"$f":"IF(A1454>0,VLOOKUP(A1454,Liste!$B$179                         : Liste!$C$189,2),\"\")","v":""},null,null,{"$f":"IF(D1454>0,VLOOKUP(D1454,Liste!$A$10:$D$163,4),\"\")","v":""},null,null,null,""]
[null,{"$f":"IF(A1455>0,VLOOKUP(A1455,Liste!$B$179                         : Liste!$C$189,2),\"\")","v":""},null,null,{"$f":"IF(D1455>0,VLOOKUP(D1455,Liste!$A$10:$D$163,4),\"\")","v":""},null,null,null,""]
[null,{"$f":"IF(A1456>0,VLOOKUP(A1456,Liste!$B$179                         : Liste!$C$189,2),\"\")","v":""},null,null,{"$f":"IF(D1456>0,VLOOKUP(D1456,Liste!$A$10:$D$163,4),\"\")","v":""},null,null,null,""]
[null,{"$f":"IF(A1457>0,VLOOKUP(A1457,Liste!$B$179                         : Liste!$C$189,2),\"\")","v":""},null,null,{"$f":"IF(D1457>0,VLOOKUP(D1457,Liste!$A$10:$D$163,4),\"\")","v":""},null,null,null,""]
[null,{"$f":"IF(A1458>0,VLOOKUP(A1458,Liste!$B$179                         : Liste!$C$189,2),\"\")","v":""},null,null,{"$f":"IF(D1458>0,VLOOKUP(D1458,Liste!$A$10:$D$163,4),\"\")","v":""},null,null,null,""]
[null,{"$f":"IF(A1459>0,VLOOKUP(A1459,Liste!$B$179                         : Liste!$C$189,2),\"\")","v":""},null,null,{"$f":"IF(D1459>0,VLOOKUP(D1459,Liste!$A$10:$D$163,4),\"\")","v":""},null,null,null,""]
[null,{"$f":"IF(A1460>0,VLOOKUP(A1460,Liste!$B$179                         : Liste!$C$189,2),\"\")","v":""},null,null,{"$f":"IF(D1460>0,VLOOKUP(D1460,Liste!$A$10:$D$163,4),\"\")","v":""},null,null,null,""]
[null,{"$f":"IF(A1461>0,VLOOKUP(A1461,Liste!$B$179                         : Liste!$C$189,2),\"\")","v":""},null,null,{"$f":"IF(D1461>0,VLOOKUP(D1461,Liste!$A$10:$D$163,4),\"\")","v":""},null,null,null,""]
[null,{"$f":"IF(A1462>0,VLOOKUP(A1462,Liste!$B$179                         : Liste!$C$189,2),\"\")","v":""},null,null,{"$f":"IF(D1462>0,VLOOKUP(D1462,Liste!$A$10:$D$163,4),\"\")","v":""},null,null,null,""]
[null,{"$f":"IF(A1463>0,VLOOKUP(A1463,Liste!$B$179                         : Liste!$C$189,2),\"\")","v":""},null,null,{"$f":"IF(D1463>0,VLOOKUP(D1463,Liste!$A$10:$D$163,4),\"\")","v":""},null,null,null,""]
[null,{"$f":"IF(A1464>0,VLOOKUP(A1464,Liste!$B$179                         : Liste!$C$189,2),\"\")","v":""},null,null,{"$f":"IF(D1464>0,VLOOKUP(D1464,Liste!$A$10:$D$163,4),\"\")","v":""},null,null,null,""]
[null,{"$f":"IF(A1465>0,VLOOKUP(A1465,Liste!$B$179                         : Liste!$C$189,2),\"\")","v":""},null,null,{"$f":"IF(D1465>0,VLOOKUP(D1465,Liste!$A$10:$D$163,4),\"\")","v":""},null,null,null,""]
[null,{"$f":"IF(A1466>0,VLOOKUP(A1466,Liste!$B$179                         : Liste!$C$189,2),\"\")","v":""},null,null,{"$f":"IF(D1466>0,VLOOKUP(D1466,Liste!$A$10:$D$163,4),\"\")","v":""},null,null,null,""]
[null,{"$f":"IF(A1467>0,VLOOKUP(A1467,Liste!$B$179                         : Liste!$C$189,2),\"\")","v":""},null,null,{"$f":"IF(D1467>0,VLOOKUP(D1467,Liste!$A$10:$D$163,4),\"\")","v":""},null,null,null,""]
[null,{"$f":"IF(A1468>0,VLOOKUP(A1468,Liste!$B$179                         : Liste!$C$189,2),\"\")","v":""},null,null,{"$f":"IF(D1468>0,VLOOKUP(D1468,Liste!$A$10:$D$163,4),\"\")","v":""},null,null,null,""]
[null,{"$f":"IF(A1469>0,VLOOKUP(A1469,Liste!$B$179                         : Liste!$C$189,2),\"\")","v":""},null,null,{"$f":"IF(D1469>0,VLOOKUP(D1469,Liste!$A$10:$D$163,4),\"\")","v":""},null,null,null,""]
[null,{"$f":"IF(A1470>0,VLOOKUP(A1470,Liste!$B$179                         : Liste!$C$189,2),\"\")","v":""},null,null,{"$f":"IF(D1470>0,VLOOKUP(D1470,Liste!$A$10:$D$163,4),\"\")","v":""},null,null,null,""]
[null,{"$f":"IF(A1471>0,VLOOKUP(A1471,Liste!$B$179                         : Liste!$C$189,2),\"\")","v":""},null,null,{"$f":"IF(D1471>0,VLOOKUP(D1471,Liste!$A$10:$D$163,4),\"\")","v":""},null,null,null,""]
[null,{"$f":"IF(A1472>0,VLOOKUP(A1472,Liste!$B$179                         : Liste!$C$189,2),\"\")","v":""},null,null,{"$f":"IF(D1472>0,VLOOKUP(D1472,Liste!$A$10:$D$163,4),\"\")","v":""},null,null,null,""]
[null,{"$f":"IF(A1473>0,VLOOKUP(A1473,Liste!$B$179                         : Liste!$C$189,2),\"\")","v":""},null,null,{"$f":"IF(D1473>0,VLOOKUP(D1473,Liste!$A$10:$D$163,4),\"\")","v":""},null,null,null,""]
[null,{"$f":"IF(A1474>0,VLOOKUP(A1474,Liste!$B$179                         : Liste!$C$189,2),\"\")","v":""},null,null,{"$f":"IF(D1474>0,VLOOKUP(D1474,Liste!$A$10:$D$163,4),\"\")","v":""},null,null,null,""]
[null,{"$f":"IF(A1475>0,VLOOKUP(A1475,Liste!$B$179                         : Liste!$C$189,2),\"\")","v":""},null,null,{"$f":"IF(D1475>0,VLOOKUP(D1475,Liste!$A$10:$D$163,4),\"\")","v":""},null,null,null,""]
[null,{"$f":"IF(A1476>0,VLOOKUP(A1476,Liste!$B$179                         : Liste!$C$189,2),\"\")","v":""},null,null,{"$f":"IF(D1476>0,VLOOKUP(D1476,Liste!$A$10:$D$163,4),\"\")","v":""},null,null,null,""]
[null,{"$f":"IF(A1477>0,VLOOKUP(A1477,Liste!$B$179                         : Liste!$C$189,2),\"\")","v":""},null,null,{"$f":"IF(D1477>0,VLOOKUP(D1477,Liste!$A$10:$D$163,4),\"\")","v":""},null,null,null,""]
[null,{"$f":"IF(A1478>0,VLOOKUP(A1478,Liste!$B$179                         : Liste!$C$189,2),\"\")","v":""},null,null,{"$f":"IF(D1478>0,VLOOKUP(D1478,Liste!$A$10:$D$163,4),\"\")","v":""},null,null,null,{"$f":"IF(AND(D1478>0,F1478+G1478+H1478=0),\"EN ATTENTE\",IF(F1478+G1478+H1478>1,\"ERREUR\",\"\"))","v":""}]
[null,{"$f":"IF(A1479>0,VLOOKUP(A1479,Liste!$B$179                         : Liste!$C$189,2),\"\")","v":""},null,null,{"$f":"IF(D1479>0,VLOOKUP(D1479,Liste!$A$10:$D$163,4),\"\")","v":""},null,null,null,""]
[null,{"$f":"IF(A1480>0,VLOOKUP(A1480,Liste!$B$179                         : Liste!$C$189,2),\"\")","v":""},null,null,{"$f":"IF(D1480>0,VLOOKUP(D1480,Liste!$A$10:$D$163,4),\"\")","v":""},null,null,null,""]
[null,{"$f":"IF(A1481>0,VLOOKUP(A1481,Liste!$B$179                         : Liste!$C$189,2),\"\")","v":""},null,null,{"$f":"IF(D1481>0,VLOOKUP(D1481,Liste!$A$10:$D$163,4),\"\")","v":""},null,null,null,""]
[null,{"$f":"IF(A1482>0,VLOOKUP(A1482,Liste!$B$179                         : Liste!$C$189,2),\"\")","v":""},null,null,{"$f":"IF(D1482>0,VLOOKUP(D1482,Liste!$A$10:$D$163,4),\"\")","v":""},null,null,null,""]
[null,{"$f":"IF(A1483>0,VLOOKUP(A1483,Liste!$B$179                         : Liste!$C$189,2),\"\")","v":""},null,null,{"$f":"IF(D1483>0,VLOOKUP(D1483,Liste!$A$10:$D$163,4),\"\")","v":""},null,null,null,""]
[null,{"$f":"IF(A1484>0,VLOOKUP(A1484,Liste!$B$179                         : Liste!$C$189,2),\"\")","v":""},null,null,{"$f":"IF(D1484>0,VLOOKUP(D1484,Liste!$A$10:$D$163,4),\"\")","v":""},null,null,null,""]
[null,{"$f":"IF(A1485>0,VLOOKUP(A1485,Liste!$B$179                         : Liste!$C$189,2),\"\")","v":""},null,null,{"$f":"IF(D1485>0,VLOOKUP(D1485,Liste!$A$10:$D$163,4),\"\")","v":""},null,null,null,""]
[null,{"$f":"IF(A1486>0,VLOOKUP(A1486,Liste!$B$179                         : Liste!$C$189,2),\"\")","v":""},null,null,{"$f":"IF(D1486>0,VLOOKUP(D1486,Liste!$A$10:$D$163,4),\"\")","v":""},null,null,null,""]
[null,{"$f":"IF(A1487>0,VLOOKUP(A1487,Liste!$B$179                         : Liste!$C$189,2),\"\")","v":""},null,null,{"$f":"IF(D1487>0,VLOOKUP(D1487,Liste!$A$10:$D$163,4),\"\")","v":""},null,null,null,""]
[null,{"$f":"IF(A1488>0,VLOOKUP(A1488,Liste!$B$179                         : Liste!$C$189,2),\"\")","v":""},null,null,{"$f":"IF(D1488>0,VLOOKUP(D1488,Liste!$A$10:$D$163,4),\"\")","v":""},null,null,null,""]
[null,{"$f":"IF(A1489>0,VLOOKUP(A1489,Liste!$B$179                         : Liste!$C$189,2),\"\")","v":""},null,null,{"$f":"IF(D1489>0,VLOOKUP(D1489,Liste!$A$10:$D$163,4),\"\")","v":""},null,null,null,""]
[null,{"$f":"IF(A1490>0,VLOOKUP(A1490,Liste!$B$179                         : Liste!$C$189,2),\"\")","v":""},null,null,{"$f":"IF(D1490>0,VLOOKUP(D1490,Liste!$A$10:$D$163,4),\"\")","v":""},null,null,null,""]
[null,{"$f":"IF(A1491>0,VLOOKUP(A1491,Liste!$B$179                         : Liste!$C$189,2),\"\")","v":""},null,null,{"$f":"IF(D1491>0,VLOOKUP(D1491,Liste!$A$10:$D$163,4),\"\")","v":""},null,null,null,""]
[null,{"$f":"IF(A1492>0,VLOOKUP(A1492,Liste!$B$179                         : Liste!$C$189,2),\"\")","v":""},null,null,{"$f":"IF(D1492>0,VLOOKUP(D1492,Liste!$A$10:$D$163,4),\"\")","v":""},null,null,null,""]
[null,{"$f":"IF(A1493>0,VLOOKUP(A1493,Liste!$B$179                         : Liste!$C$189,2),\"\")","v":""},null,null,{"$f":"IF(D1493>0,VLOOKUP(D1493,Liste!$A$10:$D$163,4),\"\")","v":""},null,null,null,""]
[null,{"$f":"IF(A1494>0,VLOOKUP(A1494,Liste!$B$179                         : Liste!$C$189,2),\"\")","v":""},null,null,{"$f":"IF(D1494>0,VLOOKUP(D1494,Liste!$A$10:$D$163,4),\"\")","v":""},null,null,null,""]
[null,{"$f":"IF(A1495>0,VLOOKUP(A1495,Liste!$B$179                         : Liste!$C$189,2),\"\")","v":""},null,null,{"$f":"IF(D1495>0,VLOOKUP(D1495,Liste!$A$10:$D$163,4),\"\")","v":""},null,null,null,""]
[null,{"$f":"IF(A1496>0,VLOOKUP(A1496,Liste!$B$179                         : Liste!$C$189,2),\"\")","v":""},null,null,{"$f":"IF(D1496>0,VLOOKUP(D1496,Liste!$A$10:$D$163,4),\"\")","v":""},null,null,null,""]
[null,{"$f":"IF(A1497>0,VLOOKUP(A1497,Liste!$B$179                         : Liste!$C$189,2),\"\")","v":""},null,null,{"$f":"IF(D1497>0,VLOOKUP(D1497,Liste!$A$10:$D$163,4),\"\")","v":""},null,null,null,""]
[null,{"$f":"IF(A1498>0,VLOOKUP(A1498,Liste!$B$179                         : Liste!$C$189,2),\"\")","v":""},null,null,{"$f":"IF(D1498>0,VLOOKUP(D1498,Liste!$A$10:$D$163,4),\"\")","v":""},null,null,null,""]
[null,{"$f":"IF(A1499>0,VLOOKUP(A1499,Liste!$B$179                         : Liste!$C$189,2),\"\")","v":""},null,null,{"$f":"IF(D1499>0,VLOOKUP(D1499,Liste!$A$10:$D$163,4),\"\")","v":""},null,null,null,""]
[null,{"$f":"IF(A1500>0,VLOOKUP(A1500,Liste!$B$179                         : Liste!$C$189,2),\"\")","v":""},null,null,{"$f":"IF(D1500>0,VLOOKUP(D1500,Liste!$A$10:$D$163,4),\"\")","v":""},null,null,null,""]
[null,{"$f":"IF(A1501>0,VLOOKUP(A1501,Liste!$B$179                         : Liste!$C$189,2),\"\")","v":""},null,null,{"$f":"IF(D1501>0,VLOOKUP(D1501,Liste!$A$10:$D$163,4),\"\")","v":""},null,null,null,""]
[null,{"$f":"IF(A1502>0,VLOOKUP(A1502,Liste!$B$179                         : Liste!$C$189,2),\"\")","v":""},null,null,{"$f":"IF(D1502>0,VLOOKUP(D1502,Liste!$A$10:$D$163,4),\"\")","v":""},null,null,null,""]
[null,{"$f":"IF(A1503>0,VLOOKUP(A1503,Liste!$B$179                         : Liste!$C$189,2),\"\")","v":""},null,null,{"$f":"IF(D1503>0,VLOOKUP(D1503,Liste!$A$10:$D$163,4),\"\")","v":""},null,null,null,""]
[null,{"$f":"IF(A1504>0,VLOOKUP(A1504,Liste!$B$179                         : Liste!$C$189,2),\"\")","v":""},null,null,{"$f":"IF(D1504>0,VLOOKUP(D1504,Liste!$A$10:$D$163,4),\"\")","v":""},null,null,null,""]
[null,{"$f":"IF(A1505>0,VLOOKUP(A1505,Liste!$B$179                         : Liste!$C$189,2),\"\")","v":""},null,null,{"$f":"IF(D1505>0,VLOOKUP(D1505,Liste!$A$10:$D$163,4),\"\")","v":""},null,null,null,""]
[null,{"$f":"IF(A1506>0,VLOOKUP(A1506,Liste!$B$179                         : Liste!$C$189,2),\"\")","v":""},null,null,{"$f":"IF(D1506>0,VLOOKUP(D1506,Liste!$A$10:$D$163,4),\"\")","v":""},null,null,null,""]
[null,{"$f":"IF(A1507>0,VLOOKUP(A1507,Liste!$B$179                         : Liste!$C$189,2),\"\")","v":""},null,null,{"$f":"IF(D1507>0,VLOOKUP(D1507,Liste!$A$10:$D$163,4),\"\")","v":""},null,null,null,""]
[null,{"$f":"IF(A1508>0,VLOOKUP(A1508,Liste!$B$179                         : Liste!$C$189,2),\"\")","v":""},null,null,{"$f":"IF(D1508>0,VLOOKUP(D1508,Liste!$A$10:$D$163,4),\"\")","v":""},null,null,null,""]
[null,{"$f":"IF(A1509>0,VLOOKUP(A1509,Liste!$B$179                         : Liste!$C$189,2),\"\")","v":""},null,null,{"$f":"IF(D1509>0,VLOOKUP(D1509,Liste!$A$10:$D$163,4),\"\")","v":""},null,null,null,""]
[null,{"$f":"IF(A1510>0,VLOOKUP(A1510,Liste!$B$179                         : Liste!$C$189,2),\"\")","v":""},null,null,{"$f":"IF(D1510>0,VLOOKUP(D1510,Liste!$A$10:$D$163,4),\"\")","v":""},null,null,null,""]
[null,{"$f":"IF(A1511>0,VLOOKUP(A1511,Liste!$B$179                         : Liste!$C$189,2),\"\")","v":""},null,null,{"$f":"IF(D1511>0,VLOOKUP(D1511,Liste!$A$10:$D$163,4),\"\")","v":""},null,null,null,""]
[null,{"$f":"IF(A1512>0,VLOOKUP(A1512,Liste!$B$179                         : Liste!$C$189,2),\"\")","v":""},null,null,{"$f":"IF(D1512>0,VLOOKUP(D1512,Liste!$A$10:$D$163,4),\"\")","v":""},null,null,null,""]
[null,{"$f":"IF(A1513>0,VLOOKUP(A1513,Liste!$B$179                         : Liste!$C$189,2),\"\")","v":""},null,null,{"$f":"IF(D1513>0,VLOOKUP(D1513,Liste!$A$10:$D$163,4),\"\")","v":""},null,null,null,""]
[null,{"$f":"IF(A1514>0,VLOOKUP(A1514,Liste!$B$179                         : Liste!$C$189,2),\"\")","v":""},null,null,{"$f":"IF(D1514>0,VLOOKUP(D1514,Liste!$A$10:$D$163,4),\"\")","v":""},null,null,null,""]
[null,{"$f":"IF(A1515>0,VLOOKUP(A1515,Liste!$B$179                         : Liste!$C$189,2),\"\")","v":""},null,null,{"$f":"IF(D1515>0,VLOOKUP(D1515,Liste!$A$10:$D$163,4),\"\")","v":""},null,null,null,""]
[null,{"$f":"IF(A1516>0,VLOOKUP(A1516,Liste!$B$179                         : Liste!$C$189,2),\"\")","v":""},null,null,{"$f":"IF(D1516>0,VLOOKUP(D1516,Liste!$A$10:$D$163,4),\"\")","v":""},null,null,null,""]
[null,{"$f":"IF(A1517>0,VLOOKUP(A1517,Liste!$B$179                         : Liste!$C$189,2),\"\")","v":""},null,null,{"$f":"IF(D1517>0,VLOOKUP(D1517,Liste!$A$10:$D$163,4),\"\")","v":""},null,null,null,""]
[null,{"$f":"IF(A1518>0,VLOOKUP(A1518,Liste!$B$179                         : Liste!$C$189,2),\"\")","v":""},null,null,{"$f":"IF(D1518>0,VLOOKUP(D1518,Liste!$A$10:$D$163,4),\"\")","v":""},null,null,null,""]
[null,{"$f":"IF(A1519>0,VLOOKUP(A1519,Liste!$B$179                         : Liste!$C$189,2),\"\")","v":""},null,null,{"$f":"IF(D1519>0,VLOOKUP(D1519,Liste!$A$10:$D$163,4),\"\")","v":""},null,null,null,""]
[null,{"$f":"IF(A1520>0,VLOOKUP(A1520,Liste!$B$179                         : Liste!$C$189,2),\"\")","v":""},null,null,{"$f":"IF(D1520>0,VLOOKUP(D1520,Liste!$A$10:$D$163,4),\"\")","v":""},null,null,null,""]
[null,{"$f":"IF(A1521>0,VLOOKUP(A1521,Liste!$B$179                         : Liste!$C$189,2),\"\")","v":""},null,null,{"$f":"IF(D1521>0,VLOOKUP(D1521,Liste!$A$10:$D$163,4),\"\")","v":""},null,null,null,""]
[null,{"$f":"IF(A1522>0,VLOOKUP(A1522,Liste!$B$179                         : Liste!$C$189,2),\"\")","v":""},null,null,{"$f":"IF(D1522>0,VLOOKUP(D1522,Liste!$A$10:$D$163,4),\"\")","v":""},null,null,null,""]
[null,{"$f":"IF(A1523>0,VLOOKUP(A1523,Liste!$B$179                         : Liste!$C$189,2),\"\")","v":""},null,null,{"$f":"IF(D1523>0,VLOOKUP(D1523,Liste!$A$10:$D$163,4),\"\")","v":""},null,null,null,""]
[null,{"$f":"IF(A1524>0,VLOOKUP(A1524,Liste!$B$179                         : Liste!$C$189,2),\"\")","v":""},null,null,{"$f":"IF(D1524>0,VLOOKUP(D1524,Liste!$A$10:$D$163,4),\"\")","v":""},null,null,null,""]
[null,{"$f":"IF(A1525>0,VLOOKUP(A1525,Liste!$B$179                         : Liste!$C$189,2),\"\")","v":""},null,null,{"$f":"IF(D1525>0,VLOOKUP(D1525,Liste!$A$10:$D$163,4),\"\")","v":""},null,null,null,""]
[null,{"$f":"IF(A1526>0,VLOOKUP(A1526,Liste!$B$179                         : Liste!$C$189,2),\"\")","v":""},null,null,{"$f":"IF(D1526>0,VLOOKUP(D1526,Liste!$A$10:$D$163,4),\"\")","v":""},null,null,null,""]
[null,{"$f":"IF(A1527>0,VLOOKUP(A1527,Liste!$B$179                         : Liste!$C$189,2),\"\")","v":""},null,null,{"$f":"IF(D1527>0,VLOOKUP(D1527,Liste!$A$10:$D$163,4),\"\")","v":""},null,null,null,""]
[null,{"$f":"IF(A1528>0,VLOOKUP(A1528,Liste!$B$179                         : Liste!$C$189,2),\"\")","v":""},null,null,{"$f":"IF(D1528>0,VLOOKUP(D1528,Liste!$A$10:$D$163,4),\"\")","v":""},null,null,null,""]
[null,{"$f":"IF(A1529>0,VLOOKUP(A1529,Liste!$B$179                         : Liste!$C$189,2),\"\")","v":""},null,null,{"$f":"IF(D1529>0,VLOOKUP(D1529,Liste!$A$10:$D$163,4),\"\")","v":""},null,null,null,""]
[null,{"$f":"IF(A1530>0,VLOOKUP(A1530,Liste!$B$179                         : Liste!$C$189,2),\"\")","v":""},null,null,{"$f":"IF(D1530>0,VLOOKUP(D1530,Liste!$A$10:$D$163,4),\"\")","v":""},null,null,null,""]
[null,{"$f":"IF(A1531>0,VLOOKUP(A1531,Liste!$B$179                         : Liste!$C$189,2),\"\")","v":""},null,null,{"$f":"IF(D1531>0,VLOOKUP(D1531,Liste!$A$10:$D$163,4),\"\")","v":""},null,null,null,""]
[null,{"$f":"IF(A1532>0,VLOOKUP(A1532,Liste!$B$179                         : Liste!$C$189,2),\"\")","v":""},null,null,{"$f":"IF(D1532>0,VLOOKUP(D1532,Liste!$A$10:$D$163,4),\"\")","v":""},null,null,null,""]
[null,{"$f":"IF(A1533>0,VLOOKUP(A1533,Liste!$B$179                         : Liste!$C$189,2),\"\")","v":""},null,null,{"$f":"IF(D1533>0,VLOOKUP(D1533,Liste!$A$10:$D$163,4),\"\")","v":""},null,null,null,""]
[null,{"$f":"IF(A1534>0,VLOOKUP(A1534,Liste!$B$179                         : Liste!$C$189,2),\"\")","v":""},null,null,{"$f":"IF(D1534>0,VLOOKUP(D1534,Liste!$A$10:$D$163,4),\"\")","v":""},null,null,null,""]
[null,{"$f":"IF(A1535>0,VLOOKUP(A1535,Liste!$B$179                         : Liste!$C$189,2),\"\")","v":""},null,null,{"$f":"IF(D1535>0,VLOOKUP(D1535,Liste!$A$10:$D$163,4),\"\")","v":""},null,null,null,""]
[null,{"$f":"IF(A1536>0,VLOOKUP(A1536,Liste!$B$179                         : Liste!$C$189,2),\"\")","v":""},null,null,{"$f":"IF(D1536>0,VLOOKUP(D1536,Liste!$A$10:$D$163,4),\"\")","v":""},null,null,null,""]
[null,{"$f":"IF(A1537>0,VLOOKUP(A1537,Liste!$B$179                         : Liste!$C$189,2),\"\")","v":""},null,null,{"$f":"IF(D1537>0,VLOOKUP(D1537,Liste!$A$10:$D$163,4),\"\")","v":""},null,null,null,""]
[null,{"$f":"IF(A1538>0,VLOOKUP(A1538,Liste!$B$179                         : Liste!$C$189,2),\"\")","v":""},null,null,{"$f":"IF(D1538>0,VLOOKUP(D1538,Liste!$A$10:$D$163,4),\"\")","v":""},null,null,null,""]
[null,{"$f":"IF(A1539>0,VLOOKUP(A1539,Liste!$B$179                         : Liste!$C$189,2),\"\")","v":""},null,null,{"$f":"IF(D1539>0,VLOOKUP(D1539,Liste!$A$10:$D$163,4),\"\")","v":""},null,null,null,""]
[null,{"$f":"IF(A1540>0,VLOOKUP(A1540,Liste!$B$179                         : Liste!$C$189,2),\"\")","v":""},null,null,{"$f":"IF(D1540>0,VLOOKUP(D1540,Liste!$A$10:$D$163,4),\"\")","v":""},null,null,null,""]
[null,{"$f":"IF(A1541>0,VLOOKUP(A1541,Liste!$B$179                         : Liste!$C$189,2),\"\")","v":""},null,null,{"$f":"IF(D1541>0,VLOOKUP(D1541,Liste!$A$10:$D$163,4),\"\")","v":""},null,null,null,""]
[null,{"$f":"IF(A1542>0,VLOOKUP(A1542,Liste!$B$179                         : Liste!$C$189,2),\"\")","v":""},null,null,{"$f":"IF(D1542>0,VLOOKUP(D1542,Liste!$A$10:$D$163,4),\"\")","v":""},null,null,null,{"$f":"IF(AND(D1542>0,F1542+G1542+H1542=0),\"EN ATTENTE\",IF(F1542+G1542+H1542>1,\"ERREUR\",\"\"))","v":""}]
[null,{"$f":"IF(A1543>0,VLOOKUP(A1543,Liste!$B$179                         : Liste!$C$189,2),\"\")","v":""},null,null,{"$f":"IF(D1543>0,VLOOKUP(D1543,Liste!$A$10:$D$163,4),\"\")","v":""},null,null,null,""]
[null,{"$f":"IF(A1544>0,VLOOKUP(A1544,Liste!$B$179                         : Liste!$C$189,2),\"\")","v":""},null,null,{"$f":"IF(D1544>0,VLOOKUP(D1544,Liste!$A$10:$D$163,4),\"\")","v":""},null,null,null,""]
[null,{"$f":"IF(A1545>0,VLOOKUP(A1545,Liste!$B$179                         : Liste!$C$189,2),\"\")","v":""},null,null,{"$f":"IF(D1545>0,VLOOKUP(D1545,Liste!$A$10:$D$163,4),\"\")","v":""},null,null,null,""]
[null,{"$f":"IF(A1546>0,VLOOKUP(A1546,Liste!$B$179                         : Liste!$C$189,2),\"\")","v":""},null,null,{"$f":"IF(D1546>0,VLOOKUP(D1546,Liste!$A$10:$D$163,4),\"\")","v":""},null,null,null,""]
[null,{"$f":"IF(A1547>0,VLOOKUP(A1547,Liste!$B$179                         : Liste!$C$189,2),\"\")","v":""},null,null,{"$f":"IF(D1547>0,VLOOKUP(D1547,Liste!$A$10:$D$163,4),\"\")","v":""},null,null,null,""]
[null,{"$f":"IF(A1548>0,VLOOKUP(A1548,Liste!$B$179                         : Liste!$C$189,2),\"\")","v":""},null,null,{"$f":"IF(D1548>0,VLOOKUP(D1548,Liste!$A$10:$D$163,4),\"\")","v":""},null,null,null,""]
[null,{"$f":"IF(A1549>0,VLOOKUP(A1549,Liste!$B$179                         : Liste!$C$189,2),\"\")","v":""},null,null,{"$f":"IF(D1549>0,VLOOKUP(D1549,Liste!$A$10:$D$163,4),\"\")","v":""},null,null,null,""]
[null,{"$f":"IF(A1550>0,VLOOKUP(A1550,Liste!$B$179                         : Liste!$C$189,2),\"\")","v":""},null,null,{"$f":"IF(D1550>0,VLOOKUP(D1550,Liste!$A$10:$D$163,4),\"\")","v":""},null,null,null,""]
[null,{"$f":"IF(A1551>0,VLOOKUP(A1551,Liste!$B$179                         : Liste!$C$189,2),\"\")","v":""},null,null,{"$f":"IF(D1551>0,VLOOKUP(D1551,Liste!$A$10:$D$163,4),\"\")","v":""},null,null,null,""]
[null,{"$f":"IF(A1552>0,VLOOKUP(A1552,Liste!$B$179                         : Liste!$C$189,2),\"\")","v":""},null,null,{"$f":"IF(D1552>0,VLOOKUP(D1552,Liste!$A$10:$D$163,4),\"\")","v":""},null,null,null,""]
[null,{"$f":"IF(A1553>0,VLOOKUP(A1553,Liste!$B$179                         : Liste!$C$189,2),\"\")","v":""},null,null,{"$f":"IF(D1553>0,VLOOKUP(D1553,Liste!$A$10:$D$163,4),\"\")","v":""},null,null,null,""]
[null,{"$f":"IF(A1554>0,VLOOKUP(A1554,Liste!$B$179                         : Liste!$C$189,2),\"\")","v":""},null,null,{"$f":"IF(D1554>0,VLOOKUP(D1554,Liste!$A$10:$D$163,4),\"\")","v":""},null,null,null,""]
[null,{"$f":"IF(A1555>0,VLOOKUP(A1555,Liste!$B$179                         : Liste!$C$189,2),\"\")","v":""},null,null,{"$f":"IF(D1555>0,VLOOKUP(D1555,Liste!$A$10:$D$163,4),\"\")","v":""},null,null,null,""]
[null,{"$f":"IF(A1556>0,VLOOKUP(A1556,Liste!$B$179                         : Liste!$C$189,2),\"\")","v":""},null,null,{"$f":"IF(D1556>0,VLOOKUP(D1556,Liste!$A$10:$D$163,4),\"\")","v":""},null,null,null,""]
[null,{"$f":"IF(A1557>0,VLOOKUP(A1557,Liste!$B$179                         : Liste!$C$189,2),\"\")","v":""},null,null,{"$f":"IF(D1557>0,VLOOKUP(D1557,Liste!$A$10:$D$163,4),\"\")","v":""},null,null,null,""]
[null,{"$f":"IF(A1558>0,VLOOKUP(A1558,Liste!$B$179                         : Liste!$C$189,2),\"\")","v":""},null,null,{"$f":"IF(D1558>0,VLOOKUP(D1558,Liste!$A$10:$D$163,4),\"\")","v":""},null,null,null,""]
[null,{"$f":"IF(A1559>0,VLOOKUP(A1559,Liste!$B$179                         : Liste!$C$189,2),\"\")","v":""},null,null,{"$f":"IF(D1559>0,VLOOKUP(D1559,Liste!$A$10:$D$163,4),\"\")","v":""},null,null,null,""]
[null,{"$f":"IF(A1560>0,VLOOKUP(A1560,Liste!$B$179                         : Liste!$C$189,2),\"\")","v":""},null,null,{"$f":"IF(D1560>0,VLOOKUP(D1560,Liste!$A$10:$D$163,4),\"\")","v":""},null,null,null,""]
[null,{"$f":"IF(A1561>0,VLOOKUP(A1561,Liste!$B$179                         : Liste!$C$189,2),\"\")","v":""},null,null,{"$f":"IF(D1561>0,VLOOKUP(D1561,Liste!$A$10:$D$163,4),\"\")","v":""},null,null,null,""]
[null,{"$f":"IF(A1562>0,VLOOKUP(A1562,Liste!$B$179                         : Liste!$C$189,2),\"\")","v":""},null,null,{"$f":"IF(D1562>0,VLOOKUP(D1562,Liste!$A$10:$D$163,4),\"\")","v":""},null,null,null,""]
[null,{"$f":"IF(A1563>0,VLOOKUP(A1563,Liste!$B$179                         : Liste!$C$189,2),\"\")","v":""},null,null,{"$f":"IF(D1563>0,VLOOKUP(D1563,Liste!$A$10:$D$163,4),\"\")","v":""},null,null,null,""]
[null,{"$f":"IF(A1564>0,VLOOKUP(A1564,Liste!$B$179                         : Liste!$C$189,2),\"\")","v":""},null,null,{"$f":"IF(D1564>0,VLOOKUP(D1564,Liste!$A$10:$D$163,4),\"\")","v":""},null,null,null,""]
[null,{"$f":"IF(A1565>0,VLOOKUP(A1565,Liste!$B$179                         : Liste!$C$189,2),\"\")","v":""},null,null,{"$f":"IF(D1565>0,VLOOKUP(D1565,Liste!$A$10:$D$163,4),\"\")","v":""},null,null,null,""]
[null,{"$f":"IF(A1566>0,VLOOKUP(A1566,Liste!$B$179                         : Liste!$C$189,2),\"\")","v":""},null,null,{"$f":"IF(D1566>0,VLOOKUP(D1566,Liste!$A$10:$D$163,4),\"\")","v":""},null,null,null,""]
[null,{"$f":"IF(A1567>0,VLOOKUP(A1567,Liste!$B$179                         : Liste!$C$189,2),\"\")","v":""},null,null,{"$f":"IF(D1567>0,VLOOKUP(D1567,Liste!$A$10:$D$163,4),\"\")","v":""},null,null,null,""]
[null,{"$f":"IF(A1568>0,VLOOKUP(A1568,Liste!$B$179                         : Liste!$C$189,2),\"\")","v":""},null,null,{"$f":"IF(D1568>0,VLOOKUP(D1568,Liste!$A$10:$D$163,4),\"\")","v":""},null,null,null,""]
[null,{"$f":"IF(A1569>0,VLOOKUP(A1569,Liste!$B$179                         : Liste!$C$189,2),\"\")","v":""},null,null,{"$f":"IF(D1569>0,VLOOKUP(D1569,Liste!$A$10:$D$163,4),\"\")","v":""},null,null,null,""]
[null,{"$f":"IF(A1570>0,VLOOKUP(A1570,Liste!$B$179                         : Liste!$C$189,2),\"\")","v":""},null,null,{"$f":"IF(D1570>0,VLOOKUP(D1570,Liste!$A$10:$D$163,4),\"\")","v":""},null,null,null,""]
[null,{"$f":"IF(A1571>0,VLOOKUP(A1571,Liste!$B$179                         : Liste!$C$189,2),\"\")","v":""},null,null,{"$f":"IF(D1571>0,VLOOKUP(D1571,Liste!$A$10:$D$163,4),\"\")","v":""},null,null,null,""]
[null,{"$f":"IF(A1572>0,VLOOKUP(A1572,Liste!$B$179                         : Liste!$C$189,2),\"\")","v":""},null,null,{"$f":"IF(D1572>0,VLOOKUP(D1572,Liste!$A$10:$D$163,4),\"\")","v":""},null,null,null,""]
[null,{"$f":"IF(A1573>0,VLOOKUP(A1573,Liste!$B$179                         : Liste!$C$189,2),\"\")","v":""},null,null,{"$f":"IF(D1573>0,VLOOKUP(D1573,Liste!$A$10:$D$163,4),\"\")","v":""},null,null,null,""]
[null,{"$f":"IF(A1574>0,VLOOKUP(A1574,Liste!$B$179                         : Liste!$C$189,2),\"\")","v":""},null,null,{"$f":"IF(D1574>0,VLOOKUP(D1574,Liste!$A$10:$D$163,4),\"\")","v":""},null,null,null,""]
[null,{"$f":"IF(A1575>0,VLOOKUP(A1575,Liste!$B$179                         : Liste!$C$189,2),\"\")","v":""},null,null,{"$f":"IF(D1575>0,VLOOKUP(D1575,Liste!$A$10:$D$163,4),\"\")","v":""},null,null,null,""]
[null,{"$f":"IF(A1576>0,VLOOKUP(A1576,Liste!$B$179                         : Liste!$C$189,2),\"\")","v":""},null,null,{"$f":"IF(D1576>0,VLOOKUP(D1576,Liste!$A$10:$D$163,4),\"\")","v":""},null,null,null,""]
[null,{"$f":"IF(A1577>0,VLOOKUP(A1577,Liste!$B$179                         : Liste!$C$189,2),\"\")","v":""},null,null,{"$f":"IF(D1577>0,VLOOKUP(D1577,Liste!$A$10:$D$163,4),\"\")","v":""},null,null,null,""]
[null,{"$f":"IF(A1578>0,VLOOKUP(A1578,Liste!$B$179                         : Liste!$C$189,2),\"\")","v":""},null,null,{"$f":"IF(D1578>0,VLOOKUP(D1578,Liste!$A$10:$D$163,4),\"\")","v":""},null,null,null,""]
[null,{"$f":"IF(A1579>0,VLOOKUP(A1579,Liste!$B$179                         : Liste!$C$189,2),\"\")","v":""},null,null,{"$f":"IF(D1579>0,VLOOKUP(D1579,Liste!$A$10:$D$163,4),\"\")","v":""},null,null,null,""]
[null,{"$f":"IF(A1580>0,VLOOKUP(A1580,Liste!$B$179                         : Liste!$C$189,2),\"\")","v":""},null,null,{"$f":"IF(D1580>0,VLOOKUP(D1580,Liste!$A$10:$D$163,4),\"\")","v":""},null,null,null,""]
[null,{"$f":"IF(A1581>0,VLOOKUP(A1581,Liste!$B$179                         : Liste!$C$189,2),\"\")","v":""},null,null,{"$f":"IF(D1581>0,VLOOKUP(D1581,Liste!$A$10:$D$163,4),\"\")","v":""},null,null,null,""]
[null,{"$f":"IF(A1582>0,VLOOKUP(A1582,Liste!$B$179                         : Liste!$C$189,2),\"\")","v":""},null,null,{"$f":"IF(D1582>0,VLOOKUP(D1582,Liste!$A$10:$D$163,4),\"\")","v":""},null,null,null,""]
[null,{"$f":"IF(A1583>0,VLOOKUP(A1583,Liste!$B$179                         : Liste!$C$189,2),\"\")","v":""},null,null,{"$f":"IF(D1583>0,VLOOKUP(D1583,Liste!$A$10:$D$163,4),\"\")","v":""},null,null,null,""]
[null,{"$f":"IF(A1584>0,VLOOKUP(A1584,Liste!$B$179                         : Liste!$C$189,2),\"\")","v":""},null,null,{"$f":"IF(D1584>0,VLOOKUP(D1584,Liste!$A$10:$D$163,4),\"\")","v":""},null,null,null,""]
[null,{"$f":"IF(A1585>0,VLOOKUP(A1585,Liste!$B$179                         : Liste!$C$189,2),\"\")","v":""},null,null,{"$f":"IF(D1585>0,VLOOKUP(D1585,Liste!$A$10:$D$163,4),\"\")","v":""},null,null,null,""]
[null,{"$f":"IF(A1586>0,VLOOKUP(A1586,Liste!$B$179                         : Liste!$C$189,2),\"\")","v":""},null,null,{"$f":"IF(D1586>0,VLOOKUP(D1586,Liste!$A$10:$D$163,4),\"\")","v":""},null,null,null,""]
[null,{"$f":"IF(A1587>0,VLOOKUP(A1587,Liste!$B$179                         : Liste!$C$189,2),\"\")","v":""},null,null,{"$f":"IF(D1587>0,VLOOKUP(D1587,Liste!$A$10:$D$163,4),\"\")","v":""},null,null,null,""]
[null,{"$f":"IF(A1588>0,VLOOKUP(A1588,Liste!$B$179                         : Liste!$C$189,2),\"\")","v":""},null,null,{"$f":"IF(D1588>0,VLOOKUP(D1588,Liste!$A$10:$D$163,4),\"\")","v":""},null,null,null,""]
[null,{"$f":"IF(A1589>0,VLOOKUP(A1589,Liste!$B$179                         : Liste!$C$189,2),\"\")","v":""},null,null,{"$f":"IF(D1589>0,VLOOKUP(D1589,Liste!$A$10:$D$163,4),\"\")","v":""},null,null,null,""]
[null,{"$f":"IF(A1590>0,VLOOKUP(A1590,Liste!$B$179                         : Liste!$C$189,2),\"\")","v":""},null,null,{"$f":"IF(D1590>0,VLOOKUP(D1590,Liste!$A$10:$D$163,4),\"\")","v":""},null,null,null,""]
[null,{"$f":"IF(A1591>0,VLOOKUP(A1591,Liste!$B$179                         : Liste!$C$189,2),\"\")","v":""},null,null,{"$f":"IF(D1591>0,VLOOKUP(D1591,Liste!$A$10:$D$163,4),\"\")","v":""},null,null,null,""]
[null,{"$f":"IF(A1592>0,VLOOKUP(A1592,Liste!$B$179                         : Liste!$C$189,2),\"\")","v":""},null,null,{"$f":"IF(D1592>0,VLOOKUP(D1592,Liste!$A$10:$D$163,4),\"\")","v":""},null,null,null,""]
[null,{"$f":"IF(A1593>0,VLOOKUP(A1593,Liste!$B$179                         : Liste!$C$189,2),\"\")","v":""},null,null,{"$f":"IF(D1593>0,VLOOKUP(D1593,Liste!$A$10:$D$163,4),\"\")","v":""},null,null,null,""]
[null,{"$f":"IF(A1594>0,VLOOKUP(A1594,Liste!$B$179                         : Liste!$C$189,2),\"\")","v":""},null,null,{"$f":"IF(D1594>0,VLOOKUP(D1594,Liste!$A$10:$D$163,4),\"\")","v":""},null,null,null,""]
[null,{"$f":"IF(A1595>0,VLOOKUP(A1595,Liste!$B$179                         : Liste!$C$189,2),\"\")","v":""},null,null,{"$f":"IF(D1595>0,VLOOKUP(D1595,Liste!$A$10:$D$163,4),\"\")","v":""},null,null,null,""]
[null,{"$f":"IF(A1596>0,VLOOKUP(A1596,Liste!$B$179                         : Liste!$C$189,2),\"\")","v":""},null,null,{"$f":"IF(D1596>0,VLOOKUP(D1596,Liste!$A$10:$D$163,4),\"\")","v":""},null,null,null,""]
[null,{"$f":"IF(A1597>0,VLOOKUP(A1597,Liste!$B$179                         : Liste!$C$189,2),\"\")","v":""},null,null,{"$f":"IF(D1597>0,VLOOKUP(D1597,Liste!$A$10:$D$163,4),\"\")","v":""},null,null,null,""]
[null,{"$f":"IF(A1598>0,VLOOKUP(A1598,Liste!$B$179                         : Liste!$C$189,2),\"\")","v":""},null,null,{"$f":"IF(D1598>0,VLOOKUP(D1598,Liste!$A$10:$D$163,4),\"\")","v":""},null,null,null,""]
[null,{"$f":"IF(A1599>0,VLOOKUP(A1599,Liste!$B$179                         : Liste!$C$189,2),\"\")","v":""},null,null,{"$f":"IF(D1599>0,VLOOKUP(D1599,Liste!$A$10:$D$163,4),\"\")","v":""},null,null,null,""]
[null,{"$f":"IF(A1600>0,VLOOKUP(A1600,Liste!$B$179                         : Liste!$C$189,2),\"\")","v":""},null,null,{"$f":"IF(D1600>0,VLOOKUP(D1600,Liste!$A$10:$D$163,4),\"\")","v":""},null,null,null,""]
[null,{"$f":"IF(A1601>0,VLOOKUP(A1601,Liste!$B$179                         : Liste!$C$189,2),\"\")","v":""},null,null,{"$f":"IF(D1601>0,VLOOKUP(D1601,Liste!$A$10:$D$163,4),\"\")","v":""},null,null,null,""]
[null,{"$f":"IF(A1602>0,VLOOKUP(A1602,Liste!$B$179                         : Liste!$C$189,2),\"\")","v":""},null,null,{"$f":"IF(D1602>0,VLOOKUP(D1602,Liste!$A$10:$D$163,4),\"\")","v":""},null,null,null,""]
[null,{"$f":"IF(A1603>0,VLOOKUP(A1603,Liste!$B$179                         : Liste!$C$189,2),\"\")","v":""},null,null,{"$f":"IF(D1603>0,VLOOKUP(D1603,Liste!$A$10:$D$163,4),\"\")","v":""},null,null,null,""]
[null,{"$f":"IF(A1604>0,VLOOKUP(A1604,Liste!$B$179                         : Liste!$C$189,2),\"\")","v":""},null,null,{"$f":"IF(D1604>0,VLOOKUP(D1604,Liste!$A$10:$D$163,4),\"\")","v":""},null,null,null,""]
[null,{"$f":"IF(A1605>0,VLOOKUP(A1605,Liste!$B$179                         : Liste!$C$189,2),\"\")","v":""},null,null,{"$f":"IF(D1605>0,VLOOKUP(D1605,Liste!$A$10:$D$163,4),\"\")","v":""},null,null,null,""]
[null,{"$f":"IF(A1606>0,VLOOKUP(A1606,Liste!$B$179                         : Liste!$C$189,2),\"\")","v":""},null,null,{"$f":"IF(D1606>0,VLOOKUP(D1606,Liste!$A$10:$D$163,4),\"\")","v":""},null,null,null,{"$f":"IF(AND(D1606>0,F1606+G1606+H1606=0),\"EN ATTENTE\",IF(F1606+G1606+H1606>1,\"ERREUR\",\"\"))","v":""}]
[null,{"$f":"IF(A1607>0,VLOOKUP(A1607,Liste!$B$179                         : Liste!$C$189,2),\"\")","v":""},null,null,{"$f":"IF(D1607>0,VLOOKUP(D1607,Liste!$A$10:$D$163,4),\"\")","v":""},null,null,null,""]
[null,{"$f":"IF(A1608>0,VLOOKUP(A1608,Liste!$B$179                         : Liste!$C$189,2),\"\")","v":""},null,null,{"$f":"IF(D1608>0,VLOOKUP(D1608,Liste!$A$10:$D$163,4),\"\")","v":""},null,null,null,""]
[null,{"$f":"IF(A1609>0,VLOOKUP(A1609,Liste!$B$179                         : Liste!$C$189,2),\"\")","v":""},null,null,{"$f":"IF(D1609>0,VLOOKUP(D1609,Liste!$A$10:$D$163,4),\"\")","v":""},null,null,null,""]
[null,{"$f":"IF(A1610>0,VLOOKUP(A1610,Liste!$B$179                         : Liste!$C$189,2),\"\")","v":""},null,null,{"$f":"IF(D1610>0,VLOOKUP(D1610,Liste!$A$10:$D$163,4),\"\")","v":""},null,null,null,""]
[null,{"$f":"IF(A1611>0,VLOOKUP(A1611,Liste!$B$179                         : Liste!$C$189,2),\"\")","v":""},null,null,{"$f":"IF(D1611>0,VLOOKUP(D1611,Liste!$A$10:$D$163,4),\"\")","v":""},null,null,null,""]
[null,{"$f":"IF(A1612>0,VLOOKUP(A1612,Liste!$B$179                         : Liste!$C$189,2),\"\")","v":""},null,null,{"$f":"IF(D1612>0,VLOOKUP(D1612,Liste!$A$10:$D$163,4),\"\")","v":""},null,null,null,""]
[null,{"$f":"IF(A1613>0,VLOOKUP(A1613,Liste!$B$179                         : Liste!$C$189,2),\"\")","v":""},null,null,{"$f":"IF(D1613>0,VLOOKUP(D1613,Liste!$A$10:$D$163,4),\"\")","v":""},null,null,null,""]
[null,{"$f":"IF(A1614>0,VLOOKUP(A1614,Liste!$B$179                         : Liste!$C$189,2),\"\")","v":""},null,null,{"$f":"IF(D1614>0,VLOOKUP(D1614,Liste!$A$10:$D$163,4),\"\")","v":""},null,null,null,""]
[null,{"$f":"IF(A1615>0,VLOOKUP(A1615,Liste!$B$179                         : Liste!$C$189,2),\"\")","v":""},null,null,{"$f":"IF(D1615>0,VLOOKUP(D1615,Liste!$A$10:$D$163,4),\"\")","v":""},null,null,null,""]
[null,{"$f":"IF(A1616>0,VLOOKUP(A1616,Liste!$B$179                         : Liste!$C$189,2),\"\")","v":""},null,null,{"$f":"IF(D1616>0,VLOOKUP(D1616,Liste!$A$10:$D$163,4),\"\")","v":""},null,null,null,""]
[null,{"$f":"IF(A1617>0,VLOOKUP(A1617,Liste!$B$179                         : Liste!$C$189,2),\"\")","v":""},null,null,{"$f":"IF(D1617>0,VLOOKUP(D1617,Liste!$A$10:$D$163,4),\"\")","v":""},null,null,null,""]
[null,{"$f":"IF(A1618>0,VLOOKUP(A1618,Liste!$B$179                         : Liste!$C$189,2),\"\")","v":""},null,null,{"$f":"IF(D1618>0,VLOOKUP(D1618,Liste!$A$10:$D$163,4),\"\")","v":""},null,null,null,""]
[null,{"$f":"IF(A1619>0,VLOOKUP(A1619,Liste!$B$179                         : Liste!$C$189,2),\"\")","v":""},null,null,{"$f":"IF(D1619>0,VLOOKUP(D1619,Liste!$A$10:$D$163,4),\"\")","v":""},null,null,null,""]
[null,{"$f":"IF(A1620>0,VLOOKUP(A1620,Liste!$B$179                         : Liste!$C$189,2),\"\")","v":""},null,null,{"$f":"IF(D1620>0,VLOOKUP(D1620,Liste!$A$10:$D$163,4),\"\")","v":""},null,null,null,""]
[null,{"$f":"IF(A1621>0,VLOOKUP(A1621,Liste!$B$179                         : Liste!$C$189,2),\"\")","v":""},null,null,{"$f":"IF(D1621>0,VLOOKUP(D1621,Liste!$A$10:$D$163,4),\"\")","v":""},null,null,null,""]
[null,{"$f":"IF(A1622>0,VLOOKUP(A1622,Liste!$B$179                         : Liste!$C$189,2),\"\")","v":""},null,null,{"$f":"IF(D1622>0,VLOOKUP(D1622,Liste!$A$10:$D$163,4),\"\")","v":""},null,null,null,""]
[null,{"$f":"IF(A1623>0,VLOOKUP(A1623,Liste!$B$179                         : Liste!$C$189,2),\"\")","v":""},null,null,{"$f":"IF(D1623>0,VLOOKUP(D1623,Liste!$A$10:$D$163,4),\"\")","v":""},null,null,null,""]
[null,{"$f":"IF(A1624>0,VLOOKUP(A1624,Liste!$B$179                         : Liste!$C$189,2),\"\")","v":""},null,null,{"$f":"IF(D1624>0,VLOOKUP(D1624,Liste!$A$10:$D$163,4),\"\")","v":""},null,null,null,""]
[null,{"$f":"IF(A1625>0,VLOOKUP(A1625,Liste!$B$179                         : Liste!$C$189,2),\"\")","v":""},null,null,{"$f":"IF(D1625>0,VLOOKUP(D1625,Liste!$A$10:$D$163,4),\"\")","v":""},null,null,null,""]
[null,{"$f":"IF(A1626>0,VLOOKUP(A1626,Liste!$B$179                         : Liste!$C$189,2),\"\")","v":""},null,null,{"$f":"IF(D1626>0,VLOOKUP(D1626,Liste!$A$10:$D$163,4),\"\")","v":""},null,null,null,""]
[null,{"$f":"IF(A1627>0,VLOOKUP(A1627,Liste!$B$179                         : Liste!$C$189,2),\"\")","v":""},null,null,{"$f":"IF(D1627>0,VLOOKUP(D1627,Liste!$A$10:$D$163,4),\"\")","v":""},null,null,null,""]
[null,{"$f":"IF(A1628>0,VLOOKUP(A1628,Liste!$B$179                         : Liste!$C$189,2),\"\")","v":""},null,null,{"$f":"IF(D1628>0,VLOOKUP(D1628,Liste!$A$10:$D$163,4),\"\")","v":""},null,null,null,""]
[null,{"$f":"IF(A1629>0,VLOOKUP(A1629,Liste!$B$179                         : Liste!$C$189,2),\"\")","v":""},null,null,{"$f":"IF(D1629>0,VLOOKUP(D1629,Liste!$A$10:$D$163,4),\"\")","v":""},null,null,null,""]
[null,{"$f":"IF(A1630>0,VLOOKUP(A1630,Liste!$B$179                         : Liste!$C$189,2),\"\")","v":""},null,null,{"$f":"IF(D1630>0,VLOOKUP(D1630,Liste!$A$10:$D$163,4),\"\")","v":""},null,null,null,""]
[null,{"$f":"IF(A1631>0,VLOOKUP(A1631,Liste!$B$179                         : Liste!$C$189,2),\"\")","v":""},null,null,{"$f":"IF(D1631>0,VLOOKUP(D1631,Liste!$A$10:$D$163,4),\"\")","v":""},null,null,null,""]
[null,{"$f":"IF(A1632>0,VLOOKUP(A1632,Liste!$B$179                         : Liste!$C$189,2),\"\")","v":""},null,null,{"$f":"IF(D1632>0,VLOOKUP(D1632,Liste!$A$10:$D$163,4),\"\")","v":""},null,null,null,""]
[null,{"$f":"IF(A1633>0,VLOOKUP(A1633,Liste!$B$179                         : Liste!$C$189,2),\"\")","v":""},null,null,{"$f":"IF(D1633>0,VLOOKUP(D1633,Liste!$A$10:$D$163,4),\"\")","v":""},null,null,null,""]
[null,{"$f":"IF(A1634>0,VLOOKUP(A1634,Liste!$B$179                         : Liste!$C$189,2),\"\")","v":""},null,null,{"$f":"IF(D1634>0,VLOOKUP(D1634,Liste!$A$10:$D$163,4),\"\")","v":""},null,null,null,""]
[null,{"$f":"IF(A1635>0,VLOOKUP(A1635,Liste!$B$179                         : Liste!$C$189,2),\"\")","v":""},null,null,{"$f":"IF(D1635>0,VLOOKUP(D1635,Liste!$A$10:$D$163,4),\"\")","v":""},null,null,null,""]
[null,{"$f":"IF(A1636>0,VLOOKUP(A1636,Liste!$B$179                         : Liste!$C$189,2),\"\")","v":""},null,null,{"$f":"IF(D1636>0,VLOOKUP(D1636,Liste!$A$10:$D$163,4),\"\")","v":""},null,null,null,""]
[null,{"$f":"IF(A1637>0,VLOOKUP(A1637,Liste!$B$179                         : Liste!$C$189,2),\"\")","v":""},null,null,{"$f":"IF(D1637>0,VLOOKUP(D1637,Liste!$A$10:$D$163,4),\"\")","v":""},null,null,null,""]
[null,{"$f":"IF(A1638>0,VLOOKUP(A1638,Liste!$B$179                         : Liste!$C$189,2),\"\")","v":""},null,null,{"$f":"IF(D1638>0,VLOOKUP(D1638,Liste!$A$10:$D$163,4),\"\")","v":""},null,null,null,""]
[null,{"$f":"IF(A1639>0,VLOOKUP(A1639,Liste!$B$179                         : Liste!$C$189,2),\"\")","v":""},null,null,{"$f":"IF(D1639>0,VLOOKUP(D1639,Liste!$A$10:$D$163,4),\"\")","v":""},null,null,null,""]
[null,{"$f":"IF(A1640>0,VLOOKUP(A1640,Liste!$B$179                         : Liste!$C$189,2),\"\")","v":""},null,null,{"$f":"IF(D1640>0,VLOOKUP(D1640,Liste!$A$10:$D$163,4),\"\")","v":""},null,null,null,""]
[null,{"$f":"IF(A1641>0,VLOOKUP(A1641,Liste!$B$179                         : Liste!$C$189,2),\"\")","v":""},null,null,{"$f":"IF(D1641>0,VLOOKUP(D1641,Liste!$A$10:$D$163,4),\"\")","v":""},null,null,null,""]
[null,{"$f":"IF(A1642>0,VLOOKUP(A1642,Liste!$B$179                         : Liste!$C$189,2),\"\")","v":""},null,null,{"$f":"IF(D1642>0,VLOOKUP(D1642,Liste!$A$10:$D$163,4),\"\")","v":""},null,null,null,""]
[null,{"$f":"IF(A1643>0,VLOOKUP(A1643,Liste!$B$179                         : Liste!$C$189,2),\"\")","v":""},null,null,{"$f":"IF(D1643>0,VLOOKUP(D1643,Liste!$A$10:$D$163,4),\"\")","v":""},null,null,null,""]
[null,{"$f":"IF(A1644>0,VLOOKUP(A1644,Liste!$B$179                         : Liste!$C$189,2),\"\")","v":""},null,null,{"$f":"IF(D1644>0,VLOOKUP(D1644,Liste!$A$10:$D$163,4),\"\")","v":""},null,null,null,""]
[null,{"$f":"IF(A1645>0,VLOOKUP(A1645,Liste!$B$179                         : Liste!$C$189,2),\"\")","v":""},null,null,{"$f":"IF(D1645>0,VLOOKUP(D1645,Liste!$A$10:$D$163,4),\"\")","v":""},null,null,null,""]
[null,{"$f":"IF(A1646>0,VLOOKUP(A1646,Liste!$B$179                         : Liste!$C$189,2),\"\")","v":""},null,null,{"$f":"IF(D1646>0,VLOOKUP(D1646,Liste!$A$10:$D$163,4),\"\")","v":""},null,null,null,""]
[null,{"$f":"IF(A1647>0,VLOOKUP(A1647,Liste!$B$179                         : Liste!$C$189,2),\"\")","v":""},null,null,{"$f":"IF(D1647>0,VLOOKUP(D1647,Liste!$A$10:$D$163,4),\"\")","v":""},null,null,null,""]
[null,{"$f":"IF(A1648>0,VLOOKUP(A1648,Liste!$B$179                         : Liste!$C$189,2),\"\")","v":""},null,null,{"$f":"IF(D1648>0,VLOOKUP(D1648,Liste!$A$10:$D$163,4),\"\")","v":""},null,null,null,""]
[null,{"$f":"IF(A1649>0,VLOOKUP(A1649,Liste!$B$179                         : Liste!$C$189,2),\"\")","v":""},null,null,{"$f":"IF(D1649>0,VLOOKUP(D1649,Liste!$A$10:$D$163,4),\"\")","v":""},null,null,null,""]
[null,{"$f":"IF(A1650>0,VLOOKUP(A1650,Liste!$B$179                         : Liste!$C$189,2),\"\")","v":""},null,null,{"$f":"IF(D1650>0,VLOOKUP(D1650,Liste!$A$10:$D$163,4),\"\")","v":""},null,null,null,""]
[null,{"$f":"IF(A1651>0,VLOOKUP(A1651,Liste!$B$179                         : Liste!$C$189,2),\"\")","v":""},null,null,{"$f":"IF(D1651>0,VLOOKUP(D1651,Liste!$A$10:$D$163,4),\"\")","v":""},null,null,null,""]
[null,{"$f":"IF(A1652>0,VLOOKUP(A1652,Liste!$B$179                         : Liste!$C$189,2),\"\")","v":""},null,null,{"$f":"IF(D1652>0,VLOOKUP(D1652,Liste!$A$10:$D$163,4),\"\")","v":""},null,null,null,""]
[null,{"$f":"IF(A1653>0,VLOOKUP(A1653,Liste!$B$179                         : Liste!$C$189,2),\"\")","v":""},null,null,{"$f":"IF(D1653>0,VLOOKUP(D1653,Liste!$A$10:$D$163,4),\"\")","v":""},null,null,null,""]
[null,{"$f":"IF(A1654>0,VLOOKUP(A1654,Liste!$B$179                         : Liste!$C$189,2),\"\")","v":""},null,null,{"$f":"IF(D1654>0,VLOOKUP(D1654,Liste!$A$10:$D$163,4),\"\")","v":""},null,null,null,""]
[null,{"$f":"IF(A1655>0,VLOOKUP(A1655,Liste!$B$179                         : Liste!$C$189,2),\"\")","v":""},null,null,{"$f":"IF(D1655>0,VLOOKUP(D1655,Liste!$A$10:$D$163,4),\"\")","v":""},null,null,null,""]
[null,{"$f":"IF(A1656>0,VLOOKUP(A1656,Liste!$B$179                         : Liste!$C$189,2),\"\")","v":""},null,null,{"$f":"IF(D1656>0,VLOOKUP(D1656,Liste!$A$10:$D$163,4),\"\")","v":""},null,null,null,""]
[null,{"$f":"IF(A1657>0,VLOOKUP(A1657,Liste!$B$179                         : Liste!$C$189,2),\"\")","v":""},null,null,{"$f":"IF(D1657>0,VLOOKUP(D1657,Liste!$A$10:$D$163,4),\"\")","v":""},null,null,null,""]
[null,{"$f":"IF(A1658>0,VLOOKUP(A1658,Liste!$B$179                         : Liste!$C$189,2),\"\")","v":""},null,null,{"$f":"IF(D1658>0,VLOOKUP(D1658,Liste!$A$10:$D$163,4),\"\")","v":""},null,null,null,""]
[null,{"$f":"IF(A1659>0,VLOOKUP(A1659,Liste!$B$179                         : Liste!$C$189,2),\"\")","v":""},null,null,{"$f":"IF(D1659>0,VLOOKUP(D1659,Liste!$A$10:$D$163,4),\"\")","v":""},null,null,null,""]
[null,{"$f":"IF(A1660>0,VLOOKUP(A1660,Liste!$B$179                         : Liste!$C$189,2),\"\")","v":""},null,null,{"$f":"IF(D1660>0,VLOOKUP(D1660,Liste!$A$10:$D$163,4),\"\")","v":""},null,null,null,""]
[null,{"$f":"IF(A1661>0,VLOOKUP(A1661,Liste!$B$179                         : Liste!$C$189,2),\"\")","v":""},null,null,{"$f":"IF(D1661>0,VLOOKUP(D1661,Liste!$A$10:$D$163,4),\"\")","v":""},null,null,null,""]
[null,{"$f":"IF(A1662>0,VLOOKUP(A1662,Liste!$B$179                         : Liste!$C$189,2),\"\")","v":""},null,null,{"$f":"IF(D1662>0,VLOOKUP(D1662,Liste!$A$10:$D$163,4),\"\")","v":""},null,null,null,""]
[null,{"$f":"IF(A1663>0,VLOOKUP(A1663,Liste!$B$179                         : Liste!$C$189,2),\"\")","v":""},null,null,{"$f":"IF(D1663>0,VLOOKUP(D1663,Liste!$A$10:$D$163,4),\"\")","v":""},null,null,null,""]
[null,{"$f":"IF(A1664>0,VLOOKUP(A1664,Liste!$B$179                         : Liste!$C$189,2),\"\")","v":""},null,null,{"$f":"IF(D1664>0,VLOOKUP(D1664,Liste!$A$10:$D$163,4),\"\")","v":""},null,null,null,""]
[null,{"$f":"IF(A1665>0,VLOOKUP(A1665,Liste!$B$179                         : Liste!$C$189,2),\"\")","v":""},null,null,{"$f":"IF(D1665>0,VLOOKUP(D1665,Liste!$A$10:$D$163,4),\"\")","v":""},null,null,null,""]
[null,{"$f":"IF(A1666>0,VLOOKUP(A1666,Liste!$B$179                         : Liste!$C$189,2),\"\")","v":""},null,null,{"$f":"IF(D1666>0,VLOOKUP(D1666,Liste!$A$10:$D$163,4),\"\")","v":""},null,null,null,""]
[null,{"$f":"IF(A1667>0,VLOOKUP(A1667,Liste!$B$179                         : Liste!$C$189,2),\"\")","v":""},null,null,{"$f":"IF(D1667>0,VLOOKUP(D1667,Liste!$A$10:$D$163,4),\"\")","v":""},null,null,null,""]
[null,{"$f":"IF(A1668>0,VLOOKUP(A1668,Liste!$B$179                         : Liste!$C$189,2),\"\")","v":""},null,null,{"$f":"IF(D1668>0,VLOOKUP(D1668,Liste!$A$10:$D$163,4),\"\")","v":""},null,null,null,""]
[null,{"$f":"IF(A1669>0,VLOOKUP(A1669,Liste!$B$179                         : Liste!$C$189,2),\"\")","v":""},null,null,{"$f":"IF(D1669>0,VLOOKUP(D1669,Liste!$A$10:$D$163,4),\"\")","v":""},null,null,null,""]
[null,{"$f":"IF(A1670>0,VLOOKUP(A1670,Liste!$B$179                         : Liste!$C$189,2),\"\")","v":""},null,null,{"$f":"IF(D1670>0,VLOOKUP(D1670,Liste!$A$10:$D$163,4),\"\")","v":""},null,null,null,{"$f":"IF(AND(D1670>0,F1670+G1670+H1670=0),\"EN ATTENTE\",IF(F1670+G1670+H1670>1,\"ERREUR\",\"\"))","v":""}]
[null,{"$f":"IF(A1671>0,VLOOKUP(A1671,Liste!$B$179                         : Liste!$C$189,2),\"\")","v":""},null,null,{"$f":"IF(D1671>0,VLOOKUP(D1671,Liste!$A$10:$D$163,4),\"\")","v":""},null,null,null,""]
[null,{"$f":"IF(A1672>0,VLOOKUP(A1672,Liste!$B$179                         : Liste!$C$189,2),\"\")","v":""},null,null,{"$f":"IF(D1672>0,VLOOKUP(D1672,Liste!$A$10:$D$163,4),\"\")","v":""},null,null,null,""]
[null,{"$f":"IF(A1673>0,VLOOKUP(A1673,Liste!$B$179                         : Liste!$C$189,2),\"\")","v":""},null,null,{"$f":"IF(D1673>0,VLOOKUP(D1673,Liste!$A$10:$D$163,4),\"\")","v":""},null,null,null,""]
[null,{"$f":"IF(A1674>0,VLOOKUP(A1674,Liste!$B$179                         : Liste!$C$189,2),\"\")","v":""},null,null,{"$f":"IF(D1674>0,VLOOKUP(D1674,Liste!$A$10:$D$163,4),\"\")","v":""},null,null,null,""]
[null,{"$f":"IF(A1675>0,VLOOKUP(A1675,Liste!$B$179                         : Liste!$C$189,2),\"\")","v":""},null,null,{"$f":"IF(D1675>0,VLOOKUP(D1675,Liste!$A$10:$D$163,4),\"\")","v":""},null,null,null,""]
[null,{"$f":"IF(A1676>0,VLOOKUP(A1676,Liste!$B$179                         : Liste!$C$189,2),\"\")","v":""},null,null,{"$f":"IF(D1676>0,VLOOKUP(D1676,Liste!$A$10:$D$163,4),\"\")","v":""},null,null,null,""]
[null,{"$f":"IF(A1677>0,VLOOKUP(A1677,Liste!$B$179                         : Liste!$C$189,2),\"\")","v":""},null,null,{"$f":"IF(D1677>0,VLOOKUP(D1677,Liste!$A$10:$D$163,4),\"\")","v":""},null,null,null,""]
[null,{"$f":"IF(A1678>0,VLOOKUP(A1678,Liste!$B$179                         : Liste!$C$189,2),\"\")","v":""},null,null,{"$f":"IF(D1678>0,VLOOKUP(D1678,Liste!$A$10:$D$163,4),\"\")","v":""},null,null,null,""]
[null,{"$f":"IF(A1679>0,VLOOKUP(A1679,Liste!$B$179                         : Liste!$C$189,2),\"\")","v":""},null,null,{"$f":"IF(D1679>0,VLOOKUP(D1679,Liste!$A$10:$D$163,4),\"\")","v":""},null,null,null,""]
[null,{"$f":"IF(A1680>0,VLOOKUP(A1680,Liste!$B$179                         : Liste!$C$189,2),\"\")","v":""},null,null,{"$f":"IF(D1680>0,VLOOKUP(D1680,Liste!$A$10:$D$163,4),\"\")","v":""},null,null,null,""]
[null,{"$f":"IF(A1681>0,VLOOKUP(A1681,Liste!$B$179                         : Liste!$C$189,2),\"\")","v":""},null,null,{"$f":"IF(D1681>0,VLOOKUP(D1681,Liste!$A$10:$D$163,4),\"\")","v":""},null,null,null,""]
[null,{"$f":"IF(A1682>0,VLOOKUP(A1682,Liste!$B$179                         : Liste!$C$189,2),\"\")","v":""},null,null,{"$f":"IF(D1682>0,VLOOKUP(D1682,Liste!$A$10:$D$163,4),\"\")","v":""},null,null,null,""]
[null,{"$f":"IF(A1683>0,VLOOKUP(A1683,Liste!$B$179                         : Liste!$C$189,2),\"\")","v":""},null,null,{"$f":"IF(D1683>0,VLOOKUP(D1683,Liste!$A$10:$D$163,4),\"\")","v":""},null,null,null,""]
[null,{"$f":"IF(A1684>0,VLOOKUP(A1684,Liste!$B$179                         : Liste!$C$189,2),\"\")","v":""},null,null,{"$f":"IF(D1684>0,VLOOKUP(D1684,Liste!$A$10:$D$163,4),\"\")","v":""},null,null,null,""]
[null,{"$f":"IF(A1685>0,VLOOKUP(A1685,Liste!$B$179                         : Liste!$C$189,2),\"\")","v":""},null,null,{"$f":"IF(D1685>0,VLOOKUP(D1685,Liste!$A$10:$D$163,4),\"\")","v":""},null,null,null,""]
[null,{"$f":"IF(A1686>0,VLOOKUP(A1686,Liste!$B$179                         : Liste!$C$189,2),\"\")","v":""},null,null,{"$f":"IF(D1686>0,VLOOKUP(D1686,Liste!$A$10:$D$163,4),\"\")","v":""},null,null,null,""]
[null,{"$f":"IF(A1687>0,VLOOKUP(A1687,Liste!$B$179                         : Liste!$C$189,2),\"\")","v":""},null,null,{"$f":"IF(D1687>0,VLOOKUP(D1687,Liste!$A$10:$D$163,4),\"\")","v":""},null,null,null,""]
[null,{"$f":"IF(A1688>0,VLOOKUP(A1688,Liste!$B$179                         : Liste!$C$189,2),\"\")","v":""},null,null,{"$f":"IF(D1688>0,VLOOKUP(D1688,Liste!$A$10:$D$163,4),\"\")","v":""},null,null,null,""]
[null,{"$f":"IF(A1689>0,VLOOKUP(A1689,Liste!$B$179                         : Liste!$C$189,2),\"\")","v":""},null,null,{"$f":"IF(D1689>0,VLOOKUP(D1689,Liste!$A$10:$D$163,4),\"\")","v":""},null,null,null,""]
[null,{"$f":"IF(A1690>0,VLOOKUP(A1690,Liste!$B$179                         : Liste!$C$189,2),\"\")","v":""},null,null,{"$f":"IF(D1690>0,VLOOKUP(D1690,Liste!$A$10:$D$163,4),\"\")","v":""},null,null,null,""]
[null,{"$f":"IF(A1691>0,VLOOKUP(A1691,Liste!$B$179                         : Liste!$C$189,2),\"\")","v":""},null,null,{"$f":"IF(D1691>0,VLOOKUP(D1691,Liste!$A$10:$D$163,4),\"\")","v":""},null,null,null,""]
[null,{"$f":"IF(A1692>0,VLOOKUP(A1692,Liste!$B$179                         : Liste!$C$189,2),\"\")","v":""},null,null,{"$f":"IF(D1692>0,VLOOKUP(D1692,Liste!$A$10:$D$163,4),\"\")","v":""},null,null,null,""]
[null,{"$f":"IF(A1693>0,VLOOKUP(A1693,Liste!$B$179                         : Liste!$C$189,2),\"\")","v":""},null,null,{"$f":"IF(D1693>0,VLOOKUP(D1693,Liste!$A$10:$D$163,4),\"\")","v":""},null,null,null,""]
[null,{"$f":"IF(A1694>0,VLOOKUP(A1694,Liste!$B$179                         : Liste!$C$189,2),\"\")","v":""},null,null,{"$f":"IF(D1694>0,VLOOKUP(D1694,Liste!$A$10:$D$163,4),\"\")","v":""},null,null,null,""]
[null,{"$f":"IF(A1695>0,VLOOKUP(A1695,Liste!$B$179                         : Liste!$C$189,2),\"\")","v":""},null,null,{"$f":"IF(D1695>0,VLOOKUP(D1695,Liste!$A$10:$D$163,4),\"\")","v":""},null,null,null,""]
[null,{"$f":"IF(A1696>0,VLOOKUP(A1696,Liste!$B$179                         : Liste!$C$189,2),\"\")","v":""},null,null,{"$f":"IF(D1696>0,VLOOKUP(D1696,Liste!$A$10:$D$163,4),\"\")","v":""},null,null,null,""]
[null,{"$f":"IF(A1697>0,VLOOKUP(A1697,Liste!$B$179                         : Liste!$C$189,2),\"\")","v":""},null,null,{"$f":"IF(D1697>0,VLOOKUP(D1697,Liste!$A$10:$D$163,4),\"\")","v":""},null,null,null,""]
[null,{"$f":"IF(A1698>0,VLOOKUP(A1698,Liste!$B$179                         : Liste!$C$189,2),\"\")","v":""},null,null,{"$f":"IF(D1698>0,VLOOKUP(D1698,Liste!$A$10:$D$163,4),\"\")","v":""},null,null,null,""]
[null,{"$f":"IF(A1699>0,VLOOKUP(A1699,Liste!$B$179                         : Liste!$C$189,2),\"\")","v":""},null,null,{"$f":"IF(D1699>0,VLOOKUP(D1699,Liste!$A$10:$D$163,4),\"\")","v":""},null,null,null,""]
[null,{"$f":"IF(A1700>0,VLOOKUP(A1700,Liste!$B$179                         : Liste!$C$189,2),\"\")","v":""},null,null,{"$f":"IF(D1700>0,VLOOKUP(D1700,Liste!$A$10:$D$163,4),\"\")","v":""},null,null,null,""]
[null,{"$f":"IF(A1701>0,VLOOKUP(A1701,Liste!$B$179                         : Liste!$C$189,2),\"\")","v":""},null,null,{"$f":"IF(D1701>0,VLOOKUP(D1701,Liste!$A$10:$D$163,4),\"\")","v":""},null,null,null,""]
[null,{"$f":"IF(A1702>0,VLOOKUP(A1702,Liste!$B$179                         : Liste!$C$189,2),\"\")","v":""},null,null,{"$f":"IF(D1702>0,VLOOKUP(D1702,Liste!$A$10:$D$163,4),\"\")","v":""},null,null,null,""]
[null,{"$f":"IF(A1703>0,VLOOKUP(A1703,Liste!$B$179                         : Liste!$C$189,2),\"\")","v":""},null,null,{"$f":"IF(D1703>0,VLOOKUP(D1703,Liste!$A$10:$D$163,4),\"\")","v":""},null,null,null,""]
[null,{"$f":"IF(A1704>0,VLOOKUP(A1704,Liste!$B$179                         : Liste!$C$189,2),\"\")","v":""},null,null,{"$f":"IF(D1704>0,VLOOKUP(D1704,Liste!$A$10:$D$163,4),\"\")","v":""},null,null,null,""]
[null,{"$f":"IF(A1705>0,VLOOKUP(A1705,Liste!$B$179                         : Liste!$C$189,2),\"\")","v":""},null,null,{"$f":"IF(D1705>0,VLOOKUP(D1705,Liste!$A$10:$D$163,4),\"\")","v":""},null,null,null,""]
[null,{"$f":"IF(A1706>0,VLOOKUP(A1706,Liste!$B$179                         : Liste!$C$189,2),\"\")","v":""},null,null,{"$f":"IF(D1706>0,VLOOKUP(D1706,Liste!$A$10:$D$163,4),\"\")","v":""},null,null,null,""]
[null,{"$f":"IF(A1707>0,VLOOKUP(A1707,Liste!$B$179                         : Liste!$C$189,2),\"\")","v":""},null,null,{"$f":"IF(D1707>0,VLOOKUP(D1707,Liste!$A$10:$D$163,4),\"\")","v":""},null,null,null,""]
[null,{"$f":"IF(A1708>0,VLOOKUP(A1708,Liste!$B$179                         : Liste!$C$189,2),\"\")","v":""},null,null,{"$f":"IF(D1708>0,VLOOKUP(D1708,Liste!$A$10:$D$163,4),\"\")","v":""},null,null,null,""]
[null,{"$f":"IF(A1709>0,VLOOKUP(A1709,Liste!$B$179                         : Liste!$C$189,2),\"\")","v":""},null,null,{"$f":"IF(D1709>0,VLOOKUP(D1709,Liste!$A$10:$D$163,4),\"\")","v":""},null,null,null,""]
[null,{"$f":"IF(A1710>0,VLOOKUP(A1710,Liste!$B$179                         : Liste!$C$189,2),\"\")","v":""},null,null,{"$f":"IF(D1710>0,VLOOKUP(D1710,Liste!$A$10:$D$163,4),\"\")","v":""},null,null,null,""]
[null,{"$f":"IF(A1711>0,VLOOKUP(A1711,Liste!$B$179                         : Liste!$C$189,2),\"\")","v":""},null,null,{"$f":"IF(D1711>0,VLOOKUP(D1711,Liste!$A$10:$D$163,4),\"\")","v":""},null,null,null,""]
[null,{"$f":"IF(A1712>0,VLOOKUP(A1712,Liste!$B$179                         : Liste!$C$189,2),\"\")","v":""},null,null,{"$f":"IF(D1712>0,VLOOKUP(D1712,Liste!$A$10:$D$163,4),\"\")","v":""},null,null,null,""]
[null,{"$f":"IF(A1713>0,VLOOKUP(A1713,Liste!$B$179                         : Liste!$C$189,2),\"\")","v":""},null,null,{"$f":"IF(D1713>0,VLOOKUP(D1713,Liste!$A$10:$D$163,4),\"\")","v":""},null,null,null,""]
[null,{"$f":"IF(A1714>0,VLOOKUP(A1714,Liste!$B$179                         : Liste!$C$189,2),\"\")","v":""},null,null,{"$f":"IF(D1714>0,VLOOKUP(D1714,Liste!$A$10:$D$163,4),\"\")","v":""},null,null,null,""]
[null,{"$f":"IF(A1715>0,VLOOKUP(A1715,Liste!$B$179                         : Liste!$C$189,2),\"\")","v":""},null,null,{"$f":"IF(D1715>0,VLOOKUP(D1715,Liste!$A$10:$D$163,4),\"\")","v":""},null,null,null,""]
[null,{"$f":"IF(A1716>0,VLOOKUP(A1716,Liste!$B$179                         : Liste!$C$189,2),\"\")","v":""},null,null,{"$f":"IF(D1716>0,VLOOKUP(D1716,Liste!$A$10:$D$163,4),\"\")","v":""},null,null,null,""]
[null,{"$f":"IF(A1717>0,VLOOKUP(A1717,Liste!$B$179                         : Liste!$C$189,2),\"\")","v":""},null,null,{"$f":"IF(D1717>0,VLOOKUP(D1717,Liste!$A$10:$D$163,4),\"\")","v":""},null,null,null,""]
[null,{"$f":"IF(A1718>0,VLOOKUP(A1718,Liste!$B$179                         : Liste!$C$189,2),\"\")","v":""},null,null,{"$f":"IF(D1718>0,VLOOKUP(D1718,Liste!$A$10:$D$163,4),\"\")","v":""},null,null,null,""]
[null,{"$f":"IF(A1719>0,VLOOKUP(A1719,Liste!$B$179                         : Liste!$C$189,2),\"\")","v":""},null,null,{"$f":"IF(D1719>0,VLOOKUP(D1719,Liste!$A$10:$D$163,4),\"\")","v":""},null,null,null,""]
[null,{"$f":"IF(A1720>0,VLOOKUP(A1720,Liste!$B$179                         : Liste!$C$189,2),\"\")","v":""},null,null,{"$f":"IF(D1720>0,VLOOKUP(D1720,Liste!$A$10:$D$163,4),\"\")","v":""},null,null,null,""]
[null,{"$f":"IF(A1721>0,VLOOKUP(A1721,Liste!$B$179                         : Liste!$C$189,2),\"\")","v":""},null,null,{"$f":"IF(D1721>0,VLOOKUP(D1721,Liste!$A$10:$D$163,4),\"\")","v":""},null,null,null,""]
[null,{"$f":"IF(A1722>0,VLOOKUP(A1722,Liste!$B$179                         : Liste!$C$189,2),\"\")","v":""},null,null,{"$f":"IF(D1722>0,VLOOKUP(D1722,Liste!$A$10:$D$163,4),\"\")","v":""},null,null,null,""]
[null,{"$f":"IF(A1723>0,VLOOKUP(A1723,Liste!$B$179                         : Liste!$C$189,2),\"\")","v":""},null,null,{"$f":"IF(D1723>0,VLOOKUP(D1723,Liste!$A$10:$D$163,4),\"\")","v":""},null,null,null,""]
[null,{"$f":"IF(A1724>0,VLOOKUP(A1724,Liste!$B$179                         : Liste!$C$189,2),\"\")","v":""},null,null,{"$f":"IF(D1724>0,VLOOKUP(D1724,Liste!$A$10:$D$163,4),\"\")","v":""},null,null,null,""]
[null,{"$f":"IF(A1725>0,VLOOKUP(A1725,Liste!$B$179                         : Liste!$C$189,2),\"\")","v":""},null,null,{"$f":"IF(D1725>0,VLOOKUP(D1725,Liste!$A$10:$D$163,4),\"\")","v":""},null,null,null,""]
[null,{"$f":"IF(A1726>0,VLOOKUP(A1726,Liste!$B$179                         : Liste!$C$189,2),\"\")","v":""},null,null,{"$f":"IF(D1726>0,VLOOKUP(D1726,Liste!$A$10:$D$163,4),\"\")","v":""},null,null,null,""]
[null,{"$f":"IF(A1727>0,VLOOKUP(A1727,Liste!$B$179                         : Liste!$C$189,2),\"\")","v":""},null,null,{"$f":"IF(D1727>0,VLOOKUP(D1727,Liste!$A$10:$D$163,4),\"\")","v":""},null,null,null,""]
[null,{"$f":"IF(A1728>0,VLOOKUP(A1728,Liste!$B$179                         : Liste!$C$189,2),\"\")","v":""},null,null,{"$f":"IF(D1728>0,VLOOKUP(D1728,Liste!$A$10:$D$163,4),\"\")","v":""},null,null,null,""]
[null,{"$f":"IF(A1729>0,VLOOKUP(A1729,Liste!$B$179                         : Liste!$C$189,2),\"\")","v":""},null,null,{"$f":"IF(D1729>0,VLOOKUP(D1729,Liste!$A$10:$D$163,4),\"\")","v":""},null,null,null,""]
[null,{"$f":"IF(A1730>0,VLOOKUP(A1730,Liste!$B$179                         : Liste!$C$189,2),\"\")","v":""},null,null,{"$f":"IF(D1730>0,VLOOKUP(D1730,Liste!$A$10:$D$163,4),\"\")","v":""},null,null,null,""]
[null,{"$f":"IF(A1731>0,VLOOKUP(A1731,Liste!$B$179                         : Liste!$C$189,2),\"\")","v":""},null,null,{"$f":"IF(D1731>0,VLOOKUP(D1731,Liste!$A$10:$D$163,4),\"\")","v":""},null,null,null,""]
[null,{"$f":"IF(A1732>0,VLOOKUP(A1732,Liste!$B$179                         : Liste!$C$189,2),\"\")","v":""},null,null,{"$f":"IF(D1732>0,VLOOKUP(D1732,Liste!$A$10:$D$163,4),\"\")","v":""},null,null,null,""]
[null,{"$f":"IF(A1733>0,VLOOKUP(A1733,Liste!$B$179                         : Liste!$C$189,2),\"\")","v":""},null,null,{"$f":"IF(D1733>0,VLOOKUP(D1733,Liste!$A$10:$D$163,4),\"\")","v":""},null,null,null,""]
[null,{"$f":"IF(A1734>0,VLOOKUP(A1734,Liste!$B$179                         : Liste!$C$189,2),\"\")","v":""},null,null,{"$f":"IF(D1734>0,VLOOKUP(D1734,Liste!$A$10:$D$163,4),\"\")","v":""},null,null,null,{"$f":"IF(AND(D1734>0,F1734+G1734+H1734=0),\"EN ATTENTE\",IF(F1734+G1734+H1734>1,\"ERREUR\",\"\"))","v":""}]
[null,{"$f":"IF(A1735>0,VLOOKUP(A1735,Liste!$B$179                         : Liste!$C$189,2),\"\")","v":""},null,null,{"$f":"IF(D1735>0,VLOOKUP(D1735,Liste!$A$10:$D$163,4),\"\")","v":""},null,null,null,""]
[null,{"$f":"IF(A1736>0,VLOOKUP(A1736,Liste!$B$179                         : Liste!$C$189,2),\"\")","v":""},null,null,{"$f":"IF(D1736>0,VLOOKUP(D1736,Liste!$A$10:$D$163,4),\"\")","v":""},null,null,null,""]
[null,{"$f":"IF(A1737>0,VLOOKUP(A1737,Liste!$B$179                         : Liste!$C$189,2),\"\")","v":""},null,null,{"$f":"IF(D1737>0,VLOOKUP(D1737,Liste!$A$10:$D$163,4),\"\")","v":""},null,null,null,""]
[null,{"$f":"IF(A1738>0,VLOOKUP(A1738,Liste!$B$179                         : Liste!$C$189,2),\"\")","v":""},null,null,{"$f":"IF(D1738>0,VLOOKUP(D1738,Liste!$A$10:$D$163,4),\"\")","v":""},null,null,null,""]
[null,{"$f":"IF(A1739>0,VLOOKUP(A1739,Liste!$B$179                         : Liste!$C$189,2),\"\")","v":""},null,null,{"$f":"IF(D1739>0,VLOOKUP(D1739,Liste!$A$10:$D$163,4),\"\")","v":""},null,null,null,""]
[null,{"$f":"IF(A1740>0,VLOOKUP(A1740,Liste!$B$179                         : Liste!$C$189,2),\"\")","v":""},null,null,{"$f":"IF(D1740>0,VLOOKUP(D1740,Liste!$A$10:$D$163,4),\"\")","v":""},null,null,null,""]
[null,{"$f":"IF(A1741>0,VLOOKUP(A1741,Liste!$B$179                         : Liste!$C$189,2),\"\")","v":""},null,null,{"$f":"IF(D1741>0,VLOOKUP(D1741,Liste!$A$10:$D$163,4),\"\")","v":""},null,null,null,""]
[null,{"$f":"IF(A1742>0,VLOOKUP(A1742,Liste!$B$179                         : Liste!$C$189,2),\"\")","v":""},null,null,{"$f":"IF(D1742>0,VLOOKUP(D1742,Liste!$A$10:$D$163,4),\"\")","v":""},null,null,null,""]
[null,{"$f":"IF(A1743>0,VLOOKUP(A1743,Liste!$B$179                         : Liste!$C$189,2),\"\")","v":""},null,null,{"$f":"IF(D1743>0,VLOOKUP(D1743,Liste!$A$10:$D$163,4),\"\")","v":""},null,null,null,""]
[null,{"$f":"IF(A1744>0,VLOOKUP(A1744,Liste!$B$179                         : Liste!$C$189,2),\"\")","v":""},null,null,{"$f":"IF(D1744>0,VLOOKUP(D1744,Liste!$A$10:$D$163,4),\"\")","v":""},null,null,null,""]
[null,{"$f":"IF(A1745>0,VLOOKUP(A1745,Liste!$B$179                         : Liste!$C$189,2),\"\")","v":""},null,null,{"$f":"IF(D1745>0,VLOOKUP(D1745,Liste!$A$10:$D$163,4),\"\")","v":""},null,null,null,""]
[null,{"$f":"IF(A1746>0,VLOOKUP(A1746,Liste!$B$179                         : Liste!$C$189,2),\"\")","v":""},null,null,{"$f":"IF(D1746>0,VLOOKUP(D1746,Liste!$A$10:$D$163,4),\"\")","v":""},null,null,null,""]
[null,{"$f":"IF(A1747>0,VLOOKUP(A1747,Liste!$B$179                         : Liste!$C$189,2),\"\")","v":""},null,null,{"$f":"IF(D1747>0,VLOOKUP(D1747,Liste!$A$10:$D$163,4),\"\")","v":""},null,null,null,""]
[null,{"$f":"IF(A1748>0,VLOOKUP(A1748,Liste!$B$179                         : Liste!$C$189,2),\"\")","v":""},null,null,{"$f":"IF(D1748>0,VLOOKUP(D1748,Liste!$A$10:$D$163,4),\"\")","v":""},null,null,null,""]
[null,{"$f":"IF(A1749>0,VLOOKUP(A1749,Liste!$B$179                         : Liste!$C$189,2),\"\")","v":""},null,null,{"$f":"IF(D1749>0,VLOOKUP(D1749,Liste!$A$10:$D$163,4),\"\")","v":""},null,null,null,""]
[null,{"$f":"IF(A1750>0,VLOOKUP(A1750,Liste!$B$179                         : Liste!$C$189,2),\"\")","v":""},null,null,{"$f":"IF(D1750>0,VLOOKUP(D1750,Liste!$A$10:$D$163,4),\"\")","v":""},null,null,null,""]
[null,{"$f":"IF(A1751>0,VLOOKUP(A1751,Liste!$B$179                         : Liste!$C$189,2),\"\")","v":""},null,null,{"$f":"IF(D1751>0,VLOOKUP(D1751,Liste!$A$10:$D$163,4),\"\")","v":""},null,null,null,""]
[null,{"$f":"IF(A1752>0,VLOOKUP(A1752,Liste!$B$179                         : Liste!$C$189,2),\"\")","v":""},null,null,{"$f":"IF(D1752>0,VLOOKUP(D1752,Liste!$A$10:$D$163,4),\"\")","v":""},null,null,null,""]
[null,{"$f":"IF(A1753>0,VLOOKUP(A1753,Liste!$B$179                         : Liste!$C$189,2),\"\")","v":""},null,null,{"$f":"IF(D1753>0,VLOOKUP(D1753,Liste!$A$10:$D$163,4),\"\")","v":""},null,null,null,""]
[null,{"$f":"IF(A1754>0,VLOOKUP(A1754,Liste!$B$179                         : Liste!$C$189,2),\"\")","v":""},null,null,{"$f":"IF(D1754>0,VLOOKUP(D1754,Liste!$A$10:$D$163,4),\"\")","v":""},null,null,null,""]
[null,{"$f":"IF(A1755>0,VLOOKUP(A1755,Liste!$B$179                         : Liste!$C$189,2),\"\")","v":""},null,null,{"$f":"IF(D1755>0,VLOOKUP(D1755,Liste!$A$10:$D$163,4),\"\")","v":""},null,null,null,""]
[null,{"$f":"IF(A1756>0,VLOOKUP(A1756,Liste!$B$179                         : Liste!$C$189,2),\"\")","v":""},null,null,{"$f":"IF(D1756>0,VLOOKUP(D1756,Liste!$A$10:$D$163,4),\"\")","v":""},null,null,null,""]
[null,{"$f":"IF(A1757>0,VLOOKUP(A1757,Liste!$B$179                         : Liste!$C$189,2),\"\")","v":""},null,null,{"$f":"IF(D1757>0,VLOOKUP(D1757,Liste!$A$10:$D$163,4),\"\")","v":""},null,null,null,""]
[null,{"$f":"IF(A1758>0,VLOOKUP(A1758,Liste!$B$179                         : Liste!$C$189,2),\"\")","v":""},null,null,{"$f":"IF(D1758>0,VLOOKUP(D1758,Liste!$A$10:$D$163,4),\"\")","v":""},null,null,null,""]
[null,{"$f":"IF(A1759>0,VLOOKUP(A1759,Liste!$B$179                         : Liste!$C$189,2),\"\")","v":""},null,null,{"$f":"IF(D1759>0,VLOOKUP(D1759,Liste!$A$10:$D$163,4),\"\")","v":""},null,null,null,""]
[null,{"$f":"IF(A1760>0,VLOOKUP(A1760,Liste!$B$179                         : Liste!$C$189,2),\"\")","v":""},null,null,{"$f":"IF(D1760>0,VLOOKUP(D1760,Liste!$A$10:$D$163,4),\"\")","v":""},null,null,null,""]
[null,{"$f":"IF(A1761>0,VLOOKUP(A1761,Liste!$B$179                         : Liste!$C$189,2),\"\")","v":""},null,null,{"$f":"IF(D1761>0,VLOOKUP(D1761,Liste!$A$10:$D$163,4),\"\")","v":""},null,null,null,""]
[null,{"$f":"IF(A1762>0,VLOOKUP(A1762,Liste!$B$179                         : Liste!$C$189,2),\"\")","v":""},null,null,{"$f":"IF(D1762>0,VLOOKUP(D1762,Liste!$A$10:$D$163,4),\"\")","v":""},null,null,null,""]
[null,{"$f":"IF(A1763>0,VLOOKUP(A1763,Liste!$B$179                         : Liste!$C$189,2),\"\")","v":""},null,null,{"$f":"IF(D1763>0,VLOOKUP(D1763,Liste!$A$10:$D$163,4),\"\")","v":""},null,null,null,""]
[null,{"$f":"IF(A1764>0,VLOOKUP(A1764,Liste!$B$179                         : Liste!$C$189,2),\"\")","v":""},null,null,{"$f":"IF(D1764>0,VLOOKUP(D1764,Liste!$A$10:$D$163,4),\"\")","v":""},null,null,null,""]
[null,{"$f":"IF(A1765>0,VLOOKUP(A1765,Liste!$B$179                         : Liste!$C$189,2),\"\")","v":""},null,null,{"$f":"IF(D1765>0,VLOOKUP(D1765,Liste!$A$10:$D$163,4),\"\")","v":""},null,null,null,""]
[null,{"$f":"IF(A1766>0,VLOOKUP(A1766,Liste!$B$179                         : Liste!$C$189,2),\"\")","v":""},null,null,{"$f":"IF(D1766>0,VLOOKUP(D1766,Liste!$A$10:$D$163,4),\"\")","v":""},null,null,null,""]
[null,{"$f":"IF(A1767>0,VLOOKUP(A1767,Liste!$B$179                         : Liste!$C$189,2),\"\")","v":""},null,null,{"$f":"IF(D1767>0,VLOOKUP(D1767,Liste!$A$10:$D$163,4),\"\")","v":""},null,null,null,""]
[null,{"$f":"IF(A1768>0,VLOOKUP(A1768,Liste!$B$179                         : Liste!$C$189,2),\"\")","v":""},null,null,{"$f":"IF(D1768>0,VLOOKUP(D1768,Liste!$A$10:$D$163,4),\"\")","v":""},null,null,null,""]
[null,{"$f":"IF(A1769>0,VLOOKUP(A1769,Liste!$B$179                         : Liste!$C$189,2),\"\")","v":""},null,null,{"$f":"IF(D1769>0,VLOOKUP(D1769,Liste!$A$10:$D$163,4),\"\")","v":""},null,null,null,""]
[null,{"$f":"IF(A1770>0,VLOOKUP(A1770,Liste!$B$179                         : Liste!$C$189,2),\"\")","v":""},null,null,{"$f":"IF(D1770>0,VLOOKUP(D1770,Liste!$A$10:$D$163,4),\"\")","v":""},null,null,null,""]
[null,{"$f":"IF(A1771>0,VLOOKUP(A1771,Liste!$B$179                         : Liste!$C$189,2),\"\")","v":""},null,null,{"$f":"IF(D1771>0,VLOOKUP(D1771,Liste!$A$10:$D$163,4),\"\")","v":""},null,null,null,""]
[null,{"$f":"IF(A1772>0,VLOOKUP(A1772,Liste!$B$179                         : Liste!$C$189,2),\"\")","v":""},null,null,{"$f":"IF(D1772>0,VLOOKUP(D1772,Liste!$A$10:$D$163,4),\"\")","v":""},null,null,null,""]
[null,{"$f":"IF(A1773>0,VLOOKUP(A1773,Liste!$B$179                         : Liste!$C$189,2),\"\")","v":""},null,null,{"$f":"IF(D1773>0,VLOOKUP(D1773,Liste!$A$10:$D$163,4),\"\")","v":""},null,null,null,""]
[null,{"$f":"IF(A1774>0,VLOOKUP(A1774,Liste!$B$179                         : Liste!$C$189,2),\"\")","v":""},null,null,{"$f":"IF(D1774>0,VLOOKUP(D1774,Liste!$A$10:$D$163,4),\"\")","v":""},null,null,null,""]
[null,{"$f":"IF(A1775>0,VLOOKUP(A1775,Liste!$B$179                         : Liste!$C$189,2),\"\")","v":""},null,null,{"$f":"IF(D1775>0,VLOOKUP(D1775,Liste!$A$10:$D$163,4),\"\")","v":""},null,null,null,""]
[null,{"$f":"IF(A1776>0,VLOOKUP(A1776,Liste!$B$179                         : Liste!$C$189,2),\"\")","v":""},null,null,{"$f":"IF(D1776>0,VLOOKUP(D1776,Liste!$A$10:$D$163,4),\"\")","v":""},null,null,null,""]
[null,{"$f":"IF(A1777>0,VLOOKUP(A1777,Liste!$B$179                         : Liste!$C$189,2),\"\")","v":""},null,null,{"$f":"IF(D1777>0,VLOOKUP(D1777,Liste!$A$10:$D$163,4),\"\")","v":""},null,null,null,""]
[null,{"$f":"IF(A1778>0,VLOOKUP(A1778,Liste!$B$179                         : Liste!$C$189,2),\"\")","v":""},null,null,{"$f":"IF(D1778>0,VLOOKUP(D1778,Liste!$A$10:$D$163,4),\"\")","v":""},null,null,null,""]
[null,{"$f":"IF(A1779>0,VLOOKUP(A1779,Liste!$B$179                         : Liste!$C$189,2),\"\")","v":""},null,null,{"$f":"IF(D1779>0,VLOOKUP(D1779,Liste!$A$10:$D$163,4),\"\")","v":""},null,null,null,""]
[null,{"$f":"IF(A1780>0,VLOOKUP(A1780,Liste!$B$179                         : Liste!$C$189,2),\"\")","v":""},null,null,{"$f":"IF(D1780>0,VLOOKUP(D1780,Liste!$A$10:$D$163,4),\"\")","v":""},null,null,null,""]
[null,{"$f":"IF(A1781>0,VLOOKUP(A1781,Liste!$B$179                         : Liste!$C$189,2),\"\")","v":""},null,null,{"$f":"IF(D1781>0,VLOOKUP(D1781,Liste!$A$10:$D$163,4),\"\")","v":""},null,null,null,""]
[null,{"$f":"IF(A1782>0,VLOOKUP(A1782,Liste!$B$179                         : Liste!$C$189,2),\"\")","v":""},null,null,{"$f":"IF(D1782>0,VLOOKUP(D1782,Liste!$A$10:$D$163,4),\"\")","v":""},null,null,null,""]
[null,{"$f":"IF(A1783>0,VLOOKUP(A1783,Liste!$B$179                         : Liste!$C$189,2),\"\")","v":""},null,null,{"$f":"IF(D1783>0,VLOOKUP(D1783,Liste!$A$10:$D$163,4),\"\")","v":""},null,null,null,""]
[null,{"$f":"IF(A1784>0,VLOOKUP(A1784,Liste!$B$179                         : Liste!$C$189,2),\"\")","v":""},null,null,{"$f":"IF(D1784>0,VLOOKUP(D1784,Liste!$A$10:$D$163,4),\"\")","v":""},null,null,null,""]
[null,{"$f":"IF(A1785>0,VLOOKUP(A1785,Liste!$B$179                         : Liste!$C$189,2),\"\")","v":""},null,null,{"$f":"IF(D1785>0,VLOOKUP(D1785,Liste!$A$10:$D$163,4),\"\")","v":""},null,null,null,""]
[null,{"$f":"IF(A1786>0,VLOOKUP(A1786,Liste!$B$179                         : Liste!$C$189,2),\"\")","v":""},null,null,{"$f":"IF(D1786>0,VLOOKUP(D1786,Liste!$A$10:$D$163,4),\"\")","v":""},null,null,null,""]
[null,{"$f":"IF(A1787>0,VLOOKUP(A1787,Liste!$B$179                         : Liste!$C$189,2),\"\")","v":""},null,null,{"$f":"IF(D1787>0,VLOOKUP(D1787,Liste!$A$10:$D$163,4),\"\")","v":""},null,null,null,""]
[null,{"$f":"IF(A1788>0,VLOOKUP(A1788,Liste!$B$179                         : Liste!$C$189,2),\"\")","v":""},null,null,{"$f":"IF(D1788>0,VLOOKUP(D1788,Liste!$A$10:$D$163,4),\"\")","v":""},null,null,null,""]
[null,{"$f":"IF(A1789>0,VLOOKUP(A1789,Liste!$B$179                         : Liste!$C$189,2),\"\")","v":""},null,null,{"$f":"IF(D1789>0,VLOOKUP(D1789,Liste!$A$10:$D$163,4),\"\")","v":""},null,null,null,""]
[null,{"$f":"IF(A1790>0,VLOOKUP(A1790,Liste!$B$179                         : Liste!$C$189,2),\"\")","v":""},null,null,{"$f":"IF(D1790>0,VLOOKUP(D1790,Liste!$A$10:$D$163,4),\"\")","v":""},null,null,null,""]
[null,{"$f":"IF(A1791>0,VLOOKUP(A1791,Liste!$B$179                         : Liste!$C$189,2),\"\")","v":""},null,null,{"$f":"IF(D1791>0,VLOOKUP(D1791,Liste!$A$10:$D$163,4),\"\")","v":""},null,null,null,""]
[null,{"$f":"IF(A1792>0,VLOOKUP(A1792,Liste!$B$179                         : Liste!$C$189,2),\"\")","v":""},null,null,{"$f":"IF(D1792>0,VLOOKUP(D1792,Liste!$A$10:$D$163,4),\"\")","v":""},null,null,null,""]
[null,{"$f":"IF(A1793>0,VLOOKUP(A1793,Liste!$B$179                         : Liste!$C$189,2),\"\")","v":""},null,null,{"$f":"IF(D1793>0,VLOOKUP(D1793,Liste!$A$10:$D$163,4),\"\")","v":""},null,null,null,""]
[null,{"$f":"IF(A1794>0,VLOOKUP(A1794,Liste!$B$179                         : Liste!$C$189,2),\"\")","v":""},null,null,{"$f":"IF(D1794>0,VLOOKUP(D1794,Liste!$A$10:$D$163,4),\"\")","v":""},null,null,null,""]
[null,{"$f":"IF(A1795>0,VLOOKUP(A1795,Liste!$B$179                         : Liste!$C$189,2),\"\")","v":""},null,null,{"$f":"IF(D1795>0,VLOOKUP(D1795,Liste!$A$10:$D$163,4),\"\")","v":""},null,null,null,""]
[null,{"$f":"IF(A1796>0,VLOOKUP(A1796,Liste!$B$179                         : Liste!$C$189,2),\"\")","v":""},null,null,{"$f":"IF(D1796>0,VLOOKUP(D1796,Liste!$A$10:$D$163,4),\"\")","v":""},null,null,null,""]
[null,{"$f":"IF(A1797>0,VLOOKUP(A1797,Liste!$B$179                         : Liste!$C$189,2),\"\")","v":""},null,null,{"$f":"IF(D1797>0,VLOOKUP(D1797,Liste!$A$10:$D$163,4),\"\")","v":""},null,null,null,""]
[null,{"$f":"IF(A1798>0,VLOOKUP(A1798,Liste!$B$179                         : Liste!$C$189,2),\"\")","v":""},null,null,{"$f":"IF(D1798>0,VLOOKUP(D1798,Liste!$A$10:$D$163,4),\"\")","v":""},null,null,null,{"$f":"IF(AND(D1798>0,F1798+G1798+H1798=0),\"EN ATTENTE\",IF(F1798+G1798+H1798>1,\"ERREUR\",\"\"))","v":""}]
[null,{"$f":"IF(A1799>0,VLOOKUP(A1799,Liste!$B$179                         : Liste!$C$189,2),\"\")","v":""},null,null,{"$f":"IF(D1799>0,VLOOKUP(D1799,Liste!$A$10:$D$163,4),\"\")","v":""},null,null,null,""]
[null,{"$f":"IF(A1800>0,VLOOKUP(A1800,Liste!$B$179                         : Liste!$C$189,2),\"\")","v":""},null,null,{"$f":"IF(D1800>0,VLOOKUP(D1800,Liste!$A$10:$D$163,4),\"\")","v":""},null,null,null,""]
[null,{"$f":"IF(A1801>0,VLOOKUP(A1801,Liste!$B$179                         : Liste!$C$189,2),\"\")","v":""},null,null,{"$f":"IF(D1801>0,VLOOKUP(D1801,Liste!$A$10:$D$163,4),\"\")","v":""},null,null,null,""]
[null,{"$f":"IF(A1802>0,VLOOKUP(A1802,Liste!$B$179                         : Liste!$C$189,2),\"\")","v":""},null,null,{"$f":"IF(D1802>0,VLOOKUP(D1802,Liste!$A$10:$D$163,4),\"\")","v":""},null,null,null,""]
[null,{"$f":"IF(A1803>0,VLOOKUP(A1803,Liste!$B$179                         : Liste!$C$189,2),\"\")","v":""},null,null,{"$f":"IF(D1803>0,VLOOKUP(D1803,Liste!$A$10:$D$163,4),\"\")","v":""},null,null,null,""]
[null,{"$f":"IF(A1804>0,VLOOKUP(A1804,Liste!$B$179                         : Liste!$C$189,2),\"\")","v":""},null,null,{"$f":"IF(D1804>0,VLOOKUP(D1804,Liste!$A$10:$D$163,4),\"\")","v":""},null,null,null,""]
[null,{"$f":"IF(A1805>0,VLOOKUP(A1805,Liste!$B$179                         : Liste!$C$189,2),\"\")","v":""},null,null,{"$f":"IF(D1805>0,VLOOKUP(D1805,Liste!$A$10:$D$163,4),\"\")","v":""},null,null,null,""]
[null,{"$f":"IF(A1806>0,VLOOKUP(A1806,Liste!$B$179                         : Liste!$C$189,2),\"\")","v":""},null,null,{"$f":"IF(D1806>0,VLOOKUP(D1806,Liste!$A$10:$D$163,4),\"\")","v":""},null,null,null,""]
[null,{"$f":"IF(A1807>0,VLOOKUP(A1807,Liste!$B$179                         : Liste!$C$189,2),\"\")","v":""},null,null,{"$f":"IF(D1807>0,VLOOKUP(D1807,Liste!$A$10:$D$163,4),\"\")","v":""},null,null,null,""]
[null,{"$f":"IF(A1808>0,VLOOKUP(A1808,Liste!$B$179                         : Liste!$C$189,2),\"\")","v":""},null,null,{"$f":"IF(D1808>0,VLOOKUP(D1808,Liste!$A$10:$D$163,4),\"\")","v":""},null,null,null,""]
[null,{"$f":"IF(A1809>0,VLOOKUP(A1809,Liste!$B$179                         : Liste!$C$189,2),\"\")","v":""},null,null,{"$f":"IF(D1809>0,VLOOKUP(D1809,Liste!$A$10:$D$163,4),\"\")","v":""},null,null,null,""]
[null,{"$f":"IF(A1810>0,VLOOKUP(A1810,Liste!$B$179                         : Liste!$C$189,2),\"\")","v":""},null,null,{"$f":"IF(D1810>0,VLOOKUP(D1810,Liste!$A$10:$D$163,4),\"\")","v":""},null,null,null,""]
[null,{"$f":"IF(A1811>0,VLOOKUP(A1811,Liste!$B$179                         : Liste!$C$189,2),\"\")","v":""},null,null,{"$f":"IF(D1811>0,VLOOKUP(D1811,Liste!$A$10:$D$163,4),\"\")","v":""},null,null,null,""]
[null,{"$f":"IF(A1812>0,VLOOKUP(A1812,Liste!$B$179                         : Liste!$C$189,2),\"\")","v":""},null,null,{"$f":"IF(D1812>0,VLOOKUP(D1812,Liste!$A$10:$D$163,4),\"\")","v":""},null,null,null,""]
[null,{"$f":"IF(A1813>0,VLOOKUP(A1813,Liste!$B$179                         : Liste!$C$189,2),\"\")","v":""},null,null,{"$f":"IF(D1813>0,VLOOKUP(D1813,Liste!$A$10:$D$163,4),\"\")","v":""},null,null,null,""]
[null,{"$f":"IF(A1814>0,VLOOKUP(A1814,Liste!$B$179                         : Liste!$C$189,2),\"\")","v":""},null,null,{"$f":"IF(D1814>0,VLOOKUP(D1814,Liste!$A$10:$D$163,4),\"\")","v":""},null,null,null,""]
[null,{"$f":"IF(A1815>0,VLOOKUP(A1815,Liste!$B$179                         : Liste!$C$189,2),\"\")","v":""},null,null,{"$f":"IF(D1815>0,VLOOKUP(D1815,Liste!$A$10:$D$163,4),\"\")","v":""},null,null,null,""]
[null,{"$f":"IF(A1816>0,VLOOKUP(A1816,Liste!$B$179                         : Liste!$C$189,2),\"\")","v":""},null,null,{"$f":"IF(D1816>0,VLOOKUP(D1816,Liste!$A$10:$D$163,4),\"\")","v":""},null,null,null,""]
[null,{"$f":"IF(A1817>0,VLOOKUP(A1817,Liste!$B$179                         : Liste!$C$189,2),\"\")","v":""},null,null,{"$f":"IF(D1817>0,VLOOKUP(D1817,Liste!$A$10:$D$163,4),\"\")","v":""},null,null,null,""]
[null,{"$f":"IF(A1818>0,VLOOKUP(A1818,Liste!$B$179                         : Liste!$C$189,2),\"\")","v":""},null,null,{"$f":"IF(D1818>0,VLOOKUP(D1818,Liste!$A$10:$D$163,4),\"\")","v":""},null,null,null,""]
[null,{"$f":"IF(A1819>0,VLOOKUP(A1819,Liste!$B$179                         : Liste!$C$189,2),\"\")","v":""},null,null,{"$f":"IF(D1819>0,VLOOKUP(D1819,Liste!$A$10:$D$163,4),\"\")","v":""},null,null,null,""]
[null,{"$f":"IF(A1820>0,VLOOKUP(A1820,Liste!$B$179                         : Liste!$C$189,2),\"\")","v":""},null,null,{"$f":"IF(D1820>0,VLOOKUP(D1820,Liste!$A$10:$D$163,4),\"\")","v":""},null,null,null,""]
[null,{"$f":"IF(A1821>0,VLOOKUP(A1821,Liste!$B$179                         : Liste!$C$189,2),\"\")","v":""},null,null,{"$f":"IF(D1821>0,VLOOKUP(D1821,Liste!$A$10:$D$163,4),\"\")","v":""},null,null,null,""]
[null,{"$f":"IF(A1822>0,VLOOKUP(A1822,Liste!$B$179                         : Liste!$C$189,2),\"\")","v":""},null,null,{"$f":"IF(D1822>0,VLOOKUP(D1822,Liste!$A$10:$D$163,4),\"\")","v":""},null,null,null,""]
[null,{"$f":"IF(A1823>0,VLOOKUP(A1823,Liste!$B$179                         : Liste!$C$189,2),\"\")","v":""},null,null,{"$f":"IF(D1823>0,VLOOKUP(D1823,Liste!$A$10:$D$163,4),\"\")","v":""},null,null,null,""]
[null,{"$f":"IF(A1824>0,VLOOKUP(A1824,Liste!$B$179                         : Liste!$C$189,2),\"\")","v":""},null,null,{"$f":"IF(D1824>0,VLOOKUP(D1824,Liste!$A$10:$D$163,4),\"\")","v":""},null,null,null,""]
[null,{"$f":"IF(A1825>0,VLOOKUP(A1825,Liste!$B$179                         : Liste!$C$189,2),\"\")","v":""},null,null,{"$f":"IF(D1825>0,VLOOKUP(D1825,Liste!$A$10:$D$163,4),\"\")","v":""},null,null,null,""]
[null,{"$f":"IF(A1826>0,VLOOKUP(A1826,Liste!$B$179                         : Liste!$C$189,2),\"\")","v":""},null,null,{"$f":"IF(D1826>0,VLOOKUP(D1826,Liste!$A$10:$D$163,4),\"\")","v":""},null,null,null,""]
[null,{"$f":"IF(A1827>0,VLOOKUP(A1827,Liste!$B$179                         : Liste!$C$189,2),\"\")","v":""},null,null,{"$f":"IF(D1827>0,VLOOKUP(D1827,Liste!$A$10:$D$163,4),\"\")","v":""},null,null,null,""]
[null,{"$f":"IF(A1828>0,VLOOKUP(A1828,Liste!$B$179                         : Liste!$C$189,2),\"\")","v":""},null,null,{"$f":"IF(D1828>0,VLOOKUP(D1828,Liste!$A$10:$D$163,4),\"\")","v":""},null,null,null,""]
[null,{"$f":"IF(A1829>0,VLOOKUP(A1829,Liste!$B$179                         : Liste!$C$189,2),\"\")","v":""},null,null,{"$f":"IF(D1829>0,VLOOKUP(D1829,Liste!$A$10:$D$163,4),\"\")","v":""},null,null,null,""]
[null,{"$f":"IF(A1830>0,VLOOKUP(A1830,Liste!$B$179                         : Liste!$C$189,2),\"\")","v":""},null,null,{"$f":"IF(D1830>0,VLOOKUP(D1830,Liste!$A$10:$D$163,4),\"\")","v":""},null,null,null,""]
[null,{"$f":"IF(A1831>0,VLOOKUP(A1831,Liste!$B$179                         : Liste!$C$189,2),\"\")","v":""},null,null,{"$f":"IF(D1831>0,VLOOKUP(D1831,Liste!$A$10:$D$163,4),\"\")","v":""},null,null,null,""]
[null,{"$f":"IF(A1832>0,VLOOKUP(A1832,Liste!$B$179                         : Liste!$C$189,2),\"\")","v":""},null,null,{"$f":"IF(D1832>0,VLOOKUP(D1832,Liste!$A$10:$D$163,4),\"\")","v":""},null,null,null,""]
[null,{"$f":"IF(A1833>0,VLOOKUP(A1833,Liste!$B$179                         : Liste!$C$189,2),\"\")","v":""},null,null,{"$f":"IF(D1833>0,VLOOKUP(D1833,Liste!$A$10:$D$163,4),\"\")","v":""},null,null,null,""]
[null,{"$f":"IF(A1834>0,VLOOKUP(A1834,Liste!$B$179                         : Liste!$C$189,2),\"\")","v":""},null,null,{"$f":"IF(D1834>0,VLOOKUP(D1834,Liste!$A$10:$D$163,4),\"\")","v":""},null,null,null,""]
[null,{"$f":"IF(A1835>0,VLOOKUP(A1835,Liste!$B$179                         : Liste!$C$189,2),\"\")","v":""},null,null,{"$f":"IF(D1835>0,VLOOKUP(D1835,Liste!$A$10:$D$163,4),\"\")","v":""},null,null,null,""]
[null,{"$f":"IF(A1836>0,VLOOKUP(A1836,Liste!$B$179                         : Liste!$C$189,2),\"\")","v":""},null,null,{"$f":"IF(D1836>0,VLOOKUP(D1836,Liste!$A$10:$D$163,4),\"\")","v":""},null,null,null,""]
[null,{"$f":"IF(A1837>0,VLOOKUP(A1837,Liste!$B$179                         : Liste!$C$189,2),\"\")","v":""},null,null,{"$f":"IF(D1837>0,VLOOKUP(D1837,Liste!$A$10:$D$163,4),\"\")","v":""},null,null,null,""]
[null,{"$f":"IF(A1838>0,VLOOKUP(A1838,Liste!$B$179                         : Liste!$C$189,2),\"\")","v":""},null,null,{"$f":"IF(D1838>0,VLOOKUP(D1838,Liste!$A$10:$D$163,4),\"\")","v":""},null,null,null,""]
[null,{"$f":"IF(A1839>0,VLOOKUP(A1839,Liste!$B$179                         : Liste!$C$189,2),\"\")","v":""},null,null,{"$f":"IF(D1839>0,VLOOKUP(D1839,Liste!$A$10:$D$163,4),\"\")","v":""},null,null,null,""]
[null,{"$f":"IF(A1840>0,VLOOKUP(A1840,Liste!$B$179                         : Liste!$C$189,2),\"\")","v":""},null,null,{"$f":"IF(D1840>0,VLOOKUP(D1840,Liste!$A$10:$D$163,4),\"\")","v":""},null,null,null,""]
[null,{"$f":"IF(A1841>0,VLOOKUP(A1841,Liste!$B$179                         : Liste!$C$189,2),\"\")","v":""},null,null,{"$f":"IF(D1841>0,VLOOKUP(D1841,Liste!$A$10:$D$163,4),\"\")","v":""},null,null,null,""]
[null,{"$f":"IF(A1842>0,VLOOKUP(A1842,Liste!$B$179                         : Liste!$C$189,2),\"\")","v":""},null,null,{"$f":"IF(D1842>0,VLOOKUP(D1842,Liste!$A$10:$D$163,4),\"\")","v":""},null,null,null,""]
[null,{"$f":"IF(A1843>0,VLOOKUP(A1843,Liste!$B$179                         : Liste!$C$189,2),\"\")","v":""},null,null,{"$f":"IF(D1843>0,VLOOKUP(D1843,Liste!$A$10:$D$163,4),\"\")","v":""},null,null,null,""]
[null,{"$f":"IF(A1844>0,VLOOKUP(A1844,Liste!$B$179                         : Liste!$C$189,2),\"\")","v":""},null,null,{"$f":"IF(D1844>0,VLOOKUP(D1844,Liste!$A$10:$D$163,4),\"\")","v":""},null,null,null,""]
[null,{"$f":"IF(A1845>0,VLOOKUP(A1845,Liste!$B$179                         : Liste!$C$189,2),\"\")","v":""},null,null,{"$f":"IF(D1845>0,VLOOKUP(D1845,Liste!$A$10:$D$163,4),\"\")","v":""},null,null,null,""]
[null,{"$f":"IF(A1846>0,VLOOKUP(A1846,Liste!$B$179                         : Liste!$C$189,2),\"\")","v":""},null,null,{"$f":"IF(D1846>0,VLOOKUP(D1846,Liste!$A$10:$D$163,4),\"\")","v":""},null,null,null,""]
[null,{"$f":"IF(A1847>0,VLOOKUP(A1847,Liste!$B$179                         : Liste!$C$189,2),\"\")","v":""},null,null,{"$f":"IF(D1847>0,VLOOKUP(D1847,Liste!$A$10:$D$163,4),\"\")","v":""},null,null,null,""]
[null,{"$f":"IF(A1848>0,VLOOKUP(A1848,Liste!$B$179                         : Liste!$C$189,2),\"\")","v":""},null,null,{"$f":"IF(D1848>0,VLOOKUP(D1848,Liste!$A$10:$D$163,4),\"\")","v":""},null,null,null,""]
[null,{"$f":"IF(A1849>0,VLOOKUP(A1849,Liste!$B$179                         : Liste!$C$189,2),\"\")","v":""},null,null,{"$f":"IF(D1849>0,VLOOKUP(D1849,Liste!$A$10:$D$163,4),\"\")","v":""},null,null,null,""]
[null,{"$f":"IF(A1850>0,VLOOKUP(A1850,Liste!$B$179                         : Liste!$C$189,2),\"\")","v":""},null,null,{"$f":"IF(D1850>0,VLOOKUP(D1850,Liste!$A$10:$D$163,4),\"\")","v":""},null,null,null,""]
[null,{"$f":"IF(A1851>0,VLOOKUP(A1851,Liste!$B$179                         : Liste!$C$189,2),\"\")","v":""},null,null,{"$f":"IF(D1851>0,VLOOKUP(D1851,Liste!$A$10:$D$163,4),\"\")","v":""},null,null,null,""]
[null,{"$f":"IF(A1852>0,VLOOKUP(A1852,Liste!$B$179                         : Liste!$C$189,2),\"\")","v":""},null,null,{"$f":"IF(D1852>0,VLOOKUP(D1852,Liste!$A$10:$D$163,4),\"\")","v":""},null,null,null,""]
[null,{"$f":"IF(A1853>0,VLOOKUP(A1853,Liste!$B$179                         : Liste!$C$189,2),\"\")","v":""},null,null,{"$f":"IF(D1853>0,VLOOKUP(D1853,Liste!$A$10:$D$163,4),\"\")","v":""},null,null,null,""]
[null,{"$f":"IF(A1854>0,VLOOKUP(A1854,Liste!$B$179                         : Liste!$C$189,2),\"\")","v":""},null,null,{"$f":"IF(D1854>0,VLOOKUP(D1854,Liste!$A$10:$D$163,4),\"\")","v":""},null,null,null,""]
[null,{"$f":"IF(A1855>0,VLOOKUP(A1855,Liste!$B$179                         : Liste!$C$189,2),\"\")","v":""},null,null,{"$f":"IF(D1855>0,VLOOKUP(D1855,Liste!$A$10:$D$163,4),\"\")","v":""},null,null,null,""]
[null,{"$f":"IF(A1856>0,VLOOKUP(A1856,Liste!$B$179                         : Liste!$C$189,2),\"\")","v":""},null,null,{"$f":"IF(D1856>0,VLOOKUP(D1856,Liste!$A$10:$D$163,4),\"\")","v":""},null,null,null,""]
[null,{"$f":"IF(A1857>0,VLOOKUP(A1857,Liste!$B$179                         : Liste!$C$189,2),\"\")","v":""},null,null,{"$f":"IF(D1857>0,VLOOKUP(D1857,Liste!$A$10:$D$163,4),\"\")","v":""},null,null,null,""]
[null,{"$f":"IF(A1858>0,VLOOKUP(A1858,Liste!$B$179                         : Liste!$C$189,2),\"\")","v":""},null,null,{"$f":"IF(D1858>0,VLOOKUP(D1858,Liste!$A$10:$D$163,4),\"\")","v":""},null,null,null,""]
[null,{"$f":"IF(A1859>0,VLOOKUP(A1859,Liste!$B$179                         : Liste!$C$189,2),\"\")","v":""},null,null,{"$f":"IF(D1859>0,VLOOKUP(D1859,Liste!$A$10:$D$163,4),\"\")","v":""},null,null,null,""]
[null,{"$f":"IF(A1860>0,VLOOKUP(A1860,Liste!$B$179                         : Liste!$C$189,2),\"\")","v":""},null,null,{"$f":"IF(D1860>0,VLOOKUP(D1860,Liste!$A$10:$D$163,4),\"\")","v":""},null,null,null,""]
[null,{"$f":"IF(A1861>0,VLOOKUP(A1861,Liste!$B$179                         : Liste!$C$189,2),\"\")","v":""},null,null,{"$f":"IF(D1861>0,VLOOKUP(D1861,Liste!$A$10:$D$163,4),\"\")","v":""},null,null,null,""]
[null,{"$f":"IF(A1862>0,VLOOKUP(A1862,Liste!$B$179                         : Liste!$C$189,2),\"\")","v":""},null,null,{"$f":"IF(D1862>0,VLOOKUP(D1862,Liste!$A$10:$D$163,4),\"\")","v":""},null,null,null,{"$f":"IF(AND(D1862>0,F1862+G1862+H1862=0),\"EN ATTENTE\",IF(F1862+G1862+H1862>1,\"ERREUR\",\"\"))","v":""}]
[null,{"$f":"IF(A1863>0,VLOOKUP(A1863,Liste!$B$179                         : Liste!$C$189,2),\"\")","v":""},null,null,{"$f":"IF(D1863>0,VLOOKUP(D1863,Liste!$A$10:$D$163,4),\"\")","v":""},null,null,null,""]
[null,{"$f":"IF(A1864>0,VLOOKUP(A1864,Liste!$B$179                         : Liste!$C$189,2),\"\")","v":""},null,null,{"$f":"IF(D1864>0,VLOOKUP(D1864,Liste!$A$10:$D$163,4),\"\")","v":""},null,null,null,""]
[null,{"$f":"IF(A1865>0,VLOOKUP(A1865,Liste!$B$179                         : Liste!$C$189,2),\"\")","v":""},null,null,{"$f":"IF(D1865>0,VLOOKUP(D1865,Liste!$A$10:$D$163,4),\"\")","v":""},null,null,null,""]
[null,{"$f":"IF(A1866>0,VLOOKUP(A1866,Liste!$B$179                         : Liste!$C$189,2),\"\")","v":""},null,null,{"$f":"IF(D1866>0,VLOOKUP(D1866,Liste!$A$10:$D$163,4),\"\")","v":""},null,null,null,""]
[null,{"$f":"IF(A1867>0,VLOOKUP(A1867,Liste!$B$179                         : Liste!$C$189,2),\"\")","v":""},null,null,{"$f":"IF(D1867>0,VLOOKUP(D1867,Liste!$A$10:$D$163,4),\"\")","v":""},null,null,null,""]
[null,{"$f":"IF(A1868>0,VLOOKUP(A1868,Liste!$B$179                         : Liste!$C$189,2),\"\")","v":""},null,null,{"$f":"IF(D1868>0,VLOOKUP(D1868,Liste!$A$10:$D$163,4),\"\")","v":""},null,null,null,""]
[null,{"$f":"IF(A1869>0,VLOOKUP(A1869,Liste!$B$179                         : Liste!$C$189,2),\"\")","v":""},null,null,{"$f":"IF(D1869>0,VLOOKUP(D1869,Liste!$A$10:$D$163,4),\"\")","v":""},null,null,null,""]
[null,{"$f":"IF(A1870>0,VLOOKUP(A1870,Liste!$B$179                         : Liste!$C$189,2),\"\")","v":""},null,null,{"$f":"IF(D1870>0,VLOOKUP(D1870,Liste!$A$10:$D$163,4),\"\")","v":""},null,null,null,""]
[null,{"$f":"IF(A1871>0,VLOOKUP(A1871,Liste!$B$179                         : Liste!$C$189,2),\"\")","v":""},null,null,{"$f":"IF(D1871>0,VLOOKUP(D1871,Liste!$A$10:$D$163,4),\"\")","v":""},null,null,null,""]
[null,{"$f":"IF(A1872>0,VLOOKUP(A1872,Liste!$B$179                         : Liste!$C$189,2),\"\")","v":""},null,null,{"$f":"IF(D1872>0,VLOOKUP(D1872,Liste!$A$10:$D$163,4),\"\")","v":""},null,null,null,""]
[null,{"$f":"IF(A1873>0,VLOOKUP(A1873,Liste!$B$179                         : Liste!$C$189,2),\"\")","v":""},null,null,{"$f":"IF(D1873>0,VLOOKUP(D1873,Liste!$A$10:$D$163,4),\"\")","v":""},null,null,null,""]
[null,{"$f":"IF(A1874>0,VLOOKUP(A1874,Liste!$B$179                         : Liste!$C$189,2),\"\")","v":""},null,null,{"$f":"IF(D1874>0,VLOOKUP(D1874,Liste!$A$10:$D$163,4),\"\")","v":""},null,null,null,""]
[null,{"$f":"IF(A1875>0,VLOOKUP(A1875,Liste!$B$179                         : Liste!$C$189,2),\"\")","v":""},null,null,{"$f":"IF(D1875>0,VLOOKUP(D1875,Liste!$A$10:$D$163,4),\"\")","v":""},null,null,null,""]
[null,{"$f":"IF(A1876>0,VLOOKUP(A1876,Liste!$B$179                         : Liste!$C$189,2),\"\")","v":""},null,null,{"$f":"IF(D1876>0,VLOOKUP(D1876,Liste!$A$10:$D$163,4),\"\")","v":""},null,null,null,""]
[null,{"$f":"IF(A1877>0,VLOOKUP(A1877,Liste!$B$179                         : Liste!$C$189,2),\"\")","v":""},null,null,{"$f":"IF(D1877>0,VLOOKUP(D1877,Liste!$A$10:$D$163,4),\"\")","v":""},null,null,null,""]
[null,{"$f":"IF(A1878>0,VLOOKUP(A1878,Liste!$B$179                         : Liste!$C$189,2),\"\")","v":""},null,null,{"$f":"IF(D1878>0,VLOOKUP(D1878,Liste!$A$10:$D$163,4),\"\")","v":""},null,null,null,""]
[null,{"$f":"IF(A1879>0,VLOOKUP(A1879,Liste!$B$179                         : Liste!$C$189,2),\"\")","v":""},null,null,{"$f":"IF(D1879>0,VLOOKUP(D1879,Liste!$A$10:$D$163,4),\"\")","v":""},null,null,null,""]
[null,{"$f":"IF(A1880>0,VLOOKUP(A1880,Liste!$B$179                         : Liste!$C$189,2),\"\")","v":""},null,null,{"$f":"IF(D1880>0,VLOOKUP(D1880,Liste!$A$10:$D$163,4),\"\")","v":""},null,null,null,""]
[null,{"$f":"IF(A1881>0,VLOOKUP(A1881,Liste!$B$179                         : Liste!$C$189,2),\"\")","v":""},null,null,{"$f":"IF(D1881>0,VLOOKUP(D1881,Liste!$A$10:$D$163,4),\"\")","v":""},null,null,null,""]
[null,{"$f":"IF(A1882>0,VLOOKUP(A1882,Liste!$B$179                         : Liste!$C$189,2),\"\")","v":""},null,null,{"$f":"IF(D1882>0,VLOOKUP(D1882,Liste!$A$10:$D$163,4),\"\")","v":""},null,null,null,""]
[null,{"$f":"IF(A1883>0,VLOOKUP(A1883,Liste!$B$179                         : Liste!$C$189,2),\"\")","v":""},null,null,{"$f":"IF(D1883>0,VLOOKUP(D1883,Liste!$A$10:$D$163,4),\"\")","v":""},null,null,null,""]
[null,{"$f":"IF(A1884>0,VLOOKUP(A1884,Liste!$B$179                         : Liste!$C$189,2),\"\")","v":""},null,null,{"$f":"IF(D1884>0,VLOOKUP(D1884,Liste!$A$10:$D$163,4),\"\")","v":""},null,null,null,""]
[null,{"$f":"IF(A1885>0,VLOOKUP(A1885,Liste!$B$179                         : Liste!$C$189,2),\"\")","v":""},null,null,{"$f":"IF(D1885>0,VLOOKUP(D1885,Liste!$A$10:$D$163,4),\"\")","v":""},null,null,null,""]
[null,{"$f":"IF(A1886>0,VLOOKUP(A1886,Liste!$B$179                         : Liste!$C$189,2),\"\")","v":""},null,null,{"$f":"IF(D1886>0,VLOOKUP(D1886,Liste!$A$10:$D$163,4),\"\")","v":""},null,null,null,""]
[null,{"$f":"IF(A1887>0,VLOOKUP(A1887,Liste!$B$179                         : Liste!$C$189,2),\"\")","v":""},null,null,{"$f":"IF(D1887>0,VLOOKUP(D1887,Liste!$A$10:$D$163,4),\"\")","v":""},null,null,null,""]
[null,{"$f":"IF(A1888>0,VLOOKUP(A1888,Liste!$B$179                         : Liste!$C$189,2),\"\")","v":""},null,null,{"$f":"IF(D1888>0,VLOOKUP(D1888,Liste!$A$10:$D$163,4),\"\")","v":""},null,null,null,""]
[null,{"$f":"IF(A1889>0,VLOOKUP(A1889,Liste!$B$179                         : Liste!$C$189,2),\"\")","v":""},null,null,{"$f":"IF(D1889>0,VLOOKUP(D1889,Liste!$A$10:$D$163,4),\"\")","v":""},null,null,null,""]
[null,{"$f":"IF(A1890>0,VLOOKUP(A1890,Liste!$B$179                         : Liste!$C$189,2),\"\")","v":""},null,null,{"$f":"IF(D1890>0,VLOOKUP(D1890,Liste!$A$10:$D$163,4),\"\")","v":""},null,null,null,""]
[null,{"$f":"IF(A1891>0,VLOOKUP(A1891,Liste!$B$179                         : Liste!$C$189,2),\"\")","v":""},null,null,{"$f":"IF(D1891>0,VLOOKUP(D1891,Liste!$A$10:$D$163,4),\"\")","v":""},null,null,null,""]
[null,{"$f":"IF(A1892>0,VLOOKUP(A1892,Liste!$B$179                         : Liste!$C$189,2),\"\")","v":""},null,null,{"$f":"IF(D1892>0,VLOOKUP(D1892,Liste!$A$10:$D$163,4),\"\")","v":""},null,null,null,""]
[null,{"$f":"IF(A1893>0,VLOOKUP(A1893,Liste!$B$179                         : Liste!$C$189,2),\"\")","v":""},null,null,{"$f":"IF(D1893>0,VLOOKUP(D1893,Liste!$A$10:$D$163,4),\"\")","v":""},null,null,null,""]
[null,{"$f":"IF(A1894>0,VLOOKUP(A1894,Liste!$B$179                         : Liste!$C$189,2),\"\")","v":""},null,null,{"$f":"IF(D1894>0,VLOOKUP(D1894,Liste!$A$10:$D$163,4),\"\")","v":""},null,null,null,""]
[null,{"$f":"IF(A1895>0,VLOOKUP(A1895,Liste!$B$179                         : Liste!$C$189,2),\"\")","v":""},null,null,{"$f":"IF(D1895>0,VLOOKUP(D1895,Liste!$A$10:$D$163,4),\"\")","v":""},null,null,null,""]
[null,{"$f":"IF(A1896>0,VLOOKUP(A1896,Liste!$B$179                         : Liste!$C$189,2),\"\")","v":""},null,null,{"$f":"IF(D1896>0,VLOOKUP(D1896,Liste!$A$10:$D$163,4),\"\")","v":""},null,null,null,""]
[null,{"$f":"IF(A1897>0,VLOOKUP(A1897,Liste!$B$179                         : Liste!$C$189,2),\"\")","v":""},null,null,{"$f":"IF(D1897>0,VLOOKUP(D1897,Liste!$A$10:$D$163,4),\"\")","v":""},null,null,null,""]
[null,{"$f":"IF(A1898>0,VLOOKUP(A1898,Liste!$B$179                         : Liste!$C$189,2),\"\")","v":""},null,null,{"$f":"IF(D1898>0,VLOOKUP(D1898,Liste!$A$10:$D$163,4),\"\")","v":""},null,null,null,""]
[null,{"$f":"IF(A1899>0,VLOOKUP(A1899,Liste!$B$179                         : Liste!$C$189,2),\"\")","v":""},null,null,{"$f":"IF(D1899>0,VLOOKUP(D1899,Liste!$A$10:$D$163,4),\"\")","v":""},null,null,null,""]
[null,{"$f":"IF(A1900>0,VLOOKUP(A1900,Liste!$B$179                         : Liste!$C$189,2),\"\")","v":""},null,null,{"$f":"IF(D1900>0,VLOOKUP(D1900,Liste!$A$10:$D$163,4),\"\")","v":""},null,null,null,""]
[null,{"$f":"IF(A1901>0,VLOOKUP(A1901,Liste!$B$179                         : Liste!$C$189,2),\"\")","v":""},null,null,{"$f":"IF(D1901>0,VLOOKUP(D1901,Liste!$A$10:$D$163,4),\"\")","v":""},null,null,null,""]
[null,{"$f":"IF(A1902>0,VLOOKUP(A1902,Liste!$B$179                         : Liste!$C$189,2),\"\")","v":""},null,null,{"$f":"IF(D1902>0,VLOOKUP(D1902,Liste!$A$10:$D$163,4),\"\")","v":""},null,null,null,""]
[null,{"$f":"IF(A1903>0,VLOOKUP(A1903,Liste!$B$179                         : Liste!$C$189,2),\"\")","v":""},null,null,{"$f":"IF(D1903>0,VLOOKUP(D1903,Liste!$A$10:$D$163,4),\"\")","v":""},null,null,null,""]
[null,{"$f":"IF(A1904>0,VLOOKUP(A1904,Liste!$B$179                         : Liste!$C$189,2),\"\")","v":""},null,null,{"$f":"IF(D1904>0,VLOOKUP(D1904,Liste!$A$10:$D$163,4),\"\")","v":""},null,null,null,""]
[null,{"$f":"IF(A1905>0,VLOOKUP(A1905,Liste!$B$179                         : Liste!$C$189,2),\"\")","v":""},null,null,{"$f":"IF(D1905>0,VLOOKUP(D1905,Liste!$A$10:$D$163,4),\"\")","v":""},null,null,null,""]
[null,{"$f":"IF(A1906>0,VLOOKUP(A1906,Liste!$B$179                         : Liste!$C$189,2),\"\")","v":""},null,null,{"$f":"IF(D1906>0,VLOOKUP(D1906,Liste!$A$10:$D$163,4),\"\")","v":""},null,null,null,""]
[null,{"$f":"IF(A1907>0,VLOOKUP(A1907,Liste!$B$179                         : Liste!$C$189,2),\"\")","v":""},null,null,{"$f":"IF(D1907>0,VLOOKUP(D1907,Liste!$A$10:$D$163,4),\"\")","v":""},null,null,null,""]
[null,{"$f":"IF(A1908>0,VLOOKUP(A1908,Liste!$B$179                         : Liste!$C$189,2),\"\")","v":""},null,null,{"$f":"IF(D1908>0,VLOOKUP(D1908,Liste!$A$10:$D$163,4),\"\")","v":""},null,null,null,""]
[null,{"$f":"IF(A1909>0,VLOOKUP(A1909,Liste!$B$179                         : Liste!$C$189,2),\"\")","v":""},null,null,{"$f":"IF(D1909>0,VLOOKUP(D1909,Liste!$A$10:$D$163,4),\"\")","v":""},null,null,null,""]
[null,{"$f":"IF(A1910>0,VLOOKUP(A1910,Liste!$B$179                         : Liste!$C$189,2),\"\")","v":""},null,null,{"$f":"IF(D1910>0,VLOOKUP(D1910,Liste!$A$10:$D$163,4),\"\")","v":""},null,null,null,""]
[null,{"$f":"IF(A1911>0,VLOOKUP(A1911,Liste!$B$179                         : Liste!$C$189,2),\"\")","v":""},null,null,{"$f":"IF(D1911>0,VLOOKUP(D1911,Liste!$A$10:$D$163,4),\"\")","v":""},null,null,null,""]
[null,{"$f":"IF(A1912>0,VLOOKUP(A1912,Liste!$B$179                         : Liste!$C$189,2),\"\")","v":""},null,null,{"$f":"IF(D1912>0,VLOOKUP(D1912,Liste!$A$10:$D$163,4),\"\")","v":""},null,null,null,""]
[null,{"$f":"IF(A1913>0,VLOOKUP(A1913,Liste!$B$179                         : Liste!$C$189,2),\"\")","v":""},null,null,{"$f":"IF(D1913>0,VLOOKUP(D1913,Liste!$A$10:$D$163,4),\"\")","v":""},null,null,null,""]
[null,{"$f":"IF(A1914>0,VLOOKUP(A1914,Liste!$B$179                         : Liste!$C$189,2),\"\")","v":""},null,null,{"$f":"IF(D1914>0,VLOOKUP(D1914,Liste!$A$10:$D$163,4),\"\")","v":""},null,null,null,""]
[null,{"$f":"IF(A1915>0,VLOOKUP(A1915,Liste!$B$179                         : Liste!$C$189,2),\"\")","v":""},null,null,{"$f":"IF(D1915>0,VLOOKUP(D1915,Liste!$A$10:$D$163,4),\"\")","v":""},null,null,null,""]
[null,{"$f":"IF(A1916>0,VLOOKUP(A1916,Liste!$B$179                         : Liste!$C$189,2),\"\")","v":""},null,null,{"$f":"IF(D1916>0,VLOOKUP(D1916,Liste!$A$10:$D$163,4),\"\")","v":""},null,null,null,""]
[null,{"$f":"IF(A1917>0,VLOOKUP(A1917,Liste!$B$179                         : Liste!$C$189,2),\"\")","v":""},null,null,{"$f":"IF(D1917>0,VLOOKUP(D1917,Liste!$A$10:$D$163,4),\"\")","v":""},null,null,null,""]
[null,{"$f":"IF(A1918>0,VLOOKUP(A1918,Liste!$B$179                         : Liste!$C$189,2),\"\")","v":""},null,null,{"$f":"IF(D1918>0,VLOOKUP(D1918,Liste!$A$10:$D$163,4),\"\")","v":""},null,null,null,""]
[null,{"$f":"IF(A1919>0,VLOOKUP(A1919,Liste!$B$179                         : Liste!$C$189,2),\"\")","v":""},null,null,{"$f":"IF(D1919>0,VLOOKUP(D1919,Liste!$A$10:$D$163,4),\"\")","v":""},null,null,null,""]
[null,{"$f":"IF(A1920>0,VLOOKUP(A1920,Liste!$B$179                         : Liste!$C$189,2),\"\")","v":""},null,null,{"$f":"IF(D1920>0,VLOOKUP(D1920,Liste!$A$10:$D$163,4),\"\")","v":""},null,null,null,""]
[null,{"$f":"IF(A1921>0,VLOOKUP(A1921,Liste!$B$179                         : Liste!$C$189,2),\"\")","v":""},null,null,{"$f":"IF(D1921>0,VLOOKUP(D1921,Liste!$A$10:$D$163,4),\"\")","v":""},null,null,null,""]
[null,{"$f":"IF(A1922>0,VLOOKUP(A1922,Liste!$B$179                         : Liste!$C$189,2),\"\")","v":""},null,null,{"$f":"IF(D1922>0,VLOOKUP(D1922,Liste!$A$10:$D$163,4),\"\")","v":""},null,null,null,""]
[null,{"$f":"IF(A1923>0,VLOOKUP(A1923,Liste!$B$179                         : Liste!$C$189,2),\"\")","v":""},null,null,{"$f":"IF(D1923>0,VLOOKUP(D1923,Liste!$A$10:$D$163,4),\"\")","v":""},null,null,null,""]
[null,{"$f":"IF(A1924>0,VLOOKUP(A1924,Liste!$B$179                         : Liste!$C$189,2),\"\")","v":""},null,null,{"$f":"IF(D1924>0,VLOOKUP(D1924,Liste!$A$10:$D$163,4),\"\")","v":""},null,null,null,""]
[null,{"$f":"IF(A1925>0,VLOOKUP(A1925,Liste!$B$179                         : Liste!$C$189,2),\"\")","v":""},null,null,{"$f":"IF(D1925>0,VLOOKUP(D1925,Liste!$A$10:$D$163,4),\"\")","v":""},null,null,null,""]
[null,{"$f":"IF(A1926>0,VLOOKUP(A1926,Liste!$B$179                         : Liste!$C$189,2),\"\")","v":""},null,null,{"$f":"IF(D1926>0,VLOOKUP(D1926,Liste!$A$10:$D$163,4),\"\")","v":""},null,null,null,{"$f":"IF(AND(D1926>0,F1926+G1926+H1926=0),\"EN ATTENTE\",IF(F1926+G1926+H1926>1,\"ERREUR\",\"\"))","v":""}]
[null,{"$f":"IF(A1927>0,VLOOKUP(A1927,Liste!$B$179                         : Liste!$C$189,2),\"\")","v":""},null,null,{"$f":"IF(D1927>0,VLOOKUP(D1927,Liste!$A$10:$D$163,4),\"\")","v":""},null,null,null,""]
[null,{"$f":"IF(A1928>0,VLOOKUP(A1928,Liste!$B$179                         : Liste!$C$189,2),\"\")","v":""},null,null,{"$f":"IF(D1928>0,VLOOKUP(D1928,Liste!$A$10:$D$163,4),\"\")","v":""},null,null,null,""]
[null,{"$f":"IF(A1929>0,VLOOKUP(A1929,Liste!$B$179                         : Liste!$C$189,2),\"\")","v":""},null,null,{"$f":"IF(D1929>0,VLOOKUP(D1929,Liste!$A$10:$D$163,4),\"\")","v":""},null,null,null,""]
[null,{"$f":"IF(A1930>0,VLOOKUP(A1930,Liste!$B$179                         : Liste!$C$189,2),\"\")","v":""},null,null,{"$f":"IF(D1930>0,VLOOKUP(D1930,Liste!$A$10:$D$163,4),\"\")","v":""},null,null,null,""]
[null,{"$f":"IF(A1931>0,VLOOKUP(A1931,Liste!$B$179                         : Liste!$C$189,2),\"\")","v":""},null,null,{"$f":"IF(D1931>0,VLOOKUP(D1931,Liste!$A$10:$D$163,4),\"\")","v":""},null,null,null,""]
[null,{"$f":"IF(A1932>0,VLOOKUP(A1932,Liste!$B$179                         : Liste!$C$189,2),\"\")","v":""},null,null,{"$f":"IF(D1932>0,VLOOKUP(D1932,Liste!$A$10:$D$163,4),\"\")","v":""},null,null,null,""]
[null,{"$f":"IF(A1933>0,VLOOKUP(A1933,Liste!$B$179                         : Liste!$C$189,2),\"\")","v":""},null,null,{"$f":"IF(D1933>0,VLOOKUP(D1933,Liste!$A$10:$D$163,4),\"\")","v":""},null,null,null,""]
[null,{"$f":"IF(A1934>0,VLOOKUP(A1934,Liste!$B$179                         : Liste!$C$189,2),\"\")","v":""},null,null,{"$f":"IF(D1934>0,VLOOKUP(D1934,Liste!$A$10:$D$163,4),\"\")","v":""},null,null,null,""]
[null,{"$f":"IF(A1935>0,VLOOKUP(A1935,Liste!$B$179                         : Liste!$C$189,2),\"\")","v":""},null,null,{"$f":"IF(D1935>0,VLOOKUP(D1935,Liste!$A$10:$D$163,4),\"\")","v":""},null,null,null,""]
[null,{"$f":"IF(A1936>0,VLOOKUP(A1936,Liste!$B$179                         : Liste!$C$189,2),\"\")","v":""},null,null,{"$f":"IF(D1936>0,VLOOKUP(D1936,Liste!$A$10:$D$163,4),\"\")","v":""},null,null,null,""]
[null,{"$f":"IF(A1937>0,VLOOKUP(A1937,Liste!$B$179                         : Liste!$C$189,2),\"\")","v":""},null,null,{"$f":"IF(D1937>0,VLOOKUP(D1937,Liste!$A$10:$D$163,4),\"\")","v":""},null,null,null,""]
[null,{"$f":"IF(A1938>0,VLOOKUP(A1938,Liste!$B$179                         : Liste!$C$189,2),\"\")","v":""},null,null,{"$f":"IF(D1938>0,VLOOKUP(D1938,Liste!$A$10:$D$163,4),\"\")","v":""},null,null,null,""]
[null,{"$f":"IF(A1939>0,VLOOKUP(A1939,Liste!$B$179                         : Liste!$C$189,2),\"\")","v":""},null,null,{"$f":"IF(D1939>0,VLOOKUP(D1939,Liste!$A$10:$D$163,4),\"\")","v":""},null,null,null,""]
[null,{"$f":"IF(A1940>0,VLOOKUP(A1940,Liste!$B$179                         : Liste!$C$189,2),\"\")","v":""},null,null,{"$f":"IF(D1940>0,VLOOKUP(D1940,Liste!$A$10:$D$163,4),\"\")","v":""},null,null,null,""]
[null,{"$f":"IF(A1941>0,VLOOKUP(A1941,Liste!$B$179                         : Liste!$C$189,2),\"\")","v":""},null,null,{"$f":"IF(D1941>0,VLOOKUP(D1941,Liste!$A$10:$D$163,4),\"\")","v":""},null,null,null,""]
[null,{"$f":"IF(A1942>0,VLOOKUP(A1942,Liste!$B$179                         : Liste!$C$189,2),\"\")","v":""},null,null,{"$f":"IF(D1942>0,VLOOKUP(D1942,Liste!$A$10:$D$163,4),\"\")","v":""},null,null,null,""]
[null,{"$f":"IF(A1943>0,VLOOKUP(A1943,Liste!$B$179                         : Liste!$C$189,2),\"\")","v":""},null,null,{"$f":"IF(D1943>0,VLOOKUP(D1943,Liste!$A$10:$D$163,4),\"\")","v":""},null,null,null,""]
[null,{"$f":"IF(A1944>0,VLOOKUP(A1944,Liste!$B$179                         : Liste!$C$189,2),\"\")","v":""},null,null,{"$f":"IF(D1944>0,VLOOKUP(D1944,Liste!$A$10:$D$163,4),\"\")","v":""},null,null,null,""]
[null,{"$f":"IF(A1945>0,VLOOKUP(A1945,Liste!$B$179                         : Liste!$C$189,2),\"\")","v":""},null,null,{"$f":"IF(D1945>0,VLOOKUP(D1945,Liste!$A$10:$D$163,4),\"\")","v":""},null,null,null,""]
[null,{"$f":"IF(A1946>0,VLOOKUP(A1946,Liste!$B$179                         : Liste!$C$189,2),\"\")","v":""},null,null,{"$f":"IF(D1946>0,VLOOKUP(D1946,Liste!$A$10:$D$163,4),\"\")","v":""},null,null,null,""]
[null,{"$f":"IF(A1947>0,VLOOKUP(A1947,Liste!$B$179                         : Liste!$C$189,2),\"\")","v":""},null,null,{"$f":"IF(D1947>0,VLOOKUP(D1947,Liste!$A$10:$D$163,4),\"\")","v":""},null,null,null,""]
[null,{"$f":"IF(A1948>0,VLOOKUP(A1948,Liste!$B$179                         : Liste!$C$189,2),\"\")","v":""},null,null,{"$f":"IF(D1948>0,VLOOKUP(D1948,Liste!$A$10:$D$163,4),\"\")","v":""},null,null,null,""]
[null,{"$f":"IF(A1949>0,VLOOKUP(A1949,Liste!$B$179                         : Liste!$C$189,2),\"\")","v":""},null,null,{"$f":"IF(D1949>0,VLOOKUP(D1949,Liste!$A$10:$D$163,4),\"\")","v":""},null,null,null,""]
[null,{"$f":"IF(A1950>0,VLOOKUP(A1950,Liste!$B$179                         : Liste!$C$189,2),\"\")","v":""},null,null,{"$f":"IF(D1950>0,VLOOKUP(D1950,Liste!$A$10:$D$163,4),\"\")","v":""},null,null,null,""]
[null,{"$f":"IF(A1951>0,VLOOKUP(A1951,Liste!$B$179                         : Liste!$C$189,2),\"\")","v":""},null,null,{"$f":"IF(D1951>0,VLOOKUP(D1951,Liste!$A$10:$D$163,4),\"\")","v":""},null,null,null,""]
[null,{"$f":"IF(A1952>0,VLOOKUP(A1952,Liste!$B$179                         : Liste!$C$189,2),\"\")","v":""},null,null,{"$f":"IF(D1952>0,VLOOKUP(D1952,Liste!$A$10:$D$163,4),\"\")","v":""},null,null,null,""]
[null,{"$f":"IF(A1953>0,VLOOKUP(A1953,Liste!$B$179                         : Liste!$C$189,2),\"\")","v":""},null,null,{"$f":"IF(D1953>0,VLOOKUP(D1953,Liste!$A$10:$D$163,4),\"\")","v":""},null,null,null,""]
[null,{"$f":"IF(A1954>0,VLOOKUP(A1954,Liste!$B$179                         : Liste!$C$189,2),\"\")","v":""},null,null,{"$f":"IF(D1954>0,VLOOKUP(D1954,Liste!$A$10:$D$163,4),\"\")","v":""},null,null,null,""]
[null,{"$f":"IF(A1955>0,VLOOKUP(A1955,Liste!$B$179                         : Liste!$C$189,2),\"\")","v":""},null,null,{"$f":"IF(D1955>0,VLOOKUP(D1955,Liste!$A$10:$D$163,4),\"\")","v":""},null,null,null,""]
[null,{"$f":"IF(A1956>0,VLOOKUP(A1956,Liste!$B$179                         : Liste!$C$189,2),\"\")","v":""},null,null,{"$f":"IF(D1956>0,VLOOKUP(D1956,Liste!$A$10:$D$163,4),\"\")","v":""},null,null,null,""]
[null,{"$f":"IF(A1957>0,VLOOKUP(A1957,Liste!$B$179                         : Liste!$C$189,2),\"\")","v":""},null,null,{"$f":"IF(D1957>0,VLOOKUP(D1957,Liste!$A$10:$D$163,4),\"\")","v":""},null,null,null,""]
[null,{"$f":"IF(A1958>0,VLOOKUP(A1958,Liste!$B$179                         : Liste!$C$189,2),\"\")","v":""},null,null,{"$f":"IF(D1958>0,VLOOKUP(D1958,Liste!$A$10:$D$163,4),\"\")","v":""},null,null,null,""]
[null,{"$f":"IF(A1959>0,VLOOKUP(A1959,Liste!$B$179                         : Liste!$C$189,2),\"\")","v":""},null,null,{"$f":"IF(D1959>0,VLOOKUP(D1959,Liste!$A$10:$D$163,4),\"\")","v":""},null,null,null,""]
[null,{"$f":"IF(A1960>0,VLOOKUP(A1960,Liste!$B$179                         : Liste!$C$189,2),\"\")","v":""},null,null,{"$f":"IF(D1960>0,VLOOKUP(D1960,Liste!$A$10:$D$163,4),\"\")","v":""},null,null,null,""]
[null,{"$f":"IF(A1961>0,VLOOKUP(A1961,Liste!$B$179                         : Liste!$C$189,2),\"\")","v":""},null,null,{"$f":"IF(D1961>0,VLOOKUP(D1961,Liste!$A$10:$D$163,4),\"\")","v":""},null,null,null,""]
[null,{"$f":"IF(A1962>0,VLOOKUP(A1962,Liste!$B$179                         : Liste!$C$189,2),\"\")","v":""},null,null,{"$f":"IF(D1962>0,VLOOKUP(D1962,Liste!$A$10:$D$163,4),\"\")","v":""},null,null,null,""]
[null,{"$f":"IF(A1963>0,VLOOKUP(A1963,Liste!$B$179                         : Liste!$C$189,2),\"\")","v":""},null,null,{"$f":"IF(D1963>0,VLOOKUP(D1963,Liste!$A$10:$D$163,4),\"\")","v":""},null,null,null,""]
[null,{"$f":"IF(A1964>0,VLOOKUP(A1964,Liste!$B$179                         : Liste!$C$189,2),\"\")","v":""},null,null,{"$f":"IF(D1964>0,VLOOKUP(D1964,Liste!$A$10:$D$163,4),\"\")","v":""},null,null,null,""]
[null,{"$f":"IF(A1965>0,VLOOKUP(A1965,Liste!$B$179                         : Liste!$C$189,2),\"\")","v":""},null,null,{"$f":"IF(D1965>0,VLOOKUP(D1965,Liste!$A$10:$D$163,4),\"\")","v":""},null,null,null,""]
[null,{"$f":"IF(A1966>0,VLOOKUP(A1966,Liste!$B$179                         : Liste!$C$189,2),\"\")","v":""},null,null,{"$f":"IF(D1966>0,VLOOKUP(D1966,Liste!$A$10:$D$163,4),\"\")","v":""},null,null,null,""]
[null,{"$f":"IF(A1967>0,VLOOKUP(A1967,Liste!$B$179                         : Liste!$C$189,2),\"\")","v":""},null,null,{"$f":"IF(D1967>0,VLOOKUP(D1967,Liste!$A$10:$D$163,4),\"\")","v":""},null,null,null,""]
[null,{"$f":"IF(A1968>0,VLOOKUP(A1968,Liste!$B$179                         : Liste!$C$189,2),\"\")","v":""},null,null,{"$f":"IF(D1968>0,VLOOKUP(D1968,Liste!$A$10:$D$163,4),\"\")","v":""},null,null,null,""]
[null,{"$f":"IF(A1969>0,VLOOKUP(A1969,Liste!$B$179                         : Liste!$C$189,2),\"\")","v":""},null,null,{"$f":"IF(D1969>0,VLOOKUP(D1969,Liste!$A$10:$D$163,4),\"\")","v":""},null,null,null,""]
[null,{"$f":"IF(A1970>0,VLOOKUP(A1970,Liste!$B$179                         : Liste!$C$189,2),\"\")","v":""},null,null,{"$f":"IF(D1970>0,VLOOKUP(D1970,Liste!$A$10:$D$163,4),\"\")","v":""},null,null,null,""]
[null,{"$f":"IF(A1971>0,VLOOKUP(A1971,Liste!$B$179                         : Liste!$C$189,2),\"\")","v":""},null,null,{"$f":"IF(D1971>0,VLOOKUP(D1971,Liste!$A$10:$D$163,4),\"\")","v":""},null,null,null,""]
[null,{"$f":"IF(A1972>0,VLOOKUP(A1972,Liste!$B$179                         : Liste!$C$189,2),\"\")","v":""},null,null,{"$f":"IF(D1972>0,VLOOKUP(D1972,Liste!$A$10:$D$163,4),\"\")","v":""},null,null,null,""]
[null,{"$f":"IF(A1973>0,VLOOKUP(A1973,Liste!$B$179                         : Liste!$C$189,2),\"\")","v":""},null,null,{"$f":"IF(D1973>0,VLOOKUP(D1973,Liste!$A$10:$D$163,4),\"\")","v":""},null,null,null,""]
[null,{"$f":"IF(A1974>0,VLOOKUP(A1974,Liste!$B$179                         : Liste!$C$189,2),\"\")","v":""},null,null,{"$f":"IF(D1974>0,VLOOKUP(D1974,Liste!$A$10:$D$163,4),\"\")","v":""},null,null,null,""]
[null,{"$f":"IF(A1975>0,VLOOKUP(A1975,Liste!$B$179                         : Liste!$C$189,2),\"\")","v":""},null,null,{"$f":"IF(D1975>0,VLOOKUP(D1975,Liste!$A$10:$D$163,4),\"\")","v":""},null,null,null,""]
[null,{"$f":"IF(A1976>0,VLOOKUP(A1976,Liste!$B$179                         : Liste!$C$189,2),\"\")","v":""},null,null,{"$f":"IF(D1976>0,VLOOKUP(D1976,Liste!$A$10:$D$163,4),\"\")","v":""},null,null,null,""]
[null,{"$f":"IF(A1977>0,VLOOKUP(A1977,Liste!$B$179                         : Liste!$C$189,2),\"\")","v":""},null,null,{"$f":"IF(D1977>0,VLOOKUP(D1977,Liste!$A$10:$D$163,4),\"\")","v":""},null,null,null,""]
[null,{"$f":"IF(A1978>0,VLOOKUP(A1978,Liste!$B$179                         : Liste!$C$189,2),\"\")","v":""},null,null,{"$f":"IF(D1978>0,VLOOKUP(D1978,Liste!$A$10:$D$163,4),\"\")","v":""},null,null,null,""]
[null,{"$f":"IF(A1979>0,VLOOKUP(A1979,Liste!$B$179                         : Liste!$C$189,2),\"\")","v":""},null,null,{"$f":"IF(D1979>0,VLOOKUP(D1979,Liste!$A$10:$D$163,4),\"\")","v":""},null,null,null,""]
[null,{"$f":"IF(A1980>0,VLOOKUP(A1980,Liste!$B$179                         : Liste!$C$189,2),\"\")","v":""},null,null,{"$f":"IF(D1980>0,VLOOKUP(D1980,Liste!$A$10:$D$163,4),\"\")","v":""},null,null,null,""]
[null,{"$f":"IF(A1981>0,VLOOKUP(A1981,Liste!$B$179                         : Liste!$C$189,2),\"\")","v":""},null,null,{"$f":"IF(D1981>0,VLOOKUP(D1981,Liste!$A$10:$D$163,4),\"\")","v":""},null,null,null,""]
[null,{"$f":"IF(A1982>0,VLOOKUP(A1982,Liste!$B$179                         : Liste!$C$189,2),\"\")","v":""},null,null,{"$f":"IF(D1982>0,VLOOKUP(D1982,Liste!$A$10:$D$163,4),\"\")","v":""},null,null,null,""]
[null,{"$f":"IF(A1983>0,VLOOKUP(A1983,Liste!$B$179                         : Liste!$C$189,2),\"\")","v":""},null,null,{"$f":"IF(D1983>0,VLOOKUP(D1983,Liste!$A$10:$D$163,4),\"\")","v":""},null,null,null,""]
[null,{"$f":"IF(A1984>0,VLOOKUP(A1984,Liste!$B$179                         : Liste!$C$189,2),\"\")","v":""},null,null,{"$f":"IF(D1984>0,VLOOKUP(D1984,Liste!$A$10:$D$163,4),\"\")","v":""},null,null,null,""]
[null,{"$f":"IF(A1985>0,VLOOKUP(A1985,Liste!$B$179                         : Liste!$C$189,2),\"\")","v":""},null,null,{"$f":"IF(D1985>0,VLOOKUP(D1985,Liste!$A$10:$D$163,4),\"\")","v":""},null,null,null,""]
[null,{"$f":"IF(A1986>0,VLOOKUP(A1986,Liste!$B$179                         : Liste!$C$189,2),\"\")","v":""},null,null,{"$f":"IF(D1986>0,VLOOKUP(D1986,Liste!$A$10:$D$163,4),\"\")","v":""},null,null,null,""]
[null,{"$f":"IF(A1987>0,VLOOKUP(A1987,Liste!$B$179                         : Liste!$C$189,2),\"\")","v":""},null,null,{"$f":"IF(D1987>0,VLOOKUP(D1987,Liste!$A$10:$D$163,4),\"\")","v":""},null,null,null,""]
[null,{"$f":"IF(A1988>0,VLOOKUP(A1988,Liste!$B$179                         : Liste!$C$189,2),\"\")","v":""},null,null,{"$f":"IF(D1988>0,VLOOKUP(D1988,Liste!$A$10:$D$163,4),\"\")","v":""},null,null,null,""]
[null,{"$f":"IF(A1989>0,VLOOKUP(A1989,Liste!$B$179                         : Liste!$C$189,2),\"\")","v":""},null,null,{"$f":"IF(D1989>0,VLOOKUP(D1989,Liste!$A$10:$D$163,4),\"\")","v":""},null,null,null,""]
[null,{"$f":"IF(A1990>0,VLOOKUP(A1990,Liste!$B$179                         : Liste!$C$189,2),\"\")","v":""},null,null,{"$f":"IF(D1990>0,VLOOKUP(D1990,Liste!$A$10:$D$163,4),\"\")","v":""},null,null,null,{"$f":"IF(AND(D1990>0,F1990+G1990+H1990=0),\"EN ATTENTE\",IF(F1990+G1990+H1990>1,\"ERREUR\",\"\"))","v":""}]
[null,{"$f":"IF(A1991>0,VLOOKUP(A1991,Liste!$B$179                         : Liste!$C$189,2),\"\")","v":""},null,null,{"$f":"IF(D1991>0,VLOOKUP(D1991,Liste!$A$10:$D$163,4),\"\")","v":""},null,null,null,""]
[null,{"$f":"IF(A1992>0,VLOOKUP(A1992,Liste!$B$179                         : Liste!$C$189,2),\"\")","v":""},null,null,{"$f":"IF(D1992>0,VLOOKUP(D1992,Liste!$A$10:$D$163,4),\"\")","v":""},null,null,null,""]
[null,{"$f":"IF(A1993>0,VLOOKUP(A1993,Liste!$B$179                         : Liste!$C$189,2),\"\")","v":""},null,null,{"$f":"IF(D1993>0,VLOOKUP(D1993,Liste!$A$10:$D$163,4),\"\")","v":""},null,null,null,""]
[null,{"$f":"IF(A1994>0,VLOOKUP(A1994,Liste!$B$179                         : Liste!$C$189,2),\"\")","v":""},null,null,{"$f":"IF(D1994>0,VLOOKUP(D1994,Liste!$A$10:$D$163,4),\"\")","v":""},null,null,null,""]
[null,{"$f":"IF(A1995>0,VLOOKUP(A1995,Liste!$B$179                         : Liste!$C$189,2),\"\")","v":""},null,null,{"$f":"IF(D1995>0,VLOOKUP(D1995,Liste!$A$10:$D$163,4),\"\")","v":""},null,null,null,""]
[null,{"$f":"IF(A1996>0,VLOOKUP(A1996,Liste!$B$179                         : Liste!$C$189,2),\"\")","v":""},null,null,{"$f":"IF(D1996>0,VLOOKUP(D1996,Liste!$A$10:$D$163,4),\"\")","v":""},null,null,null,""]
[null,{"$f":"IF(A1997>0,VLOOKUP(A1997,Liste!$B$179                         : Liste!$C$189,2),\"\")","v":""},null,null,{"$f":"IF(D1997>0,VLOOKUP(D1997,Liste!$A$10:$D$163,4),\"\")","v":""},null,null,null,""]
[null,{"$f":"IF(A1998>0,VLOOKUP(A1998,Liste!$B$179                         : Liste!$C$189,2),\"\")","v":""},null,null,{"$f":"IF(D1998>0,VLOOKUP(D1998,Liste!$A$10:$D$163,4),\"\")","v":""},null,null,null,""]
[null,{"$f":"IF(A1999>0,VLOOKUP(A1999,Liste!$B$179                         : Liste!$C$189,2),\"\")","v":""},null,null,{"$f":"IF(D1999>0,VLOOKUP(D1999,Liste!$A$10:$D$163,4),\"\")","v":""},null,null,null,""]
[null,{"$f":"IF(A2000>0,VLOOKUP(A2000,Liste!$B$179                         : Liste!$C$189,2),\"\")","v":""},null,null,{"$f":"IF(D2000>0,VLOOKUP(D2000,Liste!$A$10:$D$163,4),\"\")","v":""},null,null,null,""]
[null,{"$f":"IF(A2001>0,VLOOKUP(A2001,Liste!$B$179                         : Liste!$C$189,2),\"\")","v":""},null,null,{"$f":"IF(D2001>0,VLOOKUP(D2001,Liste!$A$10:$D$163,4),\"\")","v":""},null,null,null,""]
[null,{"$f":"IF(A2002>0,VLOOKUP(A2002,Liste!$B$179                         : Liste!$C$189,2),\"\")","v":""},null,null,{"$f":"IF(D2002>0,VLOOKUP(D2002,Liste!$A$10:$D$163,4),\"\")","v":""},null,null,null,""]
[null,{"$f":"IF(A2003>0,VLOOKUP(A2003,Liste!$B$179                         : Liste!$C$189,2),\"\")","v":""},null,null,{"$f":"IF(D2003>0,VLOOKUP(D2003,Liste!$A$10:$D$163,4),\"\")","v":""},null,null,null,""]
[null,{"$f":"IF(A2004>0,VLOOKUP(A2004,Liste!$B$179                         : Liste!$C$189,2),\"\")","v":""},null,null,{"$f":"IF(D2004>0,VLOOKUP(D2004,Liste!$A$10:$D$163,4),\"\")","v":""},null,null,null,""]
[null,{"$f":"IF(A2005>0,VLOOKUP(A2005,Liste!$B$179                         : Liste!$C$189,2),\"\")","v":""},null,null,{"$f":"IF(D2005>0,VLOOKUP(D2005,Liste!$A$10:$D$163,4),\"\")","v":""},null,null,null,""]
[null,{"$f":"IF(A2006>0,VLOOKUP(A2006,Liste!$B$179                         : Liste!$C$189,2),\"\")","v":""},null,null,{"$f":"IF(D2006>0,VLOOKUP(D2006,Liste!$A$10:$D$163,4),\"\")","v":""},null,null,null,""]
[null,{"$f":"IF(A2007>0,VLOOKUP(A2007,Liste!$B$179                         : Liste!$C$189,2),\"\")","v":""},null,null,{"$f":"IF(D2007>0,VLOOKUP(D2007,Liste!$A$10:$D$163,4),\"\")","v":""},null,null,null,""]
[null,{"$f":"IF(A2008>0,VLOOKUP(A2008,Liste!$B$179                         : Liste!$C$189,2),\"\")","v":""},null,null,{"$f":"IF(D2008>0,VLOOKUP(D2008,Liste!$A$10:$D$163,4),\"\")","v":""},null,null,null,""]
[null,{"$f":"IF(A2009>0,VLOOKUP(A2009,Liste!$B$179                         : Liste!$C$189,2),\"\")","v":""},null,null,{"$f":"IF(D2009>0,VLOOKUP(D2009,Liste!$A$10:$D$163,4),\"\")","v":""},null,null,null,""]
[null,{"$f":"IF(A2010>0,VLOOKUP(A2010,Liste!$B$179                         : Liste!$C$189,2),\"\")","v":""},null,null,{"$f":"IF(D2010>0,VLOOKUP(D2010,Liste!$A$10:$D$163,4),\"\")","v":""},null,null,null,""]
[null,{"$f":"IF(A2011>0,VLOOKUP(A2011,Liste!$B$179                         : Liste!$C$189,2),\"\")","v":""},null,null,{"$f":"IF(D2011>0,VLOOKUP(D2011,Liste!$A$10:$D$163,4),\"\")","v":""},null,null,null,""]
[null,{"$f":"IF(A2012>0,VLOOKUP(A2012,Liste!$B$179                         : Liste!$C$189,2),\"\")","v":""},null,null,{"$f":"IF(D2012>0,VLOOKUP(D2012,Liste!$A$10:$D$163,4),\"\")","v":""},null,null,null,""]
[null,{"$f":"IF(A2013>0,VLOOKUP(A2013,Liste!$B$179                         : Liste!$C$189,2),\"\")","v":""},null,null,{"$f":"IF(D2013>0,VLOOKUP(D2013,Liste!$A$10:$D$163,4),\"\")","v":""},null,null,null,""]
[null,{"$f":"IF(A2014>0,VLOOKUP(A2014,Liste!$B$179                         : Liste!$C$189,2),\"\")","v":""},null,null,{"$f":"IF(D2014>0,VLOOKUP(D2014,Liste!$A$10:$D$163,4),\"\")","v":""},null,null,null,""]
[null,{"$f":"IF(A2015>0,VLOOKUP(A2015,Liste!$B$179                         : Liste!$C$189,2),\"\")","v":""},null,null,{"$f":"IF(D2015>0,VLOOKUP(D2015,Liste!$A$10:$D$163,4),\"\")","v":""},null,null,null,""]
[null,{"$f":"IF(A2016>0,VLOOKUP(A2016,Liste!$B$179                         : Liste!$C$189,2),\"\")","v":""},null,null,{"$f":"IF(D2016>0,VLOOKUP(D2016,Liste!$A$10:$D$163,4),\"\")","v":""},null,null,null,""]
[null,{"$f":"IF(A2017>0,VLOOKUP(A2017,Liste!$B$179                         : Liste!$C$189,2),\"\")","v":""},null,null,{"$f":"IF(D2017>0,VLOOKUP(D2017,Liste!$A$10:$D$163,4),\"\")","v":""},null,null,null,""]
[null,{"$f":"IF(A2018>0,VLOOKUP(A2018,Liste!$B$179                         : Liste!$C$189,2),\"\")","v":""},null,null,{"$f":"IF(D2018>0,VLOOKUP(D2018,Liste!$A$10:$D$163,4),\"\")","v":""},null,null,null,""]
[null,{"$f":"IF(A2019>0,VLOOKUP(A2019,Liste!$B$179                         : Liste!$C$189,2),\"\")","v":""},null,null,{"$f":"IF(D2019>0,VLOOKUP(D2019,Liste!$A$10:$D$163,4),\"\")","v":""},null,null,null,""]
[null,{"$f":"IF(A2020>0,VLOOKUP(A2020,Liste!$B$179                         : Liste!$C$189,2),\"\")","v":""},null,null,{"$f":"IF(D2020>0,VLOOKUP(D2020,Liste!$A$10:$D$163,4),\"\")","v":""},null,null,null,""]
[null,{"$f":"IF(A2021>0,VLOOKUP(A2021,Liste!$B$179                         : Liste!$C$189,2),\"\")","v":""},null,null,{"$f":"IF(D2021>0,VLOOKUP(D2021,Liste!$A$10:$D$163,4),\"\")","v":""},null,null,null,""]
[null,{"$f":"IF(A2022>0,VLOOKUP(A2022,Liste!$B$179                         : Liste!$C$189,2),\"\")","v":""},null,null,{"$f":"IF(D2022>0,VLOOKUP(D2022,Liste!$A$10:$D$163,4),\"\")","v":""},null,null,null,""]
[null,{"$f":"IF(A2023>0,VLOOKUP(A2023,Liste!$B$179                         : Liste!$C$189,2),\"\")","v":""},null,null,{"$f":"IF(D2023>0,VLOOKUP(D2023,Liste!$A$10:$D$163,4),\"\")","v":""},null,null,null,""]
[null,{"$f":"IF(A2024>0,VLOOKUP(A2024,Liste!$B$179                         : Liste!$C$189,2),\"\")","v":""},null,null,{"$f":"IF(D2024>0,VLOOKUP(D2024,Liste!$A$10:$D$163,4),\"\")","v":""},null,null,null,""]
[null,{"$f":"IF(A2025>0,VLOOKUP(A2025,Liste!$B$179                         : Liste!$C$189,2),\"\")","v":""},null,null,{"$f":"IF(D2025>0,VLOOKUP(D2025,Liste!$A$10:$D$163,4),\"\")","v":""},null,null,null,""]
[null,{"$f":"IF(A2026>0,VLOOKUP(A2026,Liste!$B$179                         : Liste!$C$189,2),\"\")","v":""},null,null,{"$f":"IF(D2026>0,VLOOKUP(D2026,Liste!$A$10:$D$163,4),\"\")","v":""},null,null,null,""]
[null,{"$f":"IF(A2027>0,VLOOKUP(A2027,Liste!$B$179                         : Liste!$C$189,2),\"\")","v":""},null,null,{"$f":"IF(D2027>0,VLOOKUP(D2027,Liste!$A$10:$D$163,4),\"\")","v":""},null,null,null,""]
[null,{"$f":"IF(A2028>0,VLOOKUP(A2028,Liste!$B$179                         : Liste!$C$189,2),\"\")","v":""},null,null,{"$f":"IF(D2028>0,VLOOKUP(D2028,Liste!$A$10:$D$163,4),\"\")","v":""},null,null,null,""]
[null,{"$f":"IF(A2029>0,VLOOKUP(A2029,Liste!$B$179                         : Liste!$C$189,2),\"\")","v":""},null,null,{"$f":"IF(D2029>0,VLOOKUP(D2029,Liste!$A$10:$D$163,4),\"\")","v":""},null,null,null,""]
[null,{"$f":"IF(A2030>0,VLOOKUP(A2030,Liste!$B$179                         : Liste!$C$189,2),\"\")","v":""},null,null,{"$f":"IF(D2030>0,VLOOKUP(D2030,Liste!$A$10:$D$163,4),\"\")","v":""},null,null,null,""]
[null,{"$f":"IF(A2031>0,VLOOKUP(A2031,Liste!$B$179                         : Liste!$C$189,2),\"\")","v":""},null,null,{"$f":"IF(D2031>0,VLOOKUP(D2031,Liste!$A$10:$D$163,4),\"\")","v":""},null,null,null,""]
[null,{"$f":"IF(A2032>0,VLOOKUP(A2032,Liste!$B$179                         : Liste!$C$189,2),\"\")","v":""},null,null,{"$f":"IF(D2032>0,VLOOKUP(D2032,Liste!$A$10:$D$163,4),\"\")","v":""},null,null,null,""]
[null,{"$f":"IF(A2033>0,VLOOKUP(A2033,Liste!$B$179                         : Liste!$C$189,2),\"\")","v":""},null,null,{"$f":"IF(D2033>0,VLOOKUP(D2033,Liste!$A$10:$D$163,4),\"\")","v":""},null,null,null,""]
[null,{"$f":"IF(A2034>0,VLOOKUP(A2034,Liste!$B$179                         : Liste!$C$189,2),\"\")","v":""},null,null,{"$f":"IF(D2034>0,VLOOKUP(D2034,Liste!$A$10:$D$163,4),\"\")","v":""},null,null,null,""]
[null,{"$f":"IF(A2035>0,VLOOKUP(A2035,Liste!$B$179                         : Liste!$C$189,2),\"\")","v":""},null,null,{"$f":"IF(D2035>0,VLOOKUP(D2035,Liste!$A$10:$D$163,4),\"\")","v":""},null,null,null,""]
[null,{"$f":"IF(A2036>0,VLOOKUP(A2036,Liste!$B$179                         : Liste!$C$189,2),\"\")","v":""},null,null,{"$f":"IF(D2036>0,VLOOKUP(D2036,Liste!$A$10:$D$163,4),\"\")","v":""},null,null,null,""]
[null,{"$f":"IF(A2037>0,VLOOKUP(A2037,Liste!$B$179                         : Liste!$C$189,2),\"\")","v":""},null,null,{"$f":"IF(D2037>0,VLOOKUP(D2037,Liste!$A$10:$D$163,4),\"\")","v":""},null,null,null,""]
[null,{"$f":"IF(A2038>0,VLOOKUP(A2038,Liste!$B$179                         : Liste!$C$189,2),\"\")","v":""},null,null,{"$f":"IF(D2038>0,VLOOKUP(D2038,Liste!$A$10:$D$163,4),\"\")","v":""},null,null,null,""]
[null,{"$f":"IF(A2039>0,VLOOKUP(A2039,Liste!$B$179                         : Liste!$C$189,2),\"\")","v":""},null,null,{"$f":"IF(D2039>0,VLOOKUP(D2039,Liste!$A$10:$D$163,4),\"\")","v":""},null,null,null,""]
[null,{"$f":"IF(A2040>0,VLOOKUP(A2040,Liste!$B$179                         : Liste!$C$189,2),\"\")","v":""},null,null,{"$f":"IF(D2040>0,VLOOKUP(D2040,Liste!$A$10:$D$163,4),\"\")","v":""},null,null,null,""]
[null,{"$f":"IF(A2041>0,VLOOKUP(A2041,Liste!$B$179                         : Liste!$C$189,2),\"\")","v":""},null,null,{"$f":"IF(D2041>0,VLOOKUP(D2041,Liste!$A$10:$D$163,4),\"\")","v":""},null,null,null,""]
[null,{"$f":"IF(A2042>0,VLOOKUP(A2042,Liste!$B$179                         : Liste!$C$189,2),\"\")","v":""},null,null,{"$f":"IF(D2042>0,VLOOKUP(D2042,Liste!$A$10:$D$163,4),\"\")","v":""},null,null,null,""]
[null,{"$f":"IF(A2043>0,VLOOKUP(A2043,Liste!$B$179                         : Liste!$C$189,2),\"\")","v":""},null,null,{"$f":"IF(D2043>0,VLOOKUP(D2043,Liste!$A$10:$D$163,4),\"\")","v":""},null,null,null,""]
[null,{"$f":"IF(A2044>0,VLOOKUP(A2044,Liste!$B$179                         : Liste!$C$189,2),\"\")","v":""},null,null,{"$f":"IF(D2044>0,VLOOKUP(D2044,Liste!$A$10:$D$163,4),\"\")","v":""},null,null,null,""]
[null,{"$f":"IF(A2045>0,VLOOKUP(A2045,Liste!$B$179                         : Liste!$C$189,2),\"\")","v":""},null,null,{"$f":"IF(D2045>0,VLOOKUP(D2045,Liste!$A$10:$D$163,4),\"\")","v":""},null,null,null,""]
[null,{"$f":"IF(A2046>0,VLOOKUP(A2046,Liste!$B$179                         : Liste!$C$189,2),\"\")","v":""},null,null,{"$f":"IF(D2046>0,VLOOKUP(D2046,Liste!$A$10:$D$163,4),\"\")","v":""},null,null,null,""]
[null,{"$f":"IF(A2047>0,VLOOKUP(A2047,Liste!$B$179                         : Liste!$C$189,2),\"\")","v":""},null,null,{"$f":"IF(D2047>0,VLOOKUP(D2047,Liste!$A$10:$D$163,4),\"\")","v":""},null,null,null,""]
[null,{"$f":"IF(A2048>0,VLOOKUP(A2048,Liste!$B$179                         : Liste!$C$189,2),\"\")","v":""},null,null,{"$f":"IF(D2048>0,VLOOKUP(D2048,Liste!$A$10:$D$163,4),\"\")","v":""},null,null,null,""]
[null,{"$f":"IF(A2049>0,VLOOKUP(A2049,Liste!$B$179                         : Liste!$C$189,2),\"\")","v":""},null,null,{"$f":"IF(D2049>0,VLOOKUP(D2049,Liste!$A$10:$D$163,4),\"\")","v":""},null,null,null,""]
[null,{"$f":"IF(A2050>0,VLOOKUP(A2050,Liste!$B$179                         : Liste!$C$189,2),\"\")","v":""},null,null,{"$f":"IF(D2050>0,VLOOKUP(D2050,Liste!$A$10:$D$163,4),\"\")","v":""},null,null,null,""]
[null,{"$f":"IF(A2051>0,VLOOKUP(A2051,Liste!$B$179                         : Liste!$C$189,2),\"\")","v":""},null,null,{"$f":"IF(D2051>0,VLOOKUP(D2051,Liste!$A$10:$D$163,4),\"\")","v":""},null,null,null,""]
[null,{"$f":"IF(A2052>0,VLOOKUP(A2052,Liste!$B$179                         : Liste!$C$189,2),\"\")","v":""},null,null,{"$f":"IF(D2052>0,VLOOKUP(D2052,Liste!$A$10:$D$163,4),\"\")","v":""},null,null,null,""]
[null,{"$f":"IF(A2053>0,VLOOKUP(A2053,Liste!$B$179                         : Liste!$C$189,2),\"\")","v":""},null,null,{"$f":"IF(D2053>0,VLOOKUP(D2053,Liste!$A$10:$D$163,4),\"\")","v":""},null,null,null,""]
[null,{"$f":"IF(A2054>0,VLOOKUP(A2054,Liste!$B$179                         : Liste!$C$189,2),\"\")","v":""},null,null,{"$f":"IF(D2054>0,VLOOKUP(D2054,Liste!$A$10:$D$163,4),\"\")","v":""},null,null,null,{"$f":"IF(AND(D2054>0,F2054+G2054+H2054=0),\"EN ATTENTE\",IF(F2054+G2054+H2054>1,\"ERREUR\",\"\"))","v":""}]
[null,{"$f":"IF(A2055>0,VLOOKUP(A2055,Liste!$B$179                         : Liste!$C$189,2),\"\")","v":""},null,null,{"$f":"IF(D2055>0,VLOOKUP(D2055,Liste!$A$10:$D$163,4),\"\")","v":""},null,null,null,""]
[null,{"$f":"IF(A2056>0,VLOOKUP(A2056,Liste!$B$179                         : Liste!$C$189,2),\"\")","v":""},null,null,{"$f":"IF(D2056>0,VLOOKUP(D2056,Liste!$A$10:$D$163,4),\"\")","v":""},null,null,null,""]
[null,{"$f":"IF(A2057>0,VLOOKUP(A2057,Liste!$B$179                         : Liste!$C$189,2),\"\")","v":""},null,null,{"$f":"IF(D2057>0,VLOOKUP(D2057,Liste!$A$10:$D$163,4),\"\")","v":""},null,null,null,""]
[null,{"$f":"IF(A2058>0,VLOOKUP(A2058,Liste!$B$179                         : Liste!$C$189,2),\"\")","v":""},null,null,{"$f":"IF(D2058>0,VLOOKUP(D2058,Liste!$A$10:$D$163,4),\"\")","v":""},null,null,null,""]
[null,{"$f":"IF(A2059>0,VLOOKUP(A2059,Liste!$B$179                         : Liste!$C$189,2),\"\")","v":""},null,null,{"$f":"IF(D2059>0,VLOOKUP(D2059,Liste!$A$10:$D$163,4),\"\")","v":""},null,null,null,""]
[null,{"$f":"IF(A2060>0,VLOOKUP(A2060,Liste!$B$179                         : Liste!$C$189,2),\"\")","v":""},null,null,{"$f":"IF(D2060>0,VLOOKUP(D2060,Liste!$A$10:$D$163,4),\"\")","v":""},null,null,null,""]
[null,{"$f":"IF(A2061>0,VLOOKUP(A2061,Liste!$B$179                         : Liste!$C$189,2),\"\")","v":""},null,null,{"$f":"IF(D2061>0,VLOOKUP(D2061,Liste!$A$10:$D$163,4),\"\")","v":""},null,null,null,""]
[null,{"$f":"IF(A2062>0,VLOOKUP(A2062,Liste!$B$179                         : Liste!$C$189,2),\"\")","v":""},null,null,{"$f":"IF(D2062>0,VLOOKUP(D2062,Liste!$A$10:$D$163,4),\"\")","v":""},null,null,null,""]
[null,{"$f":"IF(A2063>0,VLOOKUP(A2063,Liste!$B$179                         : Liste!$C$189,2),\"\")","v":""},null,null,{"$f":"IF(D2063>0,VLOOKUP(D2063,Liste!$A$10:$D$163,4),\"\")","v":""},null,null,null,""]
[null,{"$f":"IF(A2064>0,VLOOKUP(A2064,Liste!$B$179                         : Liste!$C$189,2),\"\")","v":""},null,null,{"$f":"IF(D2064>0,VLOOKUP(D2064,Liste!$A$10:$D$163,4),\"\")","v":""},null,null,null,""]
[null,{"$f":"IF(A2065>0,VLOOKUP(A2065,Liste!$B$179                         : Liste!$C$189,2),\"\")","v":""},null,null,{"$f":"IF(D2065>0,VLOOKUP(D2065,Liste!$A$10:$D$163,4),\"\")","v":""},null,null,null,""]
[null,{"$f":"IF(A2066>0,VLOOKUP(A2066,Liste!$B$179                         : Liste!$C$189,2),\"\")","v":""},null,null,{"$f":"IF(D2066>0,VLOOKUP(D2066,Liste!$A$10:$D$163,4),\"\")","v":""},null,null,null,""]
[null,{"$f":"IF(A2067>0,VLOOKUP(A2067,Liste!$B$179                         : Liste!$C$189,2),\"\")","v":""},null,null,{"$f":"IF(D2067>0,VLOOKUP(D2067,Liste!$A$10:$D$163,4),\"\")","v":""},null,null,null,""]
[null,{"$f":"IF(A2068>0,VLOOKUP(A2068,Liste!$B$179                         : Liste!$C$189,2),\"\")","v":""},null,null,{"$f":"IF(D2068>0,VLOOKUP(D2068,Liste!$A$10:$D$163,4),\"\")","v":""},null,null,null,""]
[null,{"$f":"IF(A2069>0,VLOOKUP(A2069,Liste!$B$179                         : Liste!$C$189,2),\"\")","v":""},null,null,{"$f":"IF(D2069>0,VLOOKUP(D2069,Liste!$A$10:$D$163,4),\"\")","v":""},null,null,null,""]
[null,{"$f":"IF(A2070>0,VLOOKUP(A2070,Liste!$B$179                         : Liste!$C$189,2),\"\")","v":""},null,null,{"$f":"IF(D2070>0,VLOOKUP(D2070,Liste!$A$10:$D$163,4),\"\")","v":""},null,null,null,""]
[null,{"$f":"IF(A2071>0,VLOOKUP(A2071,Liste!$B$179                         : Liste!$C$189,2),\"\")","v":""},null,null,{"$f":"IF(D2071>0,VLOOKUP(D2071,Liste!$A$10:$D$163,4),\"\")","v":""},null,null,null,""]
[null,{"$f":"IF(A2072>0,VLOOKUP(A2072,Liste!$B$179                         : Liste!$C$189,2),\"\")","v":""},null,null,{"$f":"IF(D2072>0,VLOOKUP(D2072,Liste!$A$10:$D$163,4),\"\")","v":""},null,null,null,""]
[null,{"$f":"IF(A2073>0,VLOOKUP(A2073,Liste!$B$179                         : Liste!$C$189,2),\"\")","v":""},null,null,{"$f":"IF(D2073>0,VLOOKUP(D2073,Liste!$A$10:$D$163,4),\"\")","v":""},null,null,null,""]
[null,{"$f":"IF(A2074>0,VLOOKUP(A2074,Liste!$B$179                         : Liste!$C$189,2),\"\")","v":""},null,null,{"$f":"IF(D2074>0,VLOOKUP(D2074,Liste!$A$10:$D$163,4),\"\")","v":""},null,null,null,""]
[null,{"$f":"IF(A2075>0,VLOOKUP(A2075,Liste!$B$179                         : Liste!$C$189,2),\"\")","v":""},null,null,{"$f":"IF(D2075>0,VLOOKUP(D2075,Liste!$A$10:$D$163,4),\"\")","v":""},null,null,null,""]
[null,{"$f":"IF(A2076>0,VLOOKUP(A2076,Liste!$B$179                         : Liste!$C$189,2),\"\")","v":""},null,null,{"$f":"IF(D2076>0,VLOOKUP(D2076,Liste!$A$10:$D$163,4),\"\")","v":""},null,null,null,""]
[null,{"$f":"IF(A2077>0,VLOOKUP(A2077,Liste!$B$179                         : Liste!$C$189,2),\"\")","v":""},null,null,{"$f":"IF(D2077>0,VLOOKUP(D2077,Liste!$A$10:$D$163,4),\"\")","v":""},null,null,null,""]
[null,{"$f":"IF(A2078>0,VLOOKUP(A2078,Liste!$B$179                         : Liste!$C$189,2),\"\")","v":""},null,null,{"$f":"IF(D2078>0,VLOOKUP(D2078,Liste!$A$10:$D$163,4),\"\")","v":""},null,null,null,""]
[null,{"$f":"IF(A2079>0,VLOOKUP(A2079,Liste!$B$179                         : Liste!$C$189,2),\"\")","v":""},null,null,{"$f":"IF(D2079>0,VLOOKUP(D2079,Liste!$A$10:$D$163,4),\"\")","v":""},null,null,null,""]
[null,{"$f":"IF(A2080>0,VLOOKUP(A2080,Liste!$B$179                         : Liste!$C$189,2),\"\")","v":""},null,null,{"$f":"IF(D2080>0,VLOOKUP(D2080,Liste!$A$10:$D$163,4),\"\")","v":""},null,null,null,""]
[null,{"$f":"IF(A2081>0,VLOOKUP(A2081,Liste!$B$179                         : Liste!$C$189,2),\"\")","v":""},null,null,{"$f":"IF(D2081>0,VLOOKUP(D2081,Liste!$A$10:$D$163,4),\"\")","v":""},null,null,null,""]
[null,{"$f":"IF(A2082>0,VLOOKUP(A2082,Liste!$B$179                         : Liste!$C$189,2),\"\")","v":""},null,null,{"$f":"IF(D2082>0,VLOOKUP(D2082,Liste!$A$10:$D$163,4),\"\")","v":""},null,null,null,""]
[null,{"$f":"IF(A2083>0,VLOOKUP(A2083,Liste!$B$179                         : Liste!$C$189,2),\"\")","v":""},null,null,{"$f":"IF(D2083>0,VLOOKUP(D2083,Liste!$A$10:$D$163,4),\"\")","v":""},null,null,null,""]
[null,{"$f":"IF(A2084>0,VLOOKUP(A2084,Liste!$B$179                         : Liste!$C$189,2),\"\")","v":""},null,null,{"$f":"IF(D2084>0,VLOOKUP(D2084,Liste!$A$10:$D$163,4),\"\")","v":""},null,null,null,""]
[null,{"$f":"IF(A2085>0,VLOOKUP(A2085,Liste!$B$179                         : Liste!$C$189,2),\"\")","v":""},null,null,{"$f":"IF(D2085>0,VLOOKUP(D2085,Liste!$A$10:$D$163,4),\"\")","v":""},null,null,null,""]
[null,{"$f":"IF(A2086>0,VLOOKUP(A2086,Liste!$B$179                         : Liste!$C$189,2),\"\")","v":""},null,null,{"$f":"IF(D2086>0,VLOOKUP(D2086,Liste!$A$10:$D$163,4),\"\")","v":""},null,null,null,""]
[null,{"$f":"IF(A2087>0,VLOOKUP(A2087,Liste!$B$179                         : Liste!$C$189,2),\"\")","v":""},null,null,{"$f":"IF(D2087>0,VLOOKUP(D2087,Liste!$A$10:$D$163,4),\"\")","v":""},null,null,null,""]
[null,{"$f":"IF(A2088>0,VLOOKUP(A2088,Liste!$B$179                         : Liste!$C$189,2),\"\")","v":""},null,null,{"$f":"IF(D2088>0,VLOOKUP(D2088,Liste!$A$10:$D$163,4),\"\")","v":""},null,null,null,""]
[null,{"$f":"IF(A2089>0,VLOOKUP(A2089,Liste!$B$179                         : Liste!$C$189,2),\"\")","v":""},null,null,{"$f":"IF(D2089>0,VLOOKUP(D2089,Liste!$A$10:$D$163,4),\"\")","v":""},null,null,null,""]
[null,{"$f":"IF(A2090>0,VLOOKUP(A2090,Liste!$B$179                         : Liste!$C$189,2),\"\")","v":""},null,null,{"$f":"IF(D2090>0,VLOOKUP(D2090,Liste!$A$10:$D$163,4),\"\")","v":""},null,null,null,""]
[null,{"$f":"IF(A2091>0,VLOOKUP(A2091,Liste!$B$179                         : Liste!$C$189,2),\"\")","v":""},null,null,{"$f":"IF(D2091>0,VLOOKUP(D2091,Liste!$A$10:$D$163,4),\"\")","v":""},null,null,null,""]
[null,{"$f":"IF(A2092>0,VLOOKUP(A2092,Liste!$B$179                         : Liste!$C$189,2),\"\")","v":""},null,null,{"$f":"IF(D2092>0,VLOOKUP(D2092,Liste!$A$10:$D$163,4),\"\")","v":""},null,null,null,""]
[null,{"$f":"IF(A2093>0,VLOOKUP(A2093,Liste!$B$179                         : Liste!$C$189,2),\"\")","v":""},null,null,{"$f":"IF(D2093>0,VLOOKUP(D2093,Liste!$A$10:$D$163,4),\"\")","v":""},null,null,null,""]
[null,{"$f":"IF(A2094>0,VLOOKUP(A2094,Liste!$B$179                         : Liste!$C$189,2),\"\")","v":""},null,null,{"$f":"IF(D2094>0,VLOOKUP(D2094,Liste!$A$10:$D$163,4),\"\")","v":""},null,null,null,""]
[null,{"$f":"IF(A2095>0,VLOOKUP(A2095,Liste!$B$179                         : Liste!$C$189,2),\"\")","v":""},null,null,{"$f":"IF(D2095>0,VLOOKUP(D2095,Liste!$A$10:$D$163,4),\"\")","v":""},null,null,null,""]
[null,{"$f":"IF(A2096>0,VLOOKUP(A2096,Liste!$B$179                         : Liste!$C$189,2),\"\")","v":""},null,null,{"$f":"IF(D2096>0,VLOOKUP(D2096,Liste!$A$10:$D$163,4),\"\")","v":""},null,null,null,""]
[null,{"$f":"IF(A2097>0,VLOOKUP(A2097,Liste!$B$179                         : Liste!$C$189,2),\"\")","v":""},null,null,{"$f":"IF(D2097>0,VLOOKUP(D2097,Liste!$A$10:$D$163,4),\"\")","v":""},null,null,null,""]
[null,{"$f":"IF(A2098>0,VLOOKUP(A2098,Liste!$B$179                         : Liste!$C$189,2),\"\")","v":""},null,null,{"$f":"IF(D2098>0,VLOOKUP(D2098,Liste!$A$10:$D$163,4),\"\")","v":""},null,null,null,""]
[null,{"$f":"IF(A2099>0,VLOOKUP(A2099,Liste!$B$179                         : Liste!$C$189,2),\"\")","v":""},null,null,{"$f":"IF(D2099>0,VLOOKUP(D2099,Liste!$A$10:$D$163,4),\"\")","v":""},null,null,null,""]
[null,{"$f":"IF(A2100>0,VLOOKUP(A2100,Liste!$B$179                         : Liste!$C$189,2),\"\")","v":""},null,null,{"$f":"IF(D2100>0,VLOOKUP(D2100,Liste!$A$10:$D$163,4),\"\")","v":""},null,null,null,""]
[null,{"$f":"IF(A2101>0,VLOOKUP(A2101,Liste!$B$179                         : Liste!$C$189,2),\"\")","v":""},null,null,{"$f":"IF(D2101>0,VLOOKUP(D2101,Liste!$A$10:$D$163,4),\"\")","v":""},null,null,null,""]
[null,{"$f":"IF(A2102>0,VLOOKUP(A2102,Liste!$B$179                         : Liste!$C$189,2),\"\")","v":""},null,null,{"$f":"IF(D2102>0,VLOOKUP(D2102,Liste!$A$10:$D$163,4),\"\")","v":""},null,null,null,""]
[null,{"$f":"IF(A2103>0,VLOOKUP(A2103,Liste!$B$179                         : Liste!$C$189,2),\"\")","v":""},null,null,{"$f":"IF(D2103>0,VLOOKUP(D2103,Liste!$A$10:$D$163,4),\"\")","v":""},null,null,null,""]
[null,{"$f":"IF(A2104>0,VLOOKUP(A2104,Liste!$B$179                         : Liste!$C$189,2),\"\")","v":""},null,null,{"$f":"IF(D2104>0,VLOOKUP(D2104,Liste!$A$10:$D$163,4),\"\")","v":""},null,null,null,""]
[null,{"$f":"IF(A2105>0,VLOOKUP(A2105,Liste!$B$179                         : Liste!$C$189,2),\"\")","v":""},null,null,{"$f":"IF(D2105>0,VLOOKUP(D2105,Liste!$A$10:$D$163,4),\"\")","v":""},null,null,null,""]
[null,{"$f":"IF(A2106>0,VLOOKUP(A2106,Liste!$B$179                         : Liste!$C$189,2),\"\")","v":""},null,null,{"$f":"IF(D2106>0,VLOOKUP(D2106,Liste!$A$10:$D$163,4),\"\")","v":""},null,null,null,""]
[null,{"$f":"IF(A2107>0,VLOOKUP(A2107,Liste!$B$179                         : Liste!$C$189,2),\"\")","v":""},null,null,{"$f":"IF(D2107>0,VLOOKUP(D2107,Liste!$A$10:$D$163,4),\"\")","v":""},null,null,null,""]
[null,{"$f":"IF(A2108>0,VLOOKUP(A2108,Liste!$B$179                         : Liste!$C$189,2),\"\")","v":""},null,null,{"$f":"IF(D2108>0,VLOOKUP(D2108,Liste!$A$10:$D$163,4),\"\")","v":""},null,null,null,""]
[null,{"$f":"IF(A2109>0,VLOOKUP(A2109,Liste!$B$179                         : Liste!$C$189,2),\"\")","v":""},null,null,{"$f":"IF(D2109>0,VLOOKUP(D2109,Liste!$A$10:$D$163,4),\"\")","v":""},null,null,null,""]
[null,{"$f":"IF(A2110>0,VLOOKUP(A2110,Liste!$B$179                         : Liste!$C$189,2),\"\")","v":""},null,null,{"$f":"IF(D2110>0,VLOOKUP(D2110,Liste!$A$10:$D$163,4),\"\")","v":""},null,null,null,""]
[null,{"$f":"IF(A2111>0,VLOOKUP(A2111,Liste!$B$179                         : Liste!$C$189,2),\"\")","v":""},null,null,{"$f":"IF(D2111>0,VLOOKUP(D2111,Liste!$A$10:$D$163,4),\"\")","v":""},null,null,null,""]
[null,{"$f":"IF(A2112>0,VLOOKUP(A2112,Liste!$B$179                         : Liste!$C$189,2),\"\")","v":""},null,null,{"$f":"IF(D2112>0,VLOOKUP(D2112,Liste!$A$10:$D$163,4),\"\")","v":""},null,null,null,""]
[null,{"$f":"IF(A2113>0,VLOOKUP(A2113,Liste!$B$179                         : Liste!$C$189,2),\"\")","v":""},null,null,{"$f":"IF(D2113>0,VLOOKUP(D2113,Liste!$A$10:$D$163,4),\"\")","v":""},null,null,null,""]
[null,{"$f":"IF(A2114>0,VLOOKUP(A2114,Liste!$B$179                         : Liste!$C$189,2),\"\")","v":""},null,null,{"$f":"IF(D2114>0,VLOOKUP(D2114,Liste!$A$10:$D$163,4),\"\")","v":""},null,null,null,""]
[null,{"$f":"IF(A2115>0,VLOOKUP(A2115,Liste!$B$179                         : Liste!$C$189,2),\"\")","v":""},null,null,{"$f":"IF(D2115>0,VLOOKUP(D2115,Liste!$A$10:$D$163,4),\"\")","v":""},null,null,null,""]
[null,{"$f":"IF(A2116>0,VLOOKUP(A2116,Liste!$B$179                         : Liste!$C$189,2),\"\")","v":""},null,null,{"$f":"IF(D2116>0,VLOOKUP(D2116,Liste!$A$10:$D$163,4),\"\")","v":""},null,null,null,""]
[null,{"$f":"IF(A2117>0,VLOOKUP(A2117,Liste!$B$179                         : Liste!$C$189,2),\"\")","v":""},null,null,{"$f":"IF(D2117>0,VLOOKUP(D2117,Liste!$A$10:$D$163,4),\"\")","v":""},null,null,null,""]
[null,{"$f":"IF(A2118>0,VLOOKUP(A2118,Liste!$B$179                         : Liste!$C$189,2),\"\")","v":""},null,null,{"$f":"IF(D2118>0,VLOOKUP(D2118,Liste!$A$10:$D$163,4),\"\")","v":""},null,null,null,{"$f":"IF(AND(D2118>0,F2118+G2118+H2118=0),\"EN ATTENTE\",IF(F2118+G2118+H2118>1,\"ERREUR\",\"\"))","v":""}]
[null,{"$f":"IF(A2119>0,VLOOKUP(A2119,Liste!$B$179                         : Liste!$C$189,2),\"\")","v":""},null,null,{"$f":"IF(D2119>0,VLOOKUP(D2119,Liste!$A$10:$D$163,4),\"\")","v":""},null,null,null,""]
[null,{"$f":"IF(A2120>0,VLOOKUP(A2120,Liste!$B$179                         : Liste!$C$189,2),\"\")","v":""},null,null,{"$f":"IF(D2120>0,VLOOKUP(D2120,Liste!$A$10:$D$163,4),\"\")","v":""},null,null,null,""]
[null,{"$f":"IF(A2121>0,VLOOKUP(A2121,Liste!$B$179                         : Liste!$C$189,2),\"\")","v":""},null,null,{"$f":"IF(D2121>0,VLOOKUP(D2121,Liste!$A$10:$D$163,4),\"\")","v":""},null,null,null,""]
[null,{"$f":"IF(A2122>0,VLOOKUP(A2122,Liste!$B$179                         : Liste!$C$189,2),\"\")","v":""},null,null,{"$f":"IF(D2122>0,VLOOKUP(D2122,Liste!$A$10:$D$163,4),\"\")","v":""},null,null,null,""]
[null,{"$f":"IF(A2123>0,VLOOKUP(A2123,Liste!$B$179                         : Liste!$C$189,2),\"\")","v":""},null,null,{"$f":"IF(D2123>0,VLOOKUP(D2123,Liste!$A$10:$D$163,4),\"\")","v":""},null,null,null,""]
[null,{"$f":"IF(A2124>0,VLOOKUP(A2124,Liste!$B$179                         : Liste!$C$189,2),\"\")","v":""},null,null,{"$f":"IF(D2124>0,VLOOKUP(D2124,Liste!$A$10:$D$163,4),\"\")","v":""},null,null,null,""]
[null,{"$f":"IF(A2125>0,VLOOKUP(A2125,Liste!$B$179                         : Liste!$C$189,2),\"\")","v":""},null,null,{"$f":"IF(D2125>0,VLOOKUP(D2125,Liste!$A$10:$D$163,4),\"\")","v":""},null,null,null,""]
[null,{"$f":"IF(A2126>0,VLOOKUP(A2126,Liste!$B$179                         : Liste!$C$189,2),\"\")","v":""},null,null,{"$f":"IF(D2126>0,VLOOKUP(D2126,Liste!$A$10:$D$163,4),\"\")","v":""},null,null,null,""]
[null,{"$f":"IF(A2127>0,VLOOKUP(A2127,Liste!$B$179                         : Liste!$C$189,2),\"\")","v":""},null,null,{"$f":"IF(D2127>0,VLOOKUP(D2127,Liste!$A$10:$D$163,4),\"\")","v":""},null,null,null,""]
[null,{"$f":"IF(A2128>0,VLOOKUP(A2128,Liste!$B$179                         : Liste!$C$189,2),\"\")","v":""},null,null,{"$f":"IF(D2128>0,VLOOKUP(D2128,Liste!$A$10:$D$163,4),\"\")","v":""},null,null,null,""]
[null,{"$f":"IF(A2129>0,VLOOKUP(A2129,Liste!$B$179                         : Liste!$C$189,2),\"\")","v":""},null,null,{"$f":"IF(D2129>0,VLOOKUP(D2129,Liste!$A$10:$D$163,4),\"\")","v":""},null,null,null,""]
[null,{"$f":"IF(A2130>0,VLOOKUP(A2130,Liste!$B$179                         : Liste!$C$189,2),\"\")","v":""},null,null,{"$f":"IF(D2130>0,VLOOKUP(D2130,Liste!$A$10:$D$163,4),\"\")","v":""},null,null,null,""]
[null,{"$f":"IF(A2131>0,VLOOKUP(A2131,Liste!$B$179                         : Liste!$C$189,2),\"\")","v":""},null,null,{"$f":"IF(D2131>0,VLOOKUP(D2131,Liste!$A$10:$D$163,4),\"\")","v":""},null,null,null,""]
[null,{"$f":"IF(A2132>0,VLOOKUP(A2132,Liste!$B$179                         : Liste!$C$189,2),\"\")","v":""},null,null,{"$f":"IF(D2132>0,VLOOKUP(D2132,Liste!$A$10:$D$163,4),\"\")","v":""},null,null,null,""]
[null,{"$f":"IF(A2133>0,VLOOKUP(A2133,Liste!$B$179                         : Liste!$C$189,2),\"\")","v":""},null,null,{"$f":"IF(D2133>0,VLOOKUP(D2133,Liste!$A$10:$D$163,4),\"\")","v":""},null,null,null,""]
[null,{"$f":"IF(A2134>0,VLOOKUP(A2134,Liste!$B$179                         : Liste!$C$189,2),\"\")","v":""},null,null,{"$f":"IF(D2134>0,VLOOKUP(D2134,Liste!$A$10:$D$163,4),\"\")","v":""},null,null,null,""]
[null,{"$f":"IF(A2135>0,VLOOKUP(A2135,Liste!$B$179                         : Liste!$C$189,2),\"\")","v":""},null,null,{"$f":"IF(D2135>0,VLOOKUP(D2135,Liste!$A$10:$D$163,4),\"\")","v":""},null,null,null,""]
[null,{"$f":"IF(A2136>0,VLOOKUP(A2136,Liste!$B$179                         : Liste!$C$189,2),\"\")","v":""},null,null,{"$f":"IF(D2136>0,VLOOKUP(D2136,Liste!$A$10:$D$163,4),\"\")","v":""},null,null,null,""]
[null,{"$f":"IF(A2137>0,VLOOKUP(A2137,Liste!$B$179                         : Liste!$C$189,2),\"\")","v":""},null,null,{"$f":"IF(D2137>0,VLOOKUP(D2137,Liste!$A$10:$D$163,4),\"\")","v":""},null,null,null,""]
[null,{"$f":"IF(A2138>0,VLOOKUP(A2138,Liste!$B$179                         : Liste!$C$189,2),\"\")","v":""},null,null,{"$f":"IF(D2138>0,VLOOKUP(D2138,Liste!$A$10:$D$163,4),\"\")","v":""},null,null,null,""]
[null,{"$f":"IF(A2139>0,VLOOKUP(A2139,Liste!$B$179                         : Liste!$C$189,2),\"\")","v":""},null,null,{"$f":"IF(D2139>0,VLOOKUP(D2139,Liste!$A$10:$D$163,4),\"\")","v":""},null,null,null,""]
[null,{"$f":"IF(A2140>0,VLOOKUP(A2140,Liste!$B$179                         : Liste!$C$189,2),\"\")","v":""},null,null,{"$f":"IF(D2140>0,VLOOKUP(D2140,Liste!$A$10:$D$163,4),\"\")","v":""},null,null,null,""]
[null,{"$f":"IF(A2141>0,VLOOKUP(A2141,Liste!$B$179                         : Liste!$C$189,2),\"\")","v":""},null,null,{"$f":"IF(D2141>0,VLOOKUP(D2141,Liste!$A$10:$D$163,4),\"\")","v":""},null,null,null,""]
[null,{"$f":"IF(A2142>0,VLOOKUP(A2142,Liste!$B$179                         : Liste!$C$189,2),\"\")","v":""},null,null,{"$f":"IF(D2142>0,VLOOKUP(D2142,Liste!$A$10:$D$163,4),\"\")","v":""},null,null,null,""]
[null,{"$f":"IF(A2143>0,VLOOKUP(A2143,Liste!$B$179                         : Liste!$C$189,2),\"\")","v":""},null,null,{"$f":"IF(D2143>0,VLOOKUP(D2143,Liste!$A$10:$D$163,4),\"\")","v":""},null,null,null,""]
[null,{"$f":"IF(A2144>0,VLOOKUP(A2144,Liste!$B$179                         : Liste!$C$189,2),\"\")","v":""},null,null,{"$f":"IF(D2144>0,VLOOKUP(D2144,Liste!$A$10:$D$163,4),\"\")","v":""},null,null,null,""]
[null,{"$f":"IF(A2145>0,VLOOKUP(A2145,Liste!$B$179                         : Liste!$C$189,2),\"\")","v":""},null,null,{"$f":"IF(D2145>0,VLOOKUP(D2145,Liste!$A$10:$D$163,4),\"\")","v":""},null,null,null,""]
[null,{"$f":"IF(A2146>0,VLOOKUP(A2146,Liste!$B$179                         : Liste!$C$189,2),\"\")","v":""},null,null,{"$f":"IF(D2146>0,VLOOKUP(D2146,Liste!$A$10:$D$163,4),\"\")","v":""},null,null,null,""]
[null,{"$f":"IF(A2147>0,VLOOKUP(A2147,Liste!$B$179                         : Liste!$C$189,2),\"\")","v":""},null,null,{"$f":"IF(D2147>0,VLOOKUP(D2147,Liste!$A$10:$D$163,4),\"\")","v":""},null,null,null,""]
[null,{"$f":"IF(A2148>0,VLOOKUP(A2148,Liste!$B$179                         : Liste!$C$189,2),\"\")","v":""},null,null,{"$f":"IF(D2148>0,VLOOKUP(D2148,Liste!$A$10:$D$163,4),\"\")","v":""},null,null,null,""]
[null,{"$f":"IF(A2149>0,VLOOKUP(A2149,Liste!$B$179                         : Liste!$C$189,2),\"\")","v":""},null,null,{"$f":"IF(D2149>0,VLOOKUP(D2149,Liste!$A$10:$D$163,4),\"\")","v":""},null,null,null,""]
[null,{"$f":"IF(A2150>0,VLOOKUP(A2150,Liste!$B$179                         : Liste!$C$189,2),\"\")","v":""},null,null,{"$f":"IF(D2150>0,VLOOKUP(D2150,Liste!$A$10:$D$163,4),\"\")","v":""},null,null,null,""]
[null,{"$f":"IF(A2151>0,VLOOKUP(A2151,Liste!$B$179                         : Liste!$C$189,2),\"\")","v":""},null,null,{"$f":"IF(D2151>0,VLOOKUP(D2151,Liste!$A$10:$D$163,4),\"\")","v":""},null,null,null,""]
[null,{"$f":"IF(A2152>0,VLOOKUP(A2152,Liste!$B$179                         : Liste!$C$189,2),\"\")","v":""},null,null,{"$f":"IF(D2152>0,VLOOKUP(D2152,Liste!$A$10:$D$163,4),\"\")","v":""},null,null,null,""]
[null,{"$f":"IF(A2153>0,VLOOKUP(A2153,Liste!$B$179                         : Liste!$C$189,2),\"\")","v":""},null,null,{"$f":"IF(D2153>0,VLOOKUP(D2153,Liste!$A$10:$D$163,4),\"\")","v":""},null,null,null,""]
[null,{"$f":"IF(A2154>0,VLOOKUP(A2154,Liste!$B$179                         : Liste!$C$189,2),\"\")","v":""},null,null,{"$f":"IF(D2154>0,VLOOKUP(D2154,Liste!$A$10:$D$163,4),\"\")","v":""},null,null,null,""]
[null,{"$f":"IF(A2155>0,VLOOKUP(A2155,Liste!$B$179                         : Liste!$C$189,2),\"\")","v":""},null,null,{"$f":"IF(D2155>0,VLOOKUP(D2155,Liste!$A$10:$D$163,4),\"\")","v":""},null,null,null,""]
[null,{"$f":"IF(A2156>0,VLOOKUP(A2156,Liste!$B$179                         : Liste!$C$189,2),\"\")","v":""},null,null,{"$f":"IF(D2156>0,VLOOKUP(D2156,Liste!$A$10:$D$163,4),\"\")","v":""},null,null,null,""]
[null,{"$f":"IF(A2157>0,VLOOKUP(A2157,Liste!$B$179                         : Liste!$C$189,2),\"\")","v":""},null,null,{"$f":"IF(D2157>0,VLOOKUP(D2157,Liste!$A$10:$D$163,4),\"\")","v":""},null,null,null,""]
[null,{"$f":"IF(A2158>0,VLOOKUP(A2158,Liste!$B$179                         : Liste!$C$189,2),\"\")","v":""},null,null,{"$f":"IF(D2158>0,VLOOKUP(D2158,Liste!$A$10:$D$163,4),\"\")","v":""},null,null,null,""]
[null,{"$f":"IF(A2159>0,VLOOKUP(A2159,Liste!$B$179                         : Liste!$C$189,2),\"\")","v":""},null,null,{"$f":"IF(D2159>0,VLOOKUP(D2159,Liste!$A$10:$D$163,4),\"\")","v":""},null,null,null,""]
[null,{"$f":"IF(A2160>0,VLOOKUP(A2160,Liste!$B$179                         : Liste!$C$189,2),\"\")","v":""},null,null,{"$f":"IF(D2160>0,VLOOKUP(D2160,Liste!$A$10:$D$163,4),\"\")","v":""},null,null,null,""]
[null,{"$f":"IF(A2161>0,VLOOKUP(A2161,Liste!$B$179                         : Liste!$C$189,2),\"\")","v":""},null,null,{"$f":"IF(D2161>0,VLOOKUP(D2161,Liste!$A$10:$D$163,4),\"\")","v":""},null,null,null,""]
[null,{"$f":"IF(A2162>0,VLOOKUP(A2162,Liste!$B$179                         : Liste!$C$189,2),\"\")","v":""},null,null,{"$f":"IF(D2162>0,VLOOKUP(D2162,Liste!$A$10:$D$163,4),\"\")","v":""},null,null,null,""]
[null,{"$f":"IF(A2163>0,VLOOKUP(A2163,Liste!$B$179                         : Liste!$C$189,2),\"\")","v":""},null,null,{"$f":"IF(D2163>0,VLOOKUP(D2163,Liste!$A$10:$D$163,4),\"\")","v":""},null,null,null,""]
[null,{"$f":"IF(A2164>0,VLOOKUP(A2164,Liste!$B$179                         : Liste!$C$189,2),\"\")","v":""},null,null,{"$f":"IF(D2164>0,VLOOKUP(D2164,Liste!$A$10:$D$163,4),\"\")","v":""},null,null,null,""]
[null,{"$f":"IF(A2165>0,VLOOKUP(A2165,Liste!$B$179                         : Liste!$C$189,2),\"\")","v":""},null,null,{"$f":"IF(D2165>0,VLOOKUP(D2165,Liste!$A$10:$D$163,4),\"\")","v":""},null,null,null,""]
[null,{"$f":"IF(A2166>0,VLOOKUP(A2166,Liste!$B$179                         : Liste!$C$189,2),\"\")","v":""},null,null,{"$f":"IF(D2166>0,VLOOKUP(D2166,Liste!$A$10:$D$163,4),\"\")","v":""},null,null,null,""]
[null,{"$f":"IF(A2167>0,VLOOKUP(A2167,Liste!$B$179                         : Liste!$C$189,2),\"\")","v":""},null,null,{"$f":"IF(D2167>0,VLOOKUP(D2167,Liste!$A$10:$D$163,4),\"\")","v":""},null,null,null,""]
[null,{"$f":"IF(A2168>0,VLOOKUP(A2168,Liste!$B$179                         : Liste!$C$189,2),\"\")","v":""},null,null,{"$f":"IF(D2168>0,VLOOKUP(D2168,Liste!$A$10:$D$163,4),\"\")","v":""},null,null,null,""]
[null,{"$f":"IF(A2169>0,VLOOKUP(A2169,Liste!$B$179                         : Liste!$C$189,2),\"\")","v":""},null,null,{"$f":"IF(D2169>0,VLOOKUP(D2169,Liste!$A$10:$D$163,4),\"\")","v":""},null,null,null,""]
[null,{"$f":"IF(A2170>0,VLOOKUP(A2170,Liste!$B$179                         : Liste!$C$189,2),\"\")","v":""},null,null,{"$f":"IF(D2170>0,VLOOKUP(D2170,Liste!$A$10:$D$163,4),\"\")","v":""},null,null,null,""]
[null,{"$f":"IF(A2171>0,VLOOKUP(A2171,Liste!$B$179                         : Liste!$C$189,2),\"\")","v":""},null,null,{"$f":"IF(D2171>0,VLOOKUP(D2171,Liste!$A$10:$D$163,4),\"\")","v":""},null,null,null,""]
[null,{"$f":"IF(A2172>0,VLOOKUP(A2172,Liste!$B$179                         : Liste!$C$189,2),\"\")","v":""},null,null,{"$f":"IF(D2172>0,VLOOKUP(D2172,Liste!$A$10:$D$163,4),\"\")","v":""},null,null,null,""]
[null,{"$f":"IF(A2173>0,VLOOKUP(A2173,Liste!$B$179                         : Liste!$C$189,2),\"\")","v":""},null,null,{"$f":"IF(D2173>0,VLOOKUP(D2173,Liste!$A$10:$D$163,4),\"\")","v":""},null,null,null,""]
[null,{"$f":"IF(A2174>0,VLOOKUP(A2174,Liste!$B$179                         : Liste!$C$189,2),\"\")","v":""},null,null,{"$f":"IF(D2174>0,VLOOKUP(D2174,Liste!$A$10:$D$163,4),\"\")","v":""},null,null,null,""]
[null,{"$f":"IF(A2175>0,VLOOKUP(A2175,Liste!$B$179                         : Liste!$C$189,2),\"\")","v":""},null,null,{"$f":"IF(D2175>0,VLOOKUP(D2175,Liste!$A$10:$D$163,4),\"\")","v":""},null,null,null,""]
[null,{"$f":"IF(A2176>0,VLOOKUP(A2176,Liste!$B$179                         : Liste!$C$189,2),\"\")","v":""},null,null,{"$f":"IF(D2176>0,VLOOKUP(D2176,Liste!$A$10:$D$163,4),\"\")","v":""},null,null,null,""]
[null,{"$f":"IF(A2177>0,VLOOKUP(A2177,Liste!$B$179                         : Liste!$C$189,2),\"\")","v":""},null,null,{"$f":"IF(D2177>0,VLOOKUP(D2177,Liste!$A$10:$D$163,4),\"\")","v":""},null,null,null,""]
[null,{"$f":"IF(A2178>0,VLOOKUP(A2178,Liste!$B$179                         : Liste!$C$189,2),\"\")","v":""},null,null,{"$f":"IF(D2178>0,VLOOKUP(D2178,Liste!$A$10:$D$163,4),\"\")","v":""},null,null,null,""]
[null,{"$f":"IF(A2179>0,VLOOKUP(A2179,Liste!$B$179                         : Liste!$C$189,2),\"\")","v":""},null,null,{"$f":"IF(D2179>0,VLOOKUP(D2179,Liste!$A$10:$D$163,4),\"\")","v":""},null,null,null,""]
[null,{"$f":"IF(A2180>0,VLOOKUP(A2180,Liste!$B$179                         : Liste!$C$189,2),\"\")","v":""},null,null,{"$f":"IF(D2180>0,VLOOKUP(D2180,Liste!$A$10:$D$163,4),\"\")","v":""},null,null,null,""]
[null,{"$f":"IF(A2181>0,VLOOKUP(A2181,Liste!$B$179                         : Liste!$C$189,2),\"\")","v":""},null,null,{"$f":"IF(D2181>0,VLOOKUP(D2181,Liste!$A$10:$D$163,4),\"\")","v":""},null,null,null,""]
[null,{"$f":"IF(A2182>0,VLOOKUP(A2182,Liste!$B$179                         : Liste!$C$189,2),\"\")","v":""},null,null,{"$f":"IF(D2182>0,VLOOKUP(D2182,Liste!$A$10:$D$163,4),\"\")","v":""},null,null,null,{"$f":"IF(AND(D2182>0,F2182+G2182+H2182=0),\"EN ATTENTE\",IF(F2182+G2182+H2182>1,\"ERREUR\",\"\"))","v":""}]
[null,{"$f":"IF(A2183>0,VLOOKUP(A2183,Liste!$B$179                         : Liste!$C$189,2),\"\")","v":""},null,null,{"$f":"IF(D2183>0,VLOOKUP(D2183,Liste!$A$10:$D$163,4),\"\")","v":""},null,null,null,""]
[null,{"$f":"IF(A2184>0,VLOOKUP(A2184,Liste!$B$179                         : Liste!$C$189,2),\"\")","v":""},null,null,{"$f":"IF(D2184>0,VLOOKUP(D2184,Liste!$A$10:$D$163,4),\"\")","v":""},null,null,null,""]
[null,{"$f":"IF(A2185>0,VLOOKUP(A2185,Liste!$B$179                         : Liste!$C$189,2),\"\")","v":""},null,null,{"$f":"IF(D2185>0,VLOOKUP(D2185,Liste!$A$10:$D$163,4),\"\")","v":""},null,null,null,""]
[null,{"$f":"IF(A2186>0,VLOOKUP(A2186,Liste!$B$179                         : Liste!$C$189,2),\"\")","v":""},null,null,{"$f":"IF(D2186>0,VLOOKUP(D2186,Liste!$A$10:$D$163,4),\"\")","v":""},null,null,null,""]
[null,{"$f":"IF(A2187>0,VLOOKUP(A2187,Liste!$B$179                         : Liste!$C$189,2),\"\")","v":""},null,null,{"$f":"IF(D2187>0,VLOOKUP(D2187,Liste!$A$10:$D$163,4),\"\")","v":""},null,null,null,""]
[null,{"$f":"IF(A2188>0,VLOOKUP(A2188,Liste!$B$179                         : Liste!$C$189,2),\"\")","v":""},null,null,{"$f":"IF(D2188>0,VLOOKUP(D2188,Liste!$A$10:$D$163,4),\"\")","v":""},null,null,null,""]
[null,{"$f":"IF(A2189>0,VLOOKUP(A2189,Liste!$B$179                         : Liste!$C$189,2),\"\")","v":""},null,null,{"$f":"IF(D2189>0,VLOOKUP(D2189,Liste!$A$10:$D$163,4),\"\")","v":""},null,null,null,""]
[null,{"$f":"IF(A2190>0,VLOOKUP(A2190,Liste!$B$179                         : Liste!$C$189,2),\"\")","v":""},null,null,{"$f":"IF(D2190>0,VLOOKUP(D2190,Liste!$A$10:$D$163,4),\"\")","v":""},null,null,null,""]
[null,{"$f":"IF(A2191>0,VLOOKUP(A2191,Liste!$B$179                         : Liste!$C$189,2),\"\")","v":""},null,null,{"$f":"IF(D2191>0,VLOOKUP(D2191,Liste!$A$10:$D$163,4),\"\")","v":""},null,null,null,""]
[null,{"$f":"IF(A2192>0,VLOOKUP(A2192,Liste!$B$179                         : Liste!$C$189,2),\"\")","v":""},null,null,{"$f":"IF(D2192>0,VLOOKUP(D2192,Liste!$A$10:$D$163,4),\"\")","v":""},null,null,null,""]
[null,{"$f":"IF(A2193>0,VLOOKUP(A2193,Liste!$B$179                         : Liste!$C$189,2),\"\")","v":""},null,null,{"$f":"IF(D2193>0,VLOOKUP(D2193,Liste!$A$10:$D$163,4),\"\")","v":""},null,null,null,""]
[null,{"$f":"IF(A2194>0,VLOOKUP(A2194,Liste!$B$179                         : Liste!$C$189,2),\"\")","v":""},null,null,{"$f":"IF(D2194>0,VLOOKUP(D2194,Liste!$A$10:$D$163,4),\"\")","v":""},null,null,null,""]
[null,{"$f":"IF(A2195>0,VLOOKUP(A2195,Liste!$B$179                         : Liste!$C$189,2),\"\")","v":""},null,null,{"$f":"IF(D2195>0,VLOOKUP(D2195,Liste!$A$10:$D$163,4),\"\")","v":""},null,null,null,""]
[null,{"$f":"IF(A2196>0,VLOOKUP(A2196,Liste!$B$179                         : Liste!$C$189,2),\"\")","v":""},null,null,{"$f":"IF(D2196>0,VLOOKUP(D2196,Liste!$A$10:$D$163,4),\"\")","v":""},null,null,null,""]
[null,{"$f":"IF(A2197>0,VLOOKUP(A2197,Liste!$B$179                         : Liste!$C$189,2),\"\")","v":""},null,null,{"$f":"IF(D2197>0,VLOOKUP(D2197,Liste!$A$10:$D$163,4),\"\")","v":""},null,null,null,""]
[null,{"$f":"IF(A2198>0,VLOOKUP(A2198,Liste!$B$179                         : Liste!$C$189,2),\"\")","v":""},null,null,{"$f":"IF(D2198>0,VLOOKUP(D2198,Liste!$A$10:$D$163,4),\"\")","v":""},null,null,null,""]
[null,{"$f":"IF(A2199>0,VLOOKUP(A2199,Liste!$B$179                         : Liste!$C$189,2),\"\")","v":""},null,null,{"$f":"IF(D2199>0,VLOOKUP(D2199,Liste!$A$10:$D$163,4),\"\")","v":""},null,null,null,""]
[null,{"$f":"IF(A2200>0,VLOOKUP(A2200,Liste!$B$179                         : Liste!$C$189,2),\"\")","v":""},null,null,{"$f":"IF(D2200>0,VLOOKUP(D2200,Liste!$A$10:$D$163,4),\"\")","v":""},null,null,null,""]
[null,{"$f":"IF(A2201>0,VLOOKUP(A2201,Liste!$B$179                         : Liste!$C$189,2),\"\")","v":""},null,null,{"$f":"IF(D2201>0,VLOOKUP(D2201,Liste!$A$10:$D$163,4),\"\")","v":""},null,null,null,""]
[null,{"$f":"IF(A2202>0,VLOOKUP(A2202,Liste!$B$179                         : Liste!$C$189,2),\"\")","v":""},null,null,{"$f":"IF(D2202>0,VLOOKUP(D2202,Liste!$A$10:$D$163,4),\"\")","v":""},null,null,null,""]
[null,{"$f":"IF(A2203>0,VLOOKUP(A2203,Liste!$B$179                         : Liste!$C$189,2),\"\")","v":""},null,null,{"$f":"IF(D2203>0,VLOOKUP(D2203,Liste!$A$10:$D$163,4),\"\")","v":""},null,null,null,""]
[null,{"$f":"IF(A2204>0,VLOOKUP(A2204,Liste!$B$179                         : Liste!$C$189,2),\"\")","v":""},null,null,{"$f":"IF(D2204>0,VLOOKUP(D2204,Liste!$A$10:$D$163,4),\"\")","v":""},null,null,null,""]
[null,{"$f":"IF(A2205>0,VLOOKUP(A2205,Liste!$B$179                         : Liste!$C$189,2),\"\")","v":""},null,null,{"$f":"IF(D2205>0,VLOOKUP(D2205,Liste!$A$10:$D$163,4),\"\")","v":""},null,null,null,""]
[null,{"$f":"IF(A2206>0,VLOOKUP(A2206,Liste!$B$179                         : Liste!$C$189,2),\"\")","v":""},null,null,{"$f":"IF(D2206>0,VLOOKUP(D2206,Liste!$A$10:$D$163,4),\"\")","v":""},null,null,null,""]
[null,{"$f":"IF(A2207>0,VLOOKUP(A2207,Liste!$B$179                         : Liste!$C$189,2),\"\")","v":""},null,null,{"$f":"IF(D2207>0,VLOOKUP(D2207,Liste!$A$10:$D$163,4),\"\")","v":""},null,null,null,""]
[null,{"$f":"IF(A2208>0,VLOOKUP(A2208,Liste!$B$179                         : Liste!$C$189,2),\"\")","v":""},null,null,{"$f":"IF(D2208>0,VLOOKUP(D2208,Liste!$A$10:$D$163,4),\"\")","v":""},null,null,null,""]
[null,{"$f":"IF(A2209>0,VLOOKUP(A2209,Liste!$B$179                         : Liste!$C$189,2),\"\")","v":""},null,null,{"$f":"IF(D2209>0,VLOOKUP(D2209,Liste!$A$10:$D$163,4),\"\")","v":""},null,null,null,""]
[null,{"$f":"IF(A2210>0,VLOOKUP(A2210,Liste!$B$179                         : Liste!$C$189,2),\"\")","v":""},null,null,{"$f":"IF(D2210>0,VLOOKUP(D2210,Liste!$A$10:$D$163,4),\"\")","v":""},null,null,null,""]
[null,{"$f":"IF(A2211>0,VLOOKUP(A2211,Liste!$B$179                         : Liste!$C$189,2),\"\")","v":""},null,null,{"$f":"IF(D2211>0,VLOOKUP(D2211,Liste!$A$10:$D$163,4),\"\")","v":""},null,null,null,""]
[null,{"$f":"IF(A2212>0,VLOOKUP(A2212,Liste!$B$179                         : Liste!$C$189,2),\"\")","v":""},null,null,{"$f":"IF(D2212>0,VLOOKUP(D2212,Liste!$A$10:$D$163,4),\"\")","v":""},null,null,null,""]
[null,{"$f":"IF(A2213>0,VLOOKUP(A2213,Liste!$B$179                         : Liste!$C$189,2),\"\")","v":""},null,null,{"$f":"IF(D2213>0,VLOOKUP(D2213,Liste!$A$10:$D$163,4),\"\")","v":""},null,null,null,""]
[null,{"$f":"IF(A2214>0,VLOOKUP(A2214,Liste!$B$179                         : Liste!$C$189,2),\"\")","v":""},null,null,{"$f":"IF(D2214>0,VLOOKUP(D2214,Liste!$A$10:$D$163,4),\"\")","v":""},null,null,null,""]
[null,{"$f":"IF(A2215>0,VLOOKUP(A2215,Liste!$B$179                         : Liste!$C$189,2),\"\")","v":""},null,null,{"$f":"IF(D2215>0,VLOOKUP(D2215,Liste!$A$10:$D$163,4),\"\")","v":""},null,null,null,""]
[null,{"$f":"IF(A2216>0,VLOOKUP(A2216,Liste!$B$179                         : Liste!$C$189,2),\"\")","v":""},null,null,{"$f":"IF(D2216>0,VLOOKUP(D2216,Liste!$A$10:$D$163,4),\"\")","v":""},null,null,null,""]
[null,{"$f":"IF(A2217>0,VLOOKUP(A2217,Liste!$B$179                         : Liste!$C$189,2),\"\")","v":""},null,null,{"$f":"IF(D2217>0,VLOOKUP(D2217,Liste!$A$10:$D$163,4),\"\")","v":""},null,null,null,""]
[null,{"$f":"IF(A2218>0,VLOOKUP(A2218,Liste!$B$179                         : Liste!$C$189,2),\"\")","v":""},null,null,{"$f":"IF(D2218>0,VLOOKUP(D2218,Liste!$A$10:$D$163,4),\"\")","v":""},null,null,null,""]
[null,{"$f":"IF(A2219>0,VLOOKUP(A2219,Liste!$B$179                         : Liste!$C$189,2),\"\")","v":""},null,null,{"$f":"IF(D2219>0,VLOOKUP(D2219,Liste!$A$10:$D$163,4),\"\")","v":""},null,null,null,""]
[null,{"$f":"IF(A2220>0,VLOOKUP(A2220,Liste!$B$179                         : Liste!$C$189,2),\"\")","v":""},null,null,{"$f":"IF(D2220>0,VLOOKUP(D2220,Liste!$A$10:$D$163,4),\"\")","v":""},null,null,null,""]
[null,{"$f":"IF(A2221>0,VLOOKUP(A2221,Liste!$B$179                         : Liste!$C$189,2),\"\")","v":""},null,null,{"$f":"IF(D2221>0,VLOOKUP(D2221,Liste!$A$10:$D$163,4),\"\")","v":""},null,null,null,""]
[null,{"$f":"IF(A2222>0,VLOOKUP(A2222,Liste!$B$179                         : Liste!$C$189,2),\"\")","v":""},null,null,{"$f":"IF(D2222>0,VLOOKUP(D2222,Liste!$A$10:$D$163,4),\"\")","v":""},null,null,null,""]
[null,{"$f":"IF(A2223>0,VLOOKUP(A2223,Liste!$B$179                         : Liste!$C$189,2),\"\")","v":""},null,null,{"$f":"IF(D2223>0,VLOOKUP(D2223,Liste!$A$10:$D$163,4),\"\")","v":""},null,null,null,""]
[null,{"$f":"IF(A2224>0,VLOOKUP(A2224,Liste!$B$179                         : Liste!$C$189,2),\"\")","v":""},null,null,{"$f":"IF(D2224>0,VLOOKUP(D2224,Liste!$A$10:$D$163,4),\"\")","v":""},null,null,null,""]
[null,{"$f":"IF(A2225>0,VLOOKUP(A2225,Liste!$B$179                         : Liste!$C$189,2),\"\")","v":""},null,null,{"$f":"IF(D2225>0,VLOOKUP(D2225,Liste!$A$10:$D$163,4),\"\")","v":""},null,null,null,""]
[null,{"$f":"IF(A2226>0,VLOOKUP(A2226,Liste!$B$179                         : Liste!$C$189,2),\"\")","v":""},null,null,{"$f":"IF(D2226>0,VLOOKUP(D2226,Liste!$A$10:$D$163,4),\"\")","v":""},null,null,null,""]
[null,{"$f":"IF(A2227>0,VLOOKUP(A2227,Liste!$B$179                         : Liste!$C$189,2),\"\")","v":""},null,null,{"$f":"IF(D2227>0,VLOOKUP(D2227,Liste!$A$10:$D$163,4),\"\")","v":""},null,null,null,""]
[null,{"$f":"IF(A2228>0,VLOOKUP(A2228,Liste!$B$179                         : Liste!$C$189,2),\"\")","v":""},null,null,{"$f":"IF(D2228>0,VLOOKUP(D2228,Liste!$A$10:$D$163,4),\"\")","v":""},null,null,null,""]
[null,{"$f":"IF(A2229>0,VLOOKUP(A2229,Liste!$B$179                         : Liste!$C$189,2),\"\")","v":""},null,null,{"$f":"IF(D2229>0,VLOOKUP(D2229,Liste!$A$10:$D$163,4),\"\")","v":""},null,null,null,""]
[null,{"$f":"IF(A2230>0,VLOOKUP(A2230,Liste!$B$179                         : Liste!$C$189,2),\"\")","v":""},null,null,{"$f":"IF(D2230>0,VLOOKUP(D2230,Liste!$A$10:$D$163,4),\"\")","v":""},null,null,null,""]
[null,{"$f":"IF(A2231>0,VLOOKUP(A2231,Liste!$B$179                         : Liste!$C$189,2),\"\")","v":""},null,null,{"$f":"IF(D2231>0,VLOOKUP(D2231,Liste!$A$10:$D$163,4),\"\")","v":""},null,null,null,""]
[null,{"$f":"IF(A2232>0,VLOOKUP(A2232,Liste!$B$179                         : Liste!$C$189,2),\"\")","v":""},null,null,{"$f":"IF(D2232>0,VLOOKUP(D2232,Liste!$A$10:$D$163,4),\"\")","v":""},null,null,null,""]
[null,{"$f":"IF(A2233>0,VLOOKUP(A2233,Liste!$B$179                         : Liste!$C$189,2),\"\")","v":""},null,null,{"$f":"IF(D2233>0,VLOOKUP(D2233,Liste!$A$10:$D$163,4),\"\")","v":""},null,null,null,""]
[null,{"$f":"IF(A2234>0,VLOOKUP(A2234,Liste!$B$179                         : Liste!$C$189,2),\"\")","v":""},null,null,{"$f":"IF(D2234>0,VLOOKUP(D2234,Liste!$A$10:$D$163,4),\"\")","v":""},null,null,null,""]
[null,{"$f":"IF(A2235>0,VLOOKUP(A2235,Liste!$B$179                         : Liste!$C$189,2),\"\")","v":""},null,null,{"$f":"IF(D2235>0,VLOOKUP(D2235,Liste!$A$10:$D$163,4),\"\")","v":""},null,null,null,""]
[null,{"$f":"IF(A2236>0,VLOOKUP(A2236,Liste!$B$179                         : Liste!$C$189,2),\"\")","v":""},null,null,{"$f":"IF(D2236>0,VLOOKUP(D2236,Liste!$A$10:$D$163,4),\"\")","v":""},null,null,null,""]
[null,{"$f":"IF(A2237>0,VLOOKUP(A2237,Liste!$B$179                         : Liste!$C$189,2),\"\")","v":""},null,null,{"$f":"IF(D2237>0,VLOOKUP(D2237,Liste!$A$10:$D$163,4),\"\")","v":""},null,null,null,""]
[null,{"$f":"IF(A2238>0,VLOOKUP(A2238,Liste!$B$179                         : Liste!$C$189,2),\"\")","v":""},null,null,{"$f":"IF(D2238>0,VLOOKUP(D2238,Liste!$A$10:$D$163,4),\"\")","v":""},null,null,null,""]
[null,{"$f":"IF(A2239>0,VLOOKUP(A2239,Liste!$B$179                         : Liste!$C$189,2),\"\")","v":""},null,null,{"$f":"IF(D2239>0,VLOOKUP(D2239,Liste!$A$10:$D$163,4),\"\")","v":""},null,null,null,""]
[null,{"$f":"IF(A2240>0,VLOOKUP(A2240,Liste!$B$179                         : Liste!$C$189,2),\"\")","v":""},null,null,{"$f":"IF(D2240>0,VLOOKUP(D2240,Liste!$A$10:$D$163,4),\"\")","v":""},null,null,null,""]
[null,{"$f":"IF(A2241>0,VLOOKUP(A2241,Liste!$B$179                         : Liste!$C$189,2),\"\")","v":""},null,null,{"$f":"IF(D2241>0,VLOOKUP(D2241,Liste!$A$10:$D$163,4),\"\")","v":""},null,null,null,""]
[null,{"$f":"IF(A2242>0,VLOOKUP(A2242,Liste!$B$179                         : Liste!$C$189,2),\"\")","v":""},null,null,{"$f":"IF(D2242>0,VLOOKUP(D2242,Liste!$A$10:$D$163,4),\"\")","v":""},null,null,null,""]
[null,{"$f":"IF(A2243>0,VLOOKUP(A2243,Liste!$B$179                         : Liste!$C$189,2),\"\")","v":""},null,null,{"$f":"IF(D2243>0,VLOOKUP(D2243,Liste!$A$10:$D$163,4),\"\")","v":""},null,null,null,""]
[null,{"$f":"IF(A2244>0,VLOOKUP(A2244,Liste!$B$179                         : Liste!$C$189,2),\"\")","v":""},null,null,{"$f":"IF(D2244>0,VLOOKUP(D2244,Liste!$A$10:$D$163,4),\"\")","v":""},null,null,null,""]
[null,{"$f":"IF(A2245>0,VLOOKUP(A2245,Liste!$B$179                         : Liste!$C$189,2),\"\")","v":""},null,null,{"$f":"IF(D2245>0,VLOOKUP(D2245,Liste!$A$10:$D$163,4),\"\")","v":""},null,null,null,""]
[null,{"$f":"IF(A2246>0,VLOOKUP(A2246,Liste!$B$179                         : Liste!$C$189,2),\"\")","v":""},null,null,{"$f":"IF(D2246>0,VLOOKUP(D2246,Liste!$A$10:$D$163,4),\"\")","v":""},null,null,null,{"$f":"IF(AND(D2246>0,F2246+G2246+H2246=0),\"EN ATTENTE\",IF(F2246+G2246+H2246>1,\"ERREUR\",\"\"))","v":""}]
[null,{"$f":"IF(A2247>0,VLOOKUP(A2247,Liste!$B$179                         : Liste!$C$189,2),\"\")","v":""},null,null,{"$f":"IF(D2247>0,VLOOKUP(D2247,Liste!$A$10:$D$163,4),\"\")","v":""},null,null,null,""]
[null,{"$f":"IF(A2248>0,VLOOKUP(A2248,Liste!$B$179                         : Liste!$C$189,2),\"\")","v":""},null,null,{"$f":"IF(D2248>0,VLOOKUP(D2248,Liste!$A$10:$D$163,4),\"\")","v":""},null,null,null,""]
[null,{"$f":"IF(A2249>0,VLOOKUP(A2249,Liste!$B$179                         : Liste!$C$189,2),\"\")","v":""},null,null,{"$f":"IF(D2249>0,VLOOKUP(D2249,Liste!$A$10:$D$163,4),\"\")","v":""},null,null,null,""]
[null,{"$f":"IF(A2250>0,VLOOKUP(A2250,Liste!$B$179                         : Liste!$C$189,2),\"\")","v":""},null,null,{"$f":"IF(D2250>0,VLOOKUP(D2250,Liste!$A$10:$D$163,4),\"\")","v":""},null,null,null,""]
[null,{"$f":"IF(A2251>0,VLOOKUP(A2251,Liste!$B$179                         : Liste!$C$189,2),\"\")","v":""},null,null,{"$f":"IF(D2251>0,VLOOKUP(D2251,Liste!$A$10:$D$163,4),\"\")","v":""},null,null,null,""]
[null,{"$f":"IF(A2252>0,VLOOKUP(A2252,Liste!$B$179                         : Liste!$C$189,2),\"\")","v":""},null,null,{"$f":"IF(D2252>0,VLOOKUP(D2252,Liste!$A$10:$D$163,4),\"\")","v":""},null,null,null,""]
[null,{"$f":"IF(A2253>0,VLOOKUP(A2253,Liste!$B$179                         : Liste!$C$189,2),\"\")","v":""},null,null,{"$f":"IF(D2253>0,VLOOKUP(D2253,Liste!$A$10:$D$163,4),\"\")","v":""},null,null,null,""]
[null,{"$f":"IF(A2254>0,VLOOKUP(A2254,Liste!$B$179                         : Liste!$C$189,2),\"\")","v":""},null,null,{"$f":"IF(D2254>0,VLOOKUP(D2254,Liste!$A$10:$D$163,4),\"\")","v":""},null,null,null,""]
[null,{"$f":"IF(A2255>0,VLOOKUP(A2255,Liste!$B$179                         : Liste!$C$189,2),\"\")","v":""},null,null,{"$f":"IF(D2255>0,VLOOKUP(D2255,Liste!$A$10:$D$163,4),\"\")","v":""},null,null,null,""]
[null,{"$f":"IF(A2256>0,VLOOKUP(A2256,Liste!$B$179                         : Liste!$C$189,2),\"\")","v":""},null,null,{"$f":"IF(D2256>0,VLOOKUP(D2256,Liste!$A$10:$D$163,4),\"\")","v":""},null,null,null,""]
[null,{"$f":"IF(A2257>0,VLOOKUP(A2257,Liste!$B$179                         : Liste!$C$189,2),\"\")","v":""},null,null,{"$f":"IF(D2257>0,VLOOKUP(D2257,Liste!$A$10:$D$163,4),\"\")","v":""},null,null,null,""]
[null,{"$f":"IF(A2258>0,VLOOKUP(A2258,Liste!$B$179                         : Liste!$C$189,2),\"\")","v":""},null,null,{"$f":"IF(D2258>0,VLOOKUP(D2258,Liste!$A$10:$D$163,4),\"\")","v":""},null,null,null,""]
[null,{"$f":"IF(A2259>0,VLOOKUP(A2259,Liste!$B$179                         : Liste!$C$189,2),\"\")","v":""},null,null,{"$f":"IF(D2259>0,VLOOKUP(D2259,Liste!$A$10:$D$163,4),\"\")","v":""},null,null,null,""]
[null,{"$f":"IF(A2260>0,VLOOKUP(A2260,Liste!$B$179                         : Liste!$C$189,2),\"\")","v":""},null,null,{"$f":"IF(D2260>0,VLOOKUP(D2260,Liste!$A$10:$D$163,4),\"\")","v":""},null,null,null,""]
[null,{"$f":"IF(A2261>0,VLOOKUP(A2261,Liste!$B$179                         : Liste!$C$189,2),\"\")","v":""},null,null,{"$f":"IF(D2261>0,VLOOKUP(D2261,Liste!$A$10:$D$163,4),\"\")","v":""},null,null,null,""]
[null,{"$f":"IF(A2262>0,VLOOKUP(A2262,Liste!$B$179                         : Liste!$C$189,2),\"\")","v":""},null,null,{"$f":"IF(D2262>0,VLOOKUP(D2262,Liste!$A$10:$D$163,4),\"\")","v":""},null,null,null,""]
[null,{"$f":"IF(A2263>0,VLOOKUP(A2263,Liste!$B$179                         : Liste!$C$189,2),\"\")","v":""},null,null,{"$f":"IF(D2263>0,VLOOKUP(D2263,Liste!$A$10:$D$163,4),\"\")","v":""},null,null,null,""]
[null,{"$f":"IF(A2264>0,VLOOKUP(A2264,Liste!$B$179                         : Liste!$C$189,2),\"\")","v":""},null,null,{"$f":"IF(D2264>0,VLOOKUP(D2264,Liste!$A$10:$D$163,4),\"\")","v":""},null,null,null,""]
[null,{"$f":"IF(A2265>0,VLOOKUP(A2265,Liste!$B$179                         : Liste!$C$189,2),\"\")","v":""},null,null,{"$f":"IF(D2265>0,VLOOKUP(D2265,Liste!$A$10:$D$163,4),\"\")","v":""},null,null,null,""]
[null,{"$f":"IF(A2266>0,VLOOKUP(A2266,Liste!$B$179                         : Liste!$C$189,2),\"\")","v":""},null,null,{"$f":"IF(D2266>0,VLOOKUP(D2266,Liste!$A$10:$D$163,4),\"\")","v":""},null,null,null,""]
[null,{"$f":"IF(A2267>0,VLOOKUP(A2267,Liste!$B$179                         : Liste!$C$189,2),\"\")","v":""},null,null,{"$f":"IF(D2267>0,VLOOKUP(D2267,Liste!$A$10:$D$163,4),\"\")","v":""},null,null,null,""]
[null,{"$f":"IF(A2268>0,VLOOKUP(A2268,Liste!$B$179                         : Liste!$C$189,2),\"\")","v":""},null,null,{"$f":"IF(D2268>0,VLOOKUP(D2268,Liste!$A$10:$D$163,4),\"\")","v":""},null,null,null,""]
[null,{"$f":"IF(A2269>0,VLOOKUP(A2269,Liste!$B$179                         : Liste!$C$189,2),\"\")","v":""},null,null,{"$f":"IF(D2269>0,VLOOKUP(D2269,Liste!$A$10:$D$163,4),\"\")","v":""},null,null,null,""]
[null,{"$f":"IF(A2270>0,VLOOKUP(A2270,Liste!$B$179                         : Liste!$C$189,2),\"\")","v":""},null,null,{"$f":"IF(D2270>0,VLOOKUP(D2270,Liste!$A$10:$D$163,4),\"\")","v":""},null,null,null,""]
[null,{"$f":"IF(A2271>0,VLOOKUP(A2271,Liste!$B$179                         : Liste!$C$189,2),\"\")","v":""},null,null,{"$f":"IF(D2271>0,VLOOKUP(D2271,Liste!$A$10:$D$163,4),\"\")","v":""},null,null,null,""]
[null,{"$f":"IF(A2272>0,VLOOKUP(A2272,Liste!$B$179                         : Liste!$C$189,2),\"\")","v":""},null,null,{"$f":"IF(D2272>0,VLOOKUP(D2272,Liste!$A$10:$D$163,4),\"\")","v":""},null,null,null,""]
[null,{"$f":"IF(A2273>0,VLOOKUP(A2273,Liste!$B$179                         : Liste!$C$189,2),\"\")","v":""},null,null,{"$f":"IF(D2273>0,VLOOKUP(D2273,Liste!$A$10:$D$163,4),\"\")","v":""},null,null,null,""]
[null,{"$f":"IF(A2274>0,VLOOKUP(A2274,Liste!$B$179                         : Liste!$C$189,2),\"\")","v":""},null,null,{"$f":"IF(D2274>0,VLOOKUP(D2274,Liste!$A$10:$D$163,4),\"\")","v":""},null,null,null,""]
[null,{"$f":"IF(A2275>0,VLOOKUP(A2275,Liste!$B$179                         : Liste!$C$189,2),\"\")","v":""},null,null,{"$f":"IF(D2275>0,VLOOKUP(D2275,Liste!$A$10:$D$163,4),\"\")","v":""},null,null,null,""]
[null,{"$f":"IF(A2276>0,VLOOKUP(A2276,Liste!$B$179                         : Liste!$C$189,2),\"\")","v":""},null,null,{"$f":"IF(D2276>0,VLOOKUP(D2276,Liste!$A$10:$D$163,4),\"\")","v":""},null,null,null,""]
[null,{"$f":"IF(A2277>0,VLOOKUP(A2277,Liste!$B$179                         : Liste!$C$189,2),\"\")","v":""},null,null,{"$f":"IF(D2277>0,VLOOKUP(D2277,Liste!$A$10:$D$163,4),\"\")","v":""},null,null,null,""]
[null,{"$f":"IF(A2278>0,VLOOKUP(A2278,Liste!$B$179                         : Liste!$C$189,2),\"\")","v":""},null,null,{"$f":"IF(D2278>0,VLOOKUP(D2278,Liste!$A$10:$D$163,4),\"\")","v":""},null,null,null,""]
[null,{"$f":"IF(A2279>0,VLOOKUP(A2279,Liste!$B$179                         : Liste!$C$189,2),\"\")","v":""},null,null,{"$f":"IF(D2279>0,VLOOKUP(D2279,Liste!$A$10:$D$163,4),\"\")","v":""},null,null,null,""]
[null,{"$f":"IF(A2280>0,VLOOKUP(A2280,Liste!$B$179                         : Liste!$C$189,2),\"\")","v":""},null,null,{"$f":"IF(D2280>0,VLOOKUP(D2280,Liste!$A$10:$D$163,4),\"\")","v":""},null,null,null,""]
[null,{"$f":"IF(A2281>0,VLOOKUP(A2281,Liste!$B$179                         : Liste!$C$189,2),\"\")","v":""},null,null,{"$f":"IF(D2281>0,VLOOKUP(D2281,Liste!$A$10:$D$163,4),\"\")","v":""},null,null,null,""]
[null,{"$f":"IF(A2282>0,VLOOKUP(A2282,Liste!$B$179                         : Liste!$C$189,2),\"\")","v":""},null,null,{"$f":"IF(D2282>0,VLOOKUP(D2282,Liste!$A$10:$D$163,4),\"\")","v":""},null,null,null,""]
[null,{"$f":"IF(A2283>0,VLOOKUP(A2283,Liste!$B$179                         : Liste!$C$189,2),\"\")","v":""},null,null,{"$f":"IF(D2283>0,VLOOKUP(D2283,Liste!$A$10:$D$163,4),\"\")","v":""},null,null,null,""]
[null,{"$f":"IF(A2284>0,VLOOKUP(A2284,Liste!$B$179                         : Liste!$C$189,2),\"\")","v":""},null,null,{"$f":"IF(D2284>0,VLOOKUP(D2284,Liste!$A$10:$D$163,4),\"\")","v":""},null,null,null,""]
[null,{"$f":"IF(A2285>0,VLOOKUP(A2285,Liste!$B$179                         : Liste!$C$189,2),\"\")","v":""},null,null,{"$f":"IF(D2285>0,VLOOKUP(D2285,Liste!$A$10:$D$163,4),\"\")","v":""},null,null,null,""]
[null,{"$f":"IF(A2286>0,VLOOKUP(A2286,Liste!$B$179                         : Liste!$C$189,2),\"\")","v":""},null,null,{"$f":"IF(D2286>0,VLOOKUP(D2286,Liste!$A$10:$D$163,4),\"\")","v":""},null,null,null,""]
[null,{"$f":"IF(A2287>0,VLOOKUP(A2287,Liste!$B$179                         : Liste!$C$189,2),\"\")","v":""},null,null,{"$f":"IF(D2287>0,VLOOKUP(D2287,Liste!$A$10:$D$163,4),\"\")","v":""},null,null,null,""]
[null,{"$f":"IF(A2288>0,VLOOKUP(A2288,Liste!$B$179                         : Liste!$C$189,2),\"\")","v":""},null,null,{"$f":"IF(D2288>0,VLOOKUP(D2288,Liste!$A$10:$D$163,4),\"\")","v":""},null,null,null,""]
[null,{"$f":"IF(A2289>0,VLOOKUP(A2289,Liste!$B$179                         : Liste!$C$189,2),\"\")","v":""},null,null,{"$f":"IF(D2289>0,VLOOKUP(D2289,Liste!$A$10:$D$163,4),\"\")","v":""},null,null,null,""]
[null,{"$f":"IF(A2290>0,VLOOKUP(A2290,Liste!$B$179                         : Liste!$C$189,2),\"\")","v":""},null,null,{"$f":"IF(D2290>0,VLOOKUP(D2290,Liste!$A$10:$D$163,4),\"\")","v":""},null,null,null,""]
[null,{"$f":"IF(A2291>0,VLOOKUP(A2291,Liste!$B$179                         : Liste!$C$189,2),\"\")","v":""},null,null,{"$f":"IF(D2291>0,VLOOKUP(D2291,Liste!$A$10:$D$163,4),\"\")","v":""},null,null,null,""]
[null,{"$f":"IF(A2292>0,VLOOKUP(A2292,Liste!$B$179                         : Liste!$C$189,2),\"\")","v":""},null,null,{"$f":"IF(D2292>0,VLOOKUP(D2292,Liste!$A$10:$D$163,4),\"\")","v":""},null,null,null,""]
[null,{"$f":"IF(A2293>0,VLOOKUP(A2293,Liste!$B$179                         : Liste!$C$189,2),\"\")","v":""},null,null,{"$f":"IF(D2293>0,VLOOKUP(D2293,Liste!$A$10:$D$163,4),\"\")","v":""},null,null,null,""]
[null,{"$f":"IF(A2294>0,VLOOKUP(A2294,Liste!$B$179                         : Liste!$C$189,2),\"\")","v":""},null,null,{"$f":"IF(D2294>0,VLOOKUP(D2294,Liste!$A$10:$D$163,4),\"\")","v":""},null,null,null,""]
[null,{"$f":"IF(A2295>0,VLOOKUP(A2295,Liste!$B$179                         : Liste!$C$189,2),\"\")","v":""},null,null,{"$f":"IF(D2295>0,VLOOKUP(D2295,Liste!$A$10:$D$163,4),\"\")","v":""},null,null,null,""]
[null,{"$f":"IF(A2296>0,VLOOKUP(A2296,Liste!$B$179                         : Liste!$C$189,2),\"\")","v":""},null,null,{"$f":"IF(D2296>0,VLOOKUP(D2296,Liste!$A$10:$D$163,4),\"\")","v":""},null,null,null,""]
[null,{"$f":"IF(A2297>0,VLOOKUP(A2297,Liste!$B$179                         : Liste!$C$189,2),\"\")","v":""},null,null,{"$f":"IF(D2297>0,VLOOKUP(D2297,Liste!$A$10:$D$163,4),\"\")","v":""},null,null,null,""]
[null,{"$f":"IF(A2298>0,VLOOKUP(A2298,Liste!$B$179                         : Liste!$C$189,2),\"\")","v":""},null,null,{"$f":"IF(D2298>0,VLOOKUP(D2298,Liste!$A$10:$D$163,4),\"\")","v":""},null,null,null,""]
[null,{"$f":"IF(A2299>0,VLOOKUP(A2299,Liste!$B$179                         : Liste!$C$189,2),\"\")","v":""},null,null,{"$f":"IF(D2299>0,VLOOKUP(D2299,Liste!$A$10:$D$163,4),\"\")","v":""},null,null,null,""]
[null,{"$f":"IF(A2300>0,VLOOKUP(A2300,Liste!$B$179                         : Liste!$C$189,2),\"\")","v":""},null,null,{"$f":"IF(D2300>0,VLOOKUP(D2300,Liste!$A$10:$D$163,4),\"\")","v":""},null,null,null,""]
[null,{"$f":"IF(A2301>0,VLOOKUP(A2301,Liste!$B$179                         : Liste!$C$189,2),\"\")","v":""},null,null,{"$f":"IF(D2301>0,VLOOKUP(D2301,Liste!$A$10:$D$163,4),\"\")","v":""},null,null,null,""]
[null,{"$f":"IF(A2302>0,VLOOKUP(A2302,Liste!$B$179                         : Liste!$C$189,2),\"\")","v":""},null,null,{"$f":"IF(D2302>0,VLOOKUP(D2302,Liste!$A$10:$D$163,4),\"\")","v":""},null,null,null,""]
[null,{"$f":"IF(A2303>0,VLOOKUP(A2303,Liste!$B$179                         : Liste!$C$189,2),\"\")","v":""},null,null,{"$f":"IF(D2303>0,VLOOKUP(D2303,Liste!$A$10:$D$163,4),\"\")","v":""},null,null,null,""]
[null,{"$f":"IF(A2304>0,VLOOKUP(A2304,Liste!$B$179                         : Liste!$C$189,2),\"\")","v":""},null,null,{"$f":"IF(D2304>0,VLOOKUP(D2304,Liste!$A$10:$D$163,4),\"\")","v":""},null,null,null,""]
[null,{"$f":"IF(A2305>0,VLOOKUP(A2305,Liste!$B$179                         : Liste!$C$189,2),\"\")","v":""},null,null,{"$f":"IF(D2305>0,VLOOKUP(D2305,Liste!$A$10:$D$163,4),\"\")","v":""},null,null,null,""]
[null,{"$f":"IF(A2306>0,VLOOKUP(A2306,Liste!$B$179                         : Liste!$C$189,2),\"\")","v":""},null,null,{"$f":"IF(D2306>0,VLOOKUP(D2306,Liste!$A$10:$D$163,4),\"\")","v":""},null,null,null,""]
[null,{"$f":"IF(A2307>0,VLOOKUP(A2307,Liste!$B$179                         : Liste!$C$189,2),\"\")","v":""},null,null,{"$f":"IF(D2307>0,VLOOKUP(D2307,Liste!$A$10:$D$163,4),\"\")","v":""},null,null,null,""]
[null,{"$f":"IF(A2308>0,VLOOKUP(A2308,Liste!$B$179                         : Liste!$C$189,2),\"\")","v":""},null,null,{"$f":"IF(D2308>0,VLOOKUP(D2308,Liste!$A$10:$D$163,4),\"\")","v":""},null,null,null,""]
[null,{"$f":"IF(A2309>0,VLOOKUP(A2309,Liste!$B$179                         : Liste!$C$189,2),\"\")","v":""},null,null,{"$f":"IF(D2309>0,VLOOKUP(D2309,Liste!$A$10:$D$163,4),\"\")","v":""},null,null,null,""]
[null,{"$f":"IF(A2310>0,VLOOKUP(A2310,Liste!$B$179                         : Liste!$C$189,2),\"\")","v":""},null,null,{"$f":"IF(D2310>0,VLOOKUP(D2310,Liste!$A$10:$D$163,4),\"\")","v":""},null,null,null,{"$f":"IF(AND(D2310>0,F2310+G2310+H2310=0),\"EN ATTENTE\",IF(F2310+G2310+H2310>1,\"ERREUR\",\"\"))","v":""}]
[null,{"$f":"IF(A2311>0,VLOOKUP(A2311,Liste!$B$179                         : Liste!$C$189,2),\"\")","v":""},null,null,{"$f":"IF(D2311>0,VLOOKUP(D2311,Liste!$A$10:$D$163,4),\"\")","v":""},null,null,null,""]
[null,{"$f":"IF(A2312>0,VLOOKUP(A2312,Liste!$B$179                         : Liste!$C$189,2),\"\")","v":""},null,null,{"$f":"IF(D2312>0,VLOOKUP(D2312,Liste!$A$10:$D$163,4),\"\")","v":""},null,null,null,""]
[null,{"$f":"IF(A2313>0,VLOOKUP(A2313,Liste!$B$179                         : Liste!$C$189,2),\"\")","v":""},null,null,{"$f":"IF(D2313>0,VLOOKUP(D2313,Liste!$A$10:$D$163,4),\"\")","v":""},null,null,null,""]
[null,{"$f":"IF(A2314>0,VLOOKUP(A2314,Liste!$B$179                         : Liste!$C$189,2),\"\")","v":""},null,null,{"$f":"IF(D2314>0,VLOOKUP(D2314,Liste!$A$10:$D$163,4),\"\")","v":""},null,null,null,""]
[null,{"$f":"IF(A2315>0,VLOOKUP(A2315,Liste!$B$179                         : Liste!$C$189,2),\"\")","v":""},null,null,{"$f":"IF(D2315>0,VLOOKUP(D2315,Liste!$A$10:$D$163,4),\"\")","v":""},null,null,null,""]
[null,{"$f":"IF(A2316>0,VLOOKUP(A2316,Liste!$B$179                         : Liste!$C$189,2),\"\")","v":""},null,null,{"$f":"IF(D2316>0,VLOOKUP(D2316,Liste!$A$10:$D$163,4),\"\")","v":""},null,null,null,""]
[null,{"$f":"IF(A2317>0,VLOOKUP(A2317,Liste!$B$179                         : Liste!$C$189,2),\"\")","v":""},null,null,{"$f":"IF(D2317>0,VLOOKUP(D2317,Liste!$A$10:$D$163,4),\"\")","v":""},null,null,null,""]
[null,{"$f":"IF(A2318>0,VLOOKUP(A2318,Liste!$B$179                         : Liste!$C$189,2),\"\")","v":""},null,null,{"$f":"IF(D2318>0,VLOOKUP(D2318,Liste!$A$10:$D$163,4),\"\")","v":""},null,null,null,""]
[null,{"$f":"IF(A2319>0,VLOOKUP(A2319,Liste!$B$179                         : Liste!$C$189,2),\"\")","v":""},null,null,{"$f":"IF(D2319>0,VLOOKUP(D2319,Liste!$A$10:$D$163,4),\"\")","v":""},null,null,null,""]
[null,{"$f":"IF(A2320>0,VLOOKUP(A2320,Liste!$B$179                         : Liste!$C$189,2),\"\")","v":""},null,null,{"$f":"IF(D2320>0,VLOOKUP(D2320,Liste!$A$10:$D$163,4),\"\")","v":""},null,null,null,""]
[null,{"$f":"IF(A2321>0,VLOOKUP(A2321,Liste!$B$179                         : Liste!$C$189,2),\"\")","v":""},null,null,{"$f":"IF(D2321>0,VLOOKUP(D2321,Liste!$A$10:$D$163,4),\"\")","v":""},null,null,null,""]
[null,{"$f":"IF(A2322>0,VLOOKUP(A2322,Liste!$B$179                         : Liste!$C$189,2),\"\")","v":""},null,null,{"$f":"IF(D2322>0,VLOOKUP(D2322,Liste!$A$10:$D$163,4),\"\")","v":""},null,null,null,""]
[null,{"$f":"IF(A2323>0,VLOOKUP(A2323,Liste!$B$179                         : Liste!$C$189,2),\"\")","v":""},null,null,{"$f":"IF(D2323>0,VLOOKUP(D2323,Liste!$A$10:$D$163,4),\"\")","v":""},null,null,null,""]
[null,{"$f":"IF(A2324>0,VLOOKUP(A2324,Liste!$B$179                         : Liste!$C$189,2),\"\")","v":""},null,null,{"$f":"IF(D2324>0,VLOOKUP(D2324,Liste!$A$10:$D$163,4),\"\")","v":""},null,null,null,""]
[null,{"$f":"IF(A2325>0,VLOOKUP(A2325,Liste!$B$179                         : Liste!$C$189,2),\"\")","v":""},null,null,{"$f":"IF(D2325>0,VLOOKUP(D2325,Liste!$A$10:$D$163,4),\"\")","v":""},null,null,null,""]
[null,{"$f":"IF(A2326>0,VLOOKUP(A2326,Liste!$B$179                         : Liste!$C$189,2),\"\")","v":""},null,null,{"$f":"IF(D2326>0,VLOOKUP(D2326,Liste!$A$10:$D$163,4),\"\")","v":""},null,null,null,""]
[null,{"$f":"IF(A2327>0,VLOOKUP(A2327,Liste!$B$179                         : Liste!$C$189,2),\"\")","v":""},null,null,{"$f":"IF(D2327>0,VLOOKUP(D2327,Liste!$A$10:$D$163,4),\"\")","v":""},null,null,null,""]
[null,{"$f":"IF(A2328>0,VLOOKUP(A2328,Liste!$B$179                         : Liste!$C$189,2),\"\")","v":""},null,null,{"$f":"IF(D2328>0,VLOOKUP(D2328,Liste!$A$10:$D$163,4),\"\")","v":""},null,null,null,""]
[null,{"$f":"IF(A2329>0,VLOOKUP(A2329,Liste!$B$179                         : Liste!$C$189,2),\"\")","v":""},null,null,{"$f":"IF(D2329>0,VLOOKUP(D2329,Liste!$A$10:$D$163,4),\"\")","v":""},null,null,null,""]
[null,{"$f":"IF(A2330>0,VLOOKUP(A2330,Liste!$B$179                         : Liste!$C$189,2),\"\")","v":""},null,null,{"$f":"IF(D2330>0,VLOOKUP(D2330,Liste!$A$10:$D$163,4),\"\")","v":""},null,null,null,""]
[null,{"$f":"IF(A2331>0,VLOOKUP(A2331,Liste!$B$179                         : Liste!$C$189,2),\"\")","v":""},null,null,{"$f":"IF(D2331>0,VLOOKUP(D2331,Liste!$A$10:$D$163,4),\"\")","v":""},null,null,null,""]
[null,{"$f":"IF(A2332>0,VLOOKUP(A2332,Liste!$B$179                         : Liste!$C$189,2),\"\")","v":""},null,null,{"$f":"IF(D2332>0,VLOOKUP(D2332,Liste!$A$10:$D$163,4),\"\")","v":""},null,null,null,""]
[null,{"$f":"IF(A2333>0,VLOOKUP(A2333,Liste!$B$179                         : Liste!$C$189,2),\"\")","v":""},null,null,{"$f":"IF(D2333>0,VLOOKUP(D2333,Liste!$A$10:$D$163,4),\"\")","v":""},null,null,null,""]
[null,{"$f":"IF(A2334>0,VLOOKUP(A2334,Liste!$B$179                         : Liste!$C$189,2),\"\")","v":""},null,null,{"$f":"IF(D2334>0,VLOOKUP(D2334,Liste!$A$10:$D$163,4),\"\")","v":""},null,null,null,""]
[null,{"$f":"IF(A2335>0,VLOOKUP(A2335,Liste!$B$179                         : Liste!$C$189,2),\"\")","v":""},null,null,{"$f":"IF(D2335>0,VLOOKUP(D2335,Liste!$A$10:$D$163,4),\"\")","v":""},null,null,null,""]
[null,{"$f":"IF(A2336>0,VLOOKUP(A2336,Liste!$B$179                         : Liste!$C$189,2),\"\")","v":""},null,null,{"$f":"IF(D2336>0,VLOOKUP(D2336,Liste!$A$10:$D$163,4),\"\")","v":""},null,null,null,""]
[null,{"$f":"IF(A2337>0,VLOOKUP(A2337,Liste!$B$179                         : Liste!$C$189,2),\"\")","v":""},null,null,{"$f":"IF(D2337>0,VLOOKUP(D2337,Liste!$A$10:$D$163,4),\"\")","v":""},null,null,null,""]
[null,{"$f":"IF(A2338>0,VLOOKUP(A2338,Liste!$B$179                         : Liste!$C$189,2),\"\")","v":""},null,null,{"$f":"IF(D2338>0,VLOOKUP(D2338,Liste!$A$10:$D$163,4),\"\")","v":""},null,null,null,""]
[null,{"$f":"IF(A2339>0,VLOOKUP(A2339,Liste!$B$179                         : Liste!$C$189,2),\"\")","v":""},null,null,{"$f":"IF(D2339>0,VLOOKUP(D2339,Liste!$A$10:$D$163,4),\"\")","v":""},null,null,null,""]
[null,{"$f":"IF(A2340>0,VLOOKUP(A2340,Liste!$B$179                         : Liste!$C$189,2),\"\")","v":""},null,null,{"$f":"IF(D2340>0,VLOOKUP(D2340,Liste!$A$10:$D$163,4),\"\")","v":""},null,null,null,""]
[null,{"$f":"IF(A2341>0,VLOOKUP(A2341,Liste!$B$179                         : Liste!$C$189,2),\"\")","v":""},null,null,{"$f":"IF(D2341>0,VLOOKUP(D2341,Liste!$A$10:$D$163,4),\"\")","v":""},null,null,null,""]
[null,{"$f":"IF(A2342>0,VLOOKUP(A2342,Liste!$B$179                         : Liste!$C$189,2),\"\")","v":""},null,null,{"$f":"IF(D2342>0,VLOOKUP(D2342,Liste!$A$10:$D$163,4),\"\")","v":""},null,null,null,""]
[null,{"$f":"IF(A2343>0,VLOOKUP(A2343,Liste!$B$179                         : Liste!$C$189,2),\"\")","v":""},null,null,{"$f":"IF(D2343>0,VLOOKUP(D2343,Liste!$A$10:$D$163,4),\"\")","v":""},null,null,null,""]
[null,{"$f":"IF(A2344>0,VLOOKUP(A2344,Liste!$B$179                         : Liste!$C$189,2),\"\")","v":""},null,null,{"$f":"IF(D2344>0,VLOOKUP(D2344,Liste!$A$10:$D$163,4),\"\")","v":""},null,null,null,""]
[null,{"$f":"IF(A2345>0,VLOOKUP(A2345,Liste!$B$179                         : Liste!$C$189,2),\"\")","v":""},null,null,{"$f":"IF(D2345>0,VLOOKUP(D2345,Liste!$A$10:$D$163,4),\"\")","v":""},null,null,null,""]
[null,{"$f":"IF(A2346>0,VLOOKUP(A2346,Liste!$B$179                         : Liste!$C$189,2),\"\")","v":""},null,null,{"$f":"IF(D2346>0,VLOOKUP(D2346,Liste!$A$10:$D$163,4),\"\")","v":""},null,null,null,""]
[null,{"$f":"IF(A2347>0,VLOOKUP(A2347,Liste!$B$179                         : Liste!$C$189,2),\"\")","v":""},null,null,{"$f":"IF(D2347>0,VLOOKUP(D2347,Liste!$A$10:$D$163,4),\"\")","v":""},null,null,null,""]
[null,{"$f":"IF(A2348>0,VLOOKUP(A2348,Liste!$B$179                         : Liste!$C$189,2),\"\")","v":""},null,null,{"$f":"IF(D2348>0,VLOOKUP(D2348,Liste!$A$10:$D$163,4),\"\")","v":""},null,null,null,""]
[null,{"$f":"IF(A2349>0,VLOOKUP(A2349,Liste!$B$179                         : Liste!$C$189,2),\"\")","v":""},null,null,{"$f":"IF(D2349>0,VLOOKUP(D2349,Liste!$A$10:$D$163,4),\"\")","v":""},null,null,null,""]
[null,{"$f":"IF(A2350>0,VLOOKUP(A2350,Liste!$B$179                         : Liste!$C$189,2),\"\")","v":""},null,null,{"$f":"IF(D2350>0,VLOOKUP(D2350,Liste!$A$10:$D$163,4),\"\")","v":""},null,null,null,""]
[null,{"$f":"IF(A2351>0,VLOOKUP(A2351,Liste!$B$179                         : Liste!$C$189,2),\"\")","v":""},null,null,{"$f":"IF(D2351>0,VLOOKUP(D2351,Liste!$A$10:$D$163,4),\"\")","v":""},null,null,null,""]
[null,{"$f":"IF(A2352>0,VLOOKUP(A2352,Liste!$B$179                         : Liste!$C$189,2),\"\")","v":""},null,null,{"$f":"IF(D2352>0,VLOOKUP(D2352,Liste!$A$10:$D$163,4),\"\")","v":""},null,null,null,""]
[null,{"$f":"IF(A2353>0,VLOOKUP(A2353,Liste!$B$179                         : Liste!$C$189,2),\"\")","v":""},null,null,{"$f":"IF(D2353>0,VLOOKUP(D2353,Liste!$A$10:$D$163,4),\"\")","v":""},null,null,null,""]
[null,{"$f":"IF(A2354>0,VLOOKUP(A2354,Liste!$B$179                         : Liste!$C$189,2),\"\")","v":""},null,null,{"$f":"IF(D2354>0,VLOOKUP(D2354,Liste!$A$10:$D$163,4),\"\")","v":""},null,null,null,""]
[null,{"$f":"IF(A2355>0,VLOOKUP(A2355,Liste!$B$179                         : Liste!$C$189,2),\"\")","v":""},null,null,{"$f":"IF(D2355>0,VLOOKUP(D2355,Liste!$A$10:$D$163,4),\"\")","v":""},null,null,null,""]
[null,{"$f":"IF(A2356>0,VLOOKUP(A2356,Liste!$B$179                         : Liste!$C$189,2),\"\")","v":""},null,null,{"$f":"IF(D2356>0,VLOOKUP(D2356,Liste!$A$10:$D$163,4),\"\")","v":""},null,null,null,""]
[null,{"$f":"IF(A2357>0,VLOOKUP(A2357,Liste!$B$179                         : Liste!$C$189,2),\"\")","v":""},null,null,{"$f":"IF(D2357>0,VLOOKUP(D2357,Liste!$A$10:$D$163,4),\"\")","v":""},null,null,null,""]
[null,{"$f":"IF(A2358>0,VLOOKUP(A2358,Liste!$B$179                         : Liste!$C$189,2),\"\")","v":""},null,null,{"$f":"IF(D2358>0,VLOOKUP(D2358,Liste!$A$10:$D$163,4),\"\")","v":""},null,null,null,""]
[null,{"$f":"IF(A2359>0,VLOOKUP(A2359,Liste!$B$179                         : Liste!$C$189,2),\"\")","v":""},null,null,{"$f":"IF(D2359>0,VLOOKUP(D2359,Liste!$A$10:$D$163,4),\"\")","v":""},null,null,null,""]
[null,{"$f":"IF(A2360>0,VLOOKUP(A2360,Liste!$B$179                         : Liste!$C$189,2),\"\")","v":""},null,null,{"$f":"IF(D2360>0,VLOOKUP(D2360,Liste!$A$10:$D$163,4),\"\")","v":""},null,null,null,""]
[null,{"$f":"IF(A2361>0,VLOOKUP(A2361,Liste!$B$179                         : Liste!$C$189,2),\"\")","v":""},null,null,{"$f":"IF(D2361>0,VLOOKUP(D2361,Liste!$A$10:$D$163,4),\"\")","v":""},null,null,null,""]
[null,{"$f":"IF(A2362>0,VLOOKUP(A2362,Liste!$B$179                         : Liste!$C$189,2),\"\")","v":""},null,null,{"$f":"IF(D2362>0,VLOOKUP(D2362,Liste!$A$10:$D$163,4),\"\")","v":""},null,null,null,""]
[null,{"$f":"IF(A2363>0,VLOOKUP(A2363,Liste!$B$179                         : Liste!$C$189,2),\"\")","v":""},null,null,{"$f":"IF(D2363>0,VLOOKUP(D2363,Liste!$A$10:$D$163,4),\"\")","v":""},null,null,null,""]
[null,{"$f":"IF(A2364>0,VLOOKUP(A2364,Liste!$B$179                         : Liste!$C$189,2),\"\")","v":""},null,null,{"$f":"IF(D2364>0,VLOOKUP(D2364,Liste!$A$10:$D$163,4),\"\")","v":""},null,null,null,""]
[null,{"$f":"IF(A2365>0,VLOOKUP(A2365,Liste!$B$179                         : Liste!$C$189,2),\"\")","v":""},null,null,{"$f":"IF(D2365>0,VLOOKUP(D2365,Liste!$A$10:$D$163,4),\"\")","v":""},null,null,null,""]
[null,{"$f":"IF(A2366>0,VLOOKUP(A2366,Liste!$B$179                         : Liste!$C$189,2),\"\")","v":""},null,null,{"$f":"IF(D2366>0,VLOOKUP(D2366,Liste!$A$10:$D$163,4),\"\")","v":""},null,null,null,""]
[null,{"$f":"IF(A2367>0,VLOOKUP(A2367,Liste!$B$179                         : Liste!$C$189,2),\"\")","v":""},null,null,{"$f":"IF(D2367>0,VLOOKUP(D2367,Liste!$A$10:$D$163,4),\"\")","v":""},null,null,null,""]
[null,{"$f":"IF(A2368>0,VLOOKUP(A2368,Liste!$B$179                         : Liste!$C$189,2),\"\")","v":""},null,null,{"$f":"IF(D2368>0,VLOOKUP(D2368,Liste!$A$10:$D$163,4),\"\")","v":""},null,null,null,""]
[null,{"$f":"IF(A2369>0,VLOOKUP(A2369,Liste!$B$179                         : Liste!$C$189,2),\"\")","v":""},null,null,{"$f":"IF(D2369>0,VLOOKUP(D2369,Liste!$A$10:$D$163,4),\"\")","v":""},null,null,null,""]
[null,{"$f":"IF(A2370>0,VLOOKUP(A2370,Liste!$B$179                         : Liste!$C$189,2),\"\")","v":""},null,null,{"$f":"IF(D2370>0,VLOOKUP(D2370,Liste!$A$10:$D$163,4),\"\")","v":""},null,null,null,""]
[null,{"$f":"IF(A2371>0,VLOOKUP(A2371,Liste!$B$179                         : Liste!$C$189,2),\"\")","v":""},null,null,{"$f":"IF(D2371>0,VLOOKUP(D2371,Liste!$A$10:$D$163,4),\"\")","v":""},null,null,null,""]
[null,{"$f":"IF(A2372>0,VLOOKUP(A2372,Liste!$B$179                         : Liste!$C$189,2),\"\")","v":""},null,null,{"$f":"IF(D2372>0,VLOOKUP(D2372,Liste!$A$10:$D$163,4),\"\")","v":""},null,null,null,""]
[null,{"$f":"IF(A2373>0,VLOOKUP(A2373,Liste!$B$179                         : Liste!$C$189,2),\"\")","v":""},null,null,{"$f":"IF(D2373>0,VLOOKUP(D2373,Liste!$A$10:$D$163,4),\"\")","v":""},null,null,null,""]
[null,{"$f":"IF(A2374>0,VLOOKUP(A2374,Liste!$B$179                         : Liste!$C$189,2),\"\")","v":""},null,null,{"$f":"IF(D2374>0,VLOOKUP(D2374,Liste!$A$10:$D$163,4),\"\")","v":""},null,null,null,{"$f":"IF(AND(D2374>0,F2374+G2374+H2374=0),\"EN ATTENTE\",IF(F2374+G2374+H2374>1,\"ERREUR\",\"\"))","v":""}]
[null,{"$f":"IF(A2375>0,VLOOKUP(A2375,Liste!$B$179                         : Liste!$C$189,2),\"\")","v":""},null,null,{"$f":"IF(D2375>0,VLOOKUP(D2375,Liste!$A$10:$D$163,4),\"\")","v":""},null,null,null,""]
[null,{"$f":"IF(A2376>0,VLOOKUP(A2376,Liste!$B$179                         : Liste!$C$189,2),\"\")","v":""},null,null,{"$f":"IF(D2376>0,VLOOKUP(D2376,Liste!$A$10:$D$163,4),\"\")","v":""},null,null,null,""]
[null,{"$f":"IF(A2377>0,VLOOKUP(A2377,Liste!$B$179                         : Liste!$C$189,2),\"\")","v":""},null,null,{"$f":"IF(D2377>0,VLOOKUP(D2377,Liste!$A$10:$D$163,4),\"\")","v":""},null,null,null,""]
[null,{"$f":"IF(A2378>0,VLOOKUP(A2378,Liste!$B$179                         : Liste!$C$189,2),\"\")","v":""},null,null,{"$f":"IF(D2378>0,VLOOKUP(D2378,Liste!$A$10:$D$163,4),\"\")","v":""},null,null,null,""]
[null,{"$f":"IF(A2379>0,VLOOKUP(A2379,Liste!$B$179                         : Liste!$C$189,2),\"\")","v":""},null,null,{"$f":"IF(D2379>0,VLOOKUP(D2379,Liste!$A$10:$D$163,4),\"\")","v":""},null,null,null,""]
[null,{"$f":"IF(A2380>0,VLOOKUP(A2380,Liste!$B$179                         : Liste!$C$189,2),\"\")","v":""},null,null,{"$f":"IF(D2380>0,VLOOKUP(D2380,Liste!$A$10:$D$163,4),\"\")","v":""},null,null,null,""]
[null,{"$f":"IF(A2381>0,VLOOKUP(A2381,Liste!$B$179                         : Liste!$C$189,2),\"\")","v":""},null,null,{"$f":"IF(D2381>0,VLOOKUP(D2381,Liste!$A$10:$D$163,4),\"\")","v":""},null,null,null,""]
[null,{"$f":"IF(A2382>0,VLOOKUP(A2382,Liste!$B$179                         : Liste!$C$189,2),\"\")","v":""},null,null,{"$f":"IF(D2382>0,VLOOKUP(D2382,Liste!$A$10:$D$163,4),\"\")","v":""},null,null,null,""]
[null,{"$f":"IF(A2383>0,VLOOKUP(A2383,Liste!$B$179                         : Liste!$C$189,2),\"\")","v":""},null,null,{"$f":"IF(D2383>0,VLOOKUP(D2383,Liste!$A$10:$D$163,4),\"\")","v":""},null,null,null,""]
[null,{"$f":"IF(A2384>0,VLOOKUP(A2384,Liste!$B$179                         : Liste!$C$189,2),\"\")","v":""},null,null,{"$f":"IF(D2384>0,VLOOKUP(D2384,Liste!$A$10:$D$163,4),\"\")","v":""},null,null,null,""]
[null,{"$f":"IF(A2385>0,VLOOKUP(A2385,Liste!$B$179                         : Liste!$C$189,2),\"\")","v":""},null,null,{"$f":"IF(D2385>0,VLOOKUP(D2385,Liste!$A$10:$D$163,4),\"\")","v":""},null,null,null,""]
[null,{"$f":"IF(A2386>0,VLOOKUP(A2386,Liste!$B$179                         : Liste!$C$189,2),\"\")","v":""},null,null,{"$f":"IF(D2386>0,VLOOKUP(D2386,Liste!$A$10:$D$163,4),\"\")","v":""},null,null,null,""]
[null,{"$f":"IF(A2387>0,VLOOKUP(A2387,Liste!$B$179                         : Liste!$C$189,2),\"\")","v":""},null,null,{"$f":"IF(D2387>0,VLOOKUP(D2387,Liste!$A$10:$D$163,4),\"\")","v":""},null,null,null,""]
[null,{"$f":"IF(A2388>0,VLOOKUP(A2388,Liste!$B$179                         : Liste!$C$189,2),\"\")","v":""},null,null,{"$f":"IF(D2388>0,VLOOKUP(D2388,Liste!$A$10:$D$163,4),\"\")","v":""},null,null,null,""]
[null,{"$f":"IF(A2389>0,VLOOKUP(A2389,Liste!$B$179                         : Liste!$C$189,2),\"\")","v":""},null,null,{"$f":"IF(D2389>0,VLOOKUP(D2389,Liste!$A$10:$D$163,4),\"\")","v":""},null,null,null,""]
[null,{"$f":"IF(A2390>0,VLOOKUP(A2390,Liste!$B$179                         : Liste!$C$189,2),\"\")","v":""},null,null,{"$f":"IF(D2390>0,VLOOKUP(D2390,Liste!$A$10:$D$163,4),\"\")","v":""},null,null,null,""]
[null,{"$f":"IF(A2391>0,VLOOKUP(A2391,Liste!$B$179                         : Liste!$C$189,2),\"\")","v":""},null,null,{"$f":"IF(D2391>0,VLOOKUP(D2391,Liste!$A$10:$D$163,4),\"\")","v":""},null,null,null,""]
[null,{"$f":"IF(A2392>0,VLOOKUP(A2392,Liste!$B$179                         : Liste!$C$189,2),\"\")","v":""},null,null,{"$f":"IF(D2392>0,VLOOKUP(D2392,Liste!$A$10:$D$163,4),\"\")","v":""},null,null,null,""]
[null,{"$f":"IF(A2393>0,VLOOKUP(A2393,Liste!$B$179                         : Liste!$C$189,2),\"\")","v":""},null,null,{"$f":"IF(D2393>0,VLOOKUP(D2393,Liste!$A$10:$D$163,4),\"\")","v":""},null,null,null,""]
[null,{"$f":"IF(A2394>0,VLOOKUP(A2394,Liste!$B$179                         : Liste!$C$189,2),\"\")","v":""},null,null,{"$f":"IF(D2394>0,VLOOKUP(D2394,Liste!$A$10:$D$163,4),\"\")","v":""},null,null,null,""]
[null,{"$f":"IF(A2395>0,VLOOKUP(A2395,Liste!$B$179                         : Liste!$C$189,2),\"\")","v":""},null,null,{"$f":"IF(D2395>0,VLOOKUP(D2395,Liste!$A$10:$D$163,4),\"\")","v":""},null,null,null,""]
[null,{"$f":"IF(A2396>0,VLOOKUP(A2396,Liste!$B$179                         : Liste!$C$189,2),\"\")","v":""},null,null,{"$f":"IF(D2396>0,VLOOKUP(D2396,Liste!$A$10:$D$163,4),\"\")","v":""},null,null,null,""]
[null,{"$f":"IF(A2397>0,VLOOKUP(A2397,Liste!$B$179                         : Liste!$C$189,2),\"\")","v":""},null,null,{"$f":"IF(D2397>0,VLOOKUP(D2397,Liste!$A$10:$D$163,4),\"\")","v":""},null,null,null,""]
[null,{"$f":"IF(A2398>0,VLOOKUP(A2398,Liste!$B$179                         : Liste!$C$189,2),\"\")","v":""},null,null,{"$f":"IF(D2398>0,VLOOKUP(D2398,Liste!$A$10:$D$163,4),\"\")","v":""},null,null,null,""]
[null,{"$f":"IF(A2399>0,VLOOKUP(A2399,Liste!$B$179                         : Liste!$C$189,2),\"\")","v":""},null,null,{"$f":"IF(D2399>0,VLOOKUP(D2399,Liste!$A$10:$D$163,4),\"\")","v":""},null,null,null,""]
[null,{"$f":"IF(A2400>0,VLOOKUP(A2400,Liste!$B$179                         : Liste!$C$189,2),\"\")","v":""},null,null,{"$f":"IF(D2400>0,VLOOKUP(D2400,Liste!$A$10:$D$163,4),\"\")","v":""},null,null,null,""]
[null,{"$f":"IF(A2401>0,VLOOKUP(A2401,Liste!$B$179                         : Liste!$C$189,2),\"\")","v":""},null,null,{"$f":"IF(D2401>0,VLOOKUP(D2401,Liste!$A$10:$D$163,4),\"\")","v":""},null,null,null,""]
[null,{"$f":"IF(A2402>0,VLOOKUP(A2402,Liste!$B$179                         : Liste!$C$189,2),\"\")","v":""},null,null,{"$f":"IF(D2402>0,VLOOKUP(D2402,Liste!$A$10:$D$163,4),\"\")","v":""},null,null,null,""]
[null,{"$f":"IF(A2403>0,VLOOKUP(A2403,Liste!$B$179                         : Liste!$C$189,2),\"\")","v":""},null,null,{"$f":"IF(D2403>0,VLOOKUP(D2403,Liste!$A$10:$D$163,4),\"\")","v":""},null,null,null,""]
[null,{"$f":"IF(A2404>0,VLOOKUP(A2404,Liste!$B$179                         : Liste!$C$189,2),\"\")","v":""},null,null,{"$f":"IF(D2404>0,VLOOKUP(D2404,Liste!$A$10:$D$163,4),\"\")","v":""},null,null,null,""]
[null,{"$f":"IF(A2405>0,VLOOKUP(A2405,Liste!$B$179                         : Liste!$C$189,2),\"\")","v":""},null,null,{"$f":"IF(D2405>0,VLOOKUP(D2405,Liste!$A$10:$D$163,4),\"\")","v":""},null,null,null,""]
[null,{"$f":"IF(A2406>0,VLOOKUP(A2406,Liste!$B$179                         : Liste!$C$189,2),\"\")","v":""},null,null,{"$f":"IF(D2406>0,VLOOKUP(D2406,Liste!$A$10:$D$163,4),\"\")","v":""},null,null,null,""]
[null,{"$f":"IF(A2407>0,VLOOKUP(A2407,Liste!$B$179                         : Liste!$C$189,2),\"\")","v":""},null,null,{"$f":"IF(D2407>0,VLOOKUP(D2407,Liste!$A$10:$D$163,4),\"\")","v":""},null,null,null,""]
[null,{"$f":"IF(A2408>0,VLOOKUP(A2408,Liste!$B$179                         : Liste!$C$189,2),\"\")","v":""},null,null,{"$f":"IF(D2408>0,VLOOKUP(D2408,Liste!$A$10:$D$163,4),\"\")","v":""},null,null,null,""]
[null,{"$f":"IF(A2409>0,VLOOKUP(A2409,Liste!$B$179                         : Liste!$C$189,2),\"\")","v":""},null,null,{"$f":"IF(D2409>0,VLOOKUP(D2409,Liste!$A$10:$D$163,4),\"\")","v":""},null,null,null,""]
[null,{"$f":"IF(A2410>0,VLOOKUP(A2410,Liste!$B$179                         : Liste!$C$189,2),\"\")","v":""},null,null,{"$f":"IF(D2410>0,VLOOKUP(D2410,Liste!$A$10:$D$163,4),\"\")","v":""},null,null,null,""]
[null,{"$f":"IF(A2411>0,VLOOKUP(A2411,Liste!$B$179                         : Liste!$C$189,2),\"\")","v":""},null,null,{"$f":"IF(D2411>0,VLOOKUP(D2411,Liste!$A$10:$D$163,4),\"\")","v":""},null,null,null,""]
[null,{"$f":"IF(A2412>0,VLOOKUP(A2412,Liste!$B$179                         : Liste!$C$189,2),\"\")","v":""},null,null,{"$f":"IF(D2412>0,VLOOKUP(D2412,Liste!$A$10:$D$163,4),\"\")","v":""},null,null,null,""]
[null,{"$f":"IF(A2413>0,VLOOKUP(A2413,Liste!$B$179                         : Liste!$C$189,2),\"\")","v":""},null,null,{"$f":"IF(D2413>0,VLOOKUP(D2413,Liste!$A$10:$D$163,4),\"\")","v":""},null,null,null,""]
[null,{"$f":"IF(A2414>0,VLOOKUP(A2414,Liste!$B$179                         : Liste!$C$189,2),\"\")","v":""},null,null,{"$f":"IF(D2414>0,VLOOKUP(D2414,Liste!$A$10:$D$163,4),\"\")","v":""},null,null,null,""]
[null,{"$f":"IF(A2415>0,VLOOKUP(A2415,Liste!$B$179                         : Liste!$C$189,2),\"\")","v":""},null,null,{"$f":"IF(D2415>0,VLOOKUP(D2415,Liste!$A$10:$D$163,4),\"\")","v":""},null,null,null,""]
[null,{"$f":"IF(A2416>0,VLOOKUP(A2416,Liste!$B$179                         : Liste!$C$189,2),\"\")","v":""},null,null,{"$f":"IF(D2416>0,VLOOKUP(D2416,Liste!$A$10:$D$163,4),\"\")","v":""},null,null,null,""]
[null,{"$f":"IF(A2417>0,VLOOKUP(A2417,Liste!$B$179                         : Liste!$C$189,2),\"\")","v":""},null,null,{"$f":"IF(D2417>0,VLOOKUP(D2417,Liste!$A$10:$D$163,4),\"\")","v":""},null,null,null,""]
[null,{"$f":"IF(A2418>0,VLOOKUP(A2418,Liste!$B$179                         : Liste!$C$189,2),\"\")","v":""},null,null,{"$f":"IF(D2418>0,VLOOKUP(D2418,Liste!$A$10:$D$163,4),\"\")","v":""},null,null,null,""]
[null,{"$f":"IF(A2419>0,VLOOKUP(A2419,Liste!$B$179                         : Liste!$C$189,2),\"\")","v":""},null,null,{"$f":"IF(D2419>0,VLOOKUP(D2419,Liste!$A$10:$D$163,4),\"\")","v":""},null,null,null,""]
[null,{"$f":"IF(A2420>0,VLOOKUP(A2420,Liste!$B$179                         : Liste!$C$189,2),\"\")","v":""},null,null,{"$f":"IF(D2420>0,VLOOKUP(D2420,Liste!$A$10:$D$163,4),\"\")","v":""},null,null,null,""]
[null,{"$f":"IF(A2421>0,VLOOKUP(A2421,Liste!$B$179                         : Liste!$C$189,2),\"\")","v":""},null,null,{"$f":"IF(D2421>0,VLOOKUP(D2421,Liste!$A$10:$D$163,4),\"\")","v":""},null,null,null,""]
[null,{"$f":"IF(A2422>0,VLOOKUP(A2422,Liste!$B$179                         : Liste!$C$189,2),\"\")","v":""},null,null,{"$f":"IF(D2422>0,VLOOKUP(D2422,Liste!$A$10:$D$163,4),\"\")","v":""},null,null,null,""]
[null,{"$f":"IF(A2423>0,VLOOKUP(A2423,Liste!$B$179                         : Liste!$C$189,2),\"\")","v":""},null,null,{"$f":"IF(D2423>0,VLOOKUP(D2423,Liste!$A$10:$D$163,4),\"\")","v":""},null,null,null,""]
[null,{"$f":"IF(A2424>0,VLOOKUP(A2424,Liste!$B$179                         : Liste!$C$189,2),\"\")","v":""},null,null,{"$f":"IF(D2424>0,VLOOKUP(D2424,Liste!$A$10:$D$163,4),\"\")","v":""},null,null,null,""]
[null,{"$f":"IF(A2425>0,VLOOKUP(A2425,Liste!$B$179                         : Liste!$C$189,2),\"\")","v":""},null,null,{"$f":"IF(D2425>0,VLOOKUP(D2425,Liste!$A$10:$D$163,4),\"\")","v":""},null,null,null,""]
[null,{"$f":"IF(A2426>0,VLOOKUP(A2426,Liste!$B$179                         : Liste!$C$189,2),\"\")","v":""},null,null,{"$f":"IF(D2426>0,VLOOKUP(D2426,Liste!$A$10:$D$163,4),\"\")","v":""},null,null,null,""]
[null,{"$f":"IF(A2427>0,VLOOKUP(A2427,Liste!$B$179                         : Liste!$C$189,2),\"\")","v":""},null,null,{"$f":"IF(D2427>0,VLOOKUP(D2427,Liste!$A$10:$D$163,4),\"\")","v":""},null,null,null,""]
[null,{"$f":"IF(A2428>0,VLOOKUP(A2428,Liste!$B$179                         : Liste!$C$189,2),\"\")","v":""},null,null,{"$f":"IF(D2428>0,VLOOKUP(D2428,Liste!$A$10:$D$163,4),\"\")","v":""},null,null,null,""]
[null,{"$f":"IF(A2429>0,VLOOKUP(A2429,Liste!$B$179                         : Liste!$C$189,2),\"\")","v":""},null,null,{"$f":"IF(D2429>0,VLOOKUP(D2429,Liste!$A$10:$D$163,4),\"\")","v":""},null,null,null,""]
[null,{"$f":"IF(A2430>0,VLOOKUP(A2430,Liste!$B$179                         : Liste!$C$189,2),\"\")","v":""},null,null,{"$f":"IF(D2430>0,VLOOKUP(D2430,Liste!$A$10:$D$163,4),\"\")","v":""},null,null,null,""]
[null,{"$f":"IF(A2431>0,VLOOKUP(A2431,Liste!$B$179                         : Liste!$C$189,2),\"\")","v":""},null,null,{"$f":"IF(D2431>0,VLOOKUP(D2431,Liste!$A$10:$D$163,4),\"\")","v":""},null,null,null,""]
[null,{"$f":"IF(A2432>0,VLOOKUP(A2432,Liste!$B$179                         : Liste!$C$189,2),\"\")","v":""},null,null,{"$f":"IF(D2432>0,VLOOKUP(D2432,Liste!$A$10:$D$163,4),\"\")","v":""},null,null,null,""]
[null,{"$f":"IF(A2433>0,VLOOKUP(A2433,Liste!$B$179                         : Liste!$C$189,2),\"\")","v":""},null,null,{"$f":"IF(D2433>0,VLOOKUP(D2433,Liste!$A$10:$D$163,4),\"\")","v":""},null,null,null,""]
[null,{"$f":"IF(A2434>0,VLOOKUP(A2434,Liste!$B$179                         : Liste!$C$189,2),\"\")","v":""},null,null,{"$f":"IF(D2434>0,VLOOKUP(D2434,Liste!$A$10:$D$163,4),\"\")","v":""},null,null,null,""]
[null,{"$f":"IF(A2435>0,VLOOKUP(A2435,Liste!$B$179                         : Liste!$C$189,2),\"\")","v":""},null,null,{"$f":"IF(D2435>0,VLOOKUP(D2435,Liste!$A$10:$D$163,4),\"\")","v":""},null,null,null,""]
[null,{"$f":"IF(A2436>0,VLOOKUP(A2436,Liste!$B$179                         : Liste!$C$189,2),\"\")","v":""},null,null,{"$f":"IF(D2436>0,VLOOKUP(D2436,Liste!$A$10:$D$163,4),\"\")","v":""},null,null,null,""]
[null,{"$f":"IF(A2437>0,VLOOKUP(A2437,Liste!$B$179                         : Liste!$C$189,2),\"\")","v":""},null,null,{"$f":"IF(D2437>0,VLOOKUP(D2437,Liste!$A$10:$D$163,4),\"\")","v":""},null,null,null,""]
[null,{"$f":"IF(A2438>0,VLOOKUP(A2438,Liste!$B$179                         : Liste!$C$189,2),\"\")","v":""},null,null,{"$f":"IF(D2438>0,VLOOKUP(D2438,Liste!$A$10:$D$163,4),\"\")","v":""},null,null,null,{"$f":"IF(AND(D2438>0,F2438+G2438+H2438=0),\"EN ATTENTE\",IF(F2438+G2438+H2438>1,\"ERREUR\",\"\"))","v":""}]
[null,{"$f":"IF(A2439>0,VLOOKUP(A2439,Liste!$B$179                         : Liste!$C$189,2),\"\")","v":""},null,null,{"$f":"IF(D2439>0,VLOOKUP(D2439,Liste!$A$10:$D$163,4),\"\")","v":""},null,null,null,""]
[null,{"$f":"IF(A2440>0,VLOOKUP(A2440,Liste!$B$179                         : Liste!$C$189,2),\"\")","v":""},null,null,{"$f":"IF(D2440>0,VLOOKUP(D2440,Liste!$A$10:$D$163,4),\"\")","v":""},null,null,null,""]
[null,{"$f":"IF(A2441>0,VLOOKUP(A2441,Liste!$B$179                         : Liste!$C$189,2),\"\")","v":""},null,null,{"$f":"IF(D2441>0,VLOOKUP(D2441,Liste!$A$10:$D$163,4),\"\")","v":""},null,null,null,""]
[null,{"$f":"IF(A2442>0,VLOOKUP(A2442,Liste!$B$179                         : Liste!$C$189,2),\"\")","v":""},null,null,{"$f":"IF(D2442>0,VLOOKUP(D2442,Liste!$A$10:$D$163,4),\"\")","v":""},null,null,null,""]
[null,{"$f":"IF(A2443>0,VLOOKUP(A2443,Liste!$B$179                         : Liste!$C$189,2),\"\")","v":""},null,null,{"$f":"IF(D2443>0,VLOOKUP(D2443,Liste!$A$10:$D$163,4),\"\")","v":""},null,null,null,""]
[null,{"$f":"IF(A2444>0,VLOOKUP(A2444,Liste!$B$179                         : Liste!$C$189,2),\"\")","v":""},null,null,{"$f":"IF(D2444>0,VLOOKUP(D2444,Liste!$A$10:$D$163,4),\"\")","v":""},null,null,null,""]
[null,{"$f":"IF(A2445>0,VLOOKUP(A2445,Liste!$B$179                         : Liste!$C$189,2),\"\")","v":""},null,null,{"$f":"IF(D2445>0,VLOOKUP(D2445,Liste!$A$10:$D$163,4),\"\")","v":""},null,null,null,""]
[null,{"$f":"IF(A2446>0,VLOOKUP(A2446,Liste!$B$179                         : Liste!$C$189,2),\"\")","v":""},null,null,{"$f":"IF(D2446>0,VLOOKUP(D2446,Liste!$A$10:$D$163,4),\"\")","v":""},null,null,null,""]
[null,{"$f":"IF(A2447>0,VLOOKUP(A2447,Liste!$B$179                         : Liste!$C$189,2),\"\")","v":""},null,null,{"$f":"IF(D2447>0,VLOOKUP(D2447,Liste!$A$10:$D$163,4),\"\")","v":""},null,null,null,""]
[null,{"$f":"IF(A2448>0,VLOOKUP(A2448,Liste!$B$179                         : Liste!$C$189,2),\"\")","v":""},null,null,{"$f":"IF(D2448>0,VLOOKUP(D2448,Liste!$A$10:$D$163,4),\"\")","v":""},null,null,null,""]
[null,{"$f":"IF(A2449>0,VLOOKUP(A2449,Liste!$B$179                         : Liste!$C$189,2),\"\")","v":""},null,null,{"$f":"IF(D2449>0,VLOOKUP(D2449,Liste!$A$10:$D$163,4),\"\")","v":""},null,null,null,""]
[null,{"$f":"IF(A2450>0,VLOOKUP(A2450,Liste!$B$179                         : Liste!$C$189,2),\"\")","v":""},null,null,{"$f":"IF(D2450>0,VLOOKUP(D2450,Liste!$A$10:$D$163,4),\"\")","v":""},null,null,null,""]
[null,{"$f":"IF(A2451>0,VLOOKUP(A2451,Liste!$B$179                         : Liste!$C$189,2),\"\")","v":""},null,null,{"$f":"IF(D2451>0,VLOOKUP(D2451,Liste!$A$10:$D$163,4),\"\")","v":""},null,null,null,""]
[null,{"$f":"IF(A2452>0,VLOOKUP(A2452,Liste!$B$179                         : Liste!$C$189,2),\"\")","v":""},null,null,{"$f":"IF(D2452>0,VLOOKUP(D2452,Liste!$A$10:$D$163,4),\"\")","v":""},null,null,null,""]
[null,{"$f":"IF(A2453>0,VLOOKUP(A2453,Liste!$B$179                         : Liste!$C$189,2),\"\")","v":""},null,null,{"$f":"IF(D2453>0,VLOOKUP(D2453,Liste!$A$10:$D$163,4),\"\")","v":""},null,null,null,""]
[null,{"$f":"IF(A2454>0,VLOOKUP(A2454,Liste!$B$179                         : Liste!$C$189,2),\"\")","v":""},null,null,{"$f":"IF(D2454>0,VLOOKUP(D2454,Liste!$A$10:$D$163,4),\"\")","v":""},null,null,null,""]
[null,{"$f":"IF(A2455>0,VLOOKUP(A2455,Liste!$B$179                         : Liste!$C$189,2),\"\")","v":""},null,null,{"$f":"IF(D2455>0,VLOOKUP(D2455,Liste!$A$10:$D$163,4),\"\")","v":""},null,null,null,""]
[null,{"$f":"IF(A2456>0,VLOOKUP(A2456,Liste!$B$179                         : Liste!$C$189,2),\"\")","v":""},null,null,{"$f":"IF(D2456>0,VLOOKUP(D2456,Liste!$A$10:$D$163,4),\"\")","v":""},null,null,null,""]
[null,{"$f":"IF(A2457>0,VLOOKUP(A2457,Liste!$B$179                         : Liste!$C$189,2),\"\")","v":""},null,null,{"$f":"IF(D2457>0,VLOOKUP(D2457,Liste!$A$10:$D$163,4),\"\")","v":""},null,null,null,""]
[null,{"$f":"IF(A2458>0,VLOOKUP(A2458,Liste!$B$179                         : Liste!$C$189,2),\"\")","v":""},null,null,{"$f":"IF(D2458>0,VLOOKUP(D2458,Liste!$A$10:$D$163,4),\"\")","v":""},null,null,null,""]
[null,{"$f":"IF(A2459>0,VLOOKUP(A2459,Liste!$B$179                         : Liste!$C$189,2),\"\")","v":""},null,null,{"$f":"IF(D2459>0,VLOOKUP(D2459,Liste!$A$10:$D$163,4),\"\")","v":""},null,null,null,""]
[null,{"$f":"IF(A2460>0,VLOOKUP(A2460,Liste!$B$179                         : Liste!$C$189,2),\"\")","v":""},null,null,{"$f":"IF(D2460>0,VLOOKUP(D2460,Liste!$A$10:$D$163,4),\"\")","v":""},null,null,null,""]
[null,{"$f":"IF(A2461>0,VLOOKUP(A2461,Liste!$B$179                         : Liste!$C$189,2),\"\")","v":""},null,null,{"$f":"IF(D2461>0,VLOOKUP(D2461,Liste!$A$10:$D$163,4),\"\")","v":""},null,null,null,""]
[null,{"$f":"IF(A2462>0,VLOOKUP(A2462,Liste!$B$179                         : Liste!$C$189,2),\"\")","v":""},null,null,{"$f":"IF(D2462>0,VLOOKUP(D2462,Liste!$A$10:$D$163,4),\"\")","v":""},null,null,null,""]
[null,{"$f":"IF(A2463>0,VLOOKUP(A2463,Liste!$B$179                         : Liste!$C$189,2),\"\")","v":""},null,null,{"$f":"IF(D2463>0,VLOOKUP(D2463,Liste!$A$10:$D$163,4),\"\")","v":""},null,null,null,""]
[null,{"$f":"IF(A2464>0,VLOOKUP(A2464,Liste!$B$179                         : Liste!$C$189,2),\"\")","v":""},null,null,{"$f":"IF(D2464>0,VLOOKUP(D2464,Liste!$A$10:$D$163,4),\"\")","v":""},null,null,null,""]
[null,{"$f":"IF(A2465>0,VLOOKUP(A2465,Liste!$B$179                         : Liste!$C$189,2),\"\")","v":""},null,null,{"$f":"IF(D2465>0,VLOOKUP(D2465,Liste!$A$10:$D$163,4),\"\")","v":""},null,null,null,""]
[null,{"$f":"IF(A2466>0,VLOOKUP(A2466,Liste!$B$179                         : Liste!$C$189,2),\"\")","v":""},null,null,{"$f":"IF(D2466>0,VLOOKUP(D2466,Liste!$A$10:$D$163,4),\"\")","v":""},null,null,null,""]
[null,{"$f":"IF(A2467>0,VLOOKUP(A2467,Liste!$B$179                         : Liste!$C$189,2),\"\")","v":""},null,null,{"$f":"IF(D2467>0,VLOOKUP(D2467,Liste!$A$10:$D$163,4),\"\")","v":""},null,null,null,""]
[null,{"$f":"IF(A2468>0,VLOOKUP(A2468,Liste!$B$179                         : Liste!$C$189,2),\"\")","v":""},null,null,{"$f":"IF(D2468>0,VLOOKUP(D2468,Liste!$A$10:$D$163,4),\"\")","v":""},null,null,null,""]
[null,{"$f":"IF(A2469>0,VLOOKUP(A2469,Liste!$B$179                         : Liste!$C$189,2),\"\")","v":""},null,null,{"$f":"IF(D2469>0,VLOOKUP(D2469,Liste!$A$10:$D$163,4),\"\")","v":""},null,null,null,""]
[null,{"$f":"IF(A2470>0,VLOOKUP(A2470,Liste!$B$179                         : Liste!$C$189,2),\"\")","v":""},null,null,{"$f":"IF(D2470>0,VLOOKUP(D2470,Liste!$A$10:$D$163,4),\"\")","v":""},null,null,null,""]
[null,{"$f":"IF(A2471>0,VLOOKUP(A2471,Liste!$B$179                         : Liste!$C$189,2),\"\")","v":""},null,null,{"$f":"IF(D2471>0,VLOOKUP(D2471,Liste!$A$10:$D$163,4),\"\")","v":""},null,null,null,""]
[null,{"$f":"IF(A2472>0,VLOOKUP(A2472,Liste!$B$179                         : Liste!$C$189,2),\"\")","v":""},null,null,{"$f":"IF(D2472>0,VLOOKUP(D2472,Liste!$A$10:$D$163,4),\"\")","v":""},null,null,null,""]
[null,{"$f":"IF(A2473>0,VLOOKUP(A2473,Liste!$B$179                         : Liste!$C$189,2),\"\")","v":""},null,null,{"$f":"IF(D2473>0,VLOOKUP(D2473,Liste!$A$10:$D$163,4),\"\")","v":""},null,null,null,""]
[null,{"$f":"IF(A2474>0,VLOOKUP(A2474,Liste!$B$179                         : Liste!$C$189,2),\"\")","v":""},null,null,{"$f":"IF(D2474>0,VLOOKUP(D2474,Liste!$A$10:$D$163,4),\"\")","v":""},null,null,null,""]
[null,{"$f":"IF(A2475>0,VLOOKUP(A2475,Liste!$B$179                         : Liste!$C$189,2),\"\")","v":""},null,null,{"$f":"IF(D2475>0,VLOOKUP(D2475,Liste!$A$10:$D$163,4),\"\")","v":""},null,null,null,""]
[null,{"$f":"IF(A2476>0,VLOOKUP(A2476,Liste!$B$179                         : Liste!$C$189,2),\"\")","v":""},null,null,{"$f":"IF(D2476>0,VLOOKUP(D2476,Liste!$A$10:$D$163,4),\"\")","v":""},null,null,null,""]
[null,{"$f":"IF(A2477>0,VLOOKUP(A2477,Liste!$B$179                         : Liste!$C$189,2),\"\")","v":""},null,null,{"$f":"IF(D2477>0,VLOOKUP(D2477,Liste!$A$10:$D$163,4),\"\")","v":""},null,null,null,""]
[null,{"$f":"IF(A2478>0,VLOOKUP(A2478,Liste!$B$179                         : Liste!$C$189,2),\"\")","v":""},null,null,{"$f":"IF(D2478>0,VLOOKUP(D2478,Liste!$A$10:$D$163,4),\"\")","v":""},null,null,null,""]
[null,{"$f":"IF(A2479>0,VLOOKUP(A2479,Liste!$B$179                         : Liste!$C$189,2),\"\")","v":""},null,null,{"$f":"IF(D2479>0,VLOOKUP(D2479,Liste!$A$10:$D$163,4),\"\")","v":""},null,null,null,""]
[null,{"$f":"IF(A2480>0,VLOOKUP(A2480,Liste!$B$179                         : Liste!$C$189,2),\"\")","v":""},null,null,{"$f":"IF(D2480>0,VLOOKUP(D2480,Liste!$A$10:$D$163,4),\"\")","v":""},null,null,null,""]
[null,{"$f":"IF(A2481>0,VLOOKUP(A2481,Liste!$B$179                         : Liste!$C$189,2),\"\")","v":""},null,null,{"$f":"IF(D2481>0,VLOOKUP(D2481,Liste!$A$10:$D$163,4),\"\")","v":""},null,null,null,""]
[null,{"$f":"IF(A2482>0,VLOOKUP(A2482,Liste!$B$179                         : Liste!$C$189,2),\"\")","v":""},null,null,{"$f":"IF(D2482>0,VLOOKUP(D2482,Liste!$A$10:$D$163,4),\"\")","v":""},null,null,null,""]
[null,{"$f":"IF(A2483>0,VLOOKUP(A2483,Liste!$B$179                         : Liste!$C$189,2),\"\")","v":""},null,null,{"$f":"IF(D2483>0,VLOOKUP(D2483,Liste!$A$10:$D$163,4),\"\")","v":""},null,null,null,""]
[null,{"$f":"IF(A2484>0,VLOOKUP(A2484,Liste!$B$179                         : Liste!$C$189,2),\"\")","v":""},null,null,{"$f":"IF(D2484>0,VLOOKUP(D2484,Liste!$A$10:$D$163,4),\"\")","v":""},null,null,null,""]
[null,{"$f":"IF(A2485>0,VLOOKUP(A2485,Liste!$B$179                         : Liste!$C$189,2),\"\")","v":""},null,null,{"$f":"IF(D2485>0,VLOOKUP(D2485,Liste!$A$10:$D$163,4),\"\")","v":""},null,null,null,""]
[null,{"$f":"IF(A2486>0,VLOOKUP(A2486,Liste!$B$179                         : Liste!$C$189,2),\"\")","v":""},null,null,{"$f":"IF(D2486>0,VLOOKUP(D2486,Liste!$A$10:$D$163,4),\"\")","v":""},null,null,null,""]
[null,{"$f":"IF(A2487>0,VLOOKUP(A2487,Liste!$B$179                         : Liste!$C$189,2),\"\")","v":""},null,null,{"$f":"IF(D2487>0,VLOOKUP(D2487,Liste!$A$10:$D$163,4),\"\")","v":""},null,null,null,""]
[null,{"$f":"IF(A2488>0,VLOOKUP(A2488,Liste!$B$179                         : Liste!$C$189,2),\"\")","v":""},null,null,{"$f":"IF(D2488>0,VLOOKUP(D2488,Liste!$A$10:$D$163,4),\"\")","v":""},null,null,null,""]
[null,{"$f":"IF(A2489>0,VLOOKUP(A2489,Liste!$B$179                         : Liste!$C$189,2),\"\")","v":""},null,null,{"$f":"IF(D2489>0,VLOOKUP(D2489,Liste!$A$10:$D$163,4),\"\")","v":""},null,null,null,""]
[null,{"$f":"IF(A2490>0,VLOOKUP(A2490,Liste!$B$179                         : Liste!$C$189,2),\"\")","v":""},null,null,{"$f":"IF(D2490>0,VLOOKUP(D2490,Liste!$A$10:$D$163,4),\"\")","v":""},null,null,null,""]
[null,{"$f":"IF(A2491>0,VLOOKUP(A2491,Liste!$B$179                         : Liste!$C$189,2),\"\")","v":""},null,null,{"$f":"IF(D2491>0,VLOOKUP(D2491,Liste!$A$10:$D$163,4),\"\")","v":""},null,null,null,""]
[null,{"$f":"IF(A2492>0,VLOOKUP(A2492,Liste!$B$179                         : Liste!$C$189,2),\"\")","v":""},null,null,{"$f":"IF(D2492>0,VLOOKUP(D2492,Liste!$A$10:$D$163,4),\"\")","v":""},null,null,null,""]
[null,{"$f":"IF(A2493>0,VLOOKUP(A2493,Liste!$B$179                         : Liste!$C$189,2),\"\")","v":""},null,null,{"$f":"IF(D2493>0,VLOOKUP(D2493,Liste!$A$10:$D$163,4),\"\")","v":""},null,null,null,""]
[null,{"$f":"IF(A2494>0,VLOOKUP(A2494,Liste!$B$179                         : Liste!$C$189,2),\"\")","v":""},null,null,{"$f":"IF(D2494>0,VLOOKUP(D2494,Liste!$A$10:$D$163,4),\"\")","v":""},null,null,null,""]
[null,{"$f":"IF(A2495>0,VLOOKUP(A2495,Liste!$B$179                         : Liste!$C$189,2),\"\")","v":""},null,null,{"$f":"IF(D2495>0,VLOOKUP(D2495,Liste!$A$10:$D$163,4),\"\")","v":""},null,null,null,""]
[null,{"$f":"IF(A2496>0,VLOOKUP(A2496,Liste!$B$179                         : Liste!$C$189,2),\"\")","v":""},null,null,{"$f":"IF(D2496>0,VLOOKUP(D2496,Liste!$A$10:$D$163,4),\"\")","v":""},null,null,null,""]
[null,{"$f":"IF(A2497>0,VLOOKUP(A2497,Liste!$B$179                         : Liste!$C$189,2),\"\")","v":""},null,null,{"$f":"IF(D2497>0,VLOOKUP(D2497,Liste!$A$10:$D$163,4),\"\")","v":""},null,null,null,""]
[null,{"$f":"IF(A2498>0,VLOOKUP(A2498,Liste!$B$179                         : Liste!$C$189,2),\"\")","v":""},null,null,{"$f":"IF(D2498>0,VLOOKUP(D2498,Liste!$A$10:$D$163,4),\"\")","v":""},null,null,null,""]
[null,{"$f":"IF(A2499>0,VLOOKUP(A2499,Liste!$B$179                         : Liste!$C$189,2),\"\")","v":""},null,null,{"$f":"IF(D2499>0,VLOOKUP(D2499,Liste!$A$10:$D$163,4),\"\")","v":""},null,null,null,""]
[null,{"$f":"IF(A2500>0,VLOOKUP(A2500,Liste!$B$179                         : Liste!$C$189,2),\"\")","v":""},null,null,{"$f":"IF(D2500>0,VLOOKUP(D2500,Liste!$A$10:$D$163,4),\"\")","v":""},null,null,null,""]
[null,{"$f":"IF(A2501>0,VLOOKUP(A2501,Liste!$B$179                         : Liste!$C$189,2),\"\")","v":""},null,null,{"$f":"IF(D2501>0,VLOOKUP(D2501,Liste!$A$10:$D$163,4),\"\")","v":""},null,null,null,""]
[null,{"$f":"IF(A2502>0,VLOOKUP(A2502,Liste!$B$179                         : Liste!$C$189,2),\"\")","v":""},null,null,{"$f":"IF(D2502>0,VLOOKUP(D2502,Liste!$A$10:$D$163,4),\"\")","v":""},null,null,null,{"$f":"IF(AND(D2502>0,F2502+G2502+H2502=0),\"EN ATTENTE\",IF(F2502+G2502+H2502>1,\"ERREUR\",\"\"))","v":""}]
[null,{"$f":"IF(A2503>0,VLOOKUP(A2503,Liste!$B$179                         : Liste!$C$189,2),\"\")","v":""},null,null,{"$f":"IF(D2503>0,VLOOKUP(D2503,Liste!$A$10:$D$163,4),\"\")","v":""},null,null,null,""]
[null,{"$f":"IF(A2504>0,VLOOKUP(A2504,Liste!$B$179                         : Liste!$C$189,2),\"\")","v":""},null,null,{"$f":"IF(D2504>0,VLOOKUP(D2504,Liste!$A$10:$D$163,4),\"\")","v":""},null,null,null,""]
[null,{"$f":"IF(A2505>0,VLOOKUP(A2505,Liste!$B$179                         : Liste!$C$189,2),\"\")","v":""},null,null,{"$f":"IF(D2505>0,VLOOKUP(D2505,Liste!$A$10:$D$163,4),\"\")","v":""},null,null,null,""]
[null,{"$f":"IF(A2506>0,VLOOKUP(A2506,Liste!$B$179                         : Liste!$C$189,2),\"\")","v":""},null,null,{"$f":"IF(D2506>0,VLOOKUP(D2506,Liste!$A$10:$D$163,4),\"\")","v":""},null,null,null,""]
[null,{"$f":"IF(A2507>0,VLOOKUP(A2507,Liste!$B$179                         : Liste!$C$189,2),\"\")","v":""},null,null,{"$f":"IF(D2507>0,VLOOKUP(D2507,Liste!$A$10:$D$163,4),\"\")","v":""},null,null,null,""]
[null,{"$f":"IF(A2508>0,VLOOKUP(A2508,Liste!$B$179                         : Liste!$C$189,2),\"\")","v":""},null,null,{"$f":"IF(D2508>0,VLOOKUP(D2508,Liste!$A$10:$D$163,4),\"\")","v":""},null,null,null,""]
[null,{"$f":"IF(A2509>0,VLOOKUP(A2509,Liste!$B$179                         : Liste!$C$189,2),\"\")","v":""},null,null,{"$f":"IF(D2509>0,VLOOKUP(D2509,Liste!$A$10:$D$163,4),\"\")","v":""},null,null,null,""]
[null,{"$f":"IF(A2510>0,VLOOKUP(A2510,Liste!$B$179                         : Liste!$C$189,2),\"\")","v":""},null,null,{"$f":"IF(D2510>0,VLOOKUP(D2510,Liste!$A$10:$D$163,4),\"\")","v":""},null,null,null,""]
[null,{"$f":"IF(A2511>0,VLOOKUP(A2511,Liste!$B$179                         : Liste!$C$189,2),\"\")","v":""},null,null,{"$f":"IF(D2511>0,VLOOKUP(D2511,Liste!$A$10:$D$163,4),\"\")","v":""},null,null,null,""]
[null,{"$f":"IF(A2512>0,VLOOKUP(A2512,Liste!$B$179                         : Liste!$C$189,2),\"\")","v":""},null,null,{"$f":"IF(D2512>0,VLOOKUP(D2512,Liste!$A$10:$D$163,4),\"\")","v":""},null,null,null,""]
[null,{"$f":"IF(A2513>0,VLOOKUP(A2513,Liste!$B$179                         : Liste!$C$189,2),\"\")","v":""},null,null,{"$f":"IF(D2513>0,VLOOKUP(D2513,Liste!$A$10:$D$163,4),\"\")","v":""},null,null,null,""]
[null,{"$f":"IF(A2514>0,VLOOKUP(A2514,Liste!$B$179                         : Liste!$C$189,2),\"\")","v":""},null,null,{"$f":"IF(D2514>0,VLOOKUP(D2514,Liste!$A$10:$D$163,4),\"\")","v":""},null,null,null,""]
[null,{"$f":"IF(A2515>0,VLOOKUP(A2515,Liste!$B$179                         : Liste!$C$189,2),\"\")","v":""},null,null,{"$f":"IF(D2515>0,VLOOKUP(D2515,Liste!$A$10:$D$163,4),\"\")","v":""},null,null,null,""]
[null,{"$f":"IF(A2516>0,VLOOKUP(A2516,Liste!$B$179                         : Liste!$C$189,2),\"\")","v":""},null,null,{"$f":"IF(D2516>0,VLOOKUP(D2516,Liste!$A$10:$D$163,4),\"\")","v":""},null,null,null,""]
[null,{"$f":"IF(A2517>0,VLOOKUP(A2517,Liste!$B$179                         : Liste!$C$189,2),\"\")","v":""},null,null,{"$f":"IF(D2517>0,VLOOKUP(D2517,Liste!$A$10:$D$163,4),\"\")","v":""},null,null,null,""]
[null,{"$f":"IF(A2518>0,VLOOKUP(A2518,Liste!$B$179                         : Liste!$C$189,2),\"\")","v":""},null,null,{"$f":"IF(D2518>0,VLOOKUP(D2518,Liste!$A$10:$D$163,4),\"\")","v":""},null,null,null,""]
[null,{"$f":"IF(A2519>0,VLOOKUP(A2519,Liste!$B$179                         : Liste!$C$189,2),\"\")","v":""},null,null,{"$f":"IF(D2519>0,VLOOKUP(D2519,Liste!$A$10:$D$163,4),\"\")","v":""},null,null,null,""]
[null,{"$f":"IF(A2520>0,VLOOKUP(A2520,Liste!$B$179                         : Liste!$C$189,2),\"\")","v":""},null,null,{"$f":"IF(D2520>0,VLOOKUP(D2520,Liste!$A$10:$D$163,4),\"\")","v":""},null,null,null,""]
[null,{"$f":"IF(A2521>0,VLOOKUP(A2521,Liste!$B$179                         : Liste!$C$189,2),\"\")","v":""},null,null,{"$f":"IF(D2521>0,VLOOKUP(D2521,Liste!$A$10:$D$163,4),\"\")","v":""},null,null,null,""]
[null,{"$f":"IF(A2522>0,VLOOKUP(A2522,Liste!$B$179                         : Liste!$C$189,2),\"\")","v":""},null,null,{"$f":"IF(D2522>0,VLOOKUP(D2522,Liste!$A$10:$D$163,4),\"\")","v":""},null,null,null,""]
[null,{"$f":"IF(A2523>0,VLOOKUP(A2523,Liste!$B$179                         : Liste!$C$189,2),\"\")","v":""},null,null,{"$f":"IF(D2523>0,VLOOKUP(D2523,Liste!$A$10:$D$163,4),\"\")","v":""},null,null,null,""]
[null,{"$f":"IF(A2524>0,VLOOKUP(A2524,Liste!$B$179                         : Liste!$C$189,2),\"\")","v":""},null,null,{"$f":"IF(D2524>0,VLOOKUP(D2524,Liste!$A$10:$D$163,4),\"\")","v":""},null,null,null,""]
[null,{"$f":"IF(A2525>0,VLOOKUP(A2525,Liste!$B$179                         : Liste!$C$189,2),\"\")","v":""},null,null,{"$f":"IF(D2525>0,VLOOKUP(D2525,Liste!$A$10:$D$163,4),\"\")","v":""},null,null,null,""]
[null,{"$f":"IF(A2526>0,VLOOKUP(A2526,Liste!$B$179                         : Liste!$C$189,2),\"\")","v":""},null,null,{"$f":"IF(D2526>0,VLOOKUP(D2526,Liste!$A$10:$D$163,4),\"\")","v":""},null,null,null,""]
[null,{"$f":"IF(A2527>0,VLOOKUP(A2527,Liste!$B$179                         : Liste!$C$189,2),\"\")","v":""},null,null,{"$f":"IF(D2527>0,VLOOKUP(D2527,Liste!$A$10:$D$163,4),\"\")","v":""},null,null,null,""]
[null,{"$f":"IF(A2528>0,VLOOKUP(A2528,Liste!$B$179                         : Liste!$C$189,2),\"\")","v":""},null,null,{"$f":"IF(D2528>0,VLOOKUP(D2528,Liste!$A$10:$D$163,4),\"\")","v":""},null,null,null,""]
[null,{"$f":"IF(A2529>0,VLOOKUP(A2529,Liste!$B$179                         : Liste!$C$189,2),\"\")","v":""},null,null,{"$f":"IF(D2529>0,VLOOKUP(D2529,Liste!$A$10:$D$163,4),\"\")","v":""},null,null,null,""]
[null,{"$f":"IF(A2530>0,VLOOKUP(A2530,Liste!$B$179                         : Liste!$C$189,2),\"\")","v":""},null,null,{"$f":"IF(D2530>0,VLOOKUP(D2530,Liste!$A$10:$D$163,4),\"\")","v":""},null,null,null,""]
[null,{"$f":"IF(A2531>0,VLOOKUP(A2531,Liste!$B$179                         : Liste!$C$189,2),\"\")","v":""},null,null,{"$f":"IF(D2531>0,VLOOKUP(D2531,Liste!$A$10:$D$163,4),\"\")","v":""},null,null,null,""]
[null,{"$f":"IF(A2532>0,VLOOKUP(A2532,Liste!$B$179                         : Liste!$C$189,2),\"\")","v":""},null,null,{"$f":"IF(D2532>0,VLOOKUP(D2532,Liste!$A$10:$D$163,4),\"\")","v":""},null,null,null,""]
[null,{"$f":"IF(A2533>0,VLOOKUP(A2533,Liste!$B$179                         : Liste!$C$189,2),\"\")","v":""},null,null,{"$f":"IF(D2533>0,VLOOKUP(D2533,Liste!$A$10:$D$163,4),\"\")","v":""},null,null,null,""]
[null,{"$f":"IF(A2534>0,VLOOKUP(A2534,Liste!$B$179                         : Liste!$C$189,2),\"\")","v":""},null,null,{"$f":"IF(D2534>0,VLOOKUP(D2534,Liste!$A$10:$D$163,4),\"\")","v":""},null,null,null,""]
[null,{"$f":"IF(A2535>0,VLOOKUP(A2535,Liste!$B$179                         : Liste!$C$189,2),\"\")","v":""},null,null,{"$f":"IF(D2535>0,VLOOKUP(D2535,Liste!$A$10:$D$163,4),\"\")","v":""},null,null,null,""]
[null,{"$f":"IF(A2536>0,VLOOKUP(A2536,Liste!$B$179                         : Liste!$C$189,2),\"\")","v":""},null,null,{"$f":"IF(D2536>0,VLOOKUP(D2536,Liste!$A$10:$D$163,4),\"\")","v":""},null,null,null,""]
[null,{"$f":"IF(A2537>0,VLOOKUP(A2537,Liste!$B$179                         : Liste!$C$189,2),\"\")","v":""},null,null,{"$f":"IF(D2537>0,VLOOKUP(D2537,Liste!$A$10:$D$163,4),\"\")","v":""},null,null,null,""]
[null,{"$f":"IF(A2538>0,VLOOKUP(A2538,Liste!$B$179                         : Liste!$C$189,2),\"\")","v":""},null,null,{"$f":"IF(D2538>0,VLOOKUP(D2538,Liste!$A$10:$D$163,4),\"\")","v":""},null,null,null,""]
[null,{"$f":"IF(A2539>0,VLOOKUP(A2539,Liste!$B$179                         : Liste!$C$189,2),\"\")","v":""},null,null,{"$f":"IF(D2539>0,VLOOKUP(D2539,Liste!$A$10:$D$163,4),\"\")","v":""},null,null,null,""]
[null,{"$f":"IF(A2540>0,VLOOKUP(A2540,Liste!$B$179                         : Liste!$C$189,2),\"\")","v":""},null,null,{"$f":"IF(D2540>0,VLOOKUP(D2540,Liste!$A$10:$D$163,4),\"\")","v":""},null,null,null,""]
[null,{"$f":"IF(A2541>0,VLOOKUP(A2541,Liste!$B$179                         : Liste!$C$189,2),\"\")","v":""},null,null,{"$f":"IF(D2541>0,VLOOKUP(D2541,Liste!$A$10:$D$163,4),\"\")","v":""},null,null,null,""]
[null,{"$f":"IF(A2542>0,VLOOKUP(A2542,Liste!$B$179                         : Liste!$C$189,2),\"\")","v":""},null,null,{"$f":"IF(D2542>0,VLOOKUP(D2542,Liste!$A$10:$D$163,4),\"\")","v":""},null,null,null,""]
[null,{"$f":"IF(A2543>0,VLOOKUP(A2543,Liste!$B$179                         : Liste!$C$189,2),\"\")","v":""},null,null,{"$f":"IF(D2543>0,VLOOKUP(D2543,Liste!$A$10:$D$163,4),\"\")","v":""},null,null,null,""]
[null,{"$f":"IF(A2544>0,VLOOKUP(A2544,Liste!$B$179                         : Liste!$C$189,2),\"\")","v":""},null,null,{"$f":"IF(D2544>0,VLOOKUP(D2544,Liste!$A$10:$D$163,4),\"\")","v":""},null,null,null,""]
[null,{"$f":"IF(A2545>0,VLOOKUP(A2545,Liste!$B$179                         : Liste!$C$189,2),\"\")","v":""},null,null,{"$f":"IF(D2545>0,VLOOKUP(D2545,Liste!$A$10:$D$163,4),\"\")","v":""},null,null,null,""]
[null,{"$f":"IF(A2546>0,VLOOKUP(A2546,Liste!$B$179                         : Liste!$C$189,2),\"\")","v":""},null,null,{"$f":"IF(D2546>0,VLOOKUP(D2546,Liste!$A$10:$D$163,4),\"\")","v":""},null,null,null,""]
[null,{"$f":"IF(A2547>0,VLOOKUP(A2547,Liste!$B$179                         : Liste!$C$189,2),\"\")","v":""},null,null,{"$f":"IF(D2547>0,VLOOKUP(D2547,Liste!$A$10:$D$163,4),\"\")","v":""},null,null,null,""]
[null,{"$f":"IF(A2548>0,VLOOKUP(A2548,Liste!$B$179                         : Liste!$C$189,2),\"\")","v":""},null,null,{"$f":"IF(D2548>0,VLOOKUP(D2548,Liste!$A$10:$D$163,4),\"\")","v":""},null,null,null,""]
[null,{"$f":"IF(A2549>0,VLOOKUP(A2549,Liste!$B$179                         : Liste!$C$189,2),\"\")","v":""},null,null,{"$f":"IF(D2549>0,VLOOKUP(D2549,Liste!$A$10:$D$163,4),\"\")","v":""},null,null,null,""]
[null,{"$f":"IF(A2550>0,VLOOKUP(A2550,Liste!$B$179                         : Liste!$C$189,2),\"\")","v":""},null,null,{"$f":"IF(D2550>0,VLOOKUP(D2550,Liste!$A$10:$D$163,4),\"\")","v":""},null,null,null,""]
[null,{"$f":"IF(A2551>0,VLOOKUP(A2551,Liste!$B$179                         : Liste!$C$189,2),\"\")","v":""},null,null,{"$f":"IF(D2551>0,VLOOKUP(D2551,Liste!$A$10:$D$163,4),\"\")","v":""},null,null,null,""]
[null,{"$f":"IF(A2552>0,VLOOKUP(A2552,Liste!$B$179                         : Liste!$C$189,2),\"\")","v":""},null,null,{"$f":"IF(D2552>0,VLOOKUP(D2552,Liste!$A$10:$D$163,4),\"\")","v":""},null,null,null,""]
[null,{"$f":"IF(A2553>0,VLOOKUP(A2553,Liste!$B$179                         : Liste!$C$189,2),\"\")","v":""},null,null,{"$f":"IF(D2553>0,VLOOKUP(D2553,Liste!$A$10:$D$163,4),\"\")","v":""},null,null,null,""]
[null,{"$f":"IF(A2554>0,VLOOKUP(A2554,Liste!$B$179                         : Liste!$C$189,2),\"\")","v":""},null,null,{"$f":"IF(D2554>0,VLOOKUP(D2554,Liste!$A$10:$D$163,4),\"\")","v":""},null,null,null,""]
[null,{"$f":"IF(A2555>0,VLOOKUP(A2555,Liste!$B$179                         : Liste!$C$189,2),\"\")","v":""},null,null,{"$f":"IF(D2555>0,VLOOKUP(D2555,Liste!$A$10:$D$163,4),\"\")","v":""},null,null,null,""]
[null,{"$f":"IF(A2556>0,VLOOKUP(A2556,Liste!$B$179                         : Liste!$C$189,2),\"\")","v":""},null,null,{"$f":"IF(D2556>0,VLOOKUP(D2556,Liste!$A$10:$D$163,4),\"\")","v":""},null,null,null,""]
[null,{"$f":"IF(A2557>0,VLOOKUP(A2557,Liste!$B$179                         : Liste!$C$189,2),\"\")","v":""},null,null,{"$f":"IF(D2557>0,VLOOKUP(D2557,Liste!$A$10:$D$163,4),\"\")","v":""},null,null,null,""]
[null,{"$f":"IF(A2558>0,VLOOKUP(A2558,Liste!$B$179                         : Liste!$C$189,2),\"\")","v":""},null,null,{"$f":"IF(D2558>0,VLOOKUP(D2558,Liste!$A$10:$D$163,4),\"\")","v":""},null,null,null,""]
[null,{"$f":"IF(A2559>0,VLOOKUP(A2559,Liste!$B$179                         : Liste!$C$189,2),\"\")","v":""},null,null,{"$f":"IF(D2559>0,VLOOKUP(D2559,Liste!$A$10:$D$163,4),\"\")","v":""},null,null,null,""]
[null,{"$f":"IF(A2560>0,VLOOKUP(A2560,Liste!$B$179                         : Liste!$C$189,2),\"\")","v":""},null,null,{"$f":"IF(D2560>0,VLOOKUP(D2560,Liste!$A$10:$D$163,4),\"\")","v":""},null,null,null,""]
[null,{"$f":"IF(A2561>0,VLOOKUP(A2561,Liste!$B$179                         : Liste!$C$189,2),\"\")","v":""},null,null,{"$f":"IF(D2561>0,VLOOKUP(D2561,Liste!$A$10:$D$163,4),\"\")","v":""},null,null,null,""]
[null,{"$f":"IF(A2562>0,VLOOKUP(A2562,Liste!$B$179                         : Liste!$C$189,2),\"\")","v":""},null,null,{"$f":"IF(D2562>0,VLOOKUP(D2562,Liste!$A$10:$D$163,4),\"\")","v":""},null,null,null,""]
[null,{"$f":"IF(A2563>0,VLOOKUP(A2563,Liste!$B$179                         : Liste!$C$189,2),\"\")","v":""},null,null,{"$f":"IF(D2563>0,VLOOKUP(D2563,Liste!$A$10:$D$163,4),\"\")","v":""},null,null,null,""]
[null,{"$f":"IF(A2564>0,VLOOKUP(A2564,Liste!$B$179                         : Liste!$C$189,2),\"\")","v":""},null,null,{"$f":"IF(D2564>0,VLOOKUP(D2564,Liste!$A$10:$D$163,4),\"\")","v":""},null,null,null,""]
[null,{"$f":"IF(A2565>0,VLOOKUP(A2565,Liste!$B$179                         : Liste!$C$189,2),\"\")","v":""},null,null,{"$f":"IF(D2565>0,VLOOKUP(D2565,Liste!$A$10:$D$163,4),\"\")","v":""},null,null,null,""]
[null,{"$f":"IF(A2566>0,VLOOKUP(A2566,Liste!$B$179                         : Liste!$C$189,2),\"\")","v":""},null,null,{"$f":"IF(D2566>0,VLOOKUP(D2566,Liste!$A$10:$D$163,4),\"\")","v":""},null,null,null,{"$f":"IF(AND(D2566>0,F2566+G2566+H2566=0),\"EN ATTENTE\",IF(F2566+G2566+H2566>1,\"ERREUR\",\"\"))","v":""}]
[null,{"$f":"IF(A2567>0,VLOOKUP(A2567,Liste!$B$179                         : Liste!$C$189,2),\"\")","v":""},null,null,{"$f":"IF(D2567>0,VLOOKUP(D2567,Liste!$A$10:$D$163,4),\"\")","v":""},null,null,null,""]
[null,{"$f":"IF(A2568>0,VLOOKUP(A2568,Liste!$B$179                         : Liste!$C$189,2),\"\")","v":""},null,null,{"$f":"IF(D2568>0,VLOOKUP(D2568,Liste!$A$10:$D$163,4),\"\")","v":""},null,null,null,""]
[null,{"$f":"IF(A2569>0,VLOOKUP(A2569,Liste!$B$179                         : Liste!$C$189,2),\"\")","v":""},null,null,{"$f":"IF(D2569>0,VLOOKUP(D2569,Liste!$A$10:$D$163,4),\"\")","v":""},null,null,null,""]
[null,{"$f":"IF(A2570>0,VLOOKUP(A2570,Liste!$B$179                         : Liste!$C$189,2),\"\")","v":""},null,null,{"$f":"IF(D2570>0,VLOOKUP(D2570,Liste!$A$10:$D$163,4),\"\")","v":""},null,null,null,""]
[null,{"$f":"IF(A2571>0,VLOOKUP(A2571,Liste!$B$179                         : Liste!$C$189,2),\"\")","v":""},null,null,{"$f":"IF(D2571>0,VLOOKUP(D2571,Liste!$A$10:$D$163,4),\"\")","v":""},null,null,null,""]
[null,{"$f":"IF(A2572>0,VLOOKUP(A2572,Liste!$B$179                         : Liste!$C$189,2),\"\")","v":""},null,null,{"$f":"IF(D2572>0,VLOOKUP(D2572,Liste!$A$10:$D$163,4),\"\")","v":""},null,null,null,""]
[null,{"$f":"IF(A2573>0,VLOOKUP(A2573,Liste!$B$179                         : Liste!$C$189,2),\"\")","v":""},null,null,{"$f":"IF(D2573>0,VLOOKUP(D2573,Liste!$A$10:$D$163,4),\"\")","v":""},null,null,null,""]
[null,{"$f":"IF(A2574>0,VLOOKUP(A2574,Liste!$B$179                         : Liste!$C$189,2),\"\")","v":""},null,null,{"$f":"IF(D2574>0,VLOOKUP(D2574,Liste!$A$10:$D$163,4),\"\")","v":""},null,null,null,""]
[null,{"$f":"IF(A2575>0,VLOOKUP(A2575,Liste!$B$179                         : Liste!$C$189,2),\"\")","v":""},null,null,{"$f":"IF(D2575>0,VLOOKUP(D2575,Liste!$A$10:$D$163,4),\"\")","v":""},null,null,null,""]
[null,{"$f":"IF(A2576>0,VLOOKUP(A2576,Liste!$B$179                         : Liste!$C$189,2),\"\")","v":""},null,null,{"$f":"IF(D2576>0,VLOOKUP(D2576,Liste!$A$10:$D$163,4),\"\")","v":""},null,null,null,""]
[null,{"$f":"IF(A2577>0,VLOOKUP(A2577,Liste!$B$179                         : Liste!$C$189,2),\"\")","v":""},null,null,{"$f":"IF(D2577>0,VLOOKUP(D2577,Liste!$A$10:$D$163,4),\"\")","v":""},null,null,null,""]
[null,{"$f":"IF(A2578>0,VLOOKUP(A2578,Liste!$B$179                         : Liste!$C$189,2),\"\")","v":""},null,null,{"$f":"IF(D2578>0,VLOOKUP(D2578,Liste!$A$10:$D$163,4),\"\")","v":""},null,null,null,""]
[null,{"$f":"IF(A2579>0,VLOOKUP(A2579,Liste!$B$179                         : Liste!$C$189,2),\"\")","v":""},null,null,{"$f":"IF(D2579>0,VLOOKUP(D2579,Liste!$A$10:$D$163,4),\"\")","v":""},null,null,null,""]
[null,{"$f":"IF(A2580>0,VLOOKUP(A2580,Liste!$B$179                         : Liste!$C$189,2),\"\")","v":""},null,null,{"$f":"IF(D2580>0,VLOOKUP(D2580,Liste!$A$10:$D$163,4),\"\")","v":""},null,null,null,""]
[null,{"$f":"IF(A2581>0,VLOOKUP(A2581,Liste!$B$179                         : Liste!$C$189,2),\"\")","v":""},null,null,{"$f":"IF(D2581>0,VLOOKUP(D2581,Liste!$A$10:$D$163,4),\"\")","v":""},null,null,null,""]
[null,{"$f":"IF(A2582>0,VLOOKUP(A2582,Liste!$B$179                         : Liste!$C$189,2),\"\")","v":""},null,null,{"$f":"IF(D2582>0,VLOOKUP(D2582,Liste!$A$10:$D$163,4),\"\")","v":""},null,null,null,""]
[null,{"$f":"IF(A2583>0,VLOOKUP(A2583,Liste!$B$179                         : Liste!$C$189,2),\"\")","v":""},null,null,{"$f":"IF(D2583>0,VLOOKUP(D2583,Liste!$A$10:$D$163,4),\"\")","v":""},null,null,null,""]
[null,{"$f":"IF(A2584>0,VLOOKUP(A2584,Liste!$B$179                         : Liste!$C$189,2),\"\")","v":""},null,null,{"$f":"IF(D2584>0,VLOOKUP(D2584,Liste!$A$10:$D$163,4),\"\")","v":""},null,null,null,""]
[null,{"$f":"IF(A2585>0,VLOOKUP(A2585,Liste!$B$179                         : Liste!$C$189,2),\"\")","v":""},null,null,{"$f":"IF(D2585>0,VLOOKUP(D2585,Liste!$A$10:$D$163,4),\"\")","v":""},null,null,null,""]
[null,{"$f":"IF(A2586>0,VLOOKUP(A2586,Liste!$B$179                         : Liste!$C$189,2),\"\")","v":""},null,null,{"$f":"IF(D2586>0,VLOOKUP(D2586,Liste!$A$10:$D$163,4),\"\")","v":""},null,null,null,""]
[null,{"$f":"IF(A2587>0,VLOOKUP(A2587,Liste!$B$179                         : Liste!$C$189,2),\"\")","v":""},null,null,{"$f":"IF(D2587>0,VLOOKUP(D2587,Liste!$A$10:$D$163,4),\"\")","v":""},null,null,null,""]
[null,{"$f":"IF(A2588>0,VLOOKUP(A2588,Liste!$B$179                         : Liste!$C$189,2),\"\")","v":""},null,null,{"$f":"IF(D2588>0,VLOOKUP(D2588,Liste!$A$10:$D$163,4),\"\")","v":""},null,null,null,""]
[null,{"$f":"IF(A2589>0,VLOOKUP(A2589,Liste!$B$179                         : Liste!$C$189,2),\"\")","v":""},null,null,{"$f":"IF(D2589>0,VLOOKUP(D2589,Liste!$A$10:$D$163,4),\"\")","v":""},null,null,null,""]
[null,{"$f":"IF(A2590>0,VLOOKUP(A2590,Liste!$B$179                         : Liste!$C$189,2),\"\")","v":""},null,null,{"$f":"IF(D2590>0,VLOOKUP(D2590,Liste!$A$10:$D$163,4),\"\")","v":""},null,null,null,""]
[null,{"$f":"IF(A2591>0,VLOOKUP(A2591,Liste!$B$179                         : Liste!$C$189,2),\"\")","v":""},null,null,{"$f":"IF(D2591>0,VLOOKUP(D2591,Liste!$A$10:$D$163,4),\"\")","v":""},null,null,null,""]
[null,{"$f":"IF(A2592>0,VLOOKUP(A2592,Liste!$B$179                         : Liste!$C$189,2),\"\")","v":""},null,null,{"$f":"IF(D2592>0,VLOOKUP(D2592,Liste!$A$10:$D$163,4),\"\")","v":""},null,null,null,""]
[null,{"$f":"IF(A2593>0,VLOOKUP(A2593,Liste!$B$179                         : Liste!$C$189,2),\"\")","v":""},null,null,{"$f":"IF(D2593>0,VLOOKUP(D2593,Liste!$A$10:$D$163,4),\"\")","v":""},null,null,null,""]
[null,{"$f":"IF(A2594>0,VLOOKUP(A2594,Liste!$B$179                         : Liste!$C$189,2),\"\")","v":""},null,null,{"$f":"IF(D2594>0,VLOOKUP(D2594,Liste!$A$10:$D$163,4),\"\")","v":""},null,null,null,""]
[null,{"$f":"IF(A2595>0,VLOOKUP(A2595,Liste!$B$179                         : Liste!$C$189,2),\"\")","v":""},null,null,{"$f":"IF(D2595>0,VLOOKUP(D2595,Liste!$A$10:$D$163,4),\"\")","v":""},null,null,null,""]
[null,{"$f":"IF(A2596>0,VLOOKUP(A2596,Liste!$B$179                         : Liste!$C$189,2),\"\")","v":""},null,null,{"$f":"IF(D2596>0,VLOOKUP(D2596,Liste!$A$10:$D$163,4),\"\")","v":""},null,null,null,""]
[null,{"$f":"IF(A2597>0,VLOOKUP(A2597,Liste!$B$179                         : Liste!$C$189,2),\"\")","v":""},null,null,{"$f":"IF(D2597>0,VLOOKUP(D2597,Liste!$A$10:$D$163,4),\"\")","v":""},null,null,null,""]
[null,{"$f":"IF(A2598>0,VLOOKUP(A2598,Liste!$B$179                         : Liste!$C$189,2),\"\")","v":""},null,null,{"$f":"IF(D2598>0,VLOOKUP(D2598,Liste!$A$10:$D$163,4),\"\")","v":""},null,null,null,""]
[null,{"$f":"IF(A2599>0,VLOOKUP(A2599,Liste!$B$179                         : Liste!$C$189,2),\"\")","v":""},null,null,{"$f":"IF(D2599>0,VLOOKUP(D2599,Liste!$A$10:$D$163,4),\"\")","v":""},null,null,null,""]
[null,{"$f":"IF(A2600>0,VLOOKUP(A2600,Liste!$B$179                         : Liste!$C$189,2),\"\")","v":""},null,null,{"$f":"IF(D2600>0,VLOOKUP(D2600,Liste!$A$10:$D$163,4),\"\")","v":""},null,null,null,""]
[null,{"$f":"IF(A2601>0,VLOOKUP(A2601,Liste!$B$179                         : Liste!$C$189,2),\"\")","v":""},null,null,{"$f":"IF(D2601>0,VLOOKUP(D2601,Liste!$A$10:$D$163,4),\"\")","v":""},null,null,null,""]
[null,{"$f":"IF(A2602>0,VLOOKUP(A2602,Liste!$B$179                         : Liste!$C$189,2),\"\")","v":""},null,null,{"$f":"IF(D2602>0,VLOOKUP(D2602,Liste!$A$10:$D$163,4),\"\")","v":""},null,null,null,""]
[null,{"$f":"IF(A2603>0,VLOOKUP(A2603,Liste!$B$179                         : Liste!$C$189,2),\"\")","v":""},null,null,{"$f":"IF(D2603>0,VLOOKUP(D2603,Liste!$A$10:$D$163,4),\"\")","v":""},null,null,null,""]
[null,{"$f":"IF(A2604>0,VLOOKUP(A2604,Liste!$B$179                         : Liste!$C$189,2),\"\")","v":""},null,null,{"$f":"IF(D2604>0,VLOOKUP(D2604,Liste!$A$10:$D$163,4),\"\")","v":""},null,null,null,""]
[null,{"$f":"IF(A2605>0,VLOOKUP(A2605,Liste!$B$179                         : Liste!$C$189,2),\"\")","v":""},null,null,{"$f":"IF(D2605>0,VLOOKUP(D2605,Liste!$A$10:$D$163,4),\"\")","v":""},null,null,null,""]
[null,{"$f":"IF(A2606>0,VLOOKUP(A2606,Liste!$B$179                         : Liste!$C$189,2),\"\")","v":""},null,null,{"$f":"IF(D2606>0,VLOOKUP(D2606,Liste!$A$10:$D$163,4),\"\")","v":""},null,null,null,""]
[null,{"$f":"IF(A2607>0,VLOOKUP(A2607,Liste!$B$179                         : Liste!$C$189,2),\"\")","v":""},null,null,{"$f":"IF(D2607>0,VLOOKUP(D2607,Liste!$A$10:$D$163,4),\"\")","v":""},null,null,null,""]
[null,{"$f":"IF(A2608>0,VLOOKUP(A2608,Liste!$B$179                         : Liste!$C$189,2),\"\")","v":""},null,null,{"$f":"IF(D2608>0,VLOOKUP(D2608,Liste!$A$10:$D$163,4),\"\")","v":""},null,null,null,""]
[null,{"$f":"IF(A2609>0,VLOOKUP(A2609,Liste!$B$179                         : Liste!$C$189,2),\"\")","v":""},null,null,{"$f":"IF(D2609>0,VLOOKUP(D2609,Liste!$A$10:$D$163,4),\"\")","v":""},null,null,null,""]
[null,{"$f":"IF(A2610>0,VLOOKUP(A2610,Liste!$B$179                         : Liste!$C$189,2),\"\")","v":""},null,null,{"$f":"IF(D2610>0,VLOOKUP(D2610,Liste!$A$10:$D$163,4),\"\")","v":""},null,null,null,""]
[null,{"$f":"IF(A2611>0,VLOOKUP(A2611,Liste!$B$179                         : Liste!$C$189,2),\"\")","v":""},null,null,{"$f":"IF(D2611>0,VLOOKUP(D2611,Liste!$A$10:$D$163,4),\"\")","v":""},null,null,null,""]
[null,{"$f":"IF(A2612>0,VLOOKUP(A2612,Liste!$B$179                         : Liste!$C$189,2),\"\")","v":""},null,null,{"$f":"IF(D2612>0,VLOOKUP(D2612,Liste!$A$10:$D$163,4),\"\")","v":""},null,null,null,""]
[null,{"$f":"IF(A2613>0,VLOOKUP(A2613,Liste!$B$179                         : Liste!$C$189,2),\"\")","v":""},null,null,{"$f":"IF(D2613>0,VLOOKUP(D2613,Liste!$A$10:$D$163,4),\"\")","v":""},null,null,null,""]
[null,{"$f":"IF(A2614>0,VLOOKUP(A2614,Liste!$B$179                         : Liste!$C$189,2),\"\")","v":""},null,null,{"$f":"IF(D2614>0,VLOOKUP(D2614,Liste!$A$10:$D$163,4),\"\")","v":""},null,null,null,""]
[null,{"$f":"IF(A2615>0,VLOOKUP(A2615,Liste!$B$179                         : Liste!$C$189,2),\"\")","v":""},null,null,{"$f":"IF(D2615>0,VLOOKUP(D2615,Liste!$A$10:$D$163,4),\"\")","v":""},null,null,null,""]
[null,{"$f":"IF(A2616>0,VLOOKUP(A2616,Liste!$B$179                         : Liste!$C$189,2),\"\")","v":""},null,null,{"$f":"IF(D2616>0,VLOOKUP(D2616,Liste!$A$10:$D$163,4),\"\")","v":""},null,null,null,""]
[null,{"$f":"IF(A2617>0,VLOOKUP(A2617,Liste!$B$179                         : Liste!$C$189,2),\"\")","v":""},null,null,{"$f":"IF(D2617>0,VLOOKUP(D2617,Liste!$A$10:$D$163,4),\"\")","v":""},null,null,null,""]
[null,{"$f":"IF(A2618>0,VLOOKUP(A2618,Liste!$B$179                         : Liste!$C$189,2),\"\")","v":""},null,null,{"$f":"IF(D2618>0,VLOOKUP(D2618,Liste!$A$10:$D$163,4),\"\")","v":""},null,null,null,""]
[null,{"$f":"IF(A2619>0,VLOOKUP(A2619,Liste!$B$179                         : Liste!$C$189,2),\"\")","v":""},null,null,{"$f":"IF(D2619>0,VLOOKUP(D2619,Liste!$A$10:$D$163,4),\"\")","v":""},null,null,null,""]
[null,{"$f":"IF(A2620>0,VLOOKUP(A2620,Liste!$B$179                         : Liste!$C$189,2),\"\")","v":""},null,null,{"$f":"IF(D2620>0,VLOOKUP(D2620,Liste!$A$10:$D$163,4),\"\")","v":""},null,null,null,""]
[null,{"$f":"IF(A2621>0,VLOOKUP(A2621,Liste!$B$179                         : Liste!$C$189,2),\"\")","v":""},null,null,{"$f":"IF(D2621>0,VLOOKUP(D2621,Liste!$A$10:$D$163,4),\"\")","v":""},null,null,null,""]
[null,{"$f":"IF(A2622>0,VLOOKUP(A2622,Liste!$B$179                         : Liste!$C$189,2),\"\")","v":""},null,null,{"$f":"IF(D2622>0,VLOOKUP(D2622,Liste!$A$10:$D$163,4),\"\")","v":""},null,null,null,""]
[null,{"$f":"IF(A2623>0,VLOOKUP(A2623,Liste!$B$179                         : Liste!$C$189,2),\"\")","v":""},null,null,{"$f":"IF(D2623>0,VLOOKUP(D2623,Liste!$A$10:$D$163,4),\"\")","v":""},null,null,null,""]
[null,{"$f":"IF(A2624>0,VLOOKUP(A2624,Liste!$B$179                         : Liste!$C$189,2),\"\")","v":""},null,null,{"$f":"IF(D2624>0,VLOOKUP(D2624,Liste!$A$10:$D$163,4),\"\")","v":""},null,null,null,""]
[null,{"$f":"IF(A2625>0,VLOOKUP(A2625,Liste!$B$179                         : Liste!$C$189,2),\"\")","v":""},null,null,{"$f":"IF(D2625>0,VLOOKUP(D2625,Liste!$A$10:$D$163,4),\"\")","v":""},null,null,null,""]
[null,{"$f":"IF(A2626>0,VLOOKUP(A2626,Liste!$B$179                         : Liste!$C$189,2),\"\")","v":""},null,null,{"$f":"IF(D2626>0,VLOOKUP(D2626,Liste!$A$10:$D$163,4),\"\")","v":""},null,null,null,""]
[null,{"$f":"IF(A2627>0,VLOOKUP(A2627,Liste!$B$179                         : Liste!$C$189,2),\"\")","v":""},null,null,{"$f":"IF(D2627>0,VLOOKUP(D2627,Liste!$A$10:$D$163,4),\"\")","v":""},null,null,null,""]
[null,{"$f":"IF(A2628>0,VLOOKUP(A2628,Liste!$B$179                         : Liste!$C$189,2),\"\")","v":""},null,null,{"$f":"IF(D2628>0,VLOOKUP(D2628,Liste!$A$10:$D$163,4),\"\")","v":""},null,null,null,""]
[null,{"$f":"IF(A2629>0,VLOOKUP(A2629,Liste!$B$179                         : Liste!$C$189,2),\"\")","v":""},null,null,{"$f":"IF(D2629>0,VLOOKUP(D2629,Liste!$A$10:$D$163,4),\"\")","v":""},null,null,null,""]
[null,{"$f":"IF(A2630>0,VLOOKUP(A2630,Liste!$B$179                         : Liste!$C$189,2),\"\")","v":""},null,null,{"$f":"IF(D2630>0,VLOOKUP(D2630,Liste!$A$10:$D$163,4),\"\")","v":""},null,null,null,{"$f":"IF(AND(D2630>0,F2630+G2630+H2630=0),\"EN ATTENTE\",IF(F2630+G2630+H2630>1,\"ERREUR\",\"\"))","v":""}]
[null,{"$f":"IF(A2631>0,VLOOKUP(A2631,Liste!$B$179                         : Liste!$C$189,2),\"\")","v":""},null,null,{"$f":"IF(D2631>0,VLOOKUP(D2631,Liste!$A$10:$D$163,4),\"\")","v":""},null,null,null,""]
[null,{"$f":"IF(A2632>0,VLOOKUP(A2632,Liste!$B$179                         : Liste!$C$189,2),\"\")","v":""},null,null,{"$f":"IF(D2632>0,VLOOKUP(D2632,Liste!$A$10:$D$163,4),\"\")","v":""},null,null,null,""]
[null,{"$f":"IF(A2633>0,VLOOKUP(A2633,Liste!$B$179                         : Liste!$C$189,2),\"\")","v":""},null,null,{"$f":"IF(D2633>0,VLOOKUP(D2633,Liste!$A$10:$D$163,4),\"\")","v":""},null,null,null,""]
[null,{"$f":"IF(A2634>0,VLOOKUP(A2634,Liste!$B$179                         : Liste!$C$189,2),\"\")","v":""},null,null,{"$f":"IF(D2634>0,VLOOKUP(D2634,Liste!$A$10:$D$163,4),\"\")","v":""},null,null,null,""]
[null,{"$f":"IF(A2635>0,VLOOKUP(A2635,Liste!$B$179                         : Liste!$C$189,2),\"\")","v":""},null,null,{"$f":"IF(D2635>0,VLOOKUP(D2635,Liste!$A$10:$D$163,4),\"\")","v":""},null,null,null,""]
[null,{"$f":"IF(A2636>0,VLOOKUP(A2636,Liste!$B$179                         : Liste!$C$189,2),\"\")","v":""},null,null,{"$f":"IF(D2636>0,VLOOKUP(D2636,Liste!$A$10:$D$163,4),\"\")","v":""},null,null,null,""]
[null,{"$f":"IF(A2637>0,VLOOKUP(A2637,Liste!$B$179                         : Liste!$C$189,2),\"\")","v":""},null,null,{"$f":"IF(D2637>0,VLOOKUP(D2637,Liste!$A$10:$D$163,4),\"\")","v":""},null,null,null,""]
[null,{"$f":"IF(A2638>0,VLOOKUP(A2638,Liste!$B$179                         : Liste!$C$189,2),\"\")","v":""},null,null,{"$f":"IF(D2638>0,VLOOKUP(D2638,Liste!$A$10:$D$163,4),\"\")","v":""},null,null,null,""]
[null,{"$f":"IF(A2639>0,VLOOKUP(A2639,Liste!$B$179                         : Liste!$C$189,2),\"\")","v":""},null,null,{"$f":"IF(D2639>0,VLOOKUP(D2639,Liste!$A$10:$D$163,4),\"\")","v":""},null,null,null,""]
[null,{"$f":"IF(A2640>0,VLOOKUP(A2640,Liste!$B$179                         : Liste!$C$189,2),\"\")","v":""},null,null,{"$f":"IF(D2640>0,VLOOKUP(D2640,Liste!$A$10:$D$163,4),\"\")","v":""},null,null,null,""]
[null,{"$f":"IF(A2641>0,VLOOKUP(A2641,Liste!$B$179                         : Liste!$C$189,2),\"\")","v":""},null,null,{"$f":"IF(D2641>0,VLOOKUP(D2641,Liste!$A$10:$D$163,4),\"\")","v":""},null,null,null,""]
[null,{"$f":"IF(A2642>0,VLOOKUP(A2642,Liste!$B$179                         : Liste!$C$189,2),\"\")","v":""},null,null,{"$f":"IF(D2642>0,VLOOKUP(D2642,Liste!$A$10:$D$163,4),\"\")","v":""},null,null,null,""]
[null,{"$f":"IF(A2643>0,VLOOKUP(A2643,Liste!$B$179                         : Liste!$C$189,2),\"\")","v":""},null,null,{"$f":"IF(D2643>0,VLOOKUP(D2643,Liste!$A$10:$D$163,4),\"\")","v":""},null,null,null,""]
[null,{"$f":"IF(A2644>0,VLOOKUP(A2644,Liste!$B$179                         : Liste!$C$189,2),\"\")","v":""},null,null,{"$f":"IF(D2644>0,VLOOKUP(D2644,Liste!$A$10:$D$163,4),\"\")","v":""},null,null,null,""]
[null,{"$f":"IF(A2645>0,VLOOKUP(A2645,Liste!$B$179                         : Liste!$C$189,2),\"\")","v":""},null,null,{"$f":"IF(D2645>0,VLOOKUP(D2645,Liste!$A$10:$D$163,4),\"\")","v":""},null,null,null,""]
[null,{"$f":"IF(A2646>0,VLOOKUP(A2646,Liste!$B$179                         : Liste!$C$189,2),\"\")","v":""},null,null,{"$f":"IF(D2646>0,VLOOKUP(D2646,Liste!$A$10:$D$163,4),\"\")","v":""},null,null,null,""]
[null,{"$f":"IF(A2647>0,VLOOKUP(A2647,Liste!$B$179                         : Liste!$C$189,2),\"\")","v":""},null,null,{"$f":"IF(D2647>0,VLOOKUP(D2647,Liste!$A$10:$D$163,4),\"\")","v":""},null,null,null,""]
[null,{"$f":"IF(A2648>0,VLOOKUP(A2648,Liste!$B$179                         : Liste!$C$189,2),\"\")","v":""},null,null,{"$f":"IF(D2648>0,VLOOKUP(D2648,Liste!$A$10:$D$163,4),\"\")","v":""},null,null,null,""]
[null,{"$f":"IF(A2649>0,VLOOKUP(A2649,Liste!$B$179                         : Liste!$C$189,2),\"\")","v":""},null,null,{"$f":"IF(D2649>0,VLOOKUP(D2649,Liste!$A$10:$D$163,4),\"\")","v":""},null,null,null,""]
[null,{"$f":"IF(A2650>0,VLOOKUP(A2650,Liste!$B$179                         : Liste!$C$189,2),\"\")","v":""},null,null,{"$f":"IF(D2650>0,VLOOKUP(D2650,Liste!$A$10:$D$163,4),\"\")","v":""},null,null,null,""]
[null,{"$f":"IF(A2651>0,VLOOKUP(A2651,Liste!$B$179                         : Liste!$C$189,2),\"\")","v":""},null,null,{"$f":"IF(D2651>0,VLOOKUP(D2651,Liste!$A$10:$D$163,4),\"\")","v":""},null,null,null,""]
[null,{"$f":"IF(A2652>0,VLOOKUP(A2652,Liste!$B$179                         : Liste!$C$189,2),\"\")","v":""},null,null,{"$f":"IF(D2652>0,VLOOKUP(D2652,Liste!$A$10:$D$163,4),\"\")","v":""},null,null,null,""]
[null,{"$f":"IF(A2653>0,VLOOKUP(A2653,Liste!$B$179                         : Liste!$C$189,2),\"\")","v":""},null,null,{"$f":"IF(D2653>0,VLOOKUP(D2653,Liste!$A$10:$D$163,4),\"\")","v":""},null,null,null,""]
[null,{"$f":"IF(A2654>0,VLOOKUP(A2654,Liste!$B$179                         : Liste!$C$189,2),\"\")","v":""},null,null,{"$f":"IF(D2654>0,VLOOKUP(D2654,Liste!$A$10:$D$163,4),\"\")","v":""},null,null,null,""]
[null,{"$f":"IF(A2655>0,VLOOKUP(A2655,Liste!$B$179                         : Liste!$C$189,2),\"\")","v":""},null,null,{"$f":"IF(D2655>0,VLOOKUP(D2655,Liste!$A$10:$D$163,4),\"\")","v":""},null,null,null,""]
[null,{"$f":"IF(A2656>0,VLOOKUP(A2656,Liste!$B$179                         : Liste!$C$189,2),\"\")","v":""},null,null,{"$f":"IF(D2656>0,VLOOKUP(D2656,Liste!$A$10:$D$163,4),\"\")","v":""},null,null,null,""]
[null,{"$f":"IF(A2657>0,VLOOKUP(A2657,Liste!$B$179                         : Liste!$C$189,2),\"\")","v":""},null,null,{"$f":"IF(D2657>0,VLOOKUP(D2657,Liste!$A$10:$D$163,4),\"\")","v":""},null,null,null,""]
[null,{"$f":"IF(A2658>0,VLOOKUP(A2658,Liste!$B$179                         : Liste!$C$189,2),\"\")","v":""},null,null,{"$f":"IF(D2658>0,VLOOKUP(D2658,Liste!$A$10:$D$163,4),\"\")","v":""},null,null,null,""]
[null,{"$f":"IF(A2659>0,VLOOKUP(A2659,Liste!$B$179                         : Liste!$C$189,2),\"\")","v":""},null,null,{"$f":"IF(D2659>0,VLOOKUP(D2659,Liste!$A$10:$D$163,4),\"\")","v":""},null,null,null,""]
[null,{"$f":"IF(A2660>0,VLOOKUP(A2660,Liste!$B$179                         : Liste!$C$189,2),\"\")","v":""},null,null,{"$f":"IF(D2660>0,VLOOKUP(D2660,Liste!$A$10:$D$163,4),\"\")","v":""},null,null,null,""]
[null,{"$f":"IF(A2661>0,VLOOKUP(A2661,Liste!$B$179                         : Liste!$C$189,2),\"\")","v":""},null,null,{"$f":"IF(D2661>0,VLOOKUP(D2661,Liste!$A$10:$D$163,4),\"\")","v":""},null,null,null,""]
[null,{"$f":"IF(A2662>0,VLOOKUP(A2662,Liste!$B$179                         : Liste!$C$189,2),\"\")","v":""},null,null,{"$f":"IF(D2662>0,VLOOKUP(D2662,Liste!$A$10:$D$163,4),\"\")","v":""},null,null,null,""]
[null,{"$f":"IF(A2663>0,VLOOKUP(A2663,Liste!$B$179                         : Liste!$C$189,2),\"\")","v":""},null,null,{"$f":"IF(D2663>0,VLOOKUP(D2663,Liste!$A$10:$D$163,4),\"\")","v":""},null,null,null,""]
[null,{"$f":"IF(A2664>0,VLOOKUP(A2664,Liste!$B$179                         : Liste!$C$189,2),\"\")","v":""},null,null,{"$f":"IF(D2664>0,VLOOKUP(D2664,Liste!$A$10:$D$163,4),\"\")","v":""},null,null,null,""]
[null,{"$f":"IF(A2665>0,VLOOKUP(A2665,Liste!$B$179                         : Liste!$C$189,2),\"\")","v":""},null,null,{"$f":"IF(D2665>0,VLOOKUP(D2665,Liste!$A$10:$D$163,4),\"\")","v":""},null,null,null,""]
[null,{"$f":"IF(A2666>0,VLOOKUP(A2666,Liste!$B$179                         : Liste!$C$189,2),\"\")","v":""},null,null,{"$f":"IF(D2666>0,VLOOKUP(D2666,Liste!$A$10:$D$163,4),\"\")","v":""},null,null,null,""]
[null,{"$f":"IF(A2667>0,VLOOKUP(A2667,Liste!$B$179                         : Liste!$C$189,2),\"\")","v":""},null,null,{"$f":"IF(D2667>0,VLOOKUP(D2667,Liste!$A$10:$D$163,4),\"\")","v":""},null,null,null,""]
[null,{"$f":"IF(A2668>0,VLOOKUP(A2668,Liste!$B$179                         : Liste!$C$189,2),\"\")","v":""},null,null,{"$f":"IF(D2668>0,VLOOKUP(D2668,Liste!$A$10:$D$163,4),\"\")","v":""},null,null,null,""]
[null,{"$f":"IF(A2669>0,VLOOKUP(A2669,Liste!$B$179                         : Liste!$C$189,2),\"\")","v":""},null,null,{"$f":"IF(D2669>0,VLOOKUP(D2669,Liste!$A$10:$D$163,4),\"\")","v":""},null,null,null,""]
[null,{"$f":"IF(A2670>0,VLOOKUP(A2670,Liste!$B$179                         : Liste!$C$189,2),\"\")","v":""},null,null,{"$f":"IF(D2670>0,VLOOKUP(D2670,Liste!$A$10:$D$163,4),\"\")","v":""},null,null,null,""]
[null,{"$f":"IF(A2671>0,VLOOKUP(A2671,Liste!$B$179                         : Liste!$C$189,2),\"\")","v":""},null,null,{"$f":"IF(D2671>0,VLOOKUP(D2671,Liste!$A$10:$D$163,4),\"\")","v":""},null,null,null,""]
[null,{"$f":"IF(A2672>0,VLOOKUP(A2672,Liste!$B$179                         : Liste!$C$189,2),\"\")","v":""},null,null,{"$f":"IF(D2672>0,VLOOKUP(D2672,Liste!$A$10:$D$163,4),\"\")","v":""},null,null,null,""]
[null,{"$f":"IF(A2673>0,VLOOKUP(A2673,Liste!$B$179                         : Liste!$C$189,2),\"\")","v":""},null,null,{"$f":"IF(D2673>0,VLOOKUP(D2673,Liste!$A$10:$D$163,4),\"\")","v":""},null,null,null,""]
[null,{"$f":"IF(A2674>0,VLOOKUP(A2674,Liste!$B$179                         : Liste!$C$189,2),\"\")","v":""},null,null,{"$f":"IF(D2674>0,VLOOKUP(D2674,Liste!$A$10:$D$163,4),\"\")","v":""},null,null,null,""]
[null,{"$f":"IF(A2675>0,VLOOKUP(A2675,Liste!$B$179                         : Liste!$C$189,2),\"\")","v":""},null,null,{"$f":"IF(D2675>0,VLOOKUP(D2675,Liste!$A$10:$D$163,4),\"\")","v":""},null,null,null,""]
[null,{"$f":"IF(A2676>0,VLOOKUP(A2676,Liste!$B$179                         : Liste!$C$189,2),\"\")","v":""},null,null,{"$f":"IF(D2676>0,VLOOKUP(D2676,Liste!$A$10:$D$163,4),\"\")","v":""},null,null,null,""]
[null,{"$f":"IF(A2677>0,VLOOKUP(A2677,Liste!$B$179                         : Liste!$C$189,2),\"\")","v":""},null,null,{"$f":"IF(D2677>0,VLOOKUP(D2677,Liste!$A$10:$D$163,4),\"\")","v":""},null,null,null,""]
[null,{"$f":"IF(A2678>0,VLOOKUP(A2678,Liste!$B$179                         : Liste!$C$189,2),\"\")","v":""},null,null,{"$f":"IF(D2678>0,VLOOKUP(D2678,Liste!$A$10:$D$163,4),\"\")","v":""},null,null,null,""]
[null,{"$f":"IF(A2679>0,VLOOKUP(A2679,Liste!$B$179                         : Liste!$C$189,2),\"\")","v":""},null,null,{"$f":"IF(D2679>0,VLOOKUP(D2679,Liste!$A$10:$D$163,4),\"\")","v":""},null,null,null,""]
[null,{"$f":"IF(A2680>0,VLOOKUP(A2680,Liste!$B$179                         : Liste!$C$189,2),\"\")","v":""},null,null,{"$f":"IF(D2680>0,VLOOKUP(D2680,Liste!$A$10:$D$163,4),\"\")","v":""},null,null,null,""]
[null,{"$f":"IF(A2681>0,VLOOKUP(A2681,Liste!$B$179                         : Liste!$C$189,2),\"\")","v":""},null,null,{"$f":"IF(D2681>0,VLOOKUP(D2681,Liste!$A$10:$D$163,4),\"\")","v":""},null,null,null,""]
[null,{"$f":"IF(A2682>0,VLOOKUP(A2682,Liste!$B$179                         : Liste!$C$189,2),\"\")","v":""},null,null,{"$f":"IF(D2682>0,VLOOKUP(D2682,Liste!$A$10:$D$163,4),\"\")","v":""},null,null,null,""]
[null,{"$f":"IF(A2683>0,VLOOKUP(A2683,Liste!$B$179                         : Liste!$C$189,2),\"\")","v":""},null,null,{"$f":"IF(D2683>0,VLOOKUP(D2683,Liste!$A$10:$D$163,4),\"\")","v":""},null,null,null,""]
[null,{"$f":"IF(A2684>0,VLOOKUP(A2684,Liste!$B$179                         : Liste!$C$189,2),\"\")","v":""},null,null,{"$f":"IF(D2684>0,VLOOKUP(D2684,Liste!$A$10:$D$163,4),\"\")","v":""},null,null,null,""]
[null,{"$f":"IF(A2685>0,VLOOKUP(A2685,Liste!$B$179                         : Liste!$C$189,2),\"\")","v":""},null,null,{"$f":"IF(D2685>0,VLOOKUP(D2685,Liste!$A$10:$D$163,4),\"\")","v":""},null,null,null,""]
[null,{"$f":"IF(A2686>0,VLOOKUP(A2686,Liste!$B$179                         : Liste!$C$189,2),\"\")","v":""},null,null,{"$f":"IF(D2686>0,VLOOKUP(D2686,Liste!$A$10:$D$163,4),\"\")","v":""},null,null,null,""]
[null,{"$f":"IF(A2687>0,VLOOKUP(A2687,Liste!$B$179                         : Liste!$C$189,2),\"\")","v":""},null,null,{"$f":"IF(D2687>0,VLOOKUP(D2687,Liste!$A$10:$D$163,4),\"\")","v":""},null,null,null,""]
[null,{"$f":"IF(A2688>0,VLOOKUP(A2688,Liste!$B$179                         : Liste!$C$189,2),\"\")","v":""},null,null,{"$f":"IF(D2688>0,VLOOKUP(D2688,Liste!$A$10:$D$163,4),\"\")","v":""},null,null,null,""]
[null,{"$f":"IF(A2689>0,VLOOKUP(A2689,Liste!$B$179                         : Liste!$C$189,2),\"\")","v":""},null,null,{"$f":"IF(D2689>0,VLOOKUP(D2689,Liste!$A$10:$D$163,4),\"\")","v":""},null,null,null,""]
[null,{"$f":"IF(A2690>0,VLOOKUP(A2690,Liste!$B$179                         : Liste!$C$189,2),\"\")","v":""},null,null,{"$f":"IF(D2690>0,VLOOKUP(D2690,Liste!$A$10:$D$163,4),\"\")","v":""},null,null,null,""]
[null,{"$f":"IF(A2691>0,VLOOKUP(A2691,Liste!$B$179                         : Liste!$C$189,2),\"\")","v":""},null,null,{"$f":"IF(D2691>0,VLOOKUP(D2691,Liste!$A$10:$D$163,4),\"\")","v":""},null,null,null,""]
[null,{"$f":"IF(A2692>0,VLOOKUP(A2692,Liste!$B$179                         : Liste!$C$189,2),\"\")","v":""},null,null,{"$f":"IF(D2692>0,VLOOKUP(D2692,Liste!$A$10:$D$163,4),\"\")","v":""},null,null,null,""]
[null,{"$f":"IF(A2693>0,VLOOKUP(A2693,Liste!$B$179                         : Liste!$C$189,2),\"\")","v":""},null,null,{"$f":"IF(D2693>0,VLOOKUP(D2693,Liste!$A$10:$D$163,4),\"\")","v":""},null,null,null,""]
[null,{"$f":"IF(A2694>0,VLOOKUP(A2694,Liste!$B$179                         : Liste!$C$189,2),\"\")","v":""},null,null,{"$f":"IF(D2694>0,VLOOKUP(D2694,Liste!$A$10:$D$163,4),\"\")","v":""},null,null,null,{"$f":"IF(AND(D2694>0,F2694+G2694+H2694=0),\"EN ATTENTE\",IF(F2694+G2694+H2694>1,\"ERREUR\",\"\"))","v":""}]
[null,{"$f":"IF(A2695>0,VLOOKUP(A2695,Liste!$B$179                         : Liste!$C$189,2),\"\")","v":""},null,null,{"$f":"IF(D2695>0,VLOOKUP(D2695,Liste!$A$10:$D$163,4),\"\")","v":""},null,null,null,""]
[null,{"$f":"IF(A2696>0,VLOOKUP(A2696,Liste!$B$179                         : Liste!$C$189,2),\"\")","v":""},null,null,{"$f":"IF(D2696>0,VLOOKUP(D2696,Liste!$A$10:$D$163,4),\"\")","v":""},null,null,null,""]
[null,{"$f":"IF(A2697>0,VLOOKUP(A2697,Liste!$B$179                         : Liste!$C$189,2),\"\")","v":""},null,null,{"$f":"IF(D2697>0,VLOOKUP(D2697,Liste!$A$10:$D$163,4),\"\")","v":""},null,null,null,""]
[null,{"$f":"IF(A2698>0,VLOOKUP(A2698,Liste!$B$179                         : Liste!$C$189,2),\"\")","v":""},null,null,{"$f":"IF(D2698>0,VLOOKUP(D2698,Liste!$A$10:$D$163,4),\"\")","v":""},null,null,null,""]
[null,{"$f":"IF(A2699>0,VLOOKUP(A2699,Liste!$B$179                         : Liste!$C$189,2),\"\")","v":""},null,null,{"$f":"IF(D2699>0,VLOOKUP(D2699,Liste!$A$10:$D$163,4),\"\")","v":""},null,null,null,""]
[null,{"$f":"IF(A2700>0,VLOOKUP(A2700,Liste!$B$179                         : Liste!$C$189,2),\"\")","v":""},null,null,{"$f":"IF(D2700>0,VLOOKUP(D2700,Liste!$A$10:$D$163,4),\"\")","v":""},null,null,null,""]
[null,{"$f":"IF(A2701>0,VLOOKUP(A2701,Liste!$B$179                         : Liste!$C$189,2),\"\")","v":""},null,null,{"$f":"IF(D2701>0,VLOOKUP(D2701,Liste!$A$10:$D$163,4),\"\")","v":""},null,null,null,""]
[null,{"$f":"IF(A2702>0,VLOOKUP(A2702,Liste!$B$179                         : Liste!$C$189,2),\"\")","v":""},null,null,{"$f":"IF(D2702>0,VLOOKUP(D2702,Liste!$A$10:$D$163,4),\"\")","v":""},null,null,null,""]
[null,{"$f":"IF(A2703>0,VLOOKUP(A2703,Liste!$B$179                         : Liste!$C$189,2),\"\")","v":""},null,null,{"$f":"IF(D2703>0,VLOOKUP(D2703,Liste!$A$10:$D$163,4),\"\")","v":""},null,null,null,""]
[null,{"$f":"IF(A2704>0,VLOOKUP(A2704,Liste!$B$179                         : Liste!$C$189,2),\"\")","v":""},null,null,{"$f":"IF(D2704>0,VLOOKUP(D2704,Liste!$A$10:$D$163,4),\"\")","v":""},null,null,null,""]
[null,{"$f":"IF(A2705>0,VLOOKUP(A2705,Liste!$B$179                         : Liste!$C$189,2),\"\")","v":""},null,null,{"$f":"IF(D2705>0,VLOOKUP(D2705,Liste!$A$10:$D$163,4),\"\")","v":""},null,null,null,""]
[null,{"$f":"IF(A2706>0,VLOOKUP(A2706,Liste!$B$179                         : Liste!$C$189,2),\"\")","v":""},null,null,{"$f":"IF(D2706>0,VLOOKUP(D2706,Liste!$A$10:$D$163,4),\"\")","v":""},null,null,null,""]
[null,{"$f":"IF(A2707>0,VLOOKUP(A2707,Liste!$B$179                         : Liste!$C$189,2),\"\")","v":""},null,null,{"$f":"IF(D2707>0,VLOOKUP(D2707,Liste!$A$10:$D$163,4),\"\")","v":""},null,null,null,""]
[null,{"$f":"IF(A2708>0,VLOOKUP(A2708,Liste!$B$179                         : Liste!$C$189,2),\"\")","v":""},null,null,{"$f":"IF(D2708>0,VLOOKUP(D2708,Liste!$A$10:$D$163,4),\"\")","v":""},null,null,null,""]
[null,{"$f":"IF(A2709>0,VLOOKUP(A2709,Liste!$B$179                         : Liste!$C$189,2),\"\")","v":""},null,null,{"$f":"IF(D2709>0,VLOOKUP(D2709,Liste!$A$10:$D$163,4),\"\")","v":""},null,null,null,""]
[null,{"$f":"IF(A2710>0,VLOOKUP(A2710,Liste!$B$179                         : Liste!$C$189,2),\"\")","v":""},null,null,{"$f":"IF(D2710>0,VLOOKUP(D2710,Liste!$A$10:$D$163,4),\"\")","v":""},null,null,null,""]
[null,{"$f":"IF(A2711>0,VLOOKUP(A2711,Liste!$B$179                         : Liste!$C$189,2),\"\")","v":""},null,null,{"$f":"IF(D2711>0,VLOOKUP(D2711,Liste!$A$10:$D$163,4),\"\")","v":""},null,null,null,""]
[null,{"$f":"IF(A2712>0,VLOOKUP(A2712,Liste!$B$179                         : Liste!$C$189,2),\"\")","v":""},null,null,{"$f":"IF(D2712>0,VLOOKUP(D2712,Liste!$A$10:$D$163,4),\"\")","v":""},null,null,null,""]
[null,{"$f":"IF(A2713>0,VLOOKUP(A2713,Liste!$B$179                         : Liste!$C$189,2),\"\")","v":""},null,null,{"$f":"IF(D2713>0,VLOOKUP(D2713,Liste!$A$10:$D$163,4),\"\")","v":""},null,null,null,""]
[null,{"$f":"IF(A2714>0,VLOOKUP(A2714,Liste!$B$179                         : Liste!$C$189,2),\"\")","v":""},null,null,{"$f":"IF(D2714>0,VLOOKUP(D2714,Liste!$A$10:$D$163,4),\"\")","v":""},null,null,null,""]
[null,{"$f":"IF(A2715>0,VLOOKUP(A2715,Liste!$B$179                         : Liste!$C$189,2),\"\")","v":""},null,null,{"$f":"IF(D2715>0,VLOOKUP(D2715,Liste!$A$10:$D$163,4),\"\")","v":""},null,null,null,""]
[null,{"$f":"IF(A2716>0,VLOOKUP(A2716,Liste!$B$179                         : Liste!$C$189,2),\"\")","v":""},null,null,{"$f":"IF(D2716>0,VLOOKUP(D2716,Liste!$A$10:$D$163,4),\"\")","v":""},null,null,null,""]
[null,{"$f":"IF(A2717>0,VLOOKUP(A2717,Liste!$B$179                         : Liste!$C$189,2),\"\")","v":""},null,null,{"$f":"IF(D2717>0,VLOOKUP(D2717,Liste!$A$10:$D$163,4),\"\")","v":""},null,null,null,""]
[null,{"$f":"IF(A2718>0,VLOOKUP(A2718,Liste!$B$179                         : Liste!$C$189,2),\"\")","v":""},null,null,{"$f":"IF(D2718>0,VLOOKUP(D2718,Liste!$A$10:$D$163,4),\"\")","v":""},null,null,null,""]
[null,{"$f":"IF(A2719>0,VLOOKUP(A2719,Liste!$B$179                         : Liste!$C$189,2),\"\")","v":""},null,null,{"$f":"IF(D2719>0,VLOOKUP(D2719,Liste!$A$10:$D$163,4),\"\")","v":""},null,null,null,""]
[null,{"$f":"IF(A2720>0,VLOOKUP(A2720,Liste!$B$179                         : Liste!$C$189,2),\"\")","v":""},null,null,{"$f":"IF(D2720>0,VLOOKUP(D2720,Liste!$A$10:$D$163,4),\"\")","v":""},null,null,null,""]
[null,{"$f":"IF(A2721>0,VLOOKUP(A2721,Liste!$B$179                         : Liste!$C$189,2),\"\")","v":""},null,null,{"$f":"IF(D2721>0,VLOOKUP(D2721,Liste!$A$10:$D$163,4),\"\")","v":""},null,null,null,""]
[null,{"$f":"IF(A2722>0,VLOOKUP(A2722,Liste!$B$179                         : Liste!$C$189,2),\"\")","v":""},null,null,{"$f":"IF(D2722>0,VLOOKUP(D2722,Liste!$A$10:$D$163,4),\"\")","v":""},null,null,null,""]
[null,{"$f":"IF(A2723>0,VLOOKUP(A2723,Liste!$B$179                         : Liste!$C$189,2),\"\")","v":""},null,null,{"$f":"IF(D2723>0,VLOOKUP(D2723,Liste!$A$10:$D$163,4),\"\")","v":""},null,null,null,""]
[null,{"$f":"IF(A2724>0,VLOOKUP(A2724,Liste!$B$179                         : Liste!$C$189,2),\"\")","v":""},null,null,{"$f":"IF(D2724>0,VLOOKUP(D2724,Liste!$A$10:$D$163,4),\"\")","v":""},null,null,null,""]
[null,{"$f":"IF(A2725>0,VLOOKUP(A2725,Liste!$B$179                         : Liste!$C$189,2),\"\")","v":""},null,null,{"$f":"IF(D2725>0,VLOOKUP(D2725,Liste!$A$10:$D$163,4),\"\")","v":""},null,null,null,""]
[null,{"$f":"IF(A2726>0,VLOOKUP(A2726,Liste!$B$179                         : Liste!$C$189,2),\"\")","v":""},null,null,{"$f":"IF(D2726>0,VLOOKUP(D2726,Liste!$A$10:$D$163,4),\"\")","v":""},null,null,null,""]
[null,{"$f":"IF(A2727>0,VLOOKUP(A2727,Liste!$B$179                         : Liste!$C$189,2),\"\")","v":""},null,null,{"$f":"IF(D2727>0,VLOOKUP(D2727,Liste!$A$10:$D$163,4),\"\")","v":""},null,null,null,""]
[null,{"$f":"IF(A2728>0,VLOOKUP(A2728,Liste!$B$179                         : Liste!$C$189,2),\"\")","v":""},null,null,{"$f":"IF(D2728>0,VLOOKUP(D2728,Liste!$A$10:$D$163,4),\"\")","v":""},null,null,null,""]
[null,{"$f":"IF(A2729>0,VLOOKUP(A2729,Liste!$B$179                         : Liste!$C$189,2),\"\")","v":""},null,null,{"$f":"IF(D2729>0,VLOOKUP(D2729,Liste!$A$10:$D$163,4),\"\")","v":""},null,null,null,""]
[null,{"$f":"IF(A2730>0,VLOOKUP(A2730,Liste!$B$179                         : Liste!$C$189,2),\"\")","v":""},null,null,{"$f":"IF(D2730>0,VLOOKUP(D2730,Liste!$A$10:$D$163,4),\"\")","v":""},null,null,null,""]
[null,{"$f":"IF(A2731>0,VLOOKUP(A2731,Liste!$B$179                         : Liste!$C$189,2),\"\")","v":""},null,null,{"$f":"IF(D2731>0,VLOOKUP(D2731,Liste!$A$10:$D$163,4),\"\")","v":""},null,null,null,""]
[null,{"$f":"IF(A2732>0,VLOOKUP(A2732,Liste!$B$179                         : Liste!$C$189,2),\"\")","v":""},null,null,{"$f":"IF(D2732>0,VLOOKUP(D2732,Liste!$A$10:$D$163,4),\"\")","v":""},null,null,null,""]
[null,{"$f":"IF(A2733>0,VLOOKUP(A2733,Liste!$B$179                         : Liste!$C$189,2),\"\")","v":""},null,null,{"$f":"IF(D2733>0,VLOOKUP(D2733,Liste!$A$10:$D$163,4),\"\")","v":""},null,null,null,""]
[null,{"$f":"IF(A2734>0,VLOOKUP(A2734,Liste!$B$179                         : Liste!$C$189,2),\"\")","v":""},null,null,{"$f":"IF(D2734>0,VLOOKUP(D2734,Liste!$A$10:$D$163,4),\"\")","v":""},null,null,null,""]
[null,{"$f":"IF(A2735>0,VLOOKUP(A2735,Liste!$B$179                         : Liste!$C$189,2),\"\")","v":""},null,null,{"$f":"IF(D2735>0,VLOOKUP(D2735,Liste!$A$10:$D$163,4),\"\")","v":""},null,null,null,""]
[null,{"$f":"IF(A2736>0,VLOOKUP(A2736,Liste!$B$179                         : Liste!$C$189,2),\"\")","v":""},null,null,{"$f":"IF(D2736>0,VLOOKUP(D2736,Liste!$A$10:$D$163,4),\"\")","v":""},null,null,null,""]
[null,{"$f":"IF(A2737>0,VLOOKUP(A2737,Liste!$B$179                         : Liste!$C$189,2),\"\")","v":""},null,null,{"$f":"IF(D2737>0,VLOOKUP(D2737,Liste!$A$10:$D$163,4),\"\")","v":""},null,null,null,""]
[null,{"$f":"IF(A2738>0,VLOOKUP(A2738,Liste!$B$179                         : Liste!$C$189,2),\"\")","v":""},null,null,{"$f":"IF(D2738>0,VLOOKUP(D2738,Liste!$A$10:$D$163,4),\"\")","v":""},null,null,null,""]
[null,{"$f":"IF(A2739>0,VLOOKUP(A2739,Liste!$B$179                         : Liste!$C$189,2),\"\")","v":""},null,null,{"$f":"IF(D2739>0,VLOOKUP(D2739,Liste!$A$10:$D$163,4),\"\")","v":""},null,null,null,""]
[null,{"$f":"IF(A2740>0,VLOOKUP(A2740,Liste!$B$179                         : Liste!$C$189,2),\"\")","v":""},null,null,{"$f":"IF(D2740>0,VLOOKUP(D2740,Liste!$A$10:$D$163,4),\"\")","v":""},null,null,null,""]
[null,{"$f":"IF(A2741>0,VLOOKUP(A2741,Liste!$B$179                         : Liste!$C$189,2),\"\")","v":""},null,null,{"$f":"IF(D2741>0,VLOOKUP(D2741,Liste!$A$10:$D$163,4),\"\")","v":""},null,null,null,""]
[null,{"$f":"IF(A2742>0,VLOOKUP(A2742,Liste!$B$179                         : Liste!$C$189,2),\"\")","v":""},null,null,{"$f":"IF(D2742>0,VLOOKUP(D2742,Liste!$A$10:$D$163,4),\"\")","v":""},null,null,null,""]
[null,{"$f":"IF(A2743>0,VLOOKUP(A2743,Liste!$B$179                         : Liste!$C$189,2),\"\")","v":""},null,null,{"$f":"IF(D2743>0,VLOOKUP(D2743,Liste!$A$10:$D$163,4),\"\")","v":""},null,null,null,""]
[null,{"$f":"IF(A2744>0,VLOOKUP(A2744,Liste!$B$179                         : Liste!$C$189,2),\"\")","v":""},null,null,{"$f":"IF(D2744>0,VLOOKUP(D2744,Liste!$A$10:$D$163,4),\"\")","v":""},null,null,null,""]
[null,{"$f":"IF(A2745>0,VLOOKUP(A2745,Liste!$B$179                         : Liste!$C$189,2),\"\")","v":""},null,null,{"$f":"IF(D2745>0,VLOOKUP(D2745,Liste!$A$10:$D$163,4),\"\")","v":""},null,null,null,""]
[null,{"$f":"IF(A2746>0,VLOOKUP(A2746,Liste!$B$179                         : Liste!$C$189,2),\"\")","v":""},null,null,{"$f":"IF(D2746>0,VLOOKUP(D2746,Liste!$A$10:$D$163,4),\"\")","v":""},null,null,null,""]
[null,{"$f":"IF(A2747>0,VLOOKUP(A2747,Liste!$B$179                         : Liste!$C$189,2),\"\")","v":""},null,null,{"$f":"IF(D2747>0,VLOOKUP(D2747,Liste!$A$10:$D$163,4),\"\")","v":""},null,null,null,""]
[null,{"$f":"IF(A2748>0,VLOOKUP(A2748,Liste!$B$179                         : Liste!$C$189,2),\"\")","v":""},null,null,{"$f":"IF(D2748>0,VLOOKUP(D2748,Liste!$A$10:$D$163,4),\"\")","v":""},null,null,null,""]
[null,{"$f":"IF(A2749>0,VLOOKUP(A2749,Liste!$B$179                         : Liste!$C$189,2),\"\")","v":""},null,null,{"$f":"IF(D2749>0,VLOOKUP(D2749,Liste!$A$10:$D$163,4),\"\")","v":""},null,null,null,""]
[null,{"$f":"IF(A2750>0,VLOOKUP(A2750,Liste!$B$179                         : Liste!$C$189,2),\"\")","v":""},null,null,{"$f":"IF(D2750>0,VLOOKUP(D2750,Liste!$A$10:$D$163,4),\"\")","v":""},null,null,null,""]
[null,{"$f":"IF(A2751>0,VLOOKUP(A2751,Liste!$B$179                         : Liste!$C$189,2),\"\")","v":""},null,null,{"$f":"IF(D2751>0,VLOOKUP(D2751,Liste!$A$10:$D$163,4),\"\")","v":""},null,null,null,""]
[null,{"$f":"IF(A2752>0,VLOOKUP(A2752,Liste!$B$179                         : Liste!$C$189,2),\"\")","v":""},null,null,{"$f":"IF(D2752>0,VLOOKUP(D2752,Liste!$A$10:$D$163,4),\"\")","v":""},null,null,null,""]
[null,{"$f":"IF(A2753>0,VLOOKUP(A2753,Liste!$B$179                         : Liste!$C$189,2),\"\")","v":""},null,null,{"$f":"IF(D2753>0,VLOOKUP(D2753,Liste!$A$10:$D$163,4),\"\")","v":""},null,null,null,""]
[null,{"$f":"IF(A2754>0,VLOOKUP(A2754,Liste!$B$179                         : Liste!$C$189,2),\"\")","v":""},null,null,{"$f":"IF(D2754>0,VLOOKUP(D2754,Liste!$A$10:$D$163,4),\"\")","v":""},null,null,null,""]
[null,{"$f":"IF(A2755>0,VLOOKUP(A2755,Liste!$B$179                         : Liste!$C$189,2),\"\")","v":""},null,null,{"$f":"IF(D2755>0,VLOOKUP(D2755,Liste!$A$10:$D$163,4),\"\")","v":""},null,null,null,""]
[null,{"$f":"IF(A2756>0,VLOOKUP(A2756,Liste!$B$179                         : Liste!$C$189,2),\"\")","v":""},null,null,{"$f":"IF(D2756>0,VLOOKUP(D2756,Liste!$A$10:$D$163,4),\"\")","v":""},null,null,null,""]
[null,{"$f":"IF(A2757>0,VLOOKUP(A2757,Liste!$B$179                         : Liste!$C$189,2),\"\")","v":""},null,null,{"$f":"IF(D2757>0,VLOOKUP(D2757,Liste!$A$10:$D$163,4),\"\")","v":""},null,null,null,""]
[null,{"$f":"IF(A2758>0,VLOOKUP(A2758,Liste!$B$179                         : Liste!$C$189,2),\"\")","v":""},null,null,{"$f":"IF(D2758>0,VLOOKUP(D2758,Liste!$A$10:$D$163,4),\"\")","v":""},null,null,null,{"$f":"IF(AND(D2758>0,F2758+G2758+H2758=0),\"EN ATTENTE\",IF(F2758+G2758+H2758>1,\"ERREUR\",\"\"))","v":""}]
[null,{"$f":"IF(A2759>0,VLOOKUP(A2759,Liste!$B$179                         : Liste!$C$189,2),\"\")","v":""},null,null,{"$f":"IF(D2759>0,VLOOKUP(D2759,Liste!$A$10:$D$163,4),\"\")","v":""},null,null,null,""]
[null,{"$f":"IF(A2760>0,VLOOKUP(A2760,Liste!$B$179                         : Liste!$C$189,2),\"\")","v":""},null,null,{"$f":"IF(D2760>0,VLOOKUP(D2760,Liste!$A$10:$D$163,4),\"\")","v":""},null,null,null,""]
[null,{"$f":"IF(A2761>0,VLOOKUP(A2761,Liste!$B$179                         : Liste!$C$189,2),\"\")","v":""},null,null,{"$f":"IF(D2761>0,VLOOKUP(D2761,Liste!$A$10:$D$163,4),\"\")","v":""},null,null,null,""]
[null,{"$f":"IF(A2762>0,VLOOKUP(A2762,Liste!$B$179                         : Liste!$C$189,2),\"\")","v":""},null,null,{"$f":"IF(D2762>0,VLOOKUP(D2762,Liste!$A$10:$D$163,4),\"\")","v":""},null,null,null,""]
[null,{"$f":"IF(A2763>0,VLOOKUP(A2763,Liste!$B$179                         : Liste!$C$189,2),\"\")","v":""},null,null,{"$f":"IF(D2763>0,VLOOKUP(D2763,Liste!$A$10:$D$163,4),\"\")","v":""},null,null,null,""]
[null,{"$f":"IF(A2764>0,VLOOKUP(A2764,Liste!$B$179                         : Liste!$C$189,2),\"\")","v":""},null,null,{"$f":"IF(D2764>0,VLOOKUP(D2764,Liste!$A$10:$D$163,4),\"\")","v":""},null,null,null,""]
[null,{"$f":"IF(A2765>0,VLOOKUP(A2765,Liste!$B$179                         : Liste!$C$189,2),\"\")","v":""},null,null,{"$f":"IF(D2765>0,VLOOKUP(D2765,Liste!$A$10:$D$163,4),\"\")","v":""},null,null,null,""]
[null,{"$f":"IF(A2766>0,VLOOKUP(A2766,Liste!$B$179                         : Liste!$C$189,2),\"\")","v":""},null,null,{"$f":"IF(D2766>0,VLOOKUP(D2766,Liste!$A$10:$D$163,4),\"\")","v":""},null,null,null,""]
[null,{"$f":"IF(A2767>0,VLOOKUP(A2767,Liste!$B$179                         : Liste!$C$189,2),\"\")","v":""},null,null,{"$f":"IF(D2767>0,VLOOKUP(D2767,Liste!$A$10:$D$163,4),\"\")","v":""},null,null,null,""]
[null,{"$f":"IF(A2768>0,VLOOKUP(A2768,Liste!$B$179                         : Liste!$C$189,2),\"\")","v":""},null,null,{"$f":"IF(D2768>0,VLOOKUP(D2768,Liste!$A$10:$D$163,4),\"\")","v":""},null,null,null,""]
[null,{"$f":"IF(A2769>0,VLOOKUP(A2769,Liste!$B$179                         : Liste!$C$189,2),\"\")","v":""},null,null,{"$f":"IF(D2769>0,VLOOKUP(D2769,Liste!$A$10:$D$163,4),\"\")","v":""},null,null,null,""]
[null,{"$f":"IF(A2770>0,VLOOKUP(A2770,Liste!$B$179                         : Liste!$C$189,2),\"\")","v":""},null,null,{"$f":"IF(D2770>0,VLOOKUP(D2770,Liste!$A$10:$D$163,4),\"\")","v":""},null,null,null,""]
[null,{"$f":"IF(A2771>0,VLOOKUP(A2771,Liste!$B$179                         : Liste!$C$189,2),\"\")","v":""},null,null,{"$f":"IF(D2771>0,VLOOKUP(D2771,Liste!$A$10:$D$163,4),\"\")","v":""},null,null,null,""]
[null,{"$f":"IF(A2772>0,VLOOKUP(A2772,Liste!$B$179                         : Liste!$C$189,2),\"\")","v":""},null,null,{"$f":"IF(D2772>0,VLOOKUP(D2772,Liste!$A$10:$D$163,4),\"\")","v":""},null,null,null,""]
[null,{"$f":"IF(A2773>0,VLOOKUP(A2773,Liste!$B$179                         : Liste!$C$189,2),\"\")","v":""},null,null,{"$f":"IF(D2773>0,VLOOKUP(D2773,Liste!$A$10:$D$163,4),\"\")","v":""},null,null,null,""]
[null,{"$f":"IF(A2774>0,VLOOKUP(A2774,Liste!$B$179                         : Liste!$C$189,2),\"\")","v":""},null,null,{"$f":"IF(D2774>0,VLOOKUP(D2774,Liste!$A$10:$D$163,4),\"\")","v":""},null,null,null,""]
[null,{"$f":"IF(A2775>0,VLOOKUP(A2775,Liste!$B$179                         : Liste!$C$189,2),\"\")","v":""},null,null,{"$f":"IF(D2775>0,VLOOKUP(D2775,Liste!$A$10:$D$163,4),\"\")","v":""},null,null,null,""]
[null,{"$f":"IF(A2776>0,VLOOKUP(A2776,Liste!$B$179                         : Liste!$C$189,2),\"\")","v":""},null,null,{"$f":"IF(D2776>0,VLOOKUP(D2776,Liste!$A$10:$D$163,4),\"\")","v":""},null,null,null,""]
[null,{"$f":"IF(A2777>0,VLOOKUP(A2777,Liste!$B$179                         : Liste!$C$189,2),\"\")","v":""},null,null,{"$f":"IF(D2777>0,VLOOKUP(D2777,Liste!$A$10:$D$163,4),\"\")","v":""},null,null,null,""]
[null,{"$f":"IF(A2778>0,VLOOKUP(A2778,Liste!$B$179                         : Liste!$C$189,2),\"\")","v":""},null,null,{"$f":"IF(D2778>0,VLOOKUP(D2778,Liste!$A$10:$D$163,4),\"\")","v":""},null,null,null,""]
[null,{"$f":"IF(A2779>0,VLOOKUP(A2779,Liste!$B$179                         : Liste!$C$189,2),\"\")","v":""},null,null,{"$f":"IF(D2779>0,VLOOKUP(D2779,Liste!$A$10:$D$163,4),\"\")","v":""},null,null,null,""]
[null,{"$f":"IF(A2780>0,VLOOKUP(A2780,Liste!$B$179                         : Liste!$C$189,2),\"\")","v":""},null,null,{"$f":"IF(D2780>0,VLOOKUP(D2780,Liste!$A$10:$D$163,4),\"\")","v":""},null,null,null,""]
[null,{"$f":"IF(A2781>0,VLOOKUP(A2781,Liste!$B$179                         : Liste!$C$189,2),\"\")","v":""},null,null,{"$f":"IF(D2781>0,VLOOKUP(D2781,Liste!$A$10:$D$163,4),\"\")","v":""},null,null,null,""]
[null,{"$f":"IF(A2782>0,VLOOKUP(A2782,Liste!$B$179                         : Liste!$C$189,2),\"\")","v":""},null,null,{"$f":"IF(D2782>0,VLOOKUP(D2782,Liste!$A$10:$D$163,4),\"\")","v":""},null,null,null,""]
[null,{"$f":"IF(A2783>0,VLOOKUP(A2783,Liste!$B$179                         : Liste!$C$189,2),\"\")","v":""},null,null,{"$f":"IF(D2783>0,VLOOKUP(D2783,Liste!$A$10:$D$163,4),\"\")","v":""},null,null,null,""]
[null,{"$f":"IF(A2784>0,VLOOKUP(A2784,Liste!$B$179                         : Liste!$C$189,2),\"\")","v":""},null,null,{"$f":"IF(D2784>0,VLOOKUP(D2784,Liste!$A$10:$D$163,4),\"\")","v":""},null,null,null,""]
[null,{"$f":"IF(A2785>0,VLOOKUP(A2785,Liste!$B$179                         : Liste!$C$189,2),\"\")","v":""},null,null,{"$f":"IF(D2785>0,VLOOKUP(D2785,Liste!$A$10:$D$163,4),\"\")","v":""},null,null,null,""]
[null,{"$f":"IF(A2786>0,VLOOKUP(A2786,Liste!$B$179                         : Liste!$C$189,2),\"\")","v":""},null,null,{"$f":"IF(D2786>0,VLOOKUP(D2786,Liste!$A$10:$D$163,4),\"\")","v":""},null,null,null,""]
[null,{"$f":"IF(A2787>0,VLOOKUP(A2787,Liste!$B$179                         : Liste!$C$189,2),\"\")","v":""},null,null,{"$f":"IF(D2787>0,VLOOKUP(D2787,Liste!$A$10:$D$163,4),\"\")","v":""},null,null,null,""]
[null,{"$f":"IF(A2788>0,VLOOKUP(A2788,Liste!$B$179                         : Liste!$C$189,2),\"\")","v":""},null,null,{"$f":"IF(D2788>0,VLOOKUP(D2788,Liste!$A$10:$D$163,4),\"\")","v":""},null,null,null,""]
[null,{"$f":"IF(A2789>0,VLOOKUP(A2789,Liste!$B$179                         : Liste!$C$189,2),\"\")","v":""},null,null,{"$f":"IF(D2789>0,VLOOKUP(D2789,Liste!$A$10:$D$163,4),\"\")","v":""},null,null,null,""]
[null,{"$f":"IF(A2790>0,VLOOKUP(A2790,Liste!$B$179                         : Liste!$C$189,2),\"\")","v":""},null,null,{"$f":"IF(D2790>0,VLOOKUP(D2790,Liste!$A$10:$D$163,4),\"\")","v":""},null,null,null,""]
[null,{"$f":"IF(A2791>0,VLOOKUP(A2791,Liste!$B$179                         : Liste!$C$189,2),\"\")","v":""},null,null,{"$f":"IF(D2791>0,VLOOKUP(D2791,Liste!$A$10:$D$163,4),\"\")","v":""},null,null,null,""]
[null,{"$f":"IF(A2792>0,VLOOKUP(A2792,Liste!$B$179                         : Liste!$C$189,2),\"\")","v":""},null,null,{"$f":"IF(D2792>0,VLOOKUP(D2792,Liste!$A$10:$D$163,4),\"\")","v":""},null,null,null,""]
[null,{"$f":"IF(A2793>0,VLOOKUP(A2793,Liste!$B$179                         : Liste!$C$189,2),\"\")","v":""},null,null,{"$f":"IF(D2793>0,VLOOKUP(D2793,Liste!$A$10:$D$163,4),\"\")","v":""},null,null,null,""]
[null,{"$f":"IF(A2794>0,VLOOKUP(A2794,Liste!$B$179                         : Liste!$C$189,2),\"\")","v":""},null,null,{"$f":"IF(D2794>0,VLOOKUP(D2794,Liste!$A$10:$D$163,4),\"\")","v":""},null,null,null,""]
[null,{"$f":"IF(A2795>0,VLOOKUP(A2795,Liste!$B$179                         : Liste!$C$189,2),\"\")","v":""},null,null,{"$f":"IF(D2795>0,VLOOKUP(D2795,Liste!$A$10:$D$163,4),\"\")","v":""},null,null,null,""]
[null,{"$f":"IF(A2796>0,VLOOKUP(A2796,Liste!$B$179                         : Liste!$C$189,2),\"\")","v":""},null,null,{"$f":"IF(D2796>0,VLOOKUP(D2796,Liste!$A$10:$D$163,4),\"\")","v":""},null,null,null,""]
[null,{"$f":"IF(A2797>0,VLOOKUP(A2797,Liste!$B$179                         : Liste!$C$189,2),\"\")","v":""},null,null,{"$f":"IF(D2797>0,VLOOKUP(D2797,Liste!$A$10:$D$163,4),\"\")","v":""},null,null,null,""]
[null,{"$f":"IF(A2798>0,VLOOKUP(A2798,Liste!$B$179                         : Liste!$C$189,2),\"\")","v":""},null,null,{"$f":"IF(D2798>0,VLOOKUP(D2798,Liste!$A$10:$D$163,4),\"\")","v":""},null,null,null,""]
[null,{"$f":"IF(A2799>0,VLOOKUP(A2799,Liste!$B$179                         : Liste!$C$189,2),\"\")","v":""},null,null,{"$f":"IF(D2799>0,VLOOKUP(D2799,Liste!$A$10:$D$163,4),\"\")","v":""},null,null,null,""]
[null,{"$f":"IF(A2800>0,VLOOKUP(A2800,Liste!$B$179                         : Liste!$C$189,2),\"\")","v":""},null,null,{"$f":"IF(D2800>0,VLOOKUP(D2800,Liste!$A$10:$D$163,4),\"\")","v":""},null,null,null,""]
[null,{"$f":"IF(A2801>0,VLOOKUP(A2801,Liste!$B$179                         : Liste!$C$189,2),\"\")","v":""},null,null,{"$f":"IF(D2801>0,VLOOKUP(D2801,Liste!$A$10:$D$163,4),\"\")","v":""},null,null,null,""]
[null,{"$f":"IF(A2802>0,VLOOKUP(A2802,Liste!$B$179                         : Liste!$C$189,2),\"\")","v":""},null,null,{"$f":"IF(D2802>0,VLOOKUP(D2802,Liste!$A$10:$D$163,4),\"\")","v":""},null,null,null,""]
[null,{"$f":"IF(A2803>0,VLOOKUP(A2803,Liste!$B$179                         : Liste!$C$189,2),\"\")","v":""},null,null,{"$f":"IF(D2803>0,VLOOKUP(D2803,Liste!$A$10:$D$163,4),\"\")","v":""},null,null,null,""]
[null,{"$f":"IF(A2804>0,VLOOKUP(A2804,Liste!$B$179                         : Liste!$C$189,2),\"\")","v":""},null,null,{"$f":"IF(D2804>0,VLOOKUP(D2804,Liste!$A$10:$D$163,4),\"\")","v":""},null,null,null,""]
[null,{"$f":"IF(A2805>0,VLOOKUP(A2805,Liste!$B$179                         : Liste!$C$189,2),\"\")","v":""},null,null,{"$f":"IF(D2805>0,VLOOKUP(D2805,Liste!$A$10:$D$163,4),\"\")","v":""},null,null,null,""]
[null,{"$f":"IF(A2806>0,VLOOKUP(A2806,Liste!$B$179                         : Liste!$C$189,2),\"\")","v":""},null,null,{"$f":"IF(D2806>0,VLOOKUP(D2806,Liste!$A$10:$D$163,4),\"\")","v":""},null,null,null,""]
[null,{"$f":"IF(A2807>0,VLOOKUP(A2807,Liste!$B$179                         : Liste!$C$189,2),\"\")","v":""},null,null,{"$f":"IF(D2807>0,VLOOKUP(D2807,Liste!$A$10:$D$163,4),\"\")","v":""},null,null,null,""]
[null,{"$f":"IF(A2808>0,VLOOKUP(A2808,Liste!$B$179                         : Liste!$C$189,2),\"\")","v":""},null,null,{"$f":"IF(D2808>0,VLOOKUP(D2808,Liste!$A$10:$D$163,4),\"\")","v":""},null,null,null,""]
[null,{"$f":"IF(A2809>0,VLOOKUP(A2809,Liste!$B$179                         : Liste!$C$189,2),\"\")","v":""},null,null,{"$f":"IF(D2809>0,VLOOKUP(D2809,Liste!$A$10:$D$163,4),\"\")","v":""},null,null,null,""]
[null,{"$f":"IF(A2810>0,VLOOKUP(A2810,Liste!$B$179                         : Liste!$C$189,2),\"\")","v":""},null,null,{"$f":"IF(D2810>0,VLOOKUP(D2810,Liste!$A$10:$D$163,4),\"\")","v":""},null,null,null,""]
[null,{"$f":"IF(A2811>0,VLOOKUP(A2811,Liste!$B$179                         : Liste!$C$189,2),\"\")","v":""},null,null,{"$f":"IF(D2811>0,VLOOKUP(D2811,Liste!$A$10:$D$163,4),\"\")","v":""},null,null,null,""]
[null,{"$f":"IF(A2812>0,VLOOKUP(A2812,Liste!$B$179                         : Liste!$C$189,2),\"\")","v":""},null,null,{"$f":"IF(D2812>0,VLOOKUP(D2812,Liste!$A$10:$D$163,4),\"\")","v":""},null,null,null,""]
[null,{"$f":"IF(A2813>0,VLOOKUP(A2813,Liste!$B$179                         : Liste!$C$189,2),\"\")","v":""},null,null,{"$f":"IF(D2813>0,VLOOKUP(D2813,Liste!$A$10:$D$163,4),\"\")","v":""},null,null,null,""]
[null,{"$f":"IF(A2814>0,VLOOKUP(A2814,Liste!$B$179                         : Liste!$C$189,2),\"\")","v":""},null,null,{"$f":"IF(D2814>0,VLOOKUP(D2814,Liste!$A$10:$D$163,4),\"\")","v":""},null,null,null,""]
[null,{"$f":"IF(A2815>0,VLOOKUP(A2815,Liste!$B$179                         : Liste!$C$189,2),\"\")","v":""},null,null,{"$f":"IF(D2815>0,VLOOKUP(D2815,Liste!$A$10:$D$163,4),\"\")","v":""},null,null,null,""]
[null,{"$f":"IF(A2816>0,VLOOKUP(A2816,Liste!$B$179                         : Liste!$C$189,2),\"\")","v":""},null,null,{"$f":"IF(D2816>0,VLOOKUP(D2816,Liste!$A$10:$D$163,4),\"\")","v":""},null,null,null,""]
[null,{"$f":"IF(A2817>0,VLOOKUP(A2817,Liste!$B$179                         : Liste!$C$189,2),\"\")","v":""},null,null,{"$f":"IF(D2817>0,VLOOKUP(D2817,Liste!$A$10:$D$163,4),\"\")","v":""},null,null,null,""]
[null,{"$f":"IF(A2818>0,VLOOKUP(A2818,Liste!$B$179                         : Liste!$C$189,2),\"\")","v":""},null,null,{"$f":"IF(D2818>0,VLOOKUP(D2818,Liste!$A$10:$D$163,4),\"\")","v":""},null,null,null,""]
[null,{"$f":"IF(A2819>0,VLOOKUP(A2819,Liste!$B$179                         : Liste!$C$189,2),\"\")","v":""},null,null,{"$f":"IF(D2819>0,VLOOKUP(D2819,Liste!$A$10:$D$163,4),\"\")","v":""},null,null,null,""]
[null,{"$f":"IF(A2820>0,VLOOKUP(A2820,Liste!$B$179                         : Liste!$C$189,2),\"\")","v":""},null,null,{"$f":"IF(D2820>0,VLOOKUP(D2820,Liste!$A$10:$D$163,4),\"\")","v":""},null,null,null,""]
[null,{"$f":"IF(A2821>0,VLOOKUP(A2821,Liste!$B$179                         : Liste!$C$189,2),\"\")","v":""},null,null,{"$f":"IF(D2821>0,VLOOKUP(D2821,Liste!$A$10:$D$163,4),\"\")","v":""},null,null,null,""]
[null,{"$f":"IF(A2822>0,VLOOKUP(A2822,Liste!$B$179                         : Liste!$C$189,2),\"\")","v":""},null,null,{"$f":"IF(D2822>0,VLOOKUP(D2822,Liste!$A$10:$D$163,4),\"\")","v":""},null,null,null,{"$f":"IF(AND(D2822>0,F2822+G2822+H2822=0),\"EN ATTENTE\",IF(F2822+G2822+H2822>1,\"ERREUR\",\"\"))","v":""}]
[null,{"$f":"IF(A2823>0,VLOOKUP(A2823,Liste!$B$179                         : Liste!$C$189,2),\"\")","v":""},null,null,{"$f":"IF(D2823>0,VLOOKUP(D2823,Liste!$A$10:$D$163,4),\"\")","v":""},null,null,null,""]
[null,{"$f":"IF(A2824>0,VLOOKUP(A2824,Liste!$B$179                         : Liste!$C$189,2),\"\")","v":""},null,null,{"$f":"IF(D2824>0,VLOOKUP(D2824,Liste!$A$10:$D$163,4),\"\")","v":""},null,null,null,""]
[null,{"$f":"IF(A2825>0,VLOOKUP(A2825,Liste!$B$179                         : Liste!$C$189,2),\"\")","v":""},null,null,{"$f":"IF(D2825>0,VLOOKUP(D2825,Liste!$A$10:$D$163,4),\"\")","v":""},null,null,null,""]
[null,{"$f":"IF(A2826>0,VLOOKUP(A2826,Liste!$B$179                         : Liste!$C$189,2),\"\")","v":""},null,null,{"$f":"IF(D2826>0,VLOOKUP(D2826,Liste!$A$10:$D$163,4),\"\")","v":""},null,null,null,""]
[null,{"$f":"IF(A2827>0,VLOOKUP(A2827,Liste!$B$179                         : Liste!$C$189,2),\"\")","v":""},null,null,{"$f":"IF(D2827>0,VLOOKUP(D2827,Liste!$A$10:$D$163,4),\"\")","v":""},null,null,null,""]
[null,{"$f":"IF(A2828>0,VLOOKUP(A2828,Liste!$B$179                         : Liste!$C$189,2),\"\")","v":""},null,null,{"$f":"IF(D2828>0,VLOOKUP(D2828,Liste!$A$10:$D$163,4),\"\")","v":""},null,null,null,""]
[null,{"$f":"IF(A2829>0,VLOOKUP(A2829,Liste!$B$179                         : Liste!$C$189,2),\"\")","v":""},null,null,{"$f":"IF(D2829>0,VLOOKUP(D2829,Liste!$A$10:$D$163,4),\"\")","v":""},null,null,null,""]
[null,{"$f":"IF(A2830>0,VLOOKUP(A2830,Liste!$B$179                         : Liste!$C$189,2),\"\")","v":""},null,null,{"$f":"IF(D2830>0,VLOOKUP(D2830,Liste!$A$10:$D$163,4),\"\")","v":""},null,null,null,""]
[null,{"$f":"IF(A2831>0,VLOOKUP(A2831,Liste!$B$179                         : Liste!$C$189,2),\"\")","v":""},null,null,{"$f":"IF(D2831>0,VLOOKUP(D2831,Liste!$A$10:$D$163,4),\"\")","v":""},null,null,null,""]
[null,{"$f":"IF(A2832>0,VLOOKUP(A2832,Liste!$B$179                         : Liste!$C$189,2),\"\")","v":""},null,null,{"$f":"IF(D2832>0,VLOOKUP(D2832,Liste!$A$10:$D$163,4),\"\")","v":""},null,null,null,""]
[null,{"$f":"IF(A2833>0,VLOOKUP(A2833,Liste!$B$179                         : Liste!$C$189,2),\"\")","v":""},null,null,{"$f":"IF(D2833>0,VLOOKUP(D2833,Liste!$A$10:$D$163,4),\"\")","v":""},null,null,null,""]
[null,{"$f":"IF(A2834>0,VLOOKUP(A2834,Liste!$B$179                         : Liste!$C$189,2),\"\")","v":""},null,null,{"$f":"IF(D2834>0,VLOOKUP(D2834,Liste!$A$10:$D$163,4),\"\")","v":""},null,null,null,""]
[null,{"$f":"IF(A2835>0,VLOOKUP(A2835,Liste!$B$179                         : Liste!$C$189,2),\"\")","v":""},null,null,{"$f":"IF(D2835>0,VLOOKUP(D2835,Liste!$A$10:$D$163,4),\"\")","v":""},null,null,null,""]
[null,{"$f":"IF(A2836>0,VLOOKUP(A2836,Liste!$B$179                         : Liste!$C$189,2),\"\")","v":""},null,null,{"$f":"IF(D2836>0,VLOOKUP(D2836,Liste!$A$10:$D$163,4),\"\")","v":""},null,null,null,""]
[null,{"$f":"IF(A2837>0,VLOOKUP(A2837,Liste!$B$179                         : Liste!$C$189,2),\"\")","v":""},null,null,{"$f":"IF(D2837>0,VLOOKUP(D2837,Liste!$A$10:$D$163,4),\"\")","v":""},null,null,null,""]
[null,{"$f":"IF(A2838>0,VLOOKUP(A2838,Liste!$B$179                         : Liste!$C$189,2),\"\")","v":""},null,null,{"$f":"IF(D2838>0,VLOOKUP(D2838,Liste!$A$10:$D$163,4),\"\")","v":""},null,null,null,""]
[null,{"$f":"IF(A2839>0,VLOOKUP(A2839,Liste!$B$179                         : Liste!$C$189,2),\"\")","v":""},null,null,{"$f":"IF(D2839>0,VLOOKUP(D2839,Liste!$A$10:$D$163,4),\"\")","v":""},null,null,null,""]
[null,{"$f":"IF(A2840>0,VLOOKUP(A2840,Liste!$B$179                         : Liste!$C$189,2),\"\")","v":""},null,null,{"$f":"IF(D2840>0,VLOOKUP(D2840,Liste!$A$10:$D$163,4),\"\")","v":""},null,null,null,""]
[null,{"$f":"IF(A2841>0,VLOOKUP(A2841,Liste!$B$179                         : Liste!$C$189,2),\"\")","v":""},null,null,{"$f":"IF(D2841>0,VLOOKUP(D2841,Liste!$A$10:$D$163,4),\"\")","v":""},null,null,null,""]
[null,{"$f":"IF(A2842>0,VLOOKUP(A2842,Liste!$B$179                         : Liste!$C$189,2),\"\")","v":""},null,null,{"$f":"IF(D2842>0,VLOOKUP(D2842,Liste!$A$10:$D$163,4),\"\")","v":""},null,null,null,""]
[null,{"$f":"IF(A2843>0,VLOOKUP(A2843,Liste!$B$179                         : Liste!$C$189,2),\"\")","v":""},null,null,{"$f":"IF(D2843>0,VLOOKUP(D2843,Liste!$A$10:$D$163,4),\"\")","v":""},null,null,null,""]
[null,{"$f":"IF(A2844>0,VLOOKUP(A2844,Liste!$B$179                         : Liste!$C$189,2),\"\")","v":""},null,null,{"$f":"IF(D2844>0,VLOOKUP(D2844,Liste!$A$10:$D$163,4),\"\")","v":""},null,null,null,""]
[null,{"$f":"IF(A2845>0,VLOOKUP(A2845,Liste!$B$179                         : Liste!$C$189,2),\"\")","v":""},null,null,{"$f":"IF(D2845>0,VLOOKUP(D2845,Liste!$A$10:$D$163,4),\"\")","v":""},null,null,null,""]
[null,{"$f":"IF(A2846>0,VLOOKUP(A2846,Liste!$B$179                         : Liste!$C$189,2),\"\")","v":""},null,null,{"$f":"IF(D2846>0,VLOOKUP(D2846,Liste!$A$10:$D$163,4),\"\")","v":""},null,null,null,""]
[null,{"$f":"IF(A2847>0,VLOOKUP(A2847,Liste!$B$179                         : Liste!$C$189,2),\"\")","v":""},null,null,{"$f":"IF(D2847>0,VLOOKUP(D2847,Liste!$A$10:$D$163,4),\"\")","v":""},null,null,null,""]
[null,{"$f":"IF(A2848>0,VLOOKUP(A2848,Liste!$B$179                         : Liste!$C$189,2),\"\")","v":""},null,null,{"$f":"IF(D2848>0,VLOOKUP(D2848,Liste!$A$10:$D$163,4),\"\")","v":""},null,null,null,""]
[null,{"$f":"IF(A2849>0,VLOOKUP(A2849,Liste!$B$179                         : Liste!$C$189,2),\"\")","v":""},null,null,{"$f":"IF(D2849>0,VLOOKUP(D2849,Liste!$A$10:$D$163,4),\"\")","v":""},null,null,null,""]
[null,{"$f":"IF(A2850>0,VLOOKUP(A2850,Liste!$B$179                         : Liste!$C$189,2),\"\")","v":""},null,null,{"$f":"IF(D2850>0,VLOOKUP(D2850,Liste!$A$10:$D$163,4),\"\")","v":""},null,null,null,""]
[null,{"$f":"IF(A2851>0,VLOOKUP(A2851,Liste!$B$179                         : Liste!$C$189,2),\"\")","v":""},null,null,{"$f":"IF(D2851>0,VLOOKUP(D2851,Liste!$A$10:$D$163,4),\"\")","v":""},null,null,null,""]
[null,{"$f":"IF(A2852>0,VLOOKUP(A2852,Liste!$B$179                         : Liste!$C$189,2),\"\")","v":""},null,null,{"$f":"IF(D2852>0,VLOOKUP(D2852,Liste!$A$10:$D$163,4),\"\")","v":""},null,null,null,""]
[null,{"$f":"IF(A2853>0,VLOOKUP(A2853,Liste!$B$179                         : Liste!$C$189,2),\"\")","v":""},null,null,{"$f":"IF(D2853>0,VLOOKUP(D2853,Liste!$A$10:$D$163,4),\"\")","v":""},null,null,null,""]
[null,{"$f":"IF(A2854>0,VLOOKUP(A2854,Liste!$B$179                         : Liste!$C$189,2),\"\")","v":""},null,null,{"$f":"IF(D2854>0,VLOOKUP(D2854,Liste!$A$10:$D$163,4),\"\")","v":""},null,null,null,""]
[null,{"$f":"IF(A2855>0,VLOOKUP(A2855,Liste!$B$179                         : Liste!$C$189,2),\"\")","v":""},null,null,{"$f":"IF(D2855>0,VLOOKUP(D2855,Liste!$A$10:$D$163,4),\"\")","v":""},null,null,null,""]
[null,{"$f":"IF(A2856>0,VLOOKUP(A2856,Liste!$B$179                         : Liste!$C$189,2),\"\")","v":""},null,null,{"$f":"IF(D2856>0,VLOOKUP(D2856,Liste!$A$10:$D$163,4),\"\")","v":""},null,null,null,""]
[null,{"$f":"IF(A2857>0,VLOOKUP(A2857,Liste!$B$179                         : Liste!$C$189,2),\"\")","v":""},null,null,{"$f":"IF(D2857>0,VLOOKUP(D2857,Liste!$A$10:$D$163,4),\"\")","v":""},null,null,null,""]
[null,{"$f":"IF(A2858>0,VLOOKUP(A2858,Liste!$B$179                         : Liste!$C$189,2),\"\")","v":""},null,null,{"$f":"IF(D2858>0,VLOOKUP(D2858,Liste!$A$10:$D$163,4),\"\")","v":""},null,null,null,""]
[null,{"$f":"IF(A2859>0,VLOOKUP(A2859,Liste!$B$179                         : Liste!$C$189,2),\"\")","v":""},null,null,{"$f":"IF(D2859>0,VLOOKUP(D2859,Liste!$A$10:$D$163,4),\"\")","v":""},null,null,null,""]
[null,{"$f":"IF(A2860>0,VLOOKUP(A2860,Liste!$B$179                         : Liste!$C$189,2),\"\")","v":""},null,null,{"$f":"IF(D2860>0,VLOOKUP(D2860,Liste!$A$10:$D$163,4),\"\")","v":""},null,null,null,""]
[null,{"$f":"IF(A2861>0,VLOOKUP(A2861,Liste!$B$179                         : Liste!$C$189,2),\"\")","v":""},null,null,{"$f":"IF(D2861>0,VLOOKUP(D2861,Liste!$A$10:$D$163,4),\"\")","v":""},null,null,null,""]
[null,{"$f":"IF(A2862>0,VLOOKUP(A2862,Liste!$B$179                         : Liste!$C$189,2),\"\")","v":""},null,null,{"$f":"IF(D2862>0,VLOOKUP(D2862,Liste!$A$10:$D$163,4),\"\")","v":""},null,null,null,""]
[null,{"$f":"IF(A2863>0,VLOOKUP(A2863,Liste!$B$179                         : Liste!$C$189,2),\"\")","v":""},null,null,{"$f":"IF(D2863>0,VLOOKUP(D2863,Liste!$A$10:$D$163,4),\"\")","v":""},null,null,null,""]
[null,{"$f":"IF(A2864>0,VLOOKUP(A2864,Liste!$B$179                         : Liste!$C$189,2),\"\")","v":""},null,null,{"$f":"IF(D2864>0,VLOOKUP(D2864,Liste!$A$10:$D$163,4),\"\")","v":""},null,null,null,""]
[null,{"$f":"IF(A2865>0,VLOOKUP(A2865,Liste!$B$179                         : Liste!$C$189,2),\"\")","v":""},null,null,{"$f":"IF(D2865>0,VLOOKUP(D2865,Liste!$A$10:$D$163,4),\"\")","v":""},null,null,null,""]
[null,{"$f":"IF(A2866>0,VLOOKUP(A2866,Liste!$B$179                         : Liste!$C$189,2),\"\")","v":""},null,null,{"$f":"IF(D2866>0,VLOOKUP(D2866,Liste!$A$10:$D$163,4),\"\")","v":""},null,null,null,""]
[null,{"$f":"IF(A2867>0,VLOOKUP(A2867,Liste!$B$179                         : Liste!$C$189,2),\"\")","v":""},null,null,{"$f":"IF(D2867>0,VLOOKUP(D2867,Liste!$A$10:$D$163,4),\"\")","v":""},null,null,null,""]
[null,{"$f":"IF(A2868>0,VLOOKUP(A2868,Liste!$B$179                         : Liste!$C$189,2),\"\")","v":""},null,null,{"$f":"IF(D2868>0,VLOOKUP(D2868,Liste!$A$10:$D$163,4),\"\")","v":""},null,null,null,""]
[null,{"$f":"IF(A2869>0,VLOOKUP(A2869,Liste!$B$179                         : Liste!$C$189,2),\"\")","v":""},null,null,{"$f":"IF(D2869>0,VLOOKUP(D2869,Liste!$A$10:$D$163,4),\"\")","v":""},null,null,null,""]
[null,{"$f":"IF(A2870>0,VLOOKUP(A2870,Liste!$B$179                         : Liste!$C$189,2),\"\")","v":""},null,null,{"$f":"IF(D2870>0,VLOOKUP(D2870,Liste!$A$10:$D$163,4),\"\")","v":""},null,null,null,""]
[null,{"$f":"IF(A2871>0,VLOOKUP(A2871,Liste!$B$179                         : Liste!$C$189,2),\"\")","v":""},null,null,{"$f":"IF(D2871>0,VLOOKUP(D2871,Liste!$A$10:$D$163,4),\"\")","v":""},null,null,null,""]
[null,{"$f":"IF(A2872>0,VLOOKUP(A2872,Liste!$B$179                         : Liste!$C$189,2),\"\")","v":""},null,null,{"$f":"IF(D2872>0,VLOOKUP(D2872,Liste!$A$10:$D$163,4),\"\")","v":""},null,null,null,""]
[null,{"$f":"IF(A2873>0,VLOOKUP(A2873,Liste!$B$179                         : Liste!$C$189,2),\"\")","v":""},null,null,{"$f":"IF(D2873>0,VLOOKUP(D2873,Liste!$A$10:$D$163,4),\"\")","v":""},null,null,null,""]
[null,{"$f":"IF(A2874>0,VLOOKUP(A2874,Liste!$B$179                         : Liste!$C$189,2),\"\")","v":""},null,null,{"$f":"IF(D2874>0,VLOOKUP(D2874,Liste!$A$10:$D$163,4),\"\")","v":""},null,null,null,""]
[null,{"$f":"IF(A2875>0,VLOOKUP(A2875,Liste!$B$179                         : Liste!$C$189,2),\"\")","v":""},null,null,{"$f":"IF(D2875>0,VLOOKUP(D2875,Liste!$A$10:$D$163,4),\"\")","v":""},null,null,null,""]
[null,{"$f":"IF(A2876>0,VLOOKUP(A2876,Liste!$B$179                         : Liste!$C$189,2),\"\")","v":""},null,null,{"$f":"IF(D2876>0,VLOOKUP(D2876,Liste!$A$10:$D$163,4),\"\")","v":""},null,null,null,""]
[null,{"$f":"IF(A2877>0,VLOOKUP(A2877,Liste!$B$179                         : Liste!$C$189,2),\"\")","v":""},null,null,{"$f":"IF(D2877>0,VLOOKUP(D2877,Liste!$A$10:$D$163,4),\"\")","v":""},null,null,null,""]
[null,{"$f":"IF(A2878>0,VLOOKUP(A2878,Liste!$B$179                         : Liste!$C$189,2),\"\")","v":""},null,null,{"$f":"IF(D2878>0,VLOOKUP(D2878,Liste!$A$10:$D$163,4),\"\")","v":""},null,null,null,""]
[null,{"$f":"IF(A2879>0,VLOOKUP(A2879,Liste!$B$179                         : Liste!$C$189,2),\"\")","v":""},null,null,{"$f":"IF(D2879>0,VLOOKUP(D2879,Liste!$A$10:$D$163,4),\"\")","v":""},null,null,null,""]
[null,{"$f":"IF(A2880>0,VLOOKUP(A2880,Liste!$B$179                         : Liste!$C$189,2),\"\")","v":""},null,null,{"$f":"IF(D2880>0,VLOOKUP(D2880,Liste!$A$10:$D$163,4),\"\")","v":""},null,null,null,""]
[null,{"$f":"IF(A2881>0,VLOOKUP(A2881,Liste!$B$179                         : Liste!$C$189,2),\"\")","v":""},null,null,{"$f":"IF(D2881>0,VLOOKUP(D2881,Liste!$A$10:$D$163,4),\"\")","v":""},null,null,null,""]
[null,{"$f":"IF(A2882>0,VLOOKUP(A2882,Liste!$B$179                         : Liste!$C$189,2),\"\")","v":""},null,null,{"$f":"IF(D2882>0,VLOOKUP(D2882,Liste!$A$10:$D$163,4),\"\")","v":""},null,null,null,""]
[null,{"$f":"IF(A2883>0,VLOOKUP(A2883,Liste!$B$179                         : Liste!$C$189,2),\"\")","v":""},null,null,{"$f":"IF(D2883>0,VLOOKUP(D2883,Liste!$A$10:$D$163,4),\"\")","v":""},null,null,null,""]
[null,{"$f":"IF(A2884>0,VLOOKUP(A2884,Liste!$B$179                         : Liste!$C$189,2),\"\")","v":""},null,null,{"$f":"IF(D2884>0,VLOOKUP(D2884,Liste!$A$10:$D$163,4),\"\")","v":""},null,null,null,""]
[null,{"$f":"IF(A2885>0,VLOOKUP(A2885,Liste!$B$179                         : Liste!$C$189,2),\"\")","v":""},null,null,{"$f":"IF(D2885>0,VLOOKUP(D2885,Liste!$A$10:$D$163,4),\"\")","v":""},null,null,null,""]
[null,{"$f":"IF(A2886>0,VLOOKUP(A2886,Liste!$B$179                         : Liste!$C$189,2),\"\")","v":""},null,null,{"$f":"IF(D2886>0,VLOOKUP(D2886,Liste!$A$10:$D$163,4),\"\")","v":""},null,null,null,{"$f":"IF(AND(D2886>0,F2886+G2886+H2886=0),\"EN ATTENTE\",IF(F2886+G2886+H2886>1,\"ERREUR\",\"\"))","v":""}]
[null,{"$f":"IF(A2887>0,VLOOKUP(A2887,Liste!$B$179                         : Liste!$C$189,2),\"\")","v":""},null,null,{"$f":"IF(D2887>0,VLOOKUP(D2887,Liste!$A$10:$D$163,4),\"\")","v":""},null,null,null,""]
[null,{"$f":"IF(A2888>0,VLOOKUP(A2888,Liste!$B$179                         : Liste!$C$189,2),\"\")","v":""},null,null,{"$f":"IF(D2888>0,VLOOKUP(D2888,Liste!$A$10:$D$163,4),\"\")","v":""},null,null,null,""]
[null,{"$f":"IF(A2889>0,VLOOKUP(A2889,Liste!$B$179                         : Liste!$C$189,2),\"\")","v":""},null,null,{"$f":"IF(D2889>0,VLOOKUP(D2889,Liste!$A$10:$D$163,4),\"\")","v":""},null,null,null,""]
[null,{"$f":"IF(A2890>0,VLOOKUP(A2890,Liste!$B$179                         : Liste!$C$189,2),\"\")","v":""},null,null,{"$f":"IF(D2890>0,VLOOKUP(D2890,Liste!$A$10:$D$163,4),\"\")","v":""},null,null,null,""]
[null,{"$f":"IF(A2891>0,VLOOKUP(A2891,Liste!$B$179                         : Liste!$C$189,2),\"\")","v":""},null,null,{"$f":"IF(D2891>0,VLOOKUP(D2891,Liste!$A$10:$D$163,4),\"\")","v":""},null,null,null,""]
[null,{"$f":"IF(A2892>0,VLOOKUP(A2892,Liste!$B$179                         : Liste!$C$189,2),\"\")","v":""},null,null,{"$f":"IF(D2892>0,VLOOKUP(D2892,Liste!$A$10:$D$163,4),\"\")","v":""},null,null,null,""]
[null,{"$f":"IF(A2893>0,VLOOKUP(A2893,Liste!$B$179                         : Liste!$C$189,2),\"\")","v":""},null,null,{"$f":"IF(D2893>0,VLOOKUP(D2893,Liste!$A$10:$D$163,4),\"\")","v":""},null,null,null,""]
[null,{"$f":"IF(A2894>0,VLOOKUP(A2894,Liste!$B$179                         : Liste!$C$189,2),\"\")","v":""},null,null,{"$f":"IF(D2894>0,VLOOKUP(D2894,Liste!$A$10:$D$163,4),\"\")","v":""},null,null,null,""]
[null,{"$f":"IF(A2895>0,VLOOKUP(A2895,Liste!$B$179                         : Liste!$C$189,2),\"\")","v":""},null,null,{"$f":"IF(D2895>0,VLOOKUP(D2895,Liste!$A$10:$D$163,4),\"\")","v":""},null,null,null,""]
[null,{"$f":"IF(A2896>0,VLOOKUP(A2896,Liste!$B$179                         : Liste!$C$189,2),\"\")","v":""},null,null,{"$f":"IF(D2896>0,VLOOKUP(D2896,Liste!$A$10:$D$163,4),\"\")","v":""},null,null,null,""]
[null,{"$f":"IF(A2897>0,VLOOKUP(A2897,Liste!$B$179                         : Liste!$C$189,2),\"\")","v":""},null,null,{"$f":"IF(D2897>0,VLOOKUP(D2897,Liste!$A$10:$D$163,4),\"\")","v":""},null,null,null,""]
[null,{"$f":"IF(A2898>0,VLOOKUP(A2898,Liste!$B$179                         : Liste!$C$189,2),\"\")","v":""},null,null,{"$f":"IF(D2898>0,VLOOKUP(D2898,Liste!$A$10:$D$163,4),\"\")","v":""},null,null,null,""]
[null,{"$f":"IF(A2899>0,VLOOKUP(A2899,Liste!$B$179                         : Liste!$C$189,2),\"\")","v":""},null,null,{"$f":"IF(D2899>0,VLOOKUP(D2899,Liste!$A$10:$D$163,4),\"\")","v":""},null,null,null,""]
[null,{"$f":"IF(A2900>0,VLOOKUP(A2900,Liste!$B$179                         : Liste!$C$189,2),\"\")","v":""},null,null,{"$f":"IF(D2900>0,VLOOKUP(D2900,Liste!$A$10:$D$163,4),\"\")","v":""},null,null,null,""]
[null,{"$f":"IF(A2901>0,VLOOKUP(A2901,Liste!$B$179                         : Liste!$C$189,2),\"\")","v":""},null,null,{"$f":"IF(D2901>0,VLOOKUP(D2901,Liste!$A$10:$D$163,4),\"\")","v":""},null,null,null,""]
[null,{"$f":"IF(A2902>0,VLOOKUP(A2902,Liste!$B$179                         : Liste!$C$189,2),\"\")","v":""},null,null,{"$f":"IF(D2902>0,VLOOKUP(D2902,Liste!$A$10:$D$163,4),\"\")","v":""},null,null,null,""]
[null,{"$f":"IF(A2903>0,VLOOKUP(A2903,Liste!$B$179                         : Liste!$C$189,2),\"\")","v":""},null,null,{"$f":"IF(D2903>0,VLOOKUP(D2903,Liste!$A$10:$D$163,4),\"\")","v":""},null,null,null,""]
[null,{"$f":"IF(A2904>0,VLOOKUP(A2904,Liste!$B$179                         : Liste!$C$189,2),\"\")","v":""},null,null,{"$f":"IF(D2904>0,VLOOKUP(D2904,Liste!$A$10:$D$163,4),\"\")","v":""},null,null,null,""]
[null,{"$f":"IF(A2905>0,VLOOKUP(A2905,Liste!$B$179                         : Liste!$C$189,2),\"\")","v":""},null,null,{"$f":"IF(D2905>0,VLOOKUP(D2905,Liste!$A$10:$D$163,4),\"\")","v":""},null,null,null,""]
[null,{"$f":"IF(A2906>0,VLOOKUP(A2906,Liste!$B$179                         : Liste!$C$189,2),\"\")","v":""},null,null,{"$f":"IF(D2906>0,VLOOKUP(D2906,Liste!$A$10:$D$163,4),\"\")","v":""},null,null,null,""]
[null,{"$f":"IF(A2907>0,VLOOKUP(A2907,Liste!$B$179                         : Liste!$C$189,2),\"\")","v":""},null,null,{"$f":"IF(D2907>0,VLOOKUP(D2907,Liste!$A$10:$D$163,4),\"\")","v":""},null,null,null,""]
[null,{"$f":"IF(A2908>0,VLOOKUP(A2908,Liste!$B$179                         : Liste!$C$189,2),\"\")","v":""},null,null,{"$f":"IF(D2908>0,VLOOKUP(D2908,Liste!$A$10:$D$163,4),\"\")","v":""},null,null,null,""]
[null,{"$f":"IF(A2909>0,VLOOKUP(A2909,Liste!$B$179                         : Liste!$C$189,2),\"\")","v":""},null,null,{"$f":"IF(D2909>0,VLOOKUP(D2909,Liste!$A$10:$D$163,4),\"\")","v":""},null,null,null,""]
[null,{"$f":"IF(A2910>0,VLOOKUP(A2910,Liste!$B$179                         : Liste!$C$189,2),\"\")","v":""},null,null,{"$f":"IF(D2910>0,VLOOKUP(D2910,Liste!$A$10:$D$163,4),\"\")","v":""},null,null,null,""]
[null,{"$f":"IF(A2911>0,VLOOKUP(A2911,Liste!$B$179                         : Liste!$C$189,2),\"\")","v":""},null,null,{"$f":"IF(D2911>0,VLOOKUP(D2911,Liste!$A$10:$D$163,4),\"\")","v":""},null,null,null,""]
[null,{"$f":"IF(A2912>0,VLOOKUP(A2912,Liste!$B$179                         : Liste!$C$189,2),\"\")","v":""},null,null,{"$f":"IF(D2912>0,VLOOKUP(D2912,Liste!$A$10:$D$163,4),\"\")","v":""},null,null,null,""]
[null,{"$f":"IF(A2913>0,VLOOKUP(A2913,Liste!$B$179                         : Liste!$C$189,2),\"\")","v":""},null,null,{"$f":"IF(D2913>0,VLOOKUP(D2913,Liste!$A$10:$D$163,4),\"\")","v":""},null,null,null,""]
[null,{"$f":"IF(A2914>0,VLOOKUP(A2914,Liste!$B$179                         : Liste!$C$189,2),\"\")","v":""},null,null,{"$f":"IF(D2914>0,VLOOKUP(D2914,Liste!$A$10:$D$163,4),\"\")","v":""},null,null,null,""]
[null,{"$f":"IF(A2915>0,VLOOKUP(A2915,Liste!$B$179                         : Liste!$C$189,2),\"\")","v":""},null,null,{"$f":"IF(D2915>0,VLOOKUP(D2915,Liste!$A$10:$D$163,4),\"\")","v":""},null,null,null,""]
[null,{"$f":"IF(A2916>0,VLOOKUP(A2916,Liste!$B$179                         : Liste!$C$189,2),\"\")","v":""},null,null,{"$f":"IF(D2916>0,VLOOKUP(D2916,Liste!$A$10:$D$163,4),\"\")","v":""},null,null,null,""]
[null,{"$f":"IF(A2917>0,VLOOKUP(A2917,Liste!$B$179                         : Liste!$C$189,2),\"\")","v":""},null,null,{"$f":"IF(D2917>0,VLOOKUP(D2917,Liste!$A$10:$D$163,4),\"\")","v":""},null,null,null,""]
[null,{"$f":"IF(A2918>0,VLOOKUP(A2918,Liste!$B$179                         : Liste!$C$189,2),\"\")","v":""},null,null,{"$f":"IF(D2918>0,VLOOKUP(D2918,Liste!$A$10:$D$163,4),\"\")","v":""},null,null,null,""]
[null,{"$f":"IF(A2919>0,VLOOKUP(A2919,Liste!$B$179                         : Liste!$C$189,2),\"\")","v":""},null,null,{"$f":"IF(D2919>0,VLOOKUP(D2919,Liste!$A$10:$D$163,4),\"\")","v":""},null,null,null,""]
[null,{"$f":"IF(A2920>0,VLOOKUP(A2920,Liste!$B$179                         : Liste!$C$189,2),\"\")","v":""},null,null,{"$f":"IF(D2920>0,VLOOKUP(D2920,Liste!$A$10:$D$163,4),\"\")","v":""},null,null,null,""]
[null,{"$f":"IF(A2921>0,VLOOKUP(A2921,Liste!$B$179                         : Liste!$C$189,2),\"\")","v":""},null,null,{"$f":"IF(D2921>0,VLOOKUP(D2921,Liste!$A$10:$D$163,4),\"\")","v":""},null,null,null,""]
[null,{"$f":"IF(A2922>0,VLOOKUP(A2922,Liste!$B$179                         : Liste!$C$189,2),\"\")","v":""},null,null,{"$f":"IF(D2922>0,VLOOKUP(D2922,Liste!$A$10:$D$163,4),\"\")","v":""},null,null,null,""]
[null,{"$f":"IF(A2923>0,VLOOKUP(A2923,Liste!$B$179                         : Liste!$C$189,2),\"\")","v":""},null,null,{"$f":"IF(D2923>0,VLOOKUP(D2923,Liste!$A$10:$D$163,4),\"\")","v":""},null,null,null,""]
[null,{"$f":"IF(A2924>0,VLOOKUP(A2924,Liste!$B$179                         : Liste!$C$189,2),\"\")","v":""},null,null,{"$f":"IF(D2924>0,VLOOKUP(D2924,Liste!$A$10:$D$163,4),\"\")","v":""},null,null,null,""]
[null,{"$f":"IF(A2925>0,VLOOKUP(A2925,Liste!$B$179                         : Liste!$C$189,2),\"\")","v":""},null,null,{"$f":"IF(D2925>0,VLOOKUP(D2925,Liste!$A$10:$D$163,4),\"\")","v":""},null,null,null,""]
[null,{"$f":"IF(A2926>0,VLOOKUP(A2926,Liste!$B$179                         : Liste!$C$189,2),\"\")","v":""},null,null,{"$f":"IF(D2926>0,VLOOKUP(D2926,Liste!$A$10:$D$163,4),\"\")","v":""},null,null,null,""]
[null,{"$f":"IF(A2927>0,VLOOKUP(A2927,Liste!$B$179                         : Liste!$C$189,2),\"\")","v":""},null,null,{"$f":"IF(D2927>0,VLOOKUP(D2927,Liste!$A$10:$D$163,4),\"\")","v":""},null,null,null,""]
[null,{"$f":"IF(A2928>0,VLOOKUP(A2928,Liste!$B$179                         : Liste!$C$189,2),\"\")","v":""},null,null,{"$f":"IF(D2928>0,VLOOKUP(D2928,Liste!$A$10:$D$163,4),\"\")","v":""},null,null,null,""]
[null,{"$f":"IF(A2929>0,VLOOKUP(A2929,Liste!$B$179                         : Liste!$C$189,2),\"\")","v":""},null,null,{"$f":"IF(D2929>0,VLOOKUP(D2929,Liste!$A$10:$D$163,4),\"\")","v":""},null,null,null,""]
[null,{"$f":"IF(A2930>0,VLOOKUP(A2930,Liste!$B$179                         : Liste!$C$189,2),\"\")","v":""},null,null,{"$f":"IF(D2930>0,VLOOKUP(D2930,Liste!$A$10:$D$163,4),\"\")","v":""},null,null,null,""]
[null,{"$f":"IF(A2931>0,VLOOKUP(A2931,Liste!$B$179                         : Liste!$C$189,2),\"\")","v":""},null,null,{"$f":"IF(D2931>0,VLOOKUP(D2931,Liste!$A$10:$D$163,4),\"\")","v":""},null,null,null,""]
[null,{"$f":"IF(A2932>0,VLOOKUP(A2932,Liste!$B$179                         : Liste!$C$189,2),\"\")","v":""},null,null,{"$f":"IF(D2932>0,VLOOKUP(D2932,Liste!$A$10:$D$163,4),\"\")","v":""},null,null,null,""]
[null,{"$f":"IF(A2933>0,VLOOKUP(A2933,Liste!$B$179                         : Liste!$C$189,2),\"\")","v":""},null,null,{"$f":"IF(D2933>0,VLOOKUP(D2933,Liste!$A$10:$D$163,4),\"\")","v":""},null,null,null,""]
[null,{"$f":"IF(A2934>0,VLOOKUP(A2934,Liste!$B$179                         : Liste!$C$189,2),\"\")","v":""},null,null,{"$f":"IF(D2934>0,VLOOKUP(D2934,Liste!$A$10:$D$163,4),\"\")","v":""},null,null,null,""]
[null,{"$f":"IF(A2935>0,VLOOKUP(A2935,Liste!$B$179                         : Liste!$C$189,2),\"\")","v":""},null,null,{"$f":"IF(D2935>0,VLOOKUP(D2935,Liste!$A$10:$D$163,4),\"\")","v":""},null,null,null,""]
[null,{"$f":"IF(A2936>0,VLOOKUP(A2936,Liste!$B$179                         : Liste!$C$189,2),\"\")","v":""},null,null,{"$f":"IF(D2936>0,VLOOKUP(D2936,Liste!$A$10:$D$163,4),\"\")","v":""},null,null,null,""]
[null,{"$f":"IF(A2937>0,VLOOKUP(A2937,Liste!$B$179                         : Liste!$C$189,2),\"\")","v":""},null,null,{"$f":"IF(D2937>0,VLOOKUP(D2937,Liste!$A$10:$D$163,4),\"\")","v":""},null,null,null,""]
[null,{"$f":"IF(A2938>0,VLOOKUP(A2938,Liste!$B$179                         : Liste!$C$189,2),\"\")","v":""},null,null,{"$f":"IF(D2938>0,VLOOKUP(D2938,Liste!$A$10:$D$163,4),\"\")","v":""},null,null,null,""]
[null,{"$f":"IF(A2939>0,VLOOKUP(A2939,Liste!$B$179                         : Liste!$C$189,2),\"\")","v":""},null,null,{"$f":"IF(D2939>0,VLOOKUP(D2939,Liste!$A$10:$D$163,4),\"\")","v":""},null,null,null,""]
[null,{"$f":"IF(A2940>0,VLOOKUP(A2940,Liste!$B$179                         : Liste!$C$189,2),\"\")","v":""},null,null,{"$f":"IF(D2940>0,VLOOKUP(D2940,Liste!$A$10:$D$163,4),\"\")","v":""},null,null,null,""]
[null,{"$f":"IF(A2941>0,VLOOKUP(A2941,Liste!$B$179                         : Liste!$C$189,2),\"\")","v":""},null,null,{"$f":"IF(D2941>0,VLOOKUP(D2941,Liste!$A$10:$D$163,4),\"\")","v":""},null,null,null,""]
[null,{"$f":"IF(A2942>0,VLOOKUP(A2942,Liste!$B$179                         : Liste!$C$189,2),\"\")","v":""},null,null,{"$f":"IF(D2942>0,VLOOKUP(D2942,Liste!$A$10:$D$163,4),\"\")","v":""},null,null,null,""]
[null,{"$f":"IF(A2943>0,VLOOKUP(A2943,Liste!$B$179                         : Liste!$C$189,2),\"\")","v":""},null,null,{"$f":"IF(D2943>0,VLOOKUP(D2943,Liste!$A$10:$D$163,4),\"\")","v":""},null,null,null,""]
[null,{"$f":"IF(A2944>0,VLOOKUP(A2944,Liste!$B$179                         : Liste!$C$189,2),\"\")","v":""},null,null,{"$f":"IF(D2944>0,VLOOKUP(D2944,Liste!$A$10:$D$163,4),\"\")","v":""},null,null,null,""]
[null,{"$f":"IF(A2945>0,VLOOKUP(A2945,Liste!$B$179                         : Liste!$C$189,2),\"\")","v":""},null,null,{"$f":"IF(D2945>0,VLOOKUP(D2945,Liste!$A$10:$D$163,4),\"\")","v":""},null,null,null,""]
[null,{"$f":"IF(A2946>0,VLOOKUP(A2946,Liste!$B$179                         : Liste!$C$189,2),\"\")","v":""},null,null,{"$f":"IF(D2946>0,VLOOKUP(D2946,Liste!$A$10:$D$163,4),\"\")","v":""},null,null,null,""]
[null,{"$f":"IF(A2947>0,VLOOKUP(A2947,Liste!$B$179                         : Liste!$C$189,2),\"\")","v":""},null,null,{"$f":"IF(D2947>0,VLOOKUP(D2947,Liste!$A$10:$D$163,4),\"\")","v":""},null,null,null,""]
[null,{"$f":"IF(A2948>0,VLOOKUP(A2948,Liste!$B$179                         : Liste!$C$189,2),\"\")","v":""},null,null,{"$f":"IF(D2948>0,VLOOKUP(D2948,Liste!$A$10:$D$163,4),\"\")","v":""},null,null,null,""]
[null,{"$f":"IF(A2949>0,VLOOKUP(A2949,Liste!$B$179                         : Liste!$C$189,2),\"\")","v":""},null,null,{"$f":"IF(D2949>0,VLOOKUP(D2949,Liste!$A$10:$D$163,4),\"\")","v":""},null,null,null,""]
[null,{"$f":"IF(A2950>0,VLOOKUP(A2950,Liste!$B$179                         : Liste!$C$189,2),\"\")","v":""},null,null,{"$f":"IF(D2950>0,VLOOKUP(D2950,Liste!$A$10:$D$163,4),\"\")","v":""},null,null,null,{"$f":"IF(AND(D2950>0,F2950+G2950+H2950=0),\"EN ATTENTE\",IF(F2950+G2950+H2950>1,\"ERREUR\",\"\"))","v":""}]
[null,{"$f":"IF(A2951>0,VLOOKUP(A2951,Liste!$B$179                         : Liste!$C$189,2),\"\")","v":""},null,null,{"$f":"IF(D2951>0,VLOOKUP(D2951,Liste!$A$10:$D$163,4),\"\")","v":""},null,null,null,""]
[null,{"$f":"IF(A2952>0,VLOOKUP(A2952,Liste!$B$179                         : Liste!$C$189,2),\"\")","v":""},null,null,{"$f":"IF(D2952>0,VLOOKUP(D2952,Liste!$A$10:$D$163,4),\"\")","v":""},null,null,null,""]
[null,{"$f":"IF(A2953>0,VLOOKUP(A2953,Liste!$B$179                         : Liste!$C$189,2),\"\")","v":""},null,null,{"$f":"IF(D2953>0,VLOOKUP(D2953,Liste!$A$10:$D$163,4),\"\")","v":""},null,null,null,""]
[null,{"$f":"IF(A2954>0,VLOOKUP(A2954,Liste!$B$179                         : Liste!$C$189,2),\"\")","v":""},null,null,{"$f":"IF(D2954>0,VLOOKUP(D2954,Liste!$A$10:$D$163,4),\"\")","v":""},null,null,null,""]
[null,{"$f":"IF(A2955>0,VLOOKUP(A2955,Liste!$B$179                         : Liste!$C$189,2),\"\")","v":""},null,null,{"$f":"IF(D2955>0,VLOOKUP(D2955,Liste!$A$10:$D$163,4),\"\")","v":""},null,null,null,""]
[null,{"$f":"IF(A2956>0,VLOOKUP(A2956,Liste!$B$179                         : Liste!$C$189,2),\"\")","v":""},null,null,{"$f":"IF(D2956>0,VLOOKUP(D2956,Liste!$A$10:$D$163,4),\"\")","v":""},null,null,null,""]
[null,{"$f":"IF(A2957>0,VLOOKUP(A2957,Liste!$B$179                         : Liste!$C$189,2),\"\")","v":""},null,null,{"$f":"IF(D2957>0,VLOOKUP(D2957,Liste!$A$10:$D$163,4),\"\")","v":""},null,null,null,""]
[null,{"$f":"IF(A2958>0,VLOOKUP(A2958,Liste!$B$179                         : Liste!$C$189,2),\"\")","v":""},null,null,{"$f":"IF(D2958>0,VLOOKUP(D2958,Liste!$A$10:$D$163,4),\"\")","v":""},null,null,null,""]
[null,{"$f":"IF(A2959>0,VLOOKUP(A2959,Liste!$B$179                         : Liste!$C$189,2),\"\")","v":""},null,null,{"$f":"IF(D2959>0,VLOOKUP(D2959,Liste!$A$10:$D$163,4),\"\")","v":""},null,null,null,""]
[null,{"$f":"IF(A2960>0,VLOOKUP(A2960,Liste!$B$179                         : Liste!$C$189,2),\"\")","v":""},null,null,{"$f":"IF(D2960>0,VLOOKUP(D2960,Liste!$A$10:$D$163,4),\"\")","v":""},null,null,null,""]
[null,{"$f":"IF(A2961>0,VLOOKUP(A2961,Liste!$B$179                         : Liste!$C$189,2),\"\")","v":""},null,null,{"$f":"IF(D2961>0,VLOOKUP(D2961,Liste!$A$10:$D$163,4),\"\")","v":""},null,null,null,""]
[null,{"$f":"IF(A2962>0,VLOOKUP(A2962,Liste!$B$179                         : Liste!$C$189,2),\"\")","v":""},null,null,{"$f":"IF(D2962>0,VLOOKUP(D2962,Liste!$A$10:$D$163,4),\"\")","v":""},null,null,null,""]
[null,{"$f":"IF(A2963>0,VLOOKUP(A2963,Liste!$B$179                         : Liste!$C$189,2),\"\")","v":""},null,null,{"$f":"IF(D2963>0,VLOOKUP(D2963,Liste!$A$10:$D$163,4),\"\")","v":""},null,null,null,""]
[null,{"$f":"IF(A2964>0,VLOOKUP(A2964,Liste!$B$179                         : Liste!$C$189,2),\"\")","v":""},null,null,{"$f":"IF(D2964>0,VLOOKUP(D2964,Liste!$A$10:$D$163,4),\"\")","v":""},null,null,null,""]
[null,{"$f":"IF(A2965>0,VLOOKUP(A2965,Liste!$B$179                         : Liste!$C$189,2),\"\")","v":""},null,null,{"$f":"IF(D2965>0,VLOOKUP(D2965,Liste!$A$10:$D$163,4),\"\")","v":""},null,null,null,""]
[null,{"$f":"IF(A2966>0,VLOOKUP(A2966,Liste!$B$179                         : Liste!$C$189,2),\"\")","v":""},null,null,{"$f":"IF(D2966>0,VLOOKUP(D2966,Liste!$A$10:$D$163,4),\"\")","v":""},null,null,null,""]
[null,{"$f":"IF(A2967>0,VLOOKUP(A2967,Liste!$B$179                         : Liste!$C$189,2),\"\")","v":""},null,null,{"$f":"IF(D2967>0,VLOOKUP(D2967,Liste!$A$10:$D$163,4),\"\")","v":""},null,null,null,""]
[null,{"$f":"IF(A2968>0,VLOOKUP(A2968,Liste!$B$179                         : Liste!$C$189,2),\"\")","v":""},null,null,{"$f":"IF(D2968>0,VLOOKUP(D2968,Liste!$A$10:$D$163,4),\"\")","v":""},null,null,null,""]
[null,{"$f":"IF(A2969>0,VLOOKUP(A2969,Liste!$B$179                         : Liste!$C$189,2),\"\")","v":""},null,null,{"$f":"IF(D2969>0,VLOOKUP(D2969,Liste!$A$10:$D$163,4),\"\")","v":""},null,null,null,""]
[null,{"$f":"IF(A2970>0,VLOOKUP(A2970,Liste!$B$179                         : Liste!$C$189,2),\"\")","v":""},null,null,{"$f":"IF(D2970>0,VLOOKUP(D2970,Liste!$A$10:$D$163,4),\"\")","v":""},null,null,null,""]
[null,{"$f":"IF(A2971>0,VLOOKUP(A2971,Liste!$B$179                         : Liste!$C$189,2),\"\")","v":""},null,null,{"$f":"IF(D2971>0,VLOOKUP(D2971,Liste!$A$10:$D$163,4),\"\")","v":""},null,null,null,""]
[null,{"$f":"IF(A2972>0,VLOOKUP(A2972,Liste!$B$179                         : Liste!$C$189,2),\"\")","v":""},null,null,{"$f":"IF(D2972>0,VLOOKUP(D2972,Liste!$A$10:$D$163,4),\"\")","v":""},null,null,null,""]
[null,{"$f":"IF(A2973>0,VLOOKUP(A2973,Liste!$B$179                         : Liste!$C$189,2),\"\")","v":""},null,null,{"$f":"IF(D2973>0,VLOOKUP(D2973,Liste!$A$10:$D$163,4),\"\")","v":""},null,null,null,""]
[null,{"$f":"IF(A2974>0,VLOOKUP(A2974,Liste!$B$179                         : Liste!$C$189,2),\"\")","v":""},null,null,{"$f":"IF(D2974>0,VLOOKUP(D2974,Liste!$A$10:$D$163,4),\"\")","v":""},null,null,null,""]
[null,{"$f":"IF(A2975>0,VLOOKUP(A2975,Liste!$B$179                         : Liste!$C$189,2),\"\")","v":""},null,null,{"$f":"IF(D2975>0,VLOOKUP(D2975,Liste!$A$10:$D$163,4),\"\")","v":""},null,null,null,""]
[null,{"$f":"IF(A2976>0,VLOOKUP(A2976,Liste!$B$179                         : Liste!$C$189,2),\"\")","v":""},null,null,{"$f":"IF(D2976>0,VLOOKUP(D2976,Liste!$A$10:$D$163,4),\"\")","v":""},null,null,null,""]
[null,{"$f":"IF(A2977>0,VLOOKUP(A2977,Liste!$B$179                         : Liste!$C$189,2),\"\")","v":""},null,null,{"$f":"IF(D2977>0,VLOOKUP(D2977,Liste!$A$10:$D$163,4),\"\")","v":""},null,null,null,""]
[null,{"$f":"IF(A2978>0,VLOOKUP(A2978,Liste!$B$179                         : Liste!$C$189,2),\"\")","v":""},null,null,{"$f":"IF(D2978>0,VLOOKUP(D2978,Liste!$A$10:$D$163,4),\"\")","v":""},null,null,null,""]
[null,{"$f":"IF(A2979>0,VLOOKUP(A2979,Liste!$B$179                         : Liste!$C$189,2),\"\")","v":""},null,null,{"$f":"IF(D2979>0,VLOOKUP(D2979,Liste!$A$10:$D$163,4),\"\")","v":""},null,null,null,""]
[null,{"$f":"IF(A2980>0,VLOOKUP(A2980,Liste!$B$179                         : Liste!$C$189,2),\"\")","v":""},null,null,{"$f":"IF(D2980>0,VLOOKUP(D2980,Liste!$A$10:$D$163,4),\"\")","v":""},null,null,null,""]
[null,{"$f":"IF(A2981>0,VLOOKUP(A2981,Liste!$B$179                         : Liste!$C$189,2),\"\")","v":""},null,null,{"$f":"IF(D2981>0,VLOOKUP(D2981,Liste!$A$10:$D$163,4),\"\")","v":""},null,null,null,""]
[null,{"$f":"IF(A2982>0,VLOOKUP(A2982,Liste!$B$179                         : Liste!$C$189,2),\"\")","v":""},null,null,{"$f":"IF(D2982>0,VLOOKUP(D2982,Liste!$A$10:$D$163,4),\"\")","v":""},null,null,null,{"$f":"IF(AND(D2982>0,F2982+G2982+H2982=0),\"EN ATTENTE\",IF(F2982+G2982+H2982>1,\"ERREUR\",\"\"))","v":""}]
[null,{"$f":"IF(A2983>0,VLOOKUP(A2983,Liste!$B$179                         : Liste!$C$189,2),\"\")","v":""},null,null,{"$f":"IF(D2983>0,VLOOKUP(D2983,Liste!$A$10:$D$163,4),\"\")","v":""},null,null,null,""]
[null,{"$f":"IF(A2984>0,VLOOKUP(A2984,Liste!$B$179                         : Liste!$C$189,2),\"\")","v":""},null,null,{"$f":"IF(D2984>0,VLOOKUP(D2984,Liste!$A$10:$D$163,4),\"\")","v":""},null,null,null,""]
[null,{"$f":"IF(A2985>0,VLOOKUP(A2985,Liste!$B$179                         : Liste!$C$189,2),\"\")","v":""},null,null,{"$f":"IF(D2985>0,VLOOKUP(D2985,Liste!$A$10:$D$163,4),\"\")","v":""},null,null,null,""]
[null,{"$f":"IF(A2986>0,VLOOKUP(A2986,Liste!$B$179                         : Liste!$C$189,2),\"\")","v":""},null,null,{"$f":"IF(D2986>0,VLOOKUP(D2986,Liste!$A$10:$D$163,4),\"\")","v":""},null,null,null,""]
[null,{"$f":"IF(A2987>0,VLOOKUP(A2987,Liste!$B$179                         : Liste!$C$189,2),\"\")","v":""},null,null,{"$f":"IF(D2987>0,VLOOKUP(D2987,Liste!$A$10:$D$163,4),\"\")","v":""},null,null,null,""]
[null,{"$f":"IF(A2988>0,VLOOKUP(A2988,Liste!$B$179                         : Liste!$C$189,2),\"\")","v":""},null,null,{"$f":"IF(D2988>0,VLOOKUP(D2988,Liste!$A$10:$D$163,4),\"\")","v":""},null,null,null,""]
[null,{"$f":"IF(A2989>0,VLOOKUP(A2989,Liste!$B$179                         : Liste!$C$189,2),\"\")","v":""},null,null,{"$f":"IF(D2989>0,VLOOKUP(D2989,Liste!$A$10:$D$163,4),\"\")","v":""},null,null,null,""]
[null,{"$f":"IF(A2990>0,VLOOKUP(A2990,Liste!$B$179                         : Liste!$C$189,2),\"\")","v":""},null,null,{"$f":"IF(D2990>0,VLOOKUP(D2990,Liste!$A$10:$D$163,4),\"\")","v":""},null,null,null,""]
[null,{"$f":"IF(A2991>0,VLOOKUP(A2991,Liste!$B$179                         : Liste!$C$189,2),\"\")","v":""},null,null,{"$f":"IF(D2991>0,VLOOKUP(D2991,Liste!$A$10:$D$163,4),\"\")","v":""},null,null,null,""]
[null,{"$f":"IF(A2992>0,VLOOKUP(A2992,Liste!$B$179                         : Liste!$C$189,2),\"\")","v":""},null,null,{"$f":"IF(D2992>0,VLOOKUP(D2992,Liste!$A$10:$D$163,4),\"\")","v":""},null,null,null,""]
[null,{"$f":"IF(A2993>0,VLOOKUP(A2993,Liste!$B$179                         : Liste!$C$189,2),\"\")","v":""},null,null,{"$f":"IF(D2993>0,VLOOKUP(D2993,Liste!$A$10:$D$163,4),\"\")","v":""},null,null,null,""]
[null,{"$f":"IF(A2994>0,VLOOKUP(A2994,Liste!$B$179                         : Liste!$C$189,2),\"\")","v":""},null,null,{"$f":"IF(D2994>0,VLOOKUP(D2994,Liste!$A$10:$D$163,4),\"\")","v":""},null,null,null,""]
[null,{"$f":"IF(A2995>0,VLOOKUP(A2995,Liste!$B$179                         : Liste!$C$189,2),\"\")","v":""},null,null,{"$f":"IF(D2995>0,VLOOKUP(D2995,Liste!$A$10:$D$163,4),\"\")","v":""},null,null,null,""]
[null,{"$f":"IF(A2996>0,VLOOKUP(A2996,Liste!$B$179                         : Liste!$C$189,2),\"\")","v":""},null,null,{"$f":"IF(D2996>0,VLOOKUP(D2996,Liste!$A$10:$D$163,4),\"\")","v":""},null,null,null,""]
[null,{"$f":"IF(A2997>0,VLOOKUP(A2997,Liste!$B$179                         : Liste!$C$189,2),\"\")","v":""},null,null,{"$f":"IF(D2997>0,VLOOKUP(D2997,Liste!$A$10:$D$163,4),\"\")","v":""},null,null,null,""]
[null,{"$f":"IF(A2998>0,VLOOKUP(A2998,Liste!$B$179                         : Liste!$C$189,2),\"\")","v":""},null,null,{"$f":"IF(D2998>0,VLOOKUP(D2998,Liste!$A$10:$D$163,4),\"\")","v":""},null,null,null,""]
[null,{"$f":"IF(A2999>0,VLOOKUP(A2999,Liste!$B$179                         : Liste!$C$189,2),\"\")","v":""},null,null,{"$f":"IF(D2999>0,VLOOKUP(D2999,Liste!$A$10:$D$163,4),\"\")","v":""},null,null,null,""]
[null,{"$f":"IF(A3000>0,VLOOKUP(A3000,Liste!$B$179                         : Liste!$C$189,2),\"\")","v":""},null,null,{"$f":"IF(D3000>0,VLOOKUP(D3000,Liste!$A$10:$D$163,4),\"\")","v":""},null,null,null,""]
[null,null,null,null,null,{"$f":"IF(E3001>0,VLOOKUP(E3001,Liste!$A$10:$D$163,4),\"\")","v":""},null,null,null,{"$f":"IF(AND(E3001>0,G3001+H3001+I3001=0),\"EN ATTENTE\",IF(G3001+H3001+I3001>1,\"ERREUR\",\"\"))","v":""}]
[null,null,null,null,null,{"$f":"IF(E3002>0,VLOOKUP(E3002,Liste!$A$10:$D$163,4),\"\")","v":""},null,null,null,""]
[null,null,null,null,null,{"$f":"IF(E3003>0,VLOOKUP(E3003,Liste!$A$10:$D$163,4),\"\")","v":""},null,null,null,""]
[null,null,null,null,null,{"$f":"IF(E3004>0,VLOOKUP(E3004,Liste!$A$10:$D$163,4),\"\")","v":""},null,null,null,""]
[null,null,null,null,null,{"$f":"IF(E3005>0,VLOOKUP(E3005,Liste!$A$10:$D$163,4),\"\")","v":""},null,null,null,""]
[null,null,null,null,null,{"$f":"IF(E3006>0,VLOOKUP(E3006,Liste!$A$10:$D$163,4),\"\")","v":""}]
[null,null,null,null,null,{"$f":"IF(E3007>0,VLOOKUP(E3007,Liste!$A$10:$D$159,4),\"\")","v":""}]
[null,null,null,null,null,{"$f":"IF(E3008>0,VLOOKUP(E3008,Liste!$A$10:$D$159,4),\"\")","v":""}]
[null,null,null,null,null,{"$f":"IF(E3009>0,VLOOKUP(E3009,Liste!$A$10:$D$159,4),\"\")","v":""}]
[null,null,null,null,null,{"$f":"IF(E3010>0,VLOOKUP(E3010,Liste!$A$10:$D$159,4),\"\")","v":""}]
[null,null,null,null,null,{"$f":"IF(E3011>0,VLOOKUP(E3011,Liste!$A$10:$D$159,4),\"\")","v":""}]

{"sheet":"VPCQuestions","index":3,"n_rows":330,"n_cols":9,"rows_kept":330,"cut":false,"hidden":false,"merged":[]}
[]
[]
[null,null,"VPC par QUESTIONS"]
[]
["Question","Objet","CLES","N°Copros","NOMS","POUR","CONTRE","ABBST","VERIF"]
[1,{"$f":"IF(A6>0,VLOOKUP(A6,Liste!$B$179                         : Liste!$C$189,2),\"\")","v":"Charges générales   "},1,2,{"$f":"IF(D6>0,VLOOKUP(D6,Liste!$A$10:$D$163,4),\"\")","v":"ANNINOS Henri"},null,null,1,{"$f":"IF(AND(D6>0,F6+G6+H6=0),\"EN ATTENTE\",IF(F6+G6+H6>1,\"ERREUR\",\"\"))","v":""}]
[1,{"$f":"IF(A7>0,VLOOKUP(A7,Liste!$B$179                         : Liste!$C$189,2),\"\")","v":"Charges générales   "},1,3,{"$f":"IF(D7>0,VLOOKUP(D7,Liste!$A$10:$D$163,4),\"\")","v":"BALDACCHINO Laurence"},1]
[1,{"$f":"IF(A8>0,VLOOKUP(A8,Liste!$B$179                         : Liste!$C$189,2),\"\")","v":"Charges générales   "},1,4,{"$f":"IF(D8>0,VLOOKUP(D8,Liste!$A$10:$D$163,4),\"\")","v":"BANCHET Joseph"},null,1,null,{"$f":"IF(AND(D8>0,F8+G8+H8=0),\"EN ATTENTE\",IF(F8+G8+H8>1,\"ERREUR\",\"\"))","v":""}]
[1,{"$f":"IF(A9>0,VLOOKUP(A9,Liste!$B$179                         : Liste!$C$189,2),\"\")","v":"Charges générales   "},1,14,{"$f":"IF(D9>0,VLOOKUP(D9,Liste!$A$10:$D$163,4),\"\")","v":"BERLIER David"},1,null,null,{"$f":"IF(AND(D9>0,F9+G9+H9=0),\"EN ATTENTE\",IF(F9+G9+H9>1,\"ERREUR\",\"\"))","v":""}]
[1,{"$f":"IF(A10>0,VLOOKUP(A10,Liste!$B$179                         : Liste!$C$189,2),\"\")","v":"Charges générales   "},1,15,{"$f":"IF(D10>0,VLOOKUP(D10,Liste!$A$10:$D$163,4),\"\")","v":"BESSON Gabriel"},null,null,1,{"$f":"IF(AND(D10>0,F10+G10+H10=0),\"EN ATTENTE\",IF(F10+G10+H10>1,\"ERREUR\",\"\"))","v":""}]
[1,{"$f":"IF(A11>0,VLOOKUP(A11,Liste!$B$179                         : Liste!$C$189,2),\"\")","v":"Charges générales   "},1,18,{"$f":"IF(D11>0,VLOOKUP(D11,Liste!$A$10:$D$163,4),\"\")","v":"DI JORIO Marcel"},null,null,1,{"$f":"IF(AND(D11>0,F11+G11+H11=0),\"EN ATTENTE\",IF(F11+G11+H11>1,\"ERREUR\",\"\"))","v":""}]
[1,{"$f":"IF(A12>0,VLOOKUP(A12,Liste!$B$179                         : Liste!$C$189,2),\"\")","v":"Charges générales   "},1,26,{"$f":"IF(D12>0,VLOOKUP(D12,Liste!$A$10:$D$163,4),\"\")","v":"GARCIA Christophe"},1,null,null,{"$f":"IF(AND(D12>0,F12+G12+H12=0),\"EN ATTENTE\",IF(F12+G12+H12>1,\"ERREUR\",\"\"))","v":""}]
["Total 1",null,{"$f":"SUBTOTAL(9,C6:C12)","v":7}]
[2,{"$f":"IF(A14>0,VLOOKUP(A14,Liste!$B$179                         : Liste!$C$189,2),\"\")","v":"Charges Bat,A"},2,2,{"$f":"IF(D14>0,VLOOKUP(D14,Liste!$A$10:$D$163,4),\"\")","v":"ANNINOS Henri"},null,null,1,{"$f":"IF(AND(D14>0,F14+G14+H14=0),\"EN ATTENTE\",IF(F14+G14+H14>1,\"ERREUR\",\"\"))","v":""}]
[2,{"$f":"IF(A15>0,VLOOKUP(A15,Liste!$B$179                         : Liste!$C$189,2),\"\")","v":"Charges Bat,A"},2,3,{"$f":"IF(D15>0,VLOOKUP(D15,Liste!$A$10:$D$163,4),\"\")","v":"BALDACCHINO Laurence"},1,null,null,""]
[2,{"$f":"IF(A16>0,VLOOKUP(A16,Liste!$B$179                         : Liste!$C$189,2),\"\")","v":"Charges Bat,A"},2,4,{"$f":"IF(D16>0,VLOOKUP(D16,Liste!$A$10:$D$163,4),\"\")","v":"BANCHET Joseph"},null,1,null,""]
[2,{"$f":"IF(A17>0,VLOOKUP(A17,Liste!$B$179                         : Liste!$C$189,2),\"\")","v":"Charges Bat,A"},2,14,{"$f":"IF(D17>0,VLOOKUP(D17,Liste!$A$10:$D$163,4),\"\")","v":"BERLIER David"},1,null,null,""]
[2,{"$f":"IF(A18>0,VLOOKUP(A18,Liste!$B$179                         : Liste!$C$189,2),\"\")","v":"Charges Bat,A"},2,15,{"$f":"IF(D18>0,VLOOKUP(D18,Liste!$A$10:$D$163,4),\"\")","v":"BESSON Gabriel"},null,null,1,""]
[2,{"$f":"IF(A19>0,VLOOKUP(A19,Liste!$B$179                         : Liste!$C$189,2),\"\")","v":"Charges Bat,A"},2,18,{"$f":"IF(D19>0,VLOOKUP(D19,Liste!$A$10:$D$163,4),\"\")","v":"DI JORIO Marcel"},null,null,1,""]
[2,{"$f":"IF(A20>0,VLOOKUP(A20,Liste!$B$179                         : Liste!$C$189,2),\"\")","v":"Charges Bat,A"},2,26,{"$f":"IF(D20>0,VLOOKUP(D20,Liste!$A$10:$D$163,4),\"\")","v":"GARCIA Christophe"},1,null,null,""]
["Total 2",null,{"$f":"SUBTOTAL(9,C14:C20)","v":14}]
[3,{"$f":"IF(A22>0,VLOOKUP(A22,Liste!$B$179                         : Liste!$C$189,2),\"\")","v":"Chardes Bât,B"},3,2,{"$f":"IF(D22>0,VLOOKUP(D22,Liste!$A$10:$D$163,4),\"\")","v":"ANNINOS Henri"},null,null,1,{"$f":"IF(AND(D22>0,F22+G22+H22=0),\"EN ATTENTE\",IF(F22+G22+H22>1,\"ERREUR\",\"\"))","v":""}]
[3,{"$f":"IF(A23>0,VLOOKUP(A23,Liste!$B$179                         : Liste!$C$189,2),\"\")","v":"Chardes Bât,B"},3,3,{"$f":"IF(D23>0,VLOOKUP(D23,Liste!$A$10:$D$163,4),\"\")","v":"BALDACCHINO Laurence"},1,null,null,""]
[3,{"$f":"IF(A24>0,VLOOKUP(A24,Liste!$B$179                         : Liste!$C$189,2),\"\")","v":"Chardes Bât,B"},3,4,{"$f":"IF(D24>0,VLOOKUP(D24,Liste!$A$10:$D$163,4),\"\")","v":"BANCHET Joseph"},null,1,null,""]
[3,{"$f":"IF(A25>0,VLOOKUP(A25,Liste!$B$179                         : Liste!$C$189,2),\"\")","v":"Chardes Bât,B"},3,14,{"$f":"IF(D25>0,VLOOKUP(D25,Liste!$A$10:$D$163,4),\"\")","v":"BERLIER David"},1,null,null,""]
[3,{"$f":"IF(A26>0,VLOOKUP(A26,Liste!$B$179                         : Liste!$C$189,2),\"\")","v":"Chardes Bât,B"},3,15,{"$f":"IF(D26>0,VLOOKUP(D26,Liste!$A$10:$D$163,4),\"\")","v":"BESSON Gabriel"},null,null,1,""]
[3,{"$f":"IF(A27>0,VLOOKUP(A27,Liste!$B$179                         : Liste!$C$189,2),\"\")","v":"Chardes Bât,B"},3,18,{"$f":"IF(D27>0,VLOOKUP(D27,Liste!$A$10:$D$163,4),\"\")","v":"DI JORIO Marcel"},null,null,1,""]
[3,{"$f":"IF(A28>0,VLOOKUP(A28,Liste!$B$179                         : Liste!$C$189,2),\"\")","v":"Chardes Bât,B"},3,26,{"$f":"IF(D28>0,VLOOKUP(D28,Liste!$A$10:$D$163,4),\"\")","v":"GARCIA Christophe"},1,null,null,""]
["Total 3",null,{"$f":"SUBTOTAL(9,C22:C28)","v":21}]
[4,{"$f":"IF(A30>0,VLOOKUP(A30,Liste!$B$179                         : Liste!$C$189,2),\"\")","v":"Ch,4"},1,2,{"$f":"IF(D30>0,VLOOKUP(D30,Liste!$A$10:$D$163,4),\"\")","v":"ANNINOS Henri"},null,null,1,{"$f":"IF(AND(D30>0,F30+G30+H30=0),\"EN ATTENTE\",IF(F30+G30+H30>1,\"ERREUR\",\"\"))","v":""}]
[4,{"$f":"IF(A31>0,VLOOKUP(A31,Liste!$B$179                         : Liste!$C$189,2),\"\")","v":"Ch,4"},1,3,{"$f":"IF(D31>0,VLOOKUP(D31,Liste!$A$10:$D$163,4),\"\")","v":"BALDACCHINO Laurence"},1,null,null,""]
[4,{"$f":"IF(A32>0,VLOOKUP(A32,Liste!$B$179                         : Liste!$C$189,2),\"\")","v":"Ch,4"},1,4,{"$f":"IF(D32>0,VLOOKUP(D32,Liste!$A$10:$D$163,4),\"\")","v":"BANCHET Joseph"},null,1,null,""]
[4,{"$f":"IF(A33>0,VLOOKUP(A33,Liste!$B$179                         : Liste!$C$189,2),\"\")","v":"Ch,4"},1,14,{"$f":"IF(D33>0,VLOOKUP(D33,Liste!$A$10:$D$163,4),\"\")","v":"BERLIER David"},1,null,null,""]
[4,{"$f":"IF(A34>0,VLOOKUP(A34,Liste!$B$179                         : Liste!$C$189,2),\"\")","v":"Ch,4"},1,15,{"$f":"IF(D34>0,VLOOKUP(D34,Liste!$A$10:$D$163,4),\"\")","v":"BESSON Gabriel"},null,null,1,""]
[4,{"$f":"IF(A35>0,VLOOKUP(A35,Liste!$B$179                         : Liste!$C$189,2),\"\")","v":"Ch,4"},1,18,{"$f":"IF(D35>0,VLOOKUP(D35,Liste!$A$10:$D$163,4),\"\")","v":"DI JORIO Marcel"},null,null,1,""]
[4,{"$f":"IF(A36>0,VLOOKUP(A36,Liste!$B$179                         : Liste!$C$189,2),\"\")","v":"Ch,4"},1,26,{"$f":"IF(D36>0,VLOOKUP(D36,Liste!$A$10:$D$163,4),\"\")","v":"GARCIA Christophe"},1,null,null,""]
["Total 4",null,{"$f":"SUBTOTAL(9,C30:C36)","v":7}]
[5,{"$f":"IF(A38>0,VLOOKUP(A38,Liste!$B$179                         : Liste!$C$189,2),\"\")","v":"Ch,5"},1,2,{"$f":"IF(D38>0,VLOOKUP(D38,Liste!$A$10:$D$163,4),\"\")","v":"ANNINOS Henri"},null,null,1,{"$f":"IF(AND(D38>0,F38+G38+H38=0),\"EN ATTENTE\",IF(F38+G38+H38>1,\"ERREUR\",\"\"))","v":""}]
[5,{"$f":"IF(A39>0,VLOOKUP(A39,Liste!$B$179                         : Liste!$C$189,2),\"\")","v":"Ch,5"},1,3,{"$f":"IF(D39>0,VLOOKUP(D39,Liste!$A$10:$D$163,4),\"\")","v":"BALDACCHINO Laurence"},1,null,null,""]
[5,{"$f":"IF(A40>0,VLOOKUP(A40,Liste!$B$179                         : Liste!$C$189,2),\"\")","v":"Ch,5"},1,4,{"$f":"IF(D40>0,VLOOKUP(D40,Liste!$A$10:$D$163,4),\"\")","v":"BANCHET Joseph"},null,1,null,""]
[5,{"$f":"IF(A41>0,VLOOKUP(A41,Liste!$B$179                         : Liste!$C$189,2),\"\")","v":"Ch,5"},1,14,{"$f":"IF(D41>0,VLOOKUP(D41,Liste!$A$10:$D$163,4),\"\")","v":"BERLIER David"},1,null,null,""]
[5,{"$f":"IF(A42>0,VLOOKUP(A42,Liste!$B$179                         : Liste!$C$189,2),\"\")","v":"Ch,5"},1,15,{"$f":"IF(D42>0,VLOOKUP(D42,Liste!$A$10:$D$163,4),\"\")","v":"BESSON Gabriel"},null,null,1,""]
[5,{"$f":"IF(A43>0,VLOOKUP(A43,Liste!$B$179                         : Liste!$C$189,2),\"\")","v":"Ch,5"},1,18,"DI JORIO Marcel",null,null,1,""]
[5,{"$f":"IF(A44>0,VLOOKUP(A44,Liste!$B$179                         : Liste!$C$189,2),\"\")","v":"Ch,5"},3,26,{"$f":"IF(D44>0,VLOOKUP(D44,Liste!$A$10:$D$163,4),\"\")","v":"GARCIA Christophe"},1,null,null,""]
["Total 5",null,{"$f":"SUBTOTAL(9,C38:C44)","v":9}]
[null,{"$f":"IF(A46>0,VLOOKUP(A46,Liste!$B$179                         : Liste!$C$189,2),\"\")","v":""},null,null,{"$f":"IF(D46>0,VLOOKUP(D46,Liste!$A$10:$D$163,4),\"\")","v":""},null,null,null,{"$f":"IF(AND(D46>0,F46+G46+H46=0),\"EN ATTENTE\",IF(F46+G46+H46>1,\"ERREUR\",\"\"))","v":""}]
[null,{"$f":"IF(A47>0,VLOOKUP(A47,Liste!$B$179                         : Liste!$C$189,2),\"\")","v":""},null,null,{"$f":"IF(D47>0,VLOOKUP(D47,Liste!$A$10:$D$163,4),\"\")","v":""},null,null,null,""]
[null,{"$f":"IF(A48>0,VLOOKUP(A48,Liste!$B$179                         : Liste!$C$189,2),\"\")","v":""},null,null,{"$f":"IF(D48>0,VLOOKUP(D48,Liste!$A$10:$D$163,4),\"\")","v":""},null,null,null,""]
[null,{"$f":"IF(A49>0,VLOOKUP(A49,Liste!$B$179                         : Liste!$C$189,2),\"\")","v":""},null,null,{"$f":"IF(D49>0,VLOOKUP(D49,Liste!$A$10:$D$163,4),\"\")","v":""},null,null,null,""]
[null,{"$f":"IF(A50>0,VLOOKUP(A50,Liste!$B$179                         : Liste!$C$189,2),\"\")","v":""},null,null,{"$f":"IF(D50>0,VLOOKUP(D50,Liste!$A$10:$D$163,4),\"\")","v":""},null,null,null,""]
[null,{"$f":"IF(A51>0,VLOOKUP(A51,Liste!$B$179                         : Liste!$C$189,2),\"\")","v":""},null,null,{"$f":"IF(D51>0,VLOOKUP(D51,Liste!$A$10:$D$163,4),\"\")","v":""},null,null,null,""]
[null,{"$f":"IF(A52>0,VLOOKUP(A52,Liste!$B$179                         : Liste!$C$189,2),\"\")","v":""},null,null,{"$f":"IF(D52>0,VLOOKUP(D52,Liste!$A$10:$D$163,4),\"\")","v":""},null,null,null,""]
[null,{"$f":"IF(A53>0,VLOOKUP(A53,Liste!$B$179                         : Liste!$C$189,2),\"\")","v":""},null,null,{"$f":"IF(D53>0,VLOOKUP(D53,Liste!$A$10:$D$163,4),\"\")","v":""},null,null,null,""]
[null,{"$f":"IF(A54>0,VLOOKUP(A54,Liste!$B$179                         : Liste!$C$189,2),\"\")","v":""},null,null,{"$f":"IF(D54>0,VLOOKUP(D54,Liste!$A$10:$D$163,4),\"\")","v":""},null,null,null,""]
[null,{"$f":"IF(A55>0,VLOOKUP(A55,Liste!$B$179                         : Liste!$C$189,2),\"\")","v":""},null,null,{"$f":"IF(D55>0,VLOOKUP(D55,Liste!$A$10:$D$163,4),\"\")","v":""},null,null,null,""]
[null,{"$f":"IF(A56>0,VLOOKUP(A56,Liste!$B$179                         : Liste!$C$189,2),\"\")","v":""},null,null,{"$f":"IF(D56>0,VLOOKUP(D56,Liste!$A$10:$D$163,4),\"\")","v":""},null,null,null,""]
[null,{"$f":"IF(A57>0,VLOOKUP(A57,Liste!$B$179                         : Liste!$C$189,2),\"\")","v":""},null,null,{"$f":"IF(D57>0,VLOOKUP(D57,Liste!$A$10:$D$163,4),\"\")","v":""},null,null,null,""]
[null,{"$f":"IF(A58>0,VLOOKUP(A58,Liste!$B$179                         : Liste!$C$189,2),\"\")","v":""},null,null,{"$f":"IF(D58>0,VLOOKUP(D58,Liste!$A$10:$D$163,4),\"\")","v":""},null,null,null,""]
[null,{"$f":"IF(A59>0,VLOOKUP(A59,Liste!$B$179                         : Liste!$C$189,2),\"\")","v":""},null,null,{"$f":"IF(D59>0,VLOOKUP(D59,Liste!$A$10:$D$163,4),\"\")","v":""},null,null,null,""]
[null,{"$f":"IF(A60>0,VLOOKUP(A60,Liste!$B$179                         : Liste!$C$189,2),\"\")","v":""},null,null,{"$f":"IF(D60>0,VLOOKUP(D60,Liste!$A$10:$D$163,4),\"\")","v":""},null,null,null,""]
[null,{"$f":"IF(A61>0,VLOOKUP(A61,Liste!$B$179                         : Liste!$C$189,2),\"\")","v":""},null,null,{"$f":"IF(D61>0,VLOOKUP(D61,Liste!$A$10:$D$163,4),\"\")","v":""},null,null,null,""]
[null,{"$f":"IF(A62>0,VLOOKUP(A62,Liste!$B$179                         : Liste!$C$189,2),\"\")","v":""},null,null,{"$f":"IF(D62>0,VLOOKUP(D62,Liste!$A$10:$D$163,4),\"\")","v":""},null,null,null,""]
[null,{"$f":"IF(A63>0,VLOOKUP(A63,Liste!$B$179                         : Liste!$C$189,2),\"\")","v":""},null,null,{"$f":"IF(D63>0,VLOOKUP(D63,Liste!$A$10:$D$163,4),\"\")","v":""},null,null,null,""]
[null,{"$f":"IF(A64>0,VLOOKUP(A64,Liste!$B$179                         : Liste!$C$189,2),\"\")","v":""},null,null,{"$f":"IF(D64>0,VLOOKUP(D64,Liste!$A$10:$D$163,4),\"\")","v":""},null,null,null,""]
[null,{"$f":"IF(A65>0,VLOOKUP(A65,Liste!$B$179                         : Liste!$C$189,2),\"\")","v":""},null,null,{"$f":"IF(D65>0,VLOOKUP(D65,Liste!$A$10:$D$163,4),\"\")","v":""},null,null,null,""]
[null,{"$f":"IF(A66>0,VLOOKUP(A66,Liste!$B$179                         : Liste!$C$189,2),\"\")","v":""},null,null,{"$f":"IF(D66>0,VLOOKUP(D66,Liste!$A$10:$D$163,4),\"\")","v":""},null,null,null,""]
[null,{"$f":"IF(A67>0,VLOOKUP(A67,Liste!$B$179                         : Liste!$C$189,2),\"\")","v":""},null,null,{"$f":"IF(D67>0,VLOOKUP(D67,Liste!$A$10:$D$163,4),\"\")","v":""},null,null,null,""]
[null,{"$f":"IF(A68>0,VLOOKUP(A68,Liste!$B$179                         : Liste!$C$189,2),\"\")","v":""},null,null,{"$f":"IF(D68>0,VLOOKUP(D68,Liste!$A$10:$D$163,4),\"\")","v":""},null,null,null,""]
[null,{"$f":"IF(A69>0,VLOOKUP(A69,Liste!$B$179                         : Liste!$C$189,2),\"\")","v":""},null,null,{"$f":"IF(D69>0,VLOOKUP(D69,Liste!$A$10:$D$163,4),\"\")","v":""},null,null,null,""]
[null,{"$f":"IF(A70>0,VLOOKUP(A70,Liste!$B$179                         : Liste!$C$189,2),\"\")","v":""},null,null,{"$f":"IF(D70>0,VLOOKUP(D70,Liste!$A$10:$D$163,4),\"\")","v":""},null,null,null,""]
[null,{"$f":"IF(A71>0,VLOOKUP(A71,Liste!$B$179                         : Liste!$C$189,2),\"\")","v":""},null,null,{"$f":"IF(D71>0,VLOOKUP(D71,Liste!$A$10:$D$163,4),\"\")","v":""},null,null,null,""]
[null,{"$f":"IF(A72>0,VLOOKUP(A72,Liste!$B$179                         : Liste!$C$189,2),\"\")","v":""},null,null,{"$f":"IF(D72>0,VLOOKUP(D72,Liste!$A$10:$D$163,4),\"\")","v":""},null,null,null,""]
[null,{"$f":"IF(A73>0,VLOOKUP(A73,Liste!$B$179                         : Liste!$C$189,2),\"\")","v":""},null,null,{"$f":"IF(D73>0,VLOOKUP(D73,Liste!$A$10:$D$163,4),\"\")","v":""},null,null,null,""]
[null,{"$f":"IF(A74>0,VLOOKUP(A74,Liste!$B$179                         : Liste!$C$189,2),\"\")","v":""},null,null,{"$f":"IF(D74>0,VLOOKUP(D74,Liste!$A$10:$D$163,4),\"\")","v":""},null,null,null,""]
[null,{"$f":"IF(A75>0,VLOOKUP(A75,Liste!$B$179                         : Liste!$C$189,2),\"\")","v":""},null,null,{"$f":"IF(D75>0,VLOOKUP(D75,Liste!$A$10:$D$163,4),\"\")","v":""},null,null,null,""]
[null,{"$f":"IF(A76>0,VLOOKUP(A76,Liste!$B$179                         : Liste!$C$189,2),\"\")","v":""},null,null,{"$f":"IF(D76>0,VLOOKUP(D76,Liste!$A$10:$D$163,4),\"\")","v":""},null,null,null,""]
[null,{"$f":"IF(A77>0,VLOOKUP(A77,Liste!$B$179                         : Liste!$C$189,2),\"\")","v":""},null,null,{"$f":"IF(D77>0,VLOOKUP(D77,Liste!$A$10:$D$163,4),\"\")","v":""},null,null,null,""]
[null,{"$f":"IF(A78>0,VLOOKUP(A78,Liste!$B$179                         : Liste!$C$189,2),\"\")","v":""},null,null,{"$f":"IF(D78>0,VLOOKUP(D78,Liste!$A$10:$D$163,4),\"\")","v":""},null,null,null,""]
[null,{"$f":"IF(A79>0,VLOOKUP(A79,Liste!$B$179                         : Liste!$C$189,2),\"\")","v":""},null,null,{"$f":"IF(D79>0,VLOOKUP(D79,Liste!$A$10:$D$163,4),\"\")","v":""},null,null,null,""]
[null,{"$f":"IF(A80>0,VLOOKUP(A80,Liste!$B$179                         : Liste!$C$189,2),\"\")","v":""},null,null,{"$f":"IF(D80>0,VLOOKUP(D80,Liste!$A$10:$D$163,4),\"\")","v":""},null,null,null,""]
[null,{"$f":"IF(A81>0,VLOOKUP(A81,Liste!$B$179                         : Liste!$C$189,2),\"\")","v":""},null,null,{"$f":"IF(D81>0,VLOOKUP(D81,Liste!$A$10:$D$163,4),\"\")","v":""},null,null,null,""]
[null,{"$f":"IF(A82>0,VLOOKUP(A82,Liste!$B$179                         : Liste!$C$189,2),\"\")","v":""},null,null,{"$f":"IF(D82>0,VLOOKUP(D82,Liste!$A$10:$D$163,4),\"\")","v":""},null,null,null,""]
[null,{"$f":"IF(A83>0,VLOOKUP(A83,Liste!$B$179                         : Liste!$C$189,2),\"\")","v":""},null,null,{"$f":"IF(D83>0,VLOOKUP(D83,Liste!$A$10:$D$163,4),\"\")","v":""},null,null,null,""]
[null,{"$f":"IF(A84>0,VLOOKUP(A84,Liste!$B$179                         : Liste!$C$189,2),\"\")","v":""},null,null,{"$f":"IF(D84>0,VLOOKUP(D84,Liste!$A$10:$D$163,4),\"\")","v":""},null,null,null,""]
[null,{"$f":"IF(A85>0,VLOOKUP(A85,Liste!$B$179                         : Liste!$C$189,2),\"\")","v":""},null,null,{"$f":"IF(D85>0,VLOOKUP(D85,Liste!$A$10:$D$163,4),\"\")","v":""},null,null,null,""]
[null,{"$f":"IF(A86>0,VLOOKUP(A86,Liste!$B$179                         : Liste!$C$189,2),\"\")","v":""},null,null,{"$f":"IF(D86>0,VLOOKUP(D86,Liste!$A$10:$D$163,4),\"\")","v":""},null,null,null,""]
[null,{"$f":"IF(A87>0,VLOOKUP(A87,Liste!$B$179                         : Liste!$C$189,2),\"\")","v":""},null,null,{"$f":"IF(D87>0,VLOOKUP(D87,Liste!$A$10:$D$163,4),\"\")","v":""},null,null,null,""]
[null,{"$f":"IF(A88>0,VLOOKUP(A88,Liste!$B$179                         : Liste!$C$189,2),\"\")","v":""},null,null,{"$f":"IF(D88>0,VLOOKUP(D88,Liste!$A$10:$D$163,4),\"\")","v":""},null,null,null,""]
[null,{"$f":"IF(A89>0,VLOOKUP(A89,Liste!$B$179                         : Liste!$C$189,2),\"\")","v":""},null,null,{"$f":"IF(D89>0,VLOOKUP(D89,Liste!$A$10:$D$163,4),\"\")","v":""},null,null,null,""]
[null,{"$f":"IF(A90>0,VLOOKUP(A90,Liste!$B$179                         : Liste!$C$189,2),\"\")","v":""},null,null,{"$f":"IF(D90>0,VLOOKUP(D90,Liste!$A$10:$D$163,4),\"\")","v":""},null,null,null,""]
[null,{"$f":"IF(A91>0,VLOOKUP(A91,Liste!$B$179                         : Liste!$C$189,2),\"\")","v":""},null,null,{"$f":"IF(D91>0,VLOOKUP(D91,Liste!$A$10:$D$163,4),\"\")","v":""},null,null,null,""]
[null,{"$f":"IF(A92>0,VLOOKUP(A92,Liste!$B$179                         : Liste!$C$189,2),\"\")","v":""},null,null,{"$f":"IF(D92>0,VLOOKUP(D92,Liste!$A$10:$D$163,4),\"\")","v":""},null,null,null,""]
[null,{"$f":"IF(A93>0,VLOOKUP(A93,Liste!$B$179                         : Liste!$C$189,2),\"\")","v":""},null,null,{"$f":"IF(D93>0,VLOOKUP(D93,Liste!$A$10:$D$163,4),\"\")","v":""},null,null,null,""]
[null,{"$f":"IF(A94>0,VLOOKUP(A94,Liste!$B$179                         : Liste!$C$189,2),\"\")","v":""},null,null,{"$f":"IF(D94>0,VLOOKUP(D94,Liste!$A$10:$D$163,4),\"\")","v":""},null,null,null,""]
[null,{"$f":"IF(A95>0,VLOOKUP(A95,Liste!$B$179                         : Liste!$C$189,2),\"\")","v":""},null,null,{"$f":"IF(D95>0,VLOOKUP(D95,Liste!$A$10:$D$163,4),\"\")","v":""},null,null,null,""]
[null,{"$f":"IF(A96>0,VLOOKUP(A96,Liste!$B$179                         : Liste!$C$189,2),\"\")","v":""},null,null,{"$f":"IF(D96>0,VLOOKUP(D96,Liste!$A$10:$D$163,4),\"\")","v":""},null,null,null,""]
[null,{"$f":"IF(A97>0,VLOOKUP(A97,Liste!$B$179                         : Liste!$C$189,2),\"\")","v":""},null,null,{"$f":"IF(D97>0,VLOOKUP(D97,Liste!$A$10:$D$163,4),\"\")","v":""},null,null,null,""]
[null,{"$f":"IF(A98>0,VLOOKUP(A98,Liste!$B$179                         : Liste!$C$189,2),\"\")","v":""},null,null,{"$f":"IF(D98>0,VLOOKUP(D98,Liste!$A$10:$D$163,4),\"\")","v":""},null,null,null,""]
[null,{"$f":"IF(A99>0,VLOOKUP(A99,Liste!$B$179                         : Liste!$C$189,2),\"\")","v":""},null,null,{"$f":"IF(D99>0,VLOOKUP(D99,Liste!$A$10:$D$163,4),\"\")","v":""},null,null,null,""]
[null,{"$f":"IF(A100>0,VLOOKUP(A100,Liste!$B$179                         : Liste!$C$189,2),\"\")","v":""},null,null,{"$f":"IF(D100>0,VLOOKUP(D100,Liste!$A$10:$D$163,4),\"\")","v":""},null,null,null,""]
[null,{"$f":"IF(A101>0,VLOOKUP(A101,Liste!$B$179                         : Liste!$C$189,2),\"\")","v":""},null,null,{"$f":"IF(D101>0,VLOOKUP(D101,Liste!$A$10:$D$163,4),\"\")","v":""},null,null,null,""]
[null,{"$f":"IF(A102>0,VLOOKUP(A102,Liste!$B$179                         : Liste!$C$189,2),\"\")","v":""},null,null,{"$f":"IF(D102>0,VLOOKUP(D102,Liste!$A$10:$D$163,4),\"\")","v":""},null,null,null,""]
[null,{"$f":"IF(A103>0,VLOOKUP(A103,Liste!$B$179                         : Liste!$C$189,2),\"\")","v":""},null,null,{"$f":"IF(D103>0,VLOOKUP(D103,Liste!$A$10:$D$163,4),\"\")","v":""},null,null,null,""]
[null,{"$f":"IF(A104>0,VLOOKUP(A104,Liste!$B$179                         : Liste!$C$189,2),\"\")","v":""},null,null,{"$f":"IF(D104>0,VLOOKUP(D104,Liste!$A$10:$D$163,4),\"\")","v":""},null,null,null,""]
[null,{"$f":"IF(A105>0,VLOOKUP(A105,Liste!$B$179                         : Liste!$C$189,2),\"\")","v":""},null,null,{"$f":"IF(D105>0,VLOOKUP(D105,Liste!$A$10:$D$163,4),\"\")","v":""},null,null,null,""]
[null,{"$f":"IF(A106>0,VLOOKUP(A106,Liste!$B$179                         : Liste!$C$189,2),\"\")","v":""},null,null,{"$f":"IF(D106>0,VLOOKUP(D106,Liste!$A$10:$D$163,4),\"\")","v":""},null,null,null,""]
[null,{"$f":"IF(A107>0,VLOOKUP(A107,Liste!$B$179                         : Liste!$C$189,2),\"\")","v":""},null,null,{"$f":"IF(D107>0,VLOOKUP(D107,Liste!$A$10:$D$163,4),\"\")","v":""},null,null,null,""]
[null,{"$f":"IF(A108>0,VLOOKUP(A108,Liste!$B$179                         : Liste!$C$189,2),\"\")","v":""},null,null,{"$f":"IF(D108>0,VLOOKUP(D108,Liste!$A$10:$D$163,4),\"\")","v":""},null,null,null,""]
[null,{"$f":"IF(A109>0,VLOOKUP(A109,Liste!$B$179                         : Liste!$C$189,2),\"\")","v":""},null,null,{"$f":"IF(D109>0,VLOOKUP(D109,Liste!$A$10:$D$163,4),\"\")","v":""},null,null,null,""]
[null,{"$f":"IF(A110>0,VLOOKUP(A110,Liste!$B$179                         : Liste!$C$189,2),\"\")","v":""},null,null,{"$f":"IF(D110>0,VLOOKUP(D110,Liste!$A$10:$D$163,4),\"\")","v":""},null,null,null,{"$f":"IF(AND(D110>0,F110+G110+H110=0),\"EN ATTENTE\",IF(F110+G110+H110>1,\"ERREUR\",\"\"))","v":""}]
[null,{"$f":"IF(A111>0,VLOOKUP(A111,Liste!$B$179                         : Liste!$C$189,2),\"\")","v":""},null,null,{"$f":"IF(D111>0,VLOOKUP(D111,Liste!$A$10:$D$163,4),\"\")","v":""},null,null,null,""]
[null,{"$f":"IF(A112>0,VLOOKUP(A112,Liste!$B$179                         : Liste!$C$189,2),\"\")","v":""},null,null,{"$f":"IF(D112>0,VLOOKUP(D112,Liste!$A$10:$D$163,4),\"\")","v":""},null,null,null,""]
[null,{"$f":"IF(A113>0,VLOOKUP(A113,Liste!$B$179                         : Liste!$C$189,2),\"\")","v":""},null,null,{"$f":"IF(D113>0,VLOOKUP(D113,Liste!$A$10:$D$163,4),\"\")","v":""},null,null,null,""]
[null,{"$f":"IF(A114>0,VLOOKUP(A114,Liste!$B$179                         : Liste!$C$189,2),\"\")","v":""},null,null,{"$f":"IF(D114>0,VLOOKUP(D114,Liste!$A$10:$D$163,4),\"\")","v":""},null,null,null,""]
[null,{"$f":"IF(A115>0,VLOOKUP(A115,Liste!$B$179                         : Liste!$C$189,2),\"\")","v":""},null,null,{"$f":"IF(D115>0,VLOOKUP(D115,Liste!$A$10:$D$163,4),\"\")","v":""},null,null,null,""]
[null,{"$f":"IF(A116>0,VLOOKUP(A116,Liste!$B$179                         : Liste!$C$189,2),\"\")","v":""},null,null,{"$f":"IF(D116>0,VLOOKUP(D116,Liste!$A$10:$D$163,4),\"\")","v":""},null,null,null,""]
[null,{"$f":"IF(A117>0,VLOOKUP(A117,Liste!$B$179                         : Liste!$C$189,2),\"\")","v":""},null,null,{"$f":"IF(D117>0,VLOOKUP(D117,Liste!$A$10:$D$163,4),\"\")","v":""},null,null,null,""]
[null,{"$f":"IF(A118>0,VLOOKUP(A118,Liste!$B$179                         : Liste!$C$189,2),\"\")","v":""},null,null,{"$f":"IF(D118>0,VLOOKUP(D118,Liste!$A$10:$D$163,4),\"\")","v":""},null,null,null,""]
[null,{"$f":"IF(A119>0,VLOOKUP(A119,Liste!$B$179                         : Liste!$C$189,2),\"\")","v":""},null,null,{"$f":"IF(D119>0,VLOOKUP(D119,Liste!$A$10:$D$163,4),\"\")","v":""},null,null,null,""]
[null,{"$f":"IF(A120>0,VLOOKUP(A120,Liste!$B$179                         : Liste!$C$189,2),\"\")","v":""},null,null,{"$f":"IF(D120>0,VLOOKUP(D120,Liste!$A$10:$D$163,4),\"\")","v":""},null,null,null,""]
[null,{"$f":"IF(A121>0,VLOOKUP(A121,Liste!$B$179                         : Liste!$C$189,2),\"\")","v":""},null,null,{"$f":"IF(D121>0,VLOOKUP(D121,Liste!$A$10:$D$163,4),\"\")","v":""},null,null,null,""]
[null,{"$f":"IF(A122>0,VLOOKUP(A122,Liste!$B$179                         : Liste!$C$189,2),\"\")","v":""},null,null,{"$f":"IF(D122>0,VLOOKUP(D122,Liste!$A$10:$D$163,4),\"\")","v":""},null,null,null,""]
[null,{"$f":"IF(A123>0,VLOOKUP(A123,Liste!$B$179                         : Liste!$C$189,2),\"\")","v":""},null,null,{"$f":"IF(D123>0,VLOOKUP(D123,Liste!$A$10:$D$163,4),\"\")","v":""},null,null,null,""]
[null,{"$f":"IF(A124>0,VLOOKUP(A124,Liste!$B$179                         : Liste!$C$189,2),\"\")","v":""},null,null,{"$f":"IF(D124>0,VLOOKUP(D124,Liste!$A$10:$D$163,4),\"\")","v":""},null,null,null,""]
[null,{"$f":"IF(A125>0,VLOOKUP(A125,Liste!$B$179                         : Liste!$C$189,2),\"\")","v":""},null,null,{"$f":"IF(D125>0,VLOOKUP(D125,Liste!$A$10:$D$163,4),\"\")","v":""},null,null,null,""]
[null,{"$f":"IF(A126>0,VLOOKUP(A126,Liste!$B$179                         : Liste!$C$189,2),\"\")","v":""},null,null,{"$f":"IF(D126>0,VLOOKUP(D126,Liste!$A$10:$D$163,4),\"\")","v":""},null,null,null,""]
[null,{"$f":"IF(A127>0,VLOOKUP(A127,Liste!$B$179                         : Liste!$C$189,2),\"\")","v":""},null,null,{"$f":"IF(D127>0,VLOOKUP(D127,Liste!$A$10:$D$163,4),\"\")","v":""},null,null,null,""]
[null,{"$f":"IF(A128>0,VLOOKUP(A128,Liste!$B$179                         : Liste!$C$189,2),\"\")","v":""},null,null,{"$f":"IF(D128>0,VLOOKUP(D128,Liste!$A$10:$D$163,4),\"\")","v":""},null,null,null,""]
[null,{"$f":"IF(A129>0,VLOOKUP(A129,Liste!$B$179                         : Liste!$C$189,2),\"\")","v":""},null,null,{"$f":"IF(D129>0,VLOOKUP(D129,Liste!$A$10:$D$163,4),\"\")","v":""},null,null,null,""]
[null,{"$f":"IF(A130>0,VLOOKUP(A130,Liste!$B$179                         : Liste!$C$189,2),\"\")","v":""},null,null,{"$f":"IF(D130>0,VLOOKUP(D130,Liste!$A$10:$D$163,4),\"\")","v":""},null,null,null,""]
[null,{"$f":"IF(A131>0,VLOOKUP(A131,Liste!$B$179                         : Liste!$C$189,2),\"\")","v":""},null,null,{"$f":"IF(D131>0,VLOOKUP(D131,Liste!$A$10:$D$163,4),\"\")","v":""},null,null,null,""]
[null,{"$f":"IF(A132>0,VLOOKUP(A132,Liste!$B$179                         : Liste!$C$189,2),\"\")","v":""},null,null,{"$f":"IF(D132>0,VLOOKUP(D132,Liste!$A$10:$D$163,4),\"\")","v":""},null,null,null,""]
[null,{"$f":"IF(A133>0,VLOOKUP(A133,Liste!$B$179                         : Liste!$C$189,2),\"\")","v":""},null,null,{"$f":"IF(D133>0,VLOOKUP(D133,Liste!$A$10:$D$163,4),\"\")","v":""},null,null,null,""]
[null,{"$f":"IF(A134>0,VLOOKUP(A134,Liste!$B$179                         : Liste!$C$189,2),\"\")","v":""},null,null,{"$f":"IF(D134>0,VLOOKUP(D134,Liste!$A$10:$D$163,4),\"\")","v":""},null,null,null,""]
[null,{"$f":"IF(A135>0,VLOOKUP(A135,Liste!$B$179                         : Liste!$C$189,2),\"\")","v":""},null,null,{"$f":"IF(D135>0,VLOOKUP(D135,Liste!$A$10:$D$163,4),\"\")","v":""},null,null,null,""]
[null,{"$f":"IF(A136>0,VLOOKUP(A136,Liste!$B$179                         : Liste!$C$189,2),\"\")","v":""},null,null,{"$f":"IF(D136>0,VLOOKUP(D136,Liste!$A$10:$D$163,4),\"\")","v":""},null,null,null,""]
[null,{"$f":"IF(A137>0,VLOOKUP(A137,Liste!$B$179                         : Liste!$C$189,2),\"\")","v":""},null,null,{"$f":"IF(D137>0,VLOOKUP(D137,Liste!$A$10:$D$163,4),\"\")","v":""},null,null,null,""]
[null,{"$f":"IF(A138>0,VLOOKUP(A138,Liste!$B$179                         : Liste!$C$189,2),\"\")","v":""},null,null,{"$f":"IF(D138>0,VLOOKUP(D138,Liste!$A$10:$D$163,4),\"\")","v":""},null,null,null,""]
[null,{"$f":"IF(A139>0,VLOOKUP(A139,Liste!$B$179                         : Liste!$C$189,2),\"\")","v":""},null,null,{"$f":"IF(D139>0,VLOOKUP(D139,Liste!$A$10:$D$163,4),\"\")","v":""},null,null,null,""]
[null,{"$f":"IF(A140>0,VLOOKUP(A140,Liste!$B$179                         : Liste!$C$189,2),\"\")","v":""},null,null,{"$f":"IF(D140>0,VLOOKUP(D140,Liste!$A$10:$D$163,4),\"\")","v":""},null,null,null,""]
[null,{"$f":"IF(A141>0,VLOOKUP(A141,Liste!$B$179                         : Liste!$C$189,2),\"\")","v":""},null,null,{"$f":"IF(D141>0,VLOOKUP(D141,Liste!$A$10:$D$163,4),\"\")","v":""},null,null,null,""]
[null,{"$f":"IF(A142>0,VLOOKUP(A142,Liste!$B$179                         : Liste!$C$189,2),\"\")","v":""},null,null,{"$f":"IF(D142>0,VLOOKUP(D142,Liste!$A$10:$D$163,4),\"\")","v":""},null,null,null,""]
[null,{"$f":"IF(A143>0,VLOOKUP(A143,Liste!$B$179                         : Liste!$C$189,2),\"\")","v":""},null,null,{"$f":"IF(D143>0,VLOOKUP(D143,Liste!$A$10:$D$163,4),\"\")","v":""},null,null,null,""]
[null,{"$f":"IF(A144>0,VLOOKUP(A144,Liste!$B$179                         : Liste!$C$189,2),\"\")","v":""},null,null,{"$f":"IF(D144>0,VLOOKUP(D144,Liste!$A$10:$D$163,4),\"\")","v":""},null,null,null,""]
[null,{"$f":"IF(A145>0,VLOOKUP(A145,Liste!$B$179                         : Liste!$C$189,2),\"\")","v":""},null,null,{"$f":"IF(D145>0,VLOOKUP(D145,Liste!$A$10:$D$163,4),\"\")","v":""},null,null,null,""]
[null,{"$f":"IF(A146>0,VLOOKUP(A146,Liste!$B$179                         : Liste!$C$189,2),\"\")","v":""},null,null,{"$f":"IF(D146>0,VLOOKUP(D146,Liste!$A$10:$D$163,4),\"\")","v":""},null,null,null,""]
[null,{"$f":"IF(A147>0,VLOOKUP(A147,Liste!$B$179                         : Liste!$C$189,2),\"\")","v":""},null,null,{"$f":"IF(D147>0,VLOOKUP(D147,Liste!$A$10:$D$163,4),\"\")","v":""},null,null,null,""]
[null,{"$f":"IF(A148>0,VLOOKUP(A148,Liste!$B$179                         : Liste!$C$189,2),\"\")","v":""},null,null,{"$f":"IF(D148>0,VLOOKUP(D148,Liste!$A$10:$D$163,4),\"\")","v":""},null,null,null,""]
[null,{"$f":"IF(A149>0,VLOOKUP(A149,Liste!$B$179                         : Liste!$C$189,2),\"\")","v":""},null,null,{"$f":"IF(D149>0,VLOOKUP(D149,Liste!$A$10:$D$163,4),\"\")","v":""},null,null,null,""]
[null,{"$f":"IF(A150>0,VLOOKUP(A150,Liste!$B$179                         : Liste!$C$189,2),\"\")","v":""},null,null,{"$f":"IF(D150>0,VLOOKUP(D150,Liste!$A$10:$D$163,4),\"\")","v":""},null,null,null,""]
[null,{"$f":"IF(A151>0,VLOOKUP(A151,Liste!$B$179                         : Liste!$C$189,2),\"\")","v":""},null,null,{"$f":"IF(D151>0,VLOOKUP(D151,Liste!$A$10:$D$163,4),\"\")","v":""},null,null,null,""]
[null,{"$f":"IF(A152>0,VLOOKUP(A152,Liste!$B$179                         : Liste!$C$189,2),\"\")","v":""},null,null,{"$f":"IF(D152>0,VLOOKUP(D152,Liste!$A$10:$D$163,4),\"\")","v":""},null,null,null,""]
[null,{"$f":"IF(A153>0,VLOOKUP(A153,Liste!$B$179                         : Liste!$C$189,2),\"\")","v":""},null,null,{"$f":"IF(D153>0,VLOOKUP(D153,Liste!$A$10:$D$163,4),\"\")","v":""},null,null,null,""]
[null,{"$f":"IF(A154>0,VLOOKUP(A154,Liste!$B$179                         : Liste!$C$189,2),\"\")","v":""},null,null,{"$f":"IF(D154>0,VLOOKUP(D154,Liste!$A$10:$D$163,4),\"\")","v":""},null,null,null,""]
[null,{"$f":"IF(A155>0,VLOOKUP(A155,Liste!$B$179                         : Liste!$C$189,2),\"\")","v":""},null,null,{"$f":"IF(D155>0,VLOOKUP(D155,Liste!$A$10:$D$163,4),\"\")","v":""},null,null,null,""]
[null,{"$f":"IF(A156>0,VLOOKUP(A156,Liste!$B$179                         : Liste!$C$189,2),\"\")","v":""},null,null,{"$f":"IF(D156>0,VLOOKUP(D156,Liste!$A$10:$D$163,4),\"\")","v":""},null,null,null,""]
[null,{"$f":"IF(A157>0,VLOOKUP(A157,Liste!$B$179                         : Liste!$C$189,2),\"\")","v":""},null,null,{"$f":"IF(D157>0,VLOOKUP(D157,Liste!$A$10:$D$163,4),\"\")","v":""},null,null,null,""]
[null,{"$f":"IF(A158>0,VLOOKUP(A158,Liste!$B$179                         : Liste!$C$189,2),\"\")","v":""},null,null,{"$f":"IF(D158>0,VLOOKUP(D158,Liste!$A$10:$D$163,4),\"\")","v":""},null,null,null,""]
[null,{"$f":"IF(A159>0,VLOOKUP(A159,Liste!$B$179                         : Liste!$C$189,2),\"\")","v":""},null,null,{"$f":"IF(D159>0,VLOOKUP(D159,Liste!$A$10:$D$163,4),\"\")","v":""},null,null,null,""]
[null,{"$f":"IF(A160>0,VLOOKUP(A160,Liste!$B$179                         : Liste!$C$189,2),\"\")","v":""},null,null,{"$f":"IF(D160>0,VLOOKUP(D160,Liste!$A$10:$D$163,4),\"\")","v":""},null,null,null,""]
[null,{"$f":"IF(A161>0,VLOOKUP(A161,Liste!$B$179                         : Liste!$C$189,2),\"\")","v":""},null,null,{"$f":"IF(D161>0,VLOOKUP(D161,Liste!$A$10:$D$163,4),\"\")","v":""},null,null,null,""]
[null,{"$f":"IF(A162>0,VLOOKUP(A162,Liste!$B$179                         : Liste!$C$189,2),\"\")","v":""},null,null,{"$f":"IF(D162>0,VLOOKUP(D162,Liste!$A$10:$D$163,4),\"\")","v":""},null,null,null,""]
[null,{"$f":"IF(A163>0,VLOOKUP(A163,Liste!$B$179                         : Liste!$C$189,2),\"\")","v":""},null,null,{"$f":"IF(D163>0,VLOOKUP(D163,Liste!$A$10:$D$163,4),\"\")","v":""},null,null,null,""]
[null,{"$f":"IF(A164>0,VLOOKUP(A164,Liste!$B$179                         : Liste!$C$189,2),\"\")","v":""},null,null,{"$f":"IF(D164>0,VLOOKUP(D164,Liste!$A$10:$D$163,4),\"\")","v":""},null,null,null,""]
[null,{"$f":"IF(A165>0,VLOOKUP(A165,Liste!$B$179                         : Liste!$C$189,2),\"\")","v":""},null,null,{"$f":"IF(D165>0,VLOOKUP(D165,Liste!$A$10:$D$163,4),\"\")","v":""},null,null,null,""]
[null,{"$f":"IF(A166>0,VLOOKUP(A166,Liste!$B$179                         : Liste!$C$189,2),\"\")","v":""},null,null,{"$f":"IF(D166>0,VLOOKUP(D166,Liste!$A$10:$D$163,4),\"\")","v":""},null,null,null,""]
[null,{"$f":"IF(A167>0,VLOOKUP(A167,Liste!$B$179                         : Liste!$C$189,2),\"\")","v":""},null,null,{"$f":"IF(D167>0,VLOOKUP(D167,Liste!$A$10:$D$163,4),\"\")","v":""},null,null,null,""]
[null,{"$f":"IF(A168>0,VLOOKUP(A168,Liste!$B$179                         : Liste!$C$189,2),\"\")","v":""},null,null,{"$f":"IF(D168>0,VLOOKUP(D168,Liste!$A$10:$D$163,4),\"\")","v":""},null,null,null,""]
[null,{"$f":"IF(A169>0,VLOOKUP(A169,Liste!$B$179                         : Liste!$C$189,2),\"\")","v":""},null,null,{"$f":"IF(D169>0,VLOOKUP(D169,Liste!$A$10:$D$163,4),\"\")","v":""},null,null,null,""]
[null,{"$f":"IF(A170>0,VLOOKUP(A170,Liste!$B$179                         : Liste!$C$189,2),\"\")","v":""},null,null,{"$f":"IF(D170>0,VLOOKUP(D170,Liste!$A$10:$D$163,4),\"\")","v":""},null,null,null,""]
[null,{"$f":"IF(A171>0,VLOOKUP(A171,Liste!$B$179                         : Liste!$C$189,2),\"\")","v":""},null,null,{"$f":"IF(D171>0,VLOOKUP(D171,Liste!$A$10:$D$163,4),\"\")","v":""},null,null,null,""]
[null,{"$f":"IF(A172>0,VLOOKUP(A172,Liste!$B$179                         : Liste!$C$189,2),\"\")","v":""},null,null,{"$f":"IF(D172>0,VLOOKUP(D172,Liste!$A$10:$D$163,4),\"\")","v":""},null,null,null,""]
[null,{"$f":"IF(A173>0,VLOOKUP(A173,Liste!$B$179                         : Liste!$C$189,2),\"\")","v":""},null,null,{"$f":"IF(D173>0,VLOOKUP(D173,Liste!$A$10:$D$163,4),\"\")","v":""},null,null,null,""]
[null,{"$f":"IF(A174>0,VLOOKUP(A174,Liste!$B$179                         : Liste!$C$189,2),\"\")","v":""},null,null,{"$f":"IF(D174>0,VLOOKUP(D174,Liste!$A$10:$D$163,4),\"\")","v":""},null,null,null,{"$f":"IF(AND(D174>0,F174+G174+H174=0),\"EN ATTENTE\",IF(F174+G174+H174>1,\"ERREUR\",\"\"))","v":""}]
[null,{"$f":"IF(A175>0,VLOOKUP(A175,Liste!$B$179                         : Liste!$C$189,2),\"\")","v":""},null,null,{"$f":"IF(D175>0,VLOOKUP(D175,Liste!$A$10:$D$163,4),\"\")","v":""},null,null,null,""]
[null,{"$f":"IF(A176>0,VLOOKUP(A176,Liste!$B$179                         : Liste!$C$189,2),\"\")","v":""},null,null,{"$f":"IF(D176>0,VLOOKUP(D176,Liste!$A$10:$D$163,4),\"\")","v":""},null,null,null,""]
[null,{"$f":"IF(A177>0,VLOOKUP(A177,Liste!$B$179                         : Liste!$C$189,2),\"\")","v":""},null,null,{"$f":"IF(D177>0,VLOOKUP(D177,Liste!$A$10:$D$163,4),\"\")","v":""},null,null,null,""]
[null,{"$f":"IF(A178>0,VLOOKUP(A178,Liste!$B$179                         : Liste!$C$189,2),\"\")","v":""},null,null,{"$f":"IF(D178>0,VLOOKUP(D178,Liste!$A$10:$D$163,4),\"\")","v":""},null,null,null,""]
[null,{"$f":"IF(A179>0,VLOOKUP(A179,Liste!$B$179                         : Liste!$C$189,2),\"\")","v":""},null,null,{"$f":"IF(D179>0,VLOOKUP(D179,Liste!$A$10:$D$163,4),\"\")","v":""},null,null,null,""]
[null,{"$f":"IF(A180>0,VLOOKUP(A180,Liste!$B$179                         : Liste!$C$189,2),\"\")","v":""},null,null,{"$f":"IF(D180>0,VLOOKUP(D180,Liste!$A$10:$D$163,4),\"\")","v":""},null,null,null,""]
[null,{"$f":"IF(A181>0,VLOOKUP(A181,Liste!$B$179                         : Liste!$C$189,2),\"\")","v":""},null,null,{"$f":"IF(D181>0,VLOOKUP(D181,Liste!$A$10:$D$163,4),\"\")","v":""},null,null,null,""]
[null,{"$f":"IF(A182>0,VLOOKUP(A182,Liste!$B$179                         : Liste!$C$189,2),\"\")","v":""},null,null,{"$f":"IF(D182>0,VLOOKUP(D182,Liste!$A$10:$D$163,4),\"\")","v":""},null,null,null,""]
[null,{"$f":"IF(A183>0,VLOOKUP(A183,Liste!$B$179                         : Liste!$C$189,2),\"\")","v":""},null,null,{"$f":"IF(D183>0,VLOOKUP(D183,Liste!$A$10:$D$163,4),\"\")","v":""},null,null,null,""]
[null,{"$f":"IF(A184>0,VLOOKUP(A184,Liste!$B$179                         : Liste!$C$189,2),\"\")","v":""},null,null,{"$f":"IF(D184>0,VLOOKUP(D184,Liste!$A$10:$D$163,4),\"\")","v":""},null,null,null,""]
[null,{"$f":"IF(A185>0,VLOOKUP(A185,Liste!$B$179                         : Liste!$C$189,2),\"\")","v":""},null,null,{"$f":"IF(D185>0,VLOOKUP(D185,Liste!$A$10:$D$163,4),\"\")","v":""},null,null,null,""]
[null,{"$f":"IF(A186>0,VLOOKUP(A186,Liste!$B$179                         : Liste!$C$189,2),\"\")","v":""},null,null,{"$f":"IF(D186>0,VLOOKUP(D186,Liste!$A$10:$D$163,4),\"\")","v":""},null,null,null,""]
[null,{"$f":"IF(A187>0,VLOOKUP(A187,Liste!$B$179                         : Liste!$C$189,2),\"\")","v":""},null,null,{"$f":"IF(D187>0,VLOOKUP(D187,Liste!$A$10:$D$163,4),\"\")","v":""},null,null,null,""]
[null,{"$f":"IF(A188>0,VLOOKUP(A188,Liste!$B$179                         : Liste!$C$189,2),\"\")","v":""},null,null,{"$f":"IF(D188>0,VLOOKUP(D188,Liste!$A$10:$D$163,4),\"\")","v":""},null,null,null,""]
[null,{"$f":"IF(A189>0,VLOOKUP(A189,Liste!$B$179                         : Liste!$C$189,2),\"\")","v":""},null,null,{"$f":"IF(D189>0,VLOOKUP(D189,Liste!$A$10:$D$163,4),\"\")","v":""},null,null,null,""]
[null,{"$f":"IF(A190>0,VLOOKUP(A190,Liste!$B$179                         : Liste!$C$189,2),\"\")","v":""},null,null,{"$f":"IF(D190>0,VLOOKUP(D190,Liste!$A$10:$D$163,4),\"\")","v":""},null,null,null,""]
[null,{"$f":"IF(A191>0,VLOOKUP(A191,Liste!$B$179                         : Liste!$C$189,2),\"\")","v":""},null,null,{"$f":"IF(D191>0,VLOOKUP(D191,Liste!$A$10:$D$163,4),\"\")","v":""},null,null,null,""]
[null,{"$f":"IF(A192>0,VLOOKUP(A192,Liste!$B$179                         : Liste!$C$189,2),\"\")","v":""},null,null,{"$f":"IF(D192>0,VLOOKUP(D192,Liste!$A$10:$D$163,4),\"\")","v":""},null,null,null,""]
[null,{"$f":"IF(A193>0,VLOOKUP(A193,Liste!$B$179                         : Liste!$C$189,2),\"\")","v":""},null,null,{"$f":"IF(D193>0,VLOOKUP(D193,Liste!$A$10:$D$163,4),\"\")","v":""},null,null,null,""]
[null,{"$f":"IF(A194>0,VLOOKUP(A194,Liste!$B$179                         : Liste!$C$189,2),\"\")","v":""},null,null,{"$f":"IF(D194>0,VLOOKUP(D194,Liste!$A$10:$D$163,4),\"\")","v":""},null,null,null,""]
[null,{"$f":"IF(A195>0,VLOOKUP(A195,Liste!$B$179                         : Liste!$C$189,2),\"\")","v":""},null,null,{"$f":"IF(D195>0,VLOOKUP(D195,Liste!$A$10:$D$163,4),\"\")","v":""},null,null,null,""]
[null,{"$f":"IF(A196>0,VLOOKUP(A196,Liste!$B$179                         : Liste!$C$189,2),\"\")","v":""},null,null,{"$f":"IF(D196>0,VLOOKUP(D196,Liste!$A$10:$D$163,4),\"\")","v":""},null,null,null,""]
[null,{"$f":"IF(A197>0,VLOOKUP(A197,Liste!$B$179                         : Liste!$C$189,2),\"\")","v":""},null,null,{"$f":"IF(D197>0,VLOOKUP(D197,Liste!$A$10:$D$163,4),\"\")","v":""},null,null,null,""]
[null,{"$f":"IF(A198>0,VLOOKUP(A198,Liste!$B$179                         : Liste!$C$189,2),\"\")","v":""},null,null,{"$f":"IF(D198>0,VLOOKUP(D198,Liste!$A$10:$D$163,4),\"\")","v":""},null,null,null,""]
[null,{"$f":"IF(A199>0,VLOOKUP(A199,Liste!$B$179                         : Liste!$C$189,2),\"\")","v":""},null,null,{"$f":"IF(D199>0,VLOOKUP(D199,Liste!$A$10:$D$163,4),\"\")","v":""},null,null,null,""]
[null,{"$f":"IF(A200>0,VLOOKUP(A200,Liste!$B$179                         : Liste!$C$189,2),\"\")","v":""},null,null,{"$f":"IF(D200>0,VLOOKUP(D200,Liste!$A$10:$D$163,4),\"\")","v":""},null,null,null,""]
[null,{"$f":"IF(A201>0,VLOOKUP(A201,Liste!$B$179                         : Liste!$C$189,2),\"\")","v":""},null,null,{"$f":"IF(D201>0,VLOOKUP(D201,Liste!$A$10:$D$163,4),\"\")","v":""},null,null,null,""]
[null,{"$f":"IF(A202>0,VLOOKUP(A202,Liste!$B$179                         : Liste!$C$189,2),\"\")","v":""},null,null,{"$f":"IF(D202>0,VLOOKUP(D202,Liste!$A$10:$D$163,4),\"\")","v":""},null,null,null,""]
[null,{"$f":"IF(A203>0,VLOOKUP(A203,Liste!$B$179                         : Liste!$C$189,2),\"\")","v":""},null,null,{"$f":"IF(D203>0,VLOOKUP(D203,Liste!$A$10:$D$163,4),\"\")","v":""},null,null,null,""]
[null,{"$f":"IF(A204>0,VLOOKUP(A204,Liste!$B$179                         : Liste!$C$189,2),\"\")","v":""},null,null,{"$f":"IF(D204>0,VLOOKUP(D204,Liste!$A$10:$D$163,4),\"\")","v":""},null,null,null,""]
[null,{"$f":"IF(A205>0,VLOOKUP(A205,Liste!$B$179                         : Liste!$C$189,2),\"\")","v":""},null,null,{"$f":"IF(D205>0,VLOOKUP(D205,Liste!$A$10:$D$163,4),\"\")","v":""},null,null,null,""]
[null,{"$f":"IF(A206>0,VLOOKUP(A206,Liste!$B$179                         : Liste!$C$189,2),\"\")","v":""},null,null,{"$f":"IF(D206>0,VLOOKUP(D206,Liste!$A$10:$D$163,4),\"\")","v":""},null,null,null,""]
[null,{"$f":"IF(A207>0,VLOOKUP(A207,Liste!$B$179                         : Liste!$C$189,2),\"\")","v":""},null,null,{"$f":"IF(D207>0,VLOOKUP(D207,Liste!$A$10:$D$163,4),\"\")","v":""},null,null,null,""]
[null,{"$f":"IF(A208>0,VLOOKUP(A208,Liste!$B$179                         : Liste!$C$189,2),\"\")","v":""},null,null,{"$f":"IF(D208>0,VLOOKUP(D208,Liste!$A$10:$D$163,4),\"\")","v":""},null,null,null,""]
[null,{"$f":"IF(A209>0,VLOOKUP(A209,Liste!$B$179                         : Liste!$C$189,2),\"\")","v":""},null,null,{"$f":"IF(D209>0,VLOOKUP(D209,Liste!$A$10:$D$163,4),\"\")","v":""},null,null,null,""]
[null,{"$f":"IF(A210>0,VLOOKUP(A210,Liste!$B$179                         : Liste!$C$189,2),\"\")","v":""},null,null,{"$f":"IF(D210>0,VLOOKUP(D210,Liste!$A$10:$D$163,4),\"\")","v":""},null,null,null,""]
[null,{"$f":"IF(A211>0,VLOOKUP(A211,Liste!$B$179                         : Liste!$C$189,2),\"\")","v":""},null,null,{"$f":"IF(D211>0,VLOOKUP(D211,Liste!$A$10:$D$163,4),\"\")","v":""},null,null,null,""]
[null,{"$f":"IF(A212>0,VLOOKUP(A212,Liste!$B$179                         : Liste!$C$189,2),\"\")","v":""},null,null,{"$f":"IF(D212>0,VLOOKUP(D212,Liste!$A$10:$D$163,4),\"\")","v":""},null,null,null,""]
[null,{"$f":"IF(A213>0,VLOOKUP(A213,Liste!$B$179                         : Liste!$C$189,2),\"\")","v":""},null,null,{"$f":"IF(D213>0,VLOOKUP(D213,Liste!$A$10:$D$163,4),\"\")","v":""},null,null,null,""]
[null,{"$f":"IF(A214>0,VLOOKUP(A214,Liste!$B$179                         : Liste!$C$189,2),\"\")","v":""},null,null,{"$f":"IF(D214>0,VLOOKUP(D214,Liste!$A$10:$D$163,4),\"\")","v":""},null,null,null,""]
[null,{"$f":"IF(A215>0,VLOOKUP(A215,Liste!$B$179                         : Liste!$C$189,2),\"\")","v":""},null,null,{"$f":"IF(D215>0,VLOOKUP(D215,Liste!$A$10:$D$163,4),\"\")","v":""},null,null,null,""]
[null,{"$f":"IF(A216>0,VLOOKUP(A216,Liste!$B$179                         : Liste!$C$189,2),\"\")","v":""},null,null,{"$f":"IF(D216>0,VLOOKUP(D216,Liste!$A$10:$D$163,4),\"\")","v":""},null,null,null,""]
[null,{"$f":"IF(A217>0,VLOOKUP(A217,Liste!$B$179                         : Liste!$C$189,2),\"\")","v":""},null,null,{"$f":"IF(D217>0,VLOOKUP(D217,Liste!$A$10:$D$163,4),\"\")","v":""},null,null,null,""]
[null,{"$f":"IF(A218>0,VLOOKUP(A218,Liste!$B$179                         : Liste!$C$189,2),\"\")","v":""},null,null,{"$f":"IF(D218>0,VLOOKUP(D218,Liste!$A$10:$D$163,4),\"\")","v":""},null,null,null,""]
[null,{"$f":"IF(A219>0,VLOOKUP(A219,Liste!$B$179                         : Liste!$C$189,2),\"\")","v":""},null,null,{"$f":"IF(D219>0,VLOOKUP(D219,Liste!$A$10:$D$163,4),\"\")","v":""},null,null,null,""]
[null,{"$f":"IF(A220>0,VLOOKUP(A220,Liste!$B$179                         : Liste!$C$189,2),\"\")","v":""},null,null,{"$f":"IF(D220>0,VLOOKUP(D220,Liste!$A$10:$D$163,4),\"\")","v":""},null,null,null,""]
[null,{"$f":"IF(A221>0,VLOOKUP(A221,Liste!$B$179                         : Liste!$C$189,2),\"\")","v":""},null,null,{"$f":"IF(D221>0,VLOOKUP(D221,Liste!$A$10:$D$163,4),\"\")","v":""},null,null,null,""]
[null,{"$f":"IF(A222>0,VLOOKUP(A222,Liste!$B$179                         : Liste!$C$189,2),\"\")","v":""},null,null,{"$f":"IF(D222>0,VLOOKUP(D222,Liste!$A$10:$D$163,4),\"\")","v":""},null,null,null,""]
[null,{"$f":"IF(A223>0,VLOOKUP(A223,Liste!$B$179                         : Liste!$C$189,2),\"\")","v":""},null,null,{"$f":"IF(D223>0,VLOOKUP(D223,Liste!$A$10:$D$163,4),\"\")","v":""},null,null,null,""]
[null,{"$f":"IF(A224>0,VLOOKUP(A224,Liste!$B$179                         : Liste!$C$189,2),\"\")","v":""},null,null,{"$f":"IF(D224>0,VLOOKUP(D224,Liste!$A$10:$D$163,4),\"\")","v":""},null,null,null,""]
[null,{"$f":"IF(A225>0,VLOOKUP(A225,Liste!$B$179                         : Liste!$C$189,2),\"\")","v":""},null,null,{"$f":"IF(D225>0,VLOOKUP(D225,Liste!$A$10:$D$163,4),\"\")","v":""},null,null,null,""]
[null,{"$f":"IF(A226>0,VLOOKUP(A226,Liste!$B$179                         : Liste!$C$189,2),\"\")","v":""},null,null,{"$f":"IF(D226>0,VLOOKUP(D226,Liste!$A$10:$D$163,4),\"\")","v":""},null,null,null,""]
[null,{"$f":"IF(A227>0,VLOOKUP(A227,Liste!$B$179                         : Liste!$C$189,2),\"\")","v":""},null,null,{"$f":"IF(D227>0,VLOOKUP(D227,Liste!$A$10:$D$163,4),\"\")","v":""},null,null,null,""]
[null,{"$f":"IF(A228>0,VLOOKUP(A228,Liste!$B$179                         : Liste!$C$189,2),\"\")","v":""},null,null,{"$f":"IF(D228>0,VLOOKUP(D228,Liste!$A$10:$D$163,4),\"\")","v":""},null,null,null,""]
[null,{"$f":"IF(A229>0,VLOOKUP(A229,Liste!$B$179                         : Liste!$C$189,2),\"\")","v":""},null,null,{"$f":"IF(D229>0,VLOOKUP(D229,Liste!$A$10:$D$163,4),\"\")","v":""},null,null,null,""]
[null,{"$f":"IF(A230>0,VLOOKUP(A230,Liste!$B$179                         : Liste!$C$189,2),\"\")","v":""},null,null,{"$f":"IF(D230>0,VLOOKUP(D230,Liste!$A$10:$D$163,4),\"\")","v":""},null,null,null,""]
[null,{"$f":"IF(A231>0,VLOOKUP(A231,Liste!$B$179                         : Liste!$C$189,2),\"\")","v":""},null,null,{"$f":"IF(D231>0,VLOOKUP(D231,Liste!$A$10:$D$163,4),\"\")","v":""},null,null,null,""]
[null,{"$f":"IF(A232>0,VLOOKUP(A232,Liste!$B$179                         : Liste!$C$189,2),\"\")","v":""},null,null,{"$f":"IF(D232>0,VLOOKUP(D232,Liste!$A$10:$D$163,4),\"\")","v":""},null,null,null,""]
[null,{"$f":"IF(A233>0,VLOOKUP(A233,Liste!$B$179                         : Liste!$C$189,2),\"\")","v":""},null,null,{"$f":"IF(D233>0,VLOOKUP(D233,Liste!$A$10:$D$163,4),\"\")","v":""},null,null,null,""]
[null,{"$f":"IF(A234>0,VLOOKUP(A234,Liste!$B$179                         : Liste!$C$189,2),\"\")","v":""},null,null,{"$f":"IF(D234>0,VLOOKUP(D234,Liste!$A$10:$D$163,4),\"\")","v":""},null,null,null,""]
[null,{"$f":"IF(A235>0,VLOOKUP(A235,Liste!$B$179                         : Liste!$C$189,2),\"\")","v":""},null,null,{"$f":"IF(D235>0,VLOOKUP(D235,Liste!$A$10:$D$163,4),\"\")","v":""},null,null,null,""]
[null,{"$f":"IF(A236>0,VLOOKUP(A236,Liste!$B$179                         : Liste!$C$189,2),\"\")","v":""},null,null,{"$f":"IF(D236>0,VLOOKUP(D236,Liste!$A$10:$D$163,4),\"\")","v":""},null,null,null,""]
[null,{"$f":"IF(A237>0,VLOOKUP(A237,Liste!$B$179                         : Liste!$C$189,2),\"\")","v":""},null,null,{"$f":"IF(D237>0,VLOOKUP(D237,Liste!$A$10:$D$163,4),\"\")","v":""},null,null,null,""]
[null,{"$f":"IF(A238>0,VLOOKUP(A238,Liste!$B$179                         : Liste!$C$189,2),\"\")","v":""},null,null,{"$f":"IF(D238>0,VLOOKUP(D238,Liste!$A$10:$D$163,4),\"\")","v":""},null,null,null,{"$f":"IF(AND(D238>0,F238+G238+H238=0),\"EN ATTENTE\",IF(F238+G238+H238>1,\"ERREUR\",\"\"))","v":""}]
[null,{"$f":"IF(A239>0,VLOOKUP(A239,Liste!$B$179                         : Liste!$C$189,2),\"\")","v":""},null,null,{"$f":"IF(D239>0,VLOOKUP(D239,Liste!$A$10:$D$163,4),\"\")","v":""},null,null,null,""]
[null,{"$f":"IF(A240>0,VLOOKUP(A240,Liste!$B$179                         : Liste!$C$189,2),\"\")","v":""},null,null,{"$f":"IF(D240>0,VLOOKUP(D240,Liste!$A$10:$D$163,4),\"\")","v":""},null,null,null,""]
[null,{"$f":"IF(A241>0,VLOOKUP(A241,Liste!$B$179                         : Liste!$C$189,2),\"\")","v":""},null,null,{"$f":"IF(D241>0,VLOOKUP(D241,Liste!$A$10:$D$163,4),\"\")","v":""},null,null,null,""]
[null,{"$f":"IF(A242>0,VLOOKUP(A242,Liste!$B$179                         : Liste!$C$189,2),\"\")","v":""},null,null,{"$f":"IF(D242>0,VLOOKUP(D242,Liste!$A$10:$D$163,4),\"\")","v":""},null,null,null,""]
[null,{"$f":"IF(A243>0,VLOOKUP(A243,Liste!$B$179                         : Liste!$C$189,2),\"\")","v":""},null,null,{"$f":"IF(D243>0,VLOOKUP(D243,Liste!$A$10:$D$163,4),\"\")","v":""},null,null,null,""]
[null,{"$f":"IF(A244>0,VLOOKUP(A244,Liste!$B$179                         : Liste!$C$189,2),\"\")","v":""},null,null,{"$f":"IF(D244>0,VLOOKUP(D244,Liste!$A$10:$D$163,4),\"\")","v":""},null,null,null,""]
[null,{"$f":"IF(A245>0,VLOOKUP(A245,Liste!$B$179                         : Liste!$C$189,2),\"\")","v":""},null,null,{"$f":"IF(D245>0,VLOOKUP(D245,Liste!$A$10:$D$163,4),\"\")","v":""},null,null,null,""]
[null,{"$f":"IF(A246>0,VLOOKUP(A246,Liste!$B$179                         : Liste!$C$189,2),\"\")","v":""},null,null,{"$f":"IF(D246>0,VLOOKUP(D246,Liste!$A$10:$D$163,4),\"\")","v":""},null,null,null,""]
[null,{"$f":"IF(A247>0,VLOOKUP(A247,Liste!$B$179                         : Liste!$C$189,2),\"\")","v":""},null,null,{"$f":"IF(D247>0,VLOOKUP(D247,Liste!$A$10:$D$163,4),\"\")","v":""},null,null,null,""]
[null,{"$f":"IF(A248>0,VLOOKUP(A248,Liste!$B$179                         : Liste!$C$189,2),\"\")","v":""},null,null,{"$f":"IF(D248>0,VLOOKUP(D248,Liste!$A$10:$D$163,4),\"\")","v":""},null,null,null,""]
[null,{"$f":"IF(A249>0,VLOOKUP(A249,Liste!$B$179                         : Liste!$C$189,2),\"\")","v":""},null,null,{"$f":"IF(D249>0,VLOOKUP(D249,Liste!$A$10:$D$163,4),\"\")","v":""},null,null,null,""]
[null,{"$f":"IF(A250>0,VLOOKUP(A250,Liste!$B$179                         : Liste!$C$189,2),\"\")","v":""},null,null,{"$f":"IF(D250>0,VLOOKUP(D250,Liste!$A$10:$D$163,4),\"\")","v":""},null,null,null,""]
[null,{"$f":"IF(A251>0,VLOOKUP(A251,Liste!$B$179                         : Liste!$C$189,2),\"\")","v":""},null,null,{"$f":"IF(D251>0,VLOOKUP(D251,Liste!$A$10:$D$163,4),\"\")","v":""},null,null,null,""]
[null,{"$f":"IF(A252>0,VLOOKUP(A252,Liste!$B$179                         : Liste!$C$189,2),\"\")","v":""},null,null,{"$f":"IF(D252>0,VLOOKUP(D252,Liste!$A$10:$D$163,4),\"\")","v":""},null,null,null,""]
[null,{"$f":"IF(A253>0,VLOOKUP(A253,Liste!$B$179                         : Liste!$C$189,2),\"\")","v":""},null,null,{"$f":"IF(D253>0,VLOOKUP(D253,Liste!$A$10:$D$163,4),\"\")","v":""},null,null,null,""]
[null,{"$f":"IF(A254>0,VLOOKUP(A254,Liste!$B$179                         : Liste!$C$189,2),\"\")","v":""},null,null,{"$f":"IF(D254>0,VLOOKUP(D254,Liste!$A$10:$D$163,4),\"\")","v":""},null,null,null,""]
[null,{"$f":"IF(A255>0,VLOOKUP(A255,Liste!$B$179                         : Liste!$C$189,2),\"\")","v":""},null,null,{"$f":"IF(D255>0,VLOOKUP(D255,Liste!$A$10:$D$163,4),\"\")","v":""},null,null,null,""]
[null,{"$f":"IF(A256>0,VLOOKUP(A256,Liste!$B$179                         : Liste!$C$189,2),\"\")","v":""},null,null,{"$f":"IF(D256>0,VLOOKUP(D256,Liste!$A$10:$D$163,4),\"\")","v":""},null,null,null,""]
[null,{"$f":"IF(A257>0,VLOOKUP(A257,Liste!$B$179                         : Liste!$C$189,2),\"\")","v":""},null,null,{"$f":"IF(D257>0,VLOOKUP(D257,Liste!$A$10:$D$163,4),\"\")","v":""},null,null,null,""]
[null,{"$f":"IF(A258>0,VLOOKUP(A258,Liste!$B$179                         : Liste!$C$189,2),\"\")","v":""},null,null,{"$f":"IF(D258>0,VLOOKUP(D258,Liste!$A$10:$D$163,4),\"\")","v":""},null,null,null,""]
[null,{"$f":"IF(A259>0,VLOOKUP(A259,Liste!$B$179                         : Liste!$C$189,2),\"\")","v":""},null,null,{"$f":"IF(D259>0,VLOOKUP(D259,Liste!$A$10:$D$163,4),\"\")","v":""},null,null,null,""]
[null,{"$f":"IF(A260>0,VLOOKUP(A260,Liste!$B$179                         : Liste!$C$189,2),\"\")","v":""},null,null,{"$f":"IF(D260>0,VLOOKUP(D260,Liste!$A$10:$D$163,4),\"\")","v":""},null,null,null,""]
[null,{"$f":"IF(A261>0,VLOOKUP(A261,Liste!$B$179                         : Liste!$C$189,2),\"\")","v":""},null,null,{"$f":"IF(D261>0,VLOOKUP(D261,Liste!$A$10:$D$163,4),\"\")","v":""},null,null,null,""]
[null,{"$f":"IF(A262>0,VLOOKUP(A262,Liste!$B$179                         : Liste!$C$189,2),\"\")","v":""},null,null,{"$f":"IF(D262>0,VLOOKUP(D262,Liste!$A$10:$D$163,4),\"\")","v":""},null,null,null,""]
[null,{"$f":"IF(A263>0,VLOOKUP(A263,Liste!$B$179                         : Liste!$C$189,2),\"\")","v":""},null,null,{"$f":"IF(D263>0,VLOOKUP(D263,Liste!$A$10:$D$163,4),\"\")","v":""},null,null,null,""]
[null,{"$f":"IF(A264>0,VLOOKUP(A264,Liste!$B$179                         : Liste!$C$189,2),\"\")","v":""},null,null,{"$f":"IF(D264>0,VLOOKUP(D264,Liste!$A$10:$D$163,4),\"\")","v":""},null,null,null,""]
[null,{"$f":"IF(A265>0,VLOOKUP(A265,Liste!$B$179                         : Liste!$C$189,2),\"\")","v":""},null,null,{"$f":"IF(D265>0,VLOOKUP(D265,Liste!$A$10:$D$163,4),\"\")","v":""},null,null,null,""]
[null,{"$f":"IF(A266>0,VLOOKUP(A266,Liste!$B$179                         : Liste!$C$189,2),\"\")","v":""},null,null,{"$f":"IF(D266>0,VLOOKUP(D266,Liste!$A$10:$D$163,4),\"\")","v":""},null,null,null,""]
[null,{"$f":"IF(A267>0,VLOOKUP(A267,Liste!$B$179                         : Liste!$C$189,2),\"\")","v":""},null,null,{"$f":"IF(D267>0,VLOOKUP(D267,Liste!$A$10:$D$163,4),\"\")","v":""},null,null,null,""]
[null,{"$f":"IF(A268>0,VLOOKUP(A268,Liste!$B$179                         : Liste!$C$189,2),\"\")","v":""},null,null,{"$f":"IF(D268>0,VLOOKUP(D268,Liste!$A$10:$D$163,4),\"\")","v":""},null,null,null,""]
[null,{"$f":"IF(A269>0,VLOOKUP(A269,Liste!$B$179                         : Liste!$C$189,2),\"\")","v":""},null,null,{"$f":"IF(D269>0,VLOOKUP(D269,Liste!$A$10:$D$163,4),\"\")","v":""},null,null,null,""]
[null,{"$f":"IF(A270>0,VLOOKUP(A270,Liste!$B$179                         : Liste!$C$189,2),\"\")","v":""},null,null,{"$f":"IF(D270>0,VLOOKUP(D270,Liste!$A$10:$D$163,4),\"\")","v":""},null,null,null,""]
[null,{"$f":"IF(A271>0,VLOOKUP(A271,Liste!$B$179                         : Liste!$C$189,2),\"\")","v":""},null,null,{"$f":"IF(D271>0,VLOOKUP(D271,Liste!$A$10:$D$163,4),\"\")","v":""},null,null,null,""]
[null,{"$f":"IF(A272>0,VLOOKUP(A272,Liste!$B$179                         : Liste!$C$189,2),\"\")","v":""},null,null,{"$f":"IF(D272>0,VLOOKUP(D272,Liste!$A$10:$D$163,4),\"\")","v":""},null,null,null,""]
[null,{"$f":"IF(A273>0,VLOOKUP(A273,Liste!$B$179                         : Liste!$C$189,2),\"\")","v":""},null,null,{"$f":"IF(D273>0,VLOOKUP(D273,Liste!$A$10:$D$163,4),\"\")","v":""},null,null,null,""]
[null,{"$f":"IF(A274>0,VLOOKUP(A274,Liste!$B$179                         : Liste!$C$189,2),\"\")","v":""},null,null,{"$f":"IF(D274>0,VLOOKUP(D274,Liste!$A$10:$D$163,4),\"\")","v":""},null,null,null,""]
[null,{"$f":"IF(A275>0,VLOOKUP(A275,Liste!$B$179                         : Liste!$C$189,2),\"\")","v":""},null,null,{"$f":"IF(D275>0,VLOOKUP(D275,Liste!$A$10:$D$163,4),\"\")","v":""},null,null,null,""]
[null,{"$f":"IF(A276>0,VLOOKUP(A276,Liste!$B$179                         : Liste!$C$189,2),\"\")","v":""},null,null,{"$f":"IF(D276>0,VLOOKUP(D276,Liste!$A$10:$D$163,4),\"\")","v":""},null,null,null,""]
[null,{"$f":"IF(A277>0,VLOOKUP(A277,Liste!$B$179                         : Liste!$C$189,2),\"\")","v":""},null,null,{"$f":"IF(D277>0,VLOOKUP(D277,Liste!$A$10:$D$163,4),\"\")","v":""},null,null,null,""]
[null,{"$f":"IF(A278>0,VLOOKUP(A278,Liste!$B$179                         : Liste!$C$189,2),\"\")","v":""},null,null,{"$f":"IF(D278>0,VLOOKUP(D278,Liste!$A$10:$D$163,4),\"\")","v":""},null,null,null,""]
[null,{"$f":"IF(A279>0,VLOOKUP(A279,Liste!$B$179                         : Liste!$C$189,2),\"\")","v":""},null,null,{"$f":"IF(D279>0,VLOOKUP(D279,Liste!$A$10:$D$163,4),\"\")","v":""},null,null,null,""]
[null,{"$f":"IF(A280>0,VLOOKUP(A280,Liste!$B$179                         : Liste!$C$189,2),\"\")","v":""},null,null,{"$f":"IF(D280>0,VLOOKUP(D280,Liste!$A$10:$D$163,4),\"\")","v":""},null,null,null,""]
[null,{"$f":"IF(A281>0,VLOOKUP(A281,Liste!$B$179                         : Liste!$C$189,2),\"\")","v":""},null,null,{"$f":"IF(D281>0,VLOOKUP(D281,Liste!$A$10:$D$163,4),\"\")","v":""},null,null,null,""]
[null,{"$f":"IF(A282>0,VLOOKUP(A282,Liste!$B$179                         : Liste!$C$189,2),\"\")","v":""},null,null,{"$f":"IF(D282>0,VLOOKUP(D282,Liste!$A$10:$D$163,4),\"\")","v":""},null,null,null,""]
[null,{"$f":"IF(A283>0,VLOOKUP(A283,Liste!$B$179                         : Liste!$C$189,2),\"\")","v":""},null,null,{"$f":"IF(D283>0,VLOOKUP(D283,Liste!$A$10:$D$163,4),\"\")","v":""},null,null,null,""]
[null,{"$f":"IF(A284>0,VLOOKUP(A284,Liste!$B$179                         : Liste!$C$189,2),\"\")","v":""},null,null,{"$f":"IF(D284>0,VLOOKUP(D284,Liste!$A$10:$D$163,4),\"\")","v":""},null,null,null,""]
[null,{"$f":"IF(A285>0,VLOOKUP(A285,Liste!$B$179                         : Liste!$C$189,2),\"\")","v":""},null,null,{"$f":"IF(D285>0,VLOOKUP(D285,Liste!$A$10:$D$163,4),\"\")","v":""},null,null,null,""]
[null,{"$f":"IF(A286>0,VLOOKUP(A286,Liste!$B$179                         : Liste!$C$189,2),\"\")","v":""},null,null,{"$f":"IF(D286>0,VLOOKUP(D286,Liste!$A$10:$D$163,4),\"\")","v":""},null,null,null,""]
[null,{"$f":"IF(A287>0,VLOOKUP(A287,Liste!$B$179                         : Liste!$C$189,2),\"\")","v":""},null,null,{"$f":"IF(D287>0,VLOOKUP(D287,Liste!$A$10:$D$163,4),\"\")","v":""},null,null,null,""]
[null,{"$f":"IF(A288>0,VLOOKUP(A288,Liste!$B$179                         : Liste!$C$189,2),\"\")","v":""},null,null,{"$f":"IF(D288>0,VLOOKUP(D288,Liste!$A$10:$D$163,4),\"\")","v":""},null,null,null,""]
[null,{"$f":"IF(A289>0,VLOOKUP(A289,Liste!$B$179                         : Liste!$C$189,2),\"\")","v":""},null,null,{"$f":"IF(D289>0,VLOOKUP(D289,Liste!$A$10:$D$163,4),\"\")","v":""},null,null,null,""]
[null,{"$f":"IF(A290>0,VLOOKUP(A290,Liste!$B$179                         : Liste!$C$189,2),\"\")","v":""},null,null,{"$f":"IF(D290>0,VLOOKUP(D290,Liste!$A$10:$D$163,4),\"\")","v":""},null,null,null,""]
[null,{"$f":"IF(A291>0,VLOOKUP(A291,Liste!$B$179                         : Liste!$C$189,2),\"\")","v":""},null,null,{"$f":"IF(D291>0,VLOOKUP(D291,Liste!$A$10:$D$163,4),\"\")","v":""},null,null,null,""]
[null,{"$f":"IF(A292>0,VLOOKUP(A292,Liste!$B$179                         : Liste!$C$189,2),\"\")","v":""},null,null,{"$f":"IF(D292>0,VLOOKUP(D292,Liste!$A$10:$D$163,4),\"\")","v":""},null,null,null,""]
[null,{"$f":"IF(A293>0,VLOOKUP(A293,Liste!$B$179                         : Liste!$C$189,2),\"\")","v":""},null,null,{"$f":"IF(D293>0,VLOOKUP(D293,Liste!$A$10:$D$163,4),\"\")","v":""},null,null,null,""]
[null,{"$f":"IF(A294>0,VLOOKUP(A294,Liste!$B$179                         : Liste!$C$189,2),\"\")","v":""},null,null,{"$f":"IF(D294>0,VLOOKUP(D294,Liste!$A$10:$D$163,4),\"\")","v":""},null,null,null,""]
[null,{"$f":"IF(A295>0,VLOOKUP(A295,Liste!$B$179                         : Liste!$C$189,2),\"\")","v":""},null,null,{"$f":"IF(D295>0,VLOOKUP(D295,Liste!$A$10:$D$163,4),\"\")","v":""},null,null,null,""]
[null,{"$f":"IF(A296>0,VLOOKUP(A296,Liste!$B$179                         : Liste!$C$189,2),\"\")","v":""},null,null,{"$f":"IF(D296>0,VLOOKUP(D296,Liste!$A$10:$D$163,4),\"\")","v":""},null,null,null,""]
[null,{"$f":"IF(A297>0,VLOOKUP(A297,Liste!$B$179                         : Liste!$C$189,2),\"\")","v":""},null,null,{"$f":"IF(D297>0,VLOOKUP(D297,Liste!$A$10:$D$163,4),\"\")","v":""},null,null,null,""]
[null,{"$f":"IF(A298>0,VLOOKUP(A298,Liste!$B$179                         : Liste!$C$189,2),\"\")","v":""},null,null,{"$f":"IF(D298>0,VLOOKUP(D298,Liste!$A$10:$D$163,4),\"\")","v":""},null,null,null,""]
[null,{"$f":"IF(A299>0,VLOOKUP(A299,Liste!$B$179                         : Liste!$C$189,2),\"\")","v":""},null,null,{"$f":"IF(D299>0,VLOOKUP(D299,Liste!$A$10:$D$163,4),\"\")","v":""},null,null,null,""]
[null,{"$f":"IF(A300>0,VLOOKUP(A300,Liste!$B$179                         : Liste!$C$189,2),\"\")","v":""},null,null,{"$f":"IF(D300>0,VLOOKUP(D300,Liste!$A$10:$D$163,4),\"\")","v":""},null,null,null,""]
[null,{"$f":"IF(A301>0,VLOOKUP(A301,Liste!$B$179                         : Liste!$C$189,2),\"\")","v":""},null,null,{"$f":"IF(D301>0,VLOOKUP(D301,Liste!$A$10:$D$163,4),\"\")","v":""},null,null,null,""]
[null,{"$f":"IF(A302>0,VLOOKUP(A302,Liste!$B$179                         : Liste!$C$189,2),\"\")","v":""},null,null,{"$f":"IF(D302>0,VLOOKUP(D302,Liste!$A$10:$D$163,4),\"\")","v":""},null,null,null,{"$f":"IF(AND(D302>0,F302+G302+H302=0),\"EN ATTENTE\",IF(F302+G302+H302>1,\"ERREUR\",\"\"))","v":""}]
[null,{"$f":"IF(A303>0,VLOOKUP(A303,Liste!$B$179                         : Liste!$C$189,2),\"\")","v":""},null,null,{"$f":"IF(D303>0,VLOOKUP(D303,Liste!$A$10:$D$163,4),\"\")","v":""},null,null,null,""]
[null,{"$f":"IF(A304>0,VLOOKUP(A304,Liste!$B$179                         : Liste!$C$189,2),\"\")","v":""},null,null,{"$f":"IF(D304>0,VLOOKUP(D304,Liste!$A$10:$D$163,4),\"\")","v":""},null,null,null,""]
[null,{"$f":"IF(A305>0,VLOOKUP(A305,Liste!$B$179                         : Liste!$C$189,2),\"\")","v":""},null,null,{"$f":"IF(D305>0,VLOOKUP(D305,Liste!$A$10:$D$163,4),\"\")","v":""},null,null,null,""]
[null,{"$f":"IF(A306>0,VLOOKUP(A306,Liste!$B$179                         : Liste!$C$189,2),\"\")","v":""},null,null,{"$f":"IF(D306>0,VLOOKUP(D306,Liste!$A$10:$D$163,4),\"\")","v":""},null,null,null,""]
[null,{"$f":"IF(A307>0,VLOOKUP(A307,Liste!$B$179                         : Liste!$C$189,2),\"\")","v":""},null,null,{"$f":"IF(D307>0,VLOOKUP(D307,Liste!$A$10:$D$163,4),\"\")","v":""},null,null,null,""]
[null,{"$f":"IF(A308>0,VLOOKUP(A308,Liste!$B$179                         : Liste!$C$189,2),\"\")","v":""},null,null,{"$f":"IF(D308>0,VLOOKUP(D308,Liste!$A$10:$D$163,4),\"\")","v":""},null,null,null,""]
[null,{"$f":"IF(A309>0,VLOOKUP(A309,Liste!$B$179                         : Liste!$C$189,2),\"\")","v":""},null,null,{"$f":"IF(D309>0,VLOOKUP(D309,Liste!$A$10:$D$163,4),\"\")","v":""},null,null,null,""]
[null,{"$f":"IF(A310>0,VLOOKUP(A310,Liste!$B$179                         : Liste!$C$189,2),\"\")","v":""},null,null,{"$f":"IF(D310>0,VLOOKUP(D310,Liste!$A$10:$D$163,4),\"\")","v":""},null,null,null,""]
[null,{"$f":"IF(A311>0,VLOOKUP(A311,Liste!$B$179                         : Liste!$C$189,2),\"\")","v":""},null,null,{"$f":"IF(D311>0,VLOOKUP(D311,Liste!$A$10:$D$163,4),\"\")","v":""},null,null,null,""]
[null,{"$f":"IF(A312>0,VLOOKUP(A312,Liste!$B$179                         : Liste!$C$189,2),\"\")","v":""},null,null,{"$f":"IF(D312>0,VLOOKUP(D312,Liste!$A$10:$D$163,4),\"\")","v":""},null,null,null,""]
[null,{"$f":"IF(A313>0,VLOOKUP(A313,Liste!$B$179                         : Liste!$C$189,2),\"\")","v":""},null,null,{"$f":"IF(D313>0,VLOOKUP(D313,Liste!$A$10:$D$163,4),\"\")","v":""},null,null,null,""]
[null,{"$f":"IF(A314>0,VLOOKUP(A314,Liste!$B$179                         : Liste!$C$189,2),\"\")","v":""},null,null,{"$f":"IF(D314>0,VLOOKUP(D314,Liste!$A$10:$D$163,4),\"\")","v":""},null,null,null,""]
[null,{"$f":"IF(A315>0,VLOOKUP(A315,Liste!$B$179                         : Liste!$C$189,2),\"\")","v":""},null,null,{"$f":"IF(D315>0,VLOOKUP(D315,Liste!$A$10:$D$163,4),\"\")","v":""},null,null,null,""]
[null,{"$f":"IF(A316>0,VLOOKUP(A316,Liste!$B$179                         : Liste!$C$189,2),\"\")","v":""},null,null,{"$f":"IF(D316>0,VLOOKUP(D316,Liste!$A$10:$D$163,4),\"\")","v":""},null,null,null,""]
[null,{"$f":"IF(A317>0,VLOOKUP(A317,Liste!$B$179                         : Liste!$C$189,2),\"\")","v":""},null,null,{"$f":"IF(D317>0,VLOOKUP(D317,Liste!$A$10:$D$163,4),\"\")","v":""},null,null,null,""]
[null,{"$f":"IF(A318>0,VLOOKUP(A318,Liste!$B$179                         : Liste!$C$189,2),\"\")","v":""},null,null,{"$f":"IF(D318>0,VLOOKUP(D318,Liste!$A$10:$D$163,4),\"\")","v":""},null,null,null,""]
[null,{"$f":"IF(A319>0,VLOOKUP(A319,Liste!$B$179                         : Liste!$C$189,2),\"\")","v":""},null,null,{"$f":"IF(D319>0,VLOOKUP(D319,Liste!$A$10:$D$163,4),\"\")","v":""},null,null,null,""]
[null,{"$f":"IF(A320>0,VLOOKUP(A320,Liste!$B$179                         : Liste!$C$189,2),\"\")","v":""},null,null,{"$f":"IF(D320>0,VLOOKUP(D320,Liste!$A$10:$D$163,4),\"\")","v":""},null,null,null,""]
[null,{"$f":"IF(A321>0,VLOOKUP(A321,Liste!$B$179                         : Liste!$C$189,2),\"\")","v":""},null,null,{"$f":"IF(D321>0,VLOOKUP(D321,Liste!$A$10:$D$163,4),\"\")","v":""},null,null,null,""]
[null,{"$f":"IF(A322>0,VLOOKUP(A322,Liste!$B$179                         : Liste!$C$189,2),\"\")","v":""},null,null,{"$f":"IF(D322>0,VLOOKUP(D322,Liste!$A$10:$D$163,4),\"\")","v":""},null,null,null,""]
[null,{"$f":"IF(A323>0,VLOOKUP(A323,Liste!$B$179                         : Liste!$C$189,2),\"\")","v":""},null,null,{"$f":"IF(D323>0,VLOOKUP(D323,Liste!$A$10:$D$163,4),\"\")","v":""},null,null,null,""]
[null,{"$f":"IF(A324>0,VLOOKUP(A324,Liste!$B$179                         : Liste!$C$189,2),\"\")","v":""},null,null,{"$f":"IF(D324>0,VLOOKUP(D324,Liste!$A$10:$D$163,4),\"\")","v":""},null,null,null,""]
[null,{"$f":"IF(A325>0,VLOOKUP(A325,Liste!$B$179                         : Liste!$C$189,2),\"\")","v":""},null,null,{"$f":"IF(D325>0,VLOOKUP(D325,Liste!$A$10:$D$163,4),\"\")","v":""},null,null,null,""]
[null,{"$f":"IF(A326>0,VLOOKUP(A326,Liste!$B$179                         : Liste!$C$189,2),\"\")","v":""},null,null,{"$f":"IF(D326>0,VLOOKUP(D326,Liste!$A$10:$D$163,4),\"\")","v":""},null,null,null,""]
[null,{"$f":"IF(A327>0,VLOOKUP(A327,Liste!$B$179                         : Liste!$C$189,2),\"\")","v":""},null,null,{"$f":"IF(D327>0,VLOOKUP(D327,Liste!$A$10:$D$163,4),\"\")","v":""},null,null,null,""]
[null,{"$f":"IF(A328>0,VLOOKUP(A328,Liste!$B$179                         : Liste!$C$189,2),\"\")","v":""},null,null,{"$f":"IF(D328>0,VLOOKUP(D328,Liste!$A$10:$D$163,4),\"\")","v":""},null,null,null,""]
[null,{"$f":"IF(A329>0,VLOOKUP(A329,Liste!$B$179                         : Liste!$C$189,2),\"\")","v":""},null,null,{"$f":"IF(D329>0,VLOOKUP(D329,Liste!$A$10:$D$163,4),\"\")","v":""},null,null,null,""]
["Total général",null,{"$f":"SUBTOTAL(9,C6:C329)","v":58}]

{"sheet":"F.MERE","index":4,"n_rows":163,"n_cols":41,"rows_kept":163,"cut":false,"hidden":false,"merged":[[6,6,7,7]]}
[{"$f":"Liste!C4","v":"00:00:00"},null,{"$f":" $AI$10&$AJ$10","v":""},null,null,null,null,null,null,null,{"$f":" $AI$10&$AJ$10","v":""},null,null,null,null,null,1,2,3,4,null,null,null,null,null,null,null,null,24,25,25.1,26,26.1]
[null,null,"POUR","CONTRE","ABSTENT","Total TANT.","P. R","x","PRES. Votants","Tant. Repré.","POUR","CONTRE","ABSTENT","TOTAL",null,null,1,"BAT,A","BAT,B","TANT 4"," TANT.5"," TANT.6"," TANT."," TANT."," TANT."," TANT."," TANT.",null,{"$f":"240*(A2=24)*(L3>K3)+241*(A2=24)*(K3>L3)","v":0},{"$f":"250*(A2=25)*(K3<AI7)+251*(A2=25)*(K3>AI7)+2*(A2=25)*(K3>=AK7)*(K3<AI7)","v":0},{"$f":"255*(A2=25.1)*(K3>AK7)+256*(A2=25.1)*(K3<AK7)","v":0},{"$f":"260*(A2=26)*((K3<AJ7)*(K7<AJ8))+261*(A2=26)*((K3>AJ7)*(K3>AJ8))+2*(A2=26)*(K3>=AK7)*(K3<=AJ7)","v":0},{"$f":"262*(A2=26.1)*(K3>=AI7)+260*(A2=26.1)*(K3<AI7)","v":0},null,null,{"$f":"SUM(AC2:AI2)","v":0},null,2,null,240,{"$f":"CONCATENATE( \"REFUSEE par \",D3,\" voix CONTRE et \",V3,\" voix POUR\")","v":"REFUSEE par 0 voix CONTRE et 0 voix POUR"}]
["Nom",null,{"$f":"SUM($C$14:$C$163)","v":0},{"$f":"SUM($D$14:$D$163)","v":0},{"$f":"SUM($E$14:$E163)","v":0},{"$f":"SUM($F$14:$F$163)","v":4822},{"$f":"E11","v":15},null,{"$f":"SUM($I$14:$I$163)","v":15},{"$f":"SUM($J$14:$J$163)","v":4822},{"$f":"SUM($C$14:$C$163)","v":0},{"$f":"SUM($D$14:$D$163)","v":0},{"$f":"SUM($E$14:$E163)","v":0},{"$f":"K3+L3+M3","v":0},{"$f":"IF(N3=E10,\"\",\"EN ATTENTE\")","v":"EN ATTENTE"},null,{"$f":"SUM(Q14:Q163)","v":10340},{"$f":"SUM(R14:R163)","v":10000},{"$f":"SUM(S14:S163)","v":10000},{"$f":"SUM(T14:T163)","v":0},{"$f":"SUM(U14:U163)","v":0},{"$f":"SUM(V14:V63)","v":0},{"$f":"SUM(W14:W163)","v":0},0,{"$f":"SUM(Y14:Y163)","v":0},0,{"$f":"SUM(AA14:AA163)","v":0},null,{"$f":"0*(A3=24)*(L4>K4)+1*(A2=24)*(K2>L3)","v":0},{"$f":"0*(A2=25)*(K3<AI7)+1*(A2=25)*(K3>AI7)+1*(A2=25)*(K3>=AK8)*(K3<AI7)","v":0},{"$f":"1*(A2=25.1)*(K3>AK7)+0*(A3=25.1)*(K3<AK7)","v":0},{"$f":"260*(A3=26)*((K4<AJ8)+(K8<AJ9)*(K4<=AK8))+261*(A3=26)*((K4>AJ8)*(K4>AJ9))","v":0},{"$f":"262*(A3=26.1)*(K4>=AI8)+260*(A3=26.1)*(K4<AI8)","v":0},null,null,{"$f":"SUM(AC3:AI3)","v":0},null,null,null,241,{"$f":"CONCATENATE( \"ADOPTEE par \",C3,\" voix POUR et \",D3,\" voix CONTRE.\")","v":"ADOPTEE par 0 voix POUR et 0 voix CONTRE."}]
["Clé",1,null,null,null,null,null,null,null,null,null,null,null,null,null,null,{"$f":"COUNTIF(Q14:Q163,\">0\")","v":35},{"$f":"COUNTIF(R14:R163,\">0\")","v":16},{"$f":"COUNTIF(S14:S163,\">0\")","v":11},{"$f":"COUNTIF(T14:T163,\">0\")","v":0},{"$f":"COUNTIF(U14:U163,\">0\")","v":0},{"$f":"COUNTIF(V13:V14,\">0\")","v":0},{"$f":"COUNTIF(W14:W163,\">0\")","v":0},{"$f":"COUNTIF(X14:X163,\">0\")","v":0},{"$f":"COUNTIF(Y14:Y163,\">0\")","v":0},{"$f":"COUNTIF(Z14:Z163,\">0\")","v":0},{"$f":"COUNTIF(AA14:AA163,\">0\")","v":0},null,null,null,null,null,null,null,null,null,null,null,null,250,{"$f":"CONCATENATE(\" REFUSEE,Pas de possibilité de 2e vote\")","v":" REFUSEE,Pas de possibilité de 2e vote"}]
[null,null,{"$f":"VLOOKUP($AJ$2,$AN$2:$AO$13,2,FALSE)","v":{"$error":"#N/A"}},null,null,null,null,null,null,null,{"$f":"IF(A2=26, AJ11,\"\")","v":""},null,null,null,null,null,null,null,null,null,null,null,null,null,null,null,null,260,{"$f":"+K37","v":0},null,null,null,null,null,"25 Maj; Voix","26 Maj.2/3 Voix","26 Maj 1/3 voix",null,null,251,{"$f":"IF(AJ2=251,CONCATENATE(\" ADOPTEE par \",C3,\" voix POUR et \",D3,\" voix CONTRE\"),\"\")","v":""}]
[null,null,null,null,null,null,null,null,null,"NOMBRE :","POUR","CONTRE","ABSTENT","VOTANTS",null,null,null,null,null,null,null,null,null,null,null,null,null,261,{"$f":"261*(A2=26)*((K3>AJ7)*(K7>AJ8))","v":0},null,null,null,null,null,"Tous Copros","Tous Copros","Tous copros",null,null,252,{"$f":"CONCATENATE(\"Possibilité d'un deuxième vote à l'article 25,1, majorité 24, \")","v":"Possibilité d'un deuxième vote à l'article 25,1, majorité 24, "}]
[null,null,null,null,null,null,{"$f":"IF(SUM($O$14:$O$163)>0,\"LIMITES DEPASSEES\",\"\")","v":""},null,null,null,{"$f":"SUM($K$14:$K$163)","v":0},{"$f":"SUM($L$14:$L$163)","v":0},{"$f":"SUM($M$14:$M$163)","v":0},{"$f":"K7+L7+M7","v":0},{"$f":"IF(N7=E11,\"\",\"EN ATTENTE\")","v":"EN ATTENTE"},null,null,null,null,null,null,null,null,null,null,null,null,262,null,null," Voix ¨POUR",{"$f":"K3","v":0},null,null,{"$f":"ROUNDDOWN((D10)/2+1,0)","v":5171},{"$f":"ROUNDDOWN((D10)*2/3+1,0)","v":6894},{"$f":"ROUNDDOWN((D10)*1/3+1,0)","v":3447},{"$f":"ROUNDUP(E10/2,0)","v":2411},null,260,{"$f":"IF(AJ2=260,CONCATENATE(\"Rejetée part \",C3,\" voix POUR, inférieures à \",AJ7,\"ou inférieurs à \",AJ8,\" copropriétaires);\"\"\"))","v":false}]
[null,null,"Total","Total","Prés.Repr",null,null,null,null,null,null,null,null,null,null,null,null,null,null,null,null,null,null,null,null,null,null,null,null,null,"Nbre Copros ¨POUR",{"$f":"K7","v":0},null,null,null,{"$f":"ROUNDUP(($D$11+0.1)/2,0)","v":18},null,{"$f":"ROUNDUP(E11/2,0)","v":8},null,261,{"$f":"IF(AJ2=261,CONCATENATE(\" ADOPTEE par \",C3,\" voix POUR et \",D3,\" voix CONTRE\"))","v":false}]
[null,null,"Syndicat"," CLE","Tot.Votants",null,null,null,null,null,{"$f":"VLOOKUP($AJ$2,$AN$2:$AO$13,2,FALSE)","v":{"$error":"#N/A"}},null,null,null,null,null,null,null,null,null,null,null,null,null,null,null,null,null,null,null,null,null,null,null,null,null,null,null,null,262,{"$f":"CONCATENATE(\"Possibilité d'un deuxième vote à l'article 26,1 \")","v":"Possibilité d'un deuxième vote à l'article 26,1 "}]
[null,null,{"$f":"HLOOKUP(1,$Q$1:$AA$4,3,FALSE)","v":10340},{"$f":"HLOOKUP($B$4,$Q$1:$AA$4,3,FALSE)","v":10340},{"$f":"SUM($F$14:$F$163)","v":4822},"VOIX",null,null,null,null,null,null,null,null,null,null,null,null,null,null,null,null,null,null,null,null,null,null,null,null,null,null,null,null,{"$f":" IF($A$2=25,\">= \" & $AI$7,\"\")","v":""},{"$f":" IF($A$2=26,\">= \" & $AJ$7,\"\")","v":""},{"$f":" IF($A$2=26.1,\">= \" & $AK7,\"\")","v":""},null,null,265,"REFUSEE"]
[null,null,{"$f":"HLOOKUP(1,$Q$1:$AA$4,4,FALSE)","v":35},{"$f":"HLOOKUP($B$4,$Q$1:$AA$4,4,FALSE)","v":35},{"$f":"SUM($I$14:$I$163)","v":15},"NOMBRE",null,null,null,null,null,null,null,null,null,null,null,null,null,null,null,null,null,null,null,null,null,null,null,"Nombre de dépassemnts",null,null,null,null,null,{"$f":" IF($A$2=26,\">= \" & $AJ$8,\"\")","v":""},null,null,null,266,"ADOPTEE par 3596 voix POUR et 1714 voix CONTRE."]
[null,null,null,null,null,null,null,null,null,null,null,null,{"$f":"IF(COUNTIF($N$14:$N$163,\"ERREUR\")>0,\"ERREUR\",\"\")","v":""},{"$f":"IF(COUNTIF($N$14:$N$163,\"EN ATTENTE\")>0,\"EN ATTENTE\",\"\")","v":"EN ATTENTE"},0.1,null,1,2,3,4,5,6,7,8,9,10,11]
["N° Ordre","NOMS","Voix     POUR","Voix   CONTRE  ","Voix Abst.","Total TANT.","P. R","Rep.par","PRES. Votants","Tant. Repré.","Votes    POUR","Votes    CONTRE","Votes   ABST,","VERIF","LIMITES","Votes","TANT.GEN",{"$f":"R2","v":"BAT,A"},"BAT,B","TANT 4"," TANT.5"," TANT.6"," TANT."," TANT."," TANT."," TANT."," TANT.","X","    Nombre  Représentés","  Total Voix","XX"]
[1,{"$f":"IF(A14<>0,VLOOKUP(A14,Liste!$A$10:$D$159,4,FALSE),\"\")","v":"ALEXANDRINI André"},{"$f":"F14*(K14=1)","v":0},{"$f":"F14*(L14=1)","v":0},{"$f":"F14*(M14=1)","v":0},{"$f":"IF(I14=1,VLOOKUP(A14,$A$14:$AA$163,16+$B$4,0),0)","v":0},null,null,{"$f":"1*(IF(G14>=1,VLOOKUP(A14,$A$14:$AA$163,16+$B$4,0)>0))","v":0},{"$f":"IF(F14>0,F14,0)","v":0},{"$f":"IF(AND($I14=1,$H14>0),VLOOKUP($H14,$A$14:AD$163,11,FALSE),0)","v":0},{"$f":"IF(AND($I14=1,$H14>0),VLOOKUP($H14,$A$14:AE$163,12,FALSE),0)","v":0},{"$f":"IF(AND($I14=1,$H14>0),VLOOKUP($H14,$A$14:AF$163,13,FALSE),0)","v":0},{"$f":"IF(AND(I14>0,K14+L14+M14=0),\"EN ATTENTE\",IF(K14+L14+M14>1,\"ERREUR\",\"\"))","v":""},{"$f":"IF(AND(AC14>3,AD14>$D$10*$O$12),1,\"\")","v":""},{"$f":"IF(I14=1,K14*(K14=1)+L14*2*(L14=1)+M14*3*(M14=1),\"\")","v":""},568,474,null,null,null,null,null,null,null,null,null,{"$f":"(H14+I14)*(J14>0)","v":0},{"$f":"COUNTIF($H$14:$H$163,A14)","v":0},{"$f":"SUMIF($H$14:$H$163,A14,$J$14:$J$163)+(J14*(AC14>0))","v":0},{"$f":"IF(H14>0,H14+0.5*(I14=1),A14*(I14=1))+(1000*(I14<1))","v":1000}]
[2,{"$f":"IF(A15<>0,VLOOKUP(A15,Liste!$A$10:$D$159,4,FALSE),\"\")","v":"ANNINOS Henri"},0,0,0,{"$f":"IF(I15=1,VLOOKUP(A15,$A$14:$AA$163,16+$B$4,0),0)","v":290},1,null,1,290,{"$f":"IF(AND($I15=1,$H15>0),VLOOKUP($H15,$A$14:AD$163,11,FALSE),0)","v":0},{"$f":"IF(AND($I15=1,$H15>0),VLOOKUP($H15,$A$14:AE$163,12,FALSE),0)","v":0},{"$f":"IF(AND($I15=1,$H15>0),VLOOKUP($H15,$A$14:AF$163,13,FALSE),0)","v":0},"EN ATTENTE","",0,{"$f":"IF(A15<>0,VLOOKUP(A15,Liste!$A$10:$K$159,8,FALSE),\"\")","v":290},595,null,null,null,null,null,null,null,null,null,{"$f":"(H15+I15)*(J15>0)","v":1},{"$f":"COUNTIF($H$14:$H$163,A15)","v":0},{"$f":"SUMIF($H$14:$H$163,A15,$J$14:$J$163)+(J15*(AC15>0))","v":0},{"$f":"IF(H15>0,H15+0.5*(I15=1),A15*(I15=1))+(1000*(I15<1))","v":2}]
[3,{"$f":"IF(A16<>0,VLOOKUP(A16,Liste!$A$10:$D$159,4,FALSE),\"\")","v":"BALDACCHINO Laurence"},0,0,0,319,1,null,1,319,{"$f":"IF(AND($I16=1,$H16>0),VLOOKUP($H16,$A$14:AD$163,11,FALSE),0)","v":0},{"$f":"IF(AND($I16=1,$H16>0),VLOOKUP($H16,$A$14:AE$163,12,FALSE),0)","v":0},{"$f":"IF(AND($I16=1,$H16>0),VLOOKUP($H16,$A$14:AF$163,13,FALSE),0)","v":0},"EN ATTENTE","",0,{"$f":"IF(A16<>0,VLOOKUP(A16,Liste!$A$10:$K$159,8,FALSE),\"\")","v":319},846,null,null,null,null,null,null,null,null,null,1,0,0,3]
[4,{"$f":"IF(A17<>0,VLOOKUP(A17,Liste!$A$10:$D$159,4,FALSE),\"\")","v":"BANCHET Joseph"},0,0,0,294,1,null,1,294,{"$f":"IF(AND($I17=1,$H17>0),VLOOKUP($H17,$A$14:AD$163,11,FALSE),0)","v":0},{"$f":"IF(AND($I17=1,$H17>0),VLOOKUP($H17,$A$14:AE$163,12,FALSE),0)","v":0},{"$f":"IF(AND($I17=1,$H17>0),VLOOKUP($H17,$A$14:AF$163,13,FALSE),0)","v":0},"EN ATTENTE","",0,{"$f":"IF(A17<>0,VLOOKUP(A17,Liste!$A$10:$K$159,8,FALSE),\"\")","v":294},508,null,null,null,null,null,null,null,null,null,1,0,0,4]
[5,{"$f":"IF(A18<>0,VLOOKUP(A18,Liste!$A$10:$D$159,4,FALSE),\"\")","v":"BARDIN Andrée"},0,0,0,0,null,null,0,0,{"$f":"IF(AND($I18=1,$H18>0),VLOOKUP($H18,$A$14:AD$163,11,FALSE),0)","v":0},{"$f":"IF(AND($I18=1,$H18>0),VLOOKUP($H18,$A$14:AE$163,12,FALSE),0)","v":0},{"$f":"IF(AND($I18=1,$H18>0),VLOOKUP($H18,$A$14:AF$163,13,FALSE),0)","v":0},"","","",{"$f":"IF(A18<>0,VLOOKUP(A18,Liste!$A$10:$K$159,8,FALSE),\"\")","v":287},426,null,null,null,null,null,null,null,null,null,0,0,0,1000]
[6,{"$f":"IF(A19<>0,VLOOKUP(A19,Liste!$A$10:$D$159,4,FALSE),\"\")","v":"BARDIN-BENARD Louis"},0,0,0,0,null,null,0,0,{"$f":"IF(AND($I19=1,$H19>0),VLOOKUP($H19,$A$14:AD$163,11,FALSE),0)","v":0},{"$f":"IF(AND($I19=1,$H19>0),VLOOKUP($H19,$A$14:AE$163,12,FALSE),0)","v":0},{"$f":"IF(AND($I19=1,$H19>0),VLOOKUP($H19,$A$14:AF$163,13,FALSE),0)","v":0},"","","",{"$f":"IF(A19<>0,VLOOKUP(A19,Liste!$A$10:$K$159,8,FALSE),\"\")","v":257},380,null,null,null,null,null,null,null,null,null,0,0,0,1000]
[7,{"$f":"IF(A20<>0,VLOOKUP(A20,Liste!$A$10:$D$159,4,FALSE),\"\")","v":"BARDOUILLE Hermine"},0,0,0,371,2,null,1,371,{"$f":"IF(AND($I20=1,$H20>0),VLOOKUP($H20,$A$14:AD$163,11,FALSE),0)","v":0},{"$f":"IF(AND($I20=1,$H20>0),VLOOKUP($H20,$A$14:AE$163,12,FALSE),0)","v":0},{"$f":"IF(AND($I20=1,$H20>0),VLOOKUP($H20,$A$14:AF$163,13,FALSE),0)","v":0},"EN ATTENTE","",0,{"$f":"IF(A20<>0,VLOOKUP(A20,Liste!$A$10:$K$159,8,FALSE),\"\")","v":371},595,null,null,null,null,null,null,null,null,null,1,0,0,7]
[8,{"$f":"IF(A21<>0,VLOOKUP(A21,Liste!$A$10:$D$159,4,FALSE),\"\")","v":"BARDOUILLE Jean Yves"},0,0,0,0,null,null,0,0,{"$f":"IF(AND($I21=1,$H21>0),VLOOKUP($H21,$A$14:AD$163,11,FALSE),0)","v":0},{"$f":"IF(AND($I21=1,$H21>0),VLOOKUP($H21,$A$14:AE$163,12,FALSE),0)","v":0},{"$f":"IF(AND($I21=1,$H21>0),VLOOKUP($H21,$A$14:AF$163,13,FALSE),0)","v":0},"","","",{"$f":"IF(A21<>0,VLOOKUP(A21,Liste!$A$10:$K$159,8,FALSE),\"\")","v":569},846,null,null,null,null,null,null,null,null,null,0,0,0,1000]
[9,{"$f":"IF(A22<>0,VLOOKUP(A22,Liste!$A$10:$D$159,4,FALSE),\"\")","v":"BAUDINO"},0,0,0,431,2,16,1,431,{"$f":"IF(AND($I22=1,$H22>0),VLOOKUP($H22,$A$14:AD$163,11,FALSE),0)","v":0},{"$f":"IF(AND($I22=1,$H22>0),VLOOKUP($H22,$A$14:AE$163,12,FALSE),0)","v":0},{"$f":"IF(AND($I22=1,$H22>0),VLOOKUP($H22,$A$14:AF$163,13,FALSE),0)","v":0},"EN ATTENTE","",0,{"$f":"IF(A22<>0,VLOOKUP(A22,Liste!$A$10:$K$159,8,FALSE),\"\")","v":431},715,null,null,null,null,null,null,null,null,null,17,0,0,16.5]
[10,{"$f":"IF(A23<>0,VLOOKUP(A23,Liste!$A$10:$D$159,4,FALSE),\"\")","v":"BAUGUIL André"},0,0,0,0,null,null,0,0,{"$f":"IF(AND($I23=1,$H23>0),VLOOKUP($H23,$A$14:AD$163,11,FALSE),0)","v":0},{"$f":"IF(AND($I23=1,$H23>0),VLOOKUP($H23,$A$14:AE$163,12,FALSE),0)","v":0},{"$f":"IF(AND($I23=1,$H23>0),VLOOKUP($H23,$A$14:AF$163,13,FALSE),0)","v":0},"","","",{"$f":"IF(A23<>0,VLOOKUP(A23,Liste!$A$10:$K$159,8,FALSE),\"\")","v":360},534,null,null,null,null,null,null,null,null,null,0,0,0,1000]
[11,{"$f":"IF(A24<>0,VLOOKUP(A24,Liste!$A$10:$D$159,4,FALSE),\"\")","v":"BAUMGARTNER Peter"},0,0,0,0,null,null,0,0,{"$f":"IF(AND($I24=1,$H24>0),VLOOKUP($H24,$A$14:AD$163,11,FALSE),0)","v":0},{"$f":"IF(AND($I24=1,$H24>0),VLOOKUP($H24,$A$14:AE$163,12,FALSE),0)","v":0},{"$f":"IF(AND($I24=1,$H24>0),VLOOKUP($H24,$A$14:AF$163,13,FALSE),0)","v":0},"","","",{"$f":"IF(A24<>0,VLOOKUP(A24,Liste!$A$10:$K$159,8,FALSE),\"\")","v":380},595,null,null,null,null,null,null,null,null,null,0,0,0,1000]
[12,{"$f":"IF(A25<>0,VLOOKUP(A25,Liste!$A$10:$D$159,4,FALSE),\"\")","v":"BECH Monique"},0,0,0,519,2,16,1,519,{"$f":"IF(AND($I25=1,$H25>0),VLOOKUP($H25,$A$14:AD$163,11,FALSE),0)","v":0},{"$f":"IF(AND($I25=1,$H25>0),VLOOKUP($H25,$A$14:AE$163,12,FALSE),0)","v":0},{"$f":"IF(AND($I25=1,$H25>0),VLOOKUP($H25,$A$14:AF$163,13,FALSE),0)","v":0},"EN ATTENTE","",0,{"$f":"IF(A25<>0,VLOOKUP(A25,Liste!$A$10:$K$159,8,FALSE),\"\")","v":519},846,null,null,null,null,null,null,null,null,null,17,0,0,16.5]
[13,{"$f":"IF(A26<>0,VLOOKUP(A26,Liste!$A$10:$D$159,4,FALSE),\"\")","v":"BERGET Jean François"},0,0,0,0,null,null,0,0,{"$f":"IF(AND($I26=1,$H26>0),VLOOKUP($H26,$A$14:AD$163,11,FALSE),0)","v":0},{"$f":"IF(AND($I26=1,$H26>0),VLOOKUP($H26,$A$14:AE$163,12,FALSE),0)","v":0},{"$f":"IF(AND($I26=1,$H26>0),VLOOKUP($H26,$A$14:AF$163,13,FALSE),0)","v":0},"","","",{"$f":"IF(A26<>0,VLOOKUP(A26,Liste!$A$10:$K$159,8,FALSE),\"\")","v":381},595,null,null,null,null,null,null,null,null,null,0,0,0,1000]
[14,{"$f":"IF(A27<>0,VLOOKUP(A27,Liste!$A$10:$D$159,4,FALSE),\"\")","v":"BERLIER David"},0,0,0,391,1,null,1,391,{"$f":"IF(AND($I27=1,$H27>0),VLOOKUP($H27,$A$14:AD$163,11,FALSE),0)","v":0},{"$f":"IF(AND($I27=1,$H27>0),VLOOKUP($H27,$A$14:AE$163,12,FALSE),0)","v":0},{"$f":"IF(AND($I27=1,$H27>0),VLOOKUP($H27,$A$14:AF$163,13,FALSE),0)","v":0},"EN ATTENTE","",0,{"$f":"IF(A27<>0,VLOOKUP(A27,Liste!$A$10:$K$159,8,FALSE),\"\")","v":391},595,null,null,null,null,null,null,null,null,null,1,0,0,14]
[15,{"$f":"IF(A28<>0,VLOOKUP(A28,Liste!$A$10:$D$159,4,FALSE),\"\")","v":"BESSON Gabriel"},0,0,0,380,1,null,1,380,{"$f":"IF(AND($I28=1,$H28>0),VLOOKUP($H28,$A$14:AD$163,11,FALSE),0)","v":0},{"$f":"IF(AND($I28=1,$H28>0),VLOOKUP($H28,$A$14:AE$163,12,FALSE),0)","v":0},{"$f":"IF(AND($I28=1,$H28>0),VLOOKUP($H28,$A$14:AF$163,13,FALSE),0)","v":0},"EN ATTENTE","",0,{"$f":"IF(A28<>0,VLOOKUP(A28,Liste!$A$10:$K$159,8,FALSE),\"\")","v":380},772,null,null,null,null,null,null,null,null,null,1,0,0,15]
[16,{"$f":"IF(A29<>0,VLOOKUP(A29,Liste!$A$10:$D$159,4,FALSE),\"\")","v":"DENIS Jacques"},0,0,0,315,2,null,1,315,{"$f":"IF(AND($I29=1,$H29>0),VLOOKUP($H29,$A$14:AD$163,11,FALSE),0)","v":0},{"$f":"IF(AND($I29=1,$H29>0),VLOOKUP($H29,$A$14:AE$163,12,FALSE),0)","v":0},{"$f":"IF(AND($I29=1,$H29>0),VLOOKUP($H29,$A$14:AF$163,13,FALSE),0)","v":0},"EN ATTENTE","",0,{"$f":"IF(A29<>0,VLOOKUP(A29,Liste!$A$10:$K$159,8,FALSE),\"\")","v":315},678,null,null,null,null,null,null,null,null,null,1,2,1265,16]
[17,{"$f":"IF(A30<>0,VLOOKUP(A30,Liste!$A$10:$D$159,4,FALSE),\"\")","v":"DI JORIO Brigitte"},0,0,0,244,2,null,1,244,{"$f":"IF(AND($I30=1,$H30>0),VLOOKUP($H30,$A$14:AD$163,11,FALSE),0)","v":0},{"$f":"IF(AND($I30=1,$H30>0),VLOOKUP($H30,$A$14:AE$163,12,FALSE),0)","v":0},{"$f":"IF(AND($I30=1,$H30>0),VLOOKUP($H30,$A$14:AF$163,13,FALSE),0)","v":0},"EN ATTENTE","",0,{"$f":"IF(A30<>0,VLOOKUP(A30,Liste!$A$10:$K$159,8,FALSE),\"\")","v":244},null,1040,null,null,null,null,null,null,null,null,1,0,0,17]
[18,{"$f":"IF(A31<>0,VLOOKUP(A31,Liste!$A$10:$D$159,4,FALSE),\"\")","v":"DI JORIO Marcel"},0,0,0,289,1,null,1,289,{"$f":"IF(AND($I31=1,$H31>0),VLOOKUP($H31,$A$14:AD$163,11,FALSE),0)","v":0},{"$f":"IF(AND($I31=1,$H31>0),VLOOKUP($H31,$A$14:AE$163,12,FALSE),0)","v":0},{"$f":"IF(AND($I31=1,$H31>0),VLOOKUP($H31,$A$14:AF$163,13,FALSE),0)","v":0},"EN ATTENTE","",0,{"$f":"IF(A31<>0,VLOOKUP(A31,Liste!$A$10:$K$159,8,FALSE),\"\")","v":289},null,762,null,null,null,null,null,null,null,null,1,0,0,18]
[19,{"$f":"IF(A32<>0,VLOOKUP(A32,Liste!$A$10:$D$159,4,FALSE),\"\")","v":"DI MEGLIO Laurent"},0,0,0,0,null,null,0,0,{"$f":"IF(AND($I32=1,$H32>0),VLOOKUP($H32,$A$14:AD$163,11,FALSE),0)","v":0},{"$f":"IF(AND($I32=1,$H32>0),VLOOKUP($H32,$A$14:AE$163,12,FALSE),0)","v":0},{"$f":"IF(AND($I32=1,$H32>0),VLOOKUP($H32,$A$14:AF$163,13,FALSE),0)","v":0},"","","",{"$f":"IF(A32<>0,VLOOKUP(A32,Liste!$A$10:$K$159,8,FALSE),\"\")","v":237},null,1402,null,null,null,null,null,null,null,null,0,0,0,1000]
[20,{"$f":"IF(A33<>0,VLOOKUP(A33,Liste!$A$10:$D$159,4,FALSE),\"\")","v":"DRAGOTTA Michel"},0,0,0,0,null,null,0,0,{"$f":"IF(AND($I33=1,$H33>0),VLOOKUP($H33,$A$14:AD$163,11,FALSE),0)","v":0},{"$f":"IF(AND($I33=1,$H33>0),VLOOKUP($H33,$A$14:AE$163,12,FALSE),0)","v":0},{"$f":"IF(AND($I33=1,$H33>0),VLOOKUP($H33,$A$14:AF$163,13,FALSE),0)","v":0},"","","",{"$f":"IF(A33<>0,VLOOKUP(A33,Liste!$A$10:$K$159,8,FALSE),\"\")","v":286},null,1015,null,null,null,null,null,null,null,null,0,0,0,1000]
[21,{"$f":"IF(A34<>0,VLOOKUP(A34,Liste!$A$10:$D$159,4,FALSE),\"\")","v":"DUBOURG Pierre"},0,0,0,323,2,null,1,323,{"$f":"IF(AND($I34=1,$H34>0),VLOOKUP($H34,$A$14:AD$163,11,FALSE),0)","v":0},{"$f":"IF(AND($I34=1,$H34>0),VLOOKUP($H34,$A$14:AE$163,12,FALSE),0)","v":0},{"$f":"IF(AND($I34=1,$H34>0),VLOOKUP($H34,$A$14:AF$163,13,FALSE),0)","v":0},"EN ATTENTE","",0,{"$f":"IF(A34<>0,VLOOKUP(A34,Liste!$A$10:$K$159,8,FALSE),\"\")","v":323},null,762,null,null,null,null,null,null,null,null,1,0,0,21]
[22,{"$f":"IF(A35<>0,VLOOKUP(A35,Liste!$A$10:$D$159,4,FALSE),\"\")","v":"FIGUERAS Annie"},0,0,0,0,null,null,0,0,{"$f":"IF(AND($I35=1,$H35>0),VLOOKUP($H35,$A$14:AD$163,11,FALSE),0)","v":0},{"$f":"IF(AND($I35=1,$H35>0),VLOOKUP($H35,$A$14:AE$163,12,FALSE),0)","v":0},{"$f":"IF(AND($I35=1,$H35>0),VLOOKUP($H35,$A$14:AF$163,13,FALSE),0)","v":0},"","","",{"$f":"IF(A35<>0,VLOOKUP(A35,Liste!$A$10:$K$159,8,FALSE),\"\")","v":300},null,819,null,null,null,null,null,null,null,null,0,0,0,1000]
[23,{"$f":"IF(A36<>0,VLOOKUP(A36,Liste!$A$10:$D$159,4,FALSE),\"\")","v":"FONTANA Georges"},0,0,0,0,null,null,0,0,{"$f":"IF(AND($I36=1,$H36>0),VLOOKUP($H36,$A$14:AD$163,11,FALSE),0)","v":0},{"$f":"IF(AND($I36=1,$H36>0),VLOOKUP($H36,$A$14:AE$163,12,FALSE),0)","v":0},{"$f":"IF(AND($I36=1,$H36>0),VLOOKUP($H36,$A$14:AF$163,13,FALSE),0)","v":0},"","","",{"$f":"IF(A36<>0,VLOOKUP(A36,Liste!$A$10:$K$159,8,FALSE),\"\")","v":323},null,873,null,null,null,null,null,null,null,null,0,0,0,1000]
[24,{"$f":"IF(A37<>0,VLOOKUP(A37,Liste!$A$10:$D$159,4,FALSE),\"\")","v":"FORGET Valéry"},0,0,0,270,2,null,1,270,{"$f":"IF(AND($I37=1,$H37>0),VLOOKUP($H37,$A$14:AD$163,11,FALSE),0)","v":0},{"$f":"IF(AND($I37=1,$H37>0),VLOOKUP($H37,$A$14:AE$163,12,FALSE),0)","v":0},{"$f":"IF(AND($I37=1,$H37>0),VLOOKUP($H37,$A$14:AF$163,13,FALSE),0)","v":0},"EN ATTENTE","",0,{"$f":"IF(A37<>0,VLOOKUP(A37,Liste!$A$10:$K$159,8,FALSE),\"\")","v":270},null,830,null,null,null,null,null,null,null,null,1,0,0,24]
[25,{"$f":"IF(A38<>0,VLOOKUP(A38,Liste!$A$10:$D$159,4,FALSE),\"\")","v":"FOURNIER Nicole"},0,0,0,0,null,null,0,0,{"$f":"IF(AND($I38=1,$H38>0),VLOOKUP($H38,$A$14:AD$163,11,FALSE),0)","v":0},{"$f":"IF(AND($I38=1,$H38>0),VLOOKUP($H38,$A$14:AE$163,12,FALSE),0)","v":0},{"$f":"IF(AND($I38=1,$H38>0),VLOOKUP($H38,$A$14:AF$163,13,FALSE),0)","v":0},"","","",{"$f":"IF(A38<>0,VLOOKUP(A38,Liste!$A$10:$K$159,8,FALSE),\"\")","v":290},null,973,null,null,null,null,null,null,null,null,0,0,0,1000]
[26,{"$f":"IF(A39<>0,VLOOKUP(A39,Liste!$A$10:$D$159,4,FALSE),\"\")","v":"GARCIA Christophe"},0,0,0,286,1,null,1,286,{"$f":"IF(AND($I39=1,$H39>0),VLOOKUP($H39,$A$14:AD$163,11,FALSE),0)","v":0},{"$f":"IF(AND($I39=1,$H39>0),VLOOKUP($H39,$A$14:AE$163,12,FALSE),0)","v":0},{"$f":"IF(AND($I39=1,$H39>0),VLOOKUP($H39,$A$14:AF$163,13,FALSE),0)","v":0},"EN ATTENTE","",0,{"$f":"IF(A39<>0,VLOOKUP(A39,Liste!$A$10:$K$159,8,FALSE),\"\")","v":286},null,694,null,null,null,null,null,null,null,null,1,0,0,26]
[27,{"$f":"IF(A40<>0,VLOOKUP(A40,Liste!$A$10:$D$159,4,FALSE),\"\")","v":"GARRELON Jacques"},0,0,0,0,null,null,0,0,{"$f":"IF(AND($I40=1,$H40>0),VLOOKUP($H40,$A$14:AD$163,11,FALSE),0)","v":0},{"$f":"IF(AND($I40=1,$H40>0),VLOOKUP($H40,$A$14:AE$163,12,FALSE),0)","v":0},{"$f":"IF(AND($I40=1,$H40>0),VLOOKUP($H40,$A$14:AF$163,13,FALSE),0)","v":0},"","","",110,null,830,null,null,null,null,null,null,null,null,0,0,0,1000]
[28,{"$f":"IF(A41<>0,VLOOKUP(A41,Liste!$A$10:$D$159,4,FALSE),\"\")","v":"HENRI   Paul"},0,0,0,0,null,null,0,0,{"$f":"IF(AND($I41=1,$H41>0),VLOOKUP($H41,$A$14:AD$163,11,FALSE),0)","v":0},{"$f":"IF(AND($I41=1,$H41>0),VLOOKUP($H41,$A$14:AE$163,12,FALSE),0)","v":0},{"$f":"IF(AND($I41=1,$H41>0),VLOOKUP($H41,$A$14:AF$163,13,FALSE),0)","v":0},"","","",210,null,null,null,null,null,null,null,null,null,null,0,0,0,1000]
[29,{"$f":"IF(A42<>0,VLOOKUP(A42,Liste!$A$10:$D$159,4,FALSE),\"\")","v":"ISIDORE Lucienne"},0,0,0,0,null,null,0,0,{"$f":"IF(AND($I42=1,$H42>0),VLOOKUP($H42,$A$14:AD$163,11,FALSE),0)","v":0},{"$f":"IF(AND($I42=1,$H42>0),VLOOKUP($H42,$A$14:AE$163,12,FALSE),0)","v":0},{"$f":"IF(AND($I42=1,$H42>0),VLOOKUP($H42,$A$14:AF$163,13,FALSE),0)","v":0},"","","",110,null,null,null,null,null,null,null,null,null,null,0,0,0,1000]
[30,{"$f":"IF(A43<>0,VLOOKUP(A43,Liste!$A$10:$D$159,4,FALSE),\"\")","v":"JARGON Emile"},0,0,0,0,null,null,0,0,{"$f":"IF(AND($I43=1,$H43>0),VLOOKUP($H43,$A$14:AD$163,11,FALSE),0)","v":0},{"$f":"IF(AND($I43=1,$H43>0),VLOOKUP($H43,$A$14:AE$163,12,FALSE),0)","v":0},{"$f":"IF(AND($I43=1,$H43>0),VLOOKUP($H43,$A$14:AF$163,13,FALSE),0)","v":0},"","","",{"$f":"IF(A43<>0,VLOOKUP(A43,Liste!$A$10:$K$159,8,FALSE),\"\")","v":130},null,null,null,null,null,null,null,null,null,null,0,0,0,1000]
[31,{"$f":"IF(A44<>0,VLOOKUP(A44,Liste!$A$10:$D$159,4,FALSE),\"\")","v":"LOUISON Albert"},0,0,0,0,null,null,0,0,{"$f":"IF(AND($I44=1,$H44>0),VLOOKUP($H44,$A$14:AD$163,11,FALSE),0)","v":0},{"$f":"IF(AND($I44=1,$H44>0),VLOOKUP($H44,$A$14:AE$163,12,FALSE),0)","v":0},{"$f":"IF(AND($I44=1,$H44>0),VLOOKUP($H44,$A$14:AF$163,13,FALSE),0)","v":0},"","","",{"$f":"IF(A44<>0,VLOOKUP(A44,Liste!$A$10:$K$159,8,FALSE),\"\")","v":220},null,null,null,null,null,null,null,null,null,null,0,0,0,1000]
[32,{"$f":"IF(A45<>0,VLOOKUP(A45,Liste!$A$10:$D$159,4,FALSE),\"\")","v":"MARTIN Nicole"},0,0,0,100,2,null,1,100,{"$f":"IF(AND($I45=1,$H45>0),VLOOKUP($H45,$A$14:AD$163,11,FALSE),0)","v":0},{"$f":"IF(AND($I45=1,$H45>0),VLOOKUP($H45,$A$14:AE$163,12,FALSE),0)","v":0},{"$f":"IF(AND($I45=1,$H45>0),VLOOKUP($H45,$A$14:AF$163,13,FALSE),0)","v":0},"EN ATTENTE","",0,{"$f":"IF(A45<>0,VLOOKUP(A45,Liste!$A$10:$K$159,8,FALSE),\"\")","v":100},null,null,null,null,null,null,null,null,null,null,1,0,0,32]
[33,{"$f":"IF(A46<>0,VLOOKUP(A46,Liste!$A$10:$D$159,4,FALSE),\"\")","v":"ANDUN"},0,0,0,0,null,null,0,0,{"$f":"IF(AND($I46=1,$H46>0),VLOOKUP($H46,$A$14:AD$163,11,FALSE),0)","v":0},{"$f":"IF(AND($I46=1,$H46>0),VLOOKUP($H46,$A$14:AE$163,12,FALSE),0)","v":0},{"$f":"IF(AND($I46=1,$H46>0),VLOOKUP($H46,$A$14:AF$163,13,FALSE),0)","v":0},"","","",{"$f":"IF(A46<>0,VLOOKUP(A46,Liste!$A$10:$K$159,8,FALSE),\"\")","v":180},null,null,null,null,null,null,null,null,null,null,0,0,0,1000]
[34,{"$f":"IF(A47<>0,VLOOKUP(A47,Liste!$A$10:$D$159,4,FALSE),\"\")","v":"AUDIARD"},0,0,0,0,null,null,0,0,{"$f":"IF(AND($I47=1,$H47>0),VLOOKUP($H47,$A$14:AD$163,11,FALSE),0)","v":0},{"$f":"IF(AND($I47=1,$H47>0),VLOOKUP($H47,$A$14:AE$163,12,FALSE),0)","v":0},{"$f":"IF(AND($I47=1,$H47>0),VLOOKUP($H47,$A$14:AF$163,13,FALSE),0)","v":0},"","","",{"$f":"IF(A47<>0,VLOOKUP(A47,Liste!$A$10:$K$159,8,FALSE),\"\")","v":210},null,null,null,null,null,null,null,null,null,null,0,0,0,1000]
[35,{"$f":"IF(A48<>0,VLOOKUP(A48,Liste!$A$10:$D$159,4,FALSE),\"\")","v":"AVATARD"},0,0,0,0,null,null,0,0,{"$f":"IF(AND($I48=1,$H48>0),VLOOKUP($H48,$A$14:AD$163,11,FALSE),0)","v":0},{"$f":"IF(AND($I48=1,$H48>0),VLOOKUP($H48,$A$14:AE$163,12,FALSE),0)","v":0},{"$f":"IF(AND($I48=1,$H48>0),VLOOKUP($H48,$A$14:AF$163,13,FALSE),0)","v":0},"","","",{"$f":"IF(A48<>0,VLOOKUP(A48,Liste!$A$10:$K$159,8,FALSE),\"\")","v":110},null,null,null,null,null,null,null,null,null,null,0,0,0,1000]
[null,{"$f":"IF(A49<>0,VLOOKUP(A49,Liste!$A$10:$D$159,4,FALSE),\"\")","v":""},0,0,0,0,null,null,0,0,{"$f":"IF(AND($I49=1,$H49>0),VLOOKUP($H49,$A$14:AD$163,11,FALSE),0)","v":0},{"$f":"IF(AND($I49=1,$H49>0),VLOOKUP($H49,$A$14:AE$163,12,FALSE),0)","v":0},{"$f":"IF(AND($I49=1,$H49>0),VLOOKUP($H49,$A$14:AF$163,13,FALSE),0)","v":0},"","","",{"$f":"IF(A49<>0,VLOOKUP(A49,Liste!$A$10:$K$159,8,FALSE),\"\")","v":""},null,null,null,null,null,null,null,null,null,null,0,0,0,1000]
[null,{"$f":"IF(A50<>0,VLOOKUP(A50,Liste!$A$10:$D$159,4,FALSE),\"\")","v":""},0,0,0,0,null,null,0,0,{"$f":"IF(AND($I50=1,$H50>0),VLOOKUP($H50,$A$14:AD$163,11,FALSE),0)","v":0},{"$f":"IF(AND($I50=1,$H50>0),VLOOKUP($H50,$A$14:AE$163,12,FALSE),0)","v":0},{"$f":"IF(AND($I50=1,$H50>0),VLOOKUP($H50,$A$14:AF$163,13,FALSE),0)","v":0},"","","",{"$f":"IF(A50<>0,VLOOKUP(A50,Liste!$A$10:$K$159,8,FALSE),\"\")","v":""},null,null,null,null,null,null,null,null,null,null,0,0,0,1000]
[null,{"$f":"IF(A51<>0,VLOOKUP(A51,Liste!$A$10:$D$159,4,FALSE),\"\")","v":""},0,0,0,0,null,null,0,0,{"$f":"IF(AND($I51=1,$H51>0),VLOOKUP($H51,$A$14:AD$163,11,FALSE),0)","v":0},{"$f":"IF(AND($I51=1,$H51>0),VLOOKUP($H51,$A$14:AE$163,12,FALSE),0)","v":0},{"$f":"IF(AND($I51=1,$H51>0),VLOOKUP($H51,$A$14:AF$163,13,FALSE),0)","v":0},"","","",{"$f":"IF(A51<>0,VLOOKUP(A51,Liste!$A$10:$K$159,8,FALSE),\"\")","v":""},null,null,null,null,null,null,null,null,null,null,0,0,0,1000]
[null,{"$f":"IF(A52<>0,VLOOKUP(A52,Liste!$A$10:$D$159,4,FALSE),\"\")","v":""},0,0,0,0,null,null,0,0,{"$f":"IF(AND($I52=1,$H52>0),VLOOKUP($H52,$A$14:AD$163,11,FALSE),0)","v":0},{"$f":"IF(AND($I52=1,$H52>0),VLOOKUP($H52,$A$14:AE$163,12,FALSE),0)","v":0},{"$f":"IF(AND($I52=1,$H52>0),VLOOKUP($H52,$A$14:AF$163,13,FALSE),0)","v":0},"","","",{"$f":"IF(A52<>0,VLOOKUP(A52,Liste!$A$10:$K$159,8,FALSE),\"\")","v":""},null,null,null,null,null,null,null,null,null,null,0,0,0,1000]
[null,{"$f":"IF(A53<>0,VLOOKUP(A53,Liste!$A$10:$D$159,4,FALSE),\"\")","v":""},0,0,0,0,null,null,0,0,{"$f":"IF(AND($I53=1,$H53>0),VLOOKUP($H53,$A$14:AD$163,11,FALSE),0)","v":0},{"$f":"IF(AND($I53=1,$H53>0),VLOOKUP($H53,$A$14:AE$163,12,FALSE),0)","v":0},{"$f":"IF(AND($I53=1,$H53>0),VLOOKUP($H53,$A$14:AF$163,13,FALSE),0)","v":0},"","","",{"$f":"IF(A53<>0,VLOOKUP(A53,Liste!$A$10:$K$159,8,FALSE),\"\")","v":""},null,null,null,null,null,null,null,null,null,null,0,0,0,1000]
[null,{"$f":"IF(A54<>0,VLOOKUP(A54,Liste!$A$10:$D$159,4,FALSE),\"\")","v":""},0,0,0,0,null,null,0,0,{"$f":"IF(AND($I54=1,$H54>0),VLOOKUP($H54,$A$14:AD$163,11,FALSE),0)","v":0},{"$f":"IF(AND($I54=1,$H54>0),VLOOKUP($H54,$A$14:AE$163,12,FALSE),0)","v":0},{"$f":"IF(AND($I54=1,$H54>0),VLOOKUP($H54,$A$14:AF$163,13,FALSE),0)","v":0},"","","",{"$f":"IF(A54<>0,VLOOKUP(A54,Liste!$A$10:$K$159,8,FALSE),\"\")","v":""},null,null,null,null,null,null,null,null,null,null,0,0,0,1000]
[null,{"$f":"IF(A55<>0,VLOOKUP(A55,Liste!$A$10:$D$159,4,FALSE),\"\")","v":""},0,0,0,0,null,null,0,0,{"$f":"IF(AND($I55=1,$H55>0),VLOOKUP($H55,$A$14:AD$163,11,FALSE),0)","v":0},{"$f":"IF(AND($I55=1,$H55>0),VLOOKUP($H55,$A$14:AE$163,12,FALSE),0)","v":0},{"$f":"IF(AND($I55=1,$H55>0),VLOOKUP($H55,$A$14:AF$163,13,FALSE),0)","v":0},"","","",{"$f":"IF(A55<>0,VLOOKUP(A55,Liste!$A$10:$K$159,8,FALSE),\"\")","v":""},null,null,null,null,null,null,null,null,null,null,0,0,0,1000]
[null,{"$f":"IF(A56<>0,VLOOKUP(A56,Liste!$A$10:$D$159,4,FALSE),\"\")","v":""},0,0,0,0,null,null,0,0,{"$f":"IF(AND($I56=1,$H56>0),VLOOKUP($H56,$A$14:AD$163,11,FALSE),0)","v":0},{"$f":"IF(AND($I56=1,$H56>0),VLOOKUP($H56,$A$14:AE$163,12,FALSE),0)","v":0},{"$f":"IF(AND($I56=1,$H56>0),VLOOKUP($H56,$A$14:AF$163,13,FALSE),0)","v":0},"","","",{"$f":"IF(A56<>0,VLOOKUP(A56,Liste!$A$10:$K$159,8,FALSE),\"\")","v":""},null,null,null,null,null,null,null,null,null,null,0,0,0,1000]
[null,{"$f":"IF(A57<>0,VLOOKUP(A57,Liste!$A$10:$D$159,4,FALSE),\"\")","v":""},0,0,0,0,null,null,0,0,{"$f":"IF(AND($I57=1,$H57>0),VLOOKUP($H57,$A$14:AD$163,11,FALSE),0)","v":0},{"$f":"IF(AND($I57=1,$H57>0),VLOOKUP($H57,$A$14:AE$163,12,FALSE),0)","v":0},{"$f":"IF(AND($I57=1,$H57>0),VLOOKUP($H57,$A$14:AF$163,13,FALSE),0)","v":0},"","","",{"$f":"IF(A57<>0,VLOOKUP(A57,Liste!$A$10:$K$159,8,FALSE),\"\")","v":""},null,null,null,null,null,null,null,null,null,null,0,0,0,1000]
[null,{"$f":"IF(A58<>0,VLOOKUP(A58,Liste!$A$10:$D$159,4,FALSE),\"\")","v":""},0,0,0,0,null,null,0,0,{"$f":"IF(AND($I58=1,$H58>0),VLOOKUP($H58,$A$14:AD$163,11,FALSE),0)","v":0},{"$f":"IF(AND($I58=1,$H58>0),VLOOKUP($H58,$A$14:AE$163,12,FALSE),0)","v":0},{"$f":"IF(AND($I58=1,$H58>0),VLOOKUP($H58,$A$14:AF$163,13,FALSE),0)","v":0},"","","",{"$f":"IF(A58<>0,VLOOKUP(A58,Liste!$A$10:$K$159,8,FALSE),\"\")","v":""},null,null,null,null,null,null,null,null,null,null,0,0,0,1000]
[null,{"$f":"IF(A59<>0,VLOOKUP(A59,Liste!$A$10:$D$159,4,FALSE),\"\")","v":""},0,0,0,0,null,null,0,0,{"$f":"IF(AND($I59=1,$H59>0),VLOOKUP($H59,$A$14:AD$163,11,FALSE),0)","v":0},{"$f":"IF(AND($I59=1,$H59>0),VLOOKUP($H59,$A$14:AE$163,12,FALSE),0)","v":0},{"$f":"IF(AND($I59=1,$H59>0),VLOOKUP($H59,$A$14:AF$163,13,FALSE),0)","v":0},"","","",{"$f":"IF(A59<>0,VLOOKUP(A59,Liste!$A$10:$K$159,8,FALSE),\"\")","v":""},null,null,null,null,null,null,null,null,null,null,0,0,0,1000]
[null,{"$f":"IF(A60<>0,VLOOKUP(A60,Liste!$A$10:$D$159,4,FALSE),\"\")","v":""},0,0,0,0,null,null,0,0,{"$f":"IF(AND($I60=1,$H60>0),VLOOKUP($H60,$A$14:AD$163,11,FALSE),0)","v":0},{"$f":"IF(AND($I60=1,$H60>0),VLOOKUP($H60,$A$14:AE$163,12,FALSE),0)","v":0},{"$f":"IF(AND($I60=1,$H60>0),VLOOKUP($H60,$A$14:AF$163,13,FALSE),0)","v":0},"","","",{"$f":"IF(A60<>0,VLOOKUP(A60,Liste!$A$10:$K$159,8,FALSE),\"\")","v":""},null,null,null,null,null,null,null,null,null,null,0,0,0,1000]
[null,{"$f":"IF(A61<>0,VLOOKUP(A61,Liste!$A$10:$D$159,4,FALSE),\"\")","v":""},0,0,0,0,null,null,0,0,{"$f":"IF(AND($I61=1,$H61>0),VLOOKUP($H61,$A$14:AD$163,11,FALSE),0)","v":0},{"$f":"IF(AND($I61=1,$H61>0),VLOOKUP($H61,$A$14:AE$163,12,FALSE),0)","v":0},{"$f":"IF(AND($I61=1,$H61>0),VLOOKUP($H61,$A$14:AF$163,13,FALSE),0)","v":0},"","","",{"$f":"IF(A61<>0,VLOOKUP(A61,Liste!$A$10:$K$159,8,FALSE),\"\")","v":""},null,null,null,null,null,null,null,null,null,null,0,0,0,1000]
[null,{"$f":"IF(A62<>0,VLOOKUP(A62,Liste!$A$10:$D$159,4,FALSE),\"\")","v":""},0,0,0,0,null,null,0,0,{"$f":"IF(AND($I62=1,$H62>0),VLOOKUP($H62,$A$14:AD$163,11,FALSE),0)","v":0},{"$f":"IF(AND($I62=1,$H62>0),VLOOKUP($H62,$A$14:AE$163,12,FALSE),0)","v":0},{"$f":"IF(AND($I62=1,$H62>0),VLOOKUP($H62,$A$14:AF$163,13,FALSE),0)","v":0},"","","",{"$f":"IF(A62<>0,VLOOKUP(A62,Liste!$A$10:$K$159,8,FALSE),\"\")","v":""},null,null,null,null,null,null,null,null,null,null,0,0,0,1000]
[null,{"$f":"IF(A63<>0,VLOOKUP(A63,Liste!$A$10:$D$159,4,FALSE),\"\")","v":""},0,0,0,0,null,null,0,0,{"$f":"IF(AND($I63=1,$H63>0),VLOOKUP($H63,$A$14:AD$163,11,FALSE),0)","v":0},{"$f":"IF(AND($I63=1,$H63>0),VLOOKUP($H63,$A$14:AE$163,12,FALSE),0)","v":0},{"$f":"IF(AND($I63=1,$H63>0),VLOOKUP($H63,$A$14:AF$163,13,FALSE),0)","v":0},"","","",{"$f":"IF(A63<>0,VLOOKUP(A63,Liste!$A$10:$K$159,8,FALSE),\"\")","v":""},null,null,null,null,null,null,null,null,null,null,0,0,0,1000]
[null,{"$f":"IF(A64<>0,VLOOKUP(A64,Liste!$A$10:$D$159,4,FALSE),\"\")","v":""},0,0,0,0,null,null,0,0,{"$f":"IF(AND($I64=1,$H64>0),VLOOKUP($H64,$A$14:AD$163,11,FALSE),0)","v":0},{"$f":"IF(AND($I64=1,$H64>0),VLOOKUP($H64,$A$14:AE$163,12,FALSE),0)","v":0},{"$f":"IF(AND($I64=1,$H64>0),VLOOKUP($H64,$A$14:AF$163,13,FALSE),0)","v":0},"","","",{"$f":"IF(A64<>0,VLOOKUP(A64,Liste!$A$10:$K$159,8,FALSE),\"\")","v":""},null,null,null,null,null,null,null,null,null,null,{"$f":"(H64+I64)*(J64>0)","v":0},0,0,{"$f":"IF(H64>0,H64+0.5*(I64=1),A64*(I64=1))+(1000*(I64<1))","v":1000}]
[null,{"$f":"IF(A65<>0,VLOOKUP(A65,Liste!$A$10:$D$159,4,FALSE),\"\")","v":""},0,0,0,0,null,null,0,0,{"$f":"IF(AND($I65=1,$H65>0),VLOOKUP($H65,$A$14:AD$163,11,FALSE),0)","v":0},{"$f":"IF(AND($I65=1,$H65>0),VLOOKUP($H65,$A$14:AE$163,12,FALSE),0)","v":0},{"$f":"IF(AND($I65=1,$H65>0),VLOOKUP($H65,$A$14:AF$163,13,FALSE),0)","v":0},"","","",{"$f":"IF(A65<>0,VLOOKUP(A65,Liste!$A$10:$K$159,8,FALSE),\"\")","v":""},null,null,null,null,null,null,null,null,null,null,0,0,0,1000]
[null,{"$f":"IF(A66<>0,VLOOKUP(A66,Liste!$A$10:$D$159,4,FALSE),\"\")","v":""},0,0,0,0,null,null,0,0,{"$f":"IF(AND($I66=1,$H66>0),VLOOKUP($H66,$A$14:AD$163,11,FALSE),0)","v":0},{"$f":"IF(AND($I66=1,$H66>0),VLOOKUP($H66,$A$14:AE$163,12,FALSE),0)","v":0},{"$f":"IF(AND($I66=1,$H66>0),VLOOKUP($H66,$A$14:AF$163,13,FALSE),0)","v":0},"","","",{"$f":"IF(A66<>0,VLOOKUP(A66,Liste!$A$10:$K$159,8,FALSE),\"\")","v":""},null,null,null,null,null,null,null,null,null,null,0,0,0,1000]
[null,{"$f":"IF(A67<>0,VLOOKUP(A67,Liste!$A$10:$D$159,4,FALSE),\"\")","v":""},0,0,0,0,null,null,0,0,{"$f":"IF(AND($I67=1,$H67>0),VLOOKUP($H67,$A$14:AD$163,11,FALSE),0)","v":0},{"$f":"IF(AND($I67=1,$H67>0),VLOOKUP($H67,$A$14:AE$163,12,FALSE),0)","v":0},{"$f":"IF(AND($I67=1,$H67>0),VLOOKUP($H67,$A$14:AF$163,13,FALSE),0)","v":0},"","","",{"$f":"IF(A67<>0,VLOOKUP(A67,Liste!$A$10:$K$159,8,FALSE),\"\")","v":""},null,null,null,null,null,null,null,null,null,null,0,0,0,1000]
[null,{"$f":"IF(A68<>0,VLOOKUP(A68,Liste!$A$10:$D$159,4,FALSE),\"\")","v":""},0,0,0,0,null,null,0,0,{"$f":"IF(AND($I68=1,$H68>0),VLOOKUP($H68,$A$14:AD$163,11,FALSE),0)","v":0},{"$f":"IF(AND($I68=1,$H68>0),VLOOKUP($H68,$A$14:AE$163,12,FALSE),0)","v":0},{"$f":"IF(AND($I68=1,$H68>0),VLOOKUP($H68,$A$14:AF$163,13,FALSE),0)","v":0},"","","",{"$f":"IF(A68<>0,VLOOKUP(A68,Liste!$A$10:$K$159,8,FALSE),\"\")","v":""},null,null,null,null,null,null,null,null,null,null,0,0,0,1000]
[null,{"$f":"IF(A69<>0,VLOOKUP(A69,Liste!$A$10:$D$159,4,FALSE),\"\")","v":""},0,0,0,0,null,null,0,0,{"$f":"IF(AND($I69=1,$H69>0),VLOOKUP($H69,$A$14:AD$163,11,FALSE),0)","v":0},{"$f":"IF(AND($I69=1,$H69>0),VLOOKUP($H69,$A$14:AE$163,12,FALSE),0)","v":0},{"$f":"IF(AND($I69=1,$H69>0),VLOOKUP($H69,$A$14:AF$163,13,FALSE),0)","v":0},"","","",{"$f":"IF(A69<>0,VLOOKUP(A69,Liste!$A$10:$K$159,8,FALSE),\"\")","v":""},null,null,null,null,null,null,null,null,null,null,0,0,0,1000]
[null,{"$f":"IF(A70<>0,VLOOKUP(A70,Liste!$A$10:$D$159,4,FALSE),\"\")","v":""},0,0,0,0,null,null,0,0,{"$f":"IF(AND($I70=1,$H70>0),VLOOKUP($H70,$A$14:AD$163,11,FALSE),0)","v":0},{"$f":"IF(AND($I70=1,$H70>0),VLOOKUP($H70,$A$14:AE$163,12,FALSE),0)","v":0},{"$f":"IF(AND($I70=1,$H70>0),VLOOKUP($H70,$A$14:AF$163,13,FALSE),0)","v":0},"","","",{"$f":"IF(A70<>0,VLOOKUP(A70,Liste!$A$10:$K$159,8,FALSE),\"\")","v":""},null,null,null,null,null,null,null,null,null,null,0,0,0,1000]
[null,{"$f":"IF(A71<>0,VLOOKUP(A71,Liste!$A$10:$D$159,4,FALSE),\"\")","v":""},0,0,0,0,null,null,0,0,{"$f":"IF(AND($I71=1,$H71>0),VLOOKUP($H71,$A$14:AD$163,11,FALSE),0)","v":0},{"$f":"IF(AND($I71=1,$H71>0),VLOOKUP($H71,$A$14:AE$163,12,FALSE),0)","v":0},{"$f":"IF(AND($I71=1,$H71>0),VLOOKUP($H71,$A$14:AF$163,13,FALSE),0)","v":0},"","","",{"$f":"IF(A71<>0,VLOOKUP(A71,Liste!$A$10:$K$159,8,FALSE),\"\")","v":""},null,null,null,null,null,null,null,null,null,null,0,0,0,1000]
[null,{"$f":"IF(A72<>0,VLOOKUP(A72,Liste!$A$10:$D$159,4,FALSE),\"\")","v":""},0,0,0,0,null,null,0,0,{"$f":"IF(AND($I72=1,$H72>0),VLOOKUP($H72,$A$14:AD$163,11,FALSE),0)","v":0},{"$f":"IF(AND($I72=1,$H72>0),VLOOKUP($H72,$A$14:AE$163,12,FALSE),0)","v":0},{"$f":"IF(AND($I72=1,$H72>0),VLOOKUP($H72,$A$14:AF$163,13,FALSE),0)","v":0},"","","",{"$f":"IF(A72<>0,VLOOKUP(A72,Liste!$A$10:$K$159,8,FALSE),\"\")","v":""},null,null,null,null,null,null,null,null,null,null,0,0,0,1000]
[null,{"$f":"IF(A73<>0,VLOOKUP(A73,Liste!$A$10:$D$159,4,FALSE),\"\")","v":""},0,0,0,0,null,null,0,0,{"$f":"IF(AND($I73=1,$H73>0),VLOOKUP($H73,$A$14:AD$163,11,FALSE),0)","v":0},{"$f":"IF(AND($I73=1,$H73>0),VLOOKUP($H73,$A$14:AE$163,12,FALSE),0)","v":0},{"$f":"IF(AND($I73=1,$H73>0),VLOOKUP($H73,$A$14:AF$163,13,FALSE),0)","v":0},"","","",{"$f":"IF(A73<>0,VLOOKUP(A73,Liste!$A$10:$K$159,8,FALSE),\"\")","v":""},null,null,null,null,null,null,null,null,null,null,0,0,0,1000]
[null,{"$f":"IF(A74<>0,VLOOKUP(A74,Liste!$A$10:$D$159,4,FALSE),\"\")","v":""},0,0,0,0,null,null,0,0,{"$f":"IF(AND($I74=1,$H74>0),VLOOKUP($H74,$A$14:AD$163,11,FALSE),0)","v":0},{"$f":"IF(AND($I74=1,$H74>0),VLOOKUP($H74,$A$14:AE$163,12,FALSE),0)","v":0},{"$f":"IF(AND($I74=1,$H74>0),VLOOKUP($H74,$A$14:AF$163,13,FALSE),0)","v":0},"","","",{"$f":"IF(A74<>0,VLOOKUP(A74,Liste!$A$10:$K$159,8,FALSE),\"\")","v":""},null,null,null,null,null,null,null,null,null,null,0,0,0,1000]
[null,{"$f":"IF(A75<>0,VLOOKUP(A75,Liste!$A$10:$D$159,4,FALSE),\"\")","v":""},0,0,0,0,null,null,0,0,{"$f":"IF(AND($I75=1,$H75>0),VLOOKUP($H75,$A$14:AD$163,11,FALSE),0)","v":0},{"$f":"IF(AND($I75=1,$H75>0),VLOOKUP($H75,$A$14:AE$163,12,FALSE),0)","v":0},{"$f":"IF(AND($I75=1,$H75>0),VLOOKUP($H75,$A$14:AF$163,13,FALSE),0)","v":0},"","","",{"$f":"IF(A75<>0,VLOOKUP(A75,Liste!$A$10:$K$159,8,FALSE),\"\")","v":""},null,null,null,null,null,null,null,null,null,null,0,0,0,1000]
[null,{"$f":"IF(A76<>0,VLOOKUP(A76,Liste!$A$10:$D$159,4,FALSE),\"\")","v":""},0,0,0,0,null,null,0,0,{"$f":"IF(AND($I76=1,$H76>0),VLOOKUP($H76,$A$14:AD$163,11,FALSE),0)","v":0},{"$f":"IF(AND($I76=1,$H76>0),VLOOKUP($H76,$A$14:AE$163,12,FALSE),0)","v":0},{"$f":"IF(AND($I76=1,$H76>0),VLOOKUP($H76,$A$14:AF$163,13,FALSE),0)","v":0},"","","",{"$f":"IF(A76<>0,VLOOKUP(A76,Liste!$A$10:$K$159,8,FALSE),\"\")","v":""},null,null,null,null,null,null,null,null,null,null,0,0,0,1000]
[null,{"$f":"IF(A77<>0,VLOOKUP(A77,Liste!$A$10:$D$159,4,FALSE),\"\")","v":""},0,0,0,0,null,null,0,0,{"$f":"IF(AND($I77=1,$H77>0),VLOOKUP($H77,$A$14:AD$163,11,FALSE),0)","v":0},{"$f":"IF(AND($I77=1,$H77>0),VLOOKUP($H77,$A$14:AE$163,12,FALSE),0)","v":0},{"$f":"IF(AND($I77=1,$H77>0),VLOOKUP($H77,$A$14:AF$163,13,FALSE),0)","v":0},"","","",{"$f":"IF(A77<>0,VLOOKUP(A77,Liste!$A$10:$K$159,8,FALSE),\"\")","v":""},null,null,null,null,null,null,null,null,null,null,0,0,0,1000]
[null,{"$f":"IF(A78<>0,VLOOKUP(A78,Liste!$A$10:$D$159,4,FALSE),\"\")","v":""},{"$f":"F78*(K78=1)","v":0},{"$f":"F78*(L78=1)","v":0},{"$f":"F78*(M78=1)","v":0},0,null,null,0,{"$f":"IF(F78>0,F78,0)","v":0},{"$f":"IF(AND($I78=1,$H78>0),VLOOKUP($H78,$A$14:AD$163,11,FALSE),0)","v":0},{"$f":"IF(AND($I78=1,$H78>0),VLOOKUP($H78,$A$14:AE$163,12,FALSE),0)","v":0},{"$f":"IF(AND($I78=1,$H78>0),VLOOKUP($H78,$A$14:AF$163,13,FALSE),0)","v":0},"","",{"$f":"IF(I78=1,K78*(K78=1)+L78*2*(L78=1)+M78*3*(M78=1),\"\")","v":""},{"$f":"IF(A78<>0,VLOOKUP(A78,Liste!$A$10:$K$159,8,FALSE),\"\")","v":""},null,null,null,null,null,null,null,null,null,null,0,0,0,1000]
[null,{"$f":"IF(A79<>0,VLOOKUP(A79,Liste!$A$10:$D$159,4,FALSE),\"\")","v":""},0,0,0,{"$f":"IF(I79=1,VLOOKUP(A79,$A$14:$AA$163,16+$B$4,0),0)","v":0},null,null,{"$f":"1*(IF(G79>=1,VLOOKUP(A79,$A$14:$AA$163,16+$B$4,0)>0))","v":0},0,{"$f":"IF(AND($I79=1,$H79>0),VLOOKUP($H79,$A$14:AD$163,11,FALSE),0)","v":0},{"$f":"IF(AND($I79=1,$H79>0),VLOOKUP($H79,$A$14:AE$163,12,FALSE),0)","v":0},{"$f":"IF(AND($I79=1,$H79>0),VLOOKUP($H79,$A$14:AF$163,13,FALSE),0)","v":0},{"$f":"IF(AND(I79>0,K79+L79+M79=0),\"EN ATTENTE\",IF(K79+L79+M79>1,\"ERREUR\",\"\"))","v":""},{"$f":"IF(AND(AC79>3,AD79>$D$10*$O$12),1,\"\")","v":""},"",{"$f":"IF(A79<>0,VLOOKUP(A79,Liste!$A$10:$K$159,8,FALSE),\"\")","v":""},null,null,null,null,null,null,null,null,null,null,0,{"$f":"COUNTIF($H$14:$H$163,A79)","v":0},{"$f":"SUMIF($H$14:$H$163,A79,$J$14:$J$163)+(J79*(AC79>0))","v":0},1000]
[null,{"$f":"IF(A80<>0,VLOOKUP(A80,Liste!$A$10:$D$159,4,FALSE),\"\")","v":""},0,0,0,0,null,null,0,0,{"$f":"IF(AND($I80=1,$H80>0),VLOOKUP($H80,$A$14:AD$163,11,FALSE),0)","v":0},{"$f":"IF(AND($I80=1,$H80>0),VLOOKUP($H80,$A$14:AE$163,12,FALSE),0)","v":0},{"$f":"IF(AND($I80=1,$H80>0),VLOOKUP($H80,$A$14:AF$163,13,FALSE),0)","v":0},"","","",{"$f":"IF(A80<>0,VLOOKUP(A80,Liste!$A$10:$K$159,8,FALSE),\"\")","v":""},null,null,null,null,null,null,null,null,null,null,0,0,0,1000]
[null,{"$f":"IF(A81<>0,VLOOKUP(A81,Liste!$A$10:$D$159,4,FALSE),\"\")","v":""},0,0,0,0,null,null,0,0,{"$f":"IF(AND($I81=1,$H81>0),VLOOKUP($H81,$A$14:AD$163,11,FALSE),0)","v":0},{"$f":"IF(AND($I81=1,$H81>0),VLOOKUP($H81,$A$14:AE$163,12,FALSE),0)","v":0},{"$f":"IF(AND($I81=1,$H81>0),VLOOKUP($H81,$A$14:AF$163,13,FALSE),0)","v":0},"","","",{"$f":"IF(A81<>0,VLOOKUP(A81,Liste!$A$10:$K$159,8,FALSE),\"\")","v":""},null,null,null,null,null,null,null,null,null,null,0,0,0,1000]
[null,{"$f":"IF(A82<>0,VLOOKUP(A82,Liste!$A$10:$D$159,4,FALSE),\"\")","v":""},0,0,0,0,null,null,0,0,{"$f":"IF(AND($I82=1,$H82>0),VLOOKUP($H82,$A$14:AD$163,11,FALSE),0)","v":0},{"$f":"IF(AND($I82=1,$H82>0),VLOOKUP($H82,$A$14:AE$163,12,FALSE),0)","v":0},{"$f":"IF(AND($I82=1,$H82>0),VLOOKUP($H82,$A$14:AF$163,13,FALSE),0)","v":0},"","","",{"$f":"IF(A82<>0,VLOOKUP(A82,Liste!$A$10:$K$159,8,FALSE),\"\")","v":""},null,null,null,null,null,null,null,null,null,null,0,0,0,1000]
[null,{"$f":"IF(A83<>0,VLOOKUP(A83,Liste!$A$10:$D$159,4,FALSE),\"\")","v":""},0,0,0,0,null,null,0,0,{"$f":"IF(AND($I83=1,$H83>0),VLOOKUP($H83,$A$14:AD$163,11,FALSE),0)","v":0},{"$f":"IF(AND($I83=1,$H83>0),VLOOKUP($H83,$A$14:AE$163,12,FALSE),0)","v":0},{"$f":"IF(AND($I83=1,$H83>0),VLOOKUP($H83,$A$14:AF$163,13,FALSE),0)","v":0},"","","",{"$f":"IF(A83<>0,VLOOKUP(A83,Liste!$A$10:$K$159,8,FALSE),\"\")","v":""},null,null,null,null,null,null,null,null,null,null,0,0,0,1000]
[null,{"$f":"IF(A84<>0,VLOOKUP(A84,Liste!$A$10:$D$159,4,FALSE),\"\")","v":""},0,0,0,0,null,null,0,0,{"$f":"IF(AND($I84=1,$H84>0),VLOOKUP($H84,$A$14:AD$163,11,FALSE),0)","v":0},{"$f":"IF(AND($I84=1,$H84>0),VLOOKUP($H84,$A$14:AE$163,12,FALSE),0)","v":0},{"$f":"IF(AND($I84=1,$H84>0),VLOOKUP($H84,$A$14:AF$163,13,FALSE),0)","v":0},"","","",{"$f":"IF(A84<>0,VLOOKUP(A84,Liste!$A$10:$K$159,8,FALSE),\"\")","v":""},null,null,null,null,null,null,null,null,null,null,0,0,0,1000]
[null,{"$f":"IF(A85<>0,VLOOKUP(A85,Liste!$A$10:$D$159,4,FALSE),\"\")","v":""},0,0,0,0,null,null,0,0,{"$f":"IF(AND($I85=1,$H85>0),VLOOKUP($H85,$A$14:AD$163,11,FALSE),0)","v":0},{"$f":"IF(AND($I85=1,$H85>0),VLOOKUP($H85,$A$14:AE$163,12,FALSE),0)","v":0},{"$f":"IF(AND($I85=1,$H85>0),VLOOKUP($H85,$A$14:AF$163,13,FALSE),0)","v":0},"","","",{"$f":"IF(A85<>0,VLOOKUP(A85,Liste!$A$10:$K$159,8,FALSE),\"\")","v":""},null,null,null,null,null,null,null,null,null,null,0,0,0,1000]
[null,{"$f":"IF(A86<>0,VLOOKUP(A86,Liste!$A$10:$D$159,4,FALSE),\"\")","v":""},0,0,0,0,null,null,0,0,{"$f":"IF(AND($I86=1,$H86>0),VLOOKUP($H86,$A$14:AD$163,11,FALSE),0)","v":0},{"$f":"IF(AND($I86=1,$H86>0),VLOOKUP($H86,$A$14:AE$163,12,FALSE),0)","v":0},{"$f":"IF(AND($I86=1,$H86>0),VLOOKUP($H86,$A$14:AF$163,13,FALSE),0)","v":0},"","","",{"$f":"IF(A86<>0,VLOOKUP(A86,Liste!$A$10:$K$159,8,FALSE),\"\")","v":""},null,null,null,null,null,null,null,null,null,null,0,0,0,1000]
[null,{"$f":"IF(A87<>0,VLOOKUP(A87,Liste!$A$10:$D$159,4,FALSE),\"\")","v":""},0,0,0,0,null,null,0,0,{"$f":"IF(AND($I87=1,$H87>0),VLOOKUP($H87,$A$14:AD$163,11,FALSE),0)","v":0},{"$f":"IF(AND($I87=1,$H87>0),VLOOKUP($H87,$A$14:AE$163,12,FALSE),0)","v":0},{"$f":"IF(AND($I87=1,$H87>0),VLOOKUP($H87,$A$14:AF$163,13,FALSE),0)","v":0},"","","",{"$f":"IF(A87<>0,VLOOKUP(A87,Liste!$A$10:$K$159,8,FALSE),\"\")","v":""},null,null,null,null,null,null,null,null,null,null,0,0,0,1000]
[null,{"$f":"IF(A88<>0,VLOOKUP(A88,Liste!$A$10:$D$159,4,FALSE),\"\")","v":""},0,0,0,0,null,null,0,0,{"$f":"IF(AND($I88=1,$H88>0),VLOOKUP($H88,$A$14:AD$163,11,FALSE),0)","v":0},{"$f":"IF(AND($I88=1,$H88>0),VLOOKUP($H88,$A$14:AE$163,12,FALSE),0)","v":0},{"$f":"IF(AND($I88=1,$H88>0),VLOOKUP($H88,$A$14:AF$163,13,FALSE),0)","v":0},"","","",{"$f":"IF(A88<>0,VLOOKUP(A88,Liste!$A$10:$K$159,8,FALSE),\"\")","v":""},null,null,null,null,null,null,null,null,null,null,0,0,0,1000]
[null,{"$f":"IF(A89<>0,VLOOKUP(A89,Liste!$A$10:$D$159,4,FALSE),\"\")","v":""},0,0,0,0,null,null,0,0,{"$f":"IF(AND($I89=1,$H89>0),VLOOKUP($H89,$A$14:AD$163,11,FALSE),0)","v":0},{"$f":"IF(AND($I89=1,$H89>0),VLOOKUP($H89,$A$14:AE$163,12,FALSE),0)","v":0},{"$f":"IF(AND($I89=1,$H89>0),VLOOKUP($H89,$A$14:AF$163,13,FALSE),0)","v":0},"","","",{"$f":"IF(A89<>0,VLOOKUP(A89,Liste!$A$10:$K$159,8,FALSE),\"\")","v":""},null,null,null,null,null,null,null,null,null,null,0,0,0,1000]
[null,{"$f":"IF(A90<>0,VLOOKUP(A90,Liste!$A$10:$D$159,4,FALSE),\"\")","v":""},0,0,0,0,null,null,0,0,{"$f":"IF(AND($I90=1,$H90>0),VLOOKUP($H90,$A$14:AD$163,11,FALSE),0)","v":0},{"$f":"IF(AND($I90=1,$H90>0),VLOOKUP($H90,$A$14:AE$163,12,FALSE),0)","v":0},{"$f":"IF(AND($I90=1,$H90>0),VLOOKUP($H90,$A$14:AF$163,13,FALSE),0)","v":0},"","","",{"$f":"IF(A90<>0,VLOOKUP(A90,Liste!$A$10:$K$159,8,FALSE),\"\")","v":""},null,null,null,null,null,null,null,null,null,null,0,0,0,1000]
[null,{"$f":"IF(A91<>0,VLOOKUP(A91,Liste!$A$10:$D$159,4,FALSE),\"\")","v":""},0,0,0,0,null,null,0,0,{"$f":"IF(AND($I91=1,$H91>0),VLOOKUP($H91,$A$14:AD$163,11,FALSE),0)","v":0},{"$f":"IF(AND($I91=1,$H91>0),VLOOKUP($H91,$A$14:AE$163,12,FALSE),0)","v":0},{"$f":"IF(AND($I91=1,$H91>0),VLOOKUP($H91,$A$14:AF$163,13,FALSE),0)","v":0},"","","",{"$f":"IF(A91<>0,VLOOKUP(A91,Liste!$A$10:$K$159,8,FALSE),\"\")","v":""},null,null,null,null,null,null,null,null,null,null,0,0,0,1000]
[null,{"$f":"IF(A92<>0,VLOOKUP(A92,Liste!$A$10:$D$159,4,FALSE),\"\")","v":""},0,0,0,0,null,null,0,0,{"$f":"IF(AND($I92=1,$H92>0),VLOOKUP($H92,$A$14:AD$163,11,FALSE),0)","v":0},{"$f":"IF(AND($I92=1,$H92>0),VLOOKUP($H92,$A$14:AE$163,12,FALSE),0)","v":0},{"$f":"IF(AND($I92=1,$H92>0),VLOOKUP($H92,$A$14:AF$163,13,FALSE),0)","v":0},"","","",{"$f":"IF(A92<>0,VLOOKUP(A92,Liste!$A$10:$K$159,8,FALSE),\"\")","v":""},null,null,null,null,null,null,null,null,null,null,0,0,0,1000]
[null,{"$f":"IF(A93<>0,VLOOKUP(A93,Liste!$A$10:$D$159,4,FALSE),\"\")","v":""},0,0,0,0,null,null,0,0,{"$f":"IF(AND($I93=1,$H93>0),VLOOKUP($H93,$A$14:AD$163,11,FALSE),0)","v":0},{"$f":"IF(AND($I93=1,$H93>0),VLOOKUP($H93,$A$14:AE$163,12,FALSE),0)","v":0},{"$f":"IF(AND($I93=1,$H93>0),VLOOKUP($H93,$A$14:AF$163,13,FALSE),0)","v":0},"","","",{"$f":"IF(A93<>0,VLOOKUP(A93,Liste!$A$10:$K$159,8,FALSE),\"\")","v":""},null,null,null,null,null,null,null,null,null,null,0,0,0,1000]
[null,{"$f":"IF(A94<>0,VLOOKUP(A94,Liste!$A$10:$D$159,4,FALSE),\"\")","v":""},0,0,0,0,null,null,0,0,{"$f":"IF(AND($I94=1,$H94>0),VLOOKUP($H94,$A$14:AD$163,11,FALSE),0)","v":0},{"$f":"IF(AND($I94=1,$H94>0),VLOOKUP($H94,$A$14:AE$163,12,FALSE),0)","v":0},{"$f":"IF(AND($I94=1,$H94>0),VLOOKUP($H94,$A$14:AF$163,13,FALSE),0)","v":0},"","","",{"$f":"IF(A94<>0,VLOOKUP(A94,Liste!$A$10:$K$159,8,FALSE),\"\")","v":""},null,null,null,null,null,null,null,null,null,null,0,0,0,1000]
[null,{"$f":"IF(A95<>0,VLOOKUP(A95,Liste!$A$10:$D$159,4,FALSE),\"\")","v":""},0,0,0,0,null,null,0,0,{"$f":"IF(AND($I95=1,$H95>0),VLOOKUP($H95,$A$14:AD$163,11,FALSE),0)","v":0},{"$f":"IF(AND($I95=1,$H95>0),VLOOKUP($H95,$A$14:AE$163,12,FALSE),0)","v":0},{"$f":"IF(AND($I95=1,$H95>0),VLOOKUP($H95,$A$14:AF$163,13,FALSE),0)","v":0},"","","",{"$f":"IF(A95<>0,VLOOKUP(A95,Liste!$A$10:$K$159,8,FALSE),\"\")","v":""},null,null,null,null,null,null,null,null,null,null,0,0,0,1000]
[null,{"$f":"IF(A96<>0,VLOOKUP(A96,Liste!$A$10:$D$159,4,FALSE),\"\")","v":""},0,0,0,0,null,null,0,0,{"$f":"IF(AND($I96=1,$H96>0),VLOOKUP($H96,$A$14:AD$163,11,FALSE),0)","v":0},{"$f":"IF(AND($I96=1,$H96>0),VLOOKUP($H96,$A$14:AE$163,12,FALSE),0)","v":0},{"$f":"IF(AND($I96=1,$H96>0),VLOOKUP($H96,$A$14:AF$163,13,FALSE),0)","v":0},"","","",{"$f":"IF(A96<>0,VLOOKUP(A96,Liste!$A$10:$K$159,8,FALSE),\"\")","v":""},null,null,null,null,null,null,null,null,null,null,0,0,0,1000]
[null,{"$f":"IF(A97<>0,VLOOKUP(A97,Liste!$A$10:$D$159,4,FALSE),\"\")","v":""},0,0,0,0,null,null,0,0,{"$f":"IF(AND($I97=1,$H97>0),VLOOKUP($H97,$A$14:AD$163,11,FALSE),0)","v":0},{"$f":"IF(AND($I97=1,$H97>0),VLOOKUP($H97,$A$14:AE$163,12,FALSE),0)","v":0},{"$f":"IF(AND($I97=1,$H97>0),VLOOKUP($H97,$A$14:AF$163,13,FALSE),0)","v":0},"","","",{"$f":"IF(A97<>0,VLOOKUP(A97,Liste!$A$10:$K$159,8,FALSE),\"\")","v":""},null,null,null,null,null,null,null,null,null,null,0,0,0,1000]
[null,{"$f":"IF(A98<>0,VLOOKUP(A98,Liste!$A$10:$D$159,4,FALSE),\"\")","v":""},0,0,0,0,null,null,0,0,{"$f":"IF(AND($I98=1,$H98>0),VLOOKUP($H98,$A$14:AD$163,11,FALSE),0)","v":0},{"$f":"IF(AND($I98=1,$H98>0),VLOOKUP($H98,$A$14:AE$163,12,FALSE),0)","v":0},{"$f":"IF(AND($I98=1,$H98>0),VLOOKUP($H98,$A$14:AF$163,13,FALSE),0)","v":0},"","","",{"$f":"IF(A98<>0,VLOOKUP(A98,Liste!$A$10:$K$159,8,FALSE),\"\")","v":""},null,null,null,null,null,null,null,null,null,null,0,0,0,1000]
[null,{"$f":"IF(A99<>0,VLOOKUP(A99,Liste!$A$10:$D$159,4,FALSE),\"\")","v":""},0,0,0,0,null,null,0,0,{"$f":"IF(AND($I99=1,$H99>0),VLOOKUP($H99,$A$14:AD$163,11,FALSE),0)","v":0},{"$f":"IF(AND($I99=1,$H99>0),VLOOKUP($H99,$A$14:AE$163,12,FALSE),0)","v":0},{"$f":"IF(AND($I99=1,$H99>0),VLOOKUP($H99,$A$14:AF$163,13,FALSE),0)","v":0},"","","",{"$f":"IF(A99<>0,VLOOKUP(A99,Liste!$A$10:$K$159,8,FALSE),\"\")","v":""},null,null,null,null,null,null,null,null,null,null,0,0,0,1000]
[null,{"$f":"IF(A100<>0,VLOOKUP(A100,Liste!$A$10:$D$159,4,FALSE),\"\")","v":""},0,0,0,0,null,null,0,0,{"$f":"IF(AND($I100=1,$H100>0),VLOOKUP($H100,$A$14:AD$163,11,FALSE),0)","v":0},{"$f":"IF(AND($I100=1,$H100>0),VLOOKUP($H100,$A$14:AE$163,12,FALSE),0)","v":0},{"$f":"IF(AND($I100=1,$H100>0),VLOOKUP($H100,$A$14:AF$163,13,FALSE),0)","v":0},"","","",{"$f":"IF(A100<>0,VLOOKUP(A100,Liste!$A$10:$K$159,8,FALSE),\"\")","v":""},null,null,null,null,null,null,null,null,null,null,0,0,0,1000]
[null,{"$f":"IF(A101<>0,VLOOKUP(A101,Liste!$A$10:$D$159,4,FALSE),\"\")","v":""},0,0,0,0,null,null,0,0,{"$f":"IF(AND($I101=1,$H101>0),VLOOKUP($H101,$A$14:AD$163,11,FALSE),0)","v":0},{"$f":"IF(AND($I101=1,$H101>0),VLOOKUP($H101,$A$14:AE$163,12,FALSE),0)","v":0},{"$f":"IF(AND($I101=1,$H101>0),VLOOKUP($H101,$A$14:AF$163,13,FALSE),0)","v":0},"","","",{"$f":"IF(A101<>0,VLOOKUP(A101,Liste!$A$10:$K$159,8,FALSE),\"\")","v":""},null,null,null,null,null,null,null,null,null,null,0,0,0,1000]
[null,{"$f":"IF(A102<>0,VLOOKUP(A102,Liste!$A$10:$D$159,4,FALSE),\"\")","v":""},0,0,0,0,null,null,0,0,{"$f":"IF(AND($I102=1,$H102>0),VLOOKUP($H102,$A$14:AD$163,11,FALSE),0)","v":0},{"$f":"IF(AND($I102=1,$H102>0),VLOOKUP($H102,$A$14:AE$163,12,FALSE),0)","v":0},{"$f":"IF(AND($I102=1,$H102>0),VLOOKUP($H102,$A$14:AF$163,13,FALSE),0)","v":0},"","","",{"$f":"IF(A102<>0,VLOOKUP(A102,Liste!$A$10:$K$159,8,FALSE),\"\")","v":""},null,null,null,null,null,null,null,null,null,null,0,0,0,1000]
[null,{"$f":"IF(A103<>0,VLOOKUP(A103,Liste!$A$10:$D$159,4,FALSE),\"\")","v":""},0,0,0,0,null,null,0,0,{"$f":"IF(AND($I103=1,$H103>0),VLOOKUP($H103,$A$14:AD$163,11,FALSE),0)","v":0},{"$f":"IF(AND($I103=1,$H103>0),VLOOKUP($H103,$A$14:AE$163,12,FALSE),0)","v":0},{"$f":"IF(AND($I103=1,$H103>0),VLOOKUP($H103,$A$14:AF$163,13,FALSE),0)","v":0},"","","",{"$f":"IF(A103<>0,VLOOKUP(A103,Liste!$A$10:$K$159,8,FALSE),\"\")","v":""},null,null,null,null,null,null,null,null,null,null,0,0,0,1000]
[null,{"$f":"IF(A104<>0,VLOOKUP(A104,Liste!$A$10:$D$159,4,FALSE),\"\")","v":""},0,0,0,0,null,null,0,0,{"$f":"IF(AND($I104=1,$H104>0),VLOOKUP($H104,$A$14:AD$163,11,FALSE),0)","v":0},{"$f":"IF(AND($I104=1,$H104>0),VLOOKUP($H104,$A$14:AE$163,12,FALSE),0)","v":0},{"$f":"IF(AND($I104=1,$H104>0),VLOOKUP($H104,$A$14:AF$163,13,FALSE),0)","v":0},"","","",{"$f":"IF(A104<>0,VLOOKUP(A104,Liste!$A$10:$K$159,8,FALSE),\"\")","v":""},null,null,null,null,null,null,null,null,null,null,0,0,0,1000]
[null,{"$f":"IF(A105<>0,VLOOKUP(A105,Liste!$A$10:$D$159,4,FALSE),\"\")","v":""},0,0,0,0,null,null,0,0,{"$f":"IF(AND($I105=1,$H105>0),VLOOKUP($H105,$A$14:AD$163,11,FALSE),0)","v":0},{"$f":"IF(AND($I105=1,$H105>0),VLOOKUP($H105,$A$14:AE$163,12,FALSE),0)","v":0},{"$f":"IF(AND($I105=1,$H105>0),VLOOKUP($H105,$A$14:AF$163,13,FALSE),0)","v":0},"","","",{"$f":"IF(A105<>0,VLOOKUP(A105,Liste!$A$10:$K$159,8,FALSE),\"\")","v":""},null,null,null,null,null,null,null,null,null,null,0,0,0,1000]
[null,{"$f":"IF(A106<>0,VLOOKUP(A106,Liste!$A$10:$D$159,4,FALSE),\"\")","v":""},0,0,0,0,null,null,0,0,{"$f":"IF(AND($I106=1,$H106>0),VLOOKUP($H106,$A$14:AD$163,11,FALSE),0)","v":0},{"$f":"IF(AND($I106=1,$H106>0),VLOOKUP($H106,$A$14:AE$163,12,FALSE),0)","v":0},{"$f":"IF(AND($I106=1,$H106>0),VLOOKUP($H106,$A$14:AF$163,13,FALSE),0)","v":0},"","","",{"$f":"IF(A106<>0,VLOOKUP(A106,Liste!$A$10:$K$159,8,FALSE),\"\")","v":""},null,null,null,null,null,null,null,null,null,null,0,0,0,1000]
[null,{"$f":"IF(A107<>0,VLOOKUP(A107,Liste!$A$10:$D$159,4,FALSE),\"\")","v":""},0,0,0,0,null,null,0,0,{"$f":"IF(AND($I107=1,$H107>0),VLOOKUP($H107,$A$14:AD$163,11,FALSE),0)","v":0},{"$f":"IF(AND($I107=1,$H107>0),VLOOKUP($H107,$A$14:AE$163,12,FALSE),0)","v":0},{"$f":"IF(AND($I107=1,$H107>0),VLOOKUP($H107,$A$14:AF$163,13,FALSE),0)","v":0},"","","",{"$f":"IF(A107<>0,VLOOKUP(A107,Liste!$A$10:$K$159,8,FALSE),\"\")","v":""},null,null,null,null,null,null,null,null,null,null,0,0,0,1000]
[null,{"$f":"IF(A108<>0,VLOOKUP(A108,Liste!$A$10:$D$159,4,FALSE),\"\")","v":""},0,0,0,0,null,null,0,0,{"$f":"IF(AND($I108=1,$H108>0),VLOOKUP($H108,$A$14:AD$163,11,FALSE),0)","v":0},{"$f":"IF(AND($I108=1,$H108>0),VLOOKUP($H108,$A$14:AE$163,12,FALSE),0)","v":0},{"$f":"IF(AND($I108=1,$H108>0),VLOOKUP($H108,$A$14:AF$163,13,FALSE),0)","v":0},"","","",{"$f":"IF(A108<>0,VLOOKUP(A108,Liste!$A$10:$K$159,8,FALSE),\"\")","v":""},null,null,null,null,null,null,null,null,null,null,0,0,0,1000]
[null,{"$f":"IF(A109<>0,VLOOKUP(A109,Liste!$A$10:$D$159,4,FALSE),\"\")","v":""},0,0,0,0,null,null,0,0,{"$f":"IF(AND($I109=1,$H109>0),VLOOKUP($H109,$A$14:AD$163,11,FALSE),0)","v":0},{"$f":"IF(AND($I109=1,$H109>0),VLOOKUP($H109,$A$14:AE$163,12,FALSE),0)","v":0},{"$f":"IF(AND($I109=1,$H109>0),VLOOKUP($H109,$A$14:AF$163,13,FALSE),0)","v":0},"","","",{"$f":"IF(A109<>0,VLOOKUP(A109,Liste!$A$10:$K$159,8,FALSE),\"\")","v":""},null,null,null,null,null,null,null,null,null,null,0,0,0,1000]
[null,{"$f":"IF(A110<>0,VLOOKUP(A110,Liste!$A$10:$D$159,4,FALSE),\"\")","v":""},0,0,0,0,null,null,0,0,{"$f":"IF(AND($I110=1,$H110>0),VLOOKUP($H110,$A$14:AD$163,11,FALSE),0)","v":0},{"$f":"IF(AND($I110=1,$H110>0),VLOOKUP($H110,$A$14:AE$163,12,FALSE),0)","v":0},{"$f":"IF(AND($I110=1,$H110>0),VLOOKUP($H110,$A$14:AF$163,13,FALSE),0)","v":0},"","","",{"$f":"IF(A110<>0,VLOOKUP(A110,Liste!$A$10:$K$159,8,FALSE),\"\")","v":""},null,null,null,null,null,null,null,null,null,null,0,0,0,1000]
[null,{"$f":"IF(A111<>0,VLOOKUP(A111,Liste!$A$10:$D$159,4,FALSE),\"\")","v":""},0,0,0,0,null,null,0,0,{"$f":"IF(AND($I111=1,$H111>0),VLOOKUP($H111,$A$14:AD$163,11,FALSE),0)","v":0},{"$f":"IF(AND($I111=1,$H111>0),VLOOKUP($H111,$A$14:AE$163,12,FALSE),0)","v":0},{"$f":"IF(AND($I111=1,$H111>0),VLOOKUP($H111,$A$14:AF$163,13,FALSE),0)","v":0},"","","",{"$f":"IF(A111<>0,VLOOKUP(A111,Liste!$A$10:$K$159,8,FALSE),\"\")","v":""},null,null,null,null,null,null,null,null,null,null,0,0,0,1000]
[null,{"$f":"IF(A112<>0,VLOOKUP(A112,Liste!$A$10:$D$159,4,FALSE),\"\")","v":""},0,0,0,0,null,null,0,0,{"$f":"IF(AND($I112=1,$H112>0),VLOOKUP($H112,$A$14:AD$163,11,FALSE),0)","v":0},{"$f":"IF(AND($I112=1,$H112>0),VLOOKUP($H112,$A$14:AE$163,12,FALSE),0)","v":0},{"$f":"IF(AND($I112=1,$H112>0),VLOOKUP($H112,$A$14:AF$163,13,FALSE),0)","v":0},"","","",{"$f":"IF(A112<>0,VLOOKUP(A112,Liste!$A$10:$K$159,8,FALSE),\"\")","v":""},null,null,null,null,null,null,null,null,null,null,0,0,0,1000]
[null,{"$f":"IF(A113<>0,VLOOKUP(A113,Liste!$A$10:$D$159,4,FALSE),\"\")","v":""},0,0,0,0,null,null,0,0,{"$f":"IF(AND($I113=1,$H113>0),VLOOKUP($H113,$A$14:AD$163,11,FALSE),0)","v":0},{"$f":"IF(AND($I113=1,$H113>0),VLOOKUP($H113,$A$14:AE$163,12,FALSE),0)","v":0},{"$f":"IF(AND($I113=1,$H113>0),VLOOKUP($H113,$A$14:AF$163,13,FALSE),0)","v":0},"","","",{"$f":"IF(A113<>0,VLOOKUP(A113,Liste!$A$10:$K$159,8,FALSE),\"\")","v":""},null,null,null,null,null,null,null,null,null,null,0,0,0,1000]
[null,{"$f":"IF(A114<>0,VLOOKUP(A114,Liste!$A$10:$D$159,4,FALSE),\"\")","v":""},0,0,0,0,null,null,0,0,{"$f":"IF(AND($I114=1,$H114>0),VLOOKUP($H114,$A$14:AD$163,11,FALSE),0)","v":0},{"$f":"IF(AND($I114=1,$H114>0),VLOOKUP($H114,$A$14:AE$163,12,FALSE),0)","v":0},{"$f":"IF(AND($I114=1,$H114>0),VLOOKUP($H114,$A$14:AF$163,13,FALSE),0)","v":0},"","","",{"$f":"IF(A114<>0,VLOOKUP(A114,Liste!$A$10:$K$159,8,FALSE),\"\")","v":""},null,null,null,null,null,null,null,null,null,null,0,0,0,1000]
[null,{"$f":"IF(A115<>0,VLOOKUP(A115,Liste!$A$10:$D$159,4,FALSE),\"\")","v":""},0,0,0,0,null,null,0,0,{"$f":"IF(AND($I115=1,$H115>0),VLOOKUP($H115,$A$14:AD$163,11,FALSE),0)","v":0},{"$f":"IF(AND($I115=1,$H115>0),VLOOKUP($H115,$A$14:AE$163,12,FALSE),0)","v":0},{"$f":"IF(AND($I115=1,$H115>0),VLOOKUP($H115,$A$14:AF$163,13,FALSE),0)","v":0},"","","",{"$f":"IF(A115<>0,VLOOKUP(A115,Liste!$A$10:$K$159,8,FALSE),\"\")","v":""},null,null,null,null,null,null,null,null,null,null,0,0,0,1000]
[null,{"$f":"IF(A116<>0,VLOOKUP(A116,Liste!$A$10:$D$159,4,FALSE),\"\")","v":""},0,0,0,0,null,null,0,0,{"$f":"IF(AND($I116=1,$H116>0),VLOOKUP($H116,$A$14:AD$163,11,FALSE),0)","v":0},{"$f":"IF(AND($I116=1,$H116>0),VLOOKUP($H116,$A$14:AE$163,12,FALSE),0)","v":0},{"$f":"IF(AND($I116=1,$H116>0),VLOOKUP($H116,$A$14:AF$163,13,FALSE),0)","v":0},"","","",{"$f":"IF(A116<>0,VLOOKUP(A116,Liste!$A$10:$K$159,8,FALSE),\"\")","v":""},null,null,null,null,null,null,null,null,null,null,0,0,0,1000]
[null,{"$f":"IF(A117<>0,VLOOKUP(A117,Liste!$A$10:$D$159,4,FALSE),\"\")","v":""},0,0,0,0,null,null,0,0,{"$f":"IF(AND($I117=1,$H117>0),VLOOKUP($H117,$A$14:AD$163,11,FALSE),0)","v":0},{"$f":"IF(AND($I117=1,$H117>0),VLOOKUP($H117,$A$14:AE$163,12,FALSE),0)","v":0},{"$f":"IF(AND($I117=1,$H117>0),VLOOKUP($H117,$A$14:AF$163,13,FALSE),0)","v":0},"","","",{"$f":"IF(A117<>0,VLOOKUP(A117,Liste!$A$10:$K$159,8,FALSE),\"\")","v":""},null,null,null,null,null,null,null,null,null,null,0,0,0,1000]
[null,{"$f":"IF(A118<>0,VLOOKUP(A118,Liste!$A$10:$D$159,4,FALSE),\"\")","v":""},0,0,0,0,null,null,0,0,{"$f":"IF(AND($I118=1,$H118>0),VLOOKUP($H118,$A$14:AD$163,11,FALSE),0)","v":0},{"$f":"IF(AND($I118=1,$H118>0),VLOOKUP($H118,$A$14:AE$163,12,FALSE),0)","v":0},{"$f":"IF(AND($I118=1,$H118>0),VLOOKUP($H118,$A$14:AF$163,13,FALSE),0)","v":0},"","","",{"$f":"IF(A118<>0,VLOOKUP(A118,Liste!$A$10:$K$159,8,FALSE),\"\")","v":""},null,null,null,null,null,null,null,null,null,null,0,0,0,1000]
[null,{"$f":"IF(A119<>0,VLOOKUP(A119,Liste!$A$10:$D$159,4,FALSE),\"\")","v":""},0,0,0,0,null,null,0,0,{"$f":"IF(AND($I119=1,$H119>0),VLOOKUP($H119,$A$14:AD$163,11,FALSE),0)","v":0},{"$f":"IF(AND($I119=1,$H119>0),VLOOKUP($H119,$A$14:AE$163,12,FALSE),0)","v":0},{"$f":"IF(AND($I119=1,$H119>0),VLOOKUP($H119,$A$14:AF$163,13,FALSE),0)","v":0},"","","",{"$f":"IF(A119<>0,VLOOKUP(A119,Liste!$A$10:$K$159,8,FALSE),\"\")","v":""},null,null,null,null,null,null,null,null,null,null,0,0,0,1000]
[null,{"$f":"IF(A120<>0,VLOOKUP(A120,Liste!$A$10:$D$159,4,FALSE),\"\")","v":""},0,0,0,0,null,null,0,0,{"$f":"IF(AND($I120=1,$H120>0),VLOOKUP($H120,$A$14:AD$163,11,FALSE),0)","v":0},{"$f":"IF(AND($I120=1,$H120>0),VLOOKUP($H120,$A$14:AE$163,12,FALSE),0)","v":0},{"$f":"IF(AND($I120=1,$H120>0),VLOOKUP($H120,$A$14:AF$163,13,FALSE),0)","v":0},"","","",{"$f":"IF(A120<>0,VLOOKUP(A120,Liste!$A$10:$K$159,8,FALSE),\"\")","v":""},null,null,null,null,null,null,null,null,null,null,0,0,0,1000]
[null,{"$f":"IF(A121<>0,VLOOKUP(A121,Liste!$A$10:$D$159,4,FALSE),\"\")","v":""},0,0,0,0,null,null,0,0,{"$f":"IF(AND($I121=1,$H121>0),VLOOKUP($H121,$A$14:AD$163,11,FALSE),0)","v":0},{"$f":"IF(AND($I121=1,$H121>0),VLOOKUP($H121,$A$14:AE$163,12,FALSE),0)","v":0},{"$f":"IF(AND($I121=1,$H121>0),VLOOKUP($H121,$A$14:AF$163,13,FALSE),0)","v":0},"","","",{"$f":"IF(A121<>0,VLOOKUP(A121,Liste!$A$10:$K$159,8,FALSE),\"\")","v":""},null,null,null,null,null,null,null,null,null,null,0,0,0,1000]
[null,{"$f":"IF(A122<>0,VLOOKUP(A122,Liste!$A$10:$D$159,4,FALSE),\"\")","v":""},0,0,0,0,null,null,0,0,{"$f":"IF(AND($I122=1,$H122>0),VLOOKUP($H122,$A$14:AD$163,11,FALSE),0)","v":0},{"$f":"IF(AND($I122=1,$H122>0),VLOOKUP($H122,$A$14:AE$163,12,FALSE),0)","v":0},{"$f":"IF(AND($I122=1,$H122>0),VLOOKUP($H122,$A$14:AF$163,13,FALSE),0)","v":0},"","","",{"$f":"IF(A122<>0,VLOOKUP(A122,Liste!$A$10:$K$159,8,FALSE),\"\")","v":""},null,null,null,null,null,null,null,null,null,null,0,0,0,1000]
[null,{"$f":"IF(A123<>0,VLOOKUP(A123,Liste!$A$10:$D$159,4,FALSE),\"\")","v":""},0,0,0,0,null,null,0,0,{"$f":"IF(AND($I123=1,$H123>0),VLOOKUP($H123,$A$14:AD$163,11,FALSE),0)","v":0},{"$f":"IF(AND($I123=1,$H123>0),VLOOKUP($H123,$A$14:AE$163,12,FALSE),0)","v":0},{"$f":"IF(AND($I123=1,$H123>0),VLOOKUP($H123,$A$14:AF$163,13,FALSE),0)","v":0},"","","",{"$f":"IF(A123<>0,VLOOKUP(A123,Liste!$A$10:$K$159,8,FALSE),\"\")","v":""},null,null,null,null,null,null,null,null,null,null,0,0,0,1000]
[null,{"$f":"IF(A124<>0,VLOOKUP(A124,Liste!$A$10:$D$159,4,FALSE),\"\")","v":""},0,0,0,0,null,null,0,0,{"$f":"IF(AND($I124=1,$H124>0),VLOOKUP($H124,$A$14:AD$163,11,FALSE),0)","v":0},{"$f":"IF(AND($I124=1,$H124>0),VLOOKUP($H124,$A$14:AE$163,12,FALSE),0)","v":0},{"$f":"IF(AND($I124=1,$H124>0),VLOOKUP($H124,$A$14:AF$163,13,FALSE),0)","v":0},"","","",{"$f":"IF(A124<>0,VLOOKUP(A124,Liste!$A$10:$K$159,8,FALSE),\"\")","v":""},null,null,null,null,null,null,null,null,null,null,0,0,0,1000]
[null,{"$f":"IF(A125<>0,VLOOKUP(A125,Liste!$A$10:$D$159,4,FALSE),\"\")","v":""},0,0,0,0,null,null,0,0,{"$f":"IF(AND($I125=1,$H125>0),VLOOKUP($H125,$A$14:AD$163,11,FALSE),0)","v":0},{"$f":"IF(AND($I125=1,$H125>0),VLOOKUP($H125,$A$14:AE$163,12,FALSE),0)","v":0},{"$f":"IF(AND($I125=1,$H125>0),VLOOKUP($H125,$A$14:AF$163,13,FALSE),0)","v":0},"","","",{"$f":"IF(A125<>0,VLOOKUP(A125,Liste!$A$10:$K$159,8,FALSE),\"\")","v":""},null,null,null,null,null,null,null,null,null,null,0,0,0,1000]
[null,{"$f":"IF(A126<>0,VLOOKUP(A126,Liste!$A$10:$D$159,4,FALSE),\"\")","v":""},0,0,0,0,null,null,0,0,{"$f":"IF(AND($I126=1,$H126>0),VLOOKUP($H126,$A$14:AD$163,11,FALSE),0)","v":0},{"$f":"IF(AND($I126=1,$H126>0),VLOOKUP($H126,$A$14:AE$163,12,FALSE),0)","v":0},{"$f":"IF(AND($I126=1,$H126>0),VLOOKUP($H126,$A$14:AF$163,13,FALSE),0)","v":0},"","","",{"$f":"IF(A126<>0,VLOOKUP(A126,Liste!$A$10:$K$159,8,FALSE),\"\")","v":""},null,null,null,null,null,null,null,null,null,null,0,0,0,1000]
[null,{"$f":"IF(A127<>0,VLOOKUP(A127,Liste!$A$10:$D$159,4,FALSE),\"\")","v":""},0,0,0,0,null,null,0,0,{"$f":"IF(AND($I127=1,$H127>0),VLOOKUP($H127,$A$14:AD$163,11,FALSE),0)","v":0},{"$f":"IF(AND($I127=1,$H127>0),VLOOKUP($H127,$A$14:AE$163,12,FALSE),0)","v":0},{"$f":"IF(AND($I127=1,$H127>0),VLOOKUP($H127,$A$14:AF$163,13,FALSE),0)","v":0},"","","",{"$f":"IF(A127<>0,VLOOKUP(A127,Liste!$A$10:$K$159,8,FALSE),\"\")","v":""},null,null,null,null,null,null,null,null,null,null,0,0,0,1000]
[null,{"$f":"IF(A128<>0,VLOOKUP(A128,Liste!$A$10:$D$159,4,FALSE),\"\")","v":""},0,0,0,0,null,null,0,0,{"$f":"IF(AND($I128=1,$H128>0),VLOOKUP($H128,$A$14:AD$163,11,FALSE),0)","v":0},{"$f":"IF(AND($I128=1,$H128>0),VLOOKUP($H128,$A$14:AE$163,12,FALSE),0)","v":0},{"$f":"IF(AND($I128=1,$H128>0),VLOOKUP($H128,$A$14:AF$163,13,FALSE),0)","v":0},"","","",{"$f":"IF(A128<>0,VLOOKUP(A128,Liste!$A$10:$K$159,8,FALSE),\"\")","v":""},null,null,null,null,null,null,null,null,null,null,{"$f":"(H128+I128)*(J128>0)","v":0},0,0,{"$f":"IF(H128>0,H128+0.5*(I128=1),A128*(I128=1))+(1000*(I128<1))","v":1000}]
[null,{"$f":"IF(A129<>0,VLOOKUP(A129,Liste!$A$10:$D$159,4,FALSE),\"\")","v":""},0,0,0,0,null,null,0,0,{"$f":"IF(AND($I129=1,$H129>0),VLOOKUP($H129,$A$14:AD$163,11,FALSE),0)","v":0},{"$f":"IF(AND($I129=1,$H129>0),VLOOKUP($H129,$A$14:AE$163,12,FALSE),0)","v":0},{"$f":"IF(AND($I129=1,$H129>0),VLOOKUP($H129,$A$14:AF$163,13,FALSE),0)","v":0},"","","",{"$f":"IF(A129<>0,VLOOKUP(A129,Liste!$A$10:$K$159,8,FALSE),\"\")","v":""},null,null,null,null,null,null,null,null,null,null,0,0,0,1000]
[null,{"$f":"IF(A130<>0,VLOOKUP(A130,Liste!$A$10:$D$159,4,FALSE),\"\")","v":""},0,0,0,0,null,null,0,0,{"$f":"IF(AND($I130=1,$H130>0),VLOOKUP($H130,$A$14:AD$163,11,FALSE),0)","v":0},{"$f":"IF(AND($I130=1,$H130>0),VLOOKUP($H130,$A$14:AE$163,12,FALSE),0)","v":0},{"$f":"IF(AND($I130=1,$H130>0),VLOOKUP($H130,$A$14:AF$163,13,FALSE),0)","v":0},"","","",{"$f":"IF(A130<>0,VLOOKUP(A130,Liste!$A$10:$K$159,8,FALSE),\"\")","v":""},null,null,null,null,null,null,null,null,null,null,0,0,0,1000]
[null,{"$f":"IF(A131<>0,VLOOKUP(A131,Liste!$A$10:$D$159,4,FALSE),\"\")","v":""},0,0,0,0,null,null,0,0,{"$f":"IF(AND($I131=1,$H131>0),VLOOKUP($H131,$A$14:AD$163,11,FALSE),0)","v":0},{"$f":"IF(AND($I131=1,$H131>0),VLOOKUP($H131,$A$14:AE$163,12,FALSE),0)","v":0},{"$f":"IF(AND($I131=1,$H131>0),VLOOKUP($H131,$A$14:AF$163,13,FALSE),0)","v":0},"","","",{"$f":"IF(A131<>0,VLOOKUP(A131,Liste!$A$10:$K$159,8,FALSE),\"\")","v":""},null,null,null,null,null,null,null,null,null,null,0,0,0,1000]
[null,{"$f":"IF(A132<>0,VLOOKUP(A132,Liste!$A$10:$D$159,4,FALSE),\"\")","v":""},0,0,0,0,null,null,0,0,{"$f":"IF(AND($I132=1,$H132>0),VLOOKUP($H132,$A$14:AD$163,11,FALSE),0)","v":0},{"$f":"IF(AND($I132=1,$H132>0),VLOOKUP($H132,$A$14:AE$163,12,FALSE),0)","v":0},{"$f":"IF(AND($I132=1,$H132>0),VLOOKUP($H132,$A$14:AF$163,13,FALSE),0)","v":0},"","","",{"$f":"IF(A132<>0,VLOOKUP(A132,Liste!$A$10:$K$159,8,FALSE),\"\")","v":""},null,null,null,null,null,null,null,null,null,null,0,0,0,1000]
[null,{"$f":"IF(A133<>0,VLOOKUP(A133,Liste!$A$10:$D$159,4,FALSE),\"\")","v":""},0,0,0,0,null,null,0,0,{"$f":"IF(AND($I133=1,$H133>0),VLOOKUP($H133,$A$14:AD$163,11,FALSE),0)","v":0},{"$f":"IF(AND($I133=1,$H133>0),VLOOKUP($H133,$A$14:AE$163,12,FALSE),0)","v":0},{"$f":"IF(AND($I133=1,$H133>0),VLOOKUP($H133,$A$14:AF$163,13,FALSE),0)","v":0},"","","",{"$f":"IF(A133<>0,VLOOKUP(A133,Liste!$A$10:$K$159,8,FALSE),\"\")","v":""},null,null,null,null,null,null,null,null,null,null,0,0,0,1000]
[null,{"$f":"IF(A134<>0,VLOOKUP(A134,Liste!$A$10:$D$159,4,FALSE),\"\")","v":""},0,0,0,0,null,null,0,0,{"$f":"IF(AND($I134=1,$H134>0),VLOOKUP($H134,$A$14:AD$163,11,FALSE),0)","v":0},{"$f":"IF(AND($I134=1,$H134>0),VLOOKUP($H134,$A$14:AE$163,12,FALSE),0)","v":0},{"$f":"IF(AND($I134=1,$H134>0),VLOOKUP($H134,$A$14:AF$163,13,FALSE),0)","v":0},"","","",{"$f":"IF(A134<>0,VLOOKUP(A134,Liste!$A$10:$K$159,8,FALSE),\"\")","v":""},null,null,null,null,null,null,null,null,null,null,0,0,0,1000]
[null,{"$f":"IF(A135<>0,VLOOKUP(A135,Liste!$A$10:$D$159,4,FALSE),\"\")","v":""},0,0,0,0,null,null,0,0,{"$f":"IF(AND($I135=1,$H135>0),VLOOKUP($H135,$A$14:AD$163,11,FALSE),0)","v":0},{"$f":"IF(AND($I135=1,$H135>0),VLOOKUP($H135,$A$14:AE$163,12,FALSE),0)","v":0},{"$f":"IF(AND($I135=1,$H135>0),VLOOKUP($H135,$A$14:AF$163,13,FALSE),0)","v":0},"","","",{"$f":"IF(A135<>0,VLOOKUP(A135,Liste!$A$10:$K$159,8,FALSE),\"\")","v":""},null,null,null,null,null,null,null,null,null,null,0,0,0,1000]
[null,{"$f":"IF(A136<>0,VLOOKUP(A136,Liste!$A$10:$D$159,4,FALSE),\"\")","v":""},0,0,0,0,null,null,0,0,{"$f":"IF(AND($I136=1,$H136>0),VLOOKUP($H136,$A$14:AD$163,11,FALSE),0)","v":0},{"$f":"IF(AND($I136=1,$H136>0),VLOOKUP($H136,$A$14:AE$163,12,FALSE),0)","v":0},{"$f":"IF(AND($I136=1,$H136>0),VLOOKUP($H136,$A$14:AF$163,13,FALSE),0)","v":0},"","","",{"$f":"IF(A136<>0,VLOOKUP(A136,Liste!$A$10:$K$159,8,FALSE),\"\")","v":""},null,null,null,null,null,null,null,null,null,null,0,0,0,1000]
[null,{"$f":"IF(A137<>0,VLOOKUP(A137,Liste!$A$10:$D$159,4,FALSE),\"\")","v":""},0,0,0,0,null,null,0,0,{"$f":"IF(AND($I137=1,$H137>0),VLOOKUP($H137,$A$14:AD$163,11,FALSE),0)","v":0},{"$f":"IF(AND($I137=1,$H137>0),VLOOKUP($H137,$A$14:AE$163,12,FALSE),0)","v":0},{"$f":"IF(AND($I137=1,$H137>0),VLOOKUP($H137,$A$14:AF$163,13,FALSE),0)","v":0},"","","",{"$f":"IF(A137<>0,VLOOKUP(A137,Liste!$A$10:$K$159,8,FALSE),\"\")","v":""},null,null,null,null,null,null,null,null,null,null,0,0,0,1000]
[null,{"$f":"IF(A138<>0,VLOOKUP(A138,Liste!$A$10:$D$159,4,FALSE),\"\")","v":""},0,0,0,0,null,null,0,0,{"$f":"IF(AND($I138=1,$H138>0),VLOOKUP($H138,$A$14:AD$163,11,FALSE),0)","v":0},{"$f":"IF(AND($I138=1,$H138>0),VLOOKUP($H138,$A$14:AE$163,12,FALSE),0)","v":0},{"$f":"IF(AND($I138=1,$H138>0),VLOOKUP($H138,$A$14:AF$163,13,FALSE),0)","v":0},"","","",{"$f":"IF(A138<>0,VLOOKUP(A138,Liste!$A$10:$K$159,8,FALSE),\"\")","v":""},null,null,null,null,null,null,null,null,null,null,0,0,0,1000]
[null,{"$f":"IF(A139<>0,VLOOKUP(A139,Liste!$A$10:$D$159,4,FALSE),\"\")","v":""},0,0,0,0,null,null,0,0,{"$f":"IF(AND($I139=1,$H139>0),VLOOKUP($H139,$A$14:AD$163,11,FALSE),0)","v":0},{"$f":"IF(AND($I139=1,$H139>0),VLOOKUP($H139,$A$14:AE$163,12,FALSE),0)","v":0},{"$f":"IF(AND($I139=1,$H139>0),VLOOKUP($H139,$A$14:AF$163,13,FALSE),0)","v":0},"","","",{"$f":"IF(A139<>0,VLOOKUP(A139,Liste!$A$10:$K$159,8,FALSE),\"\")","v":""},null,null,null,null,null,null,null,null,null,null,0,0,0,1000]
[null,{"$f":"IF(A140<>0,VLOOKUP(A140,Liste!$A$10:$D$159,4,FALSE),\"\")","v":""},0,0,0,0,null,null,0,0,{"$f":"IF(AND($I140=1,$H140>0),VLOOKUP($H140,$A$14:AD$163,11,FALSE),0)","v":0},{"$f":"IF(AND($I140=1,$H140>0),VLOOKUP($H140,$A$14:AE$163,12,FALSE),0)","v":0},{"$f":"IF(AND($I140=1,$H140>0),VLOOKUP($H140,$A$14:AF$163,13,FALSE),0)","v":0},"","","",{"$f":"IF(A140<>0,VLOOKUP(A140,Liste!$A$10:$K$159,8,FALSE),\"\")","v":""},null,null,null,null,null,null,null,null,null,null,0,0,0,1000]
[null,{"$f":"IF(A141<>0,VLOOKUP(A141,Liste!$A$10:$D$159,4,FALSE),\"\")","v":""},0,0,0,0,null,null,0,0,{"$f":"IF(AND($I141=1,$H141>0),VLOOKUP($H141,$A$14:AD$163,11,FALSE),0)","v":0},{"$f":"IF(AND($I141=1,$H141>0),VLOOKUP($H141,$A$14:AE$163,12,FALSE),0)","v":0},{"$f":"IF(AND($I141=1,$H141>0),VLOOKUP($H141,$A$14:AF$163,13,FALSE),0)","v":0},"","","",{"$f":"IF(A141<>0,VLOOKUP(A141,Liste!$A$10:$K$159,8,FALSE),\"\")","v":""},null,null,null,null,null,null,null,null,null,null,0,0,0,1000]
[null,{"$f":"IF(A142<>0,VLOOKUP(A142,Liste!$A$10:$D$159,4,FALSE),\"\")","v":""},{"$f":"F142*(K142=1)","v":0},{"$f":"F142*(L142=1)","v":0},{"$f":"F142*(M142=1)","v":0},0,null,null,0,{"$f":"IF(F142>0,F142,0)","v":0},{"$f":"IF(AND($I142=1,$H142>0),VLOOKUP($H142,$A$14:AD$163,11,FALSE),0)","v":0},{"$f":"IF(AND($I142=1,$H142>0),VLOOKUP($H142,$A$14:AE$163,12,FALSE),0)","v":0},{"$f":"IF(AND($I142=1,$H142>0),VLOOKUP($H142,$A$14:AF$163,13,FALSE),0)","v":0},"","",{"$f":"IF(I142=1,K142*(K142=1)+L142*2*(L142=1)+M142*3*(M142=1),\"\")","v":""},{"$f":"IF(A142<>0,VLOOKUP(A142,Liste!$A$10:$K$159,8,FALSE),\"\")","v":""},null,null,null,null,null,null,null,null,null,null,0,0,0,1000]
[null,{"$f":"IF(A143<>0,VLOOKUP(A143,Liste!$A$10:$D$159,4,FALSE),\"\")","v":""},0,0,0,{"$f":"IF(I143=1,VLOOKUP(A143,$A$14:$AA$163,16+$B$4,0),0)","v":0},null,null,{"$f":"1*(IF(G143>=1,VLOOKUP(A143,$A$14:$AA$163,16+$B$4,0)>0))","v":0},0,{"$f":"IF(AND($I143=1,$H143>0),VLOOKUP($H143,$A$14:AD$163,11,FALSE),0)","v":0},{"$f":"IF(AND($I143=1,$H143>0),VLOOKUP($H143,$A$14:AE$163,12,FALSE),0)","v":0},{"$f":"IF(AND($I143=1,$H143>0),VLOOKUP($H143,$A$14:AF$163,13,FALSE),0)","v":0},{"$f":"IF(AND(I143>0,K143+L143+M143=0),\"EN ATTENTE\",IF(K143+L143+M143>1,\"ERREUR\",\"\"))","v":""},{"$f":"IF(AND(AC143>3,AD143>$D$10*$O$12),1,\"\")","v":""},"",{"$f":"IF(A143<>0,VLOOKUP(A143,Liste!$A$10:$K$159,8,FALSE),\"\")","v":""},null,null,null,null,null,null,null,null,null,null,0,{"$f":"COUNTIF($H$14:$H$163,A143)","v":0},{"$f":"SUMIF($H$14:$H$163,A143,$J$14:$J$163)+(J143*(AC143>0))","v":0},1000]
[null,{"$f":"IF(A144<>0,VLOOKUP(A144,Liste!$A$10:$D$159,4,FALSE),\"\")","v":""},0,0,0,0,null,null,0,0,{"$f":"IF(AND($I144=1,$H144>0),VLOOKUP($H144,$A$14:AD$163,11,FALSE),0)","v":0},{"$f":"IF(AND($I144=1,$H144>0),VLOOKUP($H144,$A$14:AE$163,12,FALSE),0)","v":0},{"$f":"IF(AND($I144=1,$H144>0),VLOOKUP($H144,$A$14:AF$163,13,FALSE),0)","v":0},"","","",{"$f":"IF(A144<>0,VLOOKUP(A144,Liste!$A$10:$K$159,8,FALSE),\"\")","v":""},null,null,null,null,null,null,null,null,null,null,0,0,0,1000]
[null,{"$f":"IF(A145<>0,VLOOKUP(A145,Liste!$A$10:$D$159,4,FALSE),\"\")","v":""},0,0,0,0,null,null,0,0,{"$f":"IF(AND($I145=1,$H145>0),VLOOKUP($H145,$A$14:AD$163,11,FALSE),0)","v":0},{"$f":"IF(AND($I145=1,$H145>0),VLOOKUP($H145,$A$14:AE$163,12,FALSE),0)","v":0},{"$f":"IF(AND($I145=1,$H145>0),VLOOKUP($H145,$A$14:AF$163,13,FALSE),0)","v":0},"","","",{"$f":"IF(A145<>0,VLOOKUP(A145,Liste!$A$10:$K$159,8,FALSE),\"\")","v":""},null,null,null,null,null,null,null,null,null,null,0,0,0,1000]
[null,{"$f":"IF(A146<>0,VLOOKUP(A146,Liste!$A$10:$D$159,4,FALSE),\"\")","v":""},0,0,0,0,null,null,0,0,{"$f":"IF(AND($I146=1,$H146>0),VLOOKUP($H146,$A$14:AD$163,11,FALSE),0)","v":0},{"$f":"IF(AND($I146=1,$H146>0),VLOOKUP($H146,$A$14:AE$163,12,FALSE),0)","v":0},{"$f":"IF(AND($I146=1,$H146>0),VLOOKUP($H146,$A$14:AF$163,13,FALSE),0)","v":0},"","","",{"$f":"IF(A146<>0,VLOOKUP(A146,Liste!$A$10:$K$159,8,FALSE),\"\")","v":""},null,null,null,null,null,null,null,null,null,null,0,0,0,1000]
[null,{"$f":"IF(A147<>0,VLOOKUP(A147,Liste!$A$10:$D$159,4,FALSE),\"\")","v":""},0,0,0,0,null,null,0,0,{"$f":"IF(AND($I147=1,$H147>0),VLOOKUP($H147,$A$14:AD$163,11,FALSE),0)","v":0},{"$f":"IF(AND($I147=1,$H147>0),VLOOKUP($H147,$A$14:AE$163,12,FALSE),0)","v":0},{"$f":"IF(AND($I147=1,$H147>0),VLOOKUP($H147,$A$14:AF$163,13,FALSE),0)","v":0},"","","",{"$f":"IF(A147<>0,VLOOKUP(A147,Liste!$A$10:$K$159,8,FALSE),\"\")","v":""},null,null,null,null,null,null,null,null,null,null,0,0,0,1000]
[null,{"$f":"IF(A148<>0,VLOOKUP(A148,Liste!$A$10:$D$159,4,FALSE),\"\")","v":""},0,0,0,0,null,null,0,0,{"$f":"IF(AND($I148=1,$H148>0),VLOOKUP($H148,$A$14:AD$163,11,FALSE),0)","v":0},{"$f":"IF(AND($I148=1,$H148>0),VLOOKUP($H148,$A$14:AE$163,12,FALSE),0)","v":0},{"$f":"IF(AND($I148=1,$H148>0),VLOOKUP($H148,$A$14:AF$163,13,FALSE),0)","v":0},"","","",{"$f":"IF(A148<>0,VLOOKUP(A148,Liste!$A$10:$K$159,8,FALSE),\"\")","v":""},null,null,null,null,null,null,null,null,null,null,0,0,0,1000]
[null,null,0,0,0,0,null,null,0,0,{"$f":"IF(AND($I149=1,$H149>0),VLOOKUP($H149,$A$14:AD$163,11,FALSE),0)","v":0},{"$f":"IF(AND($I149=1,$H149>0),VLOOKUP($H149,$A$14:AE$163,12,FALSE),0)","v":0},{"$f":"IF(AND($I149=1,$H149>0),VLOOKUP($H149,$A$14:AF$163,13,FALSE),0)","v":0},"","","",{"$f":"IF(A149<>0,VLOOKUP(A149,Liste!$A$10:$K$159,8,FALSE),\"\")","v":""},null,null,null,null,null,null,null,null,null,null,0,0,0,1000]
[null,{"$f":"IF(A150<>0,VLOOKUP(A150,Liste!$A$10:$D$159,4,FALSE),\"\")","v":""},0,0,0,0,null,null,0,0,{"$f":"IF(AND($I150=1,$H150>0),VLOOKUP($H150,$A$14:AD$163,11,FALSE),0)","v":0},{"$f":"IF(AND($I150=1,$H150>0),VLOOKUP($H150,$A$14:AE$163,12,FALSE),0)","v":0},{"$f":"IF(AND($I150=1,$H150>0),VLOOKUP($H150,$A$14:AF$163,13,FALSE),0)","v":0},"","","",{"$f":"IF(A150<>0,VLOOKUP(A150,Liste!$A$10:$K$159,8,FALSE),\"\")","v":""},null,null,null,null,null,null,null,null,null,null,0,0,0,1000]
[null,{"$f":"IF(A151<>0,VLOOKUP(A151,Liste!$A$10:$D$159,4,FALSE),\"\")","v":""},0,0,0,0,null,null,0,0,{"$f":"IF(AND($I151=1,$H151>0),VLOOKUP($H151,$A$14:AD$163,11,FALSE),0)","v":0},{"$f":"IF(AND($I151=1,$H151>0),VLOOKUP($H151,$A$14:AE$163,12,FALSE),0)","v":0},{"$f":"IF(AND($I151=1,$H151>0),VLOOKUP($H151,$A$14:AF$163,13,FALSE),0)","v":0},"","","",{"$f":"IF(A151<>0,VLOOKUP(A151,Liste!$A$10:$K$159,8,FALSE),\"\")","v":""},null,null,null,null,null,null,null,null,null,null,0,0,0,1000]
[null,{"$f":"IF(A152<>0,VLOOKUP(A152,Liste!$A$10:$D$159,4,FALSE),\"\")","v":""},0,0,0,0,null,null,0,0,{"$f":"IF(AND($I152=1,$H152>0),VLOOKUP($H152,$A$14:AD$163,11,FALSE),0)","v":0},{"$f":"IF(AND($I152=1,$H152>0),VLOOKUP($H152,$A$14:AE$163,12,FALSE),0)","v":0},{"$f":"IF(AND($I152=1,$H152>0),VLOOKUP($H152,$A$14:AF$163,13,FALSE),0)","v":0},"","","",{"$f":"IF(A152<>0,VLOOKUP(A152,Liste!$A$10:$K$159,8,FALSE),\"\")","v":""},null,null,null,null,null,null,null,null,null,null,0,0,0,1000]
[null,{"$f":"IF(A153<>0,VLOOKUP(A153,Liste!$A$10:$D$159,4,FALSE),\"\")","v":""},0,0,0,0,null,null,0,0,{"$f":"IF(AND($I153=1,$H153>0),VLOOKUP($H153,$A$14:AD$163,11,FALSE),0)","v":0},{"$f":"IF(AND($I153=1,$H153>0),VLOOKUP($H153,$A$14:AE$163,12,FALSE),0)","v":0},{"$f":"IF(AND($I153=1,$H153>0),VLOOKUP($H153,$A$14:AF$163,13,FALSE),0)","v":0},"","","",{"$f":"IF(A153<>0,VLOOKUP(A153,Liste!$A$10:$K$159,8,FALSE),\"\")","v":""},null,null,null,null,null,null,null,null,null,null,0,0,0,1000]
[null,{"$f":"IF(A154<>0,VLOOKUP(A154,Liste!$A$10:$D$159,4,FALSE),\"\")","v":""},0,0,0,0,null,null,0,0,{"$f":"IF(AND($I154=1,$H154>0),VLOOKUP($H154,$A$14:AD$163,11,FALSE),0)","v":0},{"$f":"IF(AND($I154=1,$H154>0),VLOOKUP($H154,$A$14:AE$163,12,FALSE),0)","v":0},{"$f":"IF(AND($I154=1,$H154>0),VLOOKUP($H154,$A$14:AF$163,13,FALSE),0)","v":0},"","","",{"$f":"IF(A154<>0,VLOOKUP(A154,Liste!$A$10:$K$159,8,FALSE),\"\")","v":""},null,null,null,null,null,null,null,null,null,null,0,0,0,1000]
[null,{"$f":"IF(A155<>0,VLOOKUP(A155,Liste!$A$10:$D$159,4,FALSE),\"\")","v":""},0,0,0,0,null,null,0,0,{"$f":"IF(AND($I155=1,$H155>0),VLOOKUP($H155,$A$14:AD$163,11,FALSE),0)","v":0},{"$f":"IF(AND($I155=1,$H155>0),VLOOKUP($H155,$A$14:AE$163,12,FALSE),0)","v":0},{"$f":"IF(AND($I155=1,$H155>0),VLOOKUP($H155,$A$14:AF$163,13,FALSE),0)","v":0},"","","",{"$f":"IF(A155<>0,VLOOKUP(A155,Liste!$A$10:$K$159,8,FALSE),\"\")","v":""},null,null,null,null,null,null,null,null,null,null,0,0,0,1000]
[null,{"$f":"IF(A156<>0,VLOOKUP(A156,Liste!$A$10:$D$159,4,FALSE),\"\")","v":""},0,0,0,0,null,null,0,0,{"$f":"IF(AND($I156=1,$H156>0),VLOOKUP($H156,$A$14:AD$163,11,FALSE),0)","v":0},{"$f":"IF(AND($I156=1,$H156>0),VLOOKUP($H156,$A$14:AE$163,12,FALSE),0)","v":0},{"$f":"IF(AND($I156=1,$H156>0),VLOOKUP($H156,$A$14:AF$163,13,FALSE),0)","v":0},"","","",{"$f":"IF(A156<>0,VLOOKUP(A156,Liste!$A$10:$K$159,8,FALSE),\"\")","v":""},null,null,null,null,null,null,null,null,null,null,0,0,0,1000]
[null,{"$f":"IF(A157<>0,VLOOKUP(A157,Liste!$A$10:$D$159,4,FALSE),\"\")","v":""},0,0,0,0,null,null,0,0,{"$f":"IF(AND($I157=1,$H157>0),VLOOKUP($H157,$A$14:AD$163,11,FALSE),0)","v":0},{"$f":"IF(AND($I157=1,$H157>0),VLOOKUP($H157,$A$14:AE$163,12,FALSE),0)","v":0},{"$f":"IF(AND($I157=1,$H157>0),VLOOKUP($H157,$A$14:AF$163,13,FALSE),0)","v":0},"","","",{"$f":"IF(A157<>0,VLOOKUP(A157,Liste!$A$10:$K$159,8,FALSE),\"\")","v":""},null,null,null,null,null,null,null,null,null,null,0,0,0,1000]
[null,{"$f":"IF(A158<>0,VLOOKUP(A158,Liste!$A$10:$D$159,4,FALSE),\"\")","v":""},0,0,0,0,null,null,0,0,{"$f":"IF(AND($I158=1,$H158>0),VLOOKUP($H158,$A$14:AD$163,11,FALSE),0)","v":0},{"$f":"IF(AND($I158=1,$H158>0),VLOOKUP($H158,$A$14:AE$163,12,FALSE),0)","v":0},{"$f":"IF(AND($I158=1,$H158>0),VLOOKUP($H158,$A$14:AF$163,13,FALSE),0)","v":0},null,"","",{"$f":"IF(A158<>0,VLOOKUP(A158,Liste!$A$10:$K$159,8,FALSE),\"\")","v":""},null,null,null,null,null,null,null,null,null,null,0,0,0,1000]
[null,{"$f":"IF(A159<>0,VLOOKUP(A159,Liste!$A$10:$D$159,4,FALSE),\"\")","v":""},0,0,0,0,null,null,0,0,{"$f":"IF(AND($I159=1,$H159>0),VLOOKUP($H159,$A$14:AD$163,11,FALSE),0)","v":0},{"$f":"IF(AND($I159=1,$H159>0),VLOOKUP($H159,$A$14:AE$163,12,FALSE),0)","v":0},{"$f":"IF(AND($I159=1,$H159>0),VLOOKUP($H159,$A$14:AF$163,13,FALSE),0)","v":0},"","","",{"$f":"IF(A159<>0,VLOOKUP(A159,Liste!$A$10:$K$159,8,FALSE),\"\")","v":""},null,null,null,null,null,null,null,null,null,null,0,0,0,1000]
[null,{"$f":"IF(A160<>0,VLOOKUP(A160,Liste!$A$10:$D$159,4,FALSE),\"\")","v":""},0,0,0,0,null,null,0,0,{"$f":"IF(AND($I160=1,$H160>0),VLOOKUP($H160,$A$14:AD$163,11,FALSE),0)","v":0},{"$f":"IF(AND($I160=1,$H160>0),VLOOKUP($H160,$A$14:AE$163,12,FALSE),0)","v":0},{"$f":"IF(AND($I160=1,$H160>0),VLOOKUP($H160,$A$14:AF$163,13,FALSE),0)","v":0},"","","",{"$f":"IF(A160<>0,VLOOKUP(A160,Liste!$A$10:$K$159,8,FALSE),\"\")","v":""},null,null,null,null,null,null,null,null,null,null,0,0,0,1000]
[null,{"$f":"IF(A161<>0,VLOOKUP(A161,Liste!$A$10:$D$159,4,FALSE),\"\")","v":""},0,0,0,0,null,null,0,0,{"$f":"IF(AND($I161=1,$H161>0),VLOOKUP($H161,$A$14:AD$163,11,FALSE),0)","v":0},{"$f":"IF(AND($I161=1,$H161>0),VLOOKUP($H161,$A$14:AE$163,12,FALSE),0)","v":0},{"$f":"IF(AND($I161=1,$H161>0),VLOOKUP($H161,$A$14:AF$163,13,FALSE),0)","v":0},"","","",{"$f":"IF(A161<>0,VLOOKUP(A161,Liste!$A$10:$K$159,8,FALSE),\"\")","v":""},null,null,null,null,null,null,null,null,null,null,0,0,0,1000]
[null,{"$f":"IF(A162<>0,VLOOKUP(A162,Liste!$A$10:$D$159,4,FALSE),\"\")","v":""},0,0,0,0,null,null,0,0,{"$f":"IF(AND($I162=1,$H162>0),VLOOKUP($H162,$A$14:AD$163,11,FALSE),0)","v":0},{"$f":"IF(AND($I162=1,$H162>0),VLOOKUP($H162,$A$14:AE$163,12,FALSE),0)","v":0},{"$f":"IF(AND($I162=1,$H162>0),VLOOKUP($H162,$A$14:AF$163,13,FALSE),0)","v":0},"","","",{"$f":"IF(A162<>0,VLOOKUP(A162,Liste!$A$10:$K$159,8,FALSE),\"\")","v":""},null,null,null,null,null,null,null,null,null,null,0,0,0,1000]
[null,{"$f":"IF(A163<>0,VLOOKUP(A163,Liste!$A$10:$D$159,4,FALSE),\"\")","v":""},0,0,0,0,null,null,0,{"$f":"IF(F163>0,F163,0)","v":0},{"$f":"IF(AND($I163=1,$H163>0),VLOOKUP($H163,$A$14:AD$163,11,FALSE),0)","v":0},{"$f":"IF(AND($I163=1,$H163>0),VLOOKUP($H163,$A$14:AE$163,12,FALSE),0)","v":0},{"$f":"IF(AND($I163=1,$H163>0),VLOOKUP($H163,$A$14:AF$163,13,FALSE),0)","v":0},"","","",{"$f":"IF(A163<>0,VLOOKUP(A163,Liste!$A$10:$K$159,8,FALSE),\"\")","v":""},null,null,null,null,null,null,null,null,null,null,0,0,0,1000]

{"sheet":"R.1.PRES","index":5,"n_rows":163,"n_cols":41,"rows_kept":163,"cut":false,"hidden":false,"merged":[[6,6,7,7]]}
[{"$f":"Liste!C4","v":"00:00:00"},1,{"$f":" $AI$10&$AJ$10","v":""},null,null,null,null,null,null,null,{"$f":" $AI$10&$AJ$10","v":""},null,null,null,null,null,1,2,3,4,null,null,null,null,null,null,null,null,24,25,25.1,26,26.1]
[24,"PRES","POUR","CONTRE","ABSTENT","Total TANT.","P. R","x","PRES. Votants","Tant. Repré.","POUR","CONTRE","ABSTENT","TOTAL",null,null,1,"BAT,A","BAT,B","TANT 4"," TANT.5"," TANT.6"," TANT."," TANT."," TANT."," TANT."," TANT.",null,{"$f":"240*(A2=24)*(L3>K3)+241*(A2=24)*(K3>L3)","v":241},{"$f":"250*(A2=25)*(K3<AI7)+251*(A2=25)*(K3>AI7)+2*(A2=25)*(K3>=AK7)*(K3<AI7)","v":0},{"$f":"255*(A2=25.1)*(K3>AK7)+256*(A2=25.1)*(K3<AK7)","v":0},{"$f":"260*(A2=26)*((K3<AJ7)*(K7<AJ8))+261*(A2=26)*((K3>AJ7)*(K3>AJ8))+2*(A2=26)*(K3>=AK7)*(K3<=AJ7)","v":0},{"$f":"262*(A2=26.1)*(K3>=AI7)+260*(A2=26.1)*(K3<AI7)","v":0},null,null,{"$f":"SUM(AC2:AI2)","v":241},null,3,null,240,{"$f":"CONCATENATE( \"REFUSEE par \",D3,\" voix CONTRE et \",V3,\" voix POUR\")","v":"REFUSEE par 1930 voix CONTRE et 0 voix POUR"}]
["Nom","XXX",{"$f":"SUM($C$14:$C$163)","v":1933},{"$f":"SUM($D$14:$D$163)","v":1930},{"$f":"SUM($E$14:$E163)","v":959},{"$f":"SUM($F$14:$F$163)","v":4822},{"$f":"E11","v":15},null,{"$f":"SUM($I$14:$I$163)","v":15},{"$f":"SUM($J$14:$J$163)","v":4822},{"$f":"SUM($C$14:$C$163)","v":1933},{"$f":"SUM($D$14:$D$163)","v":1930},{"$f":"SUM($E$14:$E163)","v":959},{"$f":"K3+L3+M3","v":4822},{"$f":"IF(N3=E10,\"\",\"EN ATTENTE\")","v":""},null,{"$f":"SUM(Q14:Q163)","v":10340},{"$f":"SUM(R14:R163)","v":10000},{"$f":"SUM(S14:S163)","v":10000},{"$f":"SUM(T14:T163)","v":0},{"$f":"SUM(U14:U163)","v":0},{"$f":"SUM(V14:V63)","v":0},{"$f":"SUM(W14:W163)","v":0},0,{"$f":"SUM(Y14:Y163)","v":0},0,{"$f":"SUM(AA14:AA163)","v":0},null,{"$f":"0*(A3=24)*(L4>K4)+1*(A2=24)*(K2>L3)","v":1},{"$f":"0*(A2=25)*(K3<AI7)+1*(A2=25)*(K3>AI7)+1*(A2=25)*(K3>=AK8)*(K3<AI7)","v":0},{"$f":"1*(A2=25.1)*(K3>AK7)+0*(A3=25.1)*(K3<AK7)","v":0},{"$f":"260*(A3=26)*((K4<AJ8)+(K8<AJ9)*(K4<=AK8))+261*(A3=26)*((K4>AJ8)*(K4>AJ9))","v":0},{"$f":"262*(A3=26.1)*(K4>=AI8)+260*(A3=26.1)*(K4<AI8)","v":0},null,null,{"$f":"SUM(AC3:AI3)","v":1},null,null,null,241,{"$f":"CONCATENATE( \"ADOPTEE par \",C3,\" voix POUR et \",D3,\" voix CONTRE.\")","v":"ADOPTEE par 1933 voix POUR et 1930 voix CONTRE."}]
["Clé",1,null,null,null,null,null,null,null,null,null,null,null,null,null,null,{"$f":"COUNTIF(Q14:Q163,\">0\")","v":35},{"$f":"COUNTIF(R14:R163,\">0\")","v":16},{"$f":"COUNTIF(S14:S163,\">0\")","v":11},{"$f":"COUNTIF(T14:T163,\">0\")","v":0},{"$f":"COUNTIF(U14:U163,\">0\")","v":0},{"$f":"COUNTIF(V13:V14,\">0\")","v":0},{"$f":"COUNTIF(W14:W163,\">0\")","v":0},{"$f":"COUNTIF(X14:X163,\">0\")","v":0},{"$f":"COUNTIF(Y14:Y163,\">0\")","v":0},{"$f":"COUNTIF(Z14:Z163,\">0\")","v":0},{"$f":"COUNTIF(AA14:AA163,\">0\")","v":0},null,null,null,null,null,null,null,null,null,null,null,null,250,{"$f":"CONCATENATE(\" REFUSEE,Pas de possibilité de 2e vote\")","v":" REFUSEE,Pas de possibilité de 2e vote"}]
[null,null,{"$f":"VLOOKUP($AJ$2,$AN$2:$AO$13,2,FALSE)","v":"ADOPTEE par 1933 voix POUR et 1930 voix CONTRE."},null,null,null,null,null,null,null,{"$f":"IF(A2=26, AJ11,\"\")","v":""},null,null,null,null,null,null,null,null,null,null,null,null,null,null,null,null,260,{"$f":"+K37","v":0},null,null,null,null,null,"25 Maj; Voix","26 Maj.2/3 Voix","26 Maj 1/3 voix",null,null,251,{"$f":"IF(AJ2=251,CONCATENATE(\" ADOPTEE par \",C3,\" voix POUR et \",D3,\" voix CONTRE\"),\"\")","v":""}]
[null,null,null,null,null,null,null,null,null,"NOMBRE :","POUR","CONTRE","ABSTENT","VOTANTS",null,null,null,null,null,null,null,null,null,null,null,null,null,261,{"$f":"261*(A2=26)*((K3>AJ7)*(K7>AJ8))","v":0},null,null,null,null,null,"Tous Copros","Tous Copros","Tous copros",null,null,252,{"$f":"CONCATENATE(\"Possibilité d'un deuxième vote à l'article 25,1, majorité 24, \")","v":"Possibilité d'un deuxième vote à l'article 25,1, majorité 24, "}]
[null,null,null,null,null,null,{"$f":"IF(SUM($O$14:$O$163)>0,\"LIMITES DEPASSEES\",\"\")","v":""},null,null,null,{"$f":"SUM($K$14:$K$163)","v":7},{"$f":"SUM($L$14:$L$163)","v":5},{"$f":"SUM($M$14:$M$163)","v":3},{"$f":"K7+L7+M7","v":15},{"$f":"IF(N7=E11,\"\",\"EN ATTENTE\")","v":""},null,null,null,null,null,null,null,null,null,null,null,null,262,null,null," Voix ¨POUR",{"$f":"K3","v":1933},null,null,{"$f":"ROUNDDOWN((D10)/2+1,0)","v":5171},{"$f":"ROUNDDOWN((D10)*2/3+1,0)","v":6894},{"$f":"ROUNDDOWN((D10)*1/3+1,0)","v":3447},{"$f":"ROUNDUP(E10/2,0)","v":2411},null,260,{"$f":"IF(AJ2=260,CONCATENATE(\"Rejetée part \",C3,\" voix POUR, inférieures à \",AJ7,\"ou inférieurs à \",AJ8,\" copropriétaires);\"\"\"))","v":false}]
[null,null,"Total","Total","Prés.Repr",null,null,null,null,null,null,null,null,null,null,null,null,null,null,null,null,null,null,null,null,null,null,null,null,null,"Nbre Copros ¨POUR",{"$f":"K7","v":7},null,null,null,{"$f":"ROUNDUP(($D$11+0.1)/2,0)","v":18},null,{"$f":"ROUNDUP(E11/2,0)","v":8},null,261,{"$f":"IF(AJ2=261,CONCATENATE(\" ADOPTEE par \",C3,\" voix POUR et \",D3,\" voix CONTRE\"))","v":false}]
[null,null,"Syndicat"," CLE","Tot.Votants",null,null,null,null,null,{"$f":"VLOOKUP($AJ$2,$AN$2:$AO$13,2,FALSE)","v":"ADOPTEE par 1933 voix POUR et 1930 voix CONTRE."},null,null,null,null,null,null,null,null,null,null,null,null,null,null,null,null,null,null,null,null,null,null,null,null,null,null,null,null,262,{"$f":"CONCATENATE(\"Possibilité d'un deuxième vote à l'article 26,1 \")","v":"Possibilité d'un deuxième vote à l'article 26,1 "}]
[null,null,{"$f":"HLOOKUP(1,$Q$1:$AA$4,3,FALSE)","v":10340},{"$f":"HLOOKUP($B$4,$Q$1:$AA$4,3,FALSE)","v":10340},{"$f":"SUM($F$14:$F$163)","v":4822},"VOIX",null,null,null,null,null,null,null,null,null,null,null,null,null,null,null,null,null,null,null,null,null,null,null,null,null,null,null,null,{"$f":" IF($A$2=25,\">= \" & $AI$7,\"\")","v":""},{"$f":" IF($A$2=26,\">= \" & $AJ$7,\"\")","v":""},{"$f":" IF($A$2=26.1,\">= \" & $AK7,\"\")","v":""},null,null,265,"REFUSEE"]
[null,null,{"$f":"HLOOKUP(1,$Q$1:$AA$4,4,FALSE)","v":35},{"$f":"HLOOKUP($B$4,$Q$1:$AA$4,4,FALSE)","v":35},{"$f":"SUM($I$14:$I$163)","v":15},"NOMBRE",null,null,null,null,null,null,null,null,null,null,null,null,null,null,null,null,null,null,null,null,null,null,null,"Nombre de dépassemnts",null,null,null,null,null,{"$f":" IF($A$2=26,\">= \" & $AJ$8,\"\")","v":""},null,null,null,266,"ADOPTEE par 3596 voix POUR et 1714 voix CONTRE."]
[null,null,null,null,null,null,null,null,null,null,null,null,{"$f":"IF(COUNTIF($N$14:$N$163,\"ERREUR\")>0,\"ERREUR\",\"\")","v":""},{"$f":"IF(COUNTIF($N$14:$N$163,\"EN ATTENTE\")>0,\"EN ATTENTE\",\"\")","v":""},0.1,null,1,2,3,4,5,6,7,8,9,10,11]
["N° Ordre","NOMS","Voix     POUR","Voix   CONTRE  ","Voix Abst.","Total TANT.","P. R","Rep.par","PRES. Votants","Tant. Repré.","Votes    POUR","Votes    CONTRE","Votes   ABST,","VERIF","LIMITES","Votes","TANT.GEN",{"$f":"R2","v":"BAT,A"},"BAT,B","TANT 4"," TANT.5"," TANT.6"," TANT."," TANT."," TANT."," TANT."," TANT.","X","    Nombre  Représentés","  Total Voix","XX"]
[2,{"$f":"IF(A14<>0,VLOOKUP(A14,Liste!$A$10:$D$159,4,FALSE),\"\")","v":"ANNINOS Henri"},{"$f":"F14*(K14=1)","v":0},{"$f":"F14*(L14=1)","v":0},{"$f":"F14*(M14=1)","v":290},{"$f":"IF(I14=1,VLOOKUP(A14,$A$14:$AA$163,16+$B$4,0),0)","v":290},1,null,{"$f":"1*(IF(G14>=1,VLOOKUP(A14,$A$14:$AA$163,16+$B$4,0)>0))","v":1},{"$f":"IF(F14>0,F14,0)","v":290},null,null,1,{"$f":"IF(AND(I14>0,K14+L14+M14=0),\"EN ATTENTE\",IF(K14+L14+M14>1,\"ERREUR\",\"\"))","v":""},{"$f":"IF(AND(AC14>3,AD14>$D$10*$O$12),1,\"\")","v":""},{"$f":"IF(I14=1,K14*(K14=1)+L14*2*(L14=1)+M14*3*(M14=1),\"\")","v":3},{"$f":"IF(A14<>0,VLOOKUP(A14,Liste!$A$10:$K$159,8,FALSE),\"\")","v":290},595,null,null,null,null,null,null,null,null,null,{"$f":"(H14+I14)*(J14>0)","v":1},{"$f":"COUNTIF($H$14:$H$163,A14)","v":0},{"$f":"SUMIF($H$14:$H$163,A14,$J$14:$J$163)+(J14*(AC14>0))","v":0},{"$f":"IF(H14>0,H14+0.5*(I14=1),A14*(I14=1))+(1000*(I14<1))","v":2}]
[3,{"$f":"IF(A15<>0,VLOOKUP(A15,Liste!$A$10:$D$159,4,FALSE),\"\")","v":"BALDACCHINO Laurence"},319,0,0,319,1,null,1,319,1,null,null,"","",1,{"$f":"IF(A15<>0,VLOOKUP(A15,Liste!$A$10:$K$159,8,FALSE),\"\")","v":319},846,null,null,null,null,null,null,null,null,null,1,0,0,3]
[4,{"$f":"IF(A16<>0,VLOOKUP(A16,Liste!$A$10:$D$159,4,FALSE),\"\")","v":"BANCHET Joseph"},0,294,0,294,1,null,1,294,null,1,null,"","",2,{"$f":"IF(A16<>0,VLOOKUP(A16,Liste!$A$10:$K$159,8,FALSE),\"\")","v":294},508,null,null,null,null,null,null,null,null,null,1,0,0,4]
[14,{"$f":"IF(A17<>0,VLOOKUP(A17,Liste!$A$10:$D$159,4,FALSE),\"\")","v":"BERLIER David"},391,0,0,391,1,null,1,391,1,null,null,"","",1,{"$f":"IF(A17<>0,VLOOKUP(A17,Liste!$A$10:$K$159,8,FALSE),\"\")","v":391},595,null,null,null,null,null,null,null,null,null,1,0,0,14]
[15,{"$f":"IF(A18<>0,VLOOKUP(A18,Liste!$A$10:$D$159,4,FALSE),\"\")","v":"BESSON Gabriel"},0,0,380,380,1,null,1,380,null,null,1,"","",3,{"$f":"IF(A18<>0,VLOOKUP(A18,Liste!$A$10:$K$159,8,FALSE),\"\")","v":380},772,null,null,null,null,null,null,null,null,null,1,0,0,15]
[18,{"$f":"IF(A19<>0,VLOOKUP(A19,Liste!$A$10:$D$159,4,FALSE),\"\")","v":"DI JORIO Marcel"},0,0,289,289,1,null,1,289,null,null,1,"","",3,{"$f":"IF(A19<>0,VLOOKUP(A19,Liste!$A$10:$K$159,8,FALSE),\"\")","v":289},null,762,null,null,null,null,null,null,null,null,1,0,0,18]
[26,{"$f":"IF(A20<>0,VLOOKUP(A20,Liste!$A$10:$D$159,4,FALSE),\"\")","v":"GARCIA Christophe"},286,0,0,286,1,null,1,286,1,null,null,"","",1,{"$f":"IF(A20<>0,VLOOKUP(A20,Liste!$A$10:$K$159,8,FALSE),\"\")","v":286},null,694,null,null,null,null,null,null,null,null,1,0,0,26]
[7,{"$f":"IF(A21<>0,VLOOKUP(A21,Liste!$A$10:$D$159,4,FALSE),\"\")","v":"BARDOUILLE Hermine"},0,371,0,371,2,null,1,371,{"$f":"IF(AND($I21=1,$H21>0),VLOOKUP($H21,$A$14:AD$163,11,FALSE),0)","v":0},1,{"$f":"IF(AND($I21=1,$H21>0),VLOOKUP($H21,$A$14:AF$163,13,FALSE),0)","v":0},"","",2,{"$f":"IF(A21<>0,VLOOKUP(A21,Liste!$A$10:$K$159,8,FALSE),\"\")","v":371},595,null,null,null,null,null,null,null,null,null,1,0,0,7]
[16,{"$f":"IF(A22<>0,VLOOKUP(A22,Liste!$A$10:$D$159,4,FALSE),\"\")","v":"DENIS Jacques"},0,315,0,315,2,null,1,315,{"$f":"IF(AND($I22=1,$H22>0),VLOOKUP($H22,$A$14:AD$163,11,FALSE),0)","v":0},1,{"$f":"IF(AND($I22=1,$H22>0),VLOOKUP($H22,$A$14:AF$163,13,FALSE),0)","v":0},"","",2,{"$f":"IF(A22<>0,VLOOKUP(A22,Liste!$A$10:$K$159,8,FALSE),\"\")","v":315},678,null,null,null,null,null,null,null,null,null,1,2,1265,16]
[9,{"$f":"IF(A23<>0,VLOOKUP(A23,Liste!$A$10:$D$159,4,FALSE),\"\")","v":"BAUDINO"},0,431,0,431,2,16,1,431,{"$f":"IF(AND($I23=1,$H23>0),VLOOKUP($H23,$A$14:AD$163,11,FALSE),0)","v":0},{"$f":"IF(AND($I23=1,$H23>0),VLOOKUP($H23,$A$14:AE$163,12,FALSE),0)","v":1},{"$f":"IF(AND($I23=1,$H23>0),VLOOKUP($H23,$A$14:AF$163,13,FALSE),0)","v":0},"","",2,{"$f":"IF(A23<>0,VLOOKUP(A23,Liste!$A$10:$K$159,8,FALSE),\"\")","v":431},715,null,null,null,null,null,null,null,null,null,17,0,0,16.5]
[12,{"$f":"IF(A24<>0,VLOOKUP(A24,Liste!$A$10:$D$159,4,FALSE),\"\")","v":"BECH Monique"},0,519,0,519,2,16,1,519,{"$f":"IF(AND($I24=1,$H24>0),VLOOKUP($H24,$A$14:AD$163,11,FALSE),0)","v":0},{"$f":"IF(AND($I24=1,$H24>0),VLOOKUP($H24,$A$14:AE$163,12,FALSE),0)","v":1},{"$f":"IF(AND($I24=1,$H24>0),VLOOKUP($H24,$A$14:AF$163,13,FALSE),0)","v":0},"","",2,{"$f":"IF(A24<>0,VLOOKUP(A24,Liste!$A$10:$K$159,8,FALSE),\"\")","v":519},846,null,null,null,null,null,null,null,null,null,17,0,0,16.5]
[17,{"$f":"IF(A25<>0,VLOOKUP(A25,Liste!$A$10:$D$159,4,FALSE),\"\")","v":"DI JORIO Brigitte"},244,0,0,244,2,null,1,244,1,{"$f":"IF(AND($I25=1,$H25>0),VLOOKUP($H25,$A$14:AE$163,12,FALSE),0)","v":0},{"$f":"IF(AND($I25=1,$H25>0),VLOOKUP($H25,$A$14:AF$163,13,FALSE),0)","v":0},"","",1,{"$f":"IF(A25<>0,VLOOKUP(A25,Liste!$A$10:$K$159,8,FALSE),\"\")","v":244},null,1040,null,null,null,null,null,null,null,null,1,0,0,17]
[21,{"$f":"IF(A26<>0,VLOOKUP(A26,Liste!$A$10:$D$159,4,FALSE),\"\")","v":"DUBOURG Pierre"},323,0,0,323,2,null,1,323,1,{"$f":"IF(AND($I26=1,$H26>0),VLOOKUP($H26,$A$14:AE$163,12,FALSE),0)","v":0},{"$f":"IF(AND($I26=1,$H26>0),VLOOKUP($H26,$A$14:AF$163,13,FALSE),0)","v":0},"","",1,{"$f":"IF(A26<>0,VLOOKUP(A26,Liste!$A$10:$K$159,8,FALSE),\"\")","v":323},null,762,null,null,null,null,null,null,null,null,1,0,0,21]
[24,{"$f":"IF(A27<>0,VLOOKUP(A27,Liste!$A$10:$D$159,4,FALSE),\"\")","v":"FORGET Valéry"},270,0,0,270,2,null,1,270,1,{"$f":"IF(AND($I27=1,$H27>0),VLOOKUP($H27,$A$14:AE$163,12,FALSE),0)","v":0},{"$f":"IF(AND($I27=1,$H27>0),VLOOKUP($H27,$A$14:AF$163,13,FALSE),0)","v":0},"","",1,{"$f":"IF(A27<>0,VLOOKUP(A27,Liste!$A$10:$K$159,8,FALSE),\"\")","v":270},null,830,null,null,null,null,null,null,null,null,1,0,0,24]
[32,{"$f":"IF(A28<>0,VLOOKUP(A28,Liste!$A$10:$D$159,4,FALSE),\"\")","v":"MARTIN Nicole"},100,0,0,100,2,null,1,100,1,{"$f":"IF(AND($I28=1,$H28>0),VLOOKUP($H28,$A$14:AE$163,12,FALSE),0)","v":0},{"$f":"IF(AND($I28=1,$H28>0),VLOOKUP($H28,$A$14:AF$163,13,FALSE),0)","v":0},"","",1,{"$f":"IF(A28<>0,VLOOKUP(A28,Liste!$A$10:$K$159,8,FALSE),\"\")","v":100},null,null,null,null,null,null,null,null,null,null,1,0,0,32]
[1,{"$f":"IF(A29<>0,VLOOKUP(A29,Liste!$A$10:$D$159,4,FALSE),\"\")","v":"ALEXANDRINI André"},0,0,0,0,null,null,0,0,{"$f":"IF(AND($I29=1,$H29>0),VLOOKUP($H29,$A$14:AD$163,11,FALSE),0)","v":0},{"$f":"IF(AND($I29=1,$H29>0),VLOOKUP($H29,$A$14:AE$163,12,FALSE),0)","v":0},{"$f":"IF(AND($I29=1,$H29>0),VLOOKUP($H29,$A$14:AF$163,13,FALSE),0)","v":0},"","","",568,474,null,null,null,null,null,null,null,null,null,0,0,0,1000]
[5,{"$f":"IF(A30<>0,VLOOKUP(A30,Liste!$A$10:$D$159,4,FALSE),\"\")","v":"BARDIN Andrée"},0,0,0,0,null,null,0,0,{"$f":"IF(AND($I30=1,$H30>0),VLOOKUP($H30,$A$14:AD$163,11,FALSE),0)","v":0},{"$f":"IF(AND($I30=1,$H30>0),VLOOKUP($H30,$A$14:AE$163,12,FALSE),0)","v":0},{"$f":"IF(AND($I30=1,$H30>0),VLOOKUP($H30,$A$14:AF$163,13,FALSE),0)","v":0},"","","",{"$f":"IF(A30<>0,VLOOKUP(A30,Liste!$A$10:$K$159,8,FALSE),\"\")","v":287},426,null,null,null,null,null,null,null,null,null,0,0,0,1000]
[6,{"$f":"IF(A31<>0,VLOOKUP(A31,Liste!$A$10:$D$159,4,FALSE),\"\")","v":"BARDIN-BENARD Louis"},0,0,0,0,null,null,0,0,{"$f":"IF(AND($I31=1,$H31>0),VLOOKUP($H31,$A$14:AD$163,11,FALSE),0)","v":0},{"$f":"IF(AND($I31=1,$H31>0),VLOOKUP($H31,$A$14:AE$163,12,FALSE),0)","v":0},{"$f":"IF(AND($I31=1,$H31>0),VLOOKUP($H31,$A$14:AF$163,13,FALSE),0)","v":0},"","","",{"$f":"IF(A31<>0,VLOOKUP(A31,Liste!$A$10:$K$159,8,FALSE),\"\")","v":257},380,null,null,null,null,null,null,null,null,null,0,0,0,1000]
[8,{"$f":"IF(A32<>0,VLOOKUP(A32,Liste!$A$10:$D$159,4,FALSE),\"\")","v":"BARDOUILLE Jean Yves"},0,0,0,0,null,null,0,0,{"$f":"IF(AND($I32=1,$H32>0),VLOOKUP($H32,$A$14:AD$163,11,FALSE),0)","v":0},{"$f":"IF(AND($I32=1,$H32>0),VLOOKUP($H32,$A$14:AE$163,12,FALSE),0)","v":0},{"$f":"IF(AND($I32=1,$H32>0),VLOOKUP($H32,$A$14:AF$163,13,FALSE),0)","v":0},"","","",{"$f":"IF(A32<>0,VLOOKUP(A32,Liste!$A$10:$K$159,8,FALSE),\"\")","v":569},846,null,null,null,null,null,null,null,null,null,0,0,0,1000]
[10,{"$f":"IF(A33<>0,VLOOKUP(A33,Liste!$A$10:$D$159,4,FALSE),\"\")","v":"BAUGUIL André"},0,0,0,0,null,null,0,0,{"$f":"IF(AND($I33=1,$H33>0),VLOOKUP($H33,$A$14:AD$163,11,FALSE),0)","v":0},{"$f":"IF(AND($I33=1,$H33>0),VLOOKUP($H33,$A$14:AE$163,12,FALSE),0)","v":0},{"$f":"IF(AND($I33=1,$H33>0),VLOOKUP($H33,$A$14:AF$163,13,FALSE),0)","v":0},"","","",{"$f":"IF(A33<>0,VLOOKUP(A33,Liste!$A$10:$K$159,8,FALSE),\"\")","v":360},534,null,null,null,null,null,null,null,null,null,0,0,0,1000]
[11,{"$f":"IF(A34<>0,VLOOKUP(A34,Liste!$A$10:$D$159,4,FALSE),\"\")","v":"BAUMGARTNER Peter"},0,0,0,0,null,null,0,0,{"$f":"IF(AND($I34=1,$H34>0),VLOOKUP($H34,$A$14:AD$163,11,FALSE),0)","v":0},{"$f":"IF(AND($I34=1,$H34>0),VLOOKUP($H34,$A$14:AE$163,12,FALSE),0)","v":0},{"$f":"IF(AND($I34=1,$H34>0),VLOOKUP($H34,$A$14:AF$163,13,FALSE),0)","v":0},"","","",{"$f":"IF(A34<>0,VLOOKUP(A34,Liste!$A$10:$K$159,8,FALSE),\"\")","v":380},595,null,null,null,null,null,null,null,null,null,0,0,0,1000]
[13,{"$f":"IF(A35<>0,VLOOKUP(A35,Liste!$A$10:$D$159,4,FALSE),\"\")","v":"BERGET Jean François"},0,0,0,0,null,null,0,0,{"$f":"IF(AND($I35=1,$H35>0),VLOOKUP($H35,$A$14:AD$163,11,FALSE),0)","v":0},{"$f":"IF(AND($I35=1,$H35>0),VLOOKUP($H35,$A$14:AE$163,12,FALSE),0)","v":0},{"$f":"IF(AND($I35=1,$H35>0),VLOOKUP($H35,$A$14:AF$163,13,FALSE),0)","v":0},"","","",{"$f":"IF(A35<>0,VLOOKUP(A35,Liste!$A$10:$K$159,8,FALSE),\"\")","v":381},595,null,null,null,null,null,null,null,null,null,0,0,0,1000]
[19,{"$f":"IF(A36<>0,VLOOKUP(A36,Liste!$A$10:$D$159,4,FALSE),\"\")","v":"DI MEGLIO Laurent"},0,0,0,0,null,null,0,0,{"$f":"IF(AND($I36=1,$H36>0),VLOOKUP($H36,$A$14:AD$163,11,FALSE),0)","v":0},{"$f":"IF(AND($I36=1,$H36>0),VLOOKUP($H36,$A$14:AE$163,12,FALSE),0)","v":0},{"$f":"IF(AND($I36=1,$H36>0),VLOOKUP($H36,$A$14:AF$163,13,FALSE),0)","v":0},"","","",{"$f":"IF(A36<>0,VLOOKUP(A36,Liste!$A$10:$K$159,8,FALSE),\"\")","v":237},null,1402,null,null,null,null,null,null,null,null,0,0,0,1000]
[20,{"$f":"IF(A37<>0,VLOOKUP(A37,Liste!$A$10:$D$159,4,FALSE),\"\")","v":"DRAGOTTA Michel"},0,0,0,0,null,null,0,0,{"$f":"IF(AND($I37=1,$H37>0),VLOOKUP($H37,$A$14:AD$163,11,FALSE),0)","v":0},{"$f":"IF(AND($I37=1,$H37>0),VLOOKUP($H37,$A$14:AE$163,12,FALSE),0)","v":0},{"$f":"IF(AND($I37=1,$H37>0),VLOOKUP($H37,$A$14:AF$163,13,FALSE),0)","v":0},"","","",{"$f":"IF(A37<>0,VLOOKUP(A37,Liste!$A$10:$K$159,8,FALSE),\"\")","v":286},null,1015,null,null,null,null,null,null,null,null,0,0,0,1000]
[22,{"$f":"IF(A38<>0,VLOOKUP(A38,Liste!$A$10:$D$159,4,FALSE),\"\")","v":"FIGUERAS Annie"},0,0,0,0,null,null,0,0,{"$f":"IF(AND($I38=1,$H38>0),VLOOKUP($H38,$A$14:AD$163,11,FALSE),0)","v":0},{"$f":"IF(AND($I38=1,$H38>0),VLOOKUP($H38,$A$14:AE$163,12,FALSE),0)","v":0},{"$f":"IF(AND($I38=1,$H38>0),VLOOKUP($H38,$A$14:AF$163,13,FALSE),0)","v":0},"","","",{"$f":"IF(A38<>0,VLOOKUP(A38,Liste!$A$10:$K$159,8,FALSE),\"\")","v":300},null,819,null,null,null,null,null,null,null,null,0,0,0,1000]
[23,{"$f":"IF(A39<>0,VLOOKUP(A39,Liste!$A$10:$D$159,4,FALSE),\"\")","v":"FONTANA Georges"},0,0,0,0,null,null,0,0,{"$f":"IF(AND($I39=1,$H39>0),VLOOKUP($H39,$A$14:AD$163,11,FALSE),0)","v":0},{"$f":"IF(AND($I39=1,$H39>0),VLOOKUP($H39,$A$14:AE$163,12,FALSE),0)","v":0},{"$f":"IF(AND($I39=1,$H39>0),VLOOKUP($H39,$A$14:AF$163,13,FALSE),0)","v":0},"","","",{"$f":"IF(A39<>0,VLOOKUP(A39,Liste!$A$10:$K$159,8,FALSE),\"\")","v":323},null,873,null,null,null,null,null,null,null,null,0,0,0,1000]
[25,{"$f":"IF(A40<>0,VLOOKUP(A40,Liste!$A$10:$D$159,4,FALSE),\"\")","v":"FOURNIER Nicole"},0,0,0,0,null,null,0,0,{"$f":"IF(AND($I40=1,$H40>0),VLOOKUP($H40,$A$14:AD$163,11,FALSE),0)","v":0},{"$f":"IF(AND($I40=1,$H40>0),VLOOKUP($H40,$A$14:AE$163,12,FALSE),0)","v":0},{"$f":"IF(AND($I40=1,$H40>0),VLOOKUP($H40,$A$14:AF$163,13,FALSE),0)","v":0},"","","",{"$f":"IF(A40<>0,VLOOKUP(A40,Liste!$A$10:$K$159,8,FALSE),\"\")","v":290},null,973,null,null,null,null,null,null,null,null,0,0,0,1000]
[27,{"$f":"IF(A41<>0,VLOOKUP(A41,Liste!$A$10:$D$159,4,FALSE),\"\")","v":"GARRELON Jacques"},0,0,0,0,null,null,0,0,{"$f":"IF(AND($I41=1,$H41>0),VLOOKUP($H41,$A$14:AD$163,11,FALSE),0)","v":0},{"$f":"IF(AND($I41=1,$H41>0),VLOOKUP($H41,$A$14:AE$163,12,FALSE),0)","v":0},{"$f":"IF(AND($I41=1,$H41>0),VLOOKUP($H41,$A$14:AF$163,13,FALSE),0)","v":0},"","","",110,null,830,null,null,null,null,null,null,null,null,0,0,0,1000]
[28,{"$f":"IF(A42<>0,VLOOKUP(A42,Liste!$A$10:$D$159,4,FALSE),\"\")","v":"HENRI   Paul"},0,0,0,0,null,null,0,0,{"$f":"IF(AND($I42=1,$H42>0),VLOOKUP($H42,$A$14:AD$163,11,FALSE),0)","v":0},{"$f":"IF(AND($I42=1,$H42>0),VLOOKUP($H42,$A$14:AE$163,12,FALSE),0)","v":0},{"$f":"IF(AND($I42=1,$H42>0),VLOOKUP($H42,$A$14:AF$163,13,FALSE),0)","v":0},"","","",210,null,null,null,null,null,null,null,null,null,null,0,0,0,1000]
[29,{"$f":"IF(A43<>0,VLOOKUP(A43,Liste!$A$10:$D$159,4,FALSE),\"\")","v":"ISIDORE Lucienne"},0,0,0,0,null,null,0,0,{"$f":"IF(AND($I43=1,$H43>0),VLOOKUP($H43,$A$14:AD$163,11,FALSE),0)","v":0},{"$f":"IF(AND($I43=1,$H43>0),VLOOKUP($H43,$A$14:AE$163,12,FALSE),0)","v":0},{"$f":"IF(AND($I43=1,$H43>0),VLOOKUP($H43,$A$14:AF$163,13,FALSE),0)","v":0},"","","",110,null,null,null,null,null,null,null,null,null,null,0,0,0,1000]
[30,{"$f":"IF(A44<>0,VLOOKUP(A44,Liste!$A$10:$D$159,4,FALSE),\"\")","v":"JARGON Emile"},0,0,0,0,null,null,0,0,{"$f":"IF(AND($I44=1,$H44>0),VLOOKUP($H44,$A$14:AD$163,11,FALSE),0)","v":0},{"$f":"IF(AND($I44=1,$H44>0),VLOOKUP($H44,$A$14:AE$163,12,FALSE),0)","v":0},{"$f":"IF(AND($I44=1,$H44>0),VLOOKUP($H44,$A$14:AF$163,13,FALSE),0)","v":0},"","","",{"$f":"IF(A44<>0,VLOOKUP(A44,Liste!$A$10:$K$159,8,FALSE),\"\")","v":130},null,null,null,null,null,null,null,null,null,null,0,0,0,1000]
[31,{"$f":"IF(A45<>0,VLOOKUP(A45,Liste!$A$10:$D$159,4,FALSE),\"\")","v":"LOUISON Albert"},0,0,0,0,null,null,0,0,{"$f":"IF(AND($I45=1,$H45>0),VLOOKUP($H45,$A$14:AD$163,11,FALSE),0)","v":0},{"$f":"IF(AND($I45=1,$H45>0),VLOOKUP($H45,$A$14:AE$163,12,FALSE),0)","v":0},{"$f":"IF(AND($I45=1,$H45>0),VLOOKUP($H45,$A$14:AF$163,13,FALSE),0)","v":0},"","","",{"$f":"IF(A45<>0,VLOOKUP(A45,Liste!$A$10:$K$159,8,FALSE),\"\")","v":220},null,null,null,null,null,null,null,null,null,null,0,0,0,1000]
[33,{"$f":"IF(A46<>0,VLOOKUP(A46,Liste!$A$10:$D$159,4,FALSE),\"\")","v":"ANDUN"},{"$f":"F46*(K46=1)","v":0},{"$f":"F46*(L46=1)","v":0},{"$f":"F46*(M46=1)","v":0},{"$f":"IF(I46=1,VLOOKUP(A46,$A$14:$AA$163,16+$B$4,0),0)","v":0},null,null,{"$f":"1*(IF(G46>=1,VLOOKUP(A46,$A$14:$AA$163,16+$B$4,0)>0))","v":0},{"$f":"IF(F46>0,F46,0)","v":0},{"$f":"IF(AND($I46=1,$H46>0),VLOOKUP($H46,$A$14:AD$163,11,FALSE),0)","v":0},{"$f":"IF(AND($I46=1,$H46>0),VLOOKUP($H46,$A$14:AE$163,12,FALSE),0)","v":0},{"$f":"IF(AND($I46=1,$H46>0),VLOOKUP($H46,$A$14:AF$163,13,FALSE),0)","v":0},{"$f":"IF(AND(I46>0,K46+L46+M46=0),\"EN ATTENTE\",IF(K46+L46+M46>1,\"ERREUR\",\"\"))","v":""},{"$f":"IF(AND(AC46>3,AD46>$D$10*$O$12),1,\"\")","v":""},{"$f":"IF(I46=1,K46*(K46=1)+L46*2*(L46=1)+M46*3*(M46=1),\"\")","v":""},{"$f":"IF(A46<>0,VLOOKUP(A46,Liste!$A$10:$K$159,8,FALSE),\"\")","v":180},null,null,null,null,null,null,null,null,null,null,{"$f":"(H46+I46)*(J46>0)","v":0},{"$f":"COUNTIF($H$14:$H$163,A46)","v":0},{"$f":"SUMIF($H$14:$H$163,A46,$J$14:$J$163)+(J46*(AC46>0))","v":0},{"$f":"IF(H46>0,H46+0.5*(I46=1),A46*(I46=1))+(1000*(I46<1))","v":1000}]
[34,{"$f":"IF(A47<>0,VLOOKUP(A47,Liste!$A$10:$D$159,4,FALSE),\"\")","v":"AUDIARD"},0,0,0,0,null,null,0,0,{"$f":"IF(AND($I47=1,$H47>0),VLOOKUP($H47,$A$14:AD$163,11,FALSE),0)","v":0},{"$f":"IF(AND($I47=1,$H47>0),VLOOKUP($H47,$A$14:AE$163,12,FALSE),0)","v":0},{"$f":"IF(AND($I47=1,$H47>0),VLOOKUP($H47,$A$14:AF$163,13,FALSE),0)","v":0},"","","",{"$f":"IF(A47<>0,VLOOKUP(A47,Liste!$A$10:$K$159,8,FALSE),\"\")","v":210},null,null,null,null,null,null,null,null,null,null,0,0,0,1000]
[35,{"$f":"IF(A48<>0,VLOOKUP(A48,Liste!$A$10:$D$159,4,FALSE),\"\")","v":"AVATARD"},0,0,0,0,null,null,0,0,{"$f":"IF(AND($I48=1,$H48>0),VLOOKUP($H48,$A$14:AD$163,11,FALSE),0)","v":0},{"$f":"IF(AND($I48=1,$H48>0),VLOOKUP($H48,$A$14:AE$163,12,FALSE),0)","v":0},{"$f":"IF(AND($I48=1,$H48>0),VLOOKUP($H48,$A$14:AF$163,13,FALSE),0)","v":0},"","","",{"$f":"IF(A48<>0,VLOOKUP(A48,Liste!$A$10:$K$159,8,FALSE),\"\")","v":110},null,null,null,null,null,null,null,null,null,null,0,0,0,1000]
[null,{"$f":"IF(A49<>0,VLOOKUP(A49,Liste!$A$10:$D$159,4,FALSE),\"\")","v":""},0,0,0,0,null,null,0,0,{"$f":"IF(AND($I49=1,$H49>0),VLOOKUP($H49,$A$14:AD$163,11,FALSE),0)","v":0},{"$f":"IF(AND($I49=1,$H49>0),VLOOKUP($H49,$A$14:AE$163,12,FALSE),0)","v":0},{"$f":"IF(AND($I49=1,$H49>0),VLOOKUP($H49,$A$14:AF$163,13,FALSE),0)","v":0},"","","",{"$f":"IF(A49<>0,VLOOKUP(A49,Liste!$A$10:$K$159,8,FALSE),\"\")","v":""},null,null,null,null,null,null,null,null,null,null,0,0,0,1000]
[null,{"$f":"IF(A50<>0,VLOOKUP(A50,Liste!$A$10:$D$159,4,FALSE),\"\")","v":""},0,0,0,0,null,null,0,0,{"$f":"IF(AND($I50=1,$H50>0),VLOOKUP($H50,$A$14:AD$163,11,FALSE),0)","v":0},{"$f":"IF(AND($I50=1,$H50>0),VLOOKUP($H50,$A$14:AE$163,12,FALSE),0)","v":0},{"$f":"IF(AND($I50=1,$H50>0),VLOOKUP($H50,$A$14:AF$163,13,FALSE),0)","v":0},"","","",{"$f":"IF(A50<>0,VLOOKUP(A50,Liste!$A$10:$K$159,8,FALSE),\"\")","v":""},null,null,null,null,null,null,null,null,null,null,0,0,0,1000]
[null,{"$f":"IF(A51<>0,VLOOKUP(A51,Liste!$A$10:$D$159,4,FALSE),\"\")","v":""},0,0,0,0,null,null,0,0,{"$f":"IF(AND($I51=1,$H51>0),VLOOKUP($H51,$A$14:AD$163,11,FALSE),0)","v":0},{"$f":"IF(AND($I51=1,$H51>0),VLOOKUP($H51,$A$14:AE$163,12,FALSE),0)","v":0},{"$f":"IF(AND($I51=1,$H51>0),VLOOKUP($H51,$A$14:AF$163,13,FALSE),0)","v":0},"","","",{"$f":"IF(A51<>0,VLOOKUP(A51,Liste!$A$10:$K$159,8,FALSE),\"\")","v":""},null,null,null,null,null,null,null,null,null,null,0,0,0,1000]
[null,{"$f":"IF(A52<>0,VLOOKUP(A52,Liste!$A$10:$D$159,4,FALSE),\"\")","v":""},0,0,0,0,null,null,0,0,{"$f":"IF(AND($I52=1,$H52>0),VLOOKUP($H52,$A$14:AD$163,11,FALSE),0)","v":0},{"$f":"IF(AND($I52=1,$H52>0),VLOOKUP($H52,$A$14:AE$163,12,FALSE),0)","v":0},{"$f":"IF(AND($I52=1,$H52>0),VLOOKUP($H52,$A$14:AF$163,13,FALSE),0)","v":0},"","","",{"$f":"IF(A52<>0,VLOOKUP(A52,Liste!$A$10:$K$159,8,FALSE),\"\")","v":""},null,null,null,null,null,null,null,null,null,null,0,0,0,1000]
[null,{"$f":"IF(A53<>0,VLOOKUP(A53,Liste!$A$10:$D$159,4,FALSE),\"\")","v":""},0,0,0,0,null,null,0,0,{"$f":"IF(AND($I53=1,$H53>0),VLOOKUP($H53,$A$14:AD$163,11,FALSE),0)","v":0},{"$f":"IF(AND($I53=1,$H53>0),VLOOKUP($H53,$A$14:AE$163,12,FALSE),0)","v":0},{"$f":"IF(AND($I53=1,$H53>0),VLOOKUP($H53,$A$14:AF$163,13,FALSE),0)","v":0},"","","",{"$f":"IF(A53<>0,VLOOKUP(A53,Liste!$A$10:$K$159,8,FALSE),\"\")","v":""},null,null,null,null,null,null,null,null,null,null,0,0,0,1000]
[null,{"$f":"IF(A54<>0,VLOOKUP(A54,Liste!$A$10:$D$159,4,FALSE),\"\")","v":""},0,0,0,0,null,null,0,0,{"$f":"IF(AND($I54=1,$H54>0),VLOOKUP($H54,$A$14:AD$163,11,FALSE),0)","v":0},{"$f":"IF(AND($I54=1,$H54>0),VLOOKUP($H54,$A$14:AE$163,12,FALSE),0)","v":0},{"$f":"IF(AND($I54=1,$H54>0),VLOOKUP($H54,$A$14:AF$163,13,FALSE),0)","v":0},"","","",{"$f":"IF(A54<>0,VLOOKUP(A54,Liste!$A$10:$K$159,8,FALSE),\"\")","v":""},null,null,null,null,null,null,null,null,null,null,0,0,0,1000]
[null,{"$f":"IF(A55<>0,VLOOKUP(A55,Liste!$A$10:$D$159,4,FALSE),\"\")","v":""},0,0,0,0,null,null,0,0,{"$f":"IF(AND($I55=1,$H55>0),VLOOKUP($H55,$A$14:AD$163,11,FALSE),0)","v":0},{"$f":"IF(AND($I55=1,$H55>0),VLOOKUP($H55,$A$14:AE$163,12,FALSE),0)","v":0},{"$f":"IF(AND($I55=1,$H55>0),VLOOKUP($H55,$A$14:AF$163,13,FALSE),0)","v":0},"","","",{"$f":"IF(A55<>0,VLOOKUP(A55,Liste!$A$10:$K$159,8,FALSE),\"\")","v":""},null,null,null,null,null,null,null,null,null,null,0,0,0,1000]
[null,{"$f":"IF(A56<>0,VLOOKUP(A56,Liste!$A$10:$D$159,4,FALSE),\"\")","v":""},0,0,0,0,null,null,0,0,{"$f":"IF(AND($I56=1,$H56>0),VLOOKUP($H56,$A$14:AD$163,11,FALSE),0)","v":0},{"$f":"IF(AND($I56=1,$H56>0),VLOOKUP($H56,$A$14:AE$163,12,FALSE),0)","v":0},{"$f":"IF(AND($I56=1,$H56>0),VLOOKUP($H56,$A$14:AF$163,13,FALSE),0)","v":0},"","","",{"$f":"IF(A56<>0,VLOOKUP(A56,Liste!$A$10:$K$159,8,FALSE),\"\")","v":""},null,null,null,null,null,null,null,null,null,null,0,0,0,1000]
[null,{"$f":"IF(A57<>0,VLOOKUP(A57,Liste!$A$10:$D$159,4,FALSE),\"\")","v":""},0,0,0,0,null,null,0,0,{"$f":"IF(AND($I57=1,$H57>0),VLOOKUP($H57,$A$14:AD$163,11,FALSE),0)","v":0},{"$f":"IF(AND($I57=1,$H57>0),VLOOKUP($H57,$A$14:AE$163,12,FALSE),0)","v":0},{"$f":"IF(AND($I57=1,$H57>0),VLOOKUP($H57,$A$14:AF$163,13,FALSE),0)","v":0},"","","",{"$f":"IF(A57<>0,VLOOKUP(A57,Liste!$A$10:$K$159,8,FALSE),\"\")","v":""},null,null,null,null,null,null,null,null,null,null,0,0,0,1000]
[null,{"$f":"IF(A58<>0,VLOOKUP(A58,Liste!$A$10:$D$159,4,FALSE),\"\")","v":""},0,0,0,0,null,null,0,0,{"$f":"IF(AND($I58=1,$H58>0),VLOOKUP($H58,$A$14:AD$163,11,FALSE),0)","v":0},{"$f":"IF(AND($I58=1,$H58>0),VLOOKUP($H58,$A$14:AE$163,12,FALSE),0)","v":0},{"$f":"IF(AND($I58=1,$H58>0),VLOOKUP($H58,$A$14:AF$163,13,FALSE),0)","v":0},"","","",{"$f":"IF(A58<>0,VLOOKUP(A58,Liste!$A$10:$K$159,8,FALSE),\"\")","v":""},null,null,null,null,null,null,null,null,null,null,0,0,0,1000]
[null,{"$f":"IF(A59<>0,VLOOKUP(A59,Liste!$A$10:$D$159,4,FALSE),\"\")","v":""},0,0,0,0,null,null,0,0,{"$f":"IF(AND($I59=1,$H59>0),VLOOKUP($H59,$A$14:AD$163,11,FALSE),0)","v":0},{"$f":"IF(AND($I59=1,$H59>0),VLOOKUP($H59,$A$14:AE$163,12,FALSE),0)","v":0},{"$f":"IF(AND($I59=1,$H59>0),VLOOKUP($H59,$A$14:AF$163,13,FALSE),0)","v":0},"","","",{"$f":"IF(A59<>0,VLOOKUP(A59,Liste!$A$10:$K$159,8,FALSE),\"\")","v":""},null,null,null,null,null,null,null,null,null,null,0,0,0,1000]
[null,{"$f":"IF(A60<>0,VLOOKUP(A60,Liste!$A$10:$D$159,4,FALSE),\"\")","v":""},0,0,0,0,null,null,0,0,{"$f":"IF(AND($I60=1,$H60>0),VLOOKUP($H60,$A$14:AD$163,11,FALSE),0)","v":0},{"$f":"IF(AND($I60=1,$H60>0),VLOOKUP($H60,$A$14:AE$163,12,FALSE),0)","v":0},{"$f":"IF(AND($I60=1,$H60>0),VLOOKUP($H60,$A$14:AF$163,13,FALSE),0)","v":0},"","","",{"$f":"IF(A60<>0,VLOOKUP(A60,Liste!$A$10:$K$159,8,FALSE),\"\")","v":""},null,null,null,null,null,null,null,null,null,null,0,0,0,1000]
[null,{"$f":"IF(A61<>0,VLOOKUP(A61,Liste!$A$10:$D$159,4,FALSE),\"\")","v":""},0,0,0,0,null,null,0,0,{"$f":"IF(AND($I61=1,$H61>0),VLOOKUP($H61,$A$14:AD$163,11,FALSE),0)","v":0},{"$f":"IF(AND($I61=1,$H61>0),VLOOKUP($H61,$A$14:AE$163,12,FALSE),0)","v":0},{"$f":"IF(AND($I61=1,$H61>0),VLOOKUP($H61,$A$14:AF$163,13,FALSE),0)","v":0},"","","",{"$f":"IF(A61<>0,VLOOKUP(A61,Liste!$A$10:$K$159,8,FALSE),\"\")","v":""},null,null,null,null,null,null,null,null,null,null,0,0,0,1000]
[null,{"$f":"IF(A62<>0,VLOOKUP(A62,Liste!$A$10:$D$159,4,FALSE),\"\")","v":""},0,0,0,0,null,null,0,0,{"$f":"IF(AND($I62=1,$H62>0),VLOOKUP($H62,$A$14:AD$163,11,FALSE),0)","v":0},{"$f":"IF(AND($I62=1,$H62>0),VLOOKUP($H62,$A$14:AE$163,12,FALSE),0)","v":0},{"$f":"IF(AND($I62=1,$H62>0),VLOOKUP($H62,$A$14:AF$163,13,FALSE),0)","v":0},"","","",{"$f":"IF(A62<>0,VLOOKUP(A62,Liste!$A$10:$K$159,8,FALSE),\"\")","v":""},null,null,null,null,null,null,null,null,null,null,0,0,0,1000]
[null,{"$f":"IF(A63<>0,VLOOKUP(A63,Liste!$A$10:$D$159,4,FALSE),\"\")","v":""},0,0,0,0,null,null,0,0,{"$f":"IF(AND($I63=1,$H63>0),VLOOKUP($H63,$A$14:AD$163,11,FALSE),0)","v":0},{"$f":"IF(AND($I63=1,$H63>0),VLOOKUP($H63,$A$14:AE$163,12,FALSE),0)","v":0},{"$f":"IF(AND($I63=1,$H63>0),VLOOKUP($H63,$A$14:AF$163,13,FALSE),0)","v":0},"","","",{"$f":"IF(A63<>0,VLOOKUP(A63,Liste!$A$10:$K$159,8,FALSE),\"\")","v":""},null,null,null,null,null,null,null,null,null,null,0,0,0,1000]
[null,{"$f":"IF(A64<>0,VLOOKUP(A64,Liste!$A$10:$D$159,4,FALSE),\"\")","v":""},0,0,0,0,null,null,0,0,{"$f":"IF(AND($I64=1,$H64>0),VLOOKUP($H64,$A$14:AD$163,11,FALSE),0)","v":0},{"$f":"IF(AND($I64=1,$H64>0),VLOOKUP($H64,$A$14:AE$163,12,FALSE),0)","v":0},{"$f":"IF(AND($I64=1,$H64>0),VLOOKUP($H64,$A$14:AF$163,13,FALSE),0)","v":0},"","","",{"$f":"IF(A64<>0,VLOOKUP(A64,Liste!$A$10:$K$159,8,FALSE),\"\")","v":""},null,null,null,null,null,null,null,null,null,null,0,0,0,1000]
[null,{"$f":"IF(A65<>0,VLOOKUP(A65,Liste!$A$10:$D$159,4,FALSE),\"\")","v":""},0,0,0,0,null,null,0,0,{"$f":"IF(AND($I65=1,$H65>0),VLOOKUP($H65,$A$14:AD$163,11,FALSE),0)","v":0},{"$f":"IF(AND($I65=1,$H65>0),VLOOKUP($H65,$A$14:AE$163,12,FALSE),0)","v":0},{"$f":"IF(AND($I65=1,$H65>0),VLOOKUP($H65,$A$14:AF$163,13,FALSE),0)","v":0},"","","",{"$f":"IF(A65<>0,VLOOKUP(A65,Liste!$A$10:$K$159,8,FALSE),\"\")","v":""},null,null,null,null,null,null,null,null,null,null,0,0,0,1000]
[null,{"$f":"IF(A66<>0,VLOOKUP(A66,Liste!$A$10:$D$159,4,FALSE),\"\")","v":""},0,0,0,0,null,null,0,0,{"$f":"IF(AND($I66=1,$H66>0),VLOOKUP($H66,$A$14:AD$163,11,FALSE),0)","v":0},{"$f":"IF(AND($I66=1,$H66>0),VLOOKUP($H66,$A$14:AE$163,12,FALSE),0)","v":0},{"$f":"IF(AND($I66=1,$H66>0),VLOOKUP($H66,$A$14:AF$163,13,FALSE),0)","v":0},"","","",{"$f":"IF(A66<>0,VLOOKUP(A66,Liste!$A$10:$K$159,8,FALSE),\"\")","v":""},null,null,null,null,null,null,null,null,null,null,0,0,0,1000]
[null,{"$f":"IF(A67<>0,VLOOKUP(A67,Liste!$A$10:$D$159,4,FALSE),\"\")","v":""},0,0,0,0,null,null,0,0,{"$f":"IF(AND($I67=1,$H67>0),VLOOKUP($H67,$A$14:AD$163,11,FALSE),0)","v":0},{"$f":"IF(AND($I67=1,$H67>0),VLOOKUP($H67,$A$14:AE$163,12,FALSE),0)","v":0},{"$f":"IF(AND($I67=1,$H67>0),VLOOKUP($H67,$A$14:AF$163,13,FALSE),0)","v":0},"","","",{"$f":"IF(A67<>0,VLOOKUP(A67,Liste!$A$10:$K$159,8,FALSE),\"\")","v":""},null,null,null,null,null,null,null,null,null,null,0,0,0,1000]
[null,{"$f":"IF(A68<>0,VLOOKUP(A68,Liste!$A$10:$D$159,4,FALSE),\"\")","v":""},0,0,0,0,null,null,0,0,{"$f":"IF(AND($I68=1,$H68>0),VLOOKUP($H68,$A$14:AD$163,11,FALSE),0)","v":0},{"$f":"IF(AND($I68=1,$H68>0),VLOOKUP($H68,$A$14:AE$163,12,FALSE),0)","v":0},{"$f":"IF(AND($I68=1,$H68>0),VLOOKUP($H68,$A$14:AF$163,13,FALSE),0)","v":0},"","","",{"$f":"IF(A68<>0,VLOOKUP(A68,Liste!$A$10:$K$159,8,FALSE),\"\")","v":""},null,null,null,null,null,null,null,null,null,null,0,0,0,1000]
[null,{"$f":"IF(A69<>0,VLOOKUP(A69,Liste!$A$10:$D$159,4,FALSE),\"\")","v":""},0,0,0,0,null,null,0,0,{"$f":"IF(AND($I69=1,$H69>0),VLOOKUP($H69,$A$14:AD$163,11,FALSE),0)","v":0},{"$f":"IF(AND($I69=1,$H69>0),VLOOKUP($H69,$A$14:AE$163,12,FALSE),0)","v":0},{"$f":"IF(AND($I69=1,$H69>0),VLOOKUP($H69,$A$14:AF$163,13,FALSE),0)","v":0},"","","",{"$f":"IF(A69<>0,VLOOKUP(A69,Liste!$A$10:$K$159,8,FALSE),\"\")","v":""},null,null,null,null,null,null,null,null,null,null,0,0,0,1000]
[null,{"$f":"IF(A70<>0,VLOOKUP(A70,Liste!$A$10:$D$159,4,FALSE),\"\")","v":""},0,0,0,0,null,null,0,0,{"$f":"IF(AND($I70=1,$H70>0),VLOOKUP($H70,$A$14:AD$163,11,FALSE),0)","v":0},{"$f":"IF(AND($I70=1,$H70>0),VLOOKUP($H70,$A$14:AE$163,12,FALSE),0)","v":0},{"$f":"IF(AND($I70=1,$H70>0),VLOOKUP($H70,$A$14:AF$163,13,FALSE),0)","v":0},"","","",{"$f":"IF(A70<>0,VLOOKUP(A70,Liste!$A$10:$K$159,8,FALSE),\"\")","v":""},null,null,null,null,null,null,null,null,null,null,0,0,0,1000]
[null,{"$f":"IF(A71<>0,VLOOKUP(A71,Liste!$A$10:$D$159,4,FALSE),\"\")","v":""},0,0,0,0,null,null,0,0,{"$f":"IF(AND($I71=1,$H71>0),VLOOKUP($H71,$A$14:AD$163,11,FALSE),0)","v":0},{"$f":"IF(AND($I71=1,$H71>0),VLOOKUP($H71,$A$14:AE$163,12,FALSE),0)","v":0},{"$f":"IF(AND($I71=1,$H71>0),VLOOKUP($H71,$A$14:AF$163,13,FALSE),0)","v":0},"","","",{"$f":"IF(A71<>0,VLOOKUP(A71,Liste!$A$10:$K$159,8,FALSE),\"\")","v":""},null,null,null,null,null,null,null,null,null,null,0,0,0,1000]
[null,{"$f":"IF(A72<>0,VLOOKUP(A72,Liste!$A$10:$D$159,4,FALSE),\"\")","v":""},0,0,0,0,null,null,0,0,{"$f":"IF(AND($I72=1,$H72>0),VLOOKUP($H72,$A$14:AD$163,11,FALSE),0)","v":0},{"$f":"IF(AND($I72=1,$H72>0),VLOOKUP($H72,$A$14:AE$163,12,FALSE),0)","v":0},{"$f":"IF(AND($I72=1,$H72>0),VLOOKUP($H72,$A$14:AF$163,13,FALSE),0)","v":0},"","","",{"$f":"IF(A72<>0,VLOOKUP(A72,Liste!$A$10:$K$159,8,FALSE),\"\")","v":""},null,null,null,null,null,null,null,null,null,null,0,0,0,1000]
[null,{"$f":"IF(A73<>0,VLOOKUP(A73,Liste!$A$10:$D$159,4,FALSE),\"\")","v":""},0,0,0,0,null,null,0,0,{"$f":"IF(AND($I73=1,$H73>0),VLOOKUP($H73,$A$14:AD$163,11,FALSE),0)","v":0},{"$f":"IF(AND($I73=1,$H73>0),VLOOKUP($H73,$A$14:AE$163,12,FALSE),0)","v":0},{"$f":"IF(AND($I73=1,$H73>0),VLOOKUP($H73,$A$14:AF$163,13,FALSE),0)","v":0},"","","",{"$f":"IF(A73<>0,VLOOKUP(A73,Liste!$A$10:$K$159,8,FALSE),\"\")","v":""},null,null,null,null,null,null,null,null,null,null,0,0,0,1000]
[null,{"$f":"IF(A74<>0,VLOOKUP(A74,Liste!$A$10:$D$159,4,FALSE),\"\")","v":""},0,0,0,0,null,null,0,0,{"$f":"IF(AND($I74=1,$H74>0),VLOOKUP($H74,$A$14:AD$163,11,FALSE),0)","v":0},{"$f":"IF(AND($I74=1,$H74>0),VLOOKUP($H74,$A$14:AE$163,12,FALSE),0)","v":0},{"$f":"IF(AND($I74=1,$H74>0),VLOOKUP($H74,$A$14:AF$163,13,FALSE),0)","v":0},"","","",{"$f":"IF(A74<>0,VLOOKUP(A74,Liste!$A$10:$K$159,8,FALSE),\"\")","v":""},null,null,null,null,null,null,null,null,null,null,0,0,0,1000]
[null,{"$f":"IF(A75<>0,VLOOKUP(A75,Liste!$A$10:$D$159,4,FALSE),\"\")","v":""},0,0,0,0,null,null,0,0,{"$f":"IF(AND($I75=1,$H75>0),VLOOKUP($H75,$A$14:AD$163,11,FALSE),0)","v":0},{"$f":"IF(AND($I75=1,$H75>0),VLOOKUP($H75,$A$14:AE$163,12,FALSE),0)","v":0},{"$f":"IF(AND($I75=1,$H75>0),VLOOKUP($H75,$A$14:AF$163,13,FALSE),0)","v":0},"","","",{"$f":"IF(A75<>0,VLOOKUP(A75,Liste!$A$10:$K$159,8,FALSE),\"\")","v":""},null,null,null,null,null,null,null,null,null,null,0,0,0,1000]
[null,{"$f":"IF(A76<>0,VLOOKUP(A76,Liste!$A$10:$D$159,4,FALSE),\"\")","v":""},0,0,0,0,null,null,0,0,{"$f":"IF(AND($I76=1,$H76>0),VLOOKUP($H76,$A$14:AD$163,11,FALSE),0)","v":0},{"$f":"IF(AND($I76=1,$H76>0),VLOOKUP($H76,$A$14:AE$163,12,FALSE),0)","v":0},{"$f":"IF(AND($I76=1,$H76>0),VLOOKUP($H76,$A$14:AF$163,13,FALSE),0)","v":0},"","","",{"$f":"IF(A76<>0,VLOOKUP(A76,Liste!$A$10:$K$159,8,FALSE),\"\")","v":""},null,null,null,null,null,null,null,null,null,null,0,0,0,1000]
[null,{"$f":"IF(A77<>0,VLOOKUP(A77,Liste!$A$10:$D$159,4,FALSE),\"\")","v":""},0,0,0,0,null,null,0,0,{"$f":"IF(AND($I77=1,$H77>0),VLOOKUP($H77,$A$14:AD$163,11,FALSE),0)","v":0},{"$f":"IF(AND($I77=1,$H77>0),VLOOKUP($H77,$A$14:AE$163,12,FALSE),0)","v":0},{"$f":"IF(AND($I77=1,$H77>0),VLOOKUP($H77,$A$14:AF$163,13,FALSE),0)","v":0},"","","",{"$f":"IF(A77<>0,VLOOKUP(A77,Liste!$A$10:$K$159,8,FALSE),\"\")","v":""},null,null,null,null,null,null,null,null,null,null,0,0,0,1000]
[null,{"$f":"IF(A78<>0,VLOOKUP(A78,Liste!$A$10:$D$159,4,FALSE),\"\")","v":""},{"$f":"F78*(K78=1)","v":0},{"$f":"F78*(L78=1)","v":0},{"$f":"F78*(M78=1)","v":0},{"$f":"IF(I78=1,VLOOKUP(A78,$A$14:$AA$163,16+$B$4,0),0)","v":0},null,null,{"$f":"1*(IF(G78>=1,VLOOKUP(A78,$A$14:$AA$163,16+$B$4,0)>0))","v":0},{"$f":"IF(F78>0,F78,0)","v":0},{"$f":"IF(AND($I78=1,$H78>0),VLOOKUP($H78,$A$14:AD$163,11,FALSE),0)","v":0},{"$f":"IF(AND($I78=1,$H78>0),VLOOKUP($H78,$A$14:AE$163,12,FALSE),0)","v":0},{"$f":"IF(AND($I78=1,$H78>0),VLOOKUP($H78,$A$14:AF$163,13,FALSE),0)","v":0},{"$f":"IF(AND(I78>0,K78+L78+M78=0),\"EN ATTENTE\",IF(K78+L78+M78>1,\"ERREUR\",\"\"))","v":""},{"$f":"IF(AND(AC78>3,AD78>$D$10*$O$12),1,\"\")","v":""},{"$f":"IF(I78=1,K78*(K78=1)+L78*2*(L78=1)+M78*3*(M78=1),\"\")","v":""},{"$f":"IF(A78<>0,VLOOKUP(A78,Liste!$A$10:$K$159,8,FALSE),\"\")","v":""},null,null,null,null,null,null,null,null,null,null,{"$f":"(H78+I78)*(J78>0)","v":0},{"$f":"COUNTIF($H$14:$H$163,A78)","v":0},{"$f":"SUMIF($H$14:$H$163,A78,$J$14:$J$163)+(J78*(AC78>0))","v":0},{"$f":"IF(H78>0,H78+0.5*(I78=1),A78*(I78=1))+(1000*(I78<1))","v":1000}]
[null,{"$f":"IF(A79<>0,VLOOKUP(A79,Liste!$A$10:$D$159,4,FALSE),\"\")","v":""},0,0,0,0,null,null,0,0,{"$f":"IF(AND($I79=1,$H79>0),VLOOKUP($H79,$A$14:AD$163,11,FALSE),0)","v":0},{"$f":"IF(AND($I79=1,$H79>0),VLOOKUP($H79,$A$14:AE$163,12,FALSE),0)","v":0},{"$f":"IF(AND($I79=1,$H79>0),VLOOKUP($H79,$A$14:AF$163,13,FALSE),0)","v":0},"","","",{"$f":"IF(A79<>0,VLOOKUP(A79,Liste!$A$10:$K$159,8,FALSE),\"\")","v":""},null,null,null,null,null,null,null,null,null,null,0,0,0,1000]
[null,{"$f":"IF(A80<>0,VLOOKUP(A80,Liste!$A$10:$D$159,4,FALSE),\"\")","v":""},0,0,0,0,null,null,0,0,{"$f":"IF(AND($I80=1,$H80>0),VLOOKUP($H80,$A$14:AD$163,11,FALSE),0)","v":0},{"$f":"IF(AND($I80=1,$H80>0),VLOOKUP($H80,$A$14:AE$163,12,FALSE),0)","v":0},{"$f":"IF(AND($I80=1,$H80>0),VLOOKUP($H80,$A$14:AF$163,13,FALSE),0)","v":0},"","","",{"$f":"IF(A80<>0,VLOOKUP(A80,Liste!$A$10:$K$159,8,FALSE),\"\")","v":""},null,null,null,null,null,null,null,null,null,null,0,0,0,1000]
[null,{"$f":"IF(A81<>0,VLOOKUP(A81,Liste!$A$10:$D$159,4,FALSE),\"\")","v":""},0,0,0,0,null,null,0,0,{"$f":"IF(AND($I81=1,$H81>0),VLOOKUP($H81,$A$14:AD$163,11,FALSE),0)","v":0},{"$f":"IF(AND($I81=1,$H81>0),VLOOKUP($H81,$A$14:AE$163,12,FALSE),0)","v":0},{"$f":"IF(AND($I81=1,$H81>0),VLOOKUP($H81,$A$14:AF$163,13,FALSE),0)","v":0},"","","",{"$f":"IF(A81<>0,VLOOKUP(A81,Liste!$A$10:$K$159,8,FALSE),\"\")","v":""},null,null,null,null,null,null,null,null,null,null,0,0,0,1000]
[null,{"$f":"IF(A82<>0,VLOOKUP(A82,Liste!$A$10:$D$159,4,FALSE),\"\")","v":""},0,0,0,0,null,null,0,0,{"$f":"IF(AND($I82=1,$H82>0),VLOOKUP($H82,$A$14:AD$163,11,FALSE),0)","v":0},{"$f":"IF(AND($I82=1,$H82>0),VLOOKUP($H82,$A$14:AE$163,12,FALSE),0)","v":0},{"$f":"IF(AND($I82=1,$H82>0),VLOOKUP($H82,$A$14:AF$163,13,FALSE),0)","v":0},"","","",{"$f":"IF(A82<>0,VLOOKUP(A82,Liste!$A$10:$K$159,8,FALSE),\"\")","v":""},null,null,null,null,null,null,null,null,null,null,0,0,0,1000]
[null,{"$f":"IF(A83<>0,VLOOKUP(A83,Liste!$A$10:$D$159,4,FALSE),\"\")","v":""},0,0,0,0,null,null,0,0,{"$f":"IF(AND($I83=1,$H83>0),VLOOKUP($H83,$A$14:AD$163,11,FALSE),0)","v":0},{"$f":"IF(AND($I83=1,$H83>0),VLOOKUP($H83,$A$14:AE$163,12,FALSE),0)","v":0},{"$f":"IF(AND($I83=1,$H83>0),VLOOKUP($H83,$A$14:AF$163,13,FALSE),0)","v":0},"","","",{"$f":"IF(A83<>0,VLOOKUP(A83,Liste!$A$10:$K$159,8,FALSE),\"\")","v":""},null,null,null,null,null,null,null,null,null,null,0,0,0,1000]
[null,{"$f":"IF(A84<>0,VLOOKUP(A84,Liste!$A$10:$D$159,4,FALSE),\"\")","v":""},0,0,0,0,null,null,0,0,{"$f":"IF(AND($I84=1,$H84>0),VLOOKUP($H84,$A$14:AD$163,11,FALSE),0)","v":0},{"$f":"IF(AND($I84=1,$H84>0),VLOOKUP($H84,$A$14:AE$163,12,FALSE),0)","v":0},{"$f":"IF(AND($I84=1,$H84>0),VLOOKUP($H84,$A$14:AF$163,13,FALSE),0)","v":0},"","","",{"$f":"IF(A84<>0,VLOOKUP(A84,Liste!$A$10:$K$159,8,FALSE),\"\")","v":""},null,null,null,null,null,null,null,null,null,null,0,0,0,1000]
[null,{"$f":"IF(A85<>0,VLOOKUP(A85,Liste!$A$10:$D$159,4,FALSE),\"\")","v":""},0,0,0,0,null,null,0,0,{"$f":"IF(AND($I85=1,$H85>0),VLOOKUP($H85,$A$14:AD$163,11,FALSE),0)","v":0},{"$f":"IF(AND($I85=1,$H85>0),VLOOKUP($H85,$A$14:AE$163,12,FALSE),0)","v":0},{"$f":"IF(AND($I85=1,$H85>0),VLOOKUP($H85,$A$14:AF$163,13,FALSE),0)","v":0},"","","",{"$f":"IF(A85<>0,VLOOKUP(A85,Liste!$A$10:$K$159,8,FALSE),\"\")","v":""},null,null,null,null,null,null,null,null,null,null,0,0,0,1000]
[null,{"$f":"IF(A86<>0,VLOOKUP(A86,Liste!$A$10:$D$159,4,FALSE),\"\")","v":""},0,0,0,0,null,null,0,0,{"$f":"IF(AND($I86=1,$H86>0),VLOOKUP($H86,$A$14:AD$163,11,FALSE),0)","v":0},{"$f":"IF(AND($I86=1,$H86>0),VLOOKUP($H86,$A$14:AE$163,12,FALSE),0)","v":0},{"$f":"IF(AND($I86=1,$H86>0),VLOOKUP($H86,$A$14:AF$163,13,FALSE),0)","v":0},"","","",{"$f":"IF(A86<>0,VLOOKUP(A86,Liste!$A$10:$K$159,8,FALSE),\"\")","v":""},null,null,null,null,null,null,null,null,null,null,0,0,0,1000]
[null,{"$f":"IF(A87<>0,VLOOKUP(A87,Liste!$A$10:$D$159,4,FALSE),\"\")","v":""},0,0,0,0,null,null,0,0,{"$f":"IF(AND($I87=1,$H87>0),VLOOKUP($H87,$A$14:AD$163,11,FALSE),0)","v":0},{"$f":"IF(AND($I87=1,$H87>0),VLOOKUP($H87,$A$14:AE$163,12,FALSE),0)","v":0},{"$f":"IF(AND($I87=1,$H87>0),VLOOKUP($H87,$A$14:AF$163,13,FALSE),0)","v":0},"","","",{"$f":"IF(A87<>0,VLOOKUP(A87,Liste!$A$10:$K$159,8,FALSE),\"\")","v":""},null,null,null,null,null,null,null,null,null,null,0,0,0,1000]
[null,{"$f":"IF(A88<>0,VLOOKUP(A88,Liste!$A$10:$D$159,4,FALSE),\"\")","v":""},0,0,0,0,null,null,0,0,{"$f":"IF(AND($I88=1,$H88>0),VLOOKUP($H88,$A$14:AD$163,11,FALSE),0)","v":0},{"$f":"IF(AND($I88=1,$H88>0),VLOOKUP($H88,$A$14:AE$163,12,FALSE),0)","v":0},{"$f":"IF(AND($I88=1,$H88>0),VLOOKUP($H88,$A$14:AF$163,13,FALSE),0)","v":0},"","","",{"$f":"IF(A88<>0,VLOOKUP(A88,Liste!$A$10:$K$159,8,FALSE),\"\")","v":""},null,null,null,null,null,null,null,null,null,null,0,0,0,1000]
[null,{"$f":"IF(A89<>0,VLOOKUP(A89,Liste!$A$10:$D$159,4,FALSE),\"\")","v":""},0,0,0,0,null,null,0,0,{"$f":"IF(AND($I89=1,$H89>0),VLOOKUP($H89,$A$14:AD$163,11,FALSE),0)","v":0},{"$f":"IF(AND($I89=1,$H89>0),VLOOKUP($H89,$A$14:AE$163,12,FALSE),0)","v":0},{"$f":"IF(AND($I89=1,$H89>0),VLOOKUP($H89,$A$14:AF$163,13,FALSE),0)","v":0},"","","",{"$f":"IF(A89<>0,VLOOKUP(A89,Liste!$A$10:$K$159,8,FALSE),\"\")","v":""},null,null,null,null,null,null,null,null,null,null,0,0,0,1000]
[null,{"$f":"IF(A90<>0,VLOOKUP(A90,Liste!$A$10:$D$159,4,FALSE),\"\")","v":""},0,0,0,0,null,null,0,0,{"$f":"IF(AND($I90=1,$H90>0),VLOOKUP($H90,$A$14:AD$163,11,FALSE),0)","v":0},{"$f":"IF(AND($I90=1,$H90>0),VLOOKUP($H90,$A$14:AE$163,12,FALSE),0)","v":0},{"$f":"IF(AND($I90=1,$H90>0),VLOOKUP($H90,$A$14:AF$163,13,FALSE),0)","v":0},"","","",{"$f":"IF(A90<>0,VLOOKUP(A90,Liste!$A$10:$K$159,8,FALSE),\"\")","v":""},null,null,null,null,null,null,null,null,null,null,0,0,0,1000]
[null,{"$f":"IF(A91<>0,VLOOKUP(A91,Liste!$A$10:$D$159,4,FALSE),\"\")","v":""},0,0,0,0,null,null,0,0,{"$f":"IF(AND($I91=1,$H91>0),VLOOKUP($H91,$A$14:AD$163,11,FALSE),0)","v":0},{"$f":"IF(AND($I91=1,$H91>0),VLOOKUP($H91,$A$14:AE$163,12,FALSE),0)","v":0},{"$f":"IF(AND($I91=1,$H91>0),VLOOKUP($H91,$A$14:AF$163,13,FALSE),0)","v":0},"","","",{"$f":"IF(A91<>0,VLOOKUP(A91,Liste!$A$10:$K$159,8,FALSE),\"\")","v":""},null,null,null,null,null,null,null,null,null,null,0,0,0,1000]
[null,{"$f":"IF(A92<>0,VLOOKUP(A92,Liste!$A$10:$D$159,4,FALSE),\"\")","v":""},0,0,0,0,null,null,0,0,{"$f":"IF(AND($I92=1,$H92>0),VLOOKUP($H92,$A$14:AD$163,11,FALSE),0)","v":0},{"$f":"IF(AND($I92=1,$H92>0),VLOOKUP($H92,$A$14:AE$163,12,FALSE),0)","v":0},{"$f":"IF(AND($I92=1,$H92>0),VLOOKUP($H92,$A$14:AF$163,13,FALSE),0)","v":0},"","","",{"$f":"IF(A92<>0,VLOOKUP(A92,Liste!$A$10:$K$159,8,FALSE),\"\")","v":""},null,null,null,null,null,null,null,null,null,null,0,0,0,1000]
[null,{"$f":"IF(A93<>0,VLOOKUP(A93,Liste!$A$10:$D$159,4,FALSE),\"\")","v":""},0,0,0,0,null,null,0,0,{"$f":"IF(AND($I93=1,$H93>0),VLOOKUP($H93,$A$14:AD$163,11,FALSE),0)","v":0},{"$f":"IF(AND($I93=1,$H93>0),VLOOKUP($H93,$A$14:AE$163,12,FALSE),0)","v":0},{"$f":"IF(AND($I93=1,$H93>0),VLOOKUP($H93,$A$14:AF$163,13,FALSE),0)","v":0},"","","",{"$f":"IF(A93<>0,VLOOKUP(A93,Liste!$A$10:$K$159,8,FALSE),\"\")","v":""},null,null,null,null,null,null,null,null,null,null,0,0,0,1000]
[null,{"$f":"IF(A94<>0,VLOOKUP(A94,Liste!$A$10:$D$159,4,FALSE),\"\")","v":""},0,0,0,0,null,null,0,0,{"$f":"IF(AND($I94=1,$H94>0),VLOOKUP($H94,$A$14:AD$163,11,FALSE),0)","v":0},{"$f":"IF(AND($I94=1,$H94>0),VLOOKUP($H94,$A$14:AE$163,12,FALSE),0)","v":0},{"$f":"IF(AND($I94=1,$H94>0),VLOOKUP($H94,$A$14:AF$163,13,FALSE),0)","v":0},"","","",{"$f":"IF(A94<>0,VLOOKUP(A94,Liste!$A$10:$K$159,8,FALSE),\"\")","v":""},null,null,null,null,null,null,null,null,null,null,0,0,0,1000]
[null,{"$f":"IF(A95<>0,VLOOKUP(A95,Liste!$A$10:$D$159,4,FALSE),\"\")","v":""},0,0,0,0,null,null,0,0,{"$f":"IF(AND($I95=1,$H95>0),VLOOKUP($H95,$A$14:AD$163,11,FALSE),0)","v":0},{"$f":"IF(AND($I95=1,$H95>0),VLOOKUP($H95,$A$14:AE$163,12,FALSE),0)","v":0},{"$f":"IF(AND($I95=1,$H95>0),VLOOKUP($H95,$A$14:AF$163,13,FALSE),0)","v":0},"","","",{"$f":"IF(A95<>0,VLOOKUP(A95,Liste!$A$10:$K$159,8,FALSE),\"\")","v":""},null,null,null,null,null,null,null,null,null,null,0,0,0,1000]
[null,{"$f":"IF(A96<>0,VLOOKUP(A96,Liste!$A$10:$D$159,4,FALSE),\"\")","v":""},0,0,0,0,null,null,0,0,{"$f":"IF(AND($I96=1,$H96>0),VLOOKUP($H96,$A$14:AD$163,11,FALSE),0)","v":0},{"$f":"IF(AND($I96=1,$H96>0),VLOOKUP($H96,$A$14:AE$163,12,FALSE),0)","v":0},{"$f":"IF(AND($I96=1,$H96>0),VLOOKUP($H96,$A$14:AF$163,13,FALSE),0)","v":0},"","","",{"$f":"IF(A96<>0,VLOOKUP(A96,Liste!$A$10:$K$159,8,FALSE),\"\")","v":""},null,null,null,null,null,null,null,null,null,null,0,0,0,1000]
[null,{"$f":"IF(A97<>0,VLOOKUP(A97,Liste!$A$10:$D$159,4,FALSE),\"\")","v":""},0,0,0,0,null,null,0,0,{"$f":"IF(AND($I97=1,$H97>0),VLOOKUP($H97,$A$14:AD$163,11,FALSE),0)","v":0},{"$f":"IF(AND($I97=1,$H97>0),VLOOKUP($H97,$A$14:AE$163,12,FALSE),0)","v":0},{"$f":"IF(AND($I97=1,$H97>0),VLOOKUP($H97,$A$14:AF$163,13,FALSE),0)","v":0},"","","",{"$f":"IF(A97<>0,VLOOKUP(A97,Liste!$A$10:$K$159,8,FALSE),\"\")","v":""},null,null,null,null,null,null,null,null,null,null,0,0,0,1000]
[null,{"$f":"IF(A98<>0,VLOOKUP(A98,Liste!$A$10:$D$159,4,FALSE),\"\")","v":""},0,0,0,0,null,null,0,0,{"$f":"IF(AND($I98=1,$H98>0),VLOOKUP($H98,$A$14:AD$163,11,FALSE),0)","v":0},{"$f":"IF(AND($I98=1,$H98>0),VLOOKUP($H98,$A$14:AE$163,12,FALSE),0)","v":0},{"$f":"IF(AND($I98=1,$H98>0),VLOOKUP($H98,$A$14:AF$163,13,FALSE),0)","v":0},"","","",{"$f":"IF(A98<>0,VLOOKUP(A98,Liste!$A$10:$K$159,8,FALSE),\"\")","v":""},null,null,null,null,null,null,null,null,null,null,0,0,0,1000]
[null,{"$f":"IF(A99<>0,VLOOKUP(A99,Liste!$A$10:$D$159,4,FALSE),\"\")","v":""},0,0,0,0,null,null,0,0,{"$f":"IF(AND($I99=1,$H99>0),VLOOKUP($H99,$A$14:AD$163,11,FALSE),0)","v":0},{"$f":"IF(AND($I99=1,$H99>0),VLOOKUP($H99,$A$14:AE$163,12,FALSE),0)","v":0},{"$f":"IF(AND($I99=1,$H99>0),VLOOKUP($H99,$A$14:AF$163,13,FALSE),0)","v":0},"","","",{"$f":"IF(A99<>0,VLOOKUP(A99,Liste!$A$10:$K$159,8,FALSE),\"\")","v":""},null,null,null,null,null,null,null,null,null,null,0,0,0,1000]
[null,{"$f":"IF(A100<>0,VLOOKUP(A100,Liste!$A$10:$D$159,4,FALSE),\"\")","v":""},0,0,0,0,null,null,0,0,{"$f":"IF(AND($I100=1,$H100>0),VLOOKUP($H100,$A$14:AD$163,11,FALSE),0)","v":0},{"$f":"IF(AND($I100=1,$H100>0),VLOOKUP($H100,$A$14:AE$163,12,FALSE),0)","v":0},{"$f":"IF(AND($I100=1,$H100>0),VLOOKUP($H100,$A$14:AF$163,13,FALSE),0)","v":0},"","","",{"$f":"IF(A100<>0,VLOOKUP(A100,Liste!$A$10:$K$159,8,FALSE),\"\")","v":""},null,null,null,null,null,null,null,null,null,null,0,0,0,1000]
[null,{"$f":"IF(A101<>0,VLOOKUP(A101,Liste!$A$10:$D$159,4,FALSE),\"\")","v":""},0,0,0,0,null,null,0,0,{"$f":"IF(AND($I101=1,$H101>0),VLOOKUP($H101,$A$14:AD$163,11,FALSE),0)","v":0},{"$f":"IF(AND($I101=1,$H101>0),VLOOKUP($H101,$A$14:AE$163,12,FALSE),0)","v":0},{"$f":"IF(AND($I101=1,$H101>0),VLOOKUP($H101,$A$14:AF$163,13,FALSE),0)","v":0},"","","",{"$f":"IF(A101<>0,VLOOKUP(A101,Liste!$A$10:$K$159,8,FALSE),\"\")","v":""},null,null,null,null,null,null,null,null,null,null,0,0,0,1000]
[null,{"$f":"IF(A102<>0,VLOOKUP(A102,Liste!$A$10:$D$159,4,FALSE),\"\")","v":""},0,0,0,0,null,null,0,0,{"$f":"IF(AND($I102=1,$H102>0),VLOOKUP($H102,$A$14:AD$163,11,FALSE),0)","v":0},{"$f":"IF(AND($I102=1,$H102>0),VLOOKUP($H102,$A$14:AE$163,12,FALSE),0)","v":0},{"$f":"IF(AND($I102=1,$H102>0),VLOOKUP($H102,$A$14:AF$163,13,FALSE),0)","v":0},"","","",{"$f":"IF(A102<>0,VLOOKUP(A102,Liste!$A$10:$K$159,8,FALSE),\"\")","v":""},null,null,null,null,null,null,null,null,null,null,0,0,0,1000]
[null,{"$f":"IF(A103<>0,VLOOKUP(A103,Liste!$A$10:$D$159,4,FALSE),\"\")","v":""},0,0,0,0,null,null,0,0,{"$f":"IF(AND($I103=1,$H103>0),VLOOKUP($H103,$A$14:AD$163,11,FALSE),0)","v":0},{"$f":"IF(AND($I103=1,$H103>0),VLOOKUP($H103,$A$14:AE$163,12,FALSE),0)","v":0},{"$f":"IF(AND($I103=1,$H103>0),VLOOKUP($H103,$A$14:AF$163,13,FALSE),0)","v":0},"","","",{"$f":"IF(A103<>0,VLOOKUP(A103,Liste!$A$10:$K$159,8,FALSE),\"\")","v":""},null,null,null,null,null,null,null,null,null,null,0,0,0,1000]
[null,{"$f":"IF(A104<>0,VLOOKUP(A104,Liste!$A$10:$D$159,4,FALSE),\"\")","v":""},0,0,0,0,null,null,0,0,{"$f":"IF(AND($I104=1,$H104>0),VLOOKUP($H104,$A$14:AD$163,11,FALSE),0)","v":0},{"$f":"IF(AND($I104=1,$H104>0),VLOOKUP($H104,$A$14:AE$163,12,FALSE),0)","v":0},{"$f":"IF(AND($I104=1,$H104>0),VLOOKUP($H104,$A$14:AF$163,13,FALSE),0)","v":0},"","","",{"$f":"IF(A104<>0,VLOOKUP(A104,Liste!$A$10:$K$159,8,FALSE),\"\")","v":""},null,null,null,null,null,null,null,null,null,null,0,0,0,1000]
[null,{"$f":"IF(A105<>0,VLOOKUP(A105,Liste!$A$10:$D$159,4,FALSE),\"\")","v":""},0,0,0,0,null,null,0,0,{"$f":"IF(AND($I105=1,$H105>0),VLOOKUP($H105,$A$14:AD$163,11,FALSE),0)","v":0},{"$f":"IF(AND($I105=1,$H105>0),VLOOKUP($H105,$A$14:AE$163,12,FALSE),0)","v":0},{"$f":"IF(AND($I105=1,$H105>0),VLOOKUP($H105,$A$14:AF$163,13,FALSE),0)","v":0},"","","",{"$f":"IF(A105<>0,VLOOKUP(A105,Liste!$A$10:$K$159,8,FALSE),\"\")","v":""},null,null,null,null,null,null,null,null,null,null,0,0,0,1000]
[null,{"$f":"IF(A106<>0,VLOOKUP(A106,Liste!$A$10:$D$159,4,FALSE),\"\")","v":""},0,0,0,0,null,null,0,0,{"$f":"IF(AND($I106=1,$H106>0),VLOOKUP($H106,$A$14:AD$163,11,FALSE),0)","v":0},{"$f":"IF(AND($I106=1,$H106>0),VLOOKUP($H106,$A$14:AE$163,12,FALSE),0)","v":0},{"$f":"IF(AND($I106=1,$H106>0),VLOOKUP($H106,$A$14:AF$163,13,FALSE),0)","v":0},"","","",{"$f":"IF(A106<>0,VLOOKUP(A106,Liste!$A$10:$K$159,8,FALSE),\"\")","v":""},null,null,null,null,null,null,null,null,null,null,0,0,0,1000]
[null,{"$f":"IF(A107<>0,VLOOKUP(A107,Liste!$A$10:$D$159,4,FALSE),\"\")","v":""},0,0,0,0,null,null,0,0,{"$f":"IF(AND($I107=1,$H107>0),VLOOKUP($H107,$A$14:AD$163,11,FALSE),0)","v":0},{"$f":"IF(AND($I107=1,$H107>0),VLOOKUP($H107,$A$14:AE$163,12,FALSE),0)","v":0},{"$f":"IF(AND($I107=1,$H107>0),VLOOKUP($H107,$A$14:AF$163,13,FALSE),0)","v":0},"","","",{"$f":"IF(A107<>0,VLOOKUP(A107,Liste!$A$10:$K$159,8,FALSE),\"\")","v":""},null,null,null,null,null,null,null,null,null,null,0,0,0,1000]
[null,{"$f":"IF(A108<>0,VLOOKUP(A108,Liste!$A$10:$D$159,4,FALSE),\"\")","v":""},0,0,0,0,null,null,0,0,{"$f":"IF(AND($I108=1,$H108>0),VLOOKUP($H108,$A$14:AD$163,11,FALSE),0)","v":0},{"$f":"IF(AND($I108=1,$H108>0),VLOOKUP($H108,$A$14:AE$163,12,FALSE),0)","v":0},{"$f":"IF(AND($I108=1,$H108>0),VLOOKUP($H108,$A$14:AF$163,13,FALSE),0)","v":0},"","","",{"$f":"IF(A108<>0,VLOOKUP(A108,Liste!$A$10:$K$159,8,FALSE),\"\")","v":""},null,null,null,null,null,null,null,null,null,null,0,0,0,1000]
[null,{"$f":"IF(A109<>0,VLOOKUP(A109,Liste!$A$10:$D$159,4,FALSE),\"\")","v":""},0,0,0,0,null,null,0,0,{"$f":"IF(AND($I109=1,$H109>0),VLOOKUP($H109,$A$14:AD$163,11,FALSE),0)","v":0},{"$f":"IF(AND($I109=1,$H109>0),VLOOKUP($H109,$A$14:AE$163,12,FALSE),0)","v":0},{"$f":"IF(AND($I109=1,$H109>0),VLOOKUP($H109,$A$14:AF$163,13,FALSE),0)","v":0},"","","",{"$f":"IF(A109<>0,VLOOKUP(A109,Liste!$A$10:$K$159,8,FALSE),\"\")","v":""},null,null,null,null,null,null,null,null,null,null,0,0,0,1000]
[null,{"$f":"IF(A110<>0,VLOOKUP(A110,Liste!$A$10:$D$159,4,FALSE),\"\")","v":""},{"$f":"F110*(K110=1)","v":0},{"$f":"F110*(L110=1)","v":0},{"$f":"F110*(M110=1)","v":0},{"$f":"IF(I110=1,VLOOKUP(A110,$A$14:$AA$163,16+$B$4,0),0)","v":0},null,null,{"$f":"1*(IF(G110>=1,VLOOKUP(A110,$A$14:$AA$163,16+$B$4,0)>0))","v":0},{"$f":"IF(F110>0,F110,0)","v":0},{"$f":"IF(AND($I110=1,$H110>0),VLOOKUP($H110,$A$14:AD$163,11,FALSE),0)","v":0},{"$f":"IF(AND($I110=1,$H110>0),VLOOKUP($H110,$A$14:AE$163,12,FALSE),0)","v":0},{"$f":"IF(AND($I110=1,$H110>0),VLOOKUP($H110,$A$14:AF$163,13,FALSE),0)","v":0},{"$f":"IF(AND(I110>0,K110+L110+M110=0),\"EN ATTENTE\",IF(K110+L110+M110>1,\"ERREUR\",\"\"))","v":""},{"$f":"IF(AND(AC110>3,AD110>$D$10*$O$12),1,\"\")","v":""},{"$f":"IF(I110=1,K110*(K110=1)+L110*2*(L110=1)+M110*3*(M110=1),\"\")","v":""},{"$f":"IF(A110<>0,VLOOKUP(A110,Liste!$A$10:$K$159,8,FALSE),\"\")","v":""},null,null,null,null,null,null,null,null,null,null,{"$f":"(H110+I110)*(J110>0)","v":0},{"$f":"COUNTIF($H$14:$H$163,A110)","v":0},{"$f":"SUMIF($H$14:$H$163,A110,$J$14:$J$163)+(J110*(AC110>0))","v":0},{"$f":"IF(H110>0,H110+0.5*(I110=1),A110*(I110=1))+(1000*(I110<1))","v":1000}]
[null,{"$f":"IF(A111<>0,VLOOKUP(A111,Liste!$A$10:$D$159,4,FALSE),\"\")","v":""},0,0,0,0,null,null,0,0,{"$f":"IF(AND($I111=1,$H111>0),VLOOKUP($H111,$A$14:AD$163,11,FALSE),0)","v":0},{"$f":"IF(AND($I111=1,$H111>0),VLOOKUP($H111,$A$14:AE$163,12,FALSE),0)","v":0},{"$f":"IF(AND($I111=1,$H111>0),VLOOKUP($H111,$A$14:AF$163,13,FALSE),0)","v":0},"","","",{"$f":"IF(A111<>0,VLOOKUP(A111,Liste!$A$10:$K$159,8,FALSE),\"\")","v":""},null,null,null,null,null,null,null,null,null,null,0,0,0,1000]
[null,{"$f":"IF(A112<>0,VLOOKUP(A112,Liste!$A$10:$D$159,4,FALSE),\"\")","v":""},0,0,0,0,null,null,0,0,{"$f":"IF(AND($I112=1,$H112>0),VLOOKUP($H112,$A$14:AD$163,11,FALSE),0)","v":0},{"$f":"IF(AND($I112=1,$H112>0),VLOOKUP($H112,$A$14:AE$163,12,FALSE),0)","v":0},{"$f":"IF(AND($I112=1,$H112>0),VLOOKUP($H112,$A$14:AF$163,13,FALSE),0)","v":0},"","","",{"$f":"IF(A112<>0,VLOOKUP(A112,Liste!$A$10:$K$159,8,FALSE),\"\")","v":""},null,null,null,null,null,null,null,null,null,null,0,0,0,1000]
[null,{"$f":"IF(A113<>0,VLOOKUP(A113,Liste!$A$10:$D$159,4,FALSE),\"\")","v":""},0,0,0,0,null,null,0,0,{"$f":"IF(AND($I113=1,$H113>0),VLOOKUP($H113,$A$14:AD$163,11,FALSE),0)","v":0},{"$f":"IF(AND($I113=1,$H113>0),VLOOKUP($H113,$A$14:AE$163,12,FALSE),0)","v":0},{"$f":"IF(AND($I113=1,$H113>0),VLOOKUP($H113,$A$14:AF$163,13,FALSE),0)","v":0},"","","",{"$f":"IF(A113<>0,VLOOKUP(A113,Liste!$A$10:$K$159,8,FALSE),\"\")","v":""},null,null,null,null,null,null,null,null,null,null,0,0,0,1000]
[null,{"$f":"IF(A114<>0,VLOOKUP(A114,Liste!$A$10:$D$159,4,FALSE),\"\")","v":""},0,0,0,0,null,null,0,0,{"$f":"IF(AND($I114=1,$H114>0),VLOOKUP($H114,$A$14:AD$163,11,FALSE),0)","v":0},{"$f":"IF(AND($I114=1,$H114>0),VLOOKUP($H114,$A$14:AE$163,12,FALSE),0)","v":0},{"$f":"IF(AND($I114=1,$H114>0),VLOOKUP($H114,$A$14:AF$163,13,FALSE),0)","v":0},"","","",{"$f":"IF(A114<>0,VLOOKUP(A114,Liste!$A$10:$K$159,8,FALSE),\"\")","v":""},null,null,null,null,null,null,null,null,null,null,0,0,0,1000]
[null,{"$f":"IF(A115<>0,VLOOKUP(A115,Liste!$A$10:$D$159,4,FALSE),\"\")","v":""},0,0,0,0,null,null,0,0,{"$f":"IF(AND($I115=1,$H115>0),VLOOKUP($H115,$A$14:AD$163,11,FALSE),0)","v":0},{"$f":"IF(AND($I115=1,$H115>0),VLOOKUP($H115,$A$14:AE$163,12,FALSE),0)","v":0},{"$f":"IF(AND($I115=1,$H115>0),VLOOKUP($H115,$A$14:AF$163,13,FALSE),0)","v":0},"","","",{"$f":"IF(A115<>0,VLOOKUP(A115,Liste!$A$10:$K$159,8,FALSE),\"\")","v":""},null,null,null,null,null,null,null,null,null,null,0,0,0,1000]
[null,{"$f":"IF(A116<>0,VLOOKUP(A116,Liste!$A$10:$D$159,4,FALSE),\"\")","v":""},0,0,0,0,null,null,0,0,{"$f":"IF(AND($I116=1,$H116>0),VLOOKUP($H116,$A$14:AD$163,11,FALSE),0)","v":0},{"$f":"IF(AND($I116=1,$H116>0),VLOOKUP($H116,$A$14:AE$163,12,FALSE),0)","v":0},{"$f":"IF(AND($I116=1,$H116>0),VLOOKUP($H116,$A$14:AF$163,13,FALSE),0)","v":0},"","","",{"$f":"IF(A116<>0,VLOOKUP(A116,Liste!$A$10:$K$159,8,FALSE),\"\")","v":""},null,null,null,null,null,null,null,null,null,null,0,0,0,1000]
[null,{"$f":"IF(A117<>0,VLOOKUP(A117,Liste!$A$10:$D$159,4,FALSE),\"\")","v":""},0,0,0,0,null,null,0,0,{"$f":"IF(AND($I117=1,$H117>0),VLOOKUP($H117,$A$14:AD$163,11,FALSE),0)","v":0},{"$f":"IF(AND($I117=1,$H117>0),VLOOKUP($H117,$A$14:AE$163,12,FALSE),0)","v":0},{"$f":"IF(AND($I117=1,$H117>0),VLOOKUP($H117,$A$14:AF$163,13,FALSE),0)","v":0},"","","",{"$f":"IF(A117<>0,VLOOKUP(A117,Liste!$A$10:$K$159,8,FALSE),\"\")","v":""},null,null,null,null,null,null,null,null,null,null,0,0,0,1000]
[null,{"$f":"IF(A118<>0,VLOOKUP(A118,Liste!$A$10:$D$159,4,FALSE),\"\")","v":""},0,0,0,0,null,null,0,0,{"$f":"IF(AND($I118=1,$H118>0),VLOOKUP($H118,$A$14:AD$163,11,FALSE),0)","v":0},{"$f":"IF(AND($I118=1,$H118>0),VLOOKUP($H118,$A$14:AE$163,12,FALSE),0)","v":0},{"$f":"IF(AND($I118=1,$H118>0),VLOOKUP($H118,$A$14:AF$163,13,FALSE),0)","v":0},"","","",{"$f":"IF(A118<>0,VLOOKUP(A118,Liste!$A$10:$K$159,8,FALSE),\"\")","v":""},null,null,null,null,null,null,null,null,null,null,0,0,0,1000]
[null,{"$f":"IF(A119<>0,VLOOKUP(A119,Liste!$A$10:$D$159,4,FALSE),\"\")","v":""},0,0,0,0,null,null,0,0,{"$f":"IF(AND($I119=1,$H119>0),VLOOKUP($H119,$A$14:AD$163,11,FALSE),0)","v":0},{"$f":"IF(AND($I119=1,$H119>0),VLOOKUP($H119,$A$14:AE$163,12,FALSE),0)","v":0},{"$f":"IF(AND($I119=1,$H119>0),VLOOKUP($H119,$A$14:AF$163,13,FALSE),0)","v":0},"","","",{"$f":"IF(A119<>0,VLOOKUP(A119,Liste!$A$10:$K$159,8,FALSE),\"\")","v":""},null,null,null,null,null,null,null,null,null,null,0,0,0,1000]
[null,{"$f":"IF(A120<>0,VLOOKUP(A120,Liste!$A$10:$D$159,4,FALSE),\"\")","v":""},0,0,0,0,null,null,0,0,{"$f":"IF(AND($I120=1,$H120>0),VLOOKUP($H120,$A$14:AD$163,11,FALSE),0)","v":0},{"$f":"IF(AND($I120=1,$H120>0),VLOOKUP($H120,$A$14:AE$163,12,FALSE),0)","v":0},{"$f":"IF(AND($I120=1,$H120>0),VLOOKUP($H120,$A$14:AF$163,13,FALSE),0)","v":0},"","","",{"$f":"IF(A120<>0,VLOOKUP(A120,Liste!$A$10:$K$159,8,FALSE),\"\")","v":""},null,null,null,null,null,null,null,null,null,null,0,0,0,1000]
[null,{"$f":"IF(A121<>0,VLOOKUP(A121,Liste!$A$10:$D$159,4,FALSE),\"\")","v":""},0,0,0,0,null,null,0,0,{"$f":"IF(AND($I121=1,$H121>0),VLOOKUP($H121,$A$14:AD$163,11,FALSE),0)","v":0},{"$f":"IF(AND($I121=1,$H121>0),VLOOKUP($H121,$A$14:AE$163,12,FALSE),0)","v":0},{"$f":"IF(AND($I121=1,$H121>0),VLOOKUP($H121,$A$14:AF$163,13,FALSE),0)","v":0},"","","",{"$f":"IF(A121<>0,VLOOKUP(A121,Liste!$A$10:$K$159,8,FALSE),\"\")","v":""},null,null,null,null,null,null,null,null,null,null,0,0,0,1000]
[null,{"$f":"IF(A122<>0,VLOOKUP(A122,Liste!$A$10:$D$159,4,FALSE),\"\")","v":""},0,0,0,0,null,null,0,0,{"$f":"IF(AND($I122=1,$H122>0),VLOOKUP($H122,$A$14:AD$163,11,FALSE),0)","v":0},{"$f":"IF(AND($I122=1,$H122>0),VLOOKUP($H122,$A$14:AE$163,12,FALSE),0)","v":0},{"$f":"IF(AND($I122=1,$H122>0),VLOOKUP($H122,$A$14:AF$163,13,FALSE),0)","v":0},"","","",{"$f":"IF(A122<>0,VLOOKUP(A122,Liste!$A$10:$K$159,8,FALSE),\"\")","v":""},null,null,null,null,null,null,null,null,null,null,0,0,0,1000]
[null,{"$f":"IF(A123<>0,VLOOKUP(A123,Liste!$A$10:$D$159,4,FALSE),\"\")","v":""},0,0,0,0,null,null,0,0,{"$f":"IF(AND($I123=1,$H123>0),VLOOKUP($H123,$A$14:AD$163,11,FALSE),0)","v":0},{"$f":"IF(AND($I123=1,$H123>0),VLOOKUP($H123,$A$14:AE$163,12,FALSE),0)","v":0},{"$f":"IF(AND($I123=1,$H123>0),VLOOKUP($H123,$A$14:AF$163,13,FALSE),0)","v":0},"","","",{"$f":"IF(A123<>0,VLOOKUP(A123,Liste!$A$10:$K$159,8,FALSE),\"\")","v":""},null,null,null,null,null,null,null,null,null,null,0,0,0,1000]
[null,{"$f":"IF(A124<>0,VLOOKUP(A124,Liste!$A$10:$D$159,4,FALSE),\"\")","v":""},0,0,0,0,null,null,0,0,{"$f":"IF(AND($I124=1,$H124>0),VLOOKUP($H124,$A$14:AD$163,11,FALSE),0)","v":0},{"$f":"IF(AND($I124=1,$H124>0),VLOOKUP($H124,$A$14:AE$163,12,FALSE),0)","v":0},{"$f":"IF(AND($I124=1,$H124>0),VLOOKUP($H124,$A$14:AF$163,13,FALSE),0)","v":0},"","","",{"$f":"IF(A124<>0,VLOOKUP(A124,Liste!$A$10:$K$159,8,FALSE),\"\")","v":""},null,null,null,null,null,null,null,null,null,null,0,0,0,1000]
[null,{"$f":"IF(A125<>0,VLOOKUP(A125,Liste!$A$10:$D$159,4,FALSE),\"\")","v":""},0,0,0,0,null,null,0,0,{"$f":"IF(AND($I125=1,$H125>0),VLOOKUP($H125,$A$14:AD$163,11,FALSE),0)","v":0},{"$f":"IF(AND($I125=1,$H125>0),VLOOKUP($H125,$A$14:AE$163,12,FALSE),0)","v":0},{"$f":"IF(AND($I125=1,$H125>0),VLOOKUP($H125,$A$14:AF$163,13,FALSE),0)","v":0},"","","",{"$f":"IF(A125<>0,VLOOKUP(A125,Liste!$A$10:$K$159,8,FALSE),\"\")","v":""},null,null,null,null,null,null,null,null,null,null,0,0,0,1000]
[null,{"$f":"IF(A126<>0,VLOOKUP(A126,Liste!$A$10:$D$159,4,FALSE),\"\")","v":""},0,0,0,0,null,null,0,0,{"$f":"IF(AND($I126=1,$H126>0),VLOOKUP($H126,$A$14:AD$163,11,FALSE),0)","v":0},{"$f":"IF(AND($I126=1,$H126>0),VLOOKUP($H126,$A$14:AE$163,12,FALSE),0)","v":0},{"$f":"IF(AND($I126=1,$H126>0),VLOOKUP($H126,$A$14:AF$163,13,FALSE),0)","v":0},"","","",{"$f":"IF(A126<>0,VLOOKUP(A126,Liste!$A$10:$K$159,8,FALSE),\"\")","v":""},null,null,null,null,null,null,null,null,null,null,0,0,0,1000]
[null,{"$f":"IF(A127<>0,VLOOKUP(A127,Liste!$A$10:$D$159,4,FALSE),\"\")","v":""},0,0,0,0,null,null,0,0,{"$f":"IF(AND($I127=1,$H127>0),VLOOKUP($H127,$A$14:AD$163,11,FALSE),0)","v":0},{"$f":"IF(AND($I127=1,$H127>0),VLOOKUP($H127,$A$14:AE$163,12,FALSE),0)","v":0},{"$f":"IF(AND($I127=1,$H127>0),VLOOKUP($H127,$A$14:AF$163,13,FALSE),0)","v":0},"","","",{"$f":"IF(A127<>0,VLOOKUP(A127,Liste!$A$10:$K$159,8,FALSE),\"\")","v":""},null,null,null,null,null,null,null,null,null,null,0,0,0,1000]
[null,{"$f":"IF(A128<>0,VLOOKUP(A128,Liste!$A$10:$D$159,4,FALSE),\"\")","v":""},0,0,0,0,null,null,0,0,{"$f":"IF(AND($I128=1,$H128>0),VLOOKUP($H128,$A$14:AD$163,11,FALSE),0)","v":0},{"$f":"IF(AND($I128=1,$H128>0),VLOOKUP($H128,$A$14:AE$163,12,FALSE),0)","v":0},{"$f":"IF(AND($I128=1,$H128>0),VLOOKUP($H128,$A$14:AF$163,13,FALSE),0)","v":0},"","","",{"$f":"IF(A128<>0,VLOOKUP(A128,Liste!$A$10:$K$159,8,FALSE),\"\")","v":""},null,null,null,null,null,null,null,null,null,null,0,0,0,1000]
[null,{"$f":"IF(A129<>0,VLOOKUP(A129,Liste!$A$10:$D$159,4,FALSE),\"\")","v":""},0,0,0,0,null,null,0,0,{"$f":"IF(AND($I129=1,$H129>0),VLOOKUP($H129,$A$14:AD$163,11,FALSE),0)","v":0},{"$f":"IF(AND($I129=1,$H129>0),VLOOKUP($H129,$A$14:AE$163,12,FALSE),0)","v":0},{"$f":"IF(AND($I129=1,$H129>0),VLOOKUP($H129,$A$14:AF$163,13,FALSE),0)","v":0},"","","",{"$f":"IF(A129<>0,VLOOKUP(A129,Liste!$A$10:$K$159,8,FALSE),\"\")","v":""},null,null,null,null,null,null,null,null,null,null,0,0,0,1000]
[null,{"$f":"IF(A130<>0,VLOOKUP(A130,Liste!$A$10:$D$159,4,FALSE),\"\")","v":""},0,0,0,0,null,null,0,0,{"$f":"IF(AND($I130=1,$H130>0),VLOOKUP($H130,$A$14:AD$163,11,FALSE),0)","v":0},{"$f":"IF(AND($I130=1,$H130>0),VLOOKUP($H130,$A$14:AE$163,12,FALSE),0)","v":0},{"$f":"IF(AND($I130=1,$H130>0),VLOOKUP($H130,$A$14:AF$163,13,FALSE),0)","v":0},"","","",{"$f":"IF(A130<>0,VLOOKUP(A130,Liste!$A$10:$K$159,8,FALSE),\"\")","v":""},null,null,null,null,null,null,null,null,null,null,0,0,0,1000]
[null,{"$f":"IF(A131<>0,VLOOKUP(A131,Liste!$A$10:$D$159,4,FALSE),\"\")","v":""},0,0,0,0,null,null,0,0,{"$f":"IF(AND($I131=1,$H131>0),VLOOKUP($H131,$A$14:AD$163,11,FALSE),0)","v":0},{"$f":"IF(AND($I131=1,$H131>0),VLOOKUP($H131,$A$14:AE$163,12,FALSE),0)","v":0},{"$f":"IF(AND($I131=1,$H131>0),VLOOKUP($H131,$A$14:AF$163,13,FALSE),0)","v":0},"","","",{"$f":"IF(A131<>0,VLOOKUP(A131,Liste!$A$10:$K$159,8,FALSE),\"\")","v":""},null,null,null,null,null,null,null,null,null,null,0,0,0,1000]
[null,{"$f":"IF(A132<>0,VLOOKUP(A132,Liste!$A$10:$D$159,4,FALSE),\"\")","v":""},0,0,0,0,null,null,0,0,{"$f":"IF(AND($I132=1,$H132>0),VLOOKUP($H132,$A$14:AD$163,11,FALSE),0)","v":0},{"$f":"IF(AND($I132=1,$H132>0),VLOOKUP($H132,$A$14:AE$163,12,FALSE),0)","v":0},{"$f":"IF(AND($I132=1,$H132>0),VLOOKUP($H132,$A$14:AF$163,13,FALSE),0)","v":0},"","","",{"$f":"IF(A132<>0,VLOOKUP(A132,Liste!$A$10:$K$159,8,FALSE),\"\")","v":""},null,null,null,null,null,null,null,null,null,null,0,0,0,1000]
[null,{"$f":"IF(A133<>0,VLOOKUP(A133,Liste!$A$10:$D$159,4,FALSE),\"\")","v":""},0,0,0,0,null,null,0,0,{"$f":"IF(AND($I133=1,$H133>0),VLOOKUP($H133,$A$14:AD$163,11,FALSE),0)","v":0},{"$f":"IF(AND($I133=1,$H133>0),VLOOKUP($H133,$A$14:AE$163,12,FALSE),0)","v":0},{"$f":"IF(AND($I133=1,$H133>0),VLOOKUP($H133,$A$14:AF$163,13,FALSE),0)","v":0},"","","",{"$f":"IF(A133<>0,VLOOKUP(A133,Liste!$A$10:$K$159,8,FALSE),\"\")","v":""},null,null,null,null,null,null,null,null,null,null,0,0,0,1000]
[null,{"$f":"IF(A134<>0,VLOOKUP(A134,Liste!$A$10:$D$159,4,FALSE),\"\")","v":""},0,0,0,0,null,null,0,0,{"$f":"IF(AND($I134=1,$H134>0),VLOOKUP($H134,$A$14:AD$163,11,FALSE),0)","v":0},{"$f":"IF(AND($I134=1,$H134>0),VLOOKUP($H134,$A$14:AE$163,12,FALSE),0)","v":0},{"$f":"IF(AND($I134=1,$H134>0),VLOOKUP($H134,$A$14:AF$163,13,FALSE),0)","v":0},"","","",{"$f":"IF(A134<>0,VLOOKUP(A134,Liste!$A$10:$K$159,8,FALSE),\"\")","v":""},null,null,null,null,null,null,null,null,null,null,0,0,0,1000]
[null,{"$f":"IF(A135<>0,VLOOKUP(A135,Liste!$A$10:$D$159,4,FALSE),\"\")","v":""},0,0,0,0,null,null,0,0,{"$f":"IF(AND($I135=1,$H135>0),VLOOKUP($H135,$A$14:AD$163,11,FALSE),0)","v":0},{"$f":"IF(AND($I135=1,$H135>0),VLOOKUP($H135,$A$14:AE$163,12,FALSE),0)","v":0},{"$f":"IF(AND($I135=1,$H135>0),VLOOKUP($H135,$A$14:AF$163,13,FALSE),0)","v":0},"","","",{"$f":"IF(A135<>0,VLOOKUP(A135,Liste!$A$10:$K$159,8,FALSE),\"\")","v":""},null,null,null,null,null,null,null,null,null,null,0,0,0,1000]
[null,{"$f":"IF(A136<>0,VLOOKUP(A136,Liste!$A$10:$D$159,4,FALSE),\"\")","v":""},0,0,0,0,null,null,0,0,{"$f":"IF(AND($I136=1,$H136>0),VLOOKUP($H136,$A$14:AD$163,11,FALSE),0)","v":0},{"$f":"IF(AND($I136=1,$H136>0),VLOOKUP($H136,$A$14:AE$163,12,FALSE),0)","v":0},{"$f":"IF(AND($I136=1,$H136>0),VLOOKUP($H136,$A$14:AF$163,13,FALSE),0)","v":0},"","","",{"$f":"IF(A136<>0,VLOOKUP(A136,Liste!$A$10:$K$159,8,FALSE),\"\")","v":""},null,null,null,null,null,null,null,null,null,null,0,0,0,1000]
[null,{"$f":"IF(A137<>0,VLOOKUP(A137,Liste!$A$10:$D$159,4,FALSE),\"\")","v":""},0,0,0,0,null,null,0,0,{"$f":"IF(AND($I137=1,$H137>0),VLOOKUP($H137,$A$14:AD$163,11,FALSE),0)","v":0},{"$f":"IF(AND($I137=1,$H137>0),VLOOKUP($H137,$A$14:AE$163,12,FALSE),0)","v":0},{"$f":"IF(AND($I137=1,$H137>0),VLOOKUP($H137,$A$14:AF$163,13,FALSE),0)","v":0},"","","",{"$f":"IF(A137<>0,VLOOKUP(A137,Liste!$A$10:$K$159,8,FALSE),\"\")","v":""},null,null,null,null,null,null,null,null,null,null,0,0,0,1000]
[null,{"$f":"IF(A138<>0,VLOOKUP(A138,Liste!$A$10:$D$159,4,FALSE),\"\")","v":""},0,0,0,0,null,null,0,0,{"$f":"IF(AND($I138=1,$H138>0),VLOOKUP($H138,$A$14:AD$163,11,FALSE),0)","v":0},{"$f":"IF(AND($I138=1,$H138>0),VLOOKUP($H138,$A$14:AE$163,12,FALSE),0)","v":0},{"$f":"IF(AND($I138=1,$H138>0),VLOOKUP($H138,$A$14:AF$163,13,FALSE),0)","v":0},"","","",{"$f":"IF(A138<>0,VLOOKUP(A138,Liste!$A$10:$K$159,8,FALSE),\"\")","v":""},null,null,null,null,null,null,null,null,null,null,0,0,0,1000]
[null,{"$f":"IF(A139<>0,VLOOKUP(A139,Liste!$A$10:$D$159,4,FALSE),\"\")","v":""},0,0,0,0,null,null,0,0,{"$f":"IF(AND($I139=1,$H139>0),VLOOKUP($H139,$A$14:AD$163,11,FALSE),0)","v":0},{"$f":"IF(AND($I139=1,$H139>0),VLOOKUP($H139,$A$14:AE$163,12,FALSE),0)","v":0},{"$f":"IF(AND($I139=1,$H139>0),VLOOKUP($H139,$A$14:AF$163,13,FALSE),0)","v":0},"","","",{"$f":"IF(A139<>0,VLOOKUP(A139,Liste!$A$10:$K$159,8,FALSE),\"\")","v":""},null,null,null,null,null,null,null,null,null,null,0,0,0,1000]
[null,{"$f":"IF(A140<>0,VLOOKUP(A140,Liste!$A$10:$D$159,4,FALSE),\"\")","v":""},0,0,0,0,null,null,0,0,{"$f":"IF(AND($I140=1,$H140>0),VLOOKUP($H140,$A$14:AD$163,11,FALSE),0)","v":0},{"$f":"IF(AND($I140=1,$H140>0),VLOOKUP($H140,$A$14:AE$163,12,FALSE),0)","v":0},{"$f":"IF(AND($I140=1,$H140>0),VLOOKUP($H140,$A$14:AF$163,13,FALSE),0)","v":0},"","","",{"$f":"IF(A140<>0,VLOOKUP(A140,Liste!$A$10:$K$159,8,FALSE),\"\")","v":""},null,null,null,null,null,null,null,null,null,null,0,0,0,1000]
[null,{"$f":"IF(A141<>0,VLOOKUP(A141,Liste!$A$10:$D$159,4,FALSE),\"\")","v":""},0,0,0,0,null,null,0,0,{"$f":"IF(AND($I141=1,$H141>0),VLOOKUP($H141,$A$14:AD$163,11,FALSE),0)","v":0},{"$f":"IF(AND($I141=1,$H141>0),VLOOKUP($H141,$A$14:AE$163,12,FALSE),0)","v":0},{"$f":"IF(AND($I141=1,$H141>0),VLOOKUP($H141,$A$14:AF$163,13,FALSE),0)","v":0},"","","",{"$f":"IF(A141<>0,VLOOKUP(A141,Liste!$A$10:$K$159,8,FALSE),\"\")","v":""},null,null,null,null,null,null,null,null,null,null,0,0,0,1000]
[null,{"$f":"IF(A142<>0,VLOOKUP(A142,Liste!$A$10:$D$159,4,FALSE),\"\")","v":""},{"$f":"F142*(K142=1)","v":0},{"$f":"F142*(L142=1)","v":0},{"$f":"F142*(M142=1)","v":0},{"$f":"IF(I142=1,VLOOKUP(A142,$A$14:$AA$163,16+$B$4,0),0)","v":0},null,null,{"$f":"1*(IF(G142>=1,VLOOKUP(A142,$A$14:$AA$163,16+$B$4,0)>0))","v":0},{"$f":"IF(F142>0,F142,0)","v":0},{"$f":"IF(AND($I142=1,$H142>0),VLOOKUP($H142,$A$14:AD$163,11,FALSE),0)","v":0},{"$f":"IF(AND($I142=1,$H142>0),VLOOKUP($H142,$A$14:AE$163,12,FALSE),0)","v":0},{"$f":"IF(AND($I142=1,$H142>0),VLOOKUP($H142,$A$14:AF$163,13,FALSE),0)","v":0},{"$f":"IF(AND(I142>0,K142+L142+M142=0),\"EN ATTENTE\",IF(K142+L142+M142>1,\"ERREUR\",\"\"))","v":""},{"$f":"IF(AND(AC142>3,AD142>$D$10*$O$12),1,\"\")","v":""},{"$f":"IF(I142=1,K142*(K142=1)+L142*2*(L142=1)+M142*3*(M142=1),\"\")","v":""},{"$f":"IF(A142<>0,VLOOKUP(A142,Liste!$A$10:$K$159,8,FALSE),\"\")","v":""},null,null,null,null,null,null,null,null,null,null,{"$f":"(H142+I142)*(J142>0)","v":0},{"$f":"COUNTIF($H$14:$H$163,A142)","v":0},{"$f":"SUMIF($H$14:$H$163,A142,$J$14:$J$163)+(J142*(AC142>0))","v":0},{"$f":"IF(H142>0,H142+0.5*(I142=1),A142*(I142=1))+(1000*(I142<1))","v":1000}]
[null,{"$f":"IF(A143<>0,VLOOKUP(A143,Liste!$A$10:$D$159,4,FALSE),\"\")","v":""},0,0,0,0,null,null,0,0,{"$f":"IF(AND($I143=1,$H143>0),VLOOKUP($H143,$A$14:AD$163,11,FALSE),0)","v":0},{"$f":"IF(AND($I143=1,$H143>0),VLOOKUP($H143,$A$14:AE$163,12,FALSE),0)","v":0},{"$f":"IF(AND($I143=1,$H143>0),VLOOKUP($H143,$A$14:AF$163,13,FALSE),0)","v":0},"","","",{"$f":"IF(A143<>0,VLOOKUP(A143,Liste!$A$10:$K$159,8,FALSE),\"\")","v":""},null,null,null,null,null,null,null,null,null,null,0,0,0,1000]
[null,{"$f":"IF(A144<>0,VLOOKUP(A144,Liste!$A$10:$D$159,4,FALSE),\"\")","v":""},0,0,0,0,null,null,0,0,{"$f":"IF(AND($I144=1,$H144>0),VLOOKUP($H144,$A$14:AD$163,11,FALSE),0)","v":0},{"$f":"IF(AND($I144=1,$H144>0),VLOOKUP($H144,$A$14:AE$163,12,FALSE),0)","v":0},{"$f":"IF(AND($I144=1,$H144>0),VLOOKUP($H144,$A$14:AF$163,13,FALSE),0)","v":0},"","","",{"$f":"IF(A144<>0,VLOOKUP(A144,Liste!$A$10:$K$159,8,FALSE),\"\")","v":""},null,null,null,null,null,null,null,null,null,null,0,0,0,1000]
[null,{"$f":"IF(A145<>0,VLOOKUP(A145,Liste!$A$10:$D$159,4,FALSE),\"\")","v":""},0,0,0,0,null,null,0,0,{"$f":"IF(AND($I145=1,$H145>0),VLOOKUP($H145,$A$14:AD$163,11,FALSE),0)","v":0},{"$f":"IF(AND($I145=1,$H145>0),VLOOKUP($H145,$A$14:AE$163,12,FALSE),0)","v":0},{"$f":"IF(AND($I145=1,$H145>0),VLOOKUP($H145,$A$14:AF$163,13,FALSE),0)","v":0},"","","",{"$f":"IF(A145<>0,VLOOKUP(A145,Liste!$A$10:$K$159,8,FALSE),\"\")","v":""},null,null,null,null,null,null,null,null,null,null,0,0,0,1000]
[null,{"$f":"IF(A146<>0,VLOOKUP(A146,Liste!$A$10:$D$159,4,FALSE),\"\")","v":""},0,0,0,0,null,null,0,0,{"$f":"IF(AND($I146=1,$H146>0),VLOOKUP($H146,$A$14:AD$163,11,FALSE),0)","v":0},{"$f":"IF(AND($I146=1,$H146>0),VLOOKUP($H146,$A$14:AE$163,12,FALSE),0)","v":0},{"$f":"IF(AND($I146=1,$H146>0),VLOOKUP($H146,$A$14:AF$163,13,FALSE),0)","v":0},"","","",{"$f":"IF(A146<>0,VLOOKUP(A146,Liste!$A$10:$K$159,8,FALSE),\"\")","v":""},null,null,null,null,null,null,null,null,null,null,0,0,0,1000]
[null,{"$f":"IF(A147<>0,VLOOKUP(A147,Liste!$A$10:$D$159,4,FALSE),\"\")","v":""},0,0,0,0,null,null,0,0,{"$f":"IF(AND($I147=1,$H147>0),VLOOKUP($H147,$A$14:AD$163,11,FALSE),0)","v":0},{"$f":"IF(AND($I147=1,$H147>0),VLOOKUP($H147,$A$14:AE$163,12,FALSE),0)","v":0},{"$f":"IF(AND($I147=1,$H147>0),VLOOKUP($H147,$A$14:AF$163,13,FALSE),0)","v":0},"","","",{"$f":"IF(A147<>0,VLOOKUP(A147,Liste!$A$10:$K$159,8,FALSE),\"\")","v":""},null,null,null,null,null,null,null,null,null,null,0,0,0,1000]
[null,{"$f":"IF(A148<>0,VLOOKUP(A148,Liste!$A$10:$D$159,4,FALSE),\"\")","v":""},0,0,0,0,null,null,0,0,{"$f":"IF(AND($I148=1,$H148>0),VLOOKUP($H148,$A$14:AD$163,11,FALSE),0)","v":0},{"$f":"IF(AND($I148=1,$H148>0),VLOOKUP($H148,$A$14:AE$163,12,FALSE),0)","v":0},{"$f":"IF(AND($I148=1,$H148>0),VLOOKUP($H148,$A$14:AF$163,13,FALSE),0)","v":0},"","","",{"$f":"IF(A148<>0,VLOOKUP(A148,Liste!$A$10:$K$159,8,FALSE),\"\")","v":""},null,null,null,null,null,null,null,null,null,null,0,0,0,1000]
[null,null,0,0,0,0,null,null,0,0,{"$f":"IF(AND($I149=1,$H149>0),VLOOKUP($H149,$A$14:AD$163,11,FALSE),0)","v":0},{"$f":"IF(AND($I149=1,$H149>0),VLOOKUP($H149,$A$14:AE$163,12,FALSE),0)","v":0},{"$f":"IF(AND($I149=1,$H149>0),VLOOKUP($H149,$A$14:AF$163,13,FALSE),0)","v":0},"","","",{"$f":"IF(A149<>0,VLOOKUP(A149,Liste!$A$10:$K$159,8,FALSE),\"\")","v":""},null,null,null,null,null,null,null,null,null,null,0,0,0,1000]
[null,{"$f":"IF(A150<>0,VLOOKUP(A150,Liste!$A$10:$D$159,4,FALSE),\"\")","v":""},0,0,0,0,null,null,0,0,{"$f":"IF(AND($I150=1,$H150>0),VLOOKUP($H150,$A$14:AD$163,11,FALSE),0)","v":0},{"$f":"IF(AND($I150=1,$H150>0),VLOOKUP($H150,$A$14:AE$163,12,FALSE),0)","v":0},{"$f":"IF(AND($I150=1,$H150>0),VLOOKUP($H150,$A$14:AF$163,13,FALSE),0)","v":0},"","","",{"$f":"IF(A150<>0,VLOOKUP(A150,Liste!$A$10:$K$159,8,FALSE),\"\")","v":""},null,null,null,null,null,null,null,null,null,null,0,0,0,1000]
[null,{"$f":"IF(A151<>0,VLOOKUP(A151,Liste!$A$10:$D$159,4,FALSE),\"\")","v":""},0,0,0,0,null,null,0,0,{"$f":"IF(AND($I151=1,$H151>0),VLOOKUP($H151,$A$14:AD$163,11,FALSE),0)","v":0},{"$f":"IF(AND($I151=1,$H151>0),VLOOKUP($H151,$A$14:AE$163,12,FALSE),0)","v":0},{"$f":"IF(AND($I151=1,$H151>0),VLOOKUP($H151,$A$14:AF$163,13,FALSE),0)","v":0},"","","",{"$f":"IF(A151<>0,VLOOKUP(A151,Liste!$A$10:$K$159,8,FALSE),\"\")","v":""},null,null,null,null,null,null,null,null,null,null,0,0,0,1000]
[null,{"$f":"IF(A152<>0,VLOOKUP(A152,Liste!$A$10:$D$159,4,FALSE),\"\")","v":""},0,0,0,0,null,null,0,0,{"$f":"IF(AND($I152=1,$H152>0),VLOOKUP($H152,$A$14:AD$163,11,FALSE),0)","v":0},{"$f":"IF(AND($I152=1,$H152>0),VLOOKUP($H152,$A$14:AE$163,12,FALSE),0)","v":0},{"$f":"IF(AND($I152=1,$H152>0),VLOOKUP($H152,$A$14:AF$163,13,FALSE),0)","v":0},"","","",{"$f":"IF(A152<>0,VLOOKUP(A152,Liste!$A$10:$K$159,8,FALSE),\"\")","v":""},null,null,null,null,null,null,null,null,null,null,0,0,0,1000]
[null,{"$f":"IF(A153<>0,VLOOKUP(A153,Liste!$A$10:$D$159,4,FALSE),\"\")","v":""},0,0,0,0,null,null,0,0,{"$f":"IF(AND($I153=1,$H153>0),VLOOKUP($H153,$A$14:AD$163,11,FALSE),0)","v":0},{"$f":"IF(AND($I153=1,$H153>0),VLOOKUP($H153,$A$14:AE$163,12,FALSE),0)","v":0},{"$f":"IF(AND($I153=1,$H153>0),VLOOKUP($H153,$A$14:AF$163,13,FALSE),0)","v":0},"","","",{"$f":"IF(A153<>0,VLOOKUP(A153,Liste!$A$10:$K$159,8,FALSE),\"\")","v":""},null,null,null,null,null,null,null,null,null,null,0,0,0,1000]
[null,{"$f":"IF(A154<>0,VLOOKUP(A154,Liste!$A$10:$D$159,4,FALSE),\"\")","v":""},0,0,0,0,null,null,0,0,{"$f":"IF(AND($I154=1,$H154>0),VLOOKUP($H154,$A$14:AD$163,11,FALSE),0)","v":0},{"$f":"IF(AND($I154=1,$H154>0),VLOOKUP($H154,$A$14:AE$163,12,FALSE),0)","v":0},{"$f":"IF(AND($I154=1,$H154>0),VLOOKUP($H154,$A$14:AF$163,13,FALSE),0)","v":0},"","","",{"$f":"IF(A154<>0,VLOOKUP(A154,Liste!$A$10:$K$159,8,FALSE),\"\")","v":""},null,null,null,null,null,null,null,null,null,null,0,0,0,1000]
[null,{"$f":"IF(A155<>0,VLOOKUP(A155,Liste!$A$10:$D$159,4,FALSE),\"\")","v":""},0,0,0,0,null,null,0,0,{"$f":"IF(AND($I155=1,$H155>0),VLOOKUP($H155,$A$14:AD$163,11,FALSE),0)","v":0},{"$f":"IF(AND($I155=1,$H155>0),VLOOKUP($H155,$A$14:AE$163,12,FALSE),0)","v":0},{"$f":"IF(AND($I155=1,$H155>0),VLOOKUP($H155,$A$14:AF$163,13,FALSE),0)","v":0},"","","",{"$f":"IF(A155<>0,VLOOKUP(A155,Liste!$A$10:$K$159,8,FALSE),\"\")","v":""},null,null,null,null,null,null,null,null,null,null,0,0,0,1000]
[null,{"$f":"IF(A156<>0,VLOOKUP(A156,Liste!$A$10:$D$159,4,FALSE),\"\")","v":""},0,0,0,0,null,null,0,0,{"$f":"IF(AND($I156=1,$H156>0),VLOOKUP($H156,$A$14:AD$163,11,FALSE),0)","v":0},{"$f":"IF(AND($I156=1,$H156>0),VLOOKUP($H156,$A$14:AE$163,12,FALSE),0)","v":0},{"$f":"IF(AND($I156=1,$H156>0),VLOOKUP($H156,$A$14:AF$163,13,FALSE),0)","v":0},"","","",{"$f":"IF(A156<>0,VLOOKUP(A156,Liste!$A$10:$K$159,8,FALSE),\"\")","v":""},null,null,null,null,null,null,null,null,null,null,0,0,0,1000]
[null,{"$f":"IF(A157<>0,VLOOKUP(A157,Liste!$A$10:$D$159,4,FALSE),\"\")","v":""},0,0,0,0,null,null,0,0,{"$f":"IF(AND($I157=1,$H157>0),VLOOKUP($H157,$A$14:AD$163,11,FALSE),0)","v":0},{"$f":"IF(AND($I157=1,$H157>0),VLOOKUP($H157,$A$14:AE$163,12,FALSE),0)","v":0},{"$f":"IF(AND($I157=1,$H157>0),VLOOKUP($H157,$A$14:AF$163,13,FALSE),0)","v":0},"","","",{"$f":"IF(A157<>0,VLOOKUP(A157,Liste!$A$10:$K$159,8,FALSE),\"\")","v":""},null,null,null,null,null,null,null,null,null,null,0,0,0,1000]
[null,{"$f":"IF(A158<>0,VLOOKUP(A158,Liste!$A$10:$D$159,4,FALSE),\"\")","v":""},0,0,0,0,null,null,0,0,{"$f":"IF(AND($I158=1,$H158>0),VLOOKUP($H158,$A$14:AD$163,11,FALSE),0)","v":0},{"$f":"IF(AND($I158=1,$H158>0),VLOOKUP($H158,$A$14:AE$163,12,FALSE),0)","v":0},{"$f":"IF(AND($I158=1,$H158>0),VLOOKUP($H158,$A$14:AF$163,13,FALSE),0)","v":0},null,"","",{"$f":"IF(A158<>0,VLOOKUP(A158,Liste!$A$10:$K$159,8,FALSE),\"\")","v":""},null,null,null,null,null,null,null,null,null,null,0,0,0,1000]
[null,{"$f":"IF(A159<>0,VLOOKUP(A159,Liste!$A$10:$D$159,4,FALSE),\"\")","v":""},0,0,0,0,null,null,0,0,{"$f":"IF(AND($I159=1,$H159>0),VLOOKUP($H159,$A$14:AD$163,11,FALSE),0)","v":0},{"$f":"IF(AND($I159=1,$H159>0),VLOOKUP($H159,$A$14:AE$163,12,FALSE),0)","v":0},{"$f":"IF(AND($I159=1,$H159>0),VLOOKUP($H159,$A$14:AF$163,13,FALSE),0)","v":0},{"$f":"IF(AND(I159>0,K159+L159+M159=0),\"EN ATTENTE\",IF(K159+L159+M159>1,\"ERREUR\",\"\"))","v":""},"","",{"$f":"IF(A159<>0,VLOOKUP(A159,Liste!$A$10:$K$159,8,FALSE),\"\")","v":""},null,null,null,null,null,null,null,null,null,null,0,0,0,1000]
[null,{"$f":"IF(A160<>0,VLOOKUP(A160,Liste!$A$10:$D$159,4,FALSE),\"\")","v":""},0,0,0,0,null,null,0,0,{"$f":"IF(AND($I160=1,$H160>0),VLOOKUP($H160,$A$14:AD$163,11,FALSE),0)","v":0},{"$f":"IF(AND($I160=1,$H160>0),VLOOKUP($H160,$A$14:AE$163,12,FALSE),0)","v":0},{"$f":"IF(AND($I160=1,$H160>0),VLOOKUP($H160,$A$14:AF$163,13,FALSE),0)","v":0},{"$f":"IF(AND(I160>0,K160+L160+M160=0),\"EN ATTENTE\",IF(K160+L160+M160>1,\"ERREUR\",\"\"))","v":""},"","",{"$f":"IF(A160<>0,VLOOKUP(A160,Liste!$A$10:$K$159,8,FALSE),\"\")","v":""},null,null,null,null,null,null,null,null,null,null,0,0,0,1000]
[null,{"$f":"IF(A161<>0,VLOOKUP(A161,Liste!$A$10:$D$159,4,FALSE),\"\")","v":""},0,0,0,0,null,null,0,0,{"$f":"IF(AND($I161=1,$H161>0),VLOOKUP($H161,$A$14:AD$163,11,FALSE),0)","v":0},{"$f":"IF(AND($I161=1,$H161>0),VLOOKUP($H161,$A$14:AE$163,12,FALSE),0)","v":0},{"$f":"IF(AND($I161=1,$H161>0),VLOOKUP($H161,$A$14:AF$163,13,FALSE),0)","v":0},{"$f":"IF(AND(I161>0,K161+L161+M161=0),\"EN ATTENTE\",IF(K161+L161+M161>1,\"ERREUR\",\"\"))","v":""},"","",{"$f":"IF(A161<>0,VLOOKUP(A161,Liste!$A$10:$K$159,8,FALSE),\"\")","v":""},null,null,null,null,null,null,null,null,null,null,0,0,0,1000]
[null,{"$f":"IF(A162<>0,VLOOKUP(A162,Liste!$A$10:$D$159,4,FALSE),\"\")","v":""},0,0,0,0,null,null,0,0,{"$f":"IF(AND($I162=1,$H162>0),VLOOKUP($H162,$A$14:AD$163,11,FALSE),0)","v":0},{"$f":"IF(AND($I162=1,$H162>0),VLOOKUP($H162,$A$14:AE$163,12,FALSE),0)","v":0},{"$f":"IF(AND($I162=1,$H162>0),VLOOKUP($H162,$A$14:AF$163,13,FALSE),0)","v":0},{"$f":"IF(AND(I162>0,K162+L162+M162=0),\"EN ATTENTE\",IF(K162+L162+M162>1,\"ERREUR\",\"\"))","v":""},"","",{"$f":"IF(A162<>0,VLOOKUP(A162,Liste!$A$10:$K$159,8,FALSE),\"\")","v":""},null,null,null,null,null,null,null,null,null,null,0,0,0,1000]
[null,{"$f":"IF(A163<>0,VLOOKUP(A163,Liste!$A$10:$D$159,4,FALSE),\"\")","v":""},0,0,0,0,null,null,0,0,{"$f":"IF(AND($I163=1,$H163>0),VLOOKUP($H163,$A$14:AD$163,11,FALSE),0)","v":0},{"$f":"IF(AND($I163=1,$H163>0),VLOOKUP($H163,$A$14:AE$163,12,FALSE),0)","v":0},{"$f":"IF(AND($I163=1,$H163>0),VLOOKUP($H163,$A$14:AF$163,13,FALSE),0)","v":0},{"$f":"IF(AND(I163>0,K163+L163+M163=0),\"EN ATTENTE\",IF(K163+L163+M163>1,\"ERREUR\",\"\"))","v":""},"","",{"$f":"IF(A163<>0,VLOOKUP(A163,Liste!$A$10:$K$159,8,FALSE),\"\")","v":""},null,null,null,null,null,null,null,null,null,null,0,0,0,1000]

{"sheet":"Lisez-moi","index":6,"n_rows":108,"n_cols":2,"rows_kept":108,"cut":false,"hidden":false,"merged":[]}
[]
[]
["                                               G E S T I O N    D E S   V O T E S"]
[]
["La gestion des Votes en A.G. de copropriété, sur Excel, repose sur l' utilisation d'une feuille \"MERE\" qui est la copie "]
["de la feuille de présence;"]
["A partir de cette feuille on crée une feuille de vote pour chaque question à l' ordre du jour de l' A.G."]
[]
[]
["Feuille \"Liste\""]
["Comporte le numéro d' ordre, les noms et adresses, les numéros de lots et leur désignation et tantièmes généraux."]
["Cette feuille sert à l' établissement automatique de la feuille de présence (F.P.)"]
[]
["Feuille F.P.,  fveuille de présence."]
["Cette feuille doit être imprimée pour servir à l' émargement."]
[]
["La feuille  \"MERE\"  peut être créé dés que la convocation de l' A.G. est faite."]
["Elle comporte la liste de tous les copropriétaires avec leurs tantièmes dans les différentes clés."]
["Cliquez sur le boutron \"Nouveau dossier\" pour ouvrir un dossier pour la nouvelle A.G."]
["Le logiciel renomme le nouveau dossier automatiquement avec référence à la date de la nouvelle A.G."]
["Le numéro d' ordre attribué à un copropriétaire ne sert qu' à faire le lien entre les mandants et le mandataire"]
["Dans la feuille \"Liste\" faire les modifications éventuelles suite à des mutations et cliquez sur \"Mise à jour\", la liste "]
["des copropriétaires est alors trier par ordre,"]
["aphabétique et numérotée,"]
["Le numéro d' ordre attribué à un copropriétaire ne sert qu' à faire le lien entre les mandants et le mandataire"]
["il ne faut pas trier la feuille \"MERE\" en cours d' A.G."]
["Un bouton \"Réduire/Afficher\"  permet de basculer d' un affichage à un autre,"]
["Vous pouvez maintenant, à partir de la feuille de présence papier émargée par les copropriétaires, enregistrer "]
["les votes par corresspondences ( code 1) et les votes des présents et représentés (Code 2 ) ","nts p"]
["Pour les représentés mettre en colonne \"H\" le numéro du mandataire."]
["Le logiciel vérifie pour chaque copropriétaire les limites, nombre de pouvoirs et nombre de voix:"]
["Colonne \"AC\" - Nombre de représentés."]
["Colonne \"AD\" - Total des voix disponibles pour le mandataire."]
["Colonne \"O\" - Avertissement en cas de dépassement :  \"1\" en rouge."]
["Cellule G7, Cadre rouge clair :avertissement si nombre de représentés et nombre de voix dépassées"]
[]
["Vous pouvez maintenant cliquer sur le bouton \"Feuille de Votes\""]
["Le logiciel refusera cet accès si les limites sont dépassées."]
[]
["Vous alllez entrer les informations demandées par le programme: Référence de la résolution, Objet de la résolution, "]
["Numéro de majorité nécessaire (24 ,25, 25,1, 26 ), numéro ,de clé applicable."]
["Les colonnes \"D\" à \"F\" sont masqués pour faciliter la saisie des votes."]
["Pour les afficher à nouveau il suffit de cliquer sur le bouton bleu \"Afficher tout\"."]
[]
["Vous pouvez maintenant enregistrer les votes. "]
[]
["Les votes des mandants sont, sauf expression particulière, celui du mandataire. "]
["Il faut donc faire attention en cas de départ d'un mandataire en cours d' A.G."]
["De même un mandataire peut ne pas être \"votant\" dans une clé particulière, il faut alors exprimer le vote manuellement."]
["Il ne faut jamais trier une feuille de vote en cours d' A.G.sauf l' opération  facultative \"Trier Valider\" en fin de votes"]
[]
[]
["Explication sur les couleurs de fonds :"]
["Colonne A couleur \"BLEU\" : Mandataires"]
["Lignes  de couleur \"JAUNE\" : Présents"]
["Lignes de couleur \"GRISE\" : Absents,"]
[]
["Bouton \" TRIER VALIDER\""]
["La validation n' est pas obligatoire, l' opération est irréversible."]
["La validation  trie les copropriétaires suivant les votes exprimés, cela permet de faire un \"copier\" des votes des opposants"]
["à la résolution et de faire un \"coller\" dans le P.V. d' A.G."]
["Le logiciel indique quels sont les \"Opposants à la décision prise\"."]
[]
["Les boutons \"DEB\" ; \"+6\", +12\", +24\",……\"Fin\" servent à la navigation dans la feuille de votes."]
["Les boutons \"DEB\" ; \"+6\", +12\", +24\",……\"Fin\" servent à la navigation dans la feuille de votes."]
[]
["NOUVELLE ASSEMBLEE GENERALE"]
["Le bouton rouge \"Nouveau dossier\" permet de créer un dossier pour une nouvelle A.G."]
["Le dossier de l' A.G. précédente est conservé."]
["Il faut mettre à jour la feuille \"Liste\" des mutations et changements d' adresse intervenus depuis l' A.G. précédente,"]
["ensuite cliquer sur le bouton \"Mise à jour\","]
[]
["NOUVELLE COPROPRIETE"]
["Dans la feuille \"Liste\"  cliquer sur le bouton \"NOUVELLE COPROPRIETE,"]
["Dans la feuille \"Lste\" enregistrer tous les noms et adreses des copropriétaires ainsi que leurs lots et tantièmes,"]
["Enregistrer tous les noms adresses , lots et tantièmes de tous les copropriétaires."]
["Dans la feuille \"F.MERE\" supprimer les tantièmes spécifiques (Colonnes R à AA, et les remplacer par ceux "]
["du nouveau syndicat,"]
["La \"feuille de présence\" esr créé automatiquement,"]
[]
["VOTES PAR CORRESPONDANCE;"]
["Une procédure, facultative, perme d' enregistrer avant la tenue de l' A.G.les votes exprimés par les copropriétaires ayant "]
[" retourné dans les délais leur formulaire de votes par correspondance."]
["Dans le feuille \"F.MERE\" enregistrer les votants par correspondance, code 3,"]
[]
["Feuille V.P.C."]
["Dans cette feuille enregistrer les votes de chaque copropriétirzs pour chacune des questions à l' ordre du Jour"]
[]
["Feuille V.P.C.Question"]
["Dans la feuille VPC cliquer sur le bouton \"Tri par Question\""]
["Vous pouvez maintenant sélectionner les votes par correqsopondance pour la question en cours"]
["Colonnes F ,G, H et les coller dans la cellule K  14 de la question en cours,"]
[]
["Vous pouvez maintenant  enregistrer les votes des présents et en vidéos"]
[]
["Formulaire de votes par correspondance."]
["Ce formulaire est établi à partir des données de la \"feuille liste\""]
["Le logiciel mentionne les copropriétaires qui ne participent pas à une question, Copropriétaires bât  B pour des travaux Bât A,"]
[]
["ETATS ET MATRICES,"]
["Deux modéles de feuilles à joindre à la convocation d’ A.G., Un \"POUVOIR\" "]
["et un \"Formulaire de vote par correspondance\","]
["Une matrice \"Convocation d' A.G\"., à complèter"]
["Une matrice \"Procès-verbal de l' A.G.\", à compléter"]
[]
["Mise à jour le 16 janvier 2023"]
["Jean Braconnier"]
["braconnier,jean@free,fr"]

{"sheet":"Conv,AG","index":7,"n_rows":86,"n_cols":7,"rows_kept":86,"cut":false,"hidden":false,"merged":[]}
["RECOMMANDEE  A,R,",null,null,null,null,{"$f":"+Liste!A1","v":"Résid.LA JOIE"}]
[null,null,null,null,null,{"$f":"+Liste!A2","v":"120 rue de l' Espérance"}]
[null,null,null,null,null,{"$f":"+Liste!A3","v":75016},{"$f":"+Liste!B3","v":"PARIS"}]
[]
[null,"Convocation à l' Aasemblée  générale ordinaire"]
[]
["Madame, Monsieur,"]
[]
["Nous vous prions de bien vouloir  participer à l' Assemblée Générale des Copropriétaires qui se tiendra  le"]
[]
[null,null,"Lundi 5 Juillet 2021 à 17 Heures 30"]
[]
[null,null,null,"Cabinet DUDULE "]
[null,null,null,"7 rue de l' Avenir"]
[null,null,null,75016,"PARIS"]
[]
["à l' effet de délivbérer sur l' ordre du jour suivant"]
[]
["1, ELECTION DU PRESIDENT DE SCEANCE -Majorité article 24"]
[null,"M,,,,,,,,,,,,,,,,,,,,,,,,,,,,,,,,,,,,,,",null,"est élu(e) président(e) de séance"]
[]
["2, ELECTION DU SCRUTATEUR  -Majorité article 24"]
[null,"M,,,,,,,,,,,,,,,,,,,,,,,,,,,,,,,,,,,,,,"]
[]
["3, ELECTION D' UN SECRETAIRE, Majorité article 24"]
[null,"M,,,,,,,,,,,,,,,,,,,,,,,,,,,,,,,,,,,,,,",null,"représentant le"]
[null,null,null,"est élu(e) secrétaire"]
["4, COMPTE RENDU DU CONSEIL SYNDICAL SUR SES MISSIONS ET AVIS"]
[null,"RENDUS AU COURS DE L'EXERCICE ECOULE, sans vote,"]
[]
["5, APPROBATION DES COMPTES DE L'EXERCICE DU"]
[null,"Majorité article 24"]
[null,"Les comptes peuvent être vérifiés par tout copropriétaire, les six jours qui prfcédent l' AG"]
[null,"ou sur rendez vous au bureau du syndic"]
[null,"Projet de résolution,"]
[null,"L' asselblée générale approuve les comptes de charges de l' exercice qui s' élèvent à "]
[]
["6_ DESIGNATION DU SYNDIC, Majorité article 25 (possibilité 2e vote à l' article 25-1 majorité 24 )"]
[null,"Projet de résolution,"]
[null,"L' assemblée générale désigne M                 en qualité de syndic, selon contrart joint à la cinvocation,"]
[null,"L' assemblée générale mandate le Président de séance pour signer le contrrart de syndic,"]
[]
["7, DESIGNATION DES MEMBRES DU CONSEIL SYNDICAL"]
[null," Majorité article 25 (possibilité 2e vote à l' article 25-1 majorité 24 )"]
[null,"Projet de Résolution:"]
[null,"Monsieur      est élu membre du conseil syndicdal"]
[null,"Monsieur      est élu membre du conseil syndicdal"]
[]
["8, MODALITES DE CONSULTATION DU CONSEIL SYNDICAL, majorité 25,"]
[null," Majorité article 25 (possibilité 2e vote à l' article 25-1 majorité 24 )"]
[null,"Projet de résolution,"]
[null,"L' Assemblé Générale fixe à          euros TTC le montant  des marchés et contrats"]
[null,"à partir duquel le Conseil Syndcal est consulté,"]
[]
["9, MISE EN CONCURRENCE DES MARCHES ET CONTRATS, Majorité 25"]
[null,"Projet de résolution,"]
[null,"L' Assemblée Générale fixe à,,,,,,,,euros le montant à partir duquel la mise en concurrence "]
[null,"des marchés et contrats est rendue obligatoire,"]
[]
["10,VOTE DU BUDGET PREVISIONNELDE L' EXERCICE  N+2 majorité 24"]
[null,"Projet de résolution,"]
[null,"L' Assemblée Générale fixe le budget de l' exercice N+2 à la somme de ,,,,,,,,,,,,,,,, euros"]
[null,"Elle autorise le syndic à procéder aux appels provisionnels à proportion de 1/4 du budget voté,"]
[null,"le 1er jour de chaque trimestre,"]
[]
["11,REALISATION DE TRAVAUX                        Majorité"]
[null,"Conditions essentielles des marchés,"]
[null,"Devis"]
[null,"Devis"]
[null,"Projet de résolution,"]
[null,"L'Assemblée Générale décide l' éxécution des travaux et confie la réalisation de ces travaux"]
[null,"à l' entreprise,,,,,,,,,,,,,,pour pour un montant de,,,,,,,,,euros TTC"]
[null,"auquel s' ajoute l' Assurance Dommage Ouvrages obligatoire d' un monant de,,,,,euros"]
[]
[null,"L' assemblée Générale autorise le syndic à procéder, selon la clé de répartition,,,,,"]
[null,"aux appels de provisions exigibles comme suit"]
[null,",,,,,,","% le"]
[null,",,,,,,,","% le"]
[null,",,,,,,,","% le"]
[null,"L' Assemblée Générale décide de financer les travaux par le \" Fonds travaux\" à hauteur de,,,,   % "]
[null,"de la participation aux travaux et dans la limite de ce que dispose chaque lot dans le \"Fonds travaux\","]
[]
["12, HONORAIRES SUR TRAVAUX                Majorité,,,,,"]
[null,"Projet de résolution,"]
[null,"Dans le cadre des travaux l' Assemblée Générale décide de fixer le montant des honoraires comme suit, à"]
[null,"         % HT du montant HT des travaux, soit un montant de,,,,,,,,,,,,TTC,"]

{"sheet":"P.V.A.G.","index":8,"n_rows":208,"n_cols":7,"rows_kept":208,"cut":false,"hidden":false,"merged":[]}
[null,null,null,null,null,{"$f":"+Liste!A1","v":"Résid.LA JOIE"}]
[null,null,null,null,null,{"$f":"+Liste!A2","v":"120 rue de l' Espérance"}]
[null,null,null,null,null,{"$f":"+Liste!A3","v":75016},"PARIS"]
[]
[null,"Proces-Verbal de l' Assemblée générale ordinaire"]
[null,null,"Du","2021-06-25"]
[]
["Les copropriétaitres de l' immmeuble sis"]
[]
[null,null,null,",,,,,,"]
[null,null,null,",,,,,,"]
[null,null,null,",,,,,,"]
[]
["Se sont réunis"]
[null,null,null,",,,,,"]
[null,null,null,",,,,,"]
[null,null,null,",,,,,"]
[]
["Sur convocation régulière qui leur a été adressée par le syndic"]
[]
["Il est constaté, à l' examen de la feuille de présence, dûment émargée par chaque copropriétaire"]
["en entrant en séance, que,,,,,,,copropriétaires  représentant,,,,,,voix sur ,,,,,,,constituant le"]
["Syndicat des copropriétaires, sont présents ou représentés,"]
[]
["N' ont pas participé aux votes des résolutions prévues à l' ordre du jour, les absents non représentés"]
["Soit un total de,,,,,,voix, et dont les  noms suivant :"]
[",,,,"]
[",,,,"]
[",,,,"]
["1, ELECTION DU PRESIDENT DE SEANCE             Majorité 24"]
[]
[null,"Monsieur                                           est élu président de séance"]
[]
[null,"POUR :"]
[null,"CONTRE"]
[null,"ABSTENTIONS"]
[null,"Ce sont opposés à la décision prise"]
[null,",,,,,,,"]
[null,"Ce sont abstenus"]
[null,",,,,,,,"]
[null,"CETTE RESOLUTION EST ADOPRTEE A L'UNANIMITE DES PRESENTS ET REPRESENTES"]
[]
["2, ELECTION DU SCRUTATEUR                                  Majoité article 24"]
[]
[null,"Monsieur                                           est élu scrutateur"]
[]
[null,"POUR :"]
[null,"CONTRE"]
[null,"ABSTENTIONS"]
[null,"Ce sont opposés à la décision prise"]
[null,",,,,,,,"]
[null,"Ce sont abstenus"]
[null,",,,,,,,"]
[null,"CETTE RESOLUTION EST ADOPRTEE A L'UNANIMITE DES PRESENTS ET REPRESENTES"]
[]
[]
[]
[]
["3, ELECTION D' UN SECRETAIRE                              Majorité article 24"]
[]
[null,"Monsieur                                           est élu secrétaire"]
[]
[null,"POUR :"]
[null,"CONTRE"]
[null,"ABSTENTIONS"]
[null,"Ce sont opposés à la décision prise"]
[null,",,,,,,,"]
[null,"Ce sont abstenus"]
[null,",,,,,,,"]
[null,"CETTE RESOLUTION EST ADOPRTEE A L'UNANIMITE DES PRESENTS ET REPRESENTES"]
[]
["5,APPROBATION DES COMPTES DE L'EXERCICE DU,,,,,,,AU,,,,"]
[null,"Majorité article 24"]
[null,"L' assemblée Générale approuve les comptes de charges de l' exercice s' élevant à "]
[]
[null,"POUR :"]
[null,"CONTRE"]
[null,"ABSTENTIONS"]
[null,"Ce sont opposés à la décision prise"]
[null,",,,,,,,"]
[null,"Ce sont abstenus"]
[null,",,,,,,,"]
[null,"CETTE RESOLUTION EST ADOPTEE A L'UNANIMITE DES PRESENTS ET REPRESENTES"]
[]
["6_ DESIGNATION DU SYNDIC, Majorité article 25 (possibilité 2e vote à l' article 25-1 majorité 24 )"]
[null,"L' Assemblée Générale désigne,,,,,,,,,,,, en qualite=e de syndic, selon contrat joint"]
[null,"pour la période du,,,,,,,,,,,,au,,,,,,,"]
[null,"Mandate le Président de séance pour signer le conrtrat de Syndic,"]
[]
[null,"POUR :"]
[null,"CONTRE"]
[null,"ABSTENTIONS"]
[null,"Ce sont opposés à la décision prise"]
[null,",,,,,,,"]
[null,"Ce sont abstenus"]
[null,",,,,,,,"]
[null,"CETTE RESOLUTION EST ADOPTEE A L'UNANIMITE DES PRESENTS ET REPRESENTES"]
[]
["7, DESIGNATION DES MEMBRES DU CONSEIL SYNDICAL"]
[null," Majorité article 25 (possibilité 2e vote à l' article 25-1 majorité 24 )"]
[7.1,"Monsieur                                 est élu membre du Conseil syndical                          "]
[null,"POUR :"]
[null,"CONTRE"]
[null,"ABSTENTIONS"]
[null,"Ce sont opposés à la décision prise"]
[null,",,,,,,,"]
[null,"Ce sont abstenus"]
[null,",,,,,,,"]
[null,"CETTE RESOLUTION EST ADOPTEE A L'UNANIMITE DES PRESENTS ET REPRESENTES"]
[]
[7.2,"Monsieur                                 est élu membre du Conseil syndical                          "]
[null,"POUR :"]
[null,"CONTRE"]
[null,"ABSTENTIONS"]
[null,"Ce sont opposés à la décision prise"]
[null,",,,,,,,"]
[null,"Ce sont abstenus"]
[null,",,,,,,,"]
[null,"CETTE RESOLUTION EST ADOPTEE A L'UNANIMITE DES PRESENTS ET REPRESENTES"]
[]
["8, MODALITES DE CONSULTATION DU CONSEIL SYNDICAL, majorité 25,"]
[null,"L' Assemblé Générale fixe à          euros TTC le montant  des marchés et contrats"]
[null,"à partir duquel le Conseil Syndcal est consulté,"]
[null,"POUR"]
[null,"CONTRE"]
[null,"ABSTENTIONS"]
[null,"Ce sont opposés à la décision prise"]
[null,",,,,,,,"]
[null,"Ce sont abstenus"]
[null,",,,,,,,"]
[null,"CETTE RESOLUTION EST ADOPTEE A L'UNANIMITE DES PRESENTS ET REPRESENTES"]
[]
["9, MISE EN CONCURRENCE DES MARCHES ET CONTRATS, Majorité 25"]
[null,"L' Assemblée Générale fixe à,,,,,,,,euros le montant à partir duquel la mise en concurrence "]
[null,"des marchés et contrats est rendue obligatoire,"]
[null,"POUR"]
[null,"CONTRE"]
[null,"ABSTENTIONS"]
[null,"Ce sont opposés à la décision prise"]
[null,",,,,,,,"]
[null,"Ce sont abstenus"]
[null,",,,,,,,"]
[null,"CETTE RESOLUTION EST ADOPTEE A L'UNANIMITE DES PRESENTS ET REPRESENTES"]
[]
["10,VOTE DU BUDGET PREVISIONNELDE L' EXERCICE  N+2 majorité 24"]
[null,"L' Assemblée Générale fixe le budget de l' exercice N+2 à la somme de ,,,,,,,,,,,,,,,, euros"]
[null,"Elle autorise le syndic à procéder aux appels provisionnels à proportion de 1/4 du budget voté,"]
[null,"le 1er jour de chaque trimestre,"]
[null,"POUR"]
[null,"CONTRE"]
[null,"ABSTENTIONS"]
[null,"Ce sont opposés à la décision prise"]
[null,",,,,,,,"]
[null,"Ce sont abstenus"]
[null,",,,,,,,"]
[null,"CETTE RESOLUTION EST ADOPTEE A L'UNANIMITE DES PRESENTS ET REPRESENTES"]
[]
["11,REALISATION DE TRAVAUX                        Majorité"]
[null,"L'Assemblée Générale décide l' éxécution des travaux et confie la réalisation de ces travaux"]
[null,"à l' entreprise,,,,,,,,,,,,,,pour pour un montant de,,,,,,,,,euros TTC"]
[null,"auquel s' ajoute l' Assurance Dommage Ouvrages obligatoire d' un monant de,,,,,euros"]
[]
[null,"L' assemblée Générale autorise le syndic )àprocéder, selon la clé de répartition,,,,,"]
[null,"et aux appels de provisions exigibles comme suit"]
[null,",,,,,,"]
[null,",,,,,,,"]
[null,",,,,,,,"]
[null,"L' Assemblée Générale décide de financer les travaux par le \" Fonds travaux\" à hauteur de,,,,   % "]
[null,"de la participation aux travaux et dans la limite de ce que dispose chaque lot dans le \"Fonds travaux\","]
[null,"POUR"]
[null,"CONTRE"]
[null,"ABSTENTIONS"]
[null,"Ce sont opposés à la décision prise"]
[null,",,,,,,,"]
[null,"Ce sont abstenus"]
[null,",,,,,,,"]
[null,"CETTE RESOLUTION EST ADOPTEE A L'UNANIMITE DES PRESENTS ET REPRESENTES"]
[]
[]
["12, HONORAIRES SUR TRAVAUX                Majorité,,,,,"]
[null,"Dans le cadre des travaux l' Assemblée Générale décide de fixer le montant des honoraires "]
[null,"commze suit, à         % HT du montant HT des travaux, soit un montant de,,,,,,,,,,,,TTC,"]
[null,"POUR"]
[null,"CONTRE"]
[null,"ABSTENTIONS"]
[null,"Ce sont opposés à la décision prise"]
[null,",,,,,,,"]
[null,"Ce sont abstenus"]
[null,",,,,,,,"]
[null,"CETTE RESOLUTION EST ADOPTEE A L'UNANIMITE DES PRESENTS ET REPRESENTES"]
[]
[]
[]
["L' ordre du jour étant épuisé et personne ne demandant la parole, le président, aprçs émargement de la feuille"]
["de présence par les membres du bureau, lève la séance à,,,,,"]
[]
[null,"Le scrutateur",null,"Le secrétaire",null,"Le Prsident"]
[]
[]
[]
[]
["Extrait de l' article 42 de la loi du 10 juillet 1965"]
["Les actions qui ont pour objet de contester les décisions d' Assembléen Générale doivent, à peine de déchéance, être"]
["introduites par les copropiétaires opposants ou défaillants, dans un délai de deux mois à compter de la notification desdites"]
["décisions qui leur est faite à la diligence du syndic (loi n° 85-1470 du 31 décembre 1985), dans un délai de deux mois"]
["à compter de la tenue de l' Assemblée Générale,"]
["Sauf en cas d' urgence, l' éxecution par le syndic des travaux décidés par l' Assemblée Générale en application des articles"]
["25 et 26 est suspendue jusqu' à l'expiration du délai mentionné à la première phrase du présent alinéa,\""]

{"sheet":"POUV","index":9,"n_rows":34,"n_cols":4,"rows_kept":34,"cut":false,"hidden":false,"merged":[]}
[]
[]
[]
[]
[]
[]
[]
[]
[]
[null,null,"P  O  U  V  O  I  R"]
[]
["Je soussigné,,,,,,,,,,,,,,,,,,,,,,,,,,,,,,,,,,,,,,,,,,,,,,,,,,,,,,,,,,,,,,,,,,,,,,,,,,,,,,,,,,,,,,,,,,,,,,,,,,,,,,,,"]
[]
["Copropriétaire et titulaire de lot(s) de copropriété au sein de l' immzuble"]
[]
[null,{"$f":"Liste!A1 &\" \" &Liste!A2 &\" \" &Liste!A3&\" \" &Liste!B3","v":"Résid.LA JOIE 120 rue de l' Espérance 75016 PARIS"}]
[]
["Donne par la présente, pouvoir, avec la faculté de le subdéléguer à la personne de son choix,"]
["à,,,,,,,,,,,,,,,,,,,,,,,,,,,,,,,,,,,,,,,,,,,,,,,,,,,,,,,,,,,,,,,,,,,,,,,,,,,,,,,,,,,,,,,,,,,,,,,,,,,,,,,,,,,,,,,,,,,,,,,,,,"]
["de, pour moi et en mon nom, se présenter à l' Assemblée générale du syndicat des copropriétaires "]
["de l'immeuble ci-dessus visé, le ;"]
[null,null,{"$f":"Liste!E3","v":"2022-11-05"},{"$f":"\"à \"&Liste!E4","v":"à 10 Heures"}]
[]
[]
["de, en mon nom, délibérer, prendre toutes résolutions nécessaires, émettre tous votes, donner "]
["tous avis, et de me représenter à toutes Assemblées qui seraient convoquées ultérieuremnt,"]
["avec le même ordre du jour, en cas de défaut de majorité pour la première Assemblée"]
[]
[]
["A défaut d' avoir porté le nom d' un mandataire, j' autorise expréssément la remise de ce pouvoir "]
["à tout participanr à l' assemblée générale,"]
["Fait à,,,,,,,,,,,,,,,,,,,,,,,,,,,,,,,,,,,,,,,,,,,,,,,,,,,,,,,,,,,,,,,,,,,,,,,,,,,,,le,,,,,,,,,,,,,,,,,,,,,,,,,,,,,,,,,,,,,,,,,,,,,,,,,,,,,,"]
[]
["BON POUR POUVOIR  (mention manuscrite )",null,null,"Signature"]

{"sheet":"FormVPC","index":10,"n_rows":2032,"n_cols":13,"rows_kept":2032,"cut":false,"hidden":false,"merged":[]}
[{"$f":"Liste!$A$1","v":"Résid.LA JOIE"},null,null,null,null,null,null,null,"FORMULAIRE DE VOTE PAR CORRESPONDANCE"]
[{"$f":"Liste!$A$2","v":"120 rue de l' Espérance"},{"$f":"Liste!$A$2","v":"120 rue de l' Espérance"},null,null,null,null,null,null,null,"Page 1"]
[{"$f":"Liste!$A$3","v":75016},{"$f":"Liste!$A$3  & \" \" &Liste!$B$3","v":"75016 PARIS"}]
[null,null,null,null,null,null,null,"Assemblée Générale Ordinaire du",{"$f":"Liste!$E$3","v":"2022-11-05"}]
["Date et lieu",{"$f":"Liste!$E$3","v":"2022-11-05"},null,"à",{"$f":"Liste!$E$4","v":"10 Heures"},{"$f":"Liste!E2","v":"15 rue du Bois d'Amour 75016 PARIS"}]
[]
[null,null,null,null,null,null,"Ce formulaire doit être adressé à",null,{"$f":"Liste!$G$3","v":"Cabinet LEBON"}]
[null,null,null,null,null,null,null,null,{"$f":"Liste!$G$4","v":"120 rue du Devoir"}]
[null,null,null,null,null,null,null,null,{"$f":"Liste!$G$5","v":"75016 Paris"}]
[null,null,null,null,null,"Avant la date limite de réxception le",{"$f":"Liste!$E$5","v":"1 Novemvbre 2022"}]
[]
["Je soussigné('e):",{"$f":"Liste!$C$10&\" \"&Liste!$D$10","v":"Monsieur ALEXANDRINI André"},null,"N°",{"$f":"Liste!A10","v":1}]
["domicilié(e) au",{"$f":"Liste!$E$10&\" \"&Liste!F$10&\" \"&Liste!G$10","v":"15 rue du Trou Perdu 33700 Mérignac"}]
[]
["après avoir pris connaissance de l' ordre du jour et des documents annexés  à la conocation ou"]
["mis à disposition sur le site en ligne sécurisé de la copropriété,"]
["souhaite émettre sur chacune des questions soumises à la délibération de l' assemblée générale "]
["des copropriétaires convoquée le"]
["Signature du Copropriétaire de l' associé ou du mandataire commun"]
[null,null,null,null,null,null,"Fait à le"]
[]
[1.01,"Election Président de séance","Mr Banchet",null,null,1,{"$f":"VLOOKUP(F22,Liste!$B$179:$C$189,2)","v":"Charges générales   "},null,"Majorité Article 24",null,null,{"$f":"E12","v":1},{"$f":"VLOOKUP(L22,F.MERE!$A$14:$AA$163,16+F22)","v":568}]
[]
[null,{"$f":"IF($M22>0,\"\",\"NE PARTICIPE PAS                   XXXXXXXXXXXXX\")","v":""},null,null,"POUR",null,"CONTRE",null,"ABSTENTION",null,null,null,{"$f":"VLOOKUP($E$12,F.MERE!$A$14:$AA$163,16+F23)","v":""}]
[]
[2.0099999999999998,"Election dfu Secrétaire","Mr Lafolie",null,null,1,{"$f":"VLOOKUP(F26,Liste!$B$179:$C$189,2)","v":"Charges générales   "},null,"Majorité Article 24",null,null,{"$f":"E12","v":1},{"$f":"VLOOKUP(L26,F.MERE!$A$14:$AA$163,16+F22)","v":568}]
[]
[null,{"$f":"IF($M26>0,\"\",\"NE PARTICIPE PAS                   XXXXXXXXXXXXX\")","v":""},null,null,"POUR",null,"CONTRE",null,"ABSTENTION"]
[]
[3.01,"Election Scrutateur","Mr Berlier",null,null,1,{"$f":"VLOOKUP(F30,Liste!$B$179:$C$189,2)","v":"Charges générales   "},null,"Majorité Article 24",null,null,{"$f":"E12","v":1},{"$f":"VLOOKUP(L30,F.MERE!$A$14:$AA$163,16+F30)","v":568}]
[]
[null,{"$f":"IF($M30>0,\"\",\"NE PARTICIPE PAS                   XXXXXXXXXXXXX\")","v":""},null,null,"POUR",null,"CONTRE",null,"ABSTENTION"]
[]
[4.01,"Conseiller Syndical","Mme Fournier",null,null,1,{"$f":"VLOOKUP(F34,Liste!$B$179:$C$189,2)","v":"Charges générales   "},null,"Majorité Article 24",null,null,{"$f":"E12","v":1},{"$f":"VLOOKUP(L34,F.MERE!$A$14:$AA$163,16+F34)","v":568}]
[]
[null,{"$f":"IF($M34>0,\"\",\"NE PARTICIPE PAS                   XXXXXXXXXXXXX\")","v":""},null,null,"POUR",null,"CONTRE",null,"ABSTENTION"]
[]
[5.01,"Election Syndic","Cab;DUDULE",null,null,1,{"$f":"VLOOKUP(F38,Liste!$B$179:$C$189,2)","v":"Charges générales   "},null,"Majorité Article 25",null,null,{"$f":"E12","v":1},{"$f":"VLOOKUP(L38,F.MERE!$A$14:$AA$163,16+F38)","v":568}]
[]
[null,{"$f":"IF($M38>0,\"\",\"NE PARTICIPE PAS                   XXXXXXXXXXXXX\")","v":""},null,null,"POUR",null,"CONTRE",null,"ABSTENTION"]
[]
[5.0199999999999996,"Election Syndic,2e vote","Cab,DUDULE",null,null,1,{"$f":"VLOOKUP(F42,Liste!$B$179:$C$189,2)","v":"Charges générales   "},null,"Majorité Article 24",null,null,{"$f":"E12","v":1},{"$f":"VLOOKUP(L42,F.MERE!$A$14:$AA$163,16+F42)","v":568}]
[]
[null,{"$f":"IF($M42>0,\"\",\"NE PARTICIPE PAS                   XXXXXXXXXXXXX\")","v":""},null,null,"POUR",null,"CONTRE",null,"ABSTENTION"]
[]
[6.01,"Travaux BÄT B","Devis ABC",null,null,3,{"$f":"VLOOKUP(F46,Liste!$B$179:$C$189,2)","v":"Chardes Bât,B"},null,"Majorité Article 26",null,null,{"$f":"E12","v":1},{"$f":"VLOOKUP(L46,F.MERE!$A$14:$AA$163,16+F46)","v":0}]
[]
[null,{"$f":"IF($M46>0,\"\",\"NE PARTICIPE PAS                   XXXXXXXXXXXXX\")","v":"NE PARTICIPE PAS                   XXXXXXXXXXXXX"},null,null,"POUR",null,"CONTRE",null,"ABSTENTION"]
[]
[null,null,null,null,null,1,{"$f":"VLOOKUP(F50,Liste!$B$179:$C$189,2)","v":"Charges générales   "},null,"Majorité Article 24",null,null,{"$f":"E12","v":1},{"$f":"VLOOKUP(L50,F.MERE!$A$14:$AA$163,16+F50)","v":568}]
[]
[null,{"$f":"IF($M50>0,\"\",\"NE PARTICIPE PAS                   XXXXXXXXXXXXX\")","v":""},null,null,"POUR",null,"CONTRE",null,"ABSTENTION"]
[]
[null,null,null,null,null,1,{"$f":"VLOOKUP(F54,Liste!$B$179:$C$189,2)","v":"Charges générales   "},null,"Majorité Article 24",null,null,{"$f":"E12","v":1},{"$f":"VLOOKUP(L54,F.MERE!$A$14:$AA$163,16+F54)","v":568}]
[]
[null,{"$f":"IF($M54>0,\"\",\"NE PARTICIPE PAS                   XXXXXXXXXXXXX\")","v":""},null,null,"POUR",null,"CONTRE",null,"ABSTENTION",null,null,null,{"$f":"VLOOKUP($E$12,F.MERE!$A$14:$AA$163,16+F55)","v":""}]
[]
["x"]
[{"$f":"Liste!$A$1","v":"Résid.LA JOIE"},null,null,null,null,null,null,null,"FORMULAIRE DE VOTE PAR CORRESPONDANCE"]
[{"$f":"Liste!$A$2","v":"120 rue de l' Espérance"},{"$f":"Liste!$A$2","v":"120 rue de l' Espérance"}]
[{"$f":"Liste!$A$3","v":75016},{"$f":"Liste!$A$3  & \" \" &Liste!$B$3","v":"75016 PARIS"},null,null,null,null,null,null,null,"Page 1"]
[{"$f":"Liste!A62","v":0},{"$f":"Liste!B62","v":0}]
[null,null,null,null,null,null,null,"Assemblée Générale Ordinaire du",{"$f":"Liste!$E$3","v":"2022-11-05"}]
["Date et lieu",{"$f":"Liste!$E$3","v":"2022-11-05"},null,"à",{"$f":"Liste!$E$4","v":"10 Heures"},{"$f":"Liste!$E$2","v":"15 rue du Bois d'Amour 75016 PARIS"}]
[]
[null,null,null,null,null,null,"Ce formulaire doit être adressé à",null,{"$f":"Liste!$G$3","v":"Cabinet LEBON"}]
[null,null,null,null,null,null,null,null,{"$f":"Liste!$G$4","v":"120 rue du Devoir"}]
[null,null,null,null,null,null,null,null,{"$f":"Liste!$G$5","v":"75016 Paris"}]
[null,null,null,null,null,"Avant la date limite de réxception le",{"$f":"Liste!$E$5","v":"1 Novemvbre 2022"}]
[]
["Je soussigné('e):",{"$f":"Liste!$C$10&\" \"&Liste!$D$11","v":"Monsieur ANNINOS Henri"},null,null,{"$f":"Liste!A11","v":2}]
["domicilié(e) au",{"$f":"Liste!$E$11&\" \"&Liste!F$11&\" \"&Liste!G$11","v":"5 rue de la Tour 75016 Paris "}]
[]
["après avoir pris connaissance de l' ordre du jour et des documents annexés  à la conocation ou"]
["mis à disposition sur le site en ligne sécurisé de la copropriété,"]
["souhaite émettre sur chacune des questions soumises à la délibération de l' assemblée générale "]
["des copropriétaires convoquée le",null,null,null,{"$f":"Liste!$E$3","v":"2022-11-05"},"à",{"$f":"E64&\" \"&F64","v":"10 Heures 15 rue du Bois d'Amour 75016 PARIS"}]
["Signature du Copropriétaire de l' associé ou du mandataire commun"]
[null,null,null,null,null,null,"Fait à le"]
[]
[1.01,"Election Président de séance","Mr Banchet",null,null,1,{"$f":"VLOOKUP(F81,Liste!$B$179:$C$189,2)","v":"Charges générales   "},null,"Majorité Article 24",null,null,{"$f":"E71","v":2},{"$f":"VLOOKUP(L81,F.MERE!$A$14:$AA$163,16+F81)","v":290}]
[]
[null,{"$f":"IF($M81>0,\"\",\"NE PARTICIPE PAS                   XXXXXXXXXXXXX\")","v":""},null,null,"POUR",null,"CONTRE",null,"ABSTENTION",null,null,null,{"$f":"VLOOKUP($E$12,F.MERE!$A$14:$AA$163,16+F82)","v":""}]
[]
[2.0099999999999998,"Election dfu Secrétaire","Mr Lafolie",null,null,1,{"$f":"VLOOKUP(F85,Liste!$B$179:$C$189,2)","v":"Charges générales   "},null,"Majorité Article 24",null,null,{"$f":"E71","v":2},{"$f":"VLOOKUP(L85,F.MERE!$A$14:$AA$163,16+F85)","v":290}]
[]
[null,{"$f":"IF($M85>0,\"\",\"NE PARTICIPE PAS                   XXXXXXXXXXXXX\")","v":""},null,null,"POUR",null,"CONTRE",null,"ABSTENTION"]
[]
[3.01,"Election Scrutateur","Mr Berlier",null,null,1,{"$f":"VLOOKUP(F89,Liste!$B$179:$C$189,2)","v":"Charges générales   "},null,"Majorité Article 24",null,null,{"$f":"E71","v":2},{"$f":"VLOOKUP(L89,F.MERE!$A$14:$AA$163,16+F89)","v":290}]
[]
[null,{"$f":"IF($M89>0,\"\",\"NE PARTICIPE PAS                   XXXXXXXXXXXXX\")","v":""},null,null,"POUR",null,"CONTRE",null,"ABSTENTION"]
[]
[4.01,"Conseiller Syndical","Mme Fournier",null,null,1,{"$f":"VLOOKUP(F93,Liste!$B$179:$C$189,2)","v":"Charges générales   "},null,"Majorité Article 24",null,null,{"$f":"E71","v":2},{"$f":"VLOOKUP(L93,F.MERE!$A$14:$AA$163,16+F93)","v":290}]
[]
[null,{"$f":"IF($M93>0,\"\",\"NE PARTICIPE PAS                   XXXXXXXXXXXXX\")","v":""},null,null,"POUR",null,"CONTRE",null,"ABSTENTION"]
[]
[5.01,"Election Syndic","Cab;DUDULE",null,null,1,{"$f":"VLOOKUP(F97,Liste!$B$179:$C$189,2)","v":"Charges générales   "},null,"Majorité Article 25",null,null,{"$f":"E71","v":2},{"$f":"VLOOKUP(L97,F.MERE!$A$14:$AA$163,16+F97)","v":290}]
[]
[null,{"$f":"IF($M97>0,\"\",\"NE PARTICIPE PAS                   XXXXXXXXXXXXX\")","v":""},null,null,"POUR",null,"CONTRE",null,"ABSTENTION"]
[]
[5.0199999999999996,"Election Syndic,2e vote","Cab,DUDULE",null,null,1,{"$f":"VLOOKUP(F101,Liste!$B$179:$C$189,2)","v":"Charges générales   "},null,"Majorité Article 24",null,null,{"$f":"E71","v":2},{"$f":"VLOOKUP(L101,F.MERE!$A$14:$AA$163,16+F101)","v":290}]
[]
[null,{"$f":"IF($M101>0,\"\",\"NE PARTICIPE PAS                   XXXXXXXXXXXXX\")","v":""},null,null,"POUR",null,"CONTRE",null,"ABSTENTION"]
[]
[6.01,"Travaux BÄT B","Devis ABC",null,null,3,{"$f":"VLOOKUP(F105,Liste!$B$179:$C$189,2)","v":"Chardes Bât,B"},null,"Majorité Article 26",null,null,{"$f":"E71","v":2},{"$f":"VLOOKUP(L105,F.MERE!$A$14:$AA$163,16+F105)","v":0}]
[]
[null,{"$f":"IF($M105>0,\"\",\"NE PARTICIPE PAS                   XXXXXXXXXXXXX\")","v":"NE PARTICIPE PAS                   XXXXXXXXXXXXX"},null,null,"POUR",null,"CONTRE",null,"ABSTENTION"]
[]
[null,null,null,null,null,1,{"$f":"VLOOKUP(F109,Liste!$B$179:$C$189,2)","v":"Charges générales   "},null,"Majorité Article 24",null,null,{"$f":"E71","v":2},{"$f":"VLOOKUP(L109,F.MERE!$A$14:$AA$163,16+F109)","v":290}]
[]
[null,{"$f":"IF($M109>0,\"\",\"NE PARTICIPE PAS                   XXXXXXXXXXXXX\")","v":""},null,null,"POUR",null,"CONTRE",null,"ABSTENTION"]
[]
[null,null,null,null,null,1,{"$f":"VLOOKUP(F113,Liste!$B$179:$C$189,2)","v":"Charges générales   "},null,"Majorité Article 24",null,null,{"$f":"E71","v":2},{"$f":"VLOOKUP(L113,F.MERE!$A$14:$AA$163,16+F113)","v":290}]
[]
[null,{"$f":"IF($M113>0,\"\",\"NE PARTICIPE PAS                   XXXXXXXXXXXXX\")","v":""},null,null,"POUR",null,"CONTRE",null,"ABSTENTION",null,null,null,{"$f":"VLOOKUP($E$12,F.MERE!$A$14:$AA$163,16+F114)","v":""}]
[]
["x"]
[{"$f":"Liste!$A$1","v":"Résid.LA JOIE"},null,null,null,null,null,null,null,"FORMULAIRE DE VOTE PAR CORRESPONDANCE"]
[{"$f":"Liste!$A$2","v":"120 rue de l' Espérance"},{"$f":"Liste!$A$2","v":"120 rue de l' Espérance"},null,null,null,null,null,null,null,"Page 1"]
[{"$f":"Liste!$A$3","v":75016},{"$f":"Liste!$A$3  & \" \" &Liste!$B$3","v":"75016 PARIS"}]
[null,null,null,null,null,null,null,"Assemblée Générale Ordinaire du",{"$f":"Liste!$E$3","v":"2022-11-05"}]
["Date et lieu",{"$f":"Liste!$E$3","v":"2022-11-05"},null,"à",{"$f":"Liste!$E$4","v":"10 Heures"},{"$f":"Liste!$E$2","v":"15 rue du Bois d'Amour 75016 PARIS"}]
[]
[null,null,null,null,null,null,"Ce formulaire doit être adressé à",null,{"$f":"Liste!$G$3","v":"Cabinet LEBON"}]
[null,null,null,null,null,null,null,null,{"$f":"Liste!$G$4","v":"120 rue du Devoir"}]
[null,null,null,null,null,null,null,null,{"$f":"Liste!$G$5","v":"75016 Paris"}]
[null,null,null,null,null,"Avant la date limite de réxception le",{"$f":"Liste!$E$5","v":"1 Novemvbre 2022"}]
[]
["Je soussigné('e):",{"$f":"Liste!$C$12&\" \"&Liste!$D$12","v":"Mr  et Mme BALDACCHINO Laurence"},null,null,{"$f":"Liste!A12","v":3}]
["domicilié(e) au",{"$f":"Liste!$E$12&\" \"&Liste!$F$12&\" \"&Liste!$G$12","v":"13 rue de l' espoir  75016 Paris  "}]
[]
["après avoir pris connaissance de l' ordre du jour et des documents annexés  à la conocation ou"]
["mis à disposition sur le site en ligne sécurisé de la copropriété,"]
["souhaite émettre sur chacune des questions soumises à la délibération de l' assemblée générale "]
["des copropriétaires convoquée le",null,null,null,{"$f":"Liste!$E$3","v":"2022-11-05"},"à",{"$f":"E122&\" \"&F122","v":"10 Heures 15 rue du Bois d'Amour 75016 PARIS"}]
["Signature du Copropriétaire de l' associé ou du mandataire commun"]
[null,null,null,null,null,null,"Fait à le"]
[]
[1.01,"Election Président de séance","Mr Banchet",null,null,1,{"$f":"VLOOKUP(F139,Liste!$B$179:$C$189,2)","v":"Charges générales   "},null,"Majorité Article 24",null,null,{"$f":"E129","v":3},{"$f":"VLOOKUP(L139,F.MERE!$A$14:$AA$163,16+F139)","v":319}]
[]
[null,{"$f":"IF($M139>0,\"\",\"NE PARTICIPE PAS                   XXXXXXXXXXXXX\")","v":""},null,null,"POUR",null,"CONTRE",null,"ABSTENTION",null,null,null,{"$f":"VLOOKUP($E$12,F.MERE!$A$14:$AA$163,16+F140)","v":""}]
[]
[2.0099999999999998,"Election dfu Secrétaire","Mr Lafolie",null,null,1,{"$f":"VLOOKUP(F143,Liste!$B$179:$C$189,2)","v":"Charges générales   "},null,"Majorité Article 24",null,null,{"$f":"E129","v":3},{"$f":"VLOOKUP(L143,F.MERE!$A$14:$AA$163,16+F139)","v":319}]
[]
[null,{"$f":"IF($M143>0,\"\",\"NE PARTICIPE PAS                   XXXXXXXXXXXXX\")","v":""},null,null,"POUR",null,"CONTRE",null,"ABSTENTION"]
[]
[3.01,"Election Scrutateur","Mr Berlier",null,null,1,{"$f":"VLOOKUP(F147,Liste!$B$179:$C$189,2)","v":"Charges générales   "},null,"Majorité Article 24",null,null,{"$f":"E129","v":3},{"$f":"VLOOKUP(L147,F.MERE!$A$14:$AA$163,16+F147)","v":319}]
[]
[null,{"$f":"IF($M147>0,\"\",\"NE PARTICIPE PAS                   XXXXXXXXXXXXX\")","v":""},null,null,"POUR",null,"CONTRE",null,"ABSTENTION"]
[]
[4.01,"Conseiller Syndical","Mme Fournier",null,null,1,{"$f":"VLOOKUP(F151,Liste!$B$179:$C$189,2)","v":"Charges générales   "},null,"Majorité Article 24",null,null,{"$f":"E129","v":3},{"$f":"VLOOKUP(L151,F.MERE!$A$14:$AA$163,16+F151)","v":319}]
[]
[null,{"$f":"IF($M151>0,\"\",\"NE PARTICIPE PAS                   XXXXXXXXXXXXX\")","v":""},null,null,"POUR",null,"CONTRE",null,"ABSTENTION"]
[]
[5.01,"Election Syndic","Cab;DUDULE",null,null,1,{"$f":"VLOOKUP(F155,Liste!$B$179:$C$189,2)","v":"Charges générales   "},null,"Majorité Article 25",null,null,{"$f":"E129","v":3},{"$f":"VLOOKUP(L155,F.MERE!$A$14:$AA$163,16+F155)","v":319}]
[]
[null,{"$f":"IF($M155>0,\"\",\"NE PARTICIPE PAS                   XXXXXXXXXXXXX\")","v":""},null,null,"POUR",null,"CONTRE",null,"ABSTENTION"]
[]
[5.0199999999999996,"Election Syndic,2e vote","Cab,DUDULE",null,null,1,{"$f":"VLOOKUP(F159,Liste!$B$179:$C$189,2)","v":"Charges générales   "},null,"Majorité Article 24",null,null,{"$f":"E129","v":3},{"$f":"VLOOKUP(L159,F.MERE!$A$14:$AA$163,16+F159)","v":319}]
[]
[null,{"$f":"IF($M159>0,\"\",\"NE PARTICIPE PAS                   XXXXXXXXXXXXX\")","v":""},null,null,"POUR",null,"CONTRE",null,"ABSTENTION"]
[]
[6.01,"Travaux BÄT B","Devis ABC",null,null,3,{"$f":"VLOOKUP(F163,Liste!$B$179:$C$189,2)","v":"Chardes Bât,B"},null,"Majorité Article 26",null,null,{"$f":"E129","v":3},{"$f":"VLOOKUP(L163,F.MERE!$A$14:$AA$163,16+F163)","v":0}]
[]
[null,{"$f":"IF($M163>0,\"\",\"NE PARTICIPE PAS                   XXXXXXXXXXXXX\")","v":"NE PARTICIPE PAS                   XXXXXXXXXXXXX"},null,null,"POUR",null,"CONTRE",null,"ABSTENTION"]
[]
[null,null,null,null,null,1,{"$f":"VLOOKUP(F167,Liste!$B$179:$C$189,2)","v":"Charges générales   "},null,"Majorité Article 24",null,null,{"$f":"E129","v":3},{"$f":"VLOOKUP(L167,F.MERE!$A$14:$AA$163,16+F167)","v":319}]
[]
[null,{"$f":"IF($M167>0,\"\",\"NE PARTICIPE PAS                   XXXXXXXXXXXXX\")","v":""},null,null,"POUR",null,"CONTRE",null,"ABSTENTION"]
[]
[null,null,null,null,null,1,{"$f":"VLOOKUP(F171,Liste!$B$179:$C$189,2)","v":"Charges générales   "},null,"Majorité Article 24",null,null,{"$f":"E129","v":3},{"$f":"VLOOKUP(L171,F.MERE!$A$14:$AA$163,16+F171)","v":319}]
[]
[null,{"$f":"IF($M171>0,\"\",\"NE PARTICIPE PAS                   XXXXXXXXXXXXX\")","v":""},null,null,"POUR",null,"CONTRE",null,"ABSTENTION",null,null,null,{"$f":"VLOOKUP($E$12,F.MERE!$A$14:$AA$163,16+F172)","v":""}]
[]
["x"]
[{"$f":"Liste!$A$1","v":"Résid.LA JOIE"},null,null,null,null,null,null,null,"FORMULAIRE DE VOTE PAR CORRESPONDANCE"]
[{"$f":"Liste!$A$2","v":"120 rue de l' Espérance"},{"$f":"Liste!$A$2","v":"120 rue de l' Espérance"},null,null,null,null,null,null,null,"Page 1"]
[{"$f":"Liste!$A$3","v":75016},{"$f":"Liste!$A$3  & \" \" &Liste!$B$3","v":"75016 PARIS"}]
[null,null,null,null,null,null,null,"Assemblée Générale Ordinaire du",{"$f":"Liste!$E$3","v":"2022-11-05"}]
["Date et lieu",{"$f":"Liste!$E$3","v":"2022-11-05"},null,"à",{"$f":"Liste!$E$4","v":"10 Heures"},"33 rue de l' Abreuvoir 75016 PARIS"]
[]
[null,null,null,null,null,null,"Ce formulaire doit être adressé à",null,{"$f":"Liste!$G$3","v":"Cabinet LEBON"}]
[null,null,null,null,null,null,null,null,{"$f":"Liste!$G$4","v":"120 rue du Devoir"}]
[null,null,null,null,null,null,null,null,{"$f":"Liste!$G$5","v":"75016 Paris"}]
[null,null,null,null,null,"Avant la date limite de réxception le",{"$f":"Liste!$E$5","v":"1 Novemvbre 2022"}]
[]
["Je soussigné('e):",{"$f":"Liste!$C$13&\" \"&Liste!$D$13","v":"Monsieur BANCHET Joseph"},null,null,{"$f":"Liste!A13","v":4}]
["domicilié(e) au",{"$f":"Liste!$E$30&\" \"&Liste!$F$13&\" \"&Liste!$G$13","v":"14 rue de l' espoir 75016 Paris "}]
[]
["après avoir pris connaissance de l' ordre du jour et des documents annexés  à la conocation ou"]
["mis à disposition sur le site en ligne sécurisé de la copropriété,"]
["souhaite émettre sur chacune des questions soumises à la délibération de l' assemblée générale "]
["des copropriétaires convoquée le",null,null,null,{"$f":"Liste!$E$3","v":"2022-11-05"},"à",{"$f":"E180&\" \"&F180","v":"10 Heures 33 rue de l' Abreuvoir 75016 PARIS"}]
["Signature du Copropriétaire de l' associé ou du mandataire commun"]
[null,null,null,null,null,null,"Fait à le"]
[]
[1.01,"Election Président de séance","Mr Banchet",null,null,1,{"$f":"VLOOKUP(F197,Liste!$B$179:$C$189,2)","v":"Charges générales   "},null,"Majorité Article 24",null,null,{"$f":"E187","v":4},{"$f":"VLOOKUP(L197,F.MERE!$A$14:$AA$163,16+F197)","v":294}]
[]
[null,{"$f":"IF($M197>0,\"\",\"NE PARTICIPE PAS                   XXXXXXXXXXXXX\")","v":""},null,null,"POUR",null,"CONTRE",null,"ABSTENTION",null,null,null,{"$f":"VLOOKUP($E$12,F.MERE!$A$14:$AA$163,16+F198)","v":""}]
[]
[2.0099999999999998,"Election dfu Secrétaire","Mr Lafolie",null,null,1,{"$f":"VLOOKUP(F201,Liste!$B$179:$C$189,2)","v":"Charges générales   "},null,"Majorité Article 24",null,null,{"$f":"E187","v":4},{"$f":"VLOOKUP(L201,F.MERE!$A$14:$AA$163,16+F197)","v":294}]
[]
[null,null,null,null,"POUR",null,"CONTRE",null,"ABSTENTION"]
[]
[3.01,"Election Scrutateur","Mr Berlier",null,null,1,{"$f":"VLOOKUP(F205,Liste!$B$179:$C$189,2)","v":"Charges générales   "},null,"Majorité Article 24",null,null,{"$f":"E187","v":4},{"$f":"VLOOKUP(L205,F.MERE!$A$14:$AA$163,16+F205)","v":294}]
[]
[null,null,null,null,"POUR",null,"CONTRE",null,"ABSTENTION"]
[]
[4.01,"Conseiller Syndical","Mme Fournier",null,null,1,{"$f":"VLOOKUP(F209,Liste!$B$179:$C$189,2)","v":"Charges générales   "},null,"Majorité Article 24",null,null,{"$f":"E187","v":4},{"$f":"VLOOKUP(L209,F.MERE!$A$14:$AA$163,16+F209)","v":294}]
[]
[null,{"$f":"IF($M209>0,\"\",\"NE PARTICIPE PAS                   XXXXXXXXXXXXX\")","v":""},null,null,"POUR",null,"CONTRE",null,"ABSTENTION"]
[]
[5.01,"Election Syndic","Cab;DUDULE",null,null,1,{"$f":"VLOOKUP(F213,Liste!$B$179:$C$189,2)","v":"Charges générales   "},null,"Majorité Article 25",null,null,{"$f":"E187","v":4},{"$f":"VLOOKUP(L213,F.MERE!$A$14:$AA$163,16+F213)","v":294}]
[]
[null,{"$f":"IF($M213>0,\"\",\"NE PARTICIPE PAS                   XXXXXXXXXXXXX\")","v":""},null,null,"POUR",null,"CONTRE",null,"ABSTENTION"]
[]
[5.0199999999999996,"Election Syndic,2e vote","Cab,DUDULE",null,null,1,{"$f":"VLOOKUP(F217,Liste!$B$179:$C$189,2)","v":"Charges générales   "},null,"Majorité Article 24",null,null,{"$f":"E187","v":4},{"$f":"VLOOKUP(L217,F.MERE!$A$14:$AA$163,16+F217)","v":294}]
[]
[null,{"$f":"IF($M217>0,\"\",\"NE PARTICIPE PAS                   XXXXXXXXXXXXX\")","v":""},null,null,"POUR",null,"CONTRE",null,"ABSTENTION"]
[]
[6.01,"Travaux BÄT B","Devis ABC",null,null,3,{"$f":"VLOOKUP(F221,Liste!$B$179:$C$189,2)","v":"Chardes Bât,B"},null,"Majorité Article 26",null,null,{"$f":"E187","v":4},{"$f":"VLOOKUP(L221,F.MERE!$A$14:$AA$163,16+F221)","v":0}]
[]
[null,{"$f":"IF($M221>0,\"\",\"NE PARTICIPE PAS                   XXXXXXXXXXXXX\")","v":"NE PARTICIPE PAS                   XXXXXXXXXXXXX"},null,null,"POUR",null,"CONTRE",null,"ABSTENTION"]
[]
[null,null,null,null,null,1,{"$f":"VLOOKUP(F225,Liste!$B$179:$C$189,2)","v":"Charges générales   "},null,"Majorité Article 24",null,null,{"$f":"E187","v":4},{"$f":"VLOOKUP(L225,F.MERE!$A$14:$AA$163,16+F225)","v":294}]
[]
[null,{"$f":"IF($M225>0,\"\",\"NE PARTICIPE PAS                   XXXXXXXXXXXXX\")","v":""},null,null,"POUR",null,"CONTRE",null,"ABSTENTION"]
[]
[null,null,null,null,null,1,{"$f":"VLOOKUP(F229,Liste!$B$179:$C$189,2)","v":"Charges générales   "},null,"Majorité Article 24",null,null,{"$f":"E187","v":4},{"$f":"VLOOKUP(L229,F.MERE!$A$14:$AA$163,16+F229)","v":294}]
[]
[null,{"$f":"IF($M229>0,\"\",\"NE PARTICIPE PAS                   XXXXXXXXXXXXX\")","v":""},null,null,"POUR",null,"CONTRE",null,"ABSTENTION",null,null,null,{"$f":"VLOOKUP($E$12,F.MERE!$A$14:$AA$163,16+F230)","v":""}]
[]
["x"]
[{"$f":"Liste!$A$1","v":"Résid.LA JOIE"},null,null,null,null,null,null,null,"FORMULAIRE DE VOTE PAR CORRESPONDANCE"]
[{"$f":"Liste!$A$2","v":"120 rue de l' Espérance"},{"$f":"Liste!$A$2","v":"120 rue de l' Espérance"},null,null,null,null,null,null,null,"Page 1"]
[{"$f":"Liste!$A$3","v":75016},{"$f":"Liste!$A$3  & \" \" &Liste!$B$3","v":"75016 PARIS"}]
[null,null,null,null,null,null,null,"Assemblée Générale Ordinaire du",{"$f":"Liste!$E$3","v":"2022-11-05"}]
["Date et lieu",{"$f":"Liste!$E$3","v":"2022-11-05"},null,"à",{"$f":"Liste!$E$4","v":"10 Heures"},{"$f":"Liste!$E$2","v":"15 rue du Bois d'Amour 75016 PARIS"}]
[]
[null,null,null,null,null,null,"Ce formulaire doit être adressé à",null,{"$f":"Liste!$G$3","v":"Cabinet LEBON"}]
[null,null,null,null,null,null,null,null,{"$f":"Liste!$G$4","v":"120 rue du Devoir"}]
[null,null,null,null,null,null,null,null,{"$f":"Liste!$G$5","v":"75016 Paris"}]
[null,null,null,null,null,"Avant la date limite de réxception le",{"$f":"Liste!$E$5","v":"1 Novemvbre 2022"}]
[]
["Je soussigné('e):",{"$f":"Liste!$C$14&\" \"&Liste!$D$14","v":"Madame BARDIN Andrée"},null,null,{"$f":"Liste!A14","v":5}]
["domicilié(e) au",{"$f":"Liste!$E$14&\" \"&Liste!$F$14&\" \"&Liste!$G$14","v":"12 rue de Caen 75016 Paris "}]
[]
["après avoir pris connaissance de l' ordre du jour et des documents annexés  à la conocation ou"]
["mis à disposition sur le site en ligne sécurisé de la copropriété,"]
["souhaite émettre sur chacune des questions soumises à la délibération de l' assemblée générale "]
["des copropriétaires convoquée le",null,null,null,{"$f":"Liste!$E$3","v":"2022-11-05"},"à",{"$f":"E238&\" \"&F238","v":"10 Heures 15 rue du Bois d'Amour 75016 PARIS"}]
["Signature du Copropriétaire de l' associé ou du mandataire commun"]
[null,null,null,null,null,null,"Fait à le"]
[]
[1.01,"Election Président de séance","Mr Banchet",null,null,{"$f":"$F$22","v":1},{"$f":"VLOOKUP(F255,Liste!$B$179:$C$189,2)","v":"Charges générales   "},null,"Majorité Article 24",null,null,{"$f":"E245","v":5},{"$f":"VLOOKUP(L255,F.MERE!$A$14:$AA$163,16+F255)","v":287}]
[]
[null,{"$f":"IF($M255>0,\"\",\"NE PARTICIPE PAS                   XXXXXXXXXXXXX\")","v":""},null,null,"POUR",null,"CONTRE",null,"ABSTENTION",null,null,null,{"$f":"VLOOKUP($E$12,F.MERE!$A$14:$AA$163,16+F256)","v":""}]
[]
[2.0099999999999998,"Election dfu Secrétaire","Mr Lafolie",null,null,1,{"$f":"VLOOKUP(F259,Liste!$B$179:$C$189,2)","v":"Charges générales   "},null,"Majorité Article 24",null,null,{"$f":"E245","v":5},{"$f":"VLOOKUP(L259,F.MERE!$A$14:$AA$163,16+F255)","v":287}]
[]
[null,null,null,null,"POUR",null,"CONTRE",null,"ABSTENTION"]
[]
[3.01,"Election Scrutateur","Mr Berlier",null,null,1,{"$f":"VLOOKUP(F263,Liste!$B$179:$C$189,2)","v":"Charges générales   "},null,"Majorité Article 24",null,null,{"$f":"E245","v":5},{"$f":"VLOOKUP(L263,F.MERE!$A$14:$AA$163,16+F263)","v":287}]
[]
[null,null,null,null,"POUR",null,"CONTRE",null,"ABSTENTION"]
[]
[4.01,"Conseiller Syndical","Mme Fournier",null,null,1,{"$f":"VLOOKUP(F267,Liste!$B$179:$C$189,2)","v":"Charges générales   "},null,"Majorité Article 24",null,null,{"$f":"E245","v":5},{"$f":"VLOOKUP(L267,F.MERE!$A$14:$AA$163,16+F267)","v":287}]
[]
[null,{"$f":"IF($M267>0,\"\",\"NE PARTICIPE PAS                   XXXXXXXXXXXXX\")","v":""},null,null,"POUR",null,"CONTRE",null,"ABSTENTION"]
[]
[5.01,"Election Syndic","Cab;DUDULE",null,null,1,{"$f":"VLOOKUP(F271,Liste!$B$179:$C$189,2)","v":"Charges générales   "},null,"Majorité Article 25",null,null,{"$f":"E245","v":5},{"$f":"VLOOKUP(L271,F.MERE!$A$14:$AA$163,16+F271)","v":287}]
[]
[null,{"$f":"IF($M271>0,\"\",\"NE PARTICIPE PAS                   XXXXXXXXXXXXX\")","v":""},null,null,"POUR",null,"CONTRE",null,"ABSTENTION"]
[]
[5.0199999999999996,"Election Syndic,2e vote","Cab,DUDULE",null,null,1,{"$f":"VLOOKUP(F275,Liste!$B$179:$C$189,2)","v":"Charges générales   "},null,"Majorité Article 24",null,null,{"$f":"E245","v":5},{"$f":"VLOOKUP(L275,F.MERE!$A$14:$AA$163,16+F275)","v":287}]
[]
[null,{"$f":"IF($M275>0,\"\",\"NE PARTICIPE PAS                   XXXXXXXXXXXXX\")","v":""},null,null,"POUR",null,"CONTRE",null,"ABSTENTION"]
[]
[6.01,"Travaux BÄT B","Devis ABC",null,null,3,{"$f":"VLOOKUP(F279,Liste!$B$179:$C$189,2)","v":"Chardes Bât,B"},null,"Majorité Article 26",null,null,{"$f":"E245","v":5},{"$f":"VLOOKUP(L279,F.MERE!$A$14:$AA$163,16+F279)","v":0}]
[]
[null,{"$f":"IF($M279>0,\"\",\"NE PARTICIPE PAS                   XXXXXXXXXXXXX\")","v":"NE PARTICIPE PAS                   XXXXXXXXXXXXX"},"XXXXXXXXXXXXX",null,"POUR",null,"CONTRE",null,"ABSTENTION"]
[]
[null,null,null,null,null,1,{"$f":"VLOOKUP(F283,Liste!$B$179:$C$189,2)","v":"Charges générales   "},null,"Majorité Article 24",null,null,{"$f":"E245","v":5},{"$f":"VLOOKUP(L283,F.MERE!$A$14:$AA$163,16+F283)","v":287}]
[]
[null,{"$f":"IF($M283>0,\"\",\"NE PARTICIPE PAS                   XXXXXXXXXXXXX\")","v":""},null,null,"POUR",null,"CONTRE",null,"ABSTENTION"]
[]
[null,null,null,null,null,1,{"$f":"VLOOKUP(F287,Liste!$B$179:$C$189,2)","v":"Charges générales   "},null,"Majorité Article 24",null,null,{"$f":"E245","v":5},{"$f":"VLOOKUP(L287,F.MERE!$A$14:$AA$163,16+F287)","v":287}]
[]
[null,{"$f":"IF($M287>0,\"\",\"NE PARTICIPE PAS                   XXXXXXXXXXXXX\")","v":""},null,null,"POUR",null,"CONTRE",null,"ABSTENTION",null,null,null,{"$f":"VLOOKUP($E$12,F.MERE!$A$14:$AA$163,16+F288)","v":""}]
[]
["x"]
[{"$f":"Liste!$A$1","v":"Résid.LA JOIE"},null,null,null,null,null,null,null,"FORMULAIRE DE VOTE PAR CORRESPONDANCE"]
[{"$f":"Liste!$A$2","v":"120 rue de l' Espérance"},{"$f":"Liste!$A$2","v":"120 rue de l' Espérance"},null,null,null,null,null,null,null,"Page 1"]
[{"$f":"Liste!$A$3","v":75016},{"$f":"Liste!$A$3  & \" \" &Liste!$B$3","v":"75016 PARIS"}]
[null,null,null,null,null,null,null,"Assemblée Générale Ordinaire du",{"$f":"Liste!$E$3","v":"2022-11-05"}]
["Date et lieu",{"$f":"Liste!$E$3","v":"2022-11-05"},null,"à",{"$f":"Liste!$E$4","v":"10 Heures"},{"$f":"Liste!$E$2","v":"15 rue du Bois d'Amour 75016 PARIS"}]
[]
[null,null,null,null,null,null,"Ce formulaire doit être adressé à",null,{"$f":"Liste!$G$3","v":"Cabinet LEBON"}]
[null,null,null,null,null,null,null,null,{"$f":"Liste!$G$4","v":"120 rue du Devoir"}]
[null,null,null,null,null,null,null,null,{"$f":"Liste!$G$5","v":"75016 Paris"}]
[null,null,null,null,null,"Avant la date limite de réxception le",{"$f":"Liste!$E$5","v":"1 Novemvbre 2022"}]
[]
["Je soussigné('e):",{"$f":"Liste!$C$15&\" \"&Liste!$D$15","v":"Mr  et Mme BARDIN-BENARD Louis"},null,null,{"$f":"Liste!A15","v":6}]
["domicilié(e) au",{"$f":"Liste!$E$15&\" \"&Liste!$F$15&\" \"&Liste!$G$15","v":"16 rue de l' espoir 75016 Paris "}]
[]
["après avoir pris connaissance de l' ordre du jour et des documents annexés  à la conocation ou"]
["mis à disposition sur le site en ligne sécurisé de la copropriété,"]
["souhaite émettre sur chacune des questions soumises à la délibération de l' assemblée générale "]
["des copropriétaires convoquée le",null,null,null,{"$f":"Liste!$E$3","v":"2022-11-05"},"à",{"$f":"E296&\" \"&F296","v":"10 Heures 15 rue du Bois d'Amour 75016 PARIS"}]
["Signature du Copropriétaire de l' associé ou du mandataire commun"]
[null,null,null,null,null,null,"Fait à le"]
[]
[1.01,"Election Président de séance","Mr Banchet",null,null,1,{"$f":"VLOOKUP(F313,Liste!$B$179:$C$189,2)","v":"Charges générales   "},null,"Majorité Article 24",null,null,{"$f":"E303","v":6},{"$f":"VLOOKUP(L313,F.MERE!$A$14:$AA$163,16+F313)","v":257}]
[]
[null,{"$f":"IF($M313>0,\"\",\"NE PARTICIPE PAS                   XXXXXXXXXXXXX\")","v":""},null,null,"POUR",null,"CONTRE",null,"ABSTENTION",null,null,null,{"$f":"VLOOKUP($E$12,F.MERE!$A$14:$AA$163,16+F314)","v":""}]
[]
[2.0099999999999998,"Election dfu Secrétaire","Mr Lafolie",null,null,1,{"$f":"VLOOKUP(F317,Liste!$B$179:$C$189,2)","v":"Charges générales   "},null,"Majorité Article 24",null,null,{"$f":"E303","v":6},{"$f":"VLOOKUP(L317,F.MERE!$A$14:$AA$163,16+F313)","v":257}]
[]
[null,null,null,null,"POUR",null,"CONTRE",null,"ABSTENTION"]
[]
[3.01,"Election Scrutateur","Mr Berlier",null,null,1,{"$f":"VLOOKUP(F321,Liste!$B$179:$C$189,2)","v":"Charges générales   "},null,"Majorité Article 24",null,null,{"$f":"E303","v":6},{"$f":"VLOOKUP(L321,F.MERE!$A$14:$AA$163,16+F321)","v":257}]
[]
[null,null,null,null,"POUR",null,"CONTRE",null,"ABSTENTION"]
[]
[4.01,"Conseiller Syndical","Mme Fournier",null,null,1,{"$f":"VLOOKUP(F325,Liste!$B$179:$C$189,2)","v":"Charges générales   "},null,"Majorité Article 24",null,null,{"$f":"E303","v":6},{"$f":"VLOOKUP(L325,F.MERE!$A$14:$AA$163,16+F325)","v":257}]
[]
[null,{"$f":"IF($M325>0,\"\",\"NE PARTICIPE PAS                   XXXXXXXXXXXXX\")","v":""},null,null,"POUR",null,"CONTRE",null,"ABSTENTION"]
[]
[5.01,"Election Syndic","Cab;DUDULE",null,null,1,{"$f":"VLOOKUP(F329,Liste!$B$179:$C$189,2)","v":"Charges générales   "},null,"Majorité Article 25",null,null,{"$f":"E303","v":6},{"$f":"VLOOKUP(L329,F.MERE!$A$14:$AA$163,16+F329)","v":257}]
[]
[null,{"$f":"IF($M329>0,\"\",\"NE PARTICIPE PAS                   XXXXXXXXXXXXX\")","v":""},null,null,"POUR",null,"CONTRE",null,"ABSTENTION"]
[]
[5.0199999999999996,"Election Syndic,2e vote","Cab,DUDULE",null,null,1,{"$f":"VLOOKUP(F333,Liste!$B$179:$C$189,2)","v":"Charges générales   "},null,"Majorité Article 24",null,null,{"$f":"E303","v":6},{"$f":"VLOOKUP(L333,F.MERE!$A$14:$AA$163,16+F333)","v":257}]
[]
[null,{"$f":"IF($M333>0,\"\",\"NE PARTICIPE PAS                   XXXXXXXXXXXXX\")","v":""},null,null,"POUR",null,"CONTRE",null,"ABSTENTION"]
[]
[6.01,"Travaux BÄT B","Devis ABC",null,null,3,{"$f":"VLOOKUP(F337,Liste!$B$179:$C$189,2)","v":"Chardes Bât,B"},null,"Majorité Article 26",null,null,{"$f":"E303","v":6},{"$f":"VLOOKUP(L337,F.MERE!$A$14:$AA$163,16+F337)","v":0}]
[]
[null,{"$f":"IF($M337>0,\"\",\"NE PARTICIPE PAS                   XXXXXXXXXXXXX\")","v":"NE PARTICIPE PAS                   XXXXXXXXXXXXX"},null,null,"POUR",null,"CONTRE",null,"ABSTENTION"]
[]
[null,null,null,null,null,1,{"$f":"VLOOKUP(F341,Liste!$B$179:$C$189,2)","v":"Charges générales   "},null,"Majorité Article 24",null,null,{"$f":"E303","v":6},{"$f":"VLOOKUP(L341,F.MERE!$A$14:$AA$163,16+F341)","v":257}]
[]
[null,{"$f":"IF($M341>0,\"\",\"NE PARTICIPE PAS                   XXXXXXXXXXXXX\")","v":""},null,null,"POUR",null,"CONTRE",null,"ABSTENTION"]
[]
[null,null,null,null,null,1,{"$f":"VLOOKUP(F345,Liste!$B$179:$C$189,2)","v":"Charges générales   "},null,"Majorité Article 24",null,null,{"$f":"E303","v":6},{"$f":"VLOOKUP(L345,F.MERE!$A$14:$AA$163,16+F345)","v":257}]
[]
[null,{"$f":"IF($M345>0,\"\",\"NE PARTICIPE PAS                   XXXXXXXXXXXXX\")","v":""},null,null,"POUR",null,"CONTRE",null,"ABSTENTION",null,null,null,{"$f":"VLOOKUP($E$12,F.MERE!$A$14:$AA$163,16+F346)","v":""}]
[]
["x"]
[{"$f":"Liste!$A$1","v":"Résid.LA JOIE"},null,null,null,null,null,null,null,"FORMULAIRE DE VOTE PAR CORRESPONDANCE"]
[{"$f":"Liste!$A$2","v":"120 rue de l' Espérance"},{"$f":"Liste!$A$2","v":"120 rue de l' Espérance"},null,null,null,null,null,null,null,"Page 1"]
[{"$f":"Liste!$A$3","v":75016},{"$f":"Liste!$A$3  & \" \" &Liste!$B$3","v":"75016 PARIS"}]
[null,null,null,null,null,null,null,"Assemblée Générale Ordinaire du",{"$f":"Liste!$E$3","v":"2022-11-05"}]
["Date et lieu",{"$f":"Liste!$E$3","v":"2022-11-05"},null,"à",{"$f":"Liste!$E$4","v":"10 Heures"},{"$f":"Liste!$E$2","v":"15 rue du Bois d'Amour 75016 PARIS"}]
[]
[null,null,null,null,null,null,"Ce formulaire doit être adressé à",null,{"$f":"Liste!$G$3","v":"Cabinet LEBON"}]
[null,null,null,null,null,null,null,null,{"$f":"Liste!$G$4","v":"120 rue du Devoir"}]
[null,null,null,null,null,null,null,null,{"$f":"Liste!$G$5","v":"75016 Paris"}]
[null,null,null,null,null,"Avant la date limite de réxception le",{"$f":"Liste!$E$5","v":"1 Novemvbre 2022"}]
[]
["Je soussigné('e):",{"$f":"Liste!$C$16&\" \"&Liste!$D$16","v":"Mr  et Mme BARDOUILLE Hermine"},null,null,{"$f":"Liste!A16","v":7}]
["domicilié(e) au",{"$f":"Liste!$E$16&\" \"&Liste!F$13&\" \"&Liste!G$16","v":"25 rue du Puit 75016 Paris "}]
[]
["après avoir pris connaissance de l' ordre du jour et des documents annexés  à la conocation ou"]
["mis à disposition sur le site en ligne sécurisé de la copropriété,"]
["souhaite émettre sur chacune des questions soumises à la délibération de l' assemblée générale "]
["des copropriétaires convoquée le",null,null,null,{"$f":"Liste!$E$3","v":"2022-11-05"},"à",{"$f":"E354&\" \"&F354","v":"10 Heures 15 rue du Bois d'Amour 75016 PARIS"}]
["Signature du Copropriétaire de l' associé ou du mandataire commun"]
[null,null,null,null,null,null,"Fait à le"]
[]
[1.01,"Election Président de séance","Mr Banchet",null,null,1,{"$f":"VLOOKUP(F371,Liste!$B$179:$C$189,2)","v":"Charges générales   "},null,"Majorité Article 24",null,null,{"$f":"E361","v":7},{"$f":"VLOOKUP(L371,F.MERE!$A$14:$AA$163,16+F371)","v":371}]
[]
[null,{"$f":"IF($M371>0,\"\",\"NE PARTICIPE PAS                   XXXXXXXXXXXXX\")","v":""},null,null,"POUR",null,"CONTRE",null,"ABSTENTION",null,null,null,{"$f":"VLOOKUP($E$12,F.MERE!$A$14:$AA$163,16+F372)","v":""}]
[]
[2.0099999999999998,"Election dfu Secrétaire","Mr Lafolie",null,null,1,{"$f":"VLOOKUP(F375,Liste!$B$179:$C$189,2)","v":"Charges générales   "},null,"Majorité Article 24",null,null,{"$f":"E361","v":7},{"$f":"VLOOKUP(L375,F.MERE!$A$14:$AA$163,16+F371)","v":371}]
[]
[null,null,null,null,"POUR",null,"CONTRE",null,"ABSTENTION"]
[]
[3.01,"Election Scrutateur","Mr Berlier",null,null,1,{"$f":"VLOOKUP(F379,Liste!$B$179:$C$189,2)","v":"Charges générales   "},null,"Majorité Article 24",null,null,{"$f":"E361","v":7},{"$f":"VLOOKUP(L379,F.MERE!$A$14:$AA$163,16+F379)","v":371}]
[]
[null,null,null,null,"POUR",null,"CONTRE",null,"ABSTENTION"]
[]
[4.01,"Conseiller Syndical","Mme Fournier",null,null,1,{"$f":"VLOOKUP(F383,Liste!$B$179:$C$189,2)","v":"Charges générales   "},null,"Majorité Article 24",null,null,{"$f":"E361","v":7},{"$f":"VLOOKUP(L383,F.MERE!$A$14:$AA$163,16+F383)","v":371}]
[]
[null,{"$f":"IF($M383>0,\"\",\"NE PARTICIPE PAS                   XXXXXXXXXXXXX\")","v":""},null,null,"POUR",null,"CONTRE",null,"ABSTENTION"]
[]
[5.01,"Election Syndic","Cab;DUDULE",null,null,1,{"$f":"VLOOKUP(F387,Liste!$B$179:$C$189,2)","v":"Charges générales   "},null,"Majorité Article 25",null,null,{"$f":"E361","v":7},{"$f":"VLOOKUP(L387,F.MERE!$A$14:$AA$163,16+F387)","v":371}]
[]
[null,{"$f":"IF($M387>0,\"\",\"NE PARTICIPE PAS                   XXXXXXXXXXXXX\")","v":""},null,null,"POUR",null,"CONTRE",null,"ABSTENTION"]
[]
[5.0199999999999996,"Election Syndic,2e vote","Cab,DUDULE",null,null,1,{"$f":"VLOOKUP(F391,Liste!$B$179:$C$189,2)","v":"Charges générales   "},null,"Majorité Article 24",null,null,{"$f":"E361","v":7},{"$f":"VLOOKUP(L391,F.MERE!$A$14:$AA$163,16+F391)","v":371}]
[]
[null,{"$f":"IF($M391>0,\"\",\"NE PARTICIPE PAS                   XXXXXXXXXXXXX\")","v":""},null,null,"POUR",null,"CONTRE",null,"ABSTENTION"]
[]
[6.01,"Travaux BÄT B","Devis ABC",null,null,3,{"$f":"VLOOKUP(F395,Liste!$B$179:$C$189,2)","v":"Chardes Bât,B"},null,"Majorité Article 26",null,null,{"$f":"E361","v":7},{"$f":"VLOOKUP(L395,F.MERE!$A$14:$AA$163,16+F395)","v":0}]
[]
[null,{"$f":"IF($M395>0,\"\",\"NE PARTICIPE PAS                   XXXXXXXXXXXXX\")","v":"NE PARTICIPE PAS                   XXXXXXXXXXXXX"},"XXXXXXXXXXXXX",null,"POUR",null,"CONTRE",null,"ABSTENTION"]
[]
[null,null,null,null,null,1,{"$f":"VLOOKUP(F399,Liste!$B$179:$C$189,2)","v":"Charges générales   "},null,"Majorité Article 24",null,null,{"$f":"E361","v":7},{"$f":"VLOOKUP(L399,F.MERE!$A$14:$AA$163,16+F399)","v":371}]
[]
[null,{"$f":"IF($M399>0,\"\",\"NE PARTICIPE PAS                   XXXXXXXXXXXXX\")","v":""},null,null,"POUR",null,"CONTRE",null,"ABSTENTION"]
[]
[null,null,null,null,null,1,{"$f":"VLOOKUP(F403,Liste!$B$179:$C$189,2)","v":"Charges générales   "},null,"Majorité Article 24",null,null,{"$f":"E361","v":7},{"$f":"VLOOKUP(L403,F.MERE!$A$14:$AA$163,16+F403)","v":371}]
[]
[null,{"$f":"IF($M403>0,\"\",\"NE PARTICIPE PAS                   XXXXXXXXXXXXX\")","v":""},null,null,"POUR",null,"CONTRE",null,"ABSTENTION",null,null,null,{"$f":"VLOOKUP($E$12,F.MERE!$A$14:$AA$163,16+F404)","v":""}]
[]
["x"]
[{"$f":"Liste!$A$1","v":"Résid.LA JOIE"},null,null,null,null,null,null,null,"FORMULAIRE DE VOTE PAR CORRESPONDANCE"]
[{"$f":"Liste!$A$2","v":"120 rue de l' Espérance"},{"$f":"Liste!$A$2","v":"120 rue de l' Espérance"},null,null,null,null,null,null,null,"Page 1"]
[{"$f":"Liste!$A$3","v":75016},{"$f":"Liste!$A$3  & \" \" &Liste!$B$3","v":"75016 PARIS"}]
[null,null,null,null,null,null,null,"Assemblée Générale Ordinaire du",{"$f":"Liste!$E$3","v":"2022-11-05"}]
["Date et lieu",{"$f":"Liste!$E$3","v":"2022-11-05"},null,"à",{"$f":"Liste!$E$4","v":"10 Heures"},{"$f":"Liste!$E$2","v":"15 rue du Bois d'Amour 75016 PARIS"}]
[]
[null,null,null,null,null,null,"Ce formulaire doit être adressé à",null,{"$f":"Liste!$G$3","v":"Cabinet LEBON"}]
[null,null,null,null,null,null,null,null,{"$f":"Liste!$G$4","v":"120 rue du Devoir"}]
[null,null,null,null,null,null,null,null,{"$f":"Liste!$G$5","v":"75016 Paris"}]
[null,null,null,null,null,"Avant la date limite de réxception le",{"$f":"Liste!$E$5","v":"1 Novemvbre 2022"}]
[]
["Je soussigné('e):",{"$f":"Liste!$C$17&\" \"&Liste!$D$17","v":"Mr  et Mme BARDOUILLE Jean Yves"},null,null,{"$f":"Liste!A17","v":8}]
["domicilié(e) au",{"$f":"Liste!$E$17&\" \"&Liste!$F$17&\" \"&Liste!$G$17","v":"13 rue de l' espoir 75016 Paris "}]
[]
["après avoir pris connaissance de l' ordre du jour et des documents annexés  à la conocation ou"]
["mis à disposition sur le site en ligne sécurisé de la copropriété,"]
["souhaite émettre sur chacune des questions soumises à la délibération de l' assemblée générale "]
["des copropriétaires convoquée le",null,null,null,{"$f":"Liste!C408","v":"00:00:00"},"à",{"$f":"E412&\" \"&F412","v":"10 Heures 15 rue du Bois d'Amour 75016 PARIS"}]
["Signature du Copropriétaire de l' associé ou du mandataire commun"]
[null,null,null,null,null,null,"Fait à le"]
[]
[1.01,"Election Président de séance","Mr Banchet",null,null,1,{"$f":"VLOOKUP(F429,Liste!$B$179:$C$189,2)","v":"Charges générales   "},null,"Majorité Article 24",null,null,{"$f":"E419","v":8},{"$f":"VLOOKUP(L429,F.MERE!$A$14:$AA$163,16+F429)","v":569}]
[]
[null,{"$f":"IF($M429>0,\"\",\"NE PARTICIPE PAS                   XXXXXXXXXXXXX\")","v":""},null,null,"POUR",null,"CONTRE",null,"ABSTENTION",null,null,null,{"$f":"VLOOKUP($E$12,F.MERE!$A$14:$AA$163,16+F430)","v":""}]
[]
[2.0099999999999998,"Election dfu Secrétaire","Mr Lafolie",null,null,1,{"$f":"VLOOKUP(F433,Liste!$B$179:$C$189,2)","v":"Charges générales   "},null,"Majorité Article 24",null,null,{"$f":"E419","v":8},{"$f":"VLOOKUP(L433,F.MERE!$A$14:$AA$163,16+F429)","v":569}]
[]
[null,null,null,null,"POUR",null,"CONTRE",null,"ABSTENTION"]
[]
[3.01,"Election Scrutateur","Mr Berlier",null,null,1,{"$f":"VLOOKUP(F437,Liste!$B$179:$C$189,2)","v":"Charges générales   "},null,"Majorité Article 24",null,null,{"$f":"E419","v":8},{"$f":"VLOOKUP(L437,F.MERE!$A$14:$AA$163,16+F437)","v":569}]
[]
[null,null,null,null,"POUR",null,"CONTRE",null,"ABSTENTION"]
[]
[4.01,"Conseiller Syndical","Mme Fournier",null,null,1,{"$f":"VLOOKUP(F441,Liste!$B$179:$C$189,2)","v":"Charges générales   "},null,"Majorité Article 24",null,null,{"$f":"E419","v":8},{"$f":"VLOOKUP(L441,F.MERE!$A$14:$AA$163,16+F441)","v":569}]
[]
[null,{"$f":"IF($M441>0,\"\",\"NE PARTICIPE PAS                   XXXXXXXXXXXXX\")","v":""},null,null,"POUR",null,"CONTRE",null,"ABSTENTION"]
[]
[5.01,"Election Syndic","Cab;DUDULE",null,null,1,{"$f":"VLOOKUP(F445,Liste!$B$179:$C$189,2)","v":"Charges générales   "},null,"Majorité Article 25",null,null,{"$f":"E419","v":8},{"$f":"VLOOKUP(L445,F.MERE!$A$14:$AA$163,16+F445)","v":569}]
[]
[null,{"$f":"IF($M445>0,\"\",\"NE PARTICIPE PAS                   XXXXXXXXXXXXX\")","v":""},null,null,"POUR",null,"CONTRE",null,"ABSTENTION"]
[]
[5.0199999999999996,"Election Syndic,2e vote","Cab,DUDULE",null,null,1,{"$f":"VLOOKUP(F449,Liste!$B$179:$C$189,2)","v":"Charges générales   "},null,"Majorité Article 24",null,null,{"$f":"E419","v":8},{"$f":"VLOOKUP(L449,F.MERE!$A$14:$AA$163,16+F449)","v":569}]
[]
[null,{"$f":"IF($M449>0,\"\",\"NE PARTICIPE PAS                   XXXXXXXXXXXXX\")","v":""},null,null,"POUR",null,"CONTRE",null,"ABSTENTION"]
[]
[6.01,"Travaux BÄT B","Devis ABC",null,null,3,{"$f":"VLOOKUP(F453,Liste!$B$179:$C$189,2)","v":"Chardes Bât,B"},null,"Majorité Article 26",null,null,{"$f":"E419","v":8},{"$f":"VLOOKUP(L453,F.MERE!$A$14:$AA$163,16+F453)","v":0}]
[]
[null,{"$f":"IF($M453>0,\"\",\"NE PARTICIPE PAS                   XXXXXXXXXXXXX\")","v":"NE PARTICIPE PAS                   XXXXXXXXXXXXX"},"XXXXXXXXXXXXX",null,"POUR",null,"CONTRE",null,"ABSTENTION"]
[]
[null,null,null,null,null,1,{"$f":"VLOOKUP(F457,Liste!$B$179:$C$189,2)","v":"Charges générales   "},null,"Majorité Article 24",null,null,{"$f":"E419","v":8},{"$f":"VLOOKUP(L457,F.MERE!$A$14:$AA$163,16+F457)","v":569}]
[]
[null,{"$f":"IF($M457>0,\"\",\"NE PARTICIPE PAS                   XXXXXXXXXXXXX\")","v":""},null,null,"POUR",null,"CONTRE",null,"ABSTENTION"]
[]
[null,null,null,null,null,1,{"$f":"VLOOKUP(F461,Liste!$B$179:$C$189,2)","v":"Charges générales   "},null,"Majorité Article 24",null,null,{"$f":"E419","v":8},{"$f":"VLOOKUP(L461,F.MERE!$A$14:$AA$163,16+F461)","v":569}]
[]
[null,{"$f":"IF($M461>0,\"\",\"NE PARTICIPE PAS                   XXXXXXXXXXXXX\")","v":""},null,null,"POUR",null,"CONTRE",null,"ABSTENTION",null,null,null,{"$f":"VLOOKUP($E$12,F.MERE!$A$14:$AA$163,16+F462)","v":""}]
[]
["x"]
[{"$f":"Liste!$A$1","v":"Résid.LA JOIE"},null,null,null,null,null,null,null,"FORMULAIRE DE VOTE PAR CORRESPONDANCE"]
[{"$f":"Liste!$A$2","v":"120 rue de l' Espérance"},{"$f":"Liste!$A$2","v":"120 rue de l' Espérance"},null,null,null,null,null,null,null,"Page 1"]
[{"$f":"Liste!$A$3","v":75016},{"$f":"Liste!$A$3  & \" \" &Liste!$B$3","v":"75016 PARIS"}]
[null,null,null,null,null,null,null,"Assemblée Générale Ordinaire du",{"$f":"Liste!$E$3","v":"2022-11-05"}]
["Date et lieu",{"$f":"Liste!$E$3","v":"2022-11-05"},null,"à",{"$f":"Liste!$E$4","v":"10 Heures"},{"$f":"Liste!$E$2","v":"15 rue du Bois d'Amour 75016 PARIS"}]
[]
[null,null,null,null,null,null,"Ce formulaire doit être adressé à",null,{"$f":"Liste!$G$3","v":"Cabinet LEBON"}]
[null,null,null,null,null,null,null,null,{"$f":"Liste!$G$4","v":"120 rue du Devoir"}]
[null,null,null,null,null,null,null,null,{"$f":"Liste!$G$5","v":"75016 Paris"}]
[null,null,null,null,null,"Avant la date limite de réxception le",{"$f":"Liste!$E$5","v":"1 Novemvbre 2022"}]
[]
["Je soussigné('e):",{"$f":"Liste!$C$18&\" \"&Liste!$D$18","v":"Mr  et Mme BAUDINO"},null,null,{"$f":"Liste!A18","v":9}]
["domicilié(e) au",{"$f":"Liste!$E$18&\" \"&Liste!$F$18&\" \"&Liste!$G$18","v":"13 rue de l' espoir 75016 Paris "}]
[null,null,null,null,null,null,null,null,null,null,null,"                                             ,"]
["après avoir pris connaissance de l' ordre du jour et des documents annexés  à la conocation ou"]
["mis à disposition sur le site en ligne sécurisé de la copropriété,"]
["souhaite émettre sur chacune des questions soumises à la délibération de l' assemblée générale "]
["des copropriétaires convoquée le",null,null,null,{"$f":"Liste!$E$3","v":"2022-11-05"},"à",{"$f":"E470&\" \"&F470","v":"10 Heures 15 rue du Bois d'Amour 75016 PARIS"}]
["Signature du Copropriétaire de l' associé ou du mandataire commun"]
[null,null,null,null,null,null,"Fait à le"]
[]
[1.01,"Election Président de séance","Mr Banchet",null,null,1,{"$f":"VLOOKUP(F487,Liste!$B$179:$C$189,2)","v":"Charges générales   "},null,"Majorité Article 24",null,null,{"$f":"E477","v":9},{"$f":"VLOOKUP(L487,F.MERE!$A$14:$AA$163,16+F487)","v":431}]
[]
[null,{"$f":"IF($M487>0,\"\",\"NE PARTICIPE PAS                   XXXXXXXXXXXXX\")","v":""},null,null,"POUR",null,"CONTRE",null,"ABSTENTION",null,null,null,{"$f":"VLOOKUP($E$12,F.MERE!$A$14:$AA$163,16+F488)","v":""}]
[]
[2.0099999999999998,"Election dfu Secrétaire","Mr Lafolie",null,null,1,{"$f":"VLOOKUP(F491,Liste!$B$179:$C$189,2)","v":"Charges générales   "},null,"Majorité Article 24",null,null,{"$f":"E477","v":9},{"$f":"VLOOKUP(L491,F.MERE!$A$14:$AA$163,16+F487)","v":431}]
[]
[null,null,null,null,"POUR",null,"CONTRE",null,"ABSTENTION"]
[]
[3.01,"Election Scrutateur","Mr Berlier",null,null,1,{"$f":"VLOOKUP(F495,Liste!$B$179:$C$189,2)","v":"Charges générales   "},null,"Majorité Article 24",null,null,{"$f":"E477","v":9},{"$f":"VLOOKUP(L495,F.MERE!$A$14:$AA$163,16+F495)","v":431}]
[]
[null,null,null,null,"POUR",null,"CONTRE",null,"ABSTENTION"]
[]
[4.01,"Conseiller Syndical","Mme Fournier",null,null,1,{"$f":"VLOOKUP(F499,Liste!$B$179:$C$189,2)","v":"Charges générales   "},null,"Majorité Article 24",null,null,{"$f":"E477","v":9},{"$f":"VLOOKUP(L499,F.MERE!$A$14:$AA$163,16+F499)","v":431}]
[]
[null,{"$f":"IF($M499>0,\"\",\"NE PARTICIPE PAS                   XXXXXXXXXXXXX\")","v":""},null,null,"POUR",null,"CONTRE",null,"ABSTENTION"]
[]
[5.01,"Election Syndic","Cab;DUDULE",null,null,1,{"$f":"VLOOKUP(F503,Liste!$B$179:$C$189,2)","v":"Charges générales   "},null,"Majorité Article 25",null,null,{"$f":"E477","v":9},{"$f":"VLOOKUP(L503,F.MERE!$A$14:$AA$163,16+F503)","v":431}]
[]
[null,{"$f":"IF($M503>0,\"\",\"NE PARTICIPE PAS                   XXXXXXXXXXXXX\")","v":""},null,null,"POUR",null,"CONTRE",null,"ABSTENTION"]
[]
[5.0199999999999996,"Election Syndic,2e vote","Cab,DUDULE",null,null,1,{"$f":"VLOOKUP(F507,Liste!$B$179:$C$189,2)","v":"Charges générales   "},null,"Majorité Article 24",null,null,{"$f":"E477","v":9},{"$f":"VLOOKUP(L507,F.MERE!$A$14:$AA$163,16+F507)","v":431}]
[]
[null,{"$f":"IF($M507>0,\"\",\"NE PARTICIPE PAS                   XXXXXXXXXXXXX\")","v":""},null,null,"POUR",null,"CONTRE",null,"ABSTENTION"]
[]
[6.01,"Travaux BÄT B","Devis ABC",null,null,3,{"$f":"VLOOKUP(F511,Liste!$B$179:$C$189,2)","v":"Chardes Bât,B"},null,"Majorité Article 26",null,null,{"$f":"E477","v":9},{"$f":"VLOOKUP(L511,F.MERE!$A$14:$AA$163,16+F511)","v":0}]
[]
[null,{"$f":"IF($M511>0,\"\",\"NE PARTICIPE PAS                   XXXXXXXXXXXXX\")","v":"NE PARTICIPE PAS                   XXXXXXXXXXXXX"},null,null,"POUR",null,"CONTRE",null,"ABSTENTION"]
[]
[null,null,null,null,null,1,{"$f":"VLOOKUP(F515,Liste!$B$179:$C$189,2)","v":"Charges générales   "},null,"Majorité Article 24",null,null,{"$f":"E477","v":9},{"$f":"VLOOKUP(L515,F.MERE!$A$14:$AA$163,16+F515)","v":431}]
[]
[null,{"$f":"IF($M515>0,\"\",\"NE PARTICIPE PAS                   XXXXXXXXXXXXX\")","v":""},null,null,"POUR",null,"CONTRE",null,"ABSTENTION"]
[]
[null,null,null,null,null,1,{"$f":"VLOOKUP(F519,Liste!$B$179:$C$189,2)","v":"Charges générales   "},null,"Majorité Article 24",null,null,{"$f":"E477","v":9},{"$f":"VLOOKUP(L519,F.MERE!$A$14:$AA$163,16+F519)","v":431}]
[]
[null,{"$f":"IF($M519>0,\"\",\"NE PARTICIPE PAS                   XXXXXXXXXXXXX\")","v":""},null,null,"POUR",null,"CONTRE",null,"ABSTENTION",null,null,null,{"$f":"VLOOKUP($E$12,F.MERE!$A$14:$AA$163,16+F520)","v":""}]
[]
["x"]
[{"$f":"Liste!$A$1","v":"Résid.LA JOIE"},null,null,null,null,null,null,null,"FORMULAIRE DE VOTE PAR CORRESPONDANCE"]
[{"$f":"Liste!$A$2","v":"120 rue de l' Espérance"},{"$f":"Liste!$A$2","v":"120 rue de l' Espérance"},null,null,null,null,null,null,null,"Page 1"]
[{"$f":"Liste!$A$3","v":75016},{"$f":"Liste!$A$3  & \" \" &Liste!$B$3","v":"75016 PARIS"}]
[null,null,null,null,null,null,null,"Assemblée Générale Ordinaire du",{"$f":"Liste!$E$3","v":"2022-11-05"}]
["Date et lieu",{"$f":"Liste!$E$3","v":"2022-11-05"},null,"à",{"$f":"Liste!$E$4","v":"10 Heures"},{"$f":"Liste!$E$2","v":"15 rue du Bois d'Amour 75016 PARIS"}]
[]
[null,null,null,null,null,null,"Ce formulaire doit être adressé à",null,"Cabinet DUDULE"]
[null,null,null,null,null,null,null,null,"27 rue de l' Avenir"]
[null,null,null,null,null,null,null,null,"75016 PARIS"]
[null,null,null,null,null,"Avant la date limite de réxception le",{"$f":"Liste!$E$5","v":"1 Novemvbre 2022"}]
[]
["Je soussigné('e):",{"$f":"Liste!$C$19&\" \"&Liste!$D$19","v":"Mr  et Mme BAUGUIL André"},null,null,{"$f":"Liste!A19","v":10}]
["domicilié(e) au",{"$f":"Liste!$E$19&\" \"&Liste!$F$19&\" \"&Liste!$G$19","v":"13 rue de l' espoir 75016 Paris "}]
[]
["après avoir pris connaissance de l' ordre du jour et des documents annexés  à la conocation ou"]
["mis à disposition sur le site en ligne sécurisé de la copropriété,"]
["souhaite émettre sur chacune des questions soumises à la délibération de l' assemblée générale "]
["des copropriétaires convoquée le",null,null,null,{"$f":"Liste!$E$3","v":"2022-11-05"},"à",{"$f":"Liste!$E$2","v":"15 rue du Bois d'Amour 75016 PARIS"}]
["Signature du Copropriétaire de l' associé ou du mandataire commun"]
[null,null,null,null,null,null,"Fait à le"]
[]
[1.01,"Election Président de séance","Mr Banchet",null,null,1,{"$f":"VLOOKUP(F545,Liste!$B$179:$C$189,2)","v":"Charges générales   "},null,"Majorité Article 24",null,null,{"$f":"E535","v":10},{"$f":"VLOOKUP(L545,F.MERE!$A$14:$AA$163,16+F545)","v":360}]
[]
[null,{"$f":"IF($M545>0,\"\",\"NE PARTICIPE PAS                   XXXXXXXXXXXXX\")","v":""},null,null,"POUR",null,"CONTRE",null,"ABSTENTION",null,null,null,{"$f":"VLOOKUP($E$12,F.MERE!$A$14:$AA$163,16+F546)","v":""}]
[]
[2.0099999999999998,"Election dfu Secrétaire","Mr Lafolie",null,null,1,{"$f":"VLOOKUP(F549,Liste!$B$179:$C$189,2)","v":"Charges générales   "},null,"Majorité Article 24",null,null,{"$f":"E535","v":10},{"$f":"VLOOKUP(L549,F.MERE!$A$14:$AA$163,16+F545)","v":360}]
[]
[null,null,null,null,"POUR",null,"CONTRE",null,"ABSTENTION"]
[]
[3.01,"Election Scrutateur","Mr Berlier",null,null,1,{"$f":"VLOOKUP(F553,Liste!$B$179:$C$189,2)","v":"Charges générales   "},null,"Majorité Article 24",null,null,{"$f":"E535","v":10},{"$f":"VLOOKUP(L553,F.MERE!$A$14:$AA$163,16+F553)","v":360}]
[]
[null,null,null,null,"POUR",null,"CONTRE",null,"ABSTENTION"]
[]
[4.01,"Conseiller Syndical","Mme Fournier",null,null,1,{"$f":"VLOOKUP(F557,Liste!$B$179:$C$189,2)","v":"Charges générales   "},null,"Majorité Article 24",null,null,{"$f":"E535","v":10},{"$f":"VLOOKUP(L557,F.MERE!$A$14:$AA$163,16+F557)","v":360}]
[]
[null,{"$f":"IF($M557>0,\"\",\"NE PARTICIPE PAS                   XXXXXXXXXXXXX\")","v":""},null,null,"POUR",null,"CONTRE",null,"ABSTENTION"]
[]
[5.01,"Election Syndic","Cab;DUDULE",null,null,1,{"$f":"VLOOKUP(F561,Liste!$B$179:$C$189,2)","v":"Charges générales   "},null,"Majorité Article 25",null,null,{"$f":"E535","v":10},{"$f":"VLOOKUP(L561,F.MERE!$A$14:$AA$163,16+F561)","v":360}]
[]
[null,{"$f":"IF($M561>0,\"\",\"NE PARTICIPE PAS                   XXXXXXXXXXXXX\")","v":""},null,null,"POUR",null,"CONTRE",null,"ABSTENTION"]
[]
[5.0199999999999996,"Election Syndic,2e vote","Cab,DUDULE",null,null,1,{"$f":"VLOOKUP(F565,Liste!$B$179:$C$189,2)","v":"Charges générales   "},null,"Majorité Article 24",null,null,{"$f":"E535","v":10},{"$f":"VLOOKUP(L565,F.MERE!$A$14:$AA$163,16+F565)","v":360}]
[]
[null,{"$f":"IF($M565>0,\"\",\"NE PARTICIPE PAS                   XXXXXXXXXXXXX\")","v":""},null,null,"POUR",null,"CONTRE",null,"ABSTENTION"]
[]
[6.01,"Travaux BÄT B","Devis ABC",null,null,3,{"$f":"VLOOKUP(F569,Liste!$B$179:$C$189,2)","v":"Chardes Bât,B"},null,"Majorité Article 26",null,null,{"$f":"E535","v":10},{"$f":"VLOOKUP(L569,F.MERE!$A$14:$AA$163,16+F569)","v":0}]
[]
[null,{"$f":"IF($M569>0,\"\",\"NE PARTICIPE PAS                   XXXXXXXXXXXXX\")","v":"NE PARTICIPE PAS                   XXXXXXXXXXXXX"},null,null,"POUR",null,"CONTRE",null,"ABSTENTION"]
[]
[null,null,null,null,null,1,{"$f":"VLOOKUP(F573,Liste!$B$179:$C$189,2)","v":"Charges générales   "},null,"Majorité Article 24",null,null,{"$f":"E535","v":10},{"$f":"VLOOKUP(L573,F.MERE!$A$14:$AA$163,16+F573)","v":360}]
[]
[null,{"$f":"IF($M573>0,\"\",\"NE PARTICIPE PAS                   XXXXXXXXXXXXX\")","v":""},null,null,"POUR",null,"CONTRE",null,"ABSTENTION"]
[]
[null,null,null,null,null,1,{"$f":"VLOOKUP(F577,Liste!$B$179:$C$189,2)","v":"Charges générales   "},null,"Majorité Article 24",null,null,{"$f":"E535","v":10},{"$f":"VLOOKUP(L577,F.MERE!$A$14:$AA$163,16+F577)","v":360}]
[]
[null,{"$f":"IF($M577>0,\"\",\"NE PARTICIPE PAS                   XXXXXXXXXXXXX\")","v":""},null,null,"POUR",null,"CONTRE",null,"ABSTENTION",null,null,null,{"$f":"VLOOKUP($E$12,F.MERE!$A$14:$AA$163,16+F578)","v":""}]
[]
["x"]
[{"$f":"Liste!$A$1","v":"Résid.LA JOIE"},null,null,null,null,null,null,null,"FORMULAIRE DE VOTE PAR CORRESPONDANCE"]
[{"$f":"Liste!$A$2","v":"120 rue de l' Espérance"},{"$f":"Liste!$A$2","v":"120 rue de l' Espérance"},null,null,null,null,null,null,null,"Page 1"]
[{"$f":"Liste!$A$3","v":75016},{"$f":"Liste!$A$3  & \" \" &Liste!$B$3","v":"75016 PARIS"}]
[null,null,null,null,null,null,null,"Assemblée Générale Ordinaire du",{"$f":"Liste!$E$3","v":"2022-11-05"}]
["Date et lieu",{"$f":"Liste!$E$3","v":"2022-11-05"},null,"à",{"$f":"Liste!$E$4","v":"10 Heures"},{"$f":"Liste!$E$2","v":"15 rue du Bois d'Amour 75016 PARIS"}]
[]
[null,null,null,null,null,null,"Ce formulaire doit être adressé à",null,{"$f":"Liste!$G$3","v":"Cabinet LEBON"}]
[null,null,null,null,null,null,null,null,{"$f":"Liste!$G$4","v":"120 rue du Devoir"}]
[null,null,null,null,null,null,null,null,{"$f":"Liste!$G$5","v":"75016 Paris"}]
[null,null,null,null,null,"Avant la date limite de réxception le",{"$f":"Liste!$E$5","v":"1 Novemvbre 2022"}]
[]
["Je soussigné('e):",{"$f":"Liste!$C$20&\" \"&Liste!$D$20","v":"Mr  et Mme BAUMGARTNER Peter"},null,null,{"$f":"Liste!A20","v":11}]
["domicilié(e) au",{"$f":"Liste!$E$20&\" \"&Liste!$F$20&\" \"&Liste!$G$20","v":"13 rue de l' espoir 75016 Paris "}]
[]
["après avoir pris connaissance de l' ordre du jour et des documents annexés  à la conocation ou"]
["mis à disposition sur le site en ligne sécurisé de la copropriété,"]
["souhaite émettre sur chacune des questions soumises à la délibération de l' assemblée générale "]
["des copropriétaires convoquée le",null,null,null,{"$f":"Liste!$E$3","v":"2022-11-05"},"à",{"$f":"E586&\" \"&F586","v":"10 Heures 15 rue du Bois d'Amour 75016 PARIS"}]
["Signature du Copropriétaire de l' associé ou du mandataire commun"]
[null,null,null,null,null,null,"Fait à le"]
[]
[1.01,"Election Président de séance","Mr Banchet",null,null,1,{"$f":"VLOOKUP(F603,Liste!$B$179:$C$189,2)","v":"Charges générales   "},null,"Majorité Article 24",null,null,{"$f":"E593","v":11},{"$f":"VLOOKUP(L603,F.MERE!$A$14:$AA$163,16+F603)","v":380}]
[]
[null,{"$f":"IF($M603>0,\"\",\"NE PARTICIPE PAS                   XXXXXXXXXXXXX\")","v":""},null,null,"POUR",null,"CONTRE",null,"ABSTENTION",null,null,null,{"$f":"VLOOKUP($E$12,F.MERE!$A$14:$AA$163,16+F604)","v":""}]
[]
[2.0099999999999998,"Election dfu Secrétaire","Mr Lafolie",null,null,1,{"$f":"VLOOKUP(F607,Liste!$B$179:$C$189,2)","v":"Charges générales   "},null,"Majorité Article 24",null,null,{"$f":"E593","v":11},{"$f":"VLOOKUP(L607,F.MERE!$A$14:$AA$163,16+F603)","v":380}]
[]
[null,null,null,null,"POUR",null,"CONTRE",null,"ABSTENTION"]
[]
[3.01,"Election Scrutateur","Mr Berlier",null,null,1,{"$f":"VLOOKUP(F611,Liste!$B$179:$C$189,2)","v":"Charges générales   "},null,"Majorité Article 24",null,null,{"$f":"E593","v":11},{"$f":"VLOOKUP(L611,F.MERE!$A$14:$AA$163,16+F611)","v":380}]
[]
[null,null,null,null,"POUR",null,"CONTRE",null,"ABSTENTION"]
[]
[4.01,"Conseiller Syndical","Mme Fournier",null,null,1,{"$f":"VLOOKUP(F615,Liste!$B$179:$C$189,2)","v":"Charges générales   "},null,"Majorité Article 24",null,null,{"$f":"E593","v":11},{"$f":"VLOOKUP(L615,F.MERE!$A$14:$AA$163,16+F615)","v":380}]
[]
[null,{"$f":"IF($M615>0,\"\",\"NE PARTICIPE PAS                   XXXXXXXXXXXXX\")","v":""},null,null,"POUR",null,"CONTRE",null,"ABSTENTION"]
[]
[5.01,"Election Syndic","Cab;DUDULE",null,null,1,{"$f":"VLOOKUP(F619,Liste!$B$179:$C$189,2)","v":"Charges générales   "},null,"Majorité Article 25",null,null,{"$f":"E593","v":11},{"$f":"VLOOKUP(L619,F.MERE!$A$14:$AA$163,16+F619)","v":380}]
[]
[null,{"$f":"IF($M619>0,\"\",\"NE PARTICIPE PAS                   XXXXXXXXXXXXX\")","v":""},null,null,"POUR",null,"CONTRE",null,"ABSTENTION"]
[]
[5.0199999999999996,"Election Syndic,2e vote","Cab,DUDULE",null,null,1,{"$f":"VLOOKUP(F623,Liste!$B$179:$C$189,2)","v":"Charges générales   "},null,"Majorité Article 24",null,null,{"$f":"E593","v":11},{"$f":"VLOOKUP(L623,F.MERE!$A$14:$AA$163,16+F623)","v":380}]
[]
[null,{"$f":"IF($M623>0,\"\",\"NE PARTICIPE PAS                   XXXXXXXXXXXXX\")","v":""},null,null,"POUR",null,"CONTRE",null,"ABSTENTION"]
[]
[6.01,"Travaux BÄT B","Devis ABC",null,null,3,{"$f":"VLOOKUP(F627,Liste!$B$179:$C$189,2)","v":"Chardes Bât,B"},null,"Majorité Article 26",null,null,{"$f":"E593","v":11},{"$f":"VLOOKUP(L627,F.MERE!$A$14:$AA$163,16+F627)","v":0}]
[]
[null,{"$f":"IF($M627>0,\"\",\"NE PARTICIPE PAS                   XXXXXXXXXXXXX\")","v":"NE PARTICIPE PAS                   XXXXXXXXXXXXX"},null,null,"POUR",null,"CONTRE",null,"ABSTENTION"]
[]
[null,null,null,null,null,1,{"$f":"VLOOKUP(F631,Liste!$B$179:$C$189,2)","v":"Charges générales   "},null,"Majorité Article 24",null,null,{"$f":"E593","v":11},{"$f":"VLOOKUP(L631,F.MERE!$A$14:$AA$163,16+F631)","v":380}]
[]
[null,{"$f":"IF($M631>0,\"\",\"NE PARTICIPE PAS                   XXXXXXXXXXXXX\")","v":""},null,null,"POUR",null,"CONTRE",null,"ABSTENTION"]
[]
[null,null,null,null,null,1,{"$f":"VLOOKUP(F635,Liste!$B$179:$C$189,2)","v":"Charges générales   "},null,"Majorité Article 24",null,null,{"$f":"E593","v":11},{"$f":"VLOOKUP(L635,F.MERE!$A$14:$AA$163,16+F635)","v":380}]
[]
[null,{"$f":"IF($M635>0,\"\",\"NE PARTICIPE PAS                   XXXXXXXXXXXXX\")","v":""},null,null,"POUR",null,"CONTRE",null,"ABSTENTION",null,null,null,{"$f":"VLOOKUP($E$12,F.MERE!$A$14:$AA$163,16+F636)","v":""}]
[null,null,null,null,null,null,null,null,null,null,null,null,{"$f":"VLOOKUP($E$593,F.MERE!$A$14:$AA$163,16+F636)","v":""}]
["x"]
[{"$f":"Liste!$A$1","v":"Résid.LA JOIE"},null,null,null,null,null,null,null,"FORMULAIRE DE VOTE PAR CORRESPONDANCE"]
[{"$f":"Liste!$A$2","v":"120 rue de l' Espérance"},{"$f":"Liste!$A$2","v":"120 rue de l' Espérance"},null,null,null,null,null,null,null,"Page 1"]
[{"$f":"Liste!$A$3","v":75016},{"$f":"Liste!$A$3  & \" \" &Liste!$B$3","v":"75016 PARIS"}]
[null,null,null,null,null,null,null,"Assemblée Générale Ordinaire du",{"$f":"Liste!$E$3","v":"2022-11-05"}]
["Date et lieu",{"$f":"Liste!$E$3","v":"2022-11-05"},null,"à","17 Heures",{"$f":"Liste!$E$2","v":"15 rue du Bois d'Amour 75016 PARIS"}]
[]
[null,null,null,null,null,null,"Ce formulaire doit être adressé à",null,{"$f":"Liste!$G$3","v":"Cabinet LEBON"}]
[null,null,null,null,null,null,null,null,{"$f":"Liste!$G$4","v":"120 rue du Devoir"}]
[null,null,null,null,null,null,null,null,{"$f":"Liste!$G$5","v":"75016 Paris"}]
[null,null,null,null,null,"Avant la date limite de réxception le",{"$f":"Liste!$E$5","v":"1 Novemvbre 2022"}]
[]
["Je soussigné('e):",{"$f":"Liste!$C$21&\" \"&Liste!$D$21","v":"Mr  et Mme BECH Monique"},null,null,{"$f":"Liste!A21","v":12}]
["domicilié(e) au",{"$f":"Liste!$E$21&\" \"&Liste!$F$21&\" \"&Liste!$G$21","v":"22 Rue des Amoureux 33200 Bordeaux"}]
[]
["après avoir pris connaissance de l' ordre du jour et des documents annexés  à la conocation ou"]
["mis à disposition sur le site en ligne sécurisé de la copropriété,"]
["souhaite émettre sur chacune des questions soumises à la délibération de l' assemblée générale "]
["des copropriétaires convoquée le",null,null,null,{"$f":"Liste!$E$3","v":"2022-11-05"},"à",{"$f":"E644&\" \"&F644","v":"17 Heures 15 rue du Bois d'Amour 75016 PARIS"}]
["Signature du Copropriétaire de l' associé ou du mandataire commun"]
[null,null,null,null,null,null,"Fait à le"]
[]
[1.01,"Election Président de séance","Mr Banchet",null,null,1,{"$f":"VLOOKUP(F661,Liste!$B$179:$C$189,2)","v":"Charges générales   "},null,"Majorité Article 24",null,null,{"$f":"E651","v":12},{"$f":"VLOOKUP(L661,F.MERE!$A$14:$AA$163,16+F661)","v":519}]
[]
[null,{"$f":"IF($M661>0,\"\",\"NE PARTICIPE PAS                   XXXXXXXXXXXXX\")","v":""},null,null,"POUR",null,"CONTRE",null,"ABSTENTION",null,null,null,{"$f":"VLOOKUP($E$12,F.MERE!$A$14:$AA$163,16+F662)","v":""}]
[]
[2.0099999999999998,"Election dfu Secrétaire","Mr Lafolie",null,null,1,{"$f":"VLOOKUP(F665,Liste!$B$179:$C$189,2)","v":"Charges générales   "},null,"Majorité Article 24",null,null,{"$f":"E651","v":12},{"$f":"VLOOKUP(L665,F.MERE!$A$14:$AA$163,16+F661)","v":519}]
[]
[null,null,null,null,"POUR",null,"CONTRE",null,"ABSTENTION"]
[]
[3.01,"Election Scrutateur","Mr Berlier",null,null,1,{"$f":"VLOOKUP(F669,Liste!$B$179:$C$189,2)","v":"Charges générales   "},null,"Majorité Article 24",null,null,{"$f":"E651","v":12},{"$f":"VLOOKUP(L669,F.MERE!$A$14:$AA$163,16+F669)","v":519}]
[]
[null,null,null,null,"POUR",null,"CONTRE",null,"ABSTENTION"]
[]
[4.01,"Conseiller Syndical","Mme Fournier",null,null,1,{"$f":"VLOOKUP(F673,Liste!$B$179:$C$189,2)","v":"Charges générales   "},null,"Majorité Article 24",null,null,{"$f":"E651","v":12},{"$f":"VLOOKUP(L673,F.MERE!$A$14:$AA$163,16+F673)","v":519}]
[]
[null,{"$f":"IF($M673>0,\"\",\"NE PARTICIPE PAS                   XXXXXXXXXXXXX\")","v":""},null,null,"POUR",null,"CONTRE",null,"ABSTENTION"]
[]
[5.01,"Election Syndic","Cab;DUDULE",null,null,1,{"$f":"VLOOKUP(F677,Liste!$B$179:$C$189,2)","v":"Charges générales   "},null,"Majorité Article 25",null,null,{"$f":"E651","v":12},{"$f":"VLOOKUP(L677,F.MERE!$A$14:$AA$163,16+F677)","v":519}]
[]
[null,{"$f":"IF($M677>0,\"\",\"NE PARTICIPE PAS                   XXXXXXXXXXXXX\")","v":""},null,null,"POUR",null,"CONTRE",null,"ABSTENTION"]
[]
[5.0199999999999996,"Election Syndic,2e vote","Cab;DUDULE",null,null,1,{"$f":"VLOOKUP(F681,Liste!$B$179:$C$189,2)","v":"Charges générales   "},null,"Majorité Article 24",null,null,{"$f":"E651","v":12},{"$f":"VLOOKUP(L681,F.MERE!$A$14:$AA$163,16+F681)","v":519}]
[]
[null,{"$f":"IF($M681>0,\"\",\"NE PARTICIPE PAS                   XXXXXXXXXXXXX\")","v":""},null,null,"POUR",null,"CONTRE",null,"ABSTENTION"]
[]
[6.01,"Travaux BÄT B","Devis ABC",null,null,3,{"$f":"VLOOKUP(F685,Liste!$B$179:$C$189,2)","v":"Chardes Bât,B"},null,"Majorité Article 26",null,null,{"$f":"E651","v":12},{"$f":"VLOOKUP(L685,F.MERE!$A$14:$AA$163,16+F685)","v":0}]
[]
[null,{"$f":"IF($M685>0,\"\",\"NE PARTICIPE PAS                   XXXXXXXXXXXXX\")","v":"NE PARTICIPE PAS                   XXXXXXXXXXXXX"},null,null,"POUR",null,"CONTRE",null,"ABSTENTION"]
[]
[null,null,null,null,null,1,{"$f":"VLOOKUP(F689,Liste!$B$179:$C$189,2)","v":"Charges générales   "},null,"Majorité Article 24",null,null,{"$f":"E651","v":12},{"$f":"VLOOKUP(L689,F.MERE!$A$14:$AA$163,16+F689)","v":519}]
[]
[null,{"$f":"IF($M689>0,\"\",\"NE PARTICIPE PAS                   XXXXXXXXXXXXX\")","v":""},null,null,"POUR",null,"CONTRE",null,"ABSTENTION"]
[]
[null,null,null,null,null,1,{"$f":"VLOOKUP(F693,Liste!$B$179:$C$189,2)","v":"Charges générales   "},null,"Majorité Article 24",null,null,{"$f":"E651","v":12},{"$f":"VLOOKUP(L693,F.MERE!$A$14:$AA$163,16+F693)","v":519}]
[]
[null,{"$f":"IF($M693>0,\"\",\"NE PARTICIPE PAS                   XXXXXXXXXXXXX\")","v":""},null,null,"POUR",null,"CONTRE",null,"ABSTENTION",null,null,null,{"$f":"VLOOKUP($E$12,F.MERE!$A$14:$AA$163,16+F694)","v":""}]
[]
["x"]
[{"$f":"Liste!$A$1","v":"Résid.LA JOIE"},null,null,null,null,null,null,null,"FORMULAIRE DE VOTE PAR CORRESPONDANCE"]
[{"$f":"Liste!$A$2","v":"120 rue de l' Espérance"},{"$f":"Liste!$A$2","v":"120 rue de l' Espérance"},null,null,null,null,null,null,null,"Page 1"]
[{"$f":"Liste!$A$3","v":75016},{"$f":"Liste!$A$3  & \" \" &Liste!$B$3","v":"75016 PARIS"}]
[null,null,null,null,null,null,null,"Assemblée Générale Ordinaire du",{"$f":"Liste!$E$3","v":"2022-11-05"}]
["Date et lieu",{"$f":"Liste!$E$3","v":"2022-11-05"},null,"à",{"$f":"Liste!$E$4","v":"10 Heures"},{"$f":"Liste!$E$2","v":"15 rue du Bois d'Amour 75016 PARIS"}]
[]
[null,null,null,null,null,null,"Ce formulaire doit être adressé à",null,{"$f":"Liste!$G$3","v":"Cabinet LEBON"}]
[null,null,null,null,null,null,null,null,{"$f":"Liste!$G$4","v":"120 rue du Devoir"}]
[null,null,null,null,null,null,null,null,{"$f":"Liste!$G$5","v":"75016 Paris"}]
[null,null,null,null,null,"Avant la date limite de réxception le",{"$f":"Liste!$E$5","v":"1 Novemvbre 2022"}]
[]
["Je soussigné('e):",{"$f":"Liste!$C$22&\" \"&Liste!$D$22","v":"Monsieur BERGET Jean François"},null,null,{"$f":"Liste!A22","v":13}]
["domicilié(e) au",{"$f":"Liste!$E$22&\" \"&Liste!$F$22&\" \"&Liste!$G$22","v":"13 rue de l' espoir 75016 Paris "}]
[]
["après avoir pris connaissance de l' ordre du jour et des documents annexés  à la conocation ou"]
["mis à disposition sur le site en ligne sécurisé de la copropriété,"]
["souhaite émettre sur chacune des questions soumises à la délibération de l' assemblée générale "]
["des copropriétaires convoquée le",null,null,null,{"$f":"Liste!$E$3","v":"2022-11-05"},"à",{"$f":"E702&\" \"&F702","v":"10 Heures 15 rue du Bois d'Amour 75016 PARIS"}]
["Signature du Copropriétaire de l' associé ou du mandataire commun"]
[null,null,null,null,null,null,"Fait à le"]
[]
[1.01,"Election Président de séance","Mr Banchet",null,null,1,{"$f":"VLOOKUP(F719,Liste!$B$179:$C$189,2)","v":"Charges générales   "},null,"Majorité Article 24",null,null,{"$f":"E709","v":13},{"$f":"VLOOKUP(L719,F.MERE!$A$14:$AA$163,16+F719)","v":381}]
[]
[null,{"$f":"IF($M719>0,\"\",\"NE PARTICIPE PAS                   XXXXXXXXXXXXX\")","v":""},null,null,"POUR",null,"CONTRE",null,"ABSTENTION",null,null,null,{"$f":"VLOOKUP($E$12,F.MERE!$A$14:$AA$163,16+F720)","v":""}]
[]
[2.0099999999999998,"Election dfu Secrétaire","Mr Lafolie",null,null,1,{"$f":"VLOOKUP(F723,Liste!$B$179:$C$189,2)","v":"Charges générales   "},null,"Majorité Article 24",null,null,{"$f":"E709","v":13},{"$f":"VLOOKUP(L723,F.MERE!$A$14:$AA$163,16+F719)","v":381}]
[]
[null,null,null,null,"POUR",null,"CONTRE",null,"ABSTENTION"]
[]
[3.01,"Election Scrutateur","Mr Berlier",null,null,1,{"$f":"VLOOKUP(F727,Liste!$B$179:$C$189,2)","v":"Charges générales   "},null,"Majorité Article 24",null,null,{"$f":"E709","v":13},{"$f":"VLOOKUP(L727,F.MERE!$A$14:$AA$163,16+F727)","v":381}]
[]
[null,null,null,null,"POUR",null,"CONTRE",null,"ABSTENTION"]
[]
[4.01,"Conseiller Syndical","Mme Fournier",null,null,1,{"$f":"VLOOKUP(F731,Liste!$B$179:$C$189,2)","v":"Charges générales   "},null,"Majorité Article 24",null,null,{"$f":"E709","v":13},{"$f":"VLOOKUP(L731,F.MERE!$A$14:$AA$163,16+F731)","v":381}]
[]
[null,{"$f":"IF($M731>0,\"\",\"NE PARTICIPE PAS                   XXXXXXXXXXXXX\")","v":""},null,null,"POUR",null,"CONTRE",null,"ABSTENTION"]
[]
[5.01,"Election Syndic","Cab;DUDULE",null,null,1,{"$f":"VLOOKUP(F735,Liste!$B$179:$C$189,2)","v":"Charges générales   "},null,"Majorité Article 25",null,null,{"$f":"E709","v":13},{"$f":"VLOOKUP(L735,F.MERE!$A$14:$AA$163,16+F735)","v":381}]
[]
[null,{"$f":"IF($M735>0,\"\",\"NE PARTICIPE PAS                   XXXXXXXXXXXXX\")","v":""},null,null,"POUR",null,"CONTRE",null,"ABSTENTION"]
[]
[5.0199999999999996,"Election Syndic,2e vote","Cab;DUDULE",null,null,1,{"$f":"VLOOKUP(F739,Liste!$B$179:$C$189,2)","v":"Charges générales   "},null,"Majorité Article 24",null,null,{"$f":"E709","v":13},{"$f":"VLOOKUP(L739,F.MERE!$A$14:$AA$163,16+F739)","v":381}]
[]
[null,{"$f":"IF($M739>0,\"\",\"NE PARTICIPE PAS                   XXXXXXXXXXXXX\")","v":""},null,null,"POUR",null,"CONTRE",null,"ABSTENTION"]
[]
[6.01,"Travaux BÄT B","Devis ABC",null,null,3,{"$f":"VLOOKUP(F743,Liste!$B$179:$C$189,2)","v":"Chardes Bât,B"},null,"Majorité Article 26",null,null,{"$f":"E709","v":13},{"$f":"VLOOKUP(L743,F.MERE!$A$14:$AA$163,16+F743)","v":0}]
[]
[null,{"$f":"IF($M743>0,\"\",\"NE PARTICIPE PAS                   XXXXXXXXXXXXX\")","v":"NE PARTICIPE PAS                   XXXXXXXXXXXXX"},"XXXXXXXXXXXXX",null,"POUR",null,"CONTRE",null,"ABSTENTION"]
[]
[null,null,null,null,null,1,{"$f":"VLOOKUP(F747,Liste!$B$179:$C$189,2)","v":"Charges générales   "},null,"Majorité Article 24",null,null,{"$f":"E709","v":13},{"$f":"VLOOKUP(L747,F.MERE!$A$14:$AA$163,16+F747)","v":381}]
[]
[null,{"$f":"IF($M747>0,\"\",\"NE PARTICIPE PAS                   XXXXXXXXXXXXX\")","v":""},null,null,"POUR",null,"CONTRE",null,"ABSTENTION"]
[]
[null,null,null,null,null,1,{"$f":"VLOOKUP(F751,Liste!$B$179:$C$189,2)","v":"Charges générales   "},null,"Majorité Article 24",null,null,{"$f":"E709","v":13},{"$f":"VLOOKUP(L751,F.MERE!$A$14:$AA$163,16+F751)","v":381}]
[]
[null,{"$f":"IF($M751>0,\"\",\"NE PARTICIPE PAS                   XXXXXXXXXXXXX\")","v":""},null,null,"POUR",null,"CONTRE",null,"ABSTENTION",null,null,null,{"$f":"VLOOKUP($E$12,F.MERE!$A$14:$AA$163,16+F752)","v":""}]
[]
["x"]
[{"$f":"Liste!$A$1","v":"Résid.LA JOIE"},null,null,null,null,null,null,null,"FORMULAIRE DE VOTE PAR CORRESPONDANCE"]
[{"$f":"Liste!$A$2","v":"120 rue de l' Espérance"},{"$f":"Liste!$A$2","v":"120 rue de l' Espérance"},null,null,null,null,null,null,null,"Page 1"]
[{"$f":"Liste!$A$3","v":75016},{"$f":"Liste!$A$3  & \" \" &Liste!$B$3","v":"75016 PARIS"}]
[null,null,null,null,null,null,null,"Assemblée Générale Ordinaire du",{"$f":"Liste!$E$3","v":"2022-11-05"}]
["Date et lieu",{"$f":"Liste!$E$3","v":"2022-11-05"},null,"à",{"$f":"Liste!$E$4","v":"10 Heures"},{"$f":"Liste!$E$2","v":"15 rue du Bois d'Amour 75016 PARIS"}]
[]
[null,null,null,null,null,null,"Ce formulaire doit être adressé à",null,{"$f":"Liste!$G$3","v":"Cabinet LEBON"}]
[null,null,null,null,null,null,null,null,{"$f":"Liste!$G$4","v":"120 rue du Devoir"}]
[null,null,null,null,null,null,null,null,{"$f":"Liste!$G$5","v":"75016 Paris"}]
[null,null,null,null,null,"Avant la date limite de réxception le",{"$f":"Liste!$E$5","v":"1 Novemvbre 2022"}]
[]
["Je soussigné('e):",{"$f":"Liste!$C$23&\" \"&Liste!$D$23","v":"Monsieur BERLIER David"},null,null,{"$f":"Liste!A23","v":14}]
["domicilié(e) au",{"$f":"Liste!$E$23&\" \"&Liste!$F$23&\" \"&Liste!$G$23","v":"13 rue de l' espoir 75016 Paris "}]
[]
["après avoir pris connaissance de l' ordre du jour et des documents annexés  à la conocation ou"]
["mis à disposition sur le site en ligne sécurisé de la copropriété,"]
["souhaite émettre sur chacune des questions soumises à la délibération de l' assemblée générale "]
["des copropriétaires convoquée le",null,null,null,{"$f":"Liste!$E$3","v":"2022-11-05"},"à",{"$f":"E760&\" \"&F760","v":"10 Heures 15 rue du Bois d'Amour 75016 PARIS"}]
["Signature du Copropriétaire de l' associé ou du mandataire commun"]
[null,null,null,null,null,null,"Fait à le"]
[]
[1.01,"Election Président de séance","Mr Banchet",null,null,1,{"$f":"VLOOKUP(F777,Liste!$B$179:$C$189,2)","v":"Charges générales   "},null,"Majorité Article 24",null,null,{"$f":"E767","v":14},{"$f":"VLOOKUP(L777,F.MERE!$A$14:$AA$163,16+F777)","v":391}]
[]
[null,{"$f":"IF($M777>0,\"\",\"NE PARTICIPE PAS                   XXXXXXXXXXXXX\")","v":""},null,null,"POUR",null,"CONTRE",null,"ABSTENTION",null,null,null,{"$f":"VLOOKUP($E$12,F.MERE!$A$14:$AA$163,16+F778)","v":""}]
[]
[2.0099999999999998,"Election dfu Secrétaire","Mr Lafolie",null,null,1,{"$f":"VLOOKUP(F781,Liste!$B$179:$C$189,2)","v":"Charges générales   "},null,"Majorité Article 24",null,null,{"$f":"E767","v":14},{"$f":"VLOOKUP(L781,F.MERE!$A$14:$AA$163,16+F777)","v":391}]
[]
[null,null,null,null,"POUR",null,"CONTRE",null,"ABSTENTION"]
[]
[3.01,"Election Scrutateur","Mr Berlier",null,null,1,{"$f":"VLOOKUP(F785,Liste!$B$179:$C$189,2)","v":"Charges générales   "},null,"Majorité Article 24",null,null,{"$f":"E767","v":14},{"$f":"VLOOKUP(L785,F.MERE!$A$14:$AA$163,16+F785)","v":391}]
[]
[null,null,null,null,"POUR",null,"CONTRE",null,"ABSTENTION"]
[]
[4.01,"Conseiller Syndical","Mme Fournier",null,null,1,{"$f":"VLOOKUP(F789,Liste!$B$179:$C$189,2)","v":"Charges générales   "},null,"Majorité Article 24",null,null,{"$f":"E767","v":14},{"$f":"VLOOKUP(L789,F.MERE!$A$14:$AA$163,16+F789)","v":391}]
[]
[null,{"$f":"IF($M789>0,\"\",\"NE PARTICIPE PAS                   XXXXXXXXXXXXX\")","v":""},null,null,"POUR",null,"CONTRE",null,"ABSTENTION"]
[]
[5.01,"Election Syndic","Cab;DUDULE",null,null,1,{"$f":"VLOOKUP(F793,Liste!$B$179:$C$189,2)","v":"Charges générales   "},null,"Majorité Article 25",null,null,{"$f":"E767","v":14},{"$f":"VLOOKUP(L793,F.MERE!$A$14:$AA$163,16+F793)","v":391}]
[]
[null,{"$f":"IF($M793>0,\"\",\"NE PARTICIPE PAS                   XXXXXXXXXXXXX\")","v":""},null,null,"POUR",null,"CONTRE",null,"ABSTENTION"]
[]
[5.0199999999999996,"Election Syndic,2e vote","Cab;DUDULE",null,null,1,{"$f":"VLOOKUP(F797,Liste!$B$179:$C$189,2)","v":"Charges générales   "},null,"Majorité Article 24",null,null,{"$f":"E767","v":14},{"$f":"VLOOKUP(L797,F.MERE!$A$14:$AA$163,16+F797)","v":391}]
[]
[null,{"$f":"IF($M797>0,\"\",\"NE PARTICIPE PAS                   XXXXXXXXXXXXX\")","v":""},null,null,"POUR",null,"CONTRE",null,"ABSTENTION"]
[]
[6.01,"Travaux BÄT B","Devis ABC",null,null,3,{"$f":"VLOOKUP(F801,Liste!$B$179:$C$189,2)","v":"Chardes Bât,B"},null,"Majorité Article 26",null,null,{"$f":"E767","v":14},{"$f":"VLOOKUP(L801,F.MERE!$A$14:$AA$163,16+F801)","v":0}]
[]
[null,{"$f":"IF($M801>0,\"\",\"NE PARTICIPE PAS                   XXXXXXXXXXXXX\")","v":"NE PARTICIPE PAS                   XXXXXXXXXXXXX"},"XXXXXXXXXXXXX",null,"POUR",null,"CONTRE",null,"ABSTENTION"]
[]
[null,null,null,null,null,1,{"$f":"VLOOKUP(F805,Liste!$B$179:$C$189,2)","v":"Charges générales   "},null,"Majorité Article 24",null,null,{"$f":"E767","v":14},{"$f":"VLOOKUP(L805,F.MERE!$A$14:$AA$163,16+F805)","v":391}]
[]
[null,{"$f":"IF($M805>0,\"\",\"NE PARTICIPE PAS                   XXXXXXXXXXXXX\")","v":""},null,null,"POUR",null,"CONTRE",null,"ABSTENTION"]
[]
[null,null,null,null,null,1,{"$f":"VLOOKUP(F809,Liste!$B$179:$C$189,2)","v":"Charges générales   "},null,"Majorité Article 24",null,null,{"$f":"E767","v":14},{"$f":"VLOOKUP(L809,F.MERE!$A$14:$AA$163,16+F809)","v":391}]
[]
[null,{"$f":"IF($M809>0,\"\",\"NE PARTICIPE PAS                   XXXXXXXXXXXXX\")","v":""},null,null,"POUR",null,"CONTRE",null,"ABSTENTION",null,null,null,{"$f":"VLOOKUP($E$12,F.MERE!$A$14:$AA$163,16+F810)","v":""}]
[]
["x"]
[{"$f":"Liste!$A$1","v":"Résid.LA JOIE"},null,null,null,null,null,null,null,"FORMULAIRE DE VOTE PAR CORRESPONDANCE"]
[{"$f":"Liste!$A$2","v":"120 rue de l' Espérance"},{"$f":"Liste!$A$2","v":"120 rue de l' Espérance"},null,null,null,null,null,null,null,"Page 1"]
[{"$f":"Liste!$A$3","v":75016},{"$f":"Liste!$A$3  & \" \" &Liste!$B$3","v":"75016 PARIS"}]
[null,null,null,null,null,null,null,"Assemblée Générale Ordinaire du",{"$f":"Liste!$E$3","v":"2022-11-05"}]
["Date et lieu",{"$f":"Liste!$E$3","v":"2022-11-05"},null,"à",{"$f":"Liste!$E$4","v":"10 Heures"},{"$f":"Liste!$E$2","v":"15 rue du Bois d'Amour 75016 PARIS"}]
[]
[null,null,null,null,null,null,"Ce formulaire doit être adressé à",null,{"$f":"Liste!$G$3","v":"Cabinet LEBON"}]
[null,null,null,null,null,null,null,null,{"$f":"Liste!$G$4","v":"120 rue du Devoir"}]
[null,null,null,null,null,null,null,null,{"$f":"Liste!$G$5","v":"75016 Paris"}]
[null,null,null,null,null,"Avant la date limite de réxception le",{"$f":"Liste!$E$5","v":"1 Novemvbre 2022"}]
[]
["Je soussigné('e):",{"$f":"Liste!$C24&\" \"&Liste!$D$24","v":"Mmadame BESSON Gabriel"},null,null,{"$f":"Liste!A24","v":15}]
["domicilié(e) au",{"$f":"Liste!$E$24&\" \"&Liste!$F$24&\" \"&Liste!$G$24","v":"13 rue de l' espoir 75016 Paris "}]
[]
["après avoir pris connaissance de l' ordre du jour et des documents annexés  à la conocation ou"]
["mis à disposition sur le site en ligne sécurisé de la copropriété,"]
["souhaite émettre sur chacune des questions soumises à la délibération de l' assemblée générale "]
["des copropriétaires convoquée le",null,null,null,{"$f":"Liste!$E$3","v":"2022-11-05"},"à",{"$f":"E818&\" \"&F818","v":"10 Heures 15 rue du Bois d'Amour 75016 PARIS"}]
["Signature du Copropriétaire de l' associé ou du mandataire commun"]
[null,null,null,null,null,null,"Fait à le"]
[]
[1.01,"Election Président de séance","Mr Banchet",null,null,1,{"$f":"VLOOKUP(F835,Liste!$B$179:$C$189,2)","v":"Charges générales   "},null,"Majorité Article 24",null,null,{"$f":"E825","v":15},{"$f":"VLOOKUP(L835,F.MERE!$A$14:$AA$163,16+F835)","v":380}]
[]
[null,{"$f":"IF($M835>0,\"\",\"NE PARTICIPE PAS                   XXXXXXXXXXXXX\")","v":""},null,null,"POUR",null,"CONTRE",null,"ABSTENTION",null,null,null,{"$f":"VLOOKUP($E$12,F.MERE!$A$14:$AA$163,16+F836)","v":""}]
[]
[2.0099999999999998,"Election dfu Secrétaire","Mr Lafolie",null,null,1,{"$f":"VLOOKUP(F839,Liste!$B$179:$C$189,2)","v":"Charges générales   "},null,"Majorité Article 24",null,null,{"$f":"E825","v":15},{"$f":"VLOOKUP(L839,F.MERE!$A$14:$AA$163,16+F835)","v":380}]
[]
[null,null,null,null,"POUR",null,"CONTRE",null,"ABSTENTION"]
[]
[3.01,"Election Scrutateur","Mr Berlier",null,null,1,{"$f":"VLOOKUP(F843,Liste!$B$179:$C$189,2)","v":"Charges générales   "},null,"Majorité Article 24",null,null,{"$f":"E825","v":15},{"$f":"VLOOKUP(L843,F.MERE!$A$14:$AA$163,16+F843)","v":380}]
[]
[null,null,null,null,"POUR",null,"CONTRE",null,"ABSTENTION"]
[]
[4.01,"Conseiller Syndical","Mme Fournier",null,null,1,{"$f":"VLOOKUP(F847,Liste!$B$179:$C$189,2)","v":"Charges générales   "},null,"Majorité Article 24",null,null,{"$f":"E825","v":15},{"$f":"VLOOKUP(L847,F.MERE!$A$14:$AA$163,16+F847)","v":380}]
[]
[null,{"$f":"IF($M847>0,\"\",\"NE PARTICIPE PAS                   XXXXXXXXXXXXX\")","v":""},null,null,"POUR",null,"CONTRE",null,"ABSTENTION"]
[]
[5.01,"Election Syndic","Cab;DUDULE",null,null,1,{"$f":"VLOOKUP(F851,Liste!$B$179:$C$189,2)","v":"Charges générales   "},null,"Majorité Article 25",null,null,{"$f":"E825","v":15},{"$f":"VLOOKUP(L851,F.MERE!$A$14:$AA$163,16+F851)","v":380}]
[]
[null,{"$f":"IF($M851>0,\"\",\"NE PARTICIPE PAS                   XXXXXXXXXXXXX\")","v":""},null,null,"POUR",null,"CONTRE",null,"ABSTENTION"]
[]
[5.0199999999999996,"Election Syndic,2e vote","Cab;DUDULE",null,null,1,{"$f":"VLOOKUP(F855,Liste!$B$179:$C$189,2)","v":"Charges générales   "},null,"Majorité Article 24",null,null,{"$f":"E825","v":15},{"$f":"VLOOKUP(L855,F.MERE!$A$14:$AA$163,16+F855)","v":380}]
[]
[null,{"$f":"IF($M855>0,\"\",\"NE PARTICIPE PAS                   XXXXXXXXXXXXX\")","v":""},null,null,"POUR",null,"CONTRE",null,"ABSTENTION"]
[]
[6.01,"Travaux BÄT B","Devis ABC",null,null,3,{"$f":"VLOOKUP(F859,Liste!$B$179:$C$189,2)","v":"Chardes Bât,B"},null,"Majorité Article 26",null,null,{"$f":"E825","v":15},{"$f":"VLOOKUP(L859,F.MERE!$A$14:$AA$163,16+F859)","v":0}]
[]
[null,{"$f":"IF($M859>0,\"\",\"NE PARTICIPE PAS                   XXXXXXXXXXXXX\")","v":"NE PARTICIPE PAS                   XXXXXXXXXXXXX"},"XXXXXXXXXXXXX",null,"POUR",null,"CONTRE",null,"ABSTENTION"]
[]
[null,null,null,null,null,1,{"$f":"VLOOKUP(F863,Liste!$B$179:$C$189,2)","v":"Charges générales   "},null,"Majorité Article 24",null,null,{"$f":"E825","v":15},{"$f":"VLOOKUP(L863,F.MERE!$A$14:$AA$163,16+F863)","v":380}]
[]
[null,{"$f":"IF($M863>0,\"\",\"NE PARTICIPE PAS                   XXXXXXXXXXXXX\")","v":""},null,null,"POUR",null,"CONTRE",null,"ABSTENTION"]
[]
[null,null,null,null,null,1,{"$f":"VLOOKUP(F867,Liste!$B$179:$C$189,2)","v":"Charges générales   "},null,"Majorité Article 24",null,null,{"$f":"E825","v":15},{"$f":"VLOOKUP(L867,F.MERE!$A$14:$AA$163,16+F867)","v":380}]
[]
[null,{"$f":"IF($M867>0,\"\",\"NE PARTICIPE PAS                   XXXXXXXXXXXXX\")","v":""},null,null,"POUR",null,"CONTRE",null,"ABSTENTION",null,null,null,{"$f":"VLOOKUP($E$12,F.MERE!$A$14:$AA$163,16+F868)","v":""}]
[]
["x"]
[{"$f":"Liste!$A$1","v":"Résid.LA JOIE"},null,null,null,null,null,null,null,"FORMULAIRE DE VOTE PAR CORRESPONDANCE"]
[{"$f":"Liste!$A$2","v":"120 rue de l' Espérance"},{"$f":"Liste!$A$2","v":"120 rue de l' Espérance"},null,null,null,null,null,null,null,"Page 1"]
[{"$f":"Liste!$A$3","v":75016},{"$f":"Liste!$A$3  & \" \" &Liste!$B$3","v":"75016 PARIS"}]
[null,null,null,null,null,null,null,"Assemblée Générale Ordinaire du",{"$f":"Liste!$E$3","v":"2022-11-05"}]
["Date et lieu",{"$f":"Liste!$E$3","v":"2022-11-05"},null,"à",{"$f":"Liste!$E$4","v":"10 Heures"},{"$f":"Liste!$E$2","v":"15 rue du Bois d'Amour 75016 PARIS"}]
[]
[null,null,null,null,null,null,"Ce formulaire doit être adressé à",null,{"$f":"Liste!$G$3","v":"Cabinet LEBON"}]
[null,null,null,null,null,null,null,null,{"$f":"Liste!$G$4","v":"120 rue du Devoir"}]
[null,null,null,null,null,null,null,null,{"$f":"Liste!$G$5","v":"75016 Paris"}]
[null,null,null,null,null,"Avant la date limite de réxception le",{"$f":"Liste!$E$5","v":"1 Novemvbre 2022"}]
[]
["Je soussigné('e):",{"$f":"Liste!$C$25&\" \"&Liste!$D$25","v":"Monieur DENIS Jacques"},null,null,{"$f":"Liste!A25","v":16}]
["domicilié(e) au",{"$f":"Liste!$E$25&\" \"&Liste!$F$25&\" \"&Liste!$G$25","v":"13 rue de l' espoir 75016 Paris "}]
[]
["après avoir pris connaissance de l' ordre du jour et des documents annexés  à la conocation ou"]
["mis à disposition sur le site en ligne sécurisé de la copropriété,"]
["souhaite émettre sur chacune des questions soumises à la délibération de l' assemblée générale "]
["des copropriétaires convoquée le",null,null,null,{"$f":"Liste!$E$3","v":"2022-11-05"},"à",{"$f":"E876&\" \"&F876","v":"10 Heures 15 rue du Bois d'Amour 75016 PARIS"}]
["Signature du Copropriétaire de l' associé ou du mandataire commun"]
[null,null,null,null,null,null,"Fait à le"]
[]
[1.01,"Election Président de séance","Mr Banchet",null,null,1,{"$f":"VLOOKUP(F893,Liste!$B$179:$C$189,2)","v":"Charges générales   "},null,"Majorité Article 24",null,null,{"$f":"E883","v":16},{"$f":"VLOOKUP(L893,F.MERE!$A$14:$AA$163,16+F893)","v":315}]
[]
[null,{"$f":"IF($M893>0,\"\",\"NE PARTICIPE PAS                   XXXXXXXXXXXXX\")","v":""},null,null,"POUR",null,"CONTRE",null,"ABSTENTION",null,null,null,{"$f":"VLOOKUP($E$12,F.MERE!$A$14:$AA$163,16+F894)","v":""}]
[]
[2.0099999999999998,"Election dfu Secrétaire","Mr Lafolie",null,null,1,{"$f":"VLOOKUP(F897,Liste!$B$179:$C$189,2)","v":"Charges générales   "},null,"Majorité Article 24",null,null,{"$f":"E883","v":16},{"$f":"VLOOKUP(L897,F.MERE!$A$14:$AA$163,16+F893)","v":315}]
[]
[null,null,null,null,"POUR",null,"CONTRE",null,"ABSTENTION"]
[]
[3.01,"Election Scrutateur","Mr Berlier",null,null,1,{"$f":"VLOOKUP(F901,Liste!$B$179:$C$189,2)","v":"Charges générales   "},null,"Majorité Article 24",null,null,{"$f":"E883","v":16},{"$f":"VLOOKUP(L901,F.MERE!$A$14:$AA$163,16+F901)","v":315}]
[]
[null,null,null,null,"POUR",null,"CONTRE",null,"ABSTENTION"]
[]
[4.01,"Conseiller Syndical","Mme Fournier",null,null,1,{"$f":"VLOOKUP(F905,Liste!$B$179:$C$189,2)","v":"Charges générales   "},null,"Majorité Article 24",null,null,{"$f":"E883","v":16},{"$f":"VLOOKUP(L905,F.MERE!$A$14:$AA$163,16+F905)","v":315}]
[]
[null,{"$f":"IF($M905>0,\"\",\"NE PARTICIPE PAS                   XXXXXXXXXXXXX\")","v":""},null,null,"POUR",null,"CONTRE",null,"ABSTENTION"]
[]
[5.01,"Election Syndic","Cab;DUDULE",null,null,1,{"$f":"VLOOKUP(F909,Liste!$B$179:$C$189,2)","v":"Charges générales   "},null,"Majorité Article 25",null,null,{"$f":"E883","v":16},{"$f":"VLOOKUP(L909,F.MERE!$A$14:$AA$163,16+F909)","v":315}]
[]
[null,{"$f":"IF($M909>0,\"\",\"NE PARTICIPE PAS                   XXXXXXXXXXXXX\")","v":""},null,null,"POUR",null,"CONTRE",null,"ABSTENTION"]
[]
[5.0199999999999996,"Election Syndic,2e vote","Cab;DUDULE",null,null,1,{"$f":"VLOOKUP(F913,Liste!$B$179:$C$189,2)","v":"Charges générales   "},null,"Majorité Article 24",null,null,{"$f":"E883","v":16},{"$f":"VLOOKUP(L913,F.MERE!$A$14:$AA$163,16+F913)","v":315}]
[]
[null,{"$f":"IF($M913>0,\"\",\"NE PARTICIPE PAS                   XXXXXXXXXXXXX\")","v":""},null,null,"POUR",null,"CONTRE",null,"ABSTENTION"]
[]
[6.01,"Travaux BÄT B","Devis ABC",null,null,3,{"$f":"VLOOKUP(F917,Liste!$B$179:$C$189,2)","v":"Chardes Bât,B"},null,"Majorité Article 26",null,null,{"$f":"E883","v":16},{"$f":"VLOOKUP(L917,F.MERE!$A$14:$AA$163,16+F917)","v":0}]
[]
[null,{"$f":"IF($M917>0,\"\",\"NE PARTICIPE PAS                   XXXXXXXXXXXXX\")","v":"NE PARTICIPE PAS                   XXXXXXXXXXXXX"},"XXXXXXXXXXXXX",null,"POUR",null,"CONTRE",null,"ABSTENTION"]
[]
[null,null,null,null,null,1,{"$f":"VLOOKUP(F921,Liste!$B$179:$C$189,2)","v":"Charges générales   "},null,"Majorité Article 24",null,null,{"$f":"E883","v":16},{"$f":"VLOOKUP(L921,F.MERE!$A$14:$AA$163,16+F921)","v":315}]
[]
[null,{"$f":"IF($M921>0,\"\",\"NE PARTICIPE PAS                   XXXXXXXXXXXXX\")","v":""},null,null,"POUR",null,"CONTRE",null,"ABSTENTION"]
[]
[null,null,null,null,null,1,{"$f":"VLOOKUP(F925,Liste!$B$179:$C$189,2)","v":"Charges générales   "},null,"Majorité Article 24",null,null,{"$f":"E883","v":16},{"$f":"VLOOKUP(L925,F.MERE!$A$14:$AA$163,16+F925)","v":315}]
[]
[null,{"$f":"IF($M925>0,\"\",\"NE PARTICIPE PAS                   XXXXXXXXXXXXX\")","v":""},null,null,"POUR",null,"CONTRE",null,"ABSTENTION",null,null,null,{"$f":"VLOOKUP($E$12,F.MERE!$A$14:$AA$163,16+F926)","v":""}]
[]
["x"]
[{"$f":"Liste!$A$1","v":"Résid.LA JOIE"},null,null,null,null,null,null,null,"FORMULAIRE DE VOTE PAR CORRESPONDANCE"]
[{"$f":"Liste!$A$2","v":"120 rue de l' Espérance"},{"$f":"Liste!$A$2","v":"120 rue de l' Espérance"},null,null,null,null,null,null,null,"Page 1"]
[{"$f":"Liste!$A$3","v":75016},{"$f":"Liste!$A$3  & \" \" &Liste!$B$3","v":"75016 PARIS"}]
[null,null,null,null,null,null,null,"Assemblée Générale Ordinaire du",{"$f":"Liste!$E$3","v":"2022-11-05"}]
["Date et lieu",{"$f":"Liste!$E$3","v":"2022-11-05"},null,"à",{"$f":"Liste!$E$4","v":"10 Heures"},{"$f":"Liste!$E$2","v":"15 rue du Bois d'Amour 75016 PARIS"}]
[]
[null,null,null,null,null,null,"Ce formulaire doit être adressé à",null,{"$f":"Liste!$G$3","v":"Cabinet LEBON"}]
[null,null,null,null,null,null,null,null,{"$f":"Liste!$G$4","v":"120 rue du Devoir"}]
[null,null,null,null,null,null,null,null,{"$f":"Liste!$G$5","v":"75016 Paris"}]
[null,null,null,null,null,"Avant la date limite de réxception le",{"$f":"Liste!$E$5","v":"1 Novemvbre 2022"}]
[]
["Je soussigné('e):",{"$f":"Liste!$C$26&\" \"&Liste!$D$26","v":"Madame DI JORIO Brigitte"},null,null,{"$f":"Liste!A26","v":17}]
["domicilié(e) au",{"$f":"Liste!$E$26&\" \"&Liste!$F$26&\" \"&Liste!$G$26","v":"13 rue de l' espoir 75016 Paris "}]
[]
["après avoir pris connaissance de l' ordre du jour et des documents annexés  à la conocation ou"]
["mis à disposition sur le site en ligne sécurisé de la copropriété,"]
["souhaite émettre sur chacune des questions soumises à la délibération de l' assemblée générale "]
["des copropriétaires convoquée le",null,null,null,{"$f":"Liste!$E$3","v":"2022-11-05"},"à",{"$f":"E934&\" \"&F934","v":"10 Heures 15 rue du Bois d'Amour 75016 PARIS"}]
["Signature du Copropriétaire de l' associé ou du mandataire commun"]
[null,null,null,null,null,null,"Fait à le"]
[]
[1.01,"Election Président de séance","Mr Banchet",null,null,1,{"$f":"VLOOKUP(F951,Liste!$B$179:$C$189,2)","v":"Charges générales   "},null,"Majorité Article 24",null,null,{"$f":"E941","v":17},{"$f":"VLOOKUP(L951,F.MERE!$A$14:$AA$163,16+F951)","v":244}]
[]
[null,{"$f":"IF($M951>0,\"\",\"NE PARTICIPE PAS                   XXXXXXXXXXXXX\")","v":""},null,null,"POUR",null,"CONTRE",null,"ABSTENTION",null,null,null,{"$f":"VLOOKUP($E$12,F.MERE!$A$14:$AA$163,16+F952)","v":""}]
[]
[2.0099999999999998,"Election dfu Secrétaire","Mr Lafolie",null,null,1,{"$f":"VLOOKUP(F955,Liste!$B$179:$C$189,2)","v":"Charges générales   "},null,"Majorité Article 24",null,null,{"$f":"E941","v":17},{"$f":"VLOOKUP(L955,F.MERE!$A$14:$AA$163,16+F951)","v":244}]
[]
[null,null,null,null,"POUR",null,"CONTRE",null,"ABSTENTION"]
[]
[3.01,"Election Scrutateur","Mr Berlier",null,null,2,{"$f":"VLOOKUP(F959,Liste!$B$179:$C$189,2)","v":"Charges Bat,A"},null,"Majorité Article 24",null,null,{"$f":"E941","v":17},{"$f":"VLOOKUP(L959,F.MERE!$A$14:$AA$163,16+F959)","v":0}]
[]
[null,null,null,null,"POUR",null,"CONTRE",null,"ABSTENTION"]
[]
[4.01,"Conseiller Syndical","Mme Fournier",null,null,1,{"$f":"VLOOKUP(F963,Liste!$B$179:$C$189,2)","v":"Charges générales   "},null,"Majorité Article 24",null,null,{"$f":"E941","v":17},{"$f":"VLOOKUP(L963,F.MERE!$A$14:$AA$163,16+F963)","v":244}]
[]
[null,{"$f":"IF($M963>0,\"\",\"NE PARTICIPE PAS                   XXXXXXXXXXXXX\")","v":""},null,null,"POUR",null,"CONTRE",null,"ABSTENTION"]
[]
[5.01,"Election Syndic","Cab;DUDULE",null,null,1,{"$f":"VLOOKUP(F967,Liste!$B$179:$C$189,2)","v":"Charges générales   "},null,"Majorité Article 25",null,null,{"$f":"E941","v":17},{"$f":"VLOOKUP(L967,F.MERE!$A$14:$AA$163,16+F967)","v":244}]
[]
[null,{"$f":"IF($M967>0,\"\",\"NE PARTICIPE PAS                   XXXXXXXXXXXXX\")","v":""},null,null,"POUR",null,"CONTRE",null,"ABSTENTION"]
[]
[5.0199999999999996,"Election Syndic,2e vote","Cab;DUDULE",null,null,1,{"$f":"VLOOKUP(F971,Liste!$B$179:$C$189,2)","v":"Charges générales   "},null,"Majorité Article 24",null,null,{"$f":"E941","v":17},{"$f":"VLOOKUP(L971,F.MERE!$A$14:$AA$163,16+F971)","v":244}]
[]
[null,{"$f":"IF($M971>0,\"\",\"NE PARTICIPE PAS                   XXXXXXXXXXXXX\")","v":""},null,null,"POUR",null,"CONTRE",null,"ABSTENTION"]
[]
[6.01,"Travaux BÄT B","Devis ABC",null,null,3,{"$f":"VLOOKUP(F975,Liste!$B$179:$C$189,2)","v":"Chardes Bât,B"},null,"Majorité Article 26",null,null,{"$f":"E941","v":17},{"$f":"VLOOKUP(L975,F.MERE!$A$14:$AA$163,16+F975)","v":1040}]
[]
[null,{"$f":"IF($M975>0,\"\",\"NE PARTICIPE PAS                   XXXXXXXXXXXXX\")","v":""},null,null,"POUR",null,"CONTRE",null,"ABSTENTION"]
[]
[null,null,null,null,null,1,{"$f":"VLOOKUP(F979,Liste!$B$179:$C$189,2)","v":"Charges générales   "},null,"Majorité Article 24",null,null,{"$f":"E941","v":17},{"$f":"VLOOKUP(L979,F.MERE!$A$14:$AA$163,16+F979)","v":244}]
[]
[null,{"$f":"IF($M979>0,\"\",\"NE PARTICIPE PAS                   XXXXXXXXXXXXX\")","v":""},null,null,"POUR",null,"CONTRE",null,"ABSTENTION"]
[]
[null,null,null,null,null,1,{"$f":"VLOOKUP(F983,Liste!$B$179:$C$189,2)","v":"Charges générales   "},null,"Majorité Article 24",null,null,{"$f":"E941","v":17},{"$f":"VLOOKUP(L983,F.MERE!$A$14:$AA$163,16+F983)","v":244}]
[]
[null,{"$f":"IF($M983>0,\"\",\"NE PARTICIPE PAS                   XXXXXXXXXXXXX\")","v":""},null,null,"POUR",null,"CONTRE",null,"ABSTENTION",null,null,null,{"$f":"VLOOKUP($E$12,F.MERE!$A$14:$AA$163,16+F984)","v":""}]
[]
["x"]
[{"$f":"Liste!$A$1","v":"Résid.LA JOIE"},null,null,null,null,null,null,null,"FORMULAIRE DE VOTE PAR CORRESPONDANCE"]
[{"$f":"Liste!$A$2","v":"120 rue de l' Espérance"},{"$f":"Liste!$A$2","v":"120 rue de l' Espérance"},null,null,null,null,null,null,null,"Page 1"]
[{"$f":"Liste!$A$3","v":75016},{"$f":"Liste!$A$3  & \" \" &Liste!$B$3","v":"75016 PARIS"}]
[null,null,null,null,null,null,null,"Assemblée Générale Ordinaire du",{"$f":"Liste!$E$3","v":"2022-11-05"}]
["Date et lieu",{"$f":"Liste!$E$3","v":"2022-11-05"},null,"à",{"$f":"Liste!$E$4","v":"10 Heures"},{"$f":"Liste!$E$2","v":"15 rue du Bois d'Amour 75016 PARIS"}]
[]
[null,null,null,null,null,null,"Ce formulaire doit être adressé à",null,{"$f":"Liste!$G$3","v":"Cabinet LEBON"}]
[null,null,null,null,null,null,null,null,{"$f":"Liste!$G$4","v":"120 rue du Devoir"}]
[null,null,null,null,null,null,null,null,{"$f":"Liste!$G$5","v":"75016 Paris"}]
[null,null,null,null,null,"Avant la date limite de réxception le",{"$f":"Liste!$E$5","v":"1 Novemvbre 2022"}]
[]
["Je soussigné('e):",{"$f":"Liste!$C$27&\" \"&Liste!$D$27","v":"Monieur DI JORIO Marcel"},null,null,{"$f":"Liste!A27","v":18}]
["domicilié(e) au",{"$f":"Liste!$E$27&\" \"&Liste!$F$27&\" \"&Liste!$G$27","v":"10 Rue Dumont 57000 Metz"}]
[]
["après avoir pris connaissance de l' ordre du jour et des documents annexés  à la conocation ou"]
["mis à disposition sur le site en ligne sécurisé de la copropriété,"]
["souhaite émettre sur chacune des questions soumises à la délibération de l' assemblée générale "]
["des copropriétaires convoquée le",null,null,null,{"$f":"Liste!$E$3","v":"2022-11-05"},"à",{"$f":"E992&\" \"&F992","v":"10 Heures 15 rue du Bois d'Amour 75016 PARIS"}]
["Signature du Copropriétaire de l' associé ou du mandataire commun"]
[null,null,null,null,null,null,"Fait à le"]
[]
[1.01,"Election Président de séance","Mr Banchet",null,null,1,{"$f":"VLOOKUP(F1009,Liste!$B$179:$C$189,2)","v":"Charges générales   "},null,"Majorité Article 24",null,null,{"$f":"E999","v":18},{"$f":"VLOOKUP(L1009,F.MERE!$A$14:$AA$163,16+F1009)","v":289}]
[]
[null,{"$f":"IF($M1009>0,\"\",\"NE PARTICIPE PAS                   XXXXXXXXXXXXX\")","v":""},null,null,"POUR",null,"CONTRE",null,"ABSTENTION",null,null,null,{"$f":"VLOOKUP($E$12,F.MERE!$A$14:$AA$163,16+F1010)","v":""}]
[]
[2.0099999999999998,"Election dfu Secrétaire","Mr Lafolie",null,null,1,{"$f":"VLOOKUP(F1013,Liste!$B$179:$C$189,2)","v":"Charges générales   "},null,"Majorité Article 24",null,null,{"$f":"E999","v":18},{"$f":"VLOOKUP(L1013,F.MERE!$A$14:$AA$163,16+F1009)","v":289}]
[]
[null,null,null,null,"POUR",null,"CONTRE",null,"ABSTENTION"]
[]
[3.01,"Election Scrutateur","Mr Berlier",null,null,1,{"$f":"VLOOKUP(F1017,Liste!$B$179:$C$189,2)","v":"Charges générales   "},null,"Majorité Article 24",null,null,{"$f":"E999","v":18},{"$f":"VLOOKUP(L1017,F.MERE!$A$14:$AA$163,16+F1017)","v":289}]
[]
[null,null,null,null,"POUR",null,"CONTRE",null,"ABSTENTION"]
[]
[4.01,"Conseiller Syndical","Mme Fournier",null,null,1,{"$f":"VLOOKUP(F1021,Liste!$B$179:$C$189,2)","v":"Charges générales   "},null,"Majorité Article 24",null,null,{"$f":"E999","v":18},{"$f":"VLOOKUP(L1021,F.MERE!$A$14:$AA$163,16+F1021)","v":289}]
[]
[null,{"$f":"IF($M1021>0,\"\",\"NE PARTICIPE PAS                   XXXXXXXXXXXXX\")","v":""},null,null,"POUR",null,"CONTRE",null,"ABSTENTION"]
[]
[5.01,"Election Syndic","Cab;DUDULE",null,null,1,{"$f":"VLOOKUP(F1025,Liste!$B$179:$C$189,2)","v":"Charges générales   "},null,"Majorité Article 25",null,null,{"$f":"E999","v":18},{"$f":"VLOOKUP(L1025,F.MERE!$A$14:$AA$163,16+F1025)","v":289}]
[]
[null,{"$f":"IF($M1025>0,\"\",\"NE PARTICIPE PAS                   XXXXXXXXXXXXX\")","v":""},null,null,"POUR",null,"CONTRE",null,"ABSTENTION"]
[]
[5.0199999999999996,"Election Syndic,2e vote","Cab;DUDULE",null,null,1,{"$f":"VLOOKUP(F1029,Liste!$B$179:$C$189,2)","v":"Charges générales   "},null,"Majorité Article 24",null,null,{"$f":"E999","v":18},{"$f":"VLOOKUP(L1029,F.MERE!$A$14:$AA$163,16+F1029)","v":289}]
[]
[null,{"$f":"IF($M1029>0,\"\",\"NE PARTICIPE PAS                   XXXXXXXXXXXXX\")","v":""},null,null,"POUR",null,"CONTRE",null,"ABSTENTION"]
[]
[6.01,"Travaux BÄT B","Devis ABC",null,null,3,{"$f":"VLOOKUP(F1033,Liste!$B$179:$C$189,2)","v":"Chardes Bât,B"},null,"Majorité Article 26",null,null,{"$f":"E999","v":18},{"$f":"VLOOKUP(L1033,F.MERE!$A$14:$AA$163,16+F1033)","v":762}]
[]
[null,{"$f":"IF($M1033>0,\"\",\"NE PARTICIPE PAS                   XXXXXXXXXXXXX\")","v":""},null,null,"POUR",null,"CONTRE",null,"ABSTENTION"]
[]
[null,null,null,null,null,1,{"$f":"VLOOKUP(F1037,Liste!$B$179:$C$189,2)","v":"Charges générales   "},null,"Majorité Article 24",null,null,{"$f":"E999","v":18},{"$f":"VLOOKUP(L1037,F.MERE!$A$14:$AA$163,16+F1037)","v":289}]
[]
[null,{"$f":"IF($M1037>0,\"\",\"NE PARTICIPE PAS                   XXXXXXXXXXXXX\")","v":""},null,null,"POUR",null,"CONTRE",null,"ABSTENTION"]
[]
[null,null,null,null,null,1,{"$f":"VLOOKUP(F1041,Liste!$B$179:$C$189,2)","v":"Charges générales   "},null,"Majorité Article 24",null,null,{"$f":"E999","v":18},{"$f":"VLOOKUP(L1041,F.MERE!$A$14:$AA$163,16+F1041)","v":289}]
[]
[null,{"$f":"IF($M1041>0,\"\",\"NE PARTICIPE PAS                   XXXXXXXXXXXXX\")","v":""},null,null,"POUR",null,"CONTRE",null,"ABSTENTION",null,null,null,{"$f":"VLOOKUP($E$12,F.MERE!$A$14:$AA$163,16+F1042)","v":""}]
[]
["x"]
[{"$f":"Liste!$A$1","v":"Résid.LA JOIE"},null,null,null,null,null,null,null,"FORMULAIRE DE VOTE PAR CORRESPONDANCE"]
[{"$f":"Liste!$A$2","v":"120 rue de l' Espérance"},{"$f":"Liste!$A$2","v":"120 rue de l' Espérance"},null,null,null,null,null,null,null,"Page 1"]
[{"$f":"Liste!$A$3","v":75016},{"$f":"Liste!$A$3  & \" \" &Liste!$B$3","v":"75016 PARIS"}]
[null,null,null,null,null,null,null,"Assemblée Générale Ordinaire du",{"$f":"Liste!$E$3","v":"2022-11-05"}]
["Date et lieu",{"$f":"Liste!$E$3","v":"2022-11-05"},null,"à",{"$f":"Liste!$E$4","v":"10 Heures"},{"$f":"Liste!$E$2","v":"15 rue du Bois d'Amour 75016 PARIS"}]
[]
[null,null,null,null,null,null,"Ce formulaire doit être adressé à",null,{"$f":"Liste!$G$3","v":"Cabinet LEBON"}]
[null,null,null,null,null,null,null,null,{"$f":"Liste!$G$4","v":"120 rue du Devoir"}]
[null,null,null,null,null,null,null,null,{"$f":"Liste!$G$5","v":"75016 Paris"}]
[null,null,null,null,null,"Avant la date limite de réxception le",{"$f":"Liste!$E$5","v":"1 Novemvbre 2022"}]
[]
["Je soussigné('e):",{"$f":"Liste!$C280&\" \"&Liste!$D$28","v":" DI MEGLIO Laurent"},null,null,{"$f":"Liste!A28","v":19}]
["domicilié(e) au",{"$f":"Liste!$E$28&\" \"&Liste!$F$28&\" \"&Liste!$G$28","v":"13 rue de l' espoir 75016 Paris "}]
[]
["après avoir pris connaissance de l' ordre du jour et des documents annexés  à la conocation ou"]
["mis à disposition sur le site en ligne sécurisé de la copropriété,"]
["souhaite émettre sur chacune des questions soumises à la délibération de l' assemblée générale "]
["des copropriétaires convoquée le",null,null,null,{"$f":"Liste!$E$3","v":"2022-11-05"},"à",{"$f":"E1050&\" \"&F1050","v":"10 Heures 15 rue du Bois d'Amour 75016 PARIS"}]
["Signature du Copropriétaire de l' associé ou du mandataire commun"]
[null,null,null,null,null,null,"Fait à le"]
[]
[1.01,"Election Président de séance","Mr Banchet",null,null,1,{"$f":"VLOOKUP(F1067,Liste!$B$179:$C$189,2)","v":"Charges générales   "},null,"Majorité Article 24",null,null,{"$f":"E1057","v":19},{"$f":"VLOOKUP(L1067,F.MERE!$A$14:$AA$163,16+F1067)","v":237}]
[]
[null,{"$f":"IF($M1067>0,\"\",\"NE PARTICIPE PAS                   XXXXXXXXXXXXX\")","v":""},null,null,"POUR",null,"CONTRE",null,"ABSTENTION",null,null,null,{"$f":"VLOOKUP($E$12,F.MERE!$A$14:$AA$163,16+F1068)","v":""}]
[]
[2.0099999999999998,"Election dfu Secrétaire","Mr Lafolie",null,null,1,{"$f":"VLOOKUP(F1071,Liste!$B$179:$C$189,2)","v":"Charges générales   "},null,"Majorité Article 24",null,null,{"$f":"E1057","v":19},{"$f":"VLOOKUP(L1071,F.MERE!$A$14:$AA$163,16+F1067)","v":237}]
[]
[null,null,null,null,"POUR",null,"CONTRE",null,"ABSTENTION"]
[]
[3.01,"Election Scrutateur","Mr Berlier",null,null,1,{"$f":"VLOOKUP(F1075,Liste!$B$179:$C$189,2)","v":"Charges générales   "},null,"Majorité Article 24",null,null,{"$f":"E1057","v":19},{"$f":"VLOOKUP(L1075,F.MERE!$A$14:$AA$163,16+F1075)","v":237}]
[]
[null,null,null,null,"POUR",null,"CONTRE",null,"ABSTENTION"]
[]
[4.01,"Conseiller Syndical","Mme Fournier",null,null,1,{"$f":"VLOOKUP(F1079,Liste!$B$179:$C$189,2)","v":"Charges générales   "},null,"Majorité Article 24",null,null,{"$f":"E1057","v":19},{"$f":"VLOOKUP(L1079,F.MERE!$A$14:$AA$163,16+F1079)","v":237}]
[]
[null,{"$f":"IF($M1079>0,\"\",\"NE PARTICIPE PAS                   XXXXXXXXXXXXX\")","v":""},null,null,"POUR",null,"CONTRE",null,"ABSTENTION"]
[]
[5.01,"Election Syndic","Cab;DUDULE",null,null,1,{"$f":"VLOOKUP(F1083,Liste!$B$179:$C$189,2)","v":"Charges générales   "},null,"Majorité Article 25",null,null,{"$f":"E1057","v":19},{"$f":"VLOOKUP(L1083,F.MERE!$A$14:$AA$163,16+F1083)","v":237}]
[]
[null,{"$f":"IF($M1083>0,\"\",\"NE PARTICIPE PAS                   XXXXXXXXXXXXX\")","v":""},null,null,"POUR",null,"CONTRE",null,"ABSTENTION"]
[]
[5.0199999999999996,"Election Syndic,2e vote","Cab;DUDULE",null,null,1,{"$f":"VLOOKUP(F1087,Liste!$B$179:$C$189,2)","v":"Charges générales   "},null,"Majorité Article 24",null,null,{"$f":"E1057","v":19},{"$f":"VLOOKUP(L1087,F.MERE!$A$14:$AA$163,16+F1087)","v":237}]
[]
[null,{"$f":"IF($M1087>0,\"\",\"NE PARTICIPE PAS                   XXXXXXXXXXXXX\")","v":""},null,null,"POUR",null,"CONTRE",null,"ABSTENTION"]
[]
[6.01,"Travaux BÄT B","Devis ABC",null,null,3,{"$f":"VLOOKUP(F1091,Liste!$B$179:$C$189,2)","v":"Chardes Bât,B"},null,"Majorité Article 26",null,null,{"$f":"E1057","v":19},{"$f":"VLOOKUP(L1091,F.MERE!$A$14:$AA$163,16+F1091)","v":1402}]
[]
[null,{"$f":"IF($M1091>0,\"\",\"NE PARTICIPE PAS                   XXXXXXXXXXXXX\")","v":""},null,null,"POUR",null,"CONTRE",null,"ABSTENTION"]
[]
[null,null,null,null,null,1,{"$f":"VLOOKUP(F1095,Liste!$B$179:$C$189,2)","v":"Charges générales   "},null,"Majorité Article 24",null,null,{"$f":"E1057","v":19},{"$f":"VLOOKUP(L1095,F.MERE!$A$14:$AA$163,16+F1095)","v":237}]
[]
[null,{"$f":"IF($M1095>0,\"\",\"NE PARTICIPE PAS                   XXXXXXXXXXXXX\")","v":""},null,null,"POUR",null,"CONTRE",null,"ABSTENTION"]
[]
[null,null,null,null,null,1,{"$f":"VLOOKUP(F1099,Liste!$B$179:$C$189,2)","v":"Charges générales   "},null,"Majorité Article 24",null,null,{"$f":"E1057","v":19},{"$f":"VLOOKUP(L1099,F.MERE!$A$14:$AA$163,16+F1099)","v":237}]
[]
[null,{"$f":"IF($M1099>0,\"\",\"NE PARTICIPE PAS                   XXXXXXXXXXXXX\")","v":""},null,null,"POUR",null,"CONTRE",null,"ABSTENTION",null,null,null,{"$f":"VLOOKUP($E$12,F.MERE!$A$14:$AA$163,16+F1100)","v":""}]
[]
["x"]
[{"$f":"Liste!$A$1","v":"Résid.LA JOIE"},null,null,null,null,null,null,null,"FORMULAIRE DE VOTE PAR CORRESPONDANCE"]
[{"$f":"Liste!$A$2","v":"120 rue de l' Espérance"},{"$f":"Liste!$A$2","v":"120 rue de l' Espérance"},null,null,null,null,null,null,null,"Page 1"]
[{"$f":"Liste!$A$3","v":75016},{"$f":"Liste!$A$3  & \" \" &Liste!$B$3","v":"75016 PARIS"}]
[null,null,null,null,null,null,null,"Assemblée Générale Ordinaire du",{"$f":"Liste!$E$3","v":"2022-11-05"}]
["Date et lieu",{"$f":"Liste!$E$3","v":"2022-11-05"},null,"à",{"$f":"Liste!$E$4","v":"10 Heures"},{"$f":"Liste!$E$2","v":"15 rue du Bois d'Amour 75016 PARIS"}]
[]
[null,null,null,null,null,null,"Ce formulaire doit être adressé à",null,{"$f":"Liste!$G$3","v":"Cabinet LEBON"}]
[null,null,null,null,null,null,null,null,{"$f":"Liste!$G$4","v":"120 rue du Devoir"}]
[null,null,null,null,null,null,null,null,{"$f":"Liste!$G$5","v":"75016 Paris"}]
[null,null,null,null,null,"Avant la date limite de réxception le",{"$f":"Liste!$E$5","v":"1 Novemvbre 2022"}]
[]
["Je soussigné('e):",{"$f":"Liste!$C$29&\" \"&Liste!$D$29","v":"Monieur DRAGOTTA Michel"},null,null,{"$f":"Liste!A29","v":20}]
["domicilié(e) au",{"$f":"Liste!$E$29&\" \"&Liste!$F$29&\" \"&Liste!$G$29","v":"13 rue de l' espoir 75016 Paris "}]
[]
["après avoir pris connaissance de l' ordre du jour et des documents annexés  à la conocation ou"]
["mis à disposition sur le site en ligne sécurisé de la copropriété,"]
["souhaite émettre sur chacune des questions soumises à la délibération de l' assemblée générale "]
["des copropriétaires convoquée le",null,null,null,{"$f":"Liste!$E$3","v":"2022-11-05"},"à",{"$f":"E1108&\" \"&F1108","v":"10 Heures 15 rue du Bois d'Amour 75016 PARIS"}]
["Signature du Copropriétaire de l' associé ou du mandataire commun"]
[null,null,null,null,null,null,"Fait à le"]
[]
[1.01,"Election Président de séance","Mr Banchet",null,null,1,{"$f":"VLOOKUP(F1125,Liste!$B$179:$C$189,2)","v":"Charges générales   "},null,"Majorité Article 24",null,null,{"$f":"E1115","v":20},{"$f":"VLOOKUP(L1125,F.MERE!$A$14:$AA$163,16+F1125)","v":286}]
[]
[null,{"$f":"IF($M1125>0,\"\",\"NE PARTICIPE PAS                   XXXXXXXXXXXXX\")","v":""},null,null,"POUR",null,"CONTRE",null,"ABSTENTION",null,null,null,{"$f":"VLOOKUP($E$12,F.MERE!$A$14:$AA$163,16+F1126)","v":""}]
[]
[2.0099999999999998,"Election dfu Secrétaire","Mr Lafolie",null,null,1,{"$f":"VLOOKUP(F1129,Liste!$B$179:$C$189,2)","v":"Charges générales   "},null,"Majorité Article 24",null,null,{"$f":"E1115","v":20},{"$f":"VLOOKUP(L1129,F.MERE!$A$14:$AA$163,16+F1125)","v":286}]
[]
[null,null,null,null,"POUR",null,"CONTRE",null,"ABSTENTION"]
[]
[3.01,"Election Scrutateur","Mr Berlier",null,null,1,{"$f":"VLOOKUP(F1133,Liste!$B$179:$C$189,2)","v":"Charges générales   "},null,"Majorité Article 24",null,null,{"$f":"E1115","v":20},{"$f":"VLOOKUP(L1133,F.MERE!$A$14:$AA$163,16+F1133)","v":286}]
[]
[null,null,null,null,"POUR",null,"CONTRE",null,"ABSTENTION"]
[]
[4.01,"Conseiller Syndical","Mme Fournier",null,null,1,{"$f":"VLOOKUP(F1137,Liste!$B$179:$C$189,2)","v":"Charges générales   "},null,"Majorité Article 24",null,null,{"$f":"E1115","v":20},{"$f":"VLOOKUP(L1137,F.MERE!$A$14:$AA$163,16+F1137)","v":286}]
[]
[null,{"$f":"IF($M1137>0,\"\",\"NE PARTICIPE PAS                   XXXXXXXXXXXXX\")","v":""},null,null,"POUR",null,"CONTRE",null,"ABSTENTION"]
[]
[5.01,"Election Syndic","Cab;DUDULE",null,null,1,{"$f":"VLOOKUP(F1141,Liste!$B$179:$C$189,2)","v":"Charges générales   "},null,"Majorité Article 25",null,null,{"$f":"E1115","v":20},{"$f":"VLOOKUP(L1141,F.MERE!$A$14:$AA$163,16+F1141)","v":286}]
[]
[null,{"$f":"IF($M1141>0,\"\",\"NE PARTICIPE PAS                   XXXXXXXXXXXXX\")","v":""},null,null,"POUR",null,"CONTRE",null,"ABSTENTION"]
[]
[5.0199999999999996,"Election Syndic,2e vote","Cab,DUDULE",null,null,1,{"$f":"VLOOKUP(F1145,Liste!$B$179:$C$189,2)","v":"Charges générales   "},null,"Majorité Article 24",null,null,{"$f":"E1115","v":20},{"$f":"VLOOKUP(L1145,F.MERE!$A$14:$AA$163,16+F1145)","v":286}]
[]
[null,{"$f":"IF($M1145>0,\"\",\"NE PARTICIPE PAS                   XXXXXXXXXXXXX\")","v":""},null,null,"POUR",null,"CONTRE",null,"ABSTENTION"]
[]
[6.01,"Travaux BÄT B","Devis ABC",null,null,3,{"$f":"VLOOKUP(F1149,Liste!$B$179:$C$189,2)","v":"Chardes Bât,B"},null,"Majorité Article 26",null,null,{"$f":"E1115","v":20},{"$f":"VLOOKUP(L1149,F.MERE!$A$14:$AA$163,16+F1149)","v":1015}]
[]
[null,{"$f":"IF($M1149>0,\"\",\"NE PARTICIPE PAS                   XXXXXXXXXXXXX\")","v":""},null,null,"POUR",null,"CONTRE",null,"ABSTENTION"]
[]
[null,null,null,null,null,1,{"$f":"VLOOKUP(F1153,Liste!$B$179:$C$189,2)","v":"Charges générales   "},null,"Majorité Article 24",null,null,{"$f":"E1115","v":20},{"$f":"VLOOKUP(L1153,F.MERE!$A$14:$AA$163,16+F1153)","v":286}]
[]
[null,{"$f":"IF($M1153>0,\"\",\"NE PARTICIPE PAS                   XXXXXXXXXXXXX\")","v":""},null,null,"POUR",null,"CONTRE",null,"ABSTENTION"]
[]
[null,null,null,null,null,1,{"$f":"VLOOKUP(F1157,Liste!$B$179:$C$189,2)","v":"Charges générales   "},null,"Majorité Article 24",null,null,{"$f":"E1115","v":20},{"$f":"VLOOKUP(L1157,F.MERE!$A$14:$AA$163,16+F1157)","v":286}]
[]
[null,{"$f":"IF($M1157>0,\"\",\"NE PARTICIPE PAS                   XXXXXXXXXXXXX\")","v":""},null,null,"POUR",null,"CONTRE",null,"ABSTENTION",null,null,null,{"$f":"VLOOKUP($E$12,F.MERE!$A$14:$AA$163,16+F1158)","v":""}]
[]
["x"]
[{"$f":"Liste!$A$1","v":"Résid.LA JOIE"},null,null,null,null,null,null,null,"FORMULAIRE DE VOTE PAR CORRESPONDANCE"]
[{"$f":"Liste!$A$2","v":"120 rue de l' Espérance"},{"$f":"Liste!$A$2","v":"120 rue de l' Espérance"},null,null,null,null,null,null,null,"Page 1"]
[{"$f":"Liste!$A$3","v":75016},{"$f":"Liste!$A$3  & \" \" &Liste!$B$3","v":"75016 PARIS"}]
[null,null,null,null,null,null,null,"Assemblée Générale Ordinaire du",{"$f":"Liste!$E$3","v":"2022-11-05"}]
["Date et lieu",{"$f":"Liste!$E$3","v":"2022-11-05"},null,"à",{"$f":"Liste!$E$4","v":"10 Heures"},{"$f":"Liste!$E$2","v":"15 rue du Bois d'Amour 75016 PARIS"}]
[]
[null,null,null,null,null,null,"Ce formulaire doit être adressé à",null,{"$f":"Liste!$G$3","v":"Cabinet LEBON"}]
[null,null,null,null,null,null,null,null,{"$f":"Liste!$G$4","v":"120 rue du Devoir"}]
[null,null,null,null,null,null,null,null,{"$f":"Liste!$G$5","v":"75016 Paris"}]
[null,null,null,null,null,"Avant la date limite de réxception le",{"$f":"Liste!$E$5","v":"1 Novemvbre 2022"}]
[]
["Je soussigné('e):",{"$f":"Liste!$C$230&\" \"&Liste!$D$30","v":" DUBOURG Pierre"},null,null,{"$f":"Liste!A30","v":21}]
["domicilié(e) au",{"$f":"Liste!$E$30&\" \"&Liste!$F$30&\" \"&Liste!$G$30","v":"14 rue de l' espoir 75016 Paris "}]
[]
["après avoir pris connaissance de l' ordre du jour et des documents annexés  à la conocation ou"]
["mis à disposition sur le site en ligne sécurisé de la copropriété,"]
["souhaite émettre sur chacune des questions soumises à la délibération de l' assemblée générale "]
["des copropriétaires convoquée le",null,null,null,{"$f":"Liste!$E$3","v":"2022-11-05"},"à",{"$f":"E1166&\" \"&F1166","v":"10 Heures 15 rue du Bois d'Amour 75016 PARIS"}]
["Signature du Copropriétaire de l' associé ou du mandataire commun"]
[null,null,null,null,null,null,"Fait à le"]
[]
[1.01,"Election Président de séance","Mr Banchet",null,null,1,{"$f":"VLOOKUP(F1183,Liste!$B$179:$C$189,2)","v":"Charges générales   "},null,"Majorité Article 24",null,null,{"$f":"E1173","v":21},{"$f":"VLOOKUP(L1183,F.MERE!$A$14:$AA$163,16+F1183)","v":323}]
[]
[null,{"$f":"IF($M1183>0,\"\",\"NE PARTICIPE PAS                   XXXXXXXXXXXXX\")","v":""},null,null,"POUR",null,"CONTRE",null,"ABSTENTION",null,null,null,{"$f":"VLOOKUP($E$12,F.MERE!$A$14:$AA$163,16+F1184)","v":""}]
[]
[2.0099999999999998,"Election dfu Secrétaire","Mr Lafolie",null,null,1,{"$f":"VLOOKUP(F1187,Liste!$B$179:$C$189,2)","v":"Charges générales   "},null,"Majorité Article 24",null,null,{"$f":"E1173","v":21},{"$f":"VLOOKUP(L1187,F.MERE!$A$14:$AA$163,16+F1183)","v":323}]
[]
[null,null,null,null,"POUR",null,"CONTRE",null,"ABSTENTION"]
[]
[3.01,"Election Scrutateur","Mr Berlier",null,null,1,{"$f":"VLOOKUP(F1191,Liste!$B$179:$C$189,2)","v":"Charges générales   "},null,"Majorité Article 24",null,null,{"$f":"E1173","v":21},{"$f":"VLOOKUP(L1191,F.MERE!$A$14:$AA$163,16+F1191)","v":323}]
[]
[null,null,null,null,"POUR",null,"CONTRE",null,"ABSTENTION"]
[]
[4.01,"Conseiller Syndical","Mme Fournier",null,null,1,{"$f":"VLOOKUP(F1195,Liste!$B$179:$C$189,2)","v":"Charges générales   "},null,"Majorité Article 24",null,null,{"$f":"E1173","v":21},{"$f":"VLOOKUP(L1195,F.MERE!$A$14:$AA$163,16+F1195)","v":323}]
[]
[null,{"$f":"IF($M1195>0,\"\",\"NE PARTICIPE PAS                   XXXXXXXXXXXXX\")","v":""},null,null,"POUR",null,"CONTRE",null,"ABSTENTION"]
[]
[5.01,"Election Syndic","Cab;DUDULE",null,null,1,{"$f":"VLOOKUP(F1199,Liste!$B$179:$C$189,2)","v":"Charges générales   "},null,"Majorité Article 25",null,null,{"$f":"E1173","v":21},{"$f":"VLOOKUP(L1199,F.MERE!$A$14:$AA$163,16+F1199)","v":323}]
[]
[null,{"$f":"IF($M1199>0,\"\",\"NE PARTICIPE PAS                   XXXXXXXXXXXXX\")","v":""},null,null,"POUR",null,"CONTRE",null,"ABSTENTION"]
[]
[5.0199999999999996,"Election Syndic,2e vote","Cab;DUDULE",null,null,1,{"$f":"VLOOKUP(F1203,Liste!$B$179:$C$189,2)","v":"Charges générales   "},null,"Majorité Article 24",null,null,{"$f":"E1173","v":21},{"$f":"VLOOKUP(L1203,F.MERE!$A$14:$AA$163,16+F1203)","v":323}]
[]
[null,{"$f":"IF($M1203>0,\"\",\"NE PARTICIPE PAS                   XXXXXXXXXXXXX\")","v":""},null,null,"POUR",null,"CONTRE",null,"ABSTENTION"]
[]
[6.01,"Travaux BÄT B","Devis ABC",null,null,3,{"$f":"VLOOKUP(F1207,Liste!$B$179:$C$189,2)","v":"Chardes Bât,B"},null,"Majorité Article 26",null,null,{"$f":"E1173","v":21},{"$f":"VLOOKUP(L1207,F.MERE!$A$14:$AA$163,16+F1207)","v":762}]
[]
[null,{"$f":"IF($M1207>0,\"\",\"NE PARTICIPE PAS                   XXXXXXXXXXXXX\")","v":""},null,null,"POUR",null,"CONTRE",null,"ABSTENTION"]
[]
[null,null,null,null,null,1,{"$f":"VLOOKUP(F1211,Liste!$B$179:$C$189,2)","v":"Charges générales   "},null,"Majorité Article 24",null,null,{"$f":"E1173","v":21},{"$f":"VLOOKUP(L1211,F.MERE!$A$14:$AA$163,16+F1211)","v":323}]
[]
[null,{"$f":"IF($M1211>0,\"\",\"NE PARTICIPE PAS                   XXXXXXXXXXXXX\")","v":""},null,null,"POUR",null,"CONTRE",null,"ABSTENTION"]
[]
[null,null,null,null,null,1,{"$f":"VLOOKUP(F1215,Liste!$B$179:$C$189,2)","v":"Charges générales   "},null,"Majorité Article 24",null,null,{"$f":"E1173","v":21},{"$f":"VLOOKUP(L1215,F.MERE!$A$14:$AA$163,16+F1215)","v":323}]
[]
[null,{"$f":"IF($M1215>0,\"\",\"NE PARTICIPE PAS                   XXXXXXXXXXXXX\")","v":""},null,null,"POUR",null,"CONTRE",null,"ABSTENTION",null,null,null,{"$f":"VLOOKUP($E$12,F.MERE!$A$14:$AA$163,16+F1216)","v":""}]
[]
["x"]
[{"$f":"Liste!$A$1","v":"Résid.LA JOIE"},null,null,null,null,null,null,null,"FORMULAIRE DE VOTE PAR CORRESPONDANCE"]
[{"$f":"Liste!$A$2","v":"120 rue de l' Espérance"},{"$f":"Liste!$A$2","v":"120 rue de l' Espérance"},null,null,null,null,null,null,null,"Page 1"]
[{"$f":"Liste!$A$3","v":75016},{"$f":"Liste!$A$3  & \" \" &Liste!$B$3","v":"75016 PARIS"}]
[null,null,null,null,null,null,null,"Assemblée Générale Ordinaire du",{"$f":"Liste!$E$3","v":"2022-11-05"}]
["Date et lieu",{"$f":"Liste!$E$3","v":"2022-11-05"},null,"à",{"$f":"Liste!$E$4","v":"10 Heures"},{"$f":"Liste!$E$2","v":"15 rue du Bois d'Amour 75016 PARIS"}]
[]
[null,null,null,null,null,null,"Ce formulaire doit être adressé à",null,{"$f":"Liste!$G$3","v":"Cabinet LEBON"}]
[null,null,null,null,null,null,null,null,{"$f":"Liste!$G$4","v":"120 rue du Devoir"}]
[null,null,null,null,null,null,null,null,{"$f":"Liste!$G$5","v":"75016 Paris"}]
[null,null,null,null,null,"Avant la date limite de réxception le",{"$f":"Liste!$E$5","v":"1 Novemvbre 2022"}]
[]
["Je soussigné('e):",{"$f":"Liste!$C319&\" \"&Liste!$D$31","v":" FIGUERAS Annie"},null,null,{"$f":"Liste!A31","v":22}]
["domicilié(e) au",{"$f":"Liste!$E$31&\" \"&Liste!$F$31&\" \"&Liste!$G$31","v":"15 rue de l' espoir 75016 Paris "}]
[]
["après avoir pris connaissance de l' ordre du jour et des documents annexés  à la conocation ou"]
["mis à disposition sur le site en ligne sécurisé de la copropriété,"]
["souhaite émettre sur chacune des questions soumises à la délibération de l' assemblée générale "]
["des copropriétaires convoquée le",null,null,null,{"$f":"Liste!$E$3","v":"2022-11-05"},"à",{"$f":"E1224&\" \"&F1224","v":"10 Heures 15 rue du Bois d'Amour 75016 PARIS"}]
["Signature du Copropriétaire de l' associé ou du mandataire commun"]
[null,null,null,null,null,null,"Fait à le"]
[]
[1.01,"Election Président de séance","Mr Banchet",null,null,1,{"$f":"VLOOKUP(F1241,Liste!$B$179:$C$189,2)","v":"Charges générales   "},null,"Majorité Article 24",null,null,{"$f":"E1231","v":22},{"$f":"VLOOKUP(L1241,F.MERE!$A$14:$AA$163,16+F1241)","v":300}]
[]
[null,{"$f":"IF($M1241>0,\"\",\"NE PARTICIPE PAS                   XXXXXXXXXXXXX\")","v":""},null,null,"POUR",null,"CONTRE",null,"ABSTENTION",null,null,null,{"$f":"VLOOKUP($E$12,F.MERE!$A$14:$AA$163,16+F1242)","v":""}]
[]
[2.0099999999999998,"Election dfu Secrétaire","Mr Lafolie",null,null,1,{"$f":"VLOOKUP(F1245,Liste!$B$179:$C$189,2)","v":"Charges générales   "},null,"Majorité Article 24",null,null,{"$f":"E1231","v":22},{"$f":"VLOOKUP(L1245,F.MERE!$A$14:$AA$163,16+F1241)","v":300}]
[]
[null,null,null,null,"POUR",null,"CONTRE",null,"ABSTENTION"]
[]
[3.01,"Election Scrutateur","Mr Berlier",null,null,1,{"$f":"VLOOKUP(F1249,Liste!$B$179:$C$189,2)","v":"Charges générales   "},null,"Majorité Article 24",null,null,{"$f":"E1231","v":22},{"$f":"VLOOKUP(L1249,F.MERE!$A$14:$AA$163,16+F1249)","v":300}]
[]
[null,null,null,null,"POUR",null,"CONTRE",null,"ABSTENTION"]
[]
[4.01,"Conseiller Syndical","Mme Fournier",null,null,1,{"$f":"VLOOKUP(F1253,Liste!$B$179:$C$189,2)","v":"Charges générales   "},null,"Majorité Article 24",null,null,{"$f":"E1231","v":22},{"$f":"VLOOKUP(L1253,F.MERE!$A$14:$AA$163,16+F1253)","v":300}]
[]
[null,{"$f":"IF($M1253>0,\"\",\"NE PARTICIPE PAS                   XXXXXXXXXXXXX\")","v":""},null,null,"POUR",null,"CONTRE",null,"ABSTENTION"]
[]
[5.01,"Election Syndic","Cab;DUDULE",null,null,1,{"$f":"VLOOKUP(F1257,Liste!$B$179:$C$189,2)","v":"Charges générales   "},null,"Majorité Article 25",null,null,{"$f":"E1231","v":22},{"$f":"VLOOKUP(L1257,F.MERE!$A$14:$AA$163,16+F1257)","v":300}]
[]
[null,{"$f":"IF($M1257>0,\"\",\"NE PARTICIPE PAS                   XXXXXXXXXXXXX\")","v":""},null,null,"POUR",null,"CONTRE",null,"ABSTENTION"]
[]
[5.0199999999999996,"Election Syndic,2e vote","Cab;DUDULE",null,null,1,{"$f":"VLOOKUP(F1261,Liste!$B$179:$C$189,2)","v":"Charges générales   "},null,"Majorité Article 24",null,null,{"$f":"E1231","v":22},{"$f":"VLOOKUP(L1261,F.MERE!$A$14:$AA$163,16+F1261)","v":300}]
[]
[null,{"$f":"IF($M1261>0,\"\",\"NE PARTICIPE PAS                   XXXXXXXXXXXXX\")","v":""},null,null,"POUR",null,"CONTRE",null,"ABSTENTION"]
[]
[6.01,"Travaux BÄT B","Devis ABC",null,null,3,{"$f":"VLOOKUP(F1265,Liste!$B$179:$C$189,2)","v":"Chardes Bât,B"},null,"Majorité Article 26",null,null,{"$f":"E1231","v":22},{"$f":"VLOOKUP(L1265,F.MERE!$A$14:$AA$163,16+F1265)","v":819}]
[]
[null,{"$f":"IF($M1265>0,\"\",\"NE PARTICIPE PAS                   XXXXXXXXXXXXX\")","v":""},null,null,"POUR",null,"CONTRE",null,"ABSTENTION"]
[]
[null,null,null,null,null,1,{"$f":"VLOOKUP(F1269,Liste!$B$179:$C$189,2)","v":"Charges générales   "},null,"Majorité Article 24",null,null,{"$f":"E1231","v":22},{"$f":"VLOOKUP(L1269,F.MERE!$A$14:$AA$163,16+F1269)","v":300}]
[]
[null,{"$f":"IF($M1269>0,\"\",\"NE PARTICIPE PAS                   XXXXXXXXXXXXX\")","v":""},null,null,"POUR",null,"CONTRE",null,"ABSTENTION"]
[]
[null,null,null,null,null,1,{"$f":"VLOOKUP(F1273,Liste!$B$179:$C$189,2)","v":"Charges générales   "},null,"Majorité Article 24",null,null,{"$f":"E1231","v":22},{"$f":"VLOOKUP(L1273,F.MERE!$A$14:$AA$163,16+F1273)","v":300}]
[]
[null,{"$f":"IF($M1273>0,\"\",\"NE PARTICIPE PAS                   XXXXXXXXXXXXX\")","v":""},null,null,"POUR",null,"CONTRE",null,"ABSTENTION",null,null,null,{"$f":"VLOOKUP($E$12,F.MERE!$A$14:$AA$163,16+F1274)","v":""}]
[]
["x"]
[{"$f":"Liste!$A$1","v":"Résid.LA JOIE"},null,null,null,null,null,null,null,"FORMULAIRE DE VOTE PAR CORRESPONDANCE"]
[{"$f":"Liste!$A$2","v":"120 rue de l' Espérance"},{"$f":"Liste!$A$2","v":"120 rue de l' Espérance"},null,null,null,null,null,null,null,"Page 1"]
[{"$f":"Liste!$A$3","v":75016},{"$f":"Liste!$A$3  & \" \" &Liste!$B$3","v":"75016 PARIS"}]
[null,null,null,null,null,null,null,"Assemblée Générale Ordinaire du",{"$f":"Liste!$E$3","v":"2022-11-05"}]
["Date et lieu",{"$f":"Liste!$E$3","v":"2022-11-05"},null,"à",{"$f":"Liste!$E$4","v":"10 Heures"},{"$f":"Liste!$E$2","v":"15 rue du Bois d'Amour 75016 PARIS"}]
[]
[null,null,null,null,null,null,"Ce formulaire doit être adressé à",null,{"$f":"Liste!$G$3","v":"Cabinet LEBON"}]
[null,null,null,null,null,null,null,null,{"$f":"Liste!$G$4","v":"120 rue du Devoir"}]
[null,null,null,null,null,null,null,null,{"$f":"Liste!$G$5","v":"75016 Paris"}]
[null,null,null,null,null,"Avant la date limite de réxception le",{"$f":"Liste!$E$5","v":"1 Novemvbre 2022"}]
[]
["Je soussigné('e):",{"$f":"Liste!$C$32&\" \"&Liste!$D$32","v":"Monieur FONTANA Georges"},null,null,{"$f":"Liste!A32","v":23}]
["domicilié(e) au",{"$f":"Liste!$E$32&\" \"&Liste!$F32&\" \"&Liste!$G$32","v":"21 rue de lz Caserne Foch 51000 Reims"}]
[]
["après avoir pris connaissance de l' ordre du jour et des documents annexés  à la conocation ou"]
["mis à disposition sur le site en ligne sécurisé de la copropriété,"]
["souhaite émettre sur chacune des questions soumises à la délibération de l' assemblée générale "]
["des copropriétaires convoquée le",null,null,null,{"$f":"Liste!$E$3","v":"2022-11-05"},"à",{"$f":"E1282&\" \"&F1282","v":"10 Heures 15 rue du Bois d'Amour 75016 PARIS"}]
["Signature du Copropriétaire de l' associé ou du mandataire commun"]
[null,null,null,null,null,null,"Fait à le"]
[]
[1.01,"Election Président de séance","Mr Banchet",null,null,1,{"$f":"VLOOKUP(F1299,Liste!$B$179:$C$189,2)","v":"Charges générales   "},null,"Majorité Article 24",null,null,{"$f":"E1289","v":23},{"$f":"VLOOKUP(L1299,F.MERE!$A$14:$AA$163,16+F1299)","v":323}]
[]
[null,{"$f":"IF($M1299>0,\"\",\"NE PARTICIPE PAS                   XXXXXXXXXXXXX\")","v":""},null,null,"POUR",null,"CONTRE",null,"ABSTENTION",null,null,null,{"$f":"VLOOKUP($E$12,F.MERE!$A$14:$AA$163,16+F1300)","v":""}]
[]
[2.0099999999999998,"Election dfu Secrétaire","Mr Lafolie",null,null,1,{"$f":"VLOOKUP(F1303,Liste!$B$179:$C$189,2)","v":"Charges générales   "},null,"Majorité Article 24",null,null,{"$f":"E1289","v":23},{"$f":"VLOOKUP(L1303,F.MERE!$A$14:$AA$163,16+F1303)","v":323}]
[]
[null,{"$f":"IF($M1303>0,\"\",\"NE PARTICIPE PAS                   XXXXXXXXXXXXX\")","v":""},null,null,"POUR",null,"CONTRE",null,"ABSTENTION"]
[]
[3.01,"Election Scrutateur","Mr Berlier",null,null,1,{"$f":"VLOOKUP(F1307,Liste!$B$179:$C$189,2)","v":"Charges générales   "},null,"Majorité Article 24",null,null,{"$f":"E1289","v":23},{"$f":"VLOOKUP(L1307,F.MERE!$A$14:$AA$163,16+F1307)","v":323}]
[]
[null,{"$f":"IF($M1307>0,\"\",\"NE PARTICIPE PAS                   XXXXXXXXXXXXX\")","v":""},null,null,"POUR",null,"CONTRE",null,"ABSTENTION"]
[]
[4.01,"Conseiller Syndical","Mme Fournier",null,null,1,{"$f":"VLOOKUP(F1311,Liste!$B$179:$C$189,2)","v":"Charges générales   "},null,"Majorité Article 24",null,null,{"$f":"E1289","v":23},{"$f":"VLOOKUP(L1311,F.MERE!$A$14:$AA$163,16+F1311)","v":323}]
[]
[null,{"$f":"IF($M1311>0,\"\",\"NE PARTICIPE PAS                   XXXXXXXXXXXXX\")","v":""},null,null,"POUR",null,"CONTRE",null,"ABSTENTION"]
[]
[5.01,"Election Syndic","Cab;DUDULE",null,null,1,{"$f":"VLOOKUP(F1315,Liste!$B$179:$C$189,2)","v":"Charges générales   "},null,"Majorité Article 25",null,null,{"$f":"E1289","v":23},{"$f":"VLOOKUP(L1315,F.MERE!$A$14:$AA$163,16+F1315)","v":323}]
[]
[null,{"$f":"IF($M1315>0,\"\",\"NE PARTICIPE PAS                   XXXXXXXXXXXXX\")","v":""},null,null,"POUR",null,"CONTRE",null,"ABSTENTION"]
[]
[5.0199999999999996,"Election Syndic,2e vote","Cab;DUDULE",null,null,1,{"$f":"VLOOKUP(F1319,Liste!$B$179:$C$189,2)","v":"Charges générales   "},null,"Majorité Article 24",null,null,{"$f":"E1289","v":23},{"$f":"VLOOKUP(L1319,F.MERE!$A$14:$AA$163,16+F1319)","v":323}]
[]
[null,{"$f":"IF($M1319>0,\"\",\"NE PARTICIPE PAS                   XXXXXXXXXXXXX\")","v":""},null,null,"POUR",null,"CONTRE",null,"ABSTENTION"]
[]
[6.01,"Travaux BÄT B","Devis ABC",null,null,3,{"$f":"VLOOKUP(F1323,Liste!$B$179:$C$189,2)","v":"Chardes Bât,B"},null,"Majorité Article 26",null,null,{"$f":"E1289","v":23},{"$f":"VLOOKUP(L1323,F.MERE!$A$14:$AA$163,16+F1323)","v":873}]
[]
[null,{"$f":"IF($M1323>0,\"\",\"NE PARTICIPE PAS                   XXXXXXXXXXXXX\")","v":""},null,null,"POUR",null,"CONTRE",null,"ABSTENTION"]
[]
[null,null,null,null,null,1,{"$f":"VLOOKUP(F1327,Liste!$B$179:$C$189,2)","v":"Charges générales   "},null,"Majorité Article 24",null,null,{"$f":"E1289","v":23},{"$f":"VLOOKUP(L1327,F.MERE!$A$14:$AA$163,16+F1327)","v":323}]
[]
[null,{"$f":"IF($M1327>0,\"\",\"NE PARTICIPE PAS                   XXXXXXXXXXXXX\")","v":""},null,null,"POUR",null,"CONTRE",null,"ABSTENTION"]
[]
[null,null,null,null,null,1,{"$f":"VLOOKUP(F1331,Liste!$B$179:$C$189,2)","v":"Charges générales   "},null,"Majorité Article 24",null,null,{"$f":"E1289","v":23},{"$f":"VLOOKUP(L1331,F.MERE!$A$14:$AA$163,16+F1331)","v":323}]
[]
[null,{"$f":"IF($M1331>0,\"\",\"NE PARTICIPE PAS                   XXXXXXXXXXXXX\")","v":""},null,null,"POUR",null,"CONTRE",null,"ABSTENTION",null,null,null,{"$f":"VLOOKUP($E$12,F.MERE!$A$14:$AA$163,16+F1332)","v":""}]
[]
["x"]
[{"$f":"Liste!$A$1","v":"Résid.LA JOIE"},null,null,null,null,null,null,null,"FORMULAIRE DE VOTE PAR CORRESPONDANCE"]
[{"$f":"Liste!$A$2","v":"120 rue de l' Espérance"},{"$f":"Liste!$A$2","v":"120 rue de l' Espérance"},null,null,null,null,null,null,null,"Page 1"]
[{"$f":"Liste!$A$3","v":75016},{"$f":"Liste!$A$3  & \" \" &Liste!$B$3","v":"75016 PARIS"}]
[null,null,null,null,null,null,null,"Assemblée Générale Ordinaire du",{"$f":"Liste!$E$3","v":"2022-11-05"}]
["Date et lieu",{"$f":"Liste!$E$3","v":"2022-11-05"},null,"à",{"$f":"Liste!$E$4","v":"10 Heures"},{"$f":"Liste!$E$2","v":"15 rue du Bois d'Amour 75016 PARIS"}]
[]
[null,null,null,null,null,null,"Ce formulaire doit être adressé à",null,{"$f":"Liste!$G$3","v":"Cabinet LEBON"}]
[null,null,null,null,null,null,null,null,{"$f":"Liste!$G$4","v":"120 rue du Devoir"}]
[null,null,null,null,null,null,null,null,{"$f":"Liste!$G$5","v":"75016 Paris"}]
[null,null,null,null,null,"Avant la date limite de réxception le",{"$f":"Liste!$E$5","v":"1 Novemvbre 2022"}]
[]
["Je soussigné('e):",{"$f":"Liste!$C339&\" \"&Liste!$D$33","v":" FORGET Valéry"},null,null,{"$f":"Liste!A33","v":24}]
["domicilié(e) au",{"$f":"Liste!$E$33&\" \"&Liste!$F$33&\" \"&Liste!$G$33","v":"13 rue de l' espoir 75016 Paris "}]
[]
["après avoir pris connaissance de l' ordre du jour et des documents annexés  à la conocation ou"]
["mis à disposition sur le site en ligne sécurisé de la copropriété,"]
["souhaite émettre sur chacune des questions soumises à la délibération de l' assemblée générale "]
["des copropriétaires convoquée le",null,null,null,{"$f":"Liste!$E$3","v":"2022-11-05"},"à",{"$f":"E1340&\" \"&F1340","v":"10 Heures 15 rue du Bois d'Amour 75016 PARIS"}]
["Signature du Copropriétaire de l' associé ou du mandataire commun"]
[null,null,null,null,null,null,"Fait à le"]
[]
[1.01,"Election Président de séance","Mr Banchet",null,null,1,{"$f":"VLOOKUP(F1357,Liste!$B$179:$C$189,2)","v":"Charges générales   "},null,"Majorité Article 24",null,null,{"$f":"E1347","v":24},{"$f":"VLOOKUP(L1357,F.MERE!$A$14:$AA$163,16+F1357)","v":270}]
[]
[null,{"$f":"IF($M1357>0,\"\",\"NE PARTICIPE PAS                   XXXXXXXXXXXXX\")","v":""},null,null,"POUR",null,"CONTRE",null,"ABSTENTION",null,null,null,{"$f":"VLOOKUP($E$12,F.MERE!$A$14:$AA$163,16+F1358)","v":""}]
[]
[2.0099999999999998,"Election dfu Secrétaire","Mr Lafolie",null,null,1,{"$f":"VLOOKUP(F1361,Liste!$B$179:$C$189,2)","v":"Charges générales   "},null,"Majorité Article 24",null,null,{"$f":"E1347","v":24},{"$f":"VLOOKUP(L1361,F.MERE!$A$14:$AA$163,16+F1357)","v":270}]
[]
[null,null,null,null,"POUR",null,"CONTRE",null,"ABSTENTION"]
[]
[3.01,"Election Scrutateur","Mr Berlier",null,null,1,{"$f":"VLOOKUP(F1365,Liste!$B$179:$C$189,2)","v":"Charges générales   "},null,"Majorité Article 24",null,null,{"$f":"E1347","v":24},{"$f":"VLOOKUP(L1365,F.MERE!$A$14:$AA$163,16+F1365)","v":270}]
[]
[null,null,null,null,"POUR",null,"CONTRE",null,"ABSTENTION"]
[]
[4.01,"Conseiller Syndical","Mme Fournier",null,null,1,{"$f":"VLOOKUP(F1369,Liste!$B$179:$C$189,2)","v":"Charges générales   "},null,"Majorité Article 24",null,null,{"$f":"E1347","v":24},{"$f":"VLOOKUP(L1369,F.MERE!$A$14:$AA$163,16+F1369)","v":270}]
[]
[null,{"$f":"IF($M1369>0,\"\",\"NE PARTICIPE PAS                   XXXXXXXXXXXXX\")","v":""},null,null,"POUR",null,"CONTRE",null,"ABSTENTION"]
[]
[5.01,"Election Syndic","Cab;DUDULE",null,null,1,{"$f":"VLOOKUP(F1373,Liste!$B$179:$C$189,2)","v":"Charges générales   "},null,"Majorité Article 25",null,null,{"$f":"E1347","v":24},{"$f":"VLOOKUP(L1373,F.MERE!$A$14:$AA$163,16+F1373)","v":270}]
[]
[null,{"$f":"IF($M1373>0,\"\",\"NE PARTICIPE PAS                   XXXXXXXXXXXXX\")","v":""},null,null,"POUR",null,"CONTRE",null,"ABSTENTION"]
[]
[5.0199999999999996,"Election Syndic,2e vote","Cab;DUDULE",null,null,1,{"$f":"VLOOKUP(F1377,Liste!$B$179:$C$189,2)","v":"Charges générales   "},null,"Majorité Article 24",null,null,{"$f":"E1347","v":24},{"$f":"VLOOKUP(L1377,F.MERE!$A$14:$AA$163,16+F1377)","v":270}]
[]
[null,{"$f":"IF($M1377>0,\"\",\"NE PARTICIPE PAS                   XXXXXXXXXXXXX\")","v":""},null,null,"POUR",null,"CONTRE",null,"ABSTENTION"]
[]
[6.01,"Travaux BÄT B","Devis ABC",null,null,3,{"$f":"VLOOKUP(F1381,Liste!$B$179:$C$189,2)","v":"Chardes Bât,B"},null,"Majorité Article 26",null,null,{"$f":"E1347","v":24},{"$f":"VLOOKUP(L1381,F.MERE!$A$14:$AA$163,16+F1381)","v":830}]
[]
[null,{"$f":"IF($M1381>0,\"\",\"NE PARTICIPE PAS                   XXXXXXXXXXXXX\")","v":""},null,null,"POUR",null,"CONTRE",null,"ABSTENTION"]
[]
[null,null,null,null,null,1,{"$f":"VLOOKUP(F1385,Liste!$B$179:$C$189,2)","v":"Charges générales   "},null,"Majorité Article 24",null,null,{"$f":"E1347","v":24},{"$f":"VLOOKUP(L1385,F.MERE!$A$14:$AA$163,16+F1385)","v":270}]
[]
[null,{"$f":"IF($M1385>0,\"\",\"NE PARTICIPE PAS                   XXXXXXXXXXXXX\")","v":""},null,null,"POUR",null,"CONTRE",null,"ABSTENTION"]
[]
[null,null,null,null,null,1,{"$f":"VLOOKUP(F1389,Liste!$B$179:$C$189,2)","v":"Charges générales   "},null,"Majorité Article 24",null,null,{"$f":"E1347","v":24},{"$f":"VLOOKUP(L1389,F.MERE!$A$14:$AA$163,16+F1389)","v":270}]
[]
[null,{"$f":"IF($M1389>0,\"\",\"NE PARTICIPE PAS                   XXXXXXXXXXXXX\")","v":""},null,null,"POUR",null,"CONTRE",null,"ABSTENTION",null,null,null,{"$f":"VLOOKUP($E$12,F.MERE!$A$14:$AA$163,16+F1390)","v":""}]
[]
["x"]
[{"$f":"Liste!$A$1","v":"Résid.LA JOIE"},null,null,null,null,null,null,null,"FORMULAIRE DE VOTE PAR CORRESPONDANCE"]
[{"$f":"Liste!$A$2","v":"120 rue de l' Espérance"},{"$f":"Liste!$A$2","v":"120 rue de l' Espérance"},null,null,null,null,null,null,null,"Page 1"]
[{"$f":"Liste!$A$3","v":75016},{"$f":"Liste!$A$3  & \" \" &Liste!$B$3","v":"75016 PARIS"}]
[null,null,null,null,null,null,null,"Assemblée Générale Ordinaire du",{"$f":"Liste!$E$3","v":"2022-11-05"}]
["Date et lieu",{"$f":"Liste!$E$3","v":"2022-11-05"},null,"à",{"$f":"Liste!$E$4","v":"10 Heures"},{"$f":"Liste!$E$2","v":"15 rue du Bois d'Amour 75016 PARIS"}]
[]
[null,null,null,null,null,null,"Ce formulaire doit être adressé à",null,{"$f":"Liste!$G$3","v":"Cabinet LEBON"}]
[null,null,null,null,null,null,null,null,{"$f":"Liste!$G$4","v":"120 rue du Devoir"}]
[null,null,null,null,null,null,null,null,{"$f":"Liste!$G$5","v":"75016 Paris"}]
[null,null,null,null,null,"Avant la date limite de réxception le",{"$f":"Liste!$E$5","v":"1 Novemvbre 2022"}]
[]
["Je soussigné('e):",{"$f":"Liste!$C$34&\" \"&Liste!$D$34","v":"Madame FOURNIER Nicole"},null,null,{"$f":"Liste!A34","v":25}]
["domicilié(e) au",{"$f":"Liste!$E$34&\" \"&Liste!$F$34&\" \"&Liste!$G$34","v":"13 rue de l' espoir 75016 Paris "}]
[]
["après avoir pris connaissance de l' ordre du jour et des documents annexés  à la conocation ou"]
["mis à disposition sur le site en ligne sécurisé de la copropriété,"]
["souhaite émettre sur chacune des questions soumises à la délibération de l' assemblée générale "]
["des copropriétaires convoquée le",null,null,null,{"$f":"Liste!$E$3","v":"2022-11-05"},"à",{"$f":"E1398&\" \"&F1398","v":"10 Heures 15 rue du Bois d'Amour 75016 PARIS"}]
["Signature du Copropriétaire de l' associé ou du mandataire commun"]
[null,null,null,null,null,null,"Fait à le"]
[]
[1.01,"Election Président de séance","Mr Banchet",null,null,1,{"$f":"VLOOKUP(F1415,Liste!$B$179:$C$189,2)","v":"Charges générales   "},null,"Majorité Article 24",null,null,{"$f":"E1405","v":25},{"$f":"VLOOKUP(L1415,F.MERE!$A$14:$AA$163,16+F1415)","v":290}]
[]
[null,{"$f":"IF($M1415>0,\"\",\"NE PARTICIPE PAS                   XXXXXXXXXXXXX\")","v":""},null,null,"POUR",null,"CONTRE",null,"ABSTENTION",null,null,null,{"$f":"VLOOKUP($E$12,F.MERE!$A$14:$AA$163,16+F1416)","v":""}]
[]
[2.0099999999999998,"Election dfu Secrétaire","Mr Lafolie",null,null,1,{"$f":"VLOOKUP(F1419,Liste!$B$179:$C$189,2)","v":"Charges générales   "},null,"Majorité Article 24",null,null,{"$f":"E1405","v":25},{"$f":"VLOOKUP(L1419,F.MERE!$A$14:$AA$163,16+F1415)","v":290}]
[]
[null,null,null,null,"POUR",null,"CONTRE",null,"ABSTENTION"]
[]
[3.01,"Election Scrutateur","Mr Berlier",null,null,1,{"$f":"VLOOKUP(F1423,Liste!$B$179:$C$189,2)","v":"Charges générales   "},null,"Majorité Article 24",null,null,{"$f":"E1405","v":25},{"$f":"VLOOKUP(L1423,F.MERE!$A$14:$AA$163,16+F1423)","v":290}]
[]
[null,null,null,null,"POUR",null,"CONTRE",null,"ABSTENTION"]
[]
[4.01,"Conseiller Syndical","Mme Fournier",null,null,1,{"$f":"VLOOKUP(F1427,Liste!$B$179:$C$189,2)","v":"Charges générales   "},null,"Majorité Article 24",null,null,{"$f":"E1405","v":25},{"$f":"VLOOKUP(L1427,F.MERE!$A$14:$AA$163,16+F1427)","v":290}]
[]
[null,{"$f":"IF($M1427>0,\"\",\"NE PARTICIPE PAS                   XXXXXXXXXXXXX\")","v":""},null,null,"POUR",null,"CONTRE",null,"ABSTENTION"]
[]
[5.01,"Election Syndic","Cab;DUDULE",null,null,1,{"$f":"VLOOKUP(F1431,Liste!$B$179:$C$189,2)","v":"Charges générales   "},null,"Majorité Article 25",null,null,{"$f":"E1405","v":25},{"$f":"VLOOKUP(L1431,F.MERE!$A$14:$AA$163,16+F1431)","v":290}]
[]
[null,{"$f":"IF($M1431>0,\"\",\"NE PARTICIPE PAS                   XXXXXXXXXXXXX\")","v":""},null,null,"POUR",null,"CONTRE",null,"ABSTENTION"]
[]
[5.0199999999999996,"Election Syndic,2e vote","Cab;DUDULE",null,null,1,{"$f":"VLOOKUP(F1435,Liste!$B$179:$C$189,2)","v":"Charges générales   "},null,"Majorité Article 24",null,null,{"$f":"E1405","v":25},{"$f":"VLOOKUP(L1435,F.MERE!$A$14:$AA$163,16+F1435)","v":290}]
[]
[null,{"$f":"IF($M1435>0,\"\",\"NE PARTICIPE PAS                   XXXXXXXXXXXXX\")","v":""},null,null,"POUR",null,"CONTRE",null,"ABSTENTION"]
[]
[6.01,"Travaux BÄT B","Devis ABC",null,null,3,{"$f":"VLOOKUP(F1439,Liste!$B$179:$C$189,2)","v":"Chardes Bât,B"},null,"Majorité Article 26",null,null,{"$f":"E1405","v":25},{"$f":"VLOOKUP(L1439,F.MERE!$A$14:$AA$163,16+F1439)","v":973}]
[]
[null,{"$f":"IF($M1439>0,\"\",\"NE PARTICIPE PAS                   XXXXXXXXXXXXX\")","v":""},null,null,"POUR",null,"CONTRE",null,"ABSTENTION"]
[]
[null,null,null,null,null,1,{"$f":"VLOOKUP(F1443,Liste!$B$179:$C$189,2)","v":"Charges générales   "},null,"Majorité Article 24",null,null,{"$f":"E1405","v":25},{"$f":"VLOOKUP(L1443,F.MERE!$A$14:$AA$163,16+F1443)","v":290}]
[]
[null,{"$f":"IF($M1443>0,\"\",\"NE PARTICIPE PAS                   XXXXXXXXXXXXX\")","v":""},null,null,"POUR",null,"CONTRE",null,"ABSTENTION"]
[]
[null,null,null,null,null,1,{"$f":"VLOOKUP(F1447,Liste!$B$179:$C$189,2)","v":"Charges générales   "},null,"Majorité Article 24",null,null,{"$f":"E1405","v":25},{"$f":"VLOOKUP(L1447,F.MERE!$A$14:$AA$163,16+F1447)","v":290}]
[]
[null,{"$f":"IF($M1447>0,\"\",\"NE PARTICIPE PAS                   XXXXXXXXXXXXX\")","v":""},null,null,"POUR",null,"CONTRE",null,"ABSTENTION",null,null,null,{"$f":"VLOOKUP($E$12,F.MERE!$A$14:$AA$163,16+F1448)","v":""}]
[]
["x"]
[{"$f":"Liste!$A$1","v":"Résid.LA JOIE"},null,null,null,null,null,null,null,"FORMULAIRE DE VOTE PAR CORRESPONDANCE"]
[{"$f":"Liste!$A$2","v":"120 rue de l' Espérance"},{"$f":"Liste!$A$2","v":"120 rue de l' Espérance"},null,null,null,null,null,null,null,"Page 1"]
[{"$f":"Liste!$A$3","v":75016},{"$f":"Liste!$A$3  & \" \" &Liste!$B$3","v":"75016 PARIS"}]
[null,null,null,null,null,null,null,"Assemblée Générale Ordinaire du",{"$f":"Liste!$E$3","v":"2022-11-05"}]
["Date et lieu",{"$f":"Liste!$E$3","v":"2022-11-05"},null,"à",{"$f":"Liste!$E$4","v":"10 Heures"},{"$f":"Liste!$E$2","v":"15 rue du Bois d'Amour 75016 PARIS"}]
[]
[null,null,null,null,null,null,"Ce formulaire doit être adressé à",null,{"$f":"Liste!$G$3","v":"Cabinet LEBON"}]
[null,null,null,null,null,null,null,null,{"$f":"Liste!$G$4","v":"120 rue du Devoir"}]
[null,null,null,null,null,null,null,null,{"$f":"Liste!$G$5","v":"75016 Paris"}]
[null,null,null,null,null,"Avant la date limite de réxception le",{"$f":"Liste!$E$5","v":"1 Novemvbre 2022"}]
[]
["Je soussigné('e):",{"$f":"Liste!$C$35&\" \"&Liste!$D$35","v":"Monieur GARCIA Christophe"},null,null,{"$f":"Liste!A35","v":26}]
["domicilié(e) au",{"$f":"Liste!$E$35&\" \"&Liste!$F$35&\" \"&Liste!$G$35","v":"13 rue de l' espoir 75016 Paris "}]
[]
["après avoir pris connaissance de l' ordre du jour et des documents annexés  à la conocation ou"]
["mis à disposition sur le site en ligne sécurisé de la copropriété,"]
["souhaite émettre sur chacune des questions soumises à la délibération de l' assemblée générale "]
["des copropriétaires convoquée le",null,null,null,{"$f":"Liste!$E$3","v":"2022-11-05"},"à",{"$f":"E1456&\" \"&F1456","v":"10 Heures 15 rue du Bois d'Amour 75016 PARIS"}]
["Signature du Copropriétaire de l' associé ou du mandataire commun"]
[null,null,null,null,null,null,"Fait à le"]
[]
[1.01,"Election Président de séance","Mr Banchet",null,null,1,{"$f":"VLOOKUP(F1473,Liste!$B$179:$C$189,2)","v":"Charges générales   "},null,"Majorité Article 24",null,null,{"$f":"E1463","v":26},{"$f":"VLOOKUP(L1473,F.MERE!$A$14:$AA$163,16+F1473)","v":286}]
[]
[null,{"$f":"IF($M1473>0,\"\",\"NE PARTICIPE PAS                   XXXXXXXXXXXXX\")","v":""},null,null,"POUR",null,"CONTRE",null,"ABSTENTION",null,null,null,{"$f":"VLOOKUP($E$12,F.MERE!$A$14:$AA$163,16+F1474)","v":""}]
[]
[2.0099999999999998,"Election dfu Secrétaire","Mr Lafolie",null,null,1,{"$f":"VLOOKUP(F1477,Liste!$B$179:$C$189,2)","v":"Charges générales   "},null,"Majorité Article 24",null,null,{"$f":"E1463","v":26},{"$f":"VLOOKUP(L1477,F.MERE!$A$14:$AA$163,16+F1473)","v":286}]
[]
[null,null,null,null,"POUR",null,"CONTRE",null,"ABSTENTION"]
[]
[3.01,"Election Scrutateur","Mr Berlier",null,null,1,{"$f":"VLOOKUP(F1481,Liste!$B$179:$C$189,2)","v":"Charges générales   "},null,"Majorité Article 24",null,null,{"$f":"E1463","v":26},{"$f":"VLOOKUP(L1481,F.MERE!$A$14:$AA$163,16+F1481)","v":286}]
[]
[null,null,null,null,"POUR",null,"CONTRE",null,"ABSTENTION"]
[]
[4.01,"Conseiller Syndical","Mme Fournier",null,null,1,{"$f":"VLOOKUP(F1485,Liste!$B$179:$C$189,2)","v":"Charges générales   "},null,"Majorité Article 24",null,null,{"$f":"E1463","v":26},{"$f":"VLOOKUP(L1485,F.MERE!$A$14:$AA$163,16+F1485)","v":286}]
[]
[null,{"$f":"IF($M1485>0,\"\",\"NE PARTICIPE PAS                   XXXXXXXXXXXXX\")","v":""},null,null,"POUR",null,"CONTRE",null,"ABSTENTION"]
[]
[5.01,"Election Syndic","Cab;DUDULE",null,null,1,{"$f":"VLOOKUP(F1489,Liste!$B$179:$C$189,2)","v":"Charges générales   "},null,"Majorité Article 25",null,null,{"$f":"E1463","v":26},{"$f":"VLOOKUP(L1489,F.MERE!$A$14:$AA$163,16+F1489)","v":286}]
[]
[null,{"$f":"IF($M1489>0,\"\",\"NE PARTICIPE PAS                   XXXXXXXXXXXXX\")","v":""},null,null,"POUR",null,"CONTRE",null,"ABSTENTION"]
[]
[5.0199999999999996,"Election Syndic,2e vote","Cab;DUDULE",null,null,1,{"$f":"VLOOKUP(F1493,Liste!$B$179:$C$189,2)","v":"Charges générales   "},null,"Majorité Article 24",null,null,{"$f":"E1463","v":26},{"$f":"VLOOKUP(L1493,F.MERE!$A$14:$AA$163,16+F1493)","v":286}]
[]
[null,{"$f":"IF($M1493>0,\"\",\"NE PARTICIPE PAS                   XXXXXXXXXXXXX\")","v":""},null,null,"POUR",null,"CONTRE",null,"ABSTENTION"]
[]
[6.01,"Travaux BÄT B","Devis ABC",null,null,3,{"$f":"VLOOKUP(F1497,Liste!$B$179:$C$189,2)","v":"Chardes Bât,B"},null,"Majorité Article 26",null,null,{"$f":"E1463","v":26},{"$f":"VLOOKUP(L1497,F.MERE!$A$14:$AA$163,16+F1497)","v":694}]
[]
[null,{"$f":"IF($M1497>0,\"\",\"NE PARTICIPE PAS                   XXXXXXXXXXXXX\")","v":""},null,null,"POUR",null,"CONTRE",null,"ABSTENTION"]
[]
[null,null,null,null,null,1,{"$f":"VLOOKUP(F1501,Liste!$B$179:$C$189,2)","v":"Charges générales   "},null,"Majorité Article 24",null,null,{"$f":"E1463","v":26},{"$f":"VLOOKUP(L1501,F.MERE!$A$14:$AA$163,16+F1501)","v":286}]
[]
[null,{"$f":"IF($M1501>0,\"\",\"NE PARTICIPE PAS                   XXXXXXXXXXXXX\")","v":""},null,null,"POUR",null,"CONTRE",null,"ABSTENTION"]
[]
[null,null,null,null,null,1,{"$f":"VLOOKUP(F1505,Liste!$B$179:$C$189,2)","v":"Charges générales   "},null,"Majorité Article 24",null,null,{"$f":"E1463","v":26},{"$f":"VLOOKUP(L1505,F.MERE!$A$14:$AA$163,16+F1505)","v":286}]
[]
[null,{"$f":"IF($M1505>0,\"\",\"NE PARTICIPE PAS                   XXXXXXXXXXXXX\")","v":""},null,null,"POUR",null,"CONTRE",null,"ABSTENTION",null,null,null,{"$f":"VLOOKUP($E$12,F.MERE!$A$14:$AA$163,16+F1506)","v":""}]
[]
["x"]
[null,null,null,null,null,null,null,null,null,null,null,26]
[{"$f":"Liste!$A$1","v":"Résid.LA JOIE"},null,null,null,null,null,null,null,"FORMULAIRE DE VOTE PAR CORRESPONDANCE"]
[{"$f":"Liste!$A$2","v":"120 rue de l' Espérance"},{"$f":"Liste!$A$2","v":"120 rue de l' Espérance"},null,null,null,null,null,null,null,"Page 1"]
[{"$f":"Liste!$A$3","v":75016},{"$f":"Liste!$A$3  & \" \" &Liste!$B$3","v":"75016 PARIS"}]
[null,null,null,null,null,null,null,"Assemblée Générale Ordinaire du",{"$f":"Liste!$E$3","v":"2022-11-05"}]
["Date et lieu",{"$f":"Liste!$E$3","v":"2022-11-05"},null,"à",{"$f":"Liste!$E$4","v":"10 Heures"},{"$f":"Liste!$E$2","v":"15 rue du Bois d'Amour 75016 PARIS"}]
[]
[null,null,null,null,null,null,"Ce formulaire doit être adressé à",null,{"$f":"Liste!$G$3","v":"Cabinet LEBON"}]
[null,null,null,null,null,null,null,null,{"$f":"Liste!$G$4","v":"120 rue du Devoir"}]
[null,null,null,null,null,null,null,null,{"$f":"Liste!$G$5","v":"75016 Paris"}]
[null,null,null,null,null,"Avant la date limite de réxception le",{"$f":"Liste!$E$5","v":"1 Novemvbre 2022"}]
[]
["Je soussigné('e):",{"$f":"Liste!$C$36&\" \"&Liste!$D$36","v":"Monieur GARRELON Jacques"},null,null,{"$f":"Liste!A36","v":27}]
["domicilié(e) au",{"$f":"Liste!$E$36&\" \"&Liste!$F$36&\" \"&Liste!$G$36","v":"Rue de Koufra 92100 Boulogne-Billancourrt"}]
[]
["après avoir pris connaissance de l' ordre du jour et des documents annexés  à la conocation ou"]
["mis à disposition sur le site en ligne sécurisé de la copropriété,"]
["souhaite émettre sur chacune des questions soumises à la délibération de l' assemblée générale "]
["des copropriétaires convoquée le",null,null,null,{"$f":"Liste!$E$3","v":"2022-11-05"},"à",{"$f":"E1515&\" \"&F1515","v":"10 Heures 15 rue du Bois d'Amour 75016 PARIS"}]
["Signature du Copropriétaire de l' associé ou du mandataire commun"]
[null,null,null,null,null,null,"Fait à le"]
[]
[1.01,"Election Président de séance","Mr Banchet",null,null,1,{"$f":"VLOOKUP(F1532,Liste!$B$179:$C$189,2)","v":"Charges générales   "},null,"Majorité Article 24",null,null,{"$f":"E1522","v":27},{"$f":"VLOOKUP(L1532,F.MERE!$A$14:$AA$163,16+F1532)","v":110}]
[]
[null,{"$f":"IF($M1532>0,\"\",\"NE PARTICIPE PAS                   XXXXXXXXXXXXX\")","v":""},null,null,"POUR",null,"CONTRE",null,"ABSTENTION",null,null,null,{"$f":"VLOOKUP($E$12,F.MERE!$A$14:$AA$163,16+F1533)","v":""}]
[]
[2.0099999999999998,"Election dfu Secrétaire","Mr Lafolie",null,null,1,{"$f":"VLOOKUP(F1536,Liste!$B$179:$C$189,2)","v":"Charges générales   "},null,"Majorité Article 24",null,null,{"$f":"E1522","v":27},{"$f":"VLOOKUP(L1536,F.MERE!$A$14:$AA$163,16+F1532)","v":110}]
[]
[null,null,null,null,"POUR",null,"CONTRE",null,"ABSTENTION"]
[]
[3.01,"Election Scrutateur","Mr Berlier",null,null,1,{"$f":"VLOOKUP(F1540,Liste!$B$179:$C$189,2)","v":"Charges générales   "},null,"Majorité Article 24",null,null,{"$f":"E1522","v":27},{"$f":"VLOOKUP(L1540,F.MERE!$A$14:$AA$163,16+F1540)","v":110}]
[]
[null,null,null,null,"POUR",null,"CONTRE",null,"ABSTENTION"]
[]
[4.01,"Conseiller Syndical","Mme Fournier",null,null,1,{"$f":"VLOOKUP(F1544,Liste!$B$179:$C$189,2)","v":"Charges générales   "},null,"Majorité Article 24",null,null,{"$f":"E1522","v":27},{"$f":"VLOOKUP(L1544,F.MERE!$A$14:$AA$163,16+F1544)","v":110}]
[]
[null,{"$f":"IF($M1544>0,\"\",\"NE PARTICIPE PAS                   XXXXXXXXXXXXX\")","v":""},null,null,"POUR",null,"CONTRE",null,"ABSTENTION"]
[]
[5.01,"Election Syndic","Cab;DUDULE",null,null,1,{"$f":"VLOOKUP(F1548,Liste!$B$179:$C$189,2)","v":"Charges générales   "},null,"Majorité Article 25",null,null,{"$f":"E1522","v":27},{"$f":"VLOOKUP(L1548,F.MERE!$A$14:$AA$163,16+F1548)","v":110}]
[]
[null,{"$f":"IF($M1548>0,\"\",\"NE PARTICIPE PAS                   XXXXXXXXXXXXX\")","v":""},null,null,"POUR",null,"CONTRE",null,"ABSTENTION"]
[]
[5.0199999999999996,"Election Syndic,2e vote","Cab;DUDULE",null,null,1,{"$f":"VLOOKUP(F1552,Liste!$B$179:$C$189,2)","v":"Charges générales   "},null,"Majorité Article 24",null,null,{"$f":"E1522","v":27},{"$f":"VLOOKUP(L1552,F.MERE!$A$14:$AA$163,16+F1552)","v":110}]
[]
[null,{"$f":"IF($M1552>0,\"\",\"NE PARTICIPE PAS                   XXXXXXXXXXXXX\")","v":""},null,null,"POUR",null,"CONTRE",null,"ABSTENTION"]
[]
[6.01,"Travaux BÄT B","Devis ABC",null,null,3,{"$f":"VLOOKUP(F1556,Liste!$B$179:$C$189,2)","v":"Chardes Bât,B"},null,"Majorité Article 26",null,null,{"$f":"E1522","v":27},{"$f":"VLOOKUP(L1556,F.MERE!$A$14:$AA$163,16+F1556)","v":830}]
[]
[null,{"$f":"IF($M1556>0,\"\",\"NE PARTICIPE PAS                   XXXXXXXXXXXXX\")","v":""},null,null,"POUR",null,"CONTRE",null,"ABSTENTION"]
[]
[null,null,null,null,null,1,{"$f":"VLOOKUP(F1560,Liste!$B$179:$C$189,2)","v":"Charges générales   "},null,"Majorité Article 24",null,null,{"$f":"E1522","v":27},{"$f":"VLOOKUP(L1560,F.MERE!$A$14:$AA$163,16+F1560)","v":110}]
[]
[null,{"$f":"IF($M1560>0,\"\",\"NE PARTICIPE PAS                   XXXXXXXXXXXXX\")","v":""},null,null,"POUR",null,"CONTRE",null,"ABSTENTION"]
[]
[null,null,null,null,null,1,{"$f":"VLOOKUP(F1564,Liste!$B$179:$C$189,2)","v":"Charges générales   "},null,"Majorité Article 24",null,null,{"$f":"E1522","v":27},{"$f":"VLOOKUP(L1564,F.MERE!$A$14:$AA$163,16+F1564)","v":110}]
[]
[null,{"$f":"IF($M1564>0,\"\",\"NE PARTICIPE PAS                   XXXXXXXXXXXXX\")","v":""},null,null,"POUR",null,"CONTRE",null,"ABSTENTION",null,null,null,{"$f":"VLOOKUP($E$12,F.MERE!$A$14:$AA$163,16+F1565)","v":""}]
[]
["x"]
[{"$f":"Liste!$A$1","v":"Résid.LA JOIE"},null,null,null,null,null,null,null,"FORMULAIRE DE VOTE PAR CORRESPONDANCE"]
[{"$f":"Liste!$A$2","v":"120 rue de l' Espérance"},{"$f":"Liste!$A$2","v":"120 rue de l' Espérance"},null,null,null,null,null,null,null,"Page 1"]
[{"$f":"Liste!$A$3","v":75016},{"$f":"Liste!$A$3  & \" \" &Liste!$B$3","v":"75016 PARIS"}]
[null,null,null,null,null,null,null,"Assemblée Générale Ordinaire du",{"$f":"Liste!$E$3","v":"2022-11-05"}]
["Date et lieu",{"$f":"Liste!$E$3","v":"2022-11-05"},null,"à",{"$f":"Liste!$E$4","v":"10 Heures"},{"$f":"Liste!$E$2","v":"15 rue du Bois d'Amour 75016 PARIS"}]
[]
[null,null,null,null,null,null,"Ce formulaire doit être adressé à",null,{"$f":"Liste!$G$3","v":"Cabinet LEBON"}]
[null,null,null,null,null,null,null,null,{"$f":"Liste!$G$4","v":"120 rue du Devoir"}]
[null,null,null,null,null,null,null,null,{"$f":"Liste!$G$5","v":"75016 Paris"}]
[null,null,null,null,null,"Avant la date limite de réxception le",{"$f":"Liste!$E$5","v":"1 Novemvbre 2022"}]
[]
["Je soussigné('e):",{"$f":"Liste!$C37&\" \"&Liste!$D$37","v":"Monsieur HENRI   Paul"},null,null,{"$f":"Liste!A37","v":28}]
["domicilié(e) au",{"$f":"Liste!$E$37&\" \"&Liste!$F$37&\" \"&Liste!$G$37","v":"14 rue de l' espoir 75016 Paris "}]
[]
["après avoir pris connaissance de l' ordre du jour et des documents annexés  à la conocation ou"]
["mis à disposition sur le site en ligne sécurisé de la copropriété,"]
["souhaite émettre sur chacune des questions soumises à la délibération de l' assemblée générale "]
["des copropriétaires convoquée le",null,null,null,{"$f":"Liste!$E$3","v":"2022-11-05"},"à",{"$f":"E1573&\" \"&F1573","v":"10 Heures 15 rue du Bois d'Amour 75016 PARIS"}]
["Signature du Copropriétaire de l' associé ou du mandataire commun"]
[null,null,null,null,null,null,"Fait à le"]
[]
[1.01,"Election Président de séance","Mr Banchet",null,null,1,{"$f":"VLOOKUP(F1590,Liste!$B$179:$C$189,2)","v":"Charges générales   "},null,"Majorité Article 24",null,null,{"$f":"E1580","v":28},{"$f":"VLOOKUP(L1590,F.MERE!$A$14:$AA$163,16+F1590)","v":210}]
[]
[null,{"$f":"IF($M1590>0,\"\",\"NE PARTICIPE PAS                   XXXXXXXXXXXXX\")","v":""},null,null,"POUR",null,"CONTRE",null,"ABSTENTION",null,null,null,{"$f":"VLOOKUP($E$12,F.MERE!$A$14:$AA$163,16+F1591)","v":""}]
[]
[2.0099999999999998,"Election dfu Secrétaire","Mr Lafolie",null,null,1,{"$f":"VLOOKUP(F1594,Liste!$B$179:$C$189,2)","v":"Charges générales   "},null,"Majorité Article 24",null,null,{"$f":"E1580","v":28},{"$f":"VLOOKUP(L1594,F.MERE!$A$14:$AA$163,16+F1590)","v":210}]
[]
[null,{"$f":"IF($M1594>0,\"\",\"NE PARTICIPE PAS                   XXXXXXXXXXXXX\")","v":""},null,null,"POUR",null,"CONTRE",null,"ABSTENTION"]
[]
[3.01,"Election Scrutateur","Mr Berlier",null,null,1,{"$f":"VLOOKUP(F1598,Liste!$B$179:$C$189,2)","v":"Charges générales   "},null,"Majorité Article 24",null,null,{"$f":"E1580","v":28},{"$f":"VLOOKUP(L1598,F.MERE!$A$14:$AA$163,16+F1598)","v":210}]
[]
[null,{"$f":"IF($M1598>0,\"\",\"NE PARTICIPE PAS                   XXXXXXXXXXXXX\")","v":""},null,null,"POUR",null,"CONTRE",null,"ABSTENTION"]
[]
[4.01,"Conseiller Syndical","Mme Fournier",null,null,1,{"$f":"VLOOKUP(F1602,Liste!$B$179:$C$189,2)","v":"Charges générales   "},null,"Majorité Article 24",null,null,{"$f":"E1580","v":28},{"$f":"VLOOKUP(L1602,F.MERE!$A$14:$AA$163,16+F1602)","v":210}]
[]
[null,{"$f":"IF($M1602>0,\"\",\"NE PARTICIPE PAS                   XXXXXXXXXXXXX\")","v":""},null,null,"POUR",null,"CONTRE",null,"ABSTENTION"]
[]
[5.01,"Election Syndic","Cab;DUDULE",null,null,1,{"$f":"VLOOKUP(F1606,Liste!$B$179:$C$189,2)","v":"Charges générales   "},null,"Majorité Article 25",null,null,{"$f":"E1580","v":28},{"$f":"VLOOKUP(L1606,F.MERE!$A$14:$AA$163,16+F1606)","v":210}]
[]
[null,{"$f":"IF($M1606>0,\"\",\"NE PARTICIPE PAS                   XXXXXXXXXXXXX\")","v":""},null,null,"POUR",null,"CONTRE",null,"ABSTENTION"]
[]
[5.0199999999999996,"Election Syndic,2e vote","Cab;DUDULE",null,null,1,{"$f":"VLOOKUP(F1610,Liste!$B$179:$C$189,2)","v":"Charges générales   "},null,"Majorité Article 24",null,null,{"$f":"E1580","v":28},{"$f":"VLOOKUP(L1610,F.MERE!$A$14:$AA$163,16+F1610)","v":210}]
[]
[null,{"$f":"IF($M1610>0,\"\",\"NE PARTICIPE PAS                   XXXXXXXXXXXXX\")","v":""},null,null,"POUR",null,"CONTRE",null,"ABSTENTION"]
[]
[6.01,"Travaux BÄT B","Devis ABC",null,null,3,{"$f":"VLOOKUP(F1614,Liste!$B$179:$C$189,2)","v":"Chardes Bât,B"},null,"Majorité Article 26",null,null,{"$f":"E1580","v":28},{"$f":"VLOOKUP(L1614,F.MERE!$A$14:$AA$163,16+F1614)","v":0}]
[]
[null,{"$f":"IF($M1614>0,\"\",\"NE PARTICIPE PAS                   XXXXXXXXXXXXX\")","v":"NE PARTICIPE PAS                   XXXXXXXXXXXXX"},"XXXXXXXXXXXXX",null,"POUR",null,"CONTRE",null,"ABSTENTION"]
[]
[null,null,null,null,null,1,{"$f":"VLOOKUP(F1618,Liste!$B$179:$C$189,2)","v":"Charges générales   "},null,"Majorité Article 24",null,null,{"$f":"E1580","v":28},{"$f":"VLOOKUP(L1618,F.MERE!$A$14:$AA$163,16+F1618)","v":210}]
[]
[null,{"$f":"IF($M1618>0,\"\",\"NE PARTICIPE PAS                   XXXXXXXXXXXXX\")","v":""},null,null,"POUR",null,"CONTRE",null,"ABSTENTION"]
[]
[null,null,null,null,null,1,{"$f":"VLOOKUP(F1622,Liste!$B$179:$C$189,2)","v":"Charges générales   "},null,"Majorité Article 24",null,null,{"$f":"E1580","v":28},{"$f":"VLOOKUP(L1622,F.MERE!$A$14:$AA$163,16+F1622)","v":210}]
[]
[null,{"$f":"IF($M1622>0,\"\",\"NE PARTICIPE PAS                   XXXXXXXXXXXXX\")","v":""},null,null,"POUR",null,"CONTRE",null,"ABSTENTION",null,null,null,{"$f":"VLOOKUP($E$12,F.MERE!$A$14:$AA$163,16+F1623)","v":""}]
[]
["x"]
[{"$f":"Liste!$A$1","v":"Résid.LA JOIE"},null,null,null,null,null,null,null,"FORMULAIRE DE VOTE PAR CORRESPONDANCE"]
[{"$f":"Liste!$A$2","v":"120 rue de l' Espérance"},{"$f":"Liste!$A$2","v":"120 rue de l' Espérance"},null,null,null,null,null,null,null,"Page 1"]
[{"$f":"Liste!$A$3","v":75016},{"$f":"Liste!$A$3  & \" \" &Liste!$B$3","v":"75016 PARIS"}]
[null,null,null,null,null,null,null,"Assemblée Générale Ordinaire du",{"$f":"Liste!$E$3","v":"2022-11-05"}]
["Date et lieu",{"$f":"Liste!$E$3","v":"2022-11-05"},null,"à",{"$f":"Liste!$E$4","v":"10 Heures"},{"$f":"Liste!$E$2","v":"15 rue du Bois d'Amour 75016 PARIS"}]
[]
[null,null,null,null,null,null,"Ce formulaire doit être adressé à",null,{"$f":"Liste!$G$3","v":"Cabinet LEBON"}]
[null,null,null,null,null,null,null,null,{"$f":"Liste!$G$4","v":"120 rue du Devoir"}]
[null,null,null,null,null,null,null,null,{"$f":"Liste!$G$5","v":"75016 Paris"}]
[null,null,null,null,null,"Avant la date limite de réxception le",{"$f":"Liste!$E$5","v":"1 Novemvbre 2022"}]
[]
["Je soussigné('e):",{"$f":"Liste!$C38&\" \"&Liste!$D$38","v":"Madame ISIDORE Lucienne"},null,null,{"$f":"Liste!A38","v":29}]
["domicilié(e) au",{"$f":"Liste!$E$38&\" \"&Liste!$F$38&\" \"&Liste!$G$38","v":"15 rue de l' espoir 75016 Paris "}]
[]
["après avoir pris connaissance de l' ordre du jour et des documents annexés  à la conocation ou"]
["mis à disposition sur le site en ligne sécurisé de la copropriété,"]
["souhaite émettre sur chacune des questions soumises à la délibération de l' assemblée générale "]
["des copropriétaires convoquée le",null,null,null,{"$f":"Liste!$E$3","v":"2022-11-05"},"à",{"$f":"E1631&\" \"&F1631","v":"10 Heures 15 rue du Bois d'Amour 75016 PARIS"}]
["Signature du Copropriétaire de l' associé ou du mandataire commun"]
[null,null,null,null,null,null,"Fait à le"]
[]
[1.01,"Election Président de séance","Mr Banchet",null,null,1,{"$f":"VLOOKUP(F1648,Liste!$B$179:$C$189,2)","v":"Charges générales   "},null,"Majorité Article 24",null,null,{"$f":"E1638","v":29},{"$f":"VLOOKUP(L1648,F.MERE!$A$14:$AA$163,16+F1648)","v":110}]
[]
[null,{"$f":"IF($M1648>0,\"\",\"NE PARTICIPE PAS                   XXXXXXXXXXXXX\")","v":""},null,null,"POUR",null,"CONTRE",null,"ABSTENTION",null,null,null,{"$f":"VLOOKUP($E$12,F.MERE!$A$14:$AA$163,16+F1649)","v":""}]
[]
[2.0099999999999998,"Election dfu Secrétaire","Mr Lafolie",null,null,1,{"$f":"VLOOKUP(F1652,Liste!$B$179:$C$189,2)","v":"Charges générales   "},null,"Majorité Article 24",null,null,{"$f":"E1638","v":29},{"$f":"VLOOKUP(L1652,F.MERE!$A$14:$AA$163,16+F1648)","v":110}]
[]
[null,null,null,null,"POUR",null,"CONTRE",null,"ABSTENTION"]
[]
[3.01,"Election Scrutateur","Mr Berlier",null,null,1,{"$f":"VLOOKUP(F1656,Liste!$B$179:$C$189,2)","v":"Charges générales   "},null,"Majorité Article 24",null,null,{"$f":"E1638","v":29},{"$f":"VLOOKUP(L1656,F.MERE!$A$14:$AA$163,16+F1656)","v":110}]
[]
[null,null,null,null,"POUR",null,"CONTRE",null,"ABSTENTION"]
[]
[4.01,"Conseiller Syndical","Mme Fournier",null,null,1,{"$f":"VLOOKUP(F1660,Liste!$B$179:$C$189,2)","v":"Charges générales   "},null,"Majorité Article 24",null,null,{"$f":"E1638","v":29},{"$f":"VLOOKUP(L1660,F.MERE!$A$14:$AA$163,16+F1660)","v":110}]
[]
[null,{"$f":"IF($M1660>0,\"\",\"NE PARTICIPE PAS                   XXXXXXXXXXXXX\")","v":""},null,null,"POUR",null,"CONTRE",null,"ABSTENTION"]
[]
[5.01,"Election Syndic","Cab;DUDULE",null,null,1,{"$f":"VLOOKUP(F1664,Liste!$B$179:$C$189,2)","v":"Charges générales   "},null,"Majorité Article 25",null,null,{"$f":"E1638","v":29},{"$f":"VLOOKUP(L1664,F.MERE!$A$14:$AA$163,16+F1664)","v":110}]
[]
[null,{"$f":"IF($M1664>0,\"\",\"NE PARTICIPE PAS                   XXXXXXXXXXXXX\")","v":""},null,null,"POUR",null,"CONTRE",null,"ABSTENTION"]
[]
[5.0199999999999996,"Election Syndic,2e vote","Cab;DUDULE",null,null,1,{"$f":"VLOOKUP(F1668,Liste!$B$179:$C$189,2)","v":"Charges générales   "},null,"Majorité Article 24",null,null,{"$f":"E1638","v":29},{"$f":"VLOOKUP(L1668,F.MERE!$A$14:$AA$163,16+F1668)","v":110}]
[]
[null,{"$f":"IF($M1668>0,\"\",\"NE PARTICIPE PAS                   XXXXXXXXXXXXX\")","v":""},null,null,"POUR",null,"CONTRE",null,"ABSTENTION"]
[]
[6.01,"Travaux BÄT B","Devis ABC",null,null,3,{"$f":"VLOOKUP(F1672,Liste!$B$179:$C$189,2)","v":"Chardes Bât,B"},null,"Majorité Article 26",null,null,{"$f":"E1638","v":29},{"$f":"VLOOKUP(L1672,F.MERE!$A$14:$AA$163,16+F1672)","v":0}]
[]
[null,{"$f":"IF($M1672>0,\"\",\"NE PARTICIPE PAS                   XXXXXXXXXXXXX\")","v":"NE PARTICIPE PAS                   XXXXXXXXXXXXX"},"XXXXXXXXXXXXX",null,"POUR",null,"CONTRE",null,"ABSTENTION"]
[]
[null,null,null,null,null,1,{"$f":"VLOOKUP(F1676,Liste!$B$179:$C$189,2)","v":"Charges générales   "},null,"Majorité Article 24",null,null,{"$f":"E1638","v":29},{"$f":"VLOOKUP(L1676,F.MERE!$A$14:$AA$163,16+F1676)","v":110}]
[]
[null,{"$f":"IF($M1676>0,\"\",\"NE PARTICIPE PAS                   XXXXXXXXXXXXX\")","v":""},null,null,"POUR",null,"CONTRE",null,"ABSTENTION"]
[]
[null,null,null,null,null,1,{"$f":"VLOOKUP(F1680,Liste!$B$179:$C$189,2)","v":"Charges générales   "},null,"Majorité Article 24",null,null,{"$f":"E1638","v":29},{"$f":"VLOOKUP(L1680,F.MERE!$A$14:$AA$163,16+F1680)","v":110}]
[]
[null,{"$f":"IF($M1680>0,\"\",\"NE PARTICIPE PAS                   XXXXXXXXXXXXX\")","v":""},null,null,"POUR",null,"CONTRE",null,"ABSTENTION",null,null,null,{"$f":"VLOOKUP($E$12,F.MERE!$A$14:$AA$163,16+F1681)","v":""}]
[]
["x"]
[{"$f":"Liste!$A$1","v":"Résid.LA JOIE"},null,null,null,null,null,null,null,"FORMULAIRE DE VOTE PAR CORRESPONDANCE"]
[{"$f":"Liste!$A$2","v":"120 rue de l' Espérance"},{"$f":"Liste!$A$2","v":"120 rue de l' Espérance"},null,null,null,null,null,null,null,"Page 1"]
[{"$f":"Liste!$A$3","v":75016},{"$f":"Liste!$A$3  & \" \" &Liste!$B$3","v":"75016 PARIS"}]
[null,null,null,null,null,null,null,"Assemblée Générale Ordinaire du",{"$f":"Liste!$E$3","v":"2022-11-05"}]
["Date et lieu",{"$f":"Liste!$E$3","v":"2022-11-05"},null,"à",{"$f":"Liste!$E$4","v":"10 Heures"},{"$f":"Liste!$E$2","v":"15 rue du Bois d'Amour 75016 PARIS"}]
[]
[null,null,null,null,null,null,"Ce formulaire doit être adressé à",null,{"$f":"Liste!$G$3","v":"Cabinet LEBON"}]
[null,null,null,null,null,null,null,null,{"$f":"Liste!$G$4","v":"120 rue du Devoir"}]
[null,null,null,null,null,null,null,null,{"$f":"Liste!$G$5","v":"75016 Paris"}]
[null,null,null,null,null,"Avant la date limite de réxception le",{"$f":"Liste!$E$5","v":"1 Novemvbre 2022"}]
[]
["Je soussigné('e):",{"$f":"Liste!$C$39&\" \"&Liste!$D$39","v":"Monsieur JARGON Emile"},null,null,{"$f":"Liste!A39","v":30}]
["domicilié(e) au",{"$f":"Liste!$E$39&\" \"&Liste!$F$39&\" \"&Liste!$G$39","v":"16 rue de l' espoir 75016 Paris "}]
[]
["après avoir pris connaissance de l' ordre du jour et des documents annexés  à la conocation ou"]
["mis à disposition sur le site en ligne sécurisé de la copropriété,"]
["souhaite émettre sur chacune des questions soumises à la délibération de l' assemblée générale "]
["des copropriétaires convoquée le",null,null,null,{"$f":"Liste!$E$3","v":"2022-11-05"},"à",{"$f":"E1689&\" \"&F1689","v":"10 Heures 15 rue du Bois d'Amour 75016 PARIS"}]
["Signature du Copropriétaire de l' associé ou du mandataire commun"]
[null,null,null,null,null,null,"Fait à le"]
[]
[1.01,"Election Président de séance","Mr Banchet",null,null,1,{"$f":"VLOOKUP(F1706,Liste!$B$179:$C$189,2)","v":"Charges générales   "},null,"Majorité Article 24",null,null,{"$f":"E1696","v":30},{"$f":"VLOOKUP(L1706,F.MERE!$A$14:$AA$163,16+F1706)","v":130}]
[]
[null,{"$f":"IF($M1706>0,\"\",\"NE PARTICIPE PAS                   XXXXXXXXXXXXX\")","v":""},null,null,"POUR",null,"CONTRE",null,"ABSTENTION",null,null,null,{"$f":"VLOOKUP($E$12,F.MERE!$A$14:$AA$163,16+F1707)","v":""}]
[]
[2.0099999999999998,"Election dfu Secrétaire","Mr Lafolie",null,null,1,{"$f":"VLOOKUP(F1710,Liste!$B$179:$C$189,2)","v":"Charges générales   "},null,"Majorité Article 24",null,null,{"$f":"E1696","v":30},{"$f":"VLOOKUP(L1710,F.MERE!$A$14:$AA$163,16+F1706)","v":130}]
[]
[null,null,null,null,"POUR",null,"CONTRE",null,"ABSTENTION"]
[]
[3.01,"Election Scrutateur","Mr Berlier",null,null,1,{"$f":"VLOOKUP(F1714,Liste!$B$179:$C$189,2)","v":"Charges générales   "},null,"Majorité Article 24",null,null,{"$f":"E1696","v":30},{"$f":"VLOOKUP(L1714,F.MERE!$A$14:$AA$163,16+F1714)","v":130}]
[]
[null,null,null,null,"POUR",null,"CONTRE",null,"ABSTENTION"]
[]
[4.01,"Conseiller Syndical","Mme Fournier",null,null,1,{"$f":"VLOOKUP(F1718,Liste!$B$179:$C$189,2)","v":"Charges générales   "},null,"Majorité Article 24",null,null,{"$f":"E1696","v":30},{"$f":"VLOOKUP(L1718,F.MERE!$A$14:$AA$163,16+F1718)","v":130}]
[]
[null,{"$f":"IF($M1718>0,\"\",\"NE PARTICIPE PAS                   XXXXXXXXXXXXX\")","v":""},null,null,"POUR",null,"CONTRE",null,"ABSTENTION"]
[]
[5.01,"Election Syndic","Cab;DUDULE",null,null,1,{"$f":"VLOOKUP(F1722,Liste!$B$179:$C$189,2)","v":"Charges générales   "},null,"Majorité Article 25",null,null,{"$f":"E1696","v":30},{"$f":"VLOOKUP(L1722,F.MERE!$A$14:$AA$163,16+F1722)","v":130}]
[]
[null,{"$f":"IF($M1722>0,\"\",\"NE PARTICIPE PAS                   XXXXXXXXXXXXX\")","v":""},null,null,"POUR",null,"CONTRE",null,"ABSTENTION"]
[]
[5.0199999999999996,"Election Syndic,2e vote","Cab;DUDULE",null,null,1,{"$f":"VLOOKUP(F1726,Liste!$B$179:$C$189,2)","v":"Charges générales   "},null,"Majorité Article 24",null,null,{"$f":"E1696","v":30},{"$f":"VLOOKUP(L1726,F.MERE!$A$14:$AA$163,16+F1726)","v":130}]
[]
[null,{"$f":"IF($M1726>0,\"\",\"NE PARTICIPE PAS                   XXXXXXXXXXXXX\")","v":""},null,null,"POUR",null,"CONTRE",null,"ABSTENTION"]
[]
[6.01,"Travaux BÄT B","Devis ABC",null,null,3,{"$f":"VLOOKUP(F1730,Liste!$B$179:$C$189,2)","v":"Chardes Bât,B"},null,"Majorité Article 26",null,null,{"$f":"E1696","v":30},{"$f":"VLOOKUP(L1730,F.MERE!$A$14:$AA$163,16+F1730)","v":0}]
[]
[null,{"$f":"IF($M1730>0,\"\",\"NE PARTICIPE PAS                   XXXXXXXXXXXXX\")","v":"NE PARTICIPE PAS                   XXXXXXXXXXXXX"},"XXXXXXXXXXXXX",null,"POUR",null,"CONTRE",null,"ABSTENTION"]
[]
[null,null,null,null,null,1,{"$f":"VLOOKUP(F1734,Liste!$B$179:$C$189,2)","v":"Charges générales   "},null,"Majorité Article 24",null,null,{"$f":"E1696","v":30},{"$f":"VLOOKUP(L1734,F.MERE!$A$14:$AA$163,16+F1734)","v":130}]
[]
[null,{"$f":"IF($M1734>0,\"\",\"NE PARTICIPE PAS                   XXXXXXXXXXXXX\")","v":""},null,null,"POUR",null,"CONTRE",null,"ABSTENTION"]
[]
[null,null,null,null,null,1,{"$f":"VLOOKUP(F1738,Liste!$B$179:$C$189,2)","v":"Charges générales   "},null,"Majorité Article 24",null,null,{"$f":"E1696","v":30},{"$f":"VLOOKUP(L1738,F.MERE!$A$14:$AA$163,16+F1738)","v":130}]
[]
[null,{"$f":"IF($M1738>0,\"\",\"NE PARTICIPE PAS                   XXXXXXXXXXXXX\")","v":""},null,null,"POUR",null,"CONTRE",null,"ABSTENTION",null,null,null,{"$f":"VLOOKUP($E$12,F.MERE!$A$14:$AA$163,16+F1739)","v":""}]
[]
["x"]
[{"$f":"Liste!$A$1","v":"Résid.LA JOIE"},null,null,null,null,null,null,null,"FORMULAIRE DE VOTE PAR CORRESPONDANCE"]
[{"$f":"Liste!$A$2","v":"120 rue de l' Espérance"},{"$f":"Liste!$A$2","v":"120 rue de l' Espérance"},null,null,null,null,null,null,null,"Page 1"]
[{"$f":"Liste!$A$3","v":75016},{"$f":"Liste!$A$3  & \" \" &Liste!$B$3","v":"75016 PARIS"}]
[null,null,null,null,null,null,null,"Assemblée Générale Ordinaire du",{"$f":"Liste!$E$3","v":"2022-11-05"}]
["Date et lieu",{"$f":"Liste!$E$3","v":"2022-11-05"},null,"à",{"$f":"Liste!$E$4","v":"10 Heures"},{"$f":"Liste!$E$2","v":"15 rue du Bois d'Amour 75016 PARIS"}]
[]
[null,null,null,null,null,null,"Ce formulaire doit être adressé à",null,{"$f":"Liste!$G$3","v":"Cabinet LEBON"}]
[null,null,null,null,null,null,null,null,{"$f":"Liste!$G$4","v":"120 rue du Devoir"}]
[null,null,null,null,null,null,null,null,{"$f":"Liste!$G$5","v":"75016 Paris"}]
[null,null,null,null,null,"Avant la date limite de réxception le",{"$f":"Liste!$E$5","v":"1 Novemvbre 2022"}]
[]
["Je soussigné('e):",{"$f":"Liste!$C$40&\" \"&Liste!$D$40","v":"Monsieur LOUISON Albert"},null,null,{"$f":"Liste!A40","v":31}]
["domicilié(e) au",{"$f":"Liste!$E$40&\" \"&Liste!$F$40&\" \"&Liste!$G$40","v":"17 rue de l' espoir 75016 Paris "}]
[]
["après avoir pris connaissance de l' ordre du jour et des documents annexés  à la conocation ou"]
["mis à disposition sur le site en ligne sécurisé de la copropriété,"]
["souhaite émettre sur chacune des questions soumises à la délibération de l' assemblée générale "]
["des copropriétaires convoquée le",null,null,null,{"$f":"Liste!$E$3","v":"2022-11-05"},"à",{"$f":"E1747&\" \"&F1747","v":"10 Heures 15 rue du Bois d'Amour 75016 PARIS"}]
["Signature du Copropriétaire de l' associé ou du mandataire commun"]
[null,null,null,null,null,null,"Fait à le"]
[]
[1.01,"Election Président de séance","Mr Banchet",null,null,1,{"$f":"VLOOKUP(F1764,Liste!$B$179:$C$189,2)","v":"Charges générales   "},null,"Majorité Article 24",null,null,{"$f":"E1754","v":31},{"$f":"VLOOKUP(L1764,F.MERE!$A$14:$AA$163,16+F1764)","v":220}]
[]
[null,{"$f":"IF($M1764>0,\"\",\"NE PARTICIPE PAS                   XXXXXXXXXXXXX\")","v":""},null,null,"POUR",null,"CONTRE",null,"ABSTENTION",null,null,null,{"$f":"VLOOKUP($E$12,F.MERE!$A$14:$AA$163,16+F1765)","v":""}]
[]
[2.0099999999999998,"Election dfu Secrétaire","Mr Lafolie",null,null,1,{"$f":"VLOOKUP(F1768,Liste!$B$179:$C$189,2)","v":"Charges générales   "},null,"Majorité Article 24",null,null,{"$f":"E1754","v":31},{"$f":"VLOOKUP(L1768,F.MERE!$A$14:$AA$163,16+F1764)","v":220}]
[]
[null,null,null,null,"POUR",null,"CONTRE",null,"ABSTENTION"]
[]
[3.01,"Election Scrutateur","Mr Berlier",null,null,1,{"$f":"VLOOKUP(F1772,Liste!$B$179:$C$189,2)","v":"Charges générales   "},null,"Majorité Article 24",null,null,{"$f":"E1754","v":31},{"$f":"VLOOKUP(L1772,F.MERE!$A$14:$AA$163,16+F1772)","v":220}]
[]
[null,null,null,null,"POUR",null,"CONTRE",null,"ABSTENTION"]
[]
[4.01,"Conseiller Syndical","Mme Fournier",null,null,1,{"$f":"VLOOKUP(F1776,Liste!$B$179:$C$189,2)","v":"Charges générales   "},null,"Majorité Article 24",null,null,{"$f":"E1754","v":31},{"$f":"VLOOKUP(L1776,F.MERE!$A$14:$AA$163,16+F1776)","v":220}]
[]
[null,{"$f":"IF($M1776>0,\"\",\"NE PARTICIPE PAS                   XXXXXXXXXXXXX\")","v":""},null,null,"POUR",null,"CONTRE",null,"ABSTENTION"]
[]
[5.01,"Election Syndic","Cab;DUDULE",null,null,1,{"$f":"VLOOKUP(F1780,Liste!$B$179:$C$189,2)","v":"Charges générales   "},null,"Majorité Article 25",null,null,{"$f":"E1754","v":31},{"$f":"VLOOKUP(L1780,F.MERE!$A$14:$AA$163,16+F1780)","v":220}]
[]
[null,{"$f":"IF($M1780>0,\"\",\"NE PARTICIPE PAS                   XXXXXXXXXXXXX\")","v":""},null,null,"POUR",null,"CONTRE",null,"ABSTENTION"]
[]
[5.0199999999999996,"Election Syndic,2e vote","Cab;DUDULE",null,null,1,{"$f":"VLOOKUP(F1784,Liste!$B$179:$C$189,2)","v":"Charges générales   "},null,"Majorité Article 24",null,null,{"$f":"E1754","v":31},{"$f":"VLOOKUP(L1784,F.MERE!$A$14:$AA$163,16+F1784)","v":220}]
[]
[null,{"$f":"IF($M1784>0,\"\",\"NE PARTICIPE PAS                   XXXXXXXXXXXXX\")","v":""},null,null,"POUR",null,"CONTRE",null,"ABSTENTION"]
[]
[6.01,"Travaux BÄT B","Devis ABC",null,null,3,{"$f":"VLOOKUP(F1788,Liste!$B$179:$C$189,2)","v":"Chardes Bât,B"},null,"Majorité Article 26",null,null,{"$f":"E1754","v":31},{"$f":"VLOOKUP(L1788,F.MERE!$A$14:$AA$163,16+F1788)","v":0}]
[]
[null,{"$f":"IF($M1788>0,\"\",\"NE PARTICIPE PAS                   XXXXXXXXXXXXX\")","v":"NE PARTICIPE PAS                   XXXXXXXXXXXXX"},"XXXXXXXXXXXXX",null,"POUR",null,"CONTRE",null,"ABSTENTION"]
[]
[null,null,null,null,null,1,{"$f":"VLOOKUP(F1792,Liste!$B$179:$C$189,2)","v":"Charges générales   "},null,"Majorité Article 24",null,null,{"$f":"E1754","v":31},{"$f":"VLOOKUP(L1792,F.MERE!$A$14:$AA$163,16+F1792)","v":220}]
[]
[null,{"$f":"IF($M1792>0,\"\",\"NE PARTICIPE PAS                   XXXXXXXXXXXXX\")","v":""},null,null,"POUR",null,"CONTRE",null,"ABSTENTION"]
[]
[null,null,null,null,null,1,{"$f":"VLOOKUP(F1796,Liste!$B$179:$C$189,2)","v":"Charges générales   "},null,"Majorité Article 24",null,null,{"$f":"E1754","v":31},{"$f":"VLOOKUP(L1796,F.MERE!$A$14:$AA$163,16+F1796)","v":220}]
[]
[null,{"$f":"IF($M1796>0,\"\",\"NE PARTICIPE PAS                   XXXXXXXXXXXXX\")","v":""},null,null,"POUR",null,"CONTRE",null,"ABSTENTION",null,null,null,{"$f":"VLOOKUP($E$12,F.MERE!$A$14:$AA$163,16+F1797)","v":""}]
[]
["x"]
[{"$f":"Liste!$A$1","v":"Résid.LA JOIE"},null,null,null,null,null,null,null,"FORMULAIRE DE VOTE PAR CORRESPONDANCE"]
[{"$f":"Liste!$A$2","v":"120 rue de l' Espérance"},{"$f":"Liste!$A$2","v":"120 rue de l' Espérance"},null,null,null,null,null,null,null,"Page 1"]
[{"$f":"Liste!$A$3","v":75016},{"$f":"Liste!$A$3  & \" \" &Liste!$B$3","v":"75016 PARIS"}]
[null,null,null,null,null,null,null,"Assemblée Générale Ordinaire du",{"$f":"Liste!$E$3","v":"2022-11-05"}]
["Date et lieu",{"$f":"Liste!$E$3","v":"2022-11-05"},null,"à",{"$f":"Liste!$E$4","v":"10 Heures"},{"$f":"Liste!$E$2","v":"15 rue du Bois d'Amour 75016 PARIS"}]
[]
[null,null,null,null,null,null,"Ce formulaire doit être adressé à",null,{"$f":"Liste!$G$3","v":"Cabinet LEBON"}]
[null,null,null,null,null,null,null,null,{"$f":"Liste!$G$4","v":"120 rue du Devoir"}]
[null,null,null,null,null,null,null,null,{"$f":"Liste!$G$5","v":"75016 Paris"}]
[null,null,null,null,null,"Avant la date limite de réxception le",{"$f":"Liste!$E$5","v":"1 Novemvbre 2022"}]
[]
["Je soussigné('e):",{"$f":"Liste!$C419&\" \"&Liste!$D$41","v":" MARTIN Nicole"},null,null,{"$f":"Liste!A41","v":32}]
["domicilié(e) au",{"$f":"Liste!$E41&\" \"&Liste!$F$41&\" \"&Liste!$G$41","v":"30 rue Pasteur 33200 Bordeaux"}]
[]
["après avoir pris connaissance de l' ordre du jour et des documents annexés  à la conocation ou"]
["mis à disposition sur le site en ligne sécurisé de la copropriété,"]
["souhaite émettre sur chacune des questions soumises à la délibération de l' assemblée générale "]
["des copropriétaires convoquée le",null,null,null,{"$f":"Liste!$E$3","v":"2022-11-05"},"à",{"$f":"E1805&\" \"&F1805","v":"10 Heures 15 rue du Bois d'Amour 75016 PARIS"}]
["Signature du Copropriétaire de l' associé ou du mandataire commun"]
[null,null,null,null,null,null,"Fait à le"]
[]
[1.01,"Election Président de séance","Mr Banchet",null,null,1,{"$f":"VLOOKUP(F1822,Liste!$B$179:$C$189,2)","v":"Charges générales   "},null,"Majorité Article 24",null,null,{"$f":"E1812","v":32},{"$f":"VLOOKUP(L1822,F.MERE!$A$14:$AA$163,16+F1822)","v":100}]
[]
[null,{"$f":"IF($M1822>0,\"\",\"NE PARTICIPE PAS                   XXXXXXXXXXXXX\")","v":""},null,null,"POUR",null,"CONTRE",null,"ABSTENTION",null,null,null,{"$f":"VLOOKUP($E$12,F.MERE!$A$14:$AA$163,16+F1823)","v":""}]
[]
[2.0099999999999998,"Election dfu Secrétaire","Mr Lafolie",null,null,1,{"$f":"VLOOKUP(F1826,Liste!$B$179:$C$189,2)","v":"Charges générales   "},null,"Majorité Article 24",null,null,{"$f":"E1812","v":32},{"$f":"VLOOKUP(L1826,F.MERE!$A$14:$AA$163,16+F1822)","v":100}]
[]
[null,null,null,null,"POUR",null,"CONTRE",null,"ABSTENTION"]
[]
[3.01,"Election Scrutateur","Mr Berlier",null,null,1,{"$f":"VLOOKUP(F1830,Liste!$B$179:$C$189,2)","v":"Charges générales   "},null,"Majorité Article 24",null,null,{"$f":"E1812","v":32},{"$f":"VLOOKUP(L1830,F.MERE!$A$14:$AA$163,16+F1830)","v":100}]
[]
[null,null,null,null,"POUR",null,"CONTRE",null,"ABSTENTION"]
[]
[4.01,"Conseiller Syndical","Mme Fournier",null,null,1,{"$f":"VLOOKUP(F1834,Liste!$B$179:$C$189,2)","v":"Charges générales   "},null,"Majorité Article 24",null,null,{"$f":"E1812","v":32},{"$f":"VLOOKUP(L1834,F.MERE!$A$14:$AA$163,16+F1834)","v":100}]
[]
[null,{"$f":"IF($M1834>0,\"\",\"NE PARTICIPE PAS                   XXXXXXXXXXXXX\")","v":""},null,null,"POUR",null,"CONTRE",null,"ABSTENTION"]
[]
[5.01,"Election Syndic","Cab;DUDULE",null,null,1,{"$f":"VLOOKUP(F1838,Liste!$B$179:$C$189,2)","v":"Charges générales   "},null,"Majorité Article 25",null,null,{"$f":"E1812","v":32},{"$f":"VLOOKUP(L1838,F.MERE!$A$14:$AA$163,16+F1838)","v":100}]
[]
[null,{"$f":"IF($M1838>0,\"\",\"NE PARTICIPE PAS                   XXXXXXXXXXXXX\")","v":""},null,null,"POUR",null,"CONTRE",null,"ABSTENTION"]
[]
[5.0199999999999996,"Election Syndic,2e vote","Cab;DUDULE",null,null,1,{"$f":"VLOOKUP(F1842,Liste!$B$179:$C$189,2)","v":"Charges générales   "},null,"Majorité Article 24",null,null,{"$f":"E1812","v":32},{"$f":"VLOOKUP(L1842,F.MERE!$A$14:$AA$163,16+F1842)","v":100}]
[]
[null,{"$f":"IF($M1842>0,\"\",\"NE PARTICIPE PAS                   XXXXXXXXXXXXX\")","v":""},null,null,"POUR",null,"CONTRE",null,"ABSTENTION"]
[]
[6.01,"Travaux BÄT B","Devis ABC",null,null,3,{"$f":"VLOOKUP(F1846,Liste!$B$179:$C$189,2)","v":"Chardes Bât,B"},null,"Majorité Article 26",null,null,{"$f":"E1812","v":32},{"$f":"VLOOKUP(L1846,F.MERE!$A$14:$AA$163,16+F1846)","v":0}]
[]
[null,{"$f":"IF($M1846>0,\"\",\"NE PARTICIPE PAS                   XXXXXXXXXXXXX\")","v":"NE PARTICIPE PAS                   XXXXXXXXXXXXX"},"XXXXXXXXXXXXX",null,"POUR",null,"CONTRE",null,"ABSTENTION"]
[]
[null,null,null,null,null,1,{"$f":"VLOOKUP(F1850,Liste!$B$179:$C$189,2)","v":"Charges générales   "},null,"Majorité Article 24",null,null,{"$f":"E1812","v":32},{"$f":"VLOOKUP(L1850,F.MERE!$A$14:$AA$163,16+F1850)","v":100}]
[]
[null,{"$f":"IF($M1850>0,\"\",\"NE PARTICIPE PAS                   XXXXXXXXXXXXX\")","v":""},null,null,"POUR",null,"CONTRE",null,"ABSTENTION"]
[]
[null,null,null,null,null,1,{"$f":"VLOOKUP(F1854,Liste!$B$179:$C$189,2)","v":"Charges générales   "},null,"Majorité Article 24",null,null,{"$f":"E1812","v":32},{"$f":"VLOOKUP(L1854,F.MERE!$A$14:$AA$163,16+F1854)","v":100}]
[]
[null,{"$f":"IF($M1854>0,\"\",\"NE PARTICIPE PAS                   XXXXXXXXXXXXX\")","v":""},null,null,"POUR",null,"CONTRE",null,"ABSTENTION",null,null,null,{"$f":"VLOOKUP($E$12,F.MERE!$A$14:$AA$163,16+F1855)","v":""}]
[]
["x"]
[{"$f":"Liste!$A$1","v":"Résid.LA JOIE"},null,null,null,null,null,null,null,"FORMULAIRE DE VOTE PAR CORRESPONDANCE"]
[{"$f":"Liste!$A$2","v":"120 rue de l' Espérance"},{"$f":"Liste!$A$2","v":"120 rue de l' Espérance"},null,null,null,null,null,null,null,"Page 1"]
[{"$f":"Liste!$A$3","v":75016},{"$f":"Liste!$A$3  & \" \" &Liste!$B$3","v":"75016 PARIS"}]
[null,null,null,null,null,null,null,"Assemblée Générale Ordinaire du",{"$f":"Liste!$E$3","v":"2022-11-05"}]
["Date et lieu",{"$f":"Liste!$E$3","v":"2022-11-05"},null,"à",{"$f":"Liste!$E$4","v":"10 Heures"},{"$f":"Liste!$E$2","v":"15 rue du Bois d'Amour 75016 PARIS"}]
[]
[null,null,null,null,null,null,"Ce formulaire doit être adressé à",null,{"$f":"Liste!$G$3","v":"Cabinet LEBON"}]
[null,null,null,null,null,null,null,null,{"$f":"Liste!$G$4","v":"120 rue du Devoir"}]
[null,null,null,null,null,null,null,null,{"$f":"Liste!$G$5","v":"75016 Paris"}]
[null,null,null,null,null,"Avant la date limite de réxception le",{"$f":"Liste!$E$5","v":"1 Novemvbre 2022"}]
[]
["Je soussigné('e):",{"$f":"Liste!$C477&\" \"&Liste!$D$41","v":" MARTIN Nicole"},null,null,33]
["domicilié(e) au",{"$f":"Liste!$E99&\" \"&Liste!$F$41&\" \"&Liste!$G$41","v":" 33200 Bordeaux"}]
[]
["après avoir pris connaissance de l' ordre du jour et des documents annexés  à la conocation ou"]
["mis à disposition sur le site en ligne sécurisé de la copropriété,"]
["souhaite émettre sur chacune des questions soumises à la délibération de l' assemblée générale "]
["des copropriétaires convoquée le",null,null,null,{"$f":"Liste!$E$3","v":"2022-11-05"},"à",{"$f":"E1863&\" \"&F1863","v":"10 Heures 15 rue du Bois d'Amour 75016 PARIS"}]
["Signature du Copropriétaire de l' associé ou du mandataire commun"]
[null,null,null,null,null,null,"Fait à le"]
[]
[1.01,"Election Président de séance","Mr Banchet",null,null,1,{"$f":"VLOOKUP(F1880,Liste!$B$179:$C$189,2)","v":"Charges générales   "},null,"Majorité Article 24",null,null,{"$f":"E1870","v":33},{"$f":"VLOOKUP(L1880,F.MERE!$A$14:$AA$163,16+F1880)","v":180}]
[]
[null,{"$f":"IF($M1880>0,\"\",\"NE PARTICIPE PAS                   XXXXXXXXXXXXX\")","v":""},null,null,"POUR",null,"CONTRE",null,"ABSTENTION",null,null,null,{"$f":"VLOOKUP($E$12,F.MERE!$A$14:$AA$163,16+F1881)","v":""}]
[]
[2.0099999999999998,"Election dfu Secrétaire","Mr Lafolie",null,null,1,{"$f":"VLOOKUP(F1884,Liste!$B$179:$C$189,2)","v":"Charges générales   "},null,"Majorité Article 24",null,null,{"$f":"E1870","v":33},{"$f":"VLOOKUP(L1884,F.MERE!$A$14:$AA$163,16+F1884)","v":180}]
[]
[null,null,null,null,"POUR",null,"CONTRE",null,"ABSTENTION"]
[]
[3.01,"Election Scrutateur","Mr Berlier",null,null,1,{"$f":"VLOOKUP(F1888,Liste!$B$179:$C$189,2)","v":"Charges générales   "},null,"Majorité Article 24",null,null,{"$f":"E1870","v":33},{"$f":"VLOOKUP(L1888,F.MERE!$A$14:$AA$163,16+F1888)","v":180}]
[]
[null,null,null,null,"POUR",null,"CONTRE",null,"ABSTENTION"]
[]
[4.01,"Conseiller Syndical","Mme Fournier",null,null,1,{"$f":"VLOOKUP(F1892,Liste!$B$179:$C$189,2)","v":"Charges générales   "},null,"Majorité Article 24",null,null,{"$f":"E1870","v":33},{"$f":"VLOOKUP(L1892,F.MERE!$A$14:$AA$163,16+F1892)","v":180}]
[]
[null,{"$f":"IF($M1892>0,\"\",\"NE PARTICIPE PAS                   XXXXXXXXXXXXX\")","v":""},null,null,"POUR",null,"CONTRE",null,"ABSTENTION"]
[]
[5.01,"Election Syndic","Cab;DUDULE",null,null,1,{"$f":"VLOOKUP(F1896,Liste!$B$179:$C$189,2)","v":"Charges générales   "},null,"Majorité Article 25",null,null,{"$f":"E1870","v":33},{"$f":"VLOOKUP(L1896,F.MERE!$A$14:$AA$163,16+F1896)","v":180}]
[]
[null,{"$f":"IF($M1896>0,\"\",\"NE PARTICIPE PAS                   XXXXXXXXXXXXX\")","v":""},null,null,"POUR",null,"CONTRE",null,"ABSTENTION"]
[]
[5.0199999999999996,"Election Syndic,2e vote","Cab;DUDULE",null,null,5,{"$f":"VLOOKUP(F1900,Liste!$B$179:$C$189,2)","v":"Ch,5"},null,"Majorité Article 24",null,null,{"$f":"E1870","v":33},{"$f":"VLOOKUP(L1900,F.MERE!$A$14:$AA$163,16+F1900)","v":0}]
[]
[null,{"$f":"IF($M1900>0,\"\",\"NE PARTICIPE PAS                   XXXXXXXXXXXXX\")","v":"NE PARTICIPE PAS                   XXXXXXXXXXXXX"},null,null,"POUR",null,"CONTRE",null,"ABSTENTION"]
[]
[6.01,"Travaux BÄT B","Devis ABC",null,null,3,{"$f":"VLOOKUP(F1904,Liste!$B$179:$C$189,2)","v":"Chardes Bât,B"},null,"Majorité Article 26",null,null,{"$f":"E1870","v":33},{"$f":"VLOOKUP(L1904,F.MERE!$A$14:$AA$163,16+F1904)","v":0}]
[]
[null,{"$f":"IF($M1904>0,\"\",\"NE PARTICIPE PAS                   XXXXXXXXXXXXX\")","v":"NE PARTICIPE PAS                   XXXXXXXXXXXXX"},"XXXXXXXXXXXXX",null,"POUR",null,"CONTRE",null,"ABSTENTION"]
[]
[null,null,null,null,null,1,{"$f":"VLOOKUP(F1908,Liste!$B$179:$C$189,2)","v":"Charges générales   "},null,"Majorité Article 24",null,null,{"$f":"E1870","v":33},{"$f":"VLOOKUP(L1908,F.MERE!$A$14:$AA$163,16+F1908)","v":180}]
[]
[null,{"$f":"IF($M1908>0,\"\",\"NE PARTICIPE PAS                   XXXXXXXXXXXXX\")","v":""},null,null,"POUR",null,"CONTRE",null,"ABSTENTION"]
[]
[null,null,null,null,null,1,{"$f":"VLOOKUP(F1912,Liste!$B$179:$C$189,2)","v":"Charges générales   "},null,"Majorité Article 24",null,null,{"$f":"E1870","v":33},{"$f":"VLOOKUP(L1912,F.MERE!$A$14:$AA$163,16+F1912)","v":180}]
[]
[null,{"$f":"IF($M1912>0,\"\",\"NE PARTICIPE PAS                   XXXXXXXXXXXXX\")","v":""},null,null,"POUR",null,"CONTRE",null,"ABSTENTION",null,null,null,{"$f":"VLOOKUP($E$12,F.MERE!$A$14:$AA$163,16+F1913)","v":""}]
[]
["x"]
[{"$f":"Liste!$A$1","v":"Résid.LA JOIE"},null,null,null,null,null,null,null,"FORMULAIRE DE VOTE PAR CORRESPONDANCE"]
[{"$f":"Liste!$A$2","v":"120 rue de l' Espérance"},{"$f":"Liste!$A$2","v":"120 rue de l' Espérance"},null,null,null,null,null,null,null,"Page 1"]
[{"$f":"Liste!$A$3","v":75016},{"$f":"Liste!$A$3  & \" \" &Liste!$B$3","v":"75016 PARIS"}]
[null,null,null,null,null,null,null,"Assemblée Générale Ordinaire du",{"$f":"Liste!$E$3","v":"2022-11-05"}]
["Date et lieu",{"$f":"Liste!$E$3","v":"2022-11-05"},null,"à",{"$f":"Liste!$E$4","v":"10 Heures"},{"$f":"Liste!$E$2","v":"15 rue du Bois d'Amour 75016 PARIS"}]
[]
[null,null,null,null,null,null,"Ce formulaire doit être adressé à",null,{"$f":"Liste!$G$3","v":"Cabinet LEBON"}]
[null,null,null,null,null,null,null,null,{"$f":"Liste!$G$4","v":"120 rue du Devoir"}]
[null,null,null,null,null,null,null,null,{"$f":"Liste!$G$5","v":"75016 Paris"}]
[null,null,null,null,null,"Avant la date limite de réxception le",{"$f":"Liste!$E$5","v":"1 Novemvbre 2022"}]
[]
["Je soussigné('e):",{"$f":"Liste!$C535&\" \"&Liste!$D$41","v":" MARTIN Nicole"},null,null,34]
["domicilié(e) au",{"$f":"Liste!$E157&\" \"&Liste!$F$41&\" \"&Liste!$G$41","v":" 33200 Bordeaux"}]
[]
["après avoir pris connaissance de l' ordre du jour et des documents annexés  à la conocation ou"]
["mis à disposition sur le site en ligne sécurisé de la copropriété,"]
["souhaite émettre sur chacune des questions soumises à la délibération de l' assemblée générale "]
["des copropriétaires convoquée le",null,null,null,{"$f":"Liste!$E$3","v":"2022-11-05"},"à",{"$f":"E1921&\" \"&F1921","v":"10 Heures 15 rue du Bois d'Amour 75016 PARIS"}]
["Signature du Copropriétaire de l' associé ou du mandataire commun"]
[null,null,null,null,null,null,"Fait à le"]
[]
[1.01,"Election Président de séance","Mr Banchet",null,null,1,{"$f":"VLOOKUP(F1938,Liste!$B$179:$C$189,2)","v":"Charges générales   "},null,"Majorité Article 24",null,null,{"$f":"E1928","v":34},{"$f":"VLOOKUP(L1938,F.MERE!$A$14:$AA$163,16+F1938)","v":210}]
[]
[null,{"$f":"IF($M1938>0,\"\",\"NE PARTICIPE PAS                   XXXXXXXXXXXXX\")","v":""},null,null,"POUR",null,"CONTRE",null,"ABSTENTION",null,null,null,{"$f":"VLOOKUP($E$12,F.MERE!$A$14:$AA$163,16+F1939)","v":""}]
[]
[2.0099999999999998,"Election dfu Secrétaire","Mr Lafolie",null,null,1,{"$f":"VLOOKUP(F1942,Liste!$B$179:$C$189,2)","v":"Charges générales   "},null,"Majorité Article 24",null,null,{"$f":"E1928","v":34},{"$f":"VLOOKUP(L1942,F.MERE!$A$14:$AA$163,16+F1938)","v":210}]
[]
[null,null,null,null,"POUR",null,"CONTRE",null,"ABSTENTION"]
[]
[3.01,"Election Scrutateur","Mr Berlier",null,null,1,{"$f":"VLOOKUP(F1946,Liste!$B$179:$C$189,2)","v":"Charges générales   "},null,"Majorité Article 24",null,null,{"$f":"E1928","v":34},{"$f":"VLOOKUP(L1946,F.MERE!$A$14:$AA$163,16+F1946)","v":210}]
[]
[null,null,null,null,"POUR",null,"CONTRE",null,"ABSTENTION"]
[]
[4.01,"Conseiller Syndical","Mme Fournier",null,null,1,{"$f":"VLOOKUP(F1950,Liste!$B$179:$C$189,2)","v":"Charges générales   "},null,"Majorité Article 24",null,null,{"$f":"E1928","v":34},{"$f":"VLOOKUP(L1950,F.MERE!$A$14:$AA$163,16+F1950)","v":210}]
[]
[null,{"$f":"IF($M1950>0,\"\",\"NE PARTICIPE PAS                   XXXXXXXXXXXXX\")","v":""},null,null,"POUR",null,"CONTRE",null,"ABSTENTION"]
[]
[5.01,"Election Syndic","Cab;DUDULE",null,null,1,{"$f":"VLOOKUP(F1954,Liste!$B$179:$C$189,2)","v":"Charges générales   "},null,"Majorité Article 25",null,null,{"$f":"E1928","v":34},{"$f":"VLOOKUP(L1954,F.MERE!$A$14:$AA$163,16+F1954)","v":210}]
[]
[null,{"$f":"IF($M1954>0,\"\",\"NE PARTICIPE PAS                   XXXXXXXXXXXXX\")","v":""},null,null,"POUR",null,"CONTRE",null,"ABSTENTION"]
[]
[5.0199999999999996,"Election Syndic,2e vote","Cab;DUDULE",null,null,1,{"$f":"VLOOKUP(F1958,Liste!$B$179:$C$189,2)","v":"Charges générales   "},null,"Majorité Article 24",null,null,{"$f":"E1928","v":34},{"$f":"VLOOKUP(L1958,F.MERE!$A$14:$AA$163,16+F1958)","v":210}]
[]
[null,{"$f":"IF($M1958>0,\"\",\"NE PARTICIPE PAS                   XXXXXXXXXXXXX\")","v":""},null,null,"POUR",null,"CONTRE",null,"ABSTENTION"]
[]
[6.01,"Travaux BÄT B","Devis ABC",null,null,3,{"$f":"VLOOKUP(F1962,Liste!$B$179:$C$189,2)","v":"Chardes Bât,B"},null,"Majorité Article 26",null,null,{"$f":"E1928","v":34},{"$f":"VLOOKUP(L1962,F.MERE!$A$14:$AA$163,16+F1962)","v":0}]
[]
[null,{"$f":"IF($M1962>0,\"\",\"NE PARTICIPE PAS                   XXXXXXXXXXXXX\")","v":"NE PARTICIPE PAS                   XXXXXXXXXXXXX"},"XXXXXXXXXXXXX",null,"POUR",null,"CONTRE",null,"ABSTENTION"]
[]
[null,null,null,null,null,1,{"$f":"VLOOKUP(F1966,Liste!$B$179:$C$189,2)","v":"Charges générales   "},null,"Majorité Article 24",null,null,{"$f":"E1928","v":34},{"$f":"VLOOKUP(L1966,F.MERE!$A$14:$AA$163,16+F1966)","v":210}]
[]
[null,{"$f":"IF($M1966>0,\"\",\"NE PARTICIPE PAS                   XXXXXXXXXXXXX\")","v":""},null,null,"POUR",null,"CONTRE",null,"ABSTENTION"]
[]
[null,null,null,null,null,1,{"$f":"VLOOKUP(F1970,Liste!$B$179:$C$189,2)","v":"Charges générales   "},null,"Majorité Article 24",null,null,{"$f":"E1928","v":34},{"$f":"VLOOKUP(L1970,F.MERE!$A$14:$AA$163,16+F1970)","v":210}]
[]
[null,{"$f":"IF($M1970>0,\"\",\"NE PARTICIPE PAS                   XXXXXXXXXXXXX\")","v":""},null,null,"POUR",null,"CONTRE",null,"ABSTENTION",null,null,null,{"$f":"VLOOKUP($E$12,F.MERE!$A$14:$AA$163,16+F1971)","v":""}]
[]
["x"]
[{"$f":"Liste!$A$1","v":"Résid.LA JOIE"},null,null,null,null,null,null,null,"FORMULAIRE DE VOTE PAR CORRESPONDANCE"]
[{"$f":"Liste!$A$2","v":"120 rue de l' Espérance"},{"$f":"Liste!$A$2","v":"120 rue de l' Espérance"},null,null,null,null,null,null,null,"Page 1"]
[{"$f":"Liste!$A$3","v":75016},{"$f":"Liste!$A$3  & \" \" &Liste!$B$3","v":"75016 PARIS"}]
[null,null,null,null,null,null,null,"Assemblée Générale Ordinaire du",{"$f":"Liste!$E$3","v":"2022-11-05"}]
["Date et lieu",{"$f":"Liste!$E$3","v":"2022-11-05"},null,"à",{"$f":"Liste!$E$4","v":"10 Heures"},{"$f":"Liste!$E$2","v":"15 rue du Bois d'Amour 75016 PARIS"}]
[]
[null,null,null,null,null,null,"Ce formulaire doit être adressé à",null,{"$f":"Liste!$G$3","v":"Cabinet LEBON"}]
[null,null,null,null,null,null,null,null,{"$f":"Liste!$G$4","v":"120 rue du Devoir"}]
[null,null,null,null,null,null,null,null,{"$f":"Liste!$G$5","v":"75016 Paris"}]
[null,null,null,null,null,"Avant la date limite de réxception le",{"$f":"Liste!$E$5","v":"1 Novemvbre 2022"}]
[]
["Je soussigné('e):",{"$f":"Liste!$C593&\" \"&Liste!$D$41","v":" MARTIN Nicole"},null,null,35]
["domicilié(e) au",{"$f":"Liste!$E215&\" \"&Liste!$F$41&\" \"&Liste!$G$41","v":" 33200 Bordeaux"}]
[]
["après avoir pris connaissance de l' ordre du jour et des documents annexés  à la conocation ou"]
["mis à disposition sur le site en ligne sécurisé de la copropriété,"]
["souhaite émettre sur chacune des questions soumises à la délibération de l' assemblée générale "]
["des copropriétaires convoquée le",null,null,null,{"$f":"Liste!$E$3","v":"2022-11-05"},"à",{"$f":"E1979&\" \"&F1979","v":"10 Heures 15 rue du Bois d'Amour 75016 PARIS"}]
["Signature du Copropriétaire de l' associé ou du mandataire commun"]
[null,null,null,null,null,null,"Fait à le"]
[]
[1.01,"Election Président de séance","Mr Banchet",null,null,1,{"$f":"VLOOKUP(F1996,Liste!$B$179:$C$189,2)","v":"Charges générales   "},null,"Majorité Article 24",null,null,{"$f":"E1986","v":35},{"$f":"VLOOKUP(L1996,F.MERE!$A$14:$AA$163,16+F1996)","v":110}]
[]
[null,{"$f":"IF($M1996>0,\"\",\"NE PARTICIPE PAS                   XXXXXXXXXXXXX\")","v":""},null,null,"POUR",null,"CONTRE",null,"ABSTENTION",null,null,null,{"$f":"VLOOKUP($E$12,F.MERE!$A$14:$AA$163,16+F1997)","v":""}]
[]
[2.0099999999999998,"Election dfu Secrétaire","Mr Lafolie",null,null,1,{"$f":"VLOOKUP(F2000,Liste!$B$179:$C$189,2)","v":"Charges générales   "},null,"Majorité Article 24",null,null,{"$f":"E1986","v":35},{"$f":"VLOOKUP(L2000,F.MERE!$A$14:$AA$163,16+F1996)","v":110}]
[]
[null,null,null,null,"POUR",null,"CONTRE",null,"ABSTENTION"]
[]
[3.01,"Election Scrutateur","Mr Berlier",null,null,1,{"$f":"VLOOKUP(F2004,Liste!$B$179:$C$189,2)","v":"Charges générales   "},null,"Majorité Article 24",null,null,{"$f":"E1986","v":35},{"$f":"VLOOKUP(L2004,F.MERE!$A$14:$AA$163,16+F2004)","v":110}]
[]
[null,null,null,null,"POUR",null,"CONTRE",null,"ABSTENTION"]
[]
[4.01,"Conseiller Syndical","Mme Fournier",null,null,1,{"$f":"VLOOKUP(F2008,Liste!$B$179:$C$189,2)","v":"Charges générales   "},null,"Majorité Article 24",null,null,{"$f":"E1986","v":35},{"$f":"VLOOKUP(L2008,F.MERE!$A$14:$AA$163,16+F2008)","v":110}]
[]
[null,{"$f":"IF($M2008>0,\"\",\"NE PARTICIPE PAS                   XXXXXXXXXXXXX\")","v":""},null,null,"POUR",null,"CONTRE",null,"ABSTENTION"]
[]
[5.01,"Election Syndic","Cab;DUDULE",null,null,1,{"$f":"VLOOKUP(F2012,Liste!$B$179:$C$189,2)","v":"Charges générales   "},null,"Majorité Article 25",null,null,{"$f":"E1986","v":35},{"$f":"VLOOKUP(L2012,F.MERE!$A$14:$AA$163,16+F2012)","v":110}]
[]
[null,{"$f":"IF($M2012>0,\"\",\"NE PARTICIPE PAS                   XXXXXXXXXXXXX\")","v":""},null,null,"POUR",null,"CONTRE",null,"ABSTENTION"]
[]
[5.0199999999999996,"Election Syndic,2e vote","Cab;DUDULE",null,null,1,{"$f":"VLOOKUP(F2016,Liste!$B$179:$C$189,2)","v":"Charges générales   "},null,"Majorité Article 24",null,null,{"$f":"E1986","v":35},{"$f":"VLOOKUP(L2016,F.MERE!$A$14:$AA$163,16+F2016)","v":110}]
[]
[null,{"$f":"IF($M2016>0,\"\",\"NE PARTICIPE PAS                   XXXXXXXXXXXXX\")","v":""},null,null,"POUR",null,"CONTRE",null,"ABSTENTION"]
[]
[6.01,"Travaux BÄT B","Devis ABC",null,null,3,{"$f":"VLOOKUP(F2020,Liste!$B$179:$C$189,2)","v":"Chardes Bât,B"},null,"Majorité Article 26",null,null,{"$f":"E1986","v":35},{"$f":"VLOOKUP(L2020,F.MERE!$A$14:$AA$163,16+F2020)","v":0}]
[]
[null,{"$f":"IF($M2020>0,\"\",\"NE PARTICIPE PAS                   XXXXXXXXXXXXX\")","v":"NE PARTICIPE PAS                   XXXXXXXXXXXXX"},null,null,"POUR",null,"CONTRE",null,"ABSTENTION"]
[]
[null,null,null,null,null,1,{"$f":"VLOOKUP(F2024,Liste!$B$179:$C$189,2)","v":"Charges générales   "},null,"Majorité Article 24",null,null,{"$f":"E1986","v":35},{"$f":"VLOOKUP(L2024,F.MERE!$A$14:$AA$163,16+F2024)","v":110}]
[]
[null,{"$f":"IF($M2024>0,\"\",\"NE PARTICIPE PAS                   XXXXXXXXXXXXX\")","v":""},null,null,"POUR",null,"CONTRE",null,"ABSTENTION"]
[]
[null,null,null,null,null,1,{"$f":"VLOOKUP(F2028,Liste!$B$179:$C$189,2)","v":"Charges générales   "},null,"Majorité Article 24",null,null,{"$f":"E1986","v":35},{"$f":"VLOOKUP(L2028,F.MERE!$A$14:$AA$163,16+F2028)","v":110}]
[]
[null,{"$f":"IF($M2028>0,\"\",\"NE PARTICIPE PAS                   XXXXXXXXXXXXX\")","v":""},null,null,"POUR",null,"CONTRE",null,"ABSTENTION",null,null,null,{"$f":"VLOOKUP($E$12,F.MERE!$A$14:$AA$163,16+F2029)","v":""}]
[]
["x"]