{"text_format":"1","workbook":"xlsx","n_sheets":10,"sheets":["Liste","F.P.8","VPC","F.MERE","R,999","Lisez-moi","Conv,AG","P.V.A.G.","POUV","FormVPC"],"not_rendered":{"charts":0,"images":0,"macros":1,"external_links":0,"defined_names":6,"comments":2,"pivot_tables":0},"unopened":[],"bounds":{"document_bytes":16777216,"sheet_cells":100000,"rows_first":2000,"rows_last":500,"rows_between":2000,"halvings":0,"cell_chars":16384,"cell_head_chars":4096},"cells_cut":0,"cells_raw":0,"read":"whole","date_system":"1900"}

{"sheet":"Liste","index":0,"n_rows":160,"n_cols":28,"rows_kept":160,"cut":false,"hidden":false,"merged":[]}
["Résid.Tartampion"]
["13 Rue de l' espoir",null,null,null,null,null,null,null,null,null,null,null,null,null,null,null,null,null,null,null,null,null,null,null,null,null,null,3]
[75016,"PARIS"]
[null,null,"20/06/21"]
[]
["LISTE DES COPROPRIETAIRES"]
[null,null,null,null,null,null,"Total Tantièmes",{"$f":"SUM($H$10:$H$159)","v":10000}]
[]
["N°","Civ,","Civilité","NOMS","Adresse","Code Postal","Ville","Tantièmes","N° lot","Nature","Tant,","N° lot","Nature","Tant,","N° lot","Nature","Tant,","N° lot","Nature","Tant,","N° lot","Nature","Tant,","N°","Nom","Messagerie"]
[1,"M","Monsieur","ALEXANDRINI André","13 rue de l' espoir",75016,"Paris ",{"$f":"IF(K10+N10+Q10+W10>0,K10+N10+Q10+T10+W10,\"\")","v":10},1,"Appart,",5,151,"Cave",5,null,null,null,null,null,null,null,null,null,{"$f":"A10","v":1},{"$f":"D10","v":"ALEXANDRINI André"},"Alex,A@free,fr"]
[2,"Mme","Madame","ANNINOS Henri","13 rue de l' espoir",75016,"Paris ",{"$f":"IF(K11+N11+Q11+W11>0,K11+N11+Q11+T11+W11,\"\")","v":70},2,"Appart,",65,152,"Cave",5,null,null,null,null,null,null,null,null,null,{"$f":"A11","v":2},{"$f":"D11","v":"ANNINOS Henri"}]
[3,"M,Mme","Mr  et Mme","BALDACCHINO Laurence","13 rue de l' espoir",75016,"Paris ",{"$f":"IF(K12+N12+Q12+W12>0,K12+N12+Q12+T12+W12,\"\")","v":100},3,"Appart,",95,153,"Cave",5,null,null,null,null,null,null,null,null,null,3,"BALDACCHINO Laurence","BALDAC@Outlook"]
[4,"M.","Monsieur","BANCHET Joseph","14 rue de l' espoir",75016,"Paris ",{"$f":"IF(K13+N13+Q13+W13>0,K13+N13+Q13+T13+W13,\"\")","v":60},4,"Appart,",55,154,"Cave",5,null,null,null,null,null,null,null,null,null,4,"BANCHET Joseph"]
[5,"M.","Madame","BARDIN Andrée","15 rue de l' espoir",75016,"Paris ",{"$f":"IF(K14+N14+Q18+W18>0,K14+N14+Q18+T18+W18,\"\")","v":50},5,"Appart,",45,155,"Cave",5,null,null,null,null,null,null,null,null,null,5,"BARDIN Andrée"]
[6,"M,Mme","Mr  et Mme","BARDIN-BENARD Louis","16 rue de l' espoir",75016,"Paris ",{"$f":"IF(K15+N15+Q19+W19>0,K15+N15+Q19+T19+W19,\"\")","v":45},6,"Appart,",40,156,"Cave",5,null,null,null,null,null,null,null,null,null,6,"BARDIN-BENARD Louis"]
[7,"M,Mme","Mr  et Mme","BARDOUILLE Hermine","13 rue de l' espoir",75016,"Paris ",{"$f":"IF(K16+N16+Q16+W16>0,K16+N16+Q16+T16+W16,\"\")","v":70},7,"Appart,",65,157,"Cave",5,null,null,null,null,null,null,null,null,null,7,"BARDOUILLE Hermine"]
[8,"M,Mme","Mr  et Mme","BARDOUILLE Jean Yves","13 rue de l' espoir",75016,"Paris ",100,8,"Appart,",95,158,"Cave",5,null,null,null,null,null,null,null,null,null,8,"BARDOUILLE Jean Yves"]
[9,"M,Mme","Mr  et Mme","BAUDINO","13 rue de l' espoir",75016,"Paris ",84,9,"Appart,",79,159,"Cave",5,null,null,null,null,null,null,null,null,null,9,"BAUDINO"]
[10,"M,Mme","Mr  et Mme","BAUGUIL André","13 rue de l' espoir",75016,"Paris ",63,10,"Appart,",58,160,"Cave",5,null,null,null,null,null,null,null,null,null,10,"BAUGUIL André"]
[11,"M,Mme","Mr  et Mme","BAUMGARTNER Peter","13 rue de l' espoir",75016,"Paris ",70,11,"Appart,",65,161,"Cave",5,null,null,null,null,null,null,null,null,null,11,"BAUMGARTNER Peter"]
[12,"M,Mme","Mr  et Mme","BECH Monique","13 rue de l' espoir",75016,"Paris ",100,12,"Appart,",95,162,"Cave",5,null,null,null,null,null,null,null,null,null,12,"BECH Monique"]
[13,"M.","Monsieur","BERGET Jean François","13 rue de l' espoir",75016,"Paris ",70,13,"Appart,",65,163,"Cave",5,null,null,null,null,null,null,null,null,null,13,"BERGET Jean François"]
[14,"M.","Monsieur","BERLIER David","13 rue de l' espoir",75016,"Paris ",70,14,"Appart,",65,164,"Cave",5,null,null,null,null,null,null,null,null,null,14,"BERLIER David"]
[15,"M.","Mmadame","BESSON Gabriel","13 rue de l' espoir",75016,"Paris ",91,15,"Appart,",86,165,"Cave",5,null,null,null,null,null,null,null,null,null,15,"BESSON Gabriel"]
[16,"M.","Monsieur","BILLY Grégoire","13 rue de l' espoir",75016,"Paris ",80,16,"Appart,",75,166,"Cave",5,null,null,null,null,null,null,null,null,null,16,"BILLY Grégoire"]
[17,"M.","Monsieur","BLOT Alain","13 rue de l' espoir",75016,"Paris ",75,17,"Appart,",70,167,"Cave",5,null,null,null,null,null,null,null,null,null,17,"BLOT Alain"]
[18,"M.","Madame","BODIGER","13 rue de l' espoir",75016,"Paris ",55,18,"Appart,",50,168,"Cave",5,null,null,null,null,null,null,null,null,null,18,"BODIGER"]
[19,"M.","Monsieur","BODIN - BUGEJA ","13 rue de l' espoir",75016,"Paris ",101,19,"Appart,",96,169,"Cave",5,null,null,null,null,null,null,null,null,null,19,"BODIN - BUGEJA "]
[20,"M.","Madame","BOISSON Franck","13 rue de l' espoir",75016,"Paris ",73,20,"Appart,",68,170,"Cave",5,null,null,null,null,null,null,null,null,null,20,"BOISSON Franck"]
[21,"M.","Monsieur","BOQUET Marcel","19 Rue du Paradis",33000,"Bordeaux",{"$f":"IF(K30+N30+Q34+W34>0,K30+N30+Q34+T34+W34,\"\")","v":55},21,"Appart,",50,171,"Cave",5,null,null,null,null,null,null,null,null,null,21,"BOQUET Marcel"]
[22,"M.","Monsieur","BOREL ","13 rue de l' espoir",75016,"Paris ",{"$f":"IF(K31+N31+Q31+W31>0,K31+N31+Q31+T31+W31,\"\")","v":59},22,"Appart,",54,172,"Cave",5,null,null,null,null,null,null,null,null,null,22,"BOREL "]
[23,"M.","Monsieur","BOUBRED ","13 rue de l' espoir",75016,"Paris ",{"$f":"IF(K32+N32+Q32+W32>0,K32+N32+Q32+T32+W32,\"\")","v":63},23,"Appart,",58,173,"Cave",5,null,null,null,null,null,null,null,null,null,23,"BOUBRED "]
[24,"M.","Monsieur","BRASSEUR Gérard","19 Rue du Paradis",33000,"Bordeaux",{"$f":"IF(K33+N33+Q37+W37>0,K33+N33+Q37+T37+W37,\"\")","v":60},24,"Appart,",55,174,"Cave",5,null,null,null,null,null,null,null,null,null,24,"BRASSEUR Gérard"]
[25,"M,Mme","Mr  et Mme","BRAUD-COLLET G.","19 Rue du Paradis",33000,"Bordeaux",{"$f":"IF(K34+N34+Q38+W38>0,K34+N34+Q38+T38+W38,\"\")","v":70},25,"Appart,",65,175,"Cave",5,null,null,null,null,null,null,null,null,null,25,"BRAUD-COLLET G."]
[26,"M.","Monsieur","BRICARD Mar'c","19 Rue du Paradis",33000,"Bordeaux",{"$f":"IF(K35+N35+Q39+W39>0,K35+N35+Q39+T39+W39,\"\")","v":50},26,"Appart,",45,176,"Cave",5,null,null,null,null,null,null,null,null,null,26,"BRICARD Mar'c"]
[27,"M,","Monsieur","BRIOLLE Marthe","13 rue de l' espoir",75016,"Paris ",{"$f":"IF(K36+N36+Q36+W36>0,K36+N36+Q36+T36+W36,\"\")","v":60},27,"Appart,",55,177,"Cave",5,null,null,null,null,null,null,null,null,null,27,"BRIOLLE Marthe"]
[28,"M,Mme","Mr  et Mme","BRUCHET Elisabeth","13 rue de l' espoir",75016,"Paris ",53,28,"Appart,",48,178,"Cave",5,null,null,null,null,null,null,null,null,null,28,"BRUCHET Elisabeth"]
[29,"M,Mme","Mr  et Mme","BUKVIC ","13 rue de l' espoir",75016,"Paris ",68,29,"Appart,",63,179,"Cave",5,null,null,null,null,null,null,null,null,null,29,"BUKVIC "]
[30,"M.","Madame","BURILLE Richard","13 rue de l' espoir",75016,"Paris ",60,30,"Appart,",55,180,"Cave",5,null,null,null,null,null,null,null,null,null,30,"BURILLE Richard"]
[31,"M.","Monsieur","CARANTA Jean P.","13 rue de l' espoir",75016,"Paris ",60,31,"Appart,",55,181,"Cave",5,null,null,null,null,null,null,null,null,null,31,"CARANTA Jean P."]
[32,"M.","Monsieur","CARBONE Isabelle","13 rue de l' espoir",75016,"Paris ",50,32,"Appart,",45,182,"Cave",5,null,null,null,null,null,null,null,null,null,32,"CARBONE Isabelle"]
[33,"M.","Monsieur","CASTAN Max","13 rue de l' espoir",75016,"Paris ",85,33,"Appart,",80,183,"Cave",5,null,null,null,null,null,null,null,null,null,33,"CASTAN Max"]
[34,"M.","Monsieur","CAVALIERI Alain","13 rue de l' espoir",75016,"Paris ",80,34,"Appart,",75,184,"Cave",5,null,null,null,null,null,null,null,null,null,34,"CAVALIERI Alain"]
[35,"Mme","Madame","CAVALIERI Christine","13 rue de l' espoir",75016,"Paris ",60,35,"Appart,",55,185,"Cave",5,null,null,null,null,null,null,null,null,null,35,"CAVALIERI Christine"]
[36,"Mr","Monsieur","CIABATTINI Dante","13 rue de l' espoir",75016,"Paris ",70,36,"Appart,",65,186,"Cave",5,null,null,null,null,null,null,null,null,null,36,"CIABATTINI Dante"]
[37,"Me","Madame","CIULLI - DREANO Jeanine","13 rue de l' espoir",75016,"Paris ",50,37,"Appart,",45,187,"Cave",5,null,null,null,null,null,null,null,null,null,37,"CIULLI - DREANO Jeanine"]
[38,"M","Monieur","COLOM ","13 rue de l' espoir",75016,"Paris ",45,38,"Appart,",40,188,"Cave",5,null,null,null,null,null,null,null,null,null,38,"COLOM "]
[39,"M","Monieur","COLOMBANI Georges","13 rue de l' espoir",75016,"Paris ",50,39,"Appart,",45,189,"Cave",5,null,null,null,null,null,null,null,null,null,39,"COLOMBANI Georges"]
[40,"M","Monieur","COLONNA Michel","13 rue de l' espoir",75016,"Paris ",60,40,"Appart,",55,190,"Cave",5,null,null,null,null,null,null,null,null,null,40,"COLONNA Michel"]
[41,"Me","Madame","COMA Marie","13 rue de l' espoir",75016,"Paris ",55,41,"Appart,",50,191,"Cave",5,null,null,null,null,null,null,null,null,null,41,"COMA Marie"]
[42,"M","Monieur","DANAUD Jean René","13 rue de l' espoir",75016,"Paris ",50,42,"Appart,",45,192,"Cave",5,null,null,null,null,null,null,null,null,null,42,"DANAUD Jean René"]
[43,"M","Monieur","DAUGA Cédric","13 rue de l' espoir",75016,"Paris ",50,43,"Appart,",45,193,"Cave",5,null,null,null,null,null,null,null,null,null,43,"DAUGA Cédric"]
[44,"Me","Madame","DE LAPRADE Yvette","13 rue de l' espoir",75016,"Paris ",55,44,"Appart,",50,194,"Cave",5,null,null,null,null,null,null,null,null,null,44,"DE LAPRADE Yvette"]
[45,"M","Monieur","DENEUX Pierre","13 rue de l' espoir",75016,"Paris ",60,45,"Appart,",55,195,"Cave",5,null,null,null,null,null,null,null,null,null,45,"DENEUX Pierre"]
[46,"M","Monieur","DENIS Jacques","13 rue de l' espoir",75016,"Paris ",55,46,"Appart,",50,196,"Cave",5,null,null,null,null,null,null,null,null,null,46,"DENIS Jacques"]
[47,"Me","Madame","DI JORIO Brigitte","13 rue de l' espoir",75016,"Paris ",60,47,"Appart,",55,197,"Cave",5,null,null,null,null,null,null,null,null,null,47,"DI JORIO Brigitte"]
[48,"M","Monieur","DI JORIO Marcel","13 rue de l' espoir",75016,"Paris ",61,48,"Appart,",56,198,"Cave",5,null,null,null,null,null,null,null,null,null,48,"DI JORIO Marcel"]
[49,"M","Monieur","DI MEGLIO Laurent","13 rue de l' espoir",75016,"Paris ",45,49,"Appart,",40,199,"Cave",5,null,null,null,null,null,null,null,null,null,49,"DI MEGLIO Laurent"]
[50,"M","Monieur","DRAGOTTA Michel","13 rue de l' espoir",75016,"Paris ",50,50,"Appart,",45,200,"Cave",5,null,null,null,null,null,null,null,null,null,50,"DRAGOTTA Michel"]
[51,"M.","Monsieur","DUBOURG Pierre","14 rue de l' espoir",75016,"Paris ",{"$f":"IF(K60+N60+Q64+W64>0,K60+N60+Q64+T64+W64,\"\")","v":60},51,"Appart,",55,201,"Cave",5,null,null,null,null,null,null,null,null,null,51,"DUBOURG Pierre"]
[52,"Me","Madame","FIGUERAS Annie","15 rue de l' espoir",75016,"Paris ",{"$f":"IF(K61+N61+Q65+W65>0,K61+N61+Q65+T65+W65,\"\")","v":70},52,"Appart,",65,202,"Cave",5,null,null,null,null,null,null,null,null,null,52,"FIGUERAS Annie"]
[53,"M","Monieur","FONTANA Georges","13 rue de l' espoir",75016,"Paris ",{"$f":"IF(K62+N62+Q62+W62>0,K62+N62+Q62+T62+W62,\"\")","v":60},53,"Appart,",55,203,"Cave",5,null,null,null,null,null,null,null,null,null,53,"FONTANA Georges"]
[54,"M","Monieur","FORGET Valéry","13 rue de l' espoir",75016,"Paris ",65,54,"Appart,",60,204,"Cave",5,null,null,null,null,null,null,null,null,null,54,"FORGET Valéry"]
[55,"Me","Madame","FOURNIER Nicole","13 rue de l' espoir",75016,"Paris ",51,55,"Appart,",46,205,"Cave",5,null,null,null,null,null,null,null,null,null,55,"FOURNIER Nicole"]
[56,"M","Monieur","GARCIA Christophe","13 rue de l' espoir",75016,"Paris ",50,56,"Appart,",45,206,"Cave",5,null,null,null,null,null,null,null,null,null,56,"GARCIA Christophe"]
[57,"M","Monieur","GARRELON Jacques","13 rue de l' espoir",75016,"Paris ",70,57,"Appart,",65,207,"Cave",5,null,null,null,null,null,null,null,null,null,57,"GARRELON Jacques"]
[58,"Me","Madame","GAUNET Mireille","13 rue de l' espoir",75016,"Paris ",60,58,"Appart,",55,208,"Cave",5,null,null,null,null,null,null,null,null,null,58,"GAUNET Mireille"]
[59,"M","Monieur","GERTOSIO","13 rue de l' espoir",75016,"Paris ",62,59,"Appart,",57,209,"Cave",5,null,null,null,null,null,null,null,null,null,59,"GERTOSIO"]
[60,"Me","Madame","GERVASI Jacqueline","13 rue de l' espoir",75016,"Paris ",83,60,"Appart,",78,210,"Cave",5,null,null,null,null,null,null,null,null,null,60,"GERVASI Jacqueline"]
[61,"Me","Madame","GINESTOUS Maryvonne","13 rue de l' espoir",75016,"Paris ",58,61,"Appart,",53,211,"Cave",5,null,null,null,null,null,null,null,null,null,61,"GINESTOUS Maryvonne"]
[62,"Me","Madame","GIRARDOT Michèle","13 rue de l' espoir",75016,"Paris ",55,62,"Appart,",50,212,"Cave",5,null,null,null,null,null,null,null,null,null,62,"GIRARDOT Michèle"]
[63,"M","Monieur","GIRAUDEAU Marcel","13 rue de l' espoir",75016,"Paris ",63,63,"Appart,",58,213,"Cave",5,null,null,null,null,null,null,null,null,null,63,"GIRAUDEAU Marcel"]
[64,"M,","Monsieur","GLADIEU Marc","19 Rue du Paradis",33000,"Bordeaux",{"$f":"IF(K73+N73+Q77+W77>0,K73+N73+Q77+T77+W77,\"\")","v":65},64,"Appart,",60,214,"Cave",5,null,null,null,null,null,null,null,null,null,64,"GLADIEU Marc"]
[65,"M Me","onsieur Madame","GOURRIER - JAFFELIN ","13 rue de l' espoir",75016,"Paris ",{"$f":"IF(K74+N74+Q74+W74>0,K74+N74+Q74+T74+W74,\"\")","v":70},65,"Appart,",65,215,"Cave",5,null,null,null,null,null,null,null,null,null,65,"GOURRIER - JAFFELIN "]
[66,"M","Monieur","GRAO Guy","13 rue de l' espoir",75016,"Paris ",{"$f":"IF(K75+N75+Q75+W75>0,K75+N75+Q75+T75+W75,\"\")","v":72},66,"Appart,",67,216,"Cave",5,null,null,null,null,null,null,null,null,null,{"$f":"A75","v":66},{"$f":"D75","v":"GRAO Guy"}]
[67,"Me","Madame","GROLLEAU Chantal","13 rue de l' espoir",75016,"Paris ",{"$f":"IF(K76+N76+Q76+W76>0,K76+N76+Q76+T76+W76,\"\")","v":66},67,"Appart,",61,217,"Cave",5,null,null,null,null,null,null,null,null,null,67,"GROLLEAU Chantal"]
[68,"M","Monieur","HALADO ","13 rue de l' espoir",75016,"Paris ",{"$f":"IF(K77+N77+Q77+W77>0,K77+N77+Q77+T77+W77,\"\")","v":55},68,"Appart,",50,218,"Cave",5,null,null,null,null,null,null,null,null,null,68,"HALADO "]
[69,"M","Monieur","HONNORAT Georges","13 rue de l' espoir",75016,"Paris ",{"$f":"IF(K78+N78+Q78+W78>0,K78+N78+Q78+T78+W78,\"\")","v":56},69,"Appart,",51,219,"Cave",5,null,null,null,null,null,null,null,null,null,69,"HONNORAT Georges"]
[70,"Mme","Madame","IMGRAM Simone","19 Rue du Paradis",33000,"Bordeaux",{"$f":"IF(K79+N79+Q83+W83>0,K79+N79+Q83+T83+W83,\"\")","v":60},70,"Appart,",55,220,"Cave",5,null,null,null,null,null,null,null,null,null,70,"IMGRAM Simone"]
[71,"Me","Madame","IRACANE Rosalie","13 rue de l' espoir",75016,"Paris ",{"$f":"IF(K80+N80+Q80+W80>0,K80+N80+Q80+T80+W80,\"\")","v":70},71,"Appart,",65,221,"Cave",5,null,null,null,null,null,null,null,null,null,71,"IRACANE Rosalie"]
[72,"Me","Madame","JACQUET Sylvie","13 rue de l' espoir",75016,"Paris ",{"$f":"IF(K81+N81+Q81+W81>0,K81+N81+Q81+T81+W81,\"\")","v":71},72,"Appart,",66,222,"Cave",5,null,null,null,null,null,null,null,null,null,72,"JACQUET Sylvie"]
[73,"M","Monieur","JAYET Christian","13 rue de l' espoir",75016,"Paris ",{"$f":"IF(K82+N82+Q82+W82>0,K82+N82+Q82+T82+W82,\"\")","v":62},73,"Appart,",57,223,"Cave",5,null,null,null,null,null,null,null,null,null,73,"JAYET Christian"]
[74,"M","Monieur","JOB ","13 rue de l' espoir",75016,"Paris ",{"$f":"IF(K83+N83+Q83+W83>0,K83+N83+Q83+T83+W83,\"\")","v":60},74,"Appart,",55,224,"Cave",5,null,null,null,null,null,null,null,null,null,74,"JOB "]
[75,"Mme","Madame","JOFFE Françoise","19 Rue du Paradis",33000,"Bordeaux",{"$f":"IF(K84+N84+Q88+W88>0,K84+N84+Q88+T88+W88,\"\")","v":80},75,"Appart,",75,225,"Cave",5,null,null,null,null,null,null,null,null,null,75,"JOFFE Françoise"]
[76,"Mr","Monsieur","KARNAC Marcel","19 Rue du Paradis",33000,"Bordeaux",{"$f":"IF(K85+N85+Q89+W89>0,K85+N85+Q89+T89+W89,\"\")","v":60},76,"Appart,",55,226,"Cave",5,null,null,null,null,null,null,null,null,null,76,"KARNAC Marcel"]
[77,"Me","Madame","LAGRANGE Pierrette","19 Rue du Paradis",33000,"Bordeaux",{"$f":"IF(K86+N86+Q90+W90>0,K86+N86+Q90+T90+W90,\"\")","v":70},77,"Appart,",65,227,"Cave",5,null,null,null,null,null,null,null,null,null,77,"LAGRANGE Pierrette"]
[78,"Mr","Monsieur","LANVIN Christophe","19 Rue du Paradis",33000,"Bordeaux",{"$f":"IF(K87+N87+Q91+W91>0,K87+N87+Q91+T91+W91,\"\")","v":50},78,"Appart,",45,228,"Cave",5,null,null,null,null,null,null,null,null,null,78,"LANVIN Christophe"]
[79,"M.","Madame","LARDENOIS Pierrette","19 Rue du Paradis",33000,"Bordeaux",{"$f":"IF(K88+N88+Q92+W92>0,K88+N88+Q92+T92+W92,\"\")","v":40},79,"Appart,",35,229,"Cave",5,null,null,null,null,null,null,null,null,null,79,"LARDENOIS Pierrette"]
[80,"Me","Madame","LATTION Evelyne","13 rue de l' espoir",75016,"Paris ",{"$f":"IF(K89+N89+Q89+W89>0,K89+N89+Q89+T89+W89,\"\")","v":47},80,"Appart,",42,230,"Cave",5,null,null,null,null,null,null,null,null,null,80,"LATTION Evelyne"]
[81,"M.","Madame","LATTION Evelyne","19 Rue du Paradis",33000,"Bordeaux",{"$f":"IF(K90+N90+Q94+W94>0,K90+N90+Q94+T94+W94,\"\")","v":55},81,"Appart,",50,231,"Cave",5,null,null,null,null,null,null,null,null,null,81,"LATTION Evelyne"]
[82,"Me","Madame","LE SCAVARREC Aline","13 rue de l' espoir",75016,"Paris ",{"$f":"IF(K91+N91+Q91+W91>0,K91+N91+Q91+T91+W91,\"\")","v":56},82,"Appart,",51,232,"Cave",5,null,null,null,null,null,null,null,null,null,82,"LE SCAVARREC Aline"]
[83,"M Me","Monsieur Madame","LEBON - BOUIC ","13 rue de l' espoir",75016,"Paris ",{"$f":"IF(K92+N92+Q92+W92>0,K92+N92+Q92+T92+W92,\"\")","v":72},83,"Appart,",67,233,"Cave",5,null,null,null,null,null,null,null,null,null,83,"LEBON - BOUIC "]
[84,"Me","Madame","LEBON  Elisabeth","13 rue de l' espoir",75016,"Paris ",{"$f":"IF(K93+N93+Q93+W93>0,K93+N93+Q93+T93+W93,\"\")","v":90},84,"Appart,",85,234,"Cave",5,null,null,null,null,null,null,null,null,null,84,"LEBON  Elisabeth"]
[85,"Me","Madame","LEBORGNE Claudine","13 rue de l' espoir",75016,"Paris ",{"$f":"IF(K94+N94+Q94+W94>0,K94+N94+Q94+T94+W94,\"\")","v":87},85,"Appart,",82,235,"Cave",5,null,null,null,null,null,null,null,null,null,85,"LEBORGNE Claudine"]
[86,"M,Mme","Mr  et Mme","LEFOLLET-LANGLET","19 Rue du Paradis",33000,"Bordeaux",{"$f":"IF(K95+N95+Q99+W99>0,K95+N95+Q99+T99+W99,\"\")","v":70},86,"Appart,",65,236,"Cave",5,null,null,null,null,null,null,null,null,null,86,"LEFOLLET-LANGLET"]
[87,"Me","Madame","LEGRAS Simone","13 rue de l' espoir",75016,"Paris ",{"$f":"IF(K96+N96+Q96+W96>0,K96+N96+Q96+T96+W96,\"\")","v":100},87,"Appart,",95,237,"Cave",5,null,null,null,null,null,null,null,null,null,87,"LEGRAS Simone"]
[88,"Me","Madame","LESTOURNELLE ","13 rue de l' espoir",75016,"Paris ",{"$f":"IF(K97+N97+Q97+W97>0,K97+N97+Q97+T97+W97,\"\")","v":86},88,"Appart,",81,238,"Cave",5,null,null,null,null,null,null,null,null,null,88,"LESTOURNELLE "]
[89,"M.","Monsieur","LIGOT Jacques","19 Rue du Paradis",33000,"Bordeaux",{"$f":"IF(K98+N98+Q102+W102>0,K98+N98+Q102+T102+W102,\"\")","v":50},89,"Appart,",45,239,"Cave",5,null,null,null,null,null,null,null,null,null,89,"LIGOT Jacques"]
[90,"M","Monieur","LOPEZ Pierre","13 rue de l' espoir",75016,"Paris ",{"$f":"IF(K99+N99+Q99+W99>0,K99+N99+Q99+T99+W99,\"\")","v":40},90,"Appart,",35,240,"Cave",5,null,null,null,null,null,null,null,null,null,90,"LOPEZ Pierre"]
[91,"Me","Madame","LOUNES Jeannette","13 rue de l' espoir",75016,"Paris ",96,91,"Appart,",91,241,"Cave",5,null,null,null,null,null,null,null,null,null,91,"LOUNES Jeannette"]
[92,"M","Monieur","MAACK - BRUNETEAU Dominique","13 rue de l' espoir",75016,"Paris ",50,92,"Appart,",45,242,"Cave",5,null,null,null,null,null,null,null,null,null,92,"MAACK - BRUNETEAU Dominique"]
[93,"Me","Madame","MAACK - BUREU Denise","13 rue de l' espoir",75016,"Paris ",80,93,"Appart,",75,243,"Cave",5,null,null,null,null,null,null,null,null,null,93,"MAACK - BUREU Denise"]
[94,"M","Monieur","MACQUET ","13 rue de l' espoir",75016,"Paris ",62,94,"Appart,",57,244,"Cave",5,null,null,null,null,null,null,null,null,null,94,"MACQUET "]
[95,"Me","Madame","MALARTIC Odile","13 rue de l' espoir",75016,"Paris ",63,95,"Appart,",58,245,"Cave",5,null,null,null,null,null,null,null,null,null,95,"MALARTIC Odile","Malartic@Free,fr"]
[96,"M.","Madame","MANDARD Jacqueline","19 Rue du Paradis",33000,"Bordeaux",{"$f":"IF(K105+N105+Q109+W109>0,K105+N105+Q109+T109+W109,\"\")","v":70},96,"Appart,",65,246,"Cave",5,null,null,null,null,null,null,null,null,null,96,"MANDARD Jacqueline"]
[97,"M","Monieur","Marinacce - Chatain Jeanne","13 rue de l' espoir",75016,"Paris ",{"$f":"IF(K106+N106+Q106+W106>0,K106+N106+Q106+T106+W106,\"\")","v":76},97,"Appart,",71,247,"Cave",5,null,null,null,null,null,null,null,null,null,97,"Marinacce - Chatain Jeanne"]
[98,"Me","Madame","MATTEI Andrée","13 rue de l' espoir",75016,"Paris ",{"$f":"IF(K107+N107+Q107+W107>0,K107+N107+Q107+T107+W107,\"\")","v":103},98,"Appart,",98,248,"Cave",5,null,null,null,null,null,null,null,null,null,98,"MATTEI Andrée"]
[99,"M.","Monsieur","MAUDUIT Trobert","19 Rue du Paradis",33000,"Bordeaux",{"$f":"IF(K108+N108+Q112+W112>0,K108+N108+Q112+T112+W112,\"\")","v":50},99,"Appart,",45,249,"Cave",5,null,null,null,null,null,null,null,null,null,99,"MAUDUIT Trobert"]
[100,"Me","Madame","MEAILLE Simone","13 rue de l' espoir",75016,"Paris ",{"$f":"IF(K109+N109+Q109+W109>0,K109+N109+Q109+T109+W109,\"\")","v":63},101,"Appart,",58,251,"Cave",5,null,null,null,1500,"APP",null,null,null,null,100,"MEAILLE Simone"]
[101,"Me","Madame","MEISSONNIER Josiane","13 rue de l' espoir",75016,"Paris ",100,102,"Appart,",95,252,"Cave",5,null,null,null,null,null,null,null,null,null,101,"MEISSONNIER Josiane"]
[102,"Me","Madame","MEYNARD Armande","13 rue de l' espoir",75016,"Paris ",62,103,"Appart,",57,253,"Cave",5,null,null,null,null,null,null,null,null,null,102,"MEYNARD Armande"]
[103,"M","Monieur","MIALHE André","13 rue de l' espoir",75016,"Paris ",97,104,"Appart,",92,254,"Cave",5,null,null,null,null,null,null,null,null,null,103,"MIALHE André"]
[104,"M","Monieur","MICHEL Gérard","13 rue de l' espoir",75016,"Paris ",100,105,"Appart,",95,255,"Cave",5,null,null,null,null,null,null,null,null,null,104,"MICHEL Gérard"]
[105,"Me","Madame","MORERA Suzanne","13 rue de l' espoir",75016,"Paris ",100,106,"Appart,",95,256,"Cave",5,null,null,null,null,null,null,null,null,null,105,"MORERA Suzanne"]
[106,"M.","Monsieur","MOTTIN Marcel","19 Rue du Paradis",33000,"Bordeaux",{"$f":"IF(K115+N115+Q119+W119>0,K115+N115+Q119+T119+W119,\"\")","v":50},107,"Appart,",45,257,"Cave",5,null,null,null,null,null,null,null,null,null,106,"MOTTIN Marcel"]
[107,"M.","Madame","MOURRE Jeanine","19 Rue du Paradis",33000,"Bordeaux",{"$f":"IF(K116+N116+Q120+W120>0,K116+N116+Q120+T120+W120,\"\")","v":49},108,"Appart,",44,258,"Cave",5,null,null,null,null,null,null,null,null,null,107,"MOURRE Jeanine"]
[108,"M.","Monsieur","MULARDEC Paul","19 Rue du Paradis",33000,"Bordeaux",{"$f":"IF(K117+N117+Q121+W121>0,K117+N117+Q121+T121+W121,\"\")","v":64},109,"Appart,",59,259,"Cave",5,null,null,null,null,null,null,null,null,null,108,"MULARDEC Paul"]
[109,"M","Monieur","NICOLAS Jean","13 rue de l' espoir",75016,"Paris ",{"$f":"IF(K118+N118+Q118+W118>0,K118+N118+Q118+T118+W118,\"\")","v":93},110,"Appart,",88,260,"Cave",5,null,null,null,null,null,null,null,null,null,109,"NICOLAS Jean"]
[110,"Me","Madame","NICOLE Solange","13 rue de l' espoir",75016,"Paris ",{"$f":"IF(K119+N119+Q119+W119>0,K119+N119+Q119+T119+W119,\"\")","v":90},111,"Appart,",85,261,"Cave",5,null,null,null,null,null,null,null,null,null,110,"NICOLE Solange"]
[111,"M.","Monsieur","NOGER Pierre ","19 Rue du Paradis",33000,"Bordeaux",{"$f":"IF(K120+N120+Q124+W124>0,K120+N120+Q124+T124+W124,\"\")","v":60},112,"Appart,",55,262,"Cave",5,null,null,null,null,null,null,null,null,null,111,"NOGER Pierre "]
[112,"M","Monieur","OLIVA ","13 rue de l' espoir",75016,"Paris ",{"$f":"IF(K121+N121+Q121+W121>0,K121+N121+Q121+T121+W121,\"\")","v":80},113,"Appart,",75,263,"Cave",5,null,null,null,null,null,null,null,null,null,112,"OLIVA "]
[113,"M","Monieur","OLIVA Stéphane","13 rue de l' espoir",75016,"Paris ",{"$f":"IF(K122+N122+Q122+W122>0,K122+N122+Q122+T122+W122,\"\")","v":59},114,"Appart,",54,264,"Cave",5,null,null,null,null,null,null,null,null,null,113,"OLIVA Stéphane"]
[114,"Me","Madame","PEIRANO Olga","13 rue de l' espoir",75016,"Paris ",{"$f":"IF(K123+N123+Q123+W123>0,K123+N123+Q123+T123+W123,\"\")","v":59},115,"Appart,",54,265,"Cave",5,null,null,null,null,null,null,null,null,null,114,"PEIRANO Olga"]
[115,"Me","Madame","PELLEGRIN Jean ierre","19 Rue du Paradis",33000,"Bordeaux",{"$f":"IF(K124+N124+Q128+W128>0,K124+N124+Q128+T128+W128,\"\")","v":40},116,"Appart,",35,266,"Cave",5,null,null,null,null,null,null,null,null,null,115,"PELLEGRIN Jean ierre"]
[116,"M.","Monsieur","PETROV Nicolas","19 Rue du Paradis",33000,"Bordeaux",{"$f":"IF(K125+N125+Q129+W129>0,K125+N125+Q129+T129+W129,\"\")","v":60},117,"Appart,",55,267,"Cave",5,null,null,null,null,null,null,null,null,null,116,"PETROV Nicolas"]
[117,"M.","Monsieur","PEZTITON René","19 Rue du Paradis",33000,"Bordeaux",{"$f":"IF(K126+N126+Q130+W130>0,K126+N126+Q130+T130+W130,\"\")","v":47},118,"Appart,",42,268,"Cave",5,null,null,null,null,null,null,null,null,null,117,"PEZTITON René"]
[118,"M","Monieur","PISTONE Georges","13 rue de l' espoir",75016,"Paris ",{"$f":"IF(K127+N127+Q127+W127>0,K127+N127+Q127+T127+W127,\"\")","v":70},119,"Appart,",65,269,"Cave",5,null,null,null,null,null,null,null,null,null,118,"PISTONE Georges"]
[119,"M","Monieur","PONCELET Didier","13 rue de l' espoir",75016,"Paris ",52,120,"Appart,",47,270,"Cave",5,null,null,null,null,null,null,null,null,null,119,"PONCELET Didier"]
[120,"M","Monieur","PROUVOST Jean","13 rue de l' espoir",75016,"Paris ",90,121,"Appart,",85,271,"Cave",5,null,null,null,null,null,null,null,null,null,120,"PROUVOST Jean"]
[121,"M","Monieur","PUONS René","13 rue de l' espoir",75016,"Paris ",103,122,"Appart,",98,272,"Cave",5,null,null,null,null,null,null,null,null,null,121,"PUONS René"]
[122,"M","Monieur","RAYNAUD Laurence","13 rue de l' espoir",75016,"Paris ",83,123,"Appart,",78,273,"Cave",5,null,null,null,null,null,null,null,null,null,122,"RAYNAUD Laurence"]
[123,"Me","Madame","RENAUD Cécile","13 rue de l' espoir",75016,"Paris ",91,124,"Appart,",86,274,"Cave",5,null,null,null,null,null,null,null,null,null,123,"RENAUD Cécile"]
[124,"Me","Madame","RICHOUX Alexandra","13 rue de l' espoir",75016,"Paris ",55,125,"Appart,",50,275,"Cave",5,null,null,null,null,null,null,null,null,null,124,"RICHOUX Alexandra"]
[125,"Me","Madame","ROBERT MARMO Josiane","13 rue de l' espoir",75016,"Paris ",92,126,"Appart,",87,276,"Cave",5,null,null,null,null,null,null,null,null,null,125,"ROBERT MARMO Josiane"]
[126,"Mr Me","Monsieur Madame","ROCHETEAU-SOONEKINDT ","13 rue de l' espoir",75016,"Paris ",100,127,"Appart,",95,277,"Cave",5,null,null,null,null,null,null,null,null,null,126,"ROCHETEAU-SOONEKINDT "]
[127,"M","Monieur","RUIZ José","13 rue de l' espoir",75016,"Paris ",98,128,"Appart,",93,278,"Cave",5,null,null,null,null,null,null,null,null,null,127,"RUIZ José"]
[128,"M","Monieur","RUIZ Marcel","13 rue de l' espoir",75016,"Paris ",91,129,"Appart,",86,279,"Cave",5,null,null,null,null,null,null,null,null,null,128,"RUIZ Marcel"]
[129,"M","Monieur","RUSSEAU Thomas","13 rue de l' espoir",75016,"Paris ",101,130,"Appart,",96,280,"Cave",5,null,null,null,null,null,null,null,null,null,129,"RUSSEAU Thomas"]
[130,"Me","Madame","SALDOT Sylviane","13 rue de l' espoir",75016,"Paris ",53,131,"Appart,",48,281,"Cave",5,null,null,null,null,null,null,null,null,null,{"$f":"A139","v":130},{"$f":"D139","v":"SALDOT Sylviane"}]
[131,"M","Monieur","SAMUELIAN Charles","13 rue de l' espoir",75016,"Paris ",57,132,"Appart,",52,282,"Cave",5,null,null,null,null,null,null,null,null,null,131,"SAMUELIAN Charles"]
[132,"M","Monieur","SANNA - DVORAK  Laurent - Isabel","13 rue de l' espoir",75016,"Paris ",92,133,"Appart,",87,283,"Cave",5,null,null,null,null,null,null,null,null,null,132,"SANNA - DVORAK  Laurent - Isabel"]
[133,"Me","Madame","SARLIN / MAUREL Jocelyne","13 rue de l' espoir",75016,"Paris ",94,100,"Appart,",89,250,"Cave",5,null,null,null,null,null,null,null,null,null,133,"SARLIN / MAUREL Jocelyne"]
[134,"M","Monieur","SCALIA Serge","13 rue de l' espoir",75016,"Paris ",53,134,"Appart,",48,284,"Cave",5,null,null,null,null,null,null,null,null,null,134,"SCALIA Serge"]
[135,"Mme","Madame","SCHMIT Isabelle","19 Rue du Paradis",33000,"Bordeaux",{"$f":"IF(K144+N144+Q148+W148>0,K144+N144+Q148+T148+W148,\"\")","v":40},135,"Appart,",35,285,"Cave",5,null,null,null,null,null,null,null,null,null,135,"SCHMIT Isabelle"]
[136,"Mr","Monsieur","SCIALON Victor","19 Rue du Paradis",33000,"Bordeaux",{"$f":"IF(K145+N145+Q149+W149>0,K145+N145+Q149+T149+W149,\"\")","v":48},136,"Appart,",43,286,"Cave",5,null,null,null,null,null,null,null,null,null,136,"SCIALON Victor"]
[137,"M","Monieur","SERREE Patrick","13 rue de l' espoir",75016,"Paris ",{"$f":"IF(K146+N146+Q146+W146>0,K146+N146+Q146+T146+W146,\"\")","v":56},137,"Appart,",51,287,"Cave",5,null,null,null,null,null,null,null,null,null,137,"SERREE Patrick"]
[138,"M","Monieur","SIEURAC Philippe","13 rue de l' espoir",75016,"Paris ",{"$f":"IF(K147+N147+Q147+W147>0,K147+N147+Q147+T147+W147,\"\")","v":60},138,"Appart,",55,288,"Cave",5,null,null,null,null,null,null,null,null,null,138,"SIEURAC Philippe"]
[139,"Me","Madame","SIMON Josette","13 rue de l' espoir",75016,"Paris ",{"$f":"IF(K148+N148+Q148+W148>0,K148+N148+Q148+T148+W148,\"\")","v":51},139,"Appart,",46,289,"Cave",5,null,null,null,null,null,null,null,null,null,139,"SIMON Josette"]
[140,"M.","Monsieur","SIMON Piaul","19 Rue du Paradis",33000,"Bordeaux",{"$f":"IF(K149+N149+Q153+W153>0,K149+N149+Q153+T153+W153,\"\")","v":53},140,"Appart,",48,290,"Cave",5,null,null,null,null,null,null,null,null,null,140,"SIMON Piaul"]
[141,"Mr Me","Monsieur Madame","SOLVEZ-BOUCHER ","13 rue de l' espoir",75016,"Paris ",{"$f":"IF(K150+N150+Q150+W150>0,K150+N150+Q150+T150+W150,\"\")","v":93},141,"Appart,",88,291,"Cave",5,null,null,null,null,null,null,null,null,null,141,"SOLVEZ-BOUCHER "]
[142,"Mr ","Monsieur","STURM Philippe","13 rue de l' espoir",75016,"Paris ",{"$f":"IF(K151+N151+Q151+W151>0,K151+N151+Q151+T151+W151,\"\")","v":90},142,"Appart,",85,292,"Cave",5,null,null,null,null,null,null,null,null,null,142,"STURM Philippe"]
[143,"M.","Monsieur","TANDY G&érard","19 Rue du Paradis",33000,"Bordeaux",{"$f":"IF(K152+N152+Q156+W156>0,K152+N152+Q156+T156+W156,\"\")","v":40},143,"Appart,",35,293,"Cave",5,null,null,null,null,null,null,null,null,null,143,"TANDY G&érard"]
[144,"Mr","Monsieur","THUMERELLE Sébastien","13 rue de l' espoir",75016,"Paris ",{"$f":"IF(K153+N153+Q153+W153>0,K153+N153+Q153+T153+W153,\"\")","v":80},144,"Appart,",75,294,"Cave",5,null,null,null,null,null,null,null,null,null,144,"THUMERELLE Sébastien"]
[145,"M.","Monsieur","TONDU Simon","19 Rue du Paradis",33000,"Bordeaux",{"$f":"IF(K154+N154+Q158+W158>0,K154+N154+Q158+T158+W158,\"\")","v":40},145,"Appart,",35,295,"Cave",5,null,null,null,null,null,null,null,null,null,145,"TONDU Simon"]
[146,"M.","Monsieur","VERMONT André","19 Rue du Paradis",33000,"Bordeaux",{"$f":"IF(K155+N155+Q159+W159>0,K155+N155+Q159+T159+W159,\"\")","v":52},146,"Appart,",47,296,"Cave",5,null,null,null,null,null,null,null,null,null,146,"VERMONT André"]
[147,"Me","Madame","VIGLIONE Léa","13 rue de l' espoir",75016,"Paris ",{"$f":"IF(K156+N156+Q156+W156>0,K156+N156+Q156+T156+W156,\"\")","v":61},147,"Appart,",56,297,"Cave",5,null,null,null,null,null,null,null,null,null,147,"VIGLIONE Léa","Viglione-L@free,fr"]
[148,"Mr","Monsieur","WINGERT Philippe","13 rue de l' espoir",75016,"Paris ",{"$f":"IF(K157+N157+Q157+W157>0,K157+N157+Q157+T157+W157,\"\")","v":80},148,"Appart,",75,298,"Cave",5,null,null,null,null,null,null,null,null,null,148,"WINGERT Philippe"]
[149,"M.","Monsieur","YOUSEF Amed","19 Rue du Paradis",33000,"Bordeaux",{"$f":"IF(K158+N158+Q162+W162>0,K158+N158+Q162+T162+W162,\"\")","v":52},149,"Appart,",47,299,"Cave",5,null,null,null,null,null,null,null,null,null,149,"YOUSEF Amed"]
[150,"Mr","Monsieur","ZIADI MONGI","13 rue de l' espoir",75016,"Paris ",{"$f":"IF(K159+N159+Q163+W163>0,K159+N159+Q163+T163+W163,\"\")","v":53},150,"Appart,",48,300,"Cave",5,null,null,null,null,null,null,null,null,null,150,"ZIADI MONGI","Ziadi-Mongi@free,fr"]
[null,null,null,null,null,null,null,{"$f":"SUM(H10:H159)","v":10000},null,{"$f":"IF(H160-K160-N160-Q160-T160-W160=0,\"\",\"ERREUR\")","v":""},{"$f":"SUM(K10:K159)","v":9250},null,null,{"$f":"SUM(N10:N159)","v":750},null,null,{"$f":"SUM(Q10:Q159)","v":0},null,null,{"$f":"SUM(T10:T159)","v":0},null,null,{"$f":"SUM(W10:W159)","v":0}]

{"sheet":"F.P.8","index":1,"n_rows":1445,"n_cols":12,"rows_kept":1445,"cut":false,"hidden":false,"merged":[[1399,6,1399,8],[1408,6,1408,8],[1417,6,1417,8],[1426,6,1426,8],[1435,6,1435,8],[1444,6,1444,8],[1340,6,1340,8],[1349,6,1349,8],[1358,6,1358,8],[1367,6,1367,8],[1376,6,1376,8],[1385,6,1385,8],[1281,6,1281,8],[1290,6,1290,8],[1299,6,1299,8],[1308,6,1308,8],[1322,6,1322,8],[1331,6,1331,8],[1222,6,1222,8],[1231,6,1231,8],[1245,6,1245,8],[1254,6,1254,8],[1263,6,1263,8],[1272,6,1272,8],[1168,6,1168,8],[1177,6,1177,8],[1186,6,1186,8],[1195,6,1195,8],[1204,6,1204,8],[1213,6,1213,8],[1109,6,1109,8],[1118,6,1118,8],[1127,6,1127,8],[1136,6,1136,8],[1145,6,1145,8],[1154,6,1154,8],[1050,6,1050,8],[1059,6,1059,8],[1068,6,1068,8],[1077,6,1077,8],[1091,6,1091,8],[1100,6,1100,8],[991,6,991,8],[1000,6,1000,8],[1014,6,1014,8],[1023,6,1023,8],[1032,6,1032,8],[1041,6,1041,8],[937,6,937,8],[946,6,946,8],[955,6,955,8],[964,6,964,8],[973,6,973,8],[982,6,982,8],[878,6,878,8],[887,6,887,8],[896,6,896,8],[905,6,905,8],[914,6,914,8],[923,6,923,8],[819,6,819,8],[828,6,828,8],[837,6,837,8],[846,6,846,8],[860,6,860,8],[869,6,869,8],[760,6,760,8],[769,6,769,8],[783,6,783,8],[792,6,792,8],[801,6,801,8],[810,6,810,8],[706,6,706,8],[715,6,715,8],[724,6,724,8],[733,6,733,8],[742,6,742,8],[751,6,751,8],[647,6,647,8],[656,6,656,8],[665,6,665,8],[674,6,674,8],[683,6,683,8],[692,6,692,8],[588,6,588,8],[597,6,597,8],[606,6,606,8],[615,6,615,8],[629,6,629,8],[638,6,638,8],[529,6,529,8],[538,6,538,8],[552,6,552,8],[561,6,561,8],[570,6,570,8],[579,6,579,8],[475,6,475,8],[484,6,484,8],[493,6,493,8],[502,6,502,8],[511,6,511,8],[520,6,520,8],[416,6,416,8],[425,6,425,8],[434,6,434,8],[443,6,443,8],[452,6,452,8],[461,6,461,8],[357,6,357,8],[366,6,366,8],[375,6,375,8],[384,6,384,8],[398,6,398,8],[407,6,407,8],[298,6,298,8],[307,6,307,8],[321,6,321,8],[330,6,330,8],[339,6,339,8],[348,6,348,8],[244,6,244,8],[253,6,253,8],[262,6,262,8],[271,6,271,8],[280,6,280,8],[289,6,289,8],[185,6,185,8],[194,6,194,8],[203,6,203,8],[212,6,212,8],[221,6,221,8],[230,6,230,8],[153,6,153,8],[167,6,167,8],[176,6,176,8],[67,6,67,8],[76,6,76,8],[90,6,90,8],[99,6,99,8],[108,6,108,8],[117,6,117,8],[13,6,13,8],[22,6,22,8],[31,6,31,8],[40,6,40,8],[49,6,49,8],[58,6,58,8],[126,6,126,8],[135,6,135,8],[144,6,144,8]]}
[]
[null,null,null,"A S S E M B L E E     G E N E R A L E",null,null,null,null,null,null,"Page",1]
[null,null,null,null,null,"du",{"$f":"IF(A6>0,Liste!C1,\"\")","v":"00:00:00"}]
[null,null,null,"Résidence Le Paradis; Rue de l' espoir 75016 PARIS"]
[]
[1,null,null,null,null,null,"Par correspondance reçu le "]
[{"$f":"IF($A6<>0,VLOOKUP($A6,Liste!$A$10:$W$459,3,FALSE),\"\")","v":"Monsieur"},{"$f":"IF($A6<>0,VLOOKUP($A6,Liste!$A$10:$W$459,4,FALSE),\"\")","v":"ALEXANDRINI André"},null,null,{"$f":"IF($A6<>0,VLOOKUP($A6,Liste!$A$10:$W$459,8,FALSE),\"\")","v":10},null,"Par visio, audio conférence,,,,"]
[{"$f":"IF($A6<>0,VLOOKUP($A6,Liste!$A$10:$W$459,5,FALSE),\"\")","v":"13 rue de l' espoir"},null,null,null,null,null,"Signature/ Mandataire :"]
[{"$f":"IF($A6<>0,VLOOKUP($A6,Liste!$A$10:$W$459,6,FALSE),\"\")","v":75016},{"$f":"IF($A6<>0,VLOOKUP($A6,Liste!$A$10:$W$459,7,FALSE),\"\")","v":"Paris "}]
[{"$f":" IF($A6<>0, \"Lot \" & VLOOKUP($A6,Liste!$A$10:$W$459,9,FALSE),\"\")","v":"Lot 1"},{"$f":"IF($A6<>0,VLOOKUP($A6,Liste!$A$10:$W$459,10,FALSE),\"\")","v":"Appart,"},{"$f":"IF($A6<>0,VLOOKUP($A6,Liste!$A$10:$W$459,11,FALSE),\"\")","v":5}]
[{"$f":"IF($A6<>0,\"Lot \" & VLOOKUP($A6,Liste!$A$10:$W$459,12,FALSE),\"\")","v":"Lot 151"},{"$f":"IF($A6<>0,VLOOKUP($A6,Liste!$A$10:$W$459,13,FALSE),\"\")","v":"Cave"},{"$f":"IF($A6<>0,VLOOKUP($A6,Liste!$A$10:$W$459,14,FALSE),\"\")","v":5}]
[{"$f":"IF($A6<>0,\"Lot \" & VLOOKUP($A6,Liste!$A$10:$W$459,15,FALSE),\"\")","v":"Lot "},{"$f":"IF($A6<>0,VLOOKUP($A6,Liste!$A$10:$W$459,16,FALSE),\"\")","v":0},{"$f":"IF($A6<>0,VLOOKUP($A6,Liste!$A$10:$W$459,17,FALSE),\"\")","v":0},null,null,null,"Arrivé à","après vote de la Résolution N°"]
[{"$f":"IF($A6<>0,\"Lot \" & VLOOKUP($A6,Liste!$A$10:$W$459,18,FALSE),\"\")","v":"Lot "},0,{"$f":"IF($A6<>0,VLOOKUP($A6,Liste!$A$10:$W$459,19,FALSE),\"\")","v":0},null,null,null,"Départ à","après vote de la Résolution N°"]
[{"$f":"IF($A6<>0,\"Lot \" & VLOOKUP($A6,Liste!$A$10:$W$459,21,FALSE),\"\")","v":"Lot "},{"$f":"IF($A6<>0,VLOOKUP($A6,Liste!$A$10:$W$459,22,FALSE),\"\")","v":0},{"$f":"IF($A6<>0,VLOOKUP($A6,Liste!$A$10:$W$459,23,FALSE),\"\")","v":0},null,null,null,{"$f":"IF(OR(B7=0,VLOOKUP(A6,Liste!$A$10:'Liste'!$Z$459,26)<>\"\"),\"\", \"Voir autorisation messages électroniques\")","v":""}]
[{"$f":"A6+1","v":2},null,null,null,null,null,"Par correspondance reçu le "]
[{"$f":"IF($A15<>0,VLOOKUP($A15,Liste!$A$10:$W$459,3,FALSE),\"\")","v":"Madame"},{"$f":"IF($A15<>0,VLOOKUP($A15,Liste!$A$10:$W$459,4,FALSE),\"\")","v":"ANNINOS Henri"},null,null,{"$f":"IF($A15<>0,VLOOKUP($A15,Liste!$A$10:$W$459,8,FALSE),\"\")","v":70},null,"Par visio, audio conférence,,,,"]
[{"$f":"IF($A15<>0,VLOOKUP($A15,Liste!$A$10:$W$459,5,FALSE),\"\")","v":"13 rue de l' espoir"},null,null,null,null,null,"Signature/ Mandataire :"]
[{"$f":"IF($A15<>0,VLOOKUP($A15,Liste!$A$10:$W$459,6,FALSE),\"\")","v":75016},{"$f":"IF($A15<>0,VLOOKUP($A15,Liste!$A$10:$W$459,7,FALSE),\"\")","v":"Paris "}]
[{"$f":" IF($A15<>0, \"Lot \" & VLOOKUP($A15,Liste!$A$10:$W$459,9,FALSE),\"\")","v":"Lot 2"},{"$f":"IF($A15<>0,VLOOKUP($A15,Liste!$A$10:$W$459,10,FALSE),\"\")","v":"Appart,"},{"$f":"IF($A15<>0,VLOOKUP($A15,Liste!$A$10:$W$459,11,FALSE),\"\")","v":65}]
[{"$f":"IF($A15<>0,\"Lot \" & VLOOKUP($A15,Liste!$A$10:$W$459,12,FALSE),\"\")","v":"Lot 152"},{"$f":"IF($A15<>0,VLOOKUP($A15,Liste!$A$10:$W$459,13,FALSE),\"\")","v":"Cave"},{"$f":"IF($A15<>0,VLOOKUP($A15,Liste!$A$10:$W$459,14,FALSE),\"\")","v":5}]
[{"$f":"IF($A15<>0,\"Lot \" & VLOOKUP($A15,Liste!$A$10:$W$459,15,FALSE),\"\")","v":"Lot "},{"$f":"IF($A15<>0,VLOOKUP($A15,Liste!$A$10:$W$459,16,FALSE),\"\")","v":0},{"$f":"IF($A15<>0,VLOOKUP($A15,Liste!$A$10:$W$459,17,FALSE),\"\")","v":0},null,null,null,"Arrivé à","après vote de la Résolution N°"]
[{"$f":"IF($A15<>0,\"Lot \" & VLOOKUP($A15,Liste!$A$10:$W$459,18,FALSE),\"\")","v":"Lot "},0,{"$f":"IF($A15<>0,VLOOKUP($A15,Liste!$A$10:$W$459,19,FALSE),\"\")","v":0},null,null,null,"Départ à","après vote de la Résolution N°"]
[{"$f":"IF($A15<>0,\"Lot \" & VLOOKUP($A15,Liste!$A$10:$W$459,21,FALSE),\"\")","v":"Lot "},{"$f":"IF($A15<>0,VLOOKUP($A15,Liste!$A$10:$W$459,22,FALSE),\"\")","v":0},{"$f":"IF($A15<>0,VLOOKUP($A15,Liste!$A$10:$W$459,23,FALSE),\"\")","v":0},null,null,null,{"$f":"IF(OR(B16=0,VLOOKUP(A15,Liste!$A$10:'Liste'!$Z$459,26)<>\"\"),\"\", \"Voir autorisation messages électroniques\")","v":"Voir autorisation messages électroniques"}]
[{"$f":"A15+1","v":3},null,null,null,null,null,"Par correspondance reçu le "]
[{"$f":"IF($A24<>0,VLOOKUP($A24,Liste!$A$10:$W$459,3,FALSE),\"\")","v":"Mr  et Mme"},{"$f":"IF($A24<>0,VLOOKUP($A24,Liste!$A$10:$W$459,4,FALSE),\"\")","v":"BALDACCHINO Laurence"},null,null,{"$f":"IF($A24<>0,VLOOKUP($A24,Liste!$A$10:$W$459,8,FALSE),\"\")","v":100},null,"Par visio, audio conférence,,,,"]
[{"$f":"IF($A24<>0,VLOOKUP($A24,Liste!$A$10:$W$459,5,FALSE),\"\")","v":"13 rue de l' espoir"},null,null,null,null,null,"Signature/ Mandataire :"]
[{"$f":"IF($A24<>0,VLOOKUP($A24,Liste!$A$10:$W$459,6,FALSE),\"\")","v":75016},{"$f":"IF($A24<>0,VLOOKUP($A24,Liste!$A$10:$W$459,7,FALSE),\"\")","v":"Paris "}]
[{"$f":" IF($A24<>0, \"Lot \" & VLOOKUP($A24,Liste!$A$10:$W$459,9,FALSE),\"\")","v":"Lot 3"},{"$f":"IF($A24<>0,VLOOKUP($A24,Liste!$A$10:$W$459,10,FALSE),\"\")","v":"Appart,"},{"$f":"IF($A24<>0,VLOOKUP($A24,Liste!$A$10:$W$459,11,FALSE),\"\")","v":95}]
[{"$f":"IF($A24<>0,\"Lot \" & VLOOKUP($A24,Liste!$A$10:$W$459,12,FALSE),\"\")","v":"Lot 153"},{"$f":"IF($A24<>0,VLOOKUP($A24,Liste!$A$10:$W$459,13,FALSE),\"\")","v":"Cave"},{"$f":"IF($A24<>0,VLOOKUP($A24,Liste!$A$10:$W$459,14,FALSE),\"\")","v":5}]
[{"$f":"IF($A24<>0,\"Lot \" & VLOOKUP($A24,Liste!$A$10:$W$459,15,FALSE),\"\")","v":"Lot "},{"$f":"IF($A24<>0,VLOOKUP($A24,Liste!$A$10:$W$459,16,FALSE),\"\")","v":0},{"$f":"IF($A24<>0,VLOOKUP($A24,Liste!$A$10:$W$459,17,FALSE),\"\")","v":0},null,null,null,"Arrivé à","après vote de la Résolution N°"]
[{"$f":"IF($A24<>0,\"Lot \" & VLOOKUP($A24,Liste!$A$10:$W$459,18,FALSE),\"\")","v":"Lot "},0,{"$f":"IF($A24<>0,VLOOKUP($A24,Liste!$A$10:$W$459,19,FALSE),\"\")","v":0},null,null,null,"Départ à","après vote de la Résolution N°"]
[{"$f":"IF($A24<>0,\"Lot \" & VLOOKUP($A24,Liste!$A$10:$W$459,21,FALSE),\"\")","v":"Lot "},{"$f":"IF($A24<>0,VLOOKUP($A24,Liste!$A$10:$W$459,22,FALSE),\"\")","v":0},{"$f":"IF($A24<>0,VLOOKUP($A24,Liste!$A$10:$W$459,23,FALSE),\"\")","v":0},null,null,null,{"$f":"IF(OR(B25=0,VLOOKUP(A24,Liste!$A$10:'Liste'!$Z$459,26)<>\"\"),\"\", \"Voir autorisation messages électroniques\")","v":""}]
[{"$f":"A24+1","v":4},null,null,null,null,null,"Par correspondance reçu le "]
[{"$f":"IF($A33<>0,VLOOKUP($A33,Liste!$A$10:$W$459,3,FALSE),\"\")","v":"Monsieur"},{"$f":"IF($A33<>0,VLOOKUP($A33,Liste!$A$10:$W$459,4,FALSE),\"\")","v":"BANCHET Joseph"},null,null,{"$f":"IF($A33<>0,VLOOKUP($A33,Liste!$A$10:$W$459,8,FALSE),\"\")","v":60},null,"Par visio, audio conférence,,,,"]
[{"$f":"IF($A33<>0,VLOOKUP($A33,Liste!$A$10:$W$459,5,FALSE),\"\")","v":"14 rue de l' espoir"},null,null,null,null,null,"Signature/ Mandataire :"]
[{"$f":"IF($A33<>0,VLOOKUP($A33,Liste!$A$10:$W$459,6,FALSE),\"\")","v":75016},{"$f":"IF($A33<>0,VLOOKUP($A33,Liste!$A$10:$W$459,7,FALSE),\"\")","v":"Paris "}]
[{"$f":" IF($A33<>0, \"Lot \" & VLOOKUP($A33,Liste!$A$10:$W$459,9,FALSE),\"\")","v":"Lot 4"},{"$f":"IF($A33<>0,VLOOKUP($A33,Liste!$A$10:$W$459,10,FALSE),\"\")","v":"Appart,"},{"$f":"IF($A33<>0,VLOOKUP($A33,Liste!$A$10:$W$459,11,FALSE),\"\")","v":55}]
[{"$f":"IF($A33<>0,\"Lot \" & VLOOKUP($A33,Liste!$A$10:$W$459,12,FALSE),\"\")","v":"Lot 154"},{"$f":"IF($A33<>0,VLOOKUP($A33,Liste!$A$10:$W$459,13,FALSE),\"\")","v":"Cave"},{"$f":"IF($A33<>0,VLOOKUP($A33,Liste!$A$10:$W$459,14,FALSE),\"\")","v":5}]
[{"$f":"IF($A33<>0,\"Lot \" & VLOOKUP($A33,Liste!$A$10:$W$459,15,FALSE),\"\")","v":"Lot "},{"$f":"IF($A33<>0,VLOOKUP($A33,Liste!$A$10:$W$459,16,FALSE),\"\")","v":0},{"$f":"IF($A33<>0,VLOOKUP($A33,Liste!$A$10:$W$459,17,FALSE),\"\")","v":0},null,null,null,"Arrivé à","après vote de la Résolution N°"]
[{"$f":"IF($A33<>0,\"Lot \" & VLOOKUP($A33,Liste!$A$10:$W$459,18,FALSE),\"\")","v":"Lot "},0,{"$f":"IF($A33<>0,VLOOKUP($A33,Liste!$A$10:$W$459,19,FALSE),\"\")","v":0},null,null,null,"Départ à","après vote de la Résolution N°"]
[{"$f":"IF($A33<>0,\"Lot \" & VLOOKUP($A33,Liste!$A$10:$W$459,21,FALSE),\"\")","v":"Lot "},{"$f":"IF($A33<>0,VLOOKUP($A33,Liste!$A$10:$W$459,22,FALSE),\"\")","v":0},{"$f":"IF($A33<>0,VLOOKUP($A33,Liste!$A$10:$W$459,23,FALSE),\"\")","v":0},null,null,null,{"$f":"IF(OR(B34=0,VLOOKUP(A33,Liste!$A$10:'Liste'!$Z$459,26)<>\"\"),\"\", \"Voir autorisation messages électroniques\")","v":"Voir autorisation messages électroniques"}]
[{"$f":"A33+1","v":5},null,null,null,null,null,"Par correspondance reçu le "]
[{"$f":"IF($A42<>0,VLOOKUP($A42,Liste!$A$10:$W$459,3,FALSE),\"\")","v":"Madame"},{"$f":"IF($A42<>0,VLOOKUP($A42,Liste!$A$10:$W$459,4,FALSE),\"\")","v":"BARDIN Andrée"},null,null,{"$f":"IF($A42<>0,VLOOKUP($A42,Liste!$A$10:$W$459,8,FALSE),\"\")","v":50},null,"Par visio, audio conférence,,,,"]
[{"$f":"IF($A42<>0,VLOOKUP($A42,Liste!$A$10:$W$459,5,FALSE),\"\")","v":"15 rue de l' espoir"},null,null,null,null,null,"Signature/ Mandataire :"]
[{"$f":"IF($A42<>0,VLOOKUP($A42,Liste!$A$10:$W$459,6,FALSE),\"\")","v":75016},{"$f":"IF($A42<>0,VLOOKUP($A42,Liste!$A$10:$W$459,7,FALSE),\"\")","v":"Paris "}]
[{"$f":" IF($A42<>0, \"Lot \" & VLOOKUP($A42,Liste!$A$10:$W$459,9,FALSE),\"\")","v":"Lot 5"},{"$f":"IF($A42<>0,VLOOKUP($A42,Liste!$A$10:$W$459,10,FALSE),\"\")","v":"Appart,"},{"$f":"IF($A42<>0,VLOOKUP($A42,Liste!$A$10:$W$459,11,FALSE),\"\")","v":45}]
[{"$f":"IF($A42<>0,\"Lot \" & VLOOKUP($A42,Liste!$A$10:$W$459,12,FALSE),\"\")","v":"Lot 155"},{"$f":"IF($A42<>0,VLOOKUP($A42,Liste!$A$10:$W$459,13,FALSE),\"\")","v":"Cave"},{"$f":"IF($A42<>0,VLOOKUP($A42,Liste!$A$10:$W$459,14,FALSE),\"\")","v":5}]
[{"$f":"IF($A42<>0,\"Lot \" & VLOOKUP($A42,Liste!$A$10:$W$459,15,FALSE),\"\")","v":"Lot "},{"$f":"IF($A42<>0,VLOOKUP($A42,Liste!$A$10:$W$459,16,FALSE),\"\")","v":0},{"$f":"IF($A42<>0,VLOOKUP($A42,Liste!$A$10:$W$459,17,FALSE),\"\")","v":0},null,null,null,"Arrivé à","après vote de la Résolution N°"]
[{"$f":"IF($A42<>0,\"Lot \" & VLOOKUP($A42,Liste!$A$10:$W$459,18,FALSE),\"\")","v":"Lot "},0,{"$f":"IF($A42<>0,VLOOKUP($A42,Liste!$A$10:$W$459,19,FALSE),\"\")","v":0},null,null,null,"Départ à","après vote de la Résolution N°"]
[{"$f":"IF($A42<>0,\"Lot \" & VLOOKUP($A42,Liste!$A$10:$W$459,21,FALSE),\"\")","v":"Lot "},{"$f":"IF($A42<>0,VLOOKUP($A42,Liste!$A$10:$W$459,22,FALSE),\"\")","v":0},{"$f":"IF($A42<>0,VLOOKUP($A42,Liste!$A$10:$W$459,23,FALSE),\"\")","v":0},null,null,null,{"$f":"IF(OR(B43=0,VLOOKUP(A42,Liste!$A$10:'Liste'!$Z$459,26)<>\"\"),\"\", \"Voir autorisation messages électroniques\")","v":"Voir autorisation messages électroniques"}]
[{"$f":"A42+1","v":6},null,null,null,null,null,"Par correspondance reçu le "]
[{"$f":"IF($A51<>0,VLOOKUP($A51,Liste!$A$10:$W$459,3,FALSE),\"\")","v":"Mr  et Mme"},{"$f":"IF($A51<>0,VLOOKUP($A51,Liste!$A$10:$W$459,4,FALSE),\"\")","v":"BARDIN-BENARD Louis"},null,null,{"$f":"IF($A51<>0,VLOOKUP($A51,Liste!$A$10:$W$459,8,FALSE),\"\")","v":45},null,"Par visio, audio conférence,,,,"]
[{"$f":"IF($A51<>0,VLOOKUP($A51,Liste!$A$10:$W$459,5,FALSE),\"\")","v":"16 rue de l' espoir"},null,null,null,null,null,"Signature/ Mandataire :"]
[{"$f":"IF($A51<>0,VLOOKUP($A51,Liste!$A$10:$W$459,6,FALSE),\"\")","v":75016},{"$f":"IF($A51<>0,VLOOKUP($A51,Liste!$A$10:$W$459,7,FALSE),\"\")","v":"Paris "}]
[{"$f":" IF($A51<>0, \"Lot \" & VLOOKUP($A51,Liste!$A$10:$W$459,9,FALSE),\"\")","v":"Lot 6"},{"$f":"IF($A51<>0,VLOOKUP($A51,Liste!$A$10:$W$459,10,FALSE),\"\")","v":"Appart,"},{"$f":"IF($A51<>0,VLOOKUP($A51,Liste!$A$10:$W$459,11,FALSE),\"\")","v":40}]
[{"$f":"IF($A51<>0,\"Lot \" & VLOOKUP($A51,Liste!$A$10:$W$459,12,FALSE),\"\")","v":"Lot 156"},{"$f":"IF($A51<>0,VLOOKUP($A51,Liste!$A$10:$W$459,13,FALSE),\"\")","v":"Cave"},{"$f":"IF($A51<>0,VLOOKUP($A51,Liste!$A$10:$W$459,14,FALSE),\"\")","v":5}]
[{"$f":"IF($A51<>0,\"Lot \" & VLOOKUP($A51,Liste!$A$10:$W$459,15,FALSE),\"\")","v":"Lot "},{"$f":"IF($A51<>0,VLOOKUP($A51,Liste!$A$10:$W$459,16,FALSE),\"\")","v":0},{"$f":"IF($A51<>0,VLOOKUP($A51,Liste!$A$10:$W$459,17,FALSE),\"\")","v":0},null,null,null,"Arrivé à","après vote de la Résolution N°"]
[{"$f":"IF($A51<>0,\"Lot \" & VLOOKUP($A51,Liste!$A$10:$W$459,18,FALSE),\"\")","v":"Lot "},0,{"$f":"IF($A51<>0,VLOOKUP($A51,Liste!$A$10:$W$459,19,FALSE),\"\")","v":0},null,null,null,"Départ à","après vote de la Résolution N°"]
[{"$f":"IF($A51<>0,\"Lot \" & VLOOKUP($A51,Liste!$A$10:$W$459,21,FALSE),\"\")","v":"Lot "},{"$f":"IF($A51<>0,VLOOKUP($A51,Liste!$A$10:$W$459,22,FALSE),\"\")","v":0},{"$f":"IF($A51<>0,VLOOKUP($A51,Liste!$A$10:$W$459,23,FALSE),\"\")","v":0},null,null,null,{"$f":"IF(OR(B52=0,VLOOKUP(A51,Liste!$A$10:'Liste'!$Z$459,26)<>\"\"),\"\", \"Voir autorisation messages électroniques\")","v":"Voir autorisation messages électroniques"}]
[{"$f":"A51+1","v":7},null,null,null,null,null,"Par correspondance reçu le "]
[{"$f":"IF($A60<>0,VLOOKUP($A60,Liste!$A$10:$W$459,3,FALSE),\"\")","v":"Mr  et Mme"},{"$f":"IF($A60<>0,VLOOKUP($A60,Liste!$A$10:$W$459,4,FALSE),\"\")","v":"BARDOUILLE Hermine"},null,null,{"$f":"IF($A60<>0,VLOOKUP($A60,Liste!$A$10:$W$459,8,FALSE),\"\")","v":70},null,"Par visio, audio conférence,,,,"]
[{"$f":"IF($A60<>0,VLOOKUP($A60,Liste!$A$10:$W$459,5,FALSE),\"\")","v":"13 rue de l' espoir"},null,null,null,null,null,"Signature/ Mandataire :"]
[{"$f":"IF($A60<>0,VLOOKUP($A60,Liste!$A$10:$W$459,6,FALSE),\"\")","v":75016},{"$f":"IF($A60<>0,VLOOKUP($A60,Liste!$A$10:$W$459,7,FALSE),\"\")","v":"Paris "}]
[{"$f":" IF($A60<>0, \"Lot \" & VLOOKUP($A60,Liste!$A$10:$W$459,9,FALSE),\"\")","v":"Lot 7"},{"$f":"IF($A60<>0,VLOOKUP($A60,Liste!$A$10:$W$459,10,FALSE),\"\")","v":"Appart,"},{"$f":"IF($A60<>0,VLOOKUP($A60,Liste!$A$10:$W$459,11,FALSE),\"\")","v":65}]
[{"$f":"IF($A60<>0,\"Lot \" & VLOOKUP($A60,Liste!$A$10:$W$459,12,FALSE),\"\")","v":"Lot 157"},{"$f":"IF($A60<>0,VLOOKUP($A60,Liste!$A$10:$W$459,13,FALSE),\"\")","v":"Cave"},{"$f":"IF($A60<>0,VLOOKUP($A60,Liste!$A$10:$W$459,14,FALSE),\"\")","v":5}]
[{"$f":"IF($A60<>0,\"Lot \" & VLOOKUP($A60,Liste!$A$10:$W$459,15,FALSE),\"\")","v":"Lot "},{"$f":"IF($A60<>0,VLOOKUP($A60,Liste!$A$10:$W$459,16,FALSE),\"\")","v":0},{"$f":"IF($A60<>0,VLOOKUP($A60,Liste!$A$10:$W$459,17,FALSE),\"\")","v":0},null,null,null,"Arrivé à","après vote de la Résolution N°"]
[{"$f":"IF($A60<>0,\"Lot \" & VLOOKUP($A60,Liste!$A$10:$W$459,18,FALSE),\"\")","v":"Lot "},0,{"$f":"IF($A60<>0,VLOOKUP($A60,Liste!$A$10:$W$459,19,FALSE),\"\")","v":0},null,null,null,"Départ à","après vote de la Résolution N°"]
[{"$f":"IF($A60<>0,\"Lot \" & VLOOKUP($A60,Liste!$A$10:$W$459,21,FALSE),\"\")","v":"Lot "},{"$f":"IF($A60<>0,VLOOKUP($A60,Liste!$A$10:$W$459,22,FALSE),\"\")","v":0},{"$f":"IF($A60<>0,VLOOKUP($A60,Liste!$A$10:$W$459,23,FALSE),\"\")","v":0},null,null,null,{"$f":"IF(OR(B61=0,VLOOKUP(A60,Liste!$A$10:'Liste'!$Z$459,26)<>\"\"),\"\", \"Voir autorisation messages électroniques\")","v":"Voir autorisation messages électroniques"}]
[{"$f":"A60+1","v":8},null,null,null,null,null,"Par correspondance reçu le "]
[{"$f":"IF($A69<>0,VLOOKUP($A69,Liste!$A$10:$W$459,3,FALSE),\"\")","v":"Mr  et Mme"},{"$f":"IF($A69<>0,VLOOKUP($A69,Liste!$A$10:$W$459,4,FALSE),\"\")","v":"BARDOUILLE Jean Yves"},null,null,{"$f":"IF($A69<>0,VLOOKUP($A69,Liste!$A$10:$W$459,8,FALSE),\"\")","v":100},null,"Par visio, audio conférence,,,,"]
[{"$f":"IF($A69<>0,VLOOKUP($A69,Liste!$A$10:$W$459,5,FALSE),\"\")","v":"13 rue de l' espoir"},null,null,null,null,null,"Signature/ Mandataire :"]
[{"$f":"IF($A69<>0,VLOOKUP($A69,Liste!$A$10:$W$459,6,FALSE),\"\")","v":75016},{"$f":"IF($A69<>0,VLOOKUP($A69,Liste!$A$10:$W$459,7,FALSE),\"\")","v":"Paris "}]
[{"$f":" IF($A69<>0, \"Lot \" & VLOOKUP($A69,Liste!$A$10:$W$459,9,FALSE),\"\")","v":"Lot 8"},{"$f":"IF($A69<>0,VLOOKUP($A69,Liste!$A$10:$W$459,10,FALSE),\"\")","v":"Appart,"},{"$f":"IF($A69<>0,VLOOKUP($A69,Liste!$A$10:$W$459,11,FALSE),\"\")","v":95}]
[{"$f":"IF($A69<>0,\"Lot \" & VLOOKUP($A69,Liste!$A$10:$W$459,12,FALSE),\"\")","v":"Lot 158"},{"$f":"IF($A69<>0,VLOOKUP($A69,Liste!$A$10:$W$459,13,FALSE),\"\")","v":"Cave"},{"$f":"IF($A69<>0,VLOOKUP($A69,Liste!$A$10:$W$459,14,FALSE),\"\")","v":5}]
[{"$f":"IF($A69<>0,\"Lot \" & VLOOKUP($A69,Liste!$A$10:$W$459,15,FALSE),\"\")","v":"Lot "},{"$f":"IF($A69<>0,VLOOKUP($A69,Liste!$A$10:$W$459,16,FALSE),\"\")","v":0},{"$f":"IF($A69<>0,VLOOKUP($A69,Liste!$A$10:$W$459,17,FALSE),\"\")","v":0},null,null,null,"Arrivé à","après vote de la Résolution N°"]
[{"$f":"IF($A69<>0,\"Lot \" & VLOOKUP($A69,Liste!$A$10:$W$459,18,FALSE),\"\")","v":"Lot "},0,{"$f":"IF($A69<>0,VLOOKUP($A69,Liste!$A$10:$W$459,19,FALSE),\"\")","v":0},null,null,null,"Départ à","après vote de la Résolution N°"]
[{"$f":"IF($A69<>0,\"Lot \" & VLOOKUP($A69,Liste!$A$10:$W$459,21,FALSE),\"\")","v":"Lot "},{"$f":"IF($A69<>0,VLOOKUP($A69,Liste!$A$10:$W$459,22,FALSE),\"\")","v":0},{"$f":"IF($A69<>0,VLOOKUP($A69,Liste!$A$10:$W$459,23,FALSE),\"\")","v":0},null,null,null,{"$f":"IF(OR(B70=0,VLOOKUP(A69,Liste!$A$10:'Liste'!$Z$459,26)<>\"\"),\"\", \"Voir autorisation messages électroniques\")","v":"Voir autorisation messages électroniques"}]
[]
[null,null,null,"A S S E M B L E E     G E N E R A L E",null,null,null,null,null,null,"Page",{"$f":"L2+1","v":2}]
[null,null,null,null,null,"du","2019-12-20"]
[null,null,null,"Résidence Le Paradis; Rue de l' espoir 75016 PARIS"]
[]
[{"$f":"A69+1","v":9},null,null,null,null,null,"Par correspondance reçu le "]
[{"$f":"IF($A83<>0,VLOOKUP($A83,Liste!$A$10:$W$459,3,FALSE),\"\")","v":"Mr  et Mme"},{"$f":"IF($A83<>0,VLOOKUP($A83,Liste!$A$10:$W$459,4,FALSE),\"\")","v":"BAUDINO"},null,null,{"$f":"IF($A83<>0,VLOOKUP($A83,Liste!$A$10:$W$459,8,FALSE),\"\")","v":84},null,"Par visio, audio conférence,,,,"]
[{"$f":"IF($A83<>0,VLOOKUP($A83,Liste!$A$10:$W$459,5,FALSE),\"\")","v":"13 rue de l' espoir"},null,null,null,null,null,"Signature/ Mandataire :"]
[{"$f":"IF($A83<>0,VLOOKUP($A83,Liste!$A$10:$W$459,6,FALSE),\"\")","v":75016},{"$f":"IF($A83<>0,VLOOKUP($A83,Liste!$A$10:$W$459,7,FALSE),\"\")","v":"Paris "}]
[{"$f":" IF($A83<>0, \"Lot \" & VLOOKUP($A83,Liste!$A$10:$W$459,9,FALSE),\"\")","v":"Lot 9"},{"$f":"IF($A83<>0,VLOOKUP($A83,Liste!$A$10:$W$459,10,FALSE),\"\")","v":"Appart,"},{"$f":"IF($A83<>0,VLOOKUP($A83,Liste!$A$10:$W$459,11,FALSE),\"\")","v":79}]
[{"$f":"IF($A83<>0,\"Lot \" & VLOOKUP($A83,Liste!$A$10:$W$459,12,FALSE),\"\")","v":"Lot 159"},{"$f":"IF($A83<>0,VLOOKUP($A83,Liste!$A$10:$W$459,13,FALSE),\"\")","v":"Cave"},{"$f":"IF($A83<>0,VLOOKUP($A83,Liste!$A$10:$W$459,14,FALSE),\"\")","v":5}]
[{"$f":"IF($A83<>0,\"Lot \" & VLOOKUP($A83,Liste!$A$10:$W$459,15,FALSE),\"\")","v":"Lot "},{"$f":"IF($A83<>0,VLOOKUP($A83,Liste!$A$10:$W$459,16,FALSE),\"\")","v":0},{"$f":"IF($A83<>0,VLOOKUP($A83,Liste!$A$10:$W$459,17,FALSE),\"\")","v":0},null,null,null,"Arrivé à","après vote de la Résolution N°"]
[{"$f":"IF($A83<>0,\"Lot \" & VLOOKUP($A83,Liste!$A$10:$W$459,18,FALSE),\"\")","v":"Lot "},0,{"$f":"IF($A83<>0,VLOOKUP($A83,Liste!$A$10:$W$459,19,FALSE),\"\")","v":0},null,null,null,"Départ à","après vote de la Résolution N°"]
[{"$f":"IF($A83<>0,\"Lot \" & VLOOKUP($A83,Liste!$A$10:$W$459,21,FALSE),\"\")","v":"Lot "},{"$f":"IF($A83<>0,VLOOKUP($A83,Liste!$A$10:$W$459,22,FALSE),\"\")","v":0},{"$f":"IF($A83<>0,VLOOKUP($A83,Liste!$A$10:$W$459,23,FALSE),\"\")","v":0},null,null,null,{"$f":"IF(OR(B84=0,VLOOKUP(A83,Liste!$A$10:'Liste'!$Z$459,26)<>\"\"),\"\", \"Voir autorisation messages électroniques\")","v":"Voir autorisation messages électroniques"}]
[{"$f":"A83+1","v":10},null,null,null,null,null,"Par correspondance reçu le "]
[{"$f":"IF($A92<>0,VLOOKUP($A92,Liste!$A$10:$W$459,3,FALSE),\"\")","v":"Mr  et Mme"},{"$f":"IF($A92<>0,VLOOKUP($A92,Liste!$A$10:$W$459,4,FALSE),\"\")","v":"BAUGUIL André"},null,null,{"$f":"IF($A92<>0,VLOOKUP($A92,Liste!$A$10:$W$459,8,FALSE),\"\")","v":63},null,"Par visio, audio conférence,,,,"]
[{"$f":"IF($A92<>0,VLOOKUP($A92,Liste!$A$10:$W$459,5,FALSE),\"\")","v":"13 rue de l' espoir"},null,null,null,null,null,"Signature/ Mandataire :"]
[{"$f":"IF($A92<>0,VLOOKUP($A92,Liste!$A$10:$W$459,6,FALSE),\"\")","v":75016},{"$f":"IF($A92<>0,VLOOKUP($A92,Liste!$A$10:$W$459,7,FALSE),\"\")","v":"Paris "}]
[{"$f":" IF($A92<>0, \"Lot \" & VLOOKUP($A92,Liste!$A$10:$W$459,9,FALSE),\"\")","v":"Lot 10"},{"$f":"IF($A92<>0,VLOOKUP($A92,Liste!$A$10:$W$459,10,FALSE),\"\")","v":"Appart,"},{"$f":"IF($A92<>0,VLOOKUP($A92,Liste!$A$10:$W$459,11,FALSE),\"\")","v":58}]
[{"$f":"IF($A92<>0,\"Lot \" & VLOOKUP($A92,Liste!$A$10:$W$459,12,FALSE),\"\")","v":"Lot 160"},{"$f":"IF($A92<>0,VLOOKUP($A92,Liste!$A$10:$W$459,13,FALSE),\"\")","v":"Cave"},{"$f":"IF($A92<>0,VLOOKUP($A92,Liste!$A$10:$W$459,14,FALSE),\"\")","v":5}]
[{"$f":"IF($A92<>0,\"Lot \" & VLOOKUP($A92,Liste!$A$10:$W$459,15,FALSE),\"\")","v":"Lot "},{"$f":"IF($A92<>0,VLOOKUP($A92,Liste!$A$10:$W$459,16,FALSE),\"\")","v":0},{"$f":"IF($A92<>0,VLOOKUP($A92,Liste!$A$10:$W$459,17,FALSE),\"\")","v":0},null,null,null,"Arrivé à","après vote de la Résolution N°"]
[{"$f":"IF($A92<>0,\"Lot \" & VLOOKUP($A92,Liste!$A$10:$W$459,18,FALSE),\"\")","v":"Lot "},0,{"$f":"IF($A92<>0,VLOOKUP($A92,Liste!$A$10:$W$459,19,FALSE),\"\")","v":0},null,null,null,"Départ à","après vote de la Résolution N°"]
[{"$f":"IF($A92<>0,\"Lot \" & VLOOKUP($A92,Liste!$A$10:$W$459,21,FALSE),\"\")","v":"Lot "},{"$f":"IF($A92<>0,VLOOKUP($A92,Liste!$A$10:$W$459,22,FALSE),\"\")","v":0},{"$f":"IF($A92<>0,VLOOKUP($A92,Liste!$A$10:$W$459,23,FALSE),\"\")","v":0},null,null,null,{"$f":"IF(OR(B93=0,VLOOKUP(A92,Liste!$A$10:'Liste'!$Z$459,26)<>\"\"),\"\", \"Voir autorisation messages électroniques\")","v":"Voir autorisation messages électroniques"}]
[{"$f":"A92+1","v":11},null,null,null,null,null,"Par correspondance reçu le "]
[{"$f":"IF($A101<>0,VLOOKUP($A101,Liste!$A$10:$W$459,3,FALSE),\"\")","v":"Mr  et Mme"},{"$f":"IF($A101<>0,VLOOKUP($A101,Liste!$A$10:$W$459,4,FALSE),\"\")","v":"BAUMGARTNER Peter"},null,null,{"$f":"IF($A101<>0,VLOOKUP($A101,Liste!$A$10:$W$459,8,FALSE),\"\")","v":70},null,"Par visio, audio conférence,,,,"]
[{"$f":"IF($A101<>0,VLOOKUP($A101,Liste!$A$10:$W$459,5,FALSE),\"\")","v":"13 rue de l' espoir"},null,null,null,null,null,"Signature/ Mandataire :"]
[{"$f":"IF($A101<>0,VLOOKUP($A101,Liste!$A$10:$W$459,6,FALSE),\"\")","v":75016},{"$f":"IF($A101<>0,VLOOKUP($A101,Liste!$A$10:$W$459,7,FALSE),\"\")","v":"Paris "}]
[{"$f":" IF($A101<>0, \"Lot \" & VLOOKUP($A101,Liste!$A$10:$W$459,9,FALSE),\"\")","v":"Lot 11"},{"$f":"IF($A101<>0,VLOOKUP($A101,Liste!$A$10:$W$459,10,FALSE),\"\")","v":"Appart,"},{"$f":"IF($A101<>0,VLOOKUP($A101,Liste!$A$10:$W$459,11,FALSE),\"\")","v":65}]
[{"$f":"IF($A101<>0,\"Lot \" & VLOOKUP($A101,Liste!$A$10:$W$459,12,FALSE),\"\")","v":"Lot 161"},{"$f":"IF($A101<>0,VLOOKUP($A101,Liste!$A$10:$W$459,13,FALSE),\"\")","v":"Cave"},{"$f":"IF($A101<>0,VLOOKUP($A101,Liste!$A$10:$W$459,14,FALSE),\"\")","v":5}]
[{"$f":"IF($A101<>0,\"Lot \" & VLOOKUP($A101,Liste!$A$10:$W$459,15,FALSE),\"\")","v":"Lot "},{"$f":"IF($A101<>0,VLOOKUP($A101,Liste!$A$10:$W$459,16,FALSE),\"\")","v":0},{"$f":"IF($A101<>0,VLOOKUP($A101,Liste!$A$10:$W$459,17,FALSE),\"\")","v":0},null,null,null,"Arrivé à","après vote de la Résolution N°"]
[{"$f":"IF($A101<>0,\"Lot \" & VLOOKUP($A101,Liste!$A$10:$W$459,18,FALSE),\"\")","v":"Lot "},0,{"$f":"IF($A101<>0,VLOOKUP($A101,Liste!$A$10:$W$459,19,FALSE),\"\")","v":0},null,null,null,"Départ à","après vote de la Résolution N°"]
[{"$f":"IF($A101<>0,\"Lot \" & VLOOKUP($A101,Liste!$A$10:$W$459,21,FALSE),\"\")","v":"Lot "},{"$f":"IF($A101<>0,VLOOKUP($A101,Liste!$A$10:$W$459,22,FALSE),\"\")","v":0},{"$f":"IF($A101<>0,VLOOKUP($A101,Liste!$A$10:$W$459,23,FALSE),\"\")","v":0},null,null,null,{"$f":"IF(OR(B102=0,VLOOKUP(A101,Liste!$A$10:'Liste'!$Z$459,26)<>\"\"),\"\", \"Voir autorisation messages électroniques\")","v":"Voir autorisation messages électroniques"}]
[{"$f":"A101+1","v":12},null,null,null,null,null,"Par correspondance reçu le "]
[{"$f":"IF($A110<>0,VLOOKUP($A110,Liste!$A$10:$W$459,3,FALSE),\"\")","v":"Mr  et Mme"},{"$f":"IF($A110<>0,VLOOKUP($A110,Liste!$A$10:$W$459,4,FALSE),\"\")","v":"BECH Monique"},null,null,{"$f":"IF($A110<>0,VLOOKUP($A110,Liste!$A$10:$W$459,8,FALSE),\"\")","v":100},null,"Par visio, audio conférence,,,,"]
[{"$f":"IF($A110<>0,VLOOKUP($A110,Liste!$A$10:$W$459,5,FALSE),\"\")","v":"13 rue de l' espoir"},null,null,null,null,null,"Signature/ Mandataire :"]
[{"$f":"IF($A110<>0,VLOOKUP($A110,Liste!$A$10:$W$459,6,FALSE),\"\")","v":75016},{"$f":"IF($A110<>0,VLOOKUP($A110,Liste!$A$10:$W$459,7,FALSE),\"\")","v":"Paris "}]
[{"$f":" IF($A110<>0, \"Lot \" & VLOOKUP($A110,Liste!$A$10:$W$459,9,FALSE),\"\")","v":"Lot 12"},{"$f":"IF($A110<>0,VLOOKUP($A110,Liste!$A$10:$W$459,10,FALSE),\"\")","v":"Appart,"},{"$f":"IF($A110<>0,VLOOKUP($A110,Liste!$A$10:$W$459,11,FALSE),\"\")","v":95}]
[{"$f":"IF($A110<>0,\"Lot \" & VLOOKUP($A110,Liste!$A$10:$W$459,12,FALSE),\"\")","v":"Lot 162"},{"$f":"IF($A110<>0,VLOOKUP($A110,Liste!$A$10:$W$459,13,FALSE),\"\")","v":"Cave"},{"$f":"IF($A110<>0,VLOOKUP($A110,Liste!$A$10:$W$459,14,FALSE),\"\")","v":5}]
[{"$f":"IF($A110<>0,\"Lot \" & VLOOKUP($A110,Liste!$A$10:$W$459,15,FALSE),\"\")","v":"Lot "},{"$f":"IF($A110<>0,VLOOKUP($A110,Liste!$A$10:$W$459,16,FALSE),\"\")","v":0},{"$f":"IF($A110<>0,VLOOKUP($A110,Liste!$A$10:$W$459,17,FALSE),\"\")","v":0},null,null,null,"Arrivé à","après vote de la Résolution N°"]
[{"$f":"IF($A110<>0,\"Lot \" & VLOOKUP($A110,Liste!$A$10:$W$459,18,FALSE),\"\")","v":"Lot "},0,{"$f":"IF($A110<>0,VLOOKUP($A110,Liste!$A$10:$W$459,19,FALSE),\"\")","v":0},null,null,null,"Départ à","après vote de la Résolution N°"]
[{"$f":"IF($A110<>0,\"Lot \" & VLOOKUP($A110,Liste!$A$10:$W$459,21,FALSE),\"\")","v":"Lot "},{"$f":"IF($A110<>0,VLOOKUP($A110,Liste!$A$10:$W$459,22,FALSE),\"\")","v":0},{"$f":"IF($A110<>0,VLOOKUP($A110,Liste!$A$10:$W$459,23,FALSE),\"\")","v":0},null,null,null,{"$f":"IF(OR(B111=0,VLOOKUP(A110,Liste!$A$10:'Liste'!$Z$459,26)<>\"\"),\"\", \"Voir autorisation messages électroniques\")","v":"Voir autorisation messages électroniques"}]
[{"$f":"A110+1","v":13},null,null,null,null,null,"Par correspondance reçu le "]
[{"$f":"IF($A119<>0,VLOOKUP($A119,Liste!$A$10:$W$459,3,FALSE),\"\")","v":"Monsieur"},{"$f":"IF($A119<>0,VLOOKUP($A119,Liste!$A$10:$W$459,4,FALSE),\"\")","v":"BERGET Jean François"},null,null,{"$f":"IF($A119<>0,VLOOKUP($A119,Liste!$A$10:$W$459,8,FALSE),\"\")","v":70},null,"Par visio, audio conférence,,,,"]
[{"$f":"IF($A119<>0,VLOOKUP($A119,Liste!$A$10:$W$459,5,FALSE),\"\")","v":"13 rue de l' espoir"},null,null,null,null,null,"Signature/ Mandataire :"]
[{"$f":"IF($A119<>0,VLOOKUP($A119,Liste!$A$10:$W$459,6,FALSE),\"\")","v":75016},{"$f":"IF($A119<>0,VLOOKUP($A119,Liste!$A$10:$W$459,7,FALSE),\"\")","v":"Paris "}]
[{"$f":" IF($A119<>0, \"Lot \" & VLOOKUP($A119,Liste!$A$10:$W$459,9,FALSE),\"\")","v":"Lot 13"},{"$f":"IF($A119<>0,VLOOKUP($A119,Liste!$A$10:$W$459,10,FALSE),\"\")","v":"Appart,"},{"$f":"IF($A119<>0,VLOOKUP($A119,Liste!$A$10:$W$459,11,FALSE),\"\")","v":65}]
[{"$f":"IF($A119<>0,\"Lot \" & VLOOKUP($A119,Liste!$A$10:$W$459,12,FALSE),\"\")","v":"Lot 163"},{"$f":"IF($A119<>0,VLOOKUP($A119,Liste!$A$10:$W$459,13,FALSE),\"\")","v":"Cave"},{"$f":"IF($A119<>0,VLOOKUP($A119,Liste!$A$10:$W$459,14,FALSE),\"\")","v":5}]
[{"$f":"IF($A119<>0,\"Lot \" & VLOOKUP($A119,Liste!$A$10:$W$459,15,FALSE),\"\")","v":"Lot "},{"$f":"IF($A119<>0,VLOOKUP($A119,Liste!$A$10:$W$459,16,FALSE),\"\")","v":0},{"$f":"IF($A119<>0,VLOOKUP($A119,Liste!$A$10:$W$459,17,FALSE),\"\")","v":0},null,null,null,"Arrivé à","après vote de la Résolution N°"]
[{"$f":"IF($A119<>0,\"Lot \" & VLOOKUP($A119,Liste!$A$10:$W$459,18,FALSE),\"\")","v":"Lot "},0,{"$f":"IF($A119<>0,VLOOKUP($A119,Liste!$A$10:$W$459,19,FALSE),\"\")","v":0},null,null,null,"Départ à","après vote de la Résolution N°"]
[{"$f":"IF($A119<>0,\"Lot \" & VLOOKUP($A119,Liste!$A$10:$W$459,21,FALSE),\"\")","v":"Lot "},{"$f":"IF($A119<>0,VLOOKUP($A119,Liste!$A$10:$W$459,22,FALSE),\"\")","v":0},{"$f":"IF($A119<>0,VLOOKUP($A119,Liste!$A$10:$W$459,23,FALSE),\"\")","v":0},null,null,null,{"$f":"IF(OR(B120=0,VLOOKUP(A119,Liste!$A$10:'Liste'!$Z$459,26)<>\"\"),\"\", \"Voir autorisation messages électroniques\")","v":"Voir autorisation messages électroniques"}]
[{"$f":"A119+1","v":14},null,null,null,null,null,"Par correspondance reçu le "]
[{"$f":"IF($A128<>0,VLOOKUP($A128,Liste!$A$10:$W$459,3,FALSE),\"\")","v":"Monsieur"},{"$f":"IF($A128<>0,VLOOKUP($A128,Liste!$A$10:$W$459,4,FALSE),\"\")","v":"BERLIER David"},null,null,{"$f":"IF($A128<>0,VLOOKUP($A128,Liste!$A$10:$W$459,8,FALSE),\"\")","v":70},null,"Par visio, audio conférence,,,,"]
[{"$f":"IF($A128<>0,VLOOKUP($A128,Liste!$A$10:$W$459,5,FALSE),\"\")","v":"13 rue de l' espoir"},null,null,null,null,null,"Signature/ Mandataire :"]
[{"$f":"IF($A128<>0,VLOOKUP($A128,Liste!$A$10:$W$459,6,FALSE),\"\")","v":75016},{"$f":"IF($A128<>0,VLOOKUP($A128,Liste!$A$10:$W$459,7,FALSE),\"\")","v":"Paris "}]
[{"$f":" IF($A128<>0, \"Lot \" & VLOOKUP($A128,Liste!$A$10:$W$459,9,FALSE),\"\")","v":"Lot 14"},{"$f":"IF($A128<>0,VLOOKUP($A128,Liste!$A$10:$W$459,10,FALSE),\"\")","v":"Appart,"},{"$f":"IF($A128<>0,VLOOKUP($A128,Liste!$A$10:$W$459,11,FALSE),\"\")","v":65}]
[{"$f":"IF($A128<>0,\"Lot \" & VLOOKUP($A128,Liste!$A$10:$W$459,12,FALSE),\"\")","v":"Lot 164"},{"$f":"IF($A128<>0,VLOOKUP($A128,Liste!$A$10:$W$459,13,FALSE),\"\")","v":"Cave"},{"$f":"IF($A128<>0,VLOOKUP($A128,Liste!$A$10:$W$459,14,FALSE),\"\")","v":5}]
[{"$f":"IF($A128<>0,\"Lot \" & VLOOKUP($A128,Liste!$A$10:$W$459,15,FALSE),\"\")","v":"Lot "},{"$f":"IF($A128<>0,VLOOKUP($A128,Liste!$A$10:$W$459,16,FALSE),\"\")","v":0},{"$f":"IF($A128<>0,VLOOKUP($A128,Liste!$A$10:$W$459,17,FALSE),\"\")","v":0},null,null,null,"Arrivé à","après vote de la Résolution N°"]
[{"$f":"IF($A128<>0,\"Lot \" & VLOOKUP($A128,Liste!$A$10:$W$459,18,FALSE),\"\")","v":"Lot "},0,{"$f":"IF($A128<>0,VLOOKUP($A128,Liste!$A$10:$W$459,19,FALSE),\"\")","v":0},null,null,null,"Départ à","après vote de la Résolution N°"]
[{"$f":"IF($A128<>0,\"Lot \" & VLOOKUP($A128,Liste!$A$10:$W$459,21,FALSE),\"\")","v":"Lot "},{"$f":"IF($A128<>0,VLOOKUP($A128,Liste!$A$10:$W$459,22,FALSE),\"\")","v":0},{"$f":"IF($A128<>0,VLOOKUP($A128,Liste!$A$10:$W$459,23,FALSE),\"\")","v":0},null,null,null,{"$f":"IF(OR(B129=0,VLOOKUP(A128,Liste!$A$10:'Liste'!$Z$459,26)<>\"\"),\"\", \"Voir autorisation messages électroniques\")","v":"Voir autorisation messages électroniques"}]
[{"$f":"A128+1","v":15},null,null,null,null,null,"Par correspondance reçu le "]
[{"$f":"IF($A137<>0,VLOOKUP($A137,Liste!$A$10:$W$459,3,FALSE),\"\")","v":"Mmadame"},{"$f":"IF($A137<>0,VLOOKUP($A137,Liste!$A$10:$W$459,4,FALSE),\"\")","v":"BESSON Gabriel"},null,null,{"$f":"IF($A137<>0,VLOOKUP($A137,Liste!$A$10:$W$459,8,FALSE),\"\")","v":91},null,"Par visio, audio conférence,,,,"]
[{"$f":"IF($A137<>0,VLOOKUP($A137,Liste!$A$10:$W$459,5,FALSE),\"\")","v":"13 rue de l' espoir"},null,null,null,null,null,"Signature/ Mandataire :"]
[{"$f":"IF($A137<>0,VLOOKUP($A137,Liste!$A$10:$W$459,6,FALSE),\"\")","v":75016},{"$f":"IF($A137<>0,VLOOKUP($A137,Liste!$A$10:$W$459,7,FALSE),\"\")","v":"Paris "}]
[{"$f":" IF($A137<>0, \"Lot \" & VLOOKUP($A137,Liste!$A$10:$W$459,9,FALSE),\"\")","v":"Lot 15"},{"$f":"IF($A137<>0,VLOOKUP($A137,Liste!$A$10:$W$459,10,FALSE),\"\")","v":"Appart,"},{"$f":"IF($A137<>0,VLOOKUP($A137,Liste!$A$10:$W$459,11,FALSE),\"\")","v":86}]
[{"$f":"IF($A137<>0,\"Lot \" & VLOOKUP($A137,Liste!$A$10:$W$459,12,FALSE),\"\")","v":"Lot 165"},{"$f":"IF($A137<>0,VLOOKUP($A137,Liste!$A$10:$W$459,13,FALSE),\"\")","v":"Cave"},{"$f":"IF($A137<>0,VLOOKUP($A137,Liste!$A$10:$W$459,14,FALSE),\"\")","v":5}]
[{"$f":"IF($A137<>0,\"Lot \" & VLOOKUP($A137,Liste!$A$10:$W$459,15,FALSE),\"\")","v":"Lot "},{"$f":"IF($A137<>0,VLOOKUP($A137,Liste!$A$10:$W$459,16,FALSE),\"\")","v":0},{"$f":"IF($A137<>0,VLOOKUP($A137,Liste!$A$10:$W$459,17,FALSE),\"\")","v":0},null,null,null,"Arrivé à","après vote de la Résolution N°"]
[{"$f":"IF($A137<>0,\"Lot \" & VLOOKUP($A137,Liste!$A$10:$W$459,18,FALSE),\"\")","v":"Lot "},0,{"$f":"IF($A137<>0,VLOOKUP($A137,Liste!$A$10:$W$459,19,FALSE),\"\")","v":0},null,null,null,"Départ à","après vote de la Résolution N°"]
[{"$f":"IF($A137<>0,\"Lot \" & VLOOKUP($A137,Liste!$A$10:$W$459,21,FALSE),\"\")","v":"Lot "},{"$f":"IF($A137<>0,VLOOKUP($A137,Liste!$A$10:$W$459,22,FALSE),\"\")","v":0},{"$f":"IF($A137<>0,VLOOKUP($A137,Liste!$A$10:$W$459,23,FALSE),\"\")","v":0},null,null,null,{"$f":"IF(OR(B138=0,VLOOKUP(A137,Liste!$A$10:'Liste'!$Z$459,26)<>\"\"),\"\", \"Voir autorisation messages électroniques\")","v":"Voir autorisation messages électroniques"}]
[{"$f":"A137+1","v":16},null,null,null,null,null,"Par correspondance reçu le "]
[{"$f":"IF($A146<>0,VLOOKUP($A146,Liste!$A$10:$W$459,3,FALSE),\"\")","v":"Monsieur"},{"$f":"IF($A146<>0,VLOOKUP($A146,Liste!$A$10:$W$459,4,FALSE),\"\")","v":"BILLY Grégoire"},null,null,{"$f":"IF($A146<>0,VLOOKUP($A146,Liste!$A$10:$W$459,8,FALSE),\"\")","v":80},null,"Par visio, audio conférence,,,,"]
[{"$f":"IF($A146<>0,VLOOKUP($A146,Liste!$A$10:$W$459,5,FALSE),\"\")","v":"13 rue de l' espoir"},null,null,null,null,null,"Signature/ Mandataire :"]
[{"$f":"IF($A146<>0,VLOOKUP($A146,Liste!$A$10:$W$459,6,FALSE),\"\")","v":75016},{"$f":"IF($A146<>0,VLOOKUP($A146,Liste!$A$10:$W$459,7,FALSE),\"\")","v":"Paris "}]
[{"$f":" IF($A146<>0, \"Lot \" & VLOOKUP($A146,Liste!$A$10:$W$459,9,FALSE),\"\")","v":"Lot 16"},{"$f":"IF($A146<>0,VLOOKUP($A146,Liste!$A$10:$W$459,10,FALSE),\"\")","v":"Appart,"},{"$f":"IF($A146<>0,VLOOKUP($A146,Liste!$A$10:$W$459,11,FALSE),\"\")","v":75}]
[{"$f":"IF($A146<>0,\"Lot \" & VLOOKUP($A146,Liste!$A$10:$W$459,12,FALSE),\"\")","v":"Lot 166"},{"$f":"IF($A146<>0,VLOOKUP($A146,Liste!$A$10:$W$459,13,FALSE),\"\")","v":"Cave"},{"$f":"IF($A146<>0,VLOOKUP($A146,Liste!$A$10:$W$459,14,FALSE),\"\")","v":5}]
[{"$f":"IF($A146<>0,\"Lot \" & VLOOKUP($A146,Liste!$A$10:$W$459,15,FALSE),\"\")","v":"Lot "},{"$f":"IF($A146<>0,VLOOKUP($A146,Liste!$A$10:$W$459,16,FALSE),\"\")","v":0},{"$f":"IF($A146<>0,VLOOKUP($A146,Liste!$A$10:$W$459,17,FALSE),\"\")","v":0},null,null,null,"Arrivé à","après vote de la Résolution N°"]
[{"$f":"IF($A146<>0,\"Lot \" & VLOOKUP($A146,Liste!$A$10:$W$459,18,FALSE),\"\")","v":"Lot "},0,{"$f":"IF($A146<>0,VLOOKUP($A146,Liste!$A$10:$W$459,19,FALSE),\"\")","v":0},null,null,null,"Départ à","après vote de la Résolution N°"]
[{"$f":"IF($A146<>0,\"Lot \" & VLOOKUP($A146,Liste!$A$10:$W$459,21,FALSE),\"\")","v":"Lot "},{"$f":"IF($A146<>0,VLOOKUP($A146,Liste!$A$10:$W$459,22,FALSE),\"\")","v":0},{"$f":"IF($A146<>0,VLOOKUP($A146,Liste!$A$10:$W$459,23,FALSE),\"\")","v":0},null,null,null,{"$f":"IF(OR(B147=0,VLOOKUP(A146,Liste!$A$10:'Liste'!$Z$459,26)<>\"\"),\"\", \"Voir autorisation messages électroniques\")","v":"Voir autorisation messages électroniques"}]
[]
[null,null,null,"A S S E M B L E E     G E N E R A L E",null,null,null,null,null,null,"Page",{"$f":"L79+1","v":3}]
[null,null,null,null,null,"du","2019-12-20"]
[null,null,null,"Résidence Le Paradis; Rue de l' espoir 75016 PARIS"]
[]
[{"$f":"A146+1","v":17},null,null,null,null,null,"Par correspondance reçu le "]
[{"$f":"IF($A160<>0,VLOOKUP($A160,Liste!$A$10:$W$459,3,FALSE),\"\")","v":"Monsieur"},{"$f":"IF($A160<>0,VLOOKUP($A160,Liste!$A$10:$W$459,4,FALSE),\"\")","v":"BLOT Alain"},null,null,{"$f":"IF($A160<>0,VLOOKUP($A160,Liste!$A$10:$W$459,8,FALSE),\"\")","v":75},null,"Par visio, audio conférence,,,,"]
[{"$f":"IF($A160<>0,VLOOKUP($A160,Liste!$A$10:$W$459,5,FALSE),\"\")","v":"13 rue de l' espoir"},null,null,null,null,null,"Signature/ Mandataire :"]
[{"$f":"IF($A160<>0,VLOOKUP($A160,Liste!$A$10:$W$459,6,FALSE),\"\")","v":75016},{"$f":"IF($A160<>0,VLOOKUP($A160,Liste!$A$10:$W$459,7,FALSE),\"\")","v":"Paris "}]
[{"$f":" IF($A160<>0, \"Lot \" & VLOOKUP($A160,Liste!$A$10:$W$459,9,FALSE),\"\")","v":"Lot 17"},{"$f":"IF($A160<>0,VLOOKUP($A160,Liste!$A$10:$W$459,10,FALSE),\"\")","v":"Appart,"},{"$f":"IF($A160<>0,VLOOKUP($A160,Liste!$A$10:$W$459,11,FALSE),\"\")","v":70}]
[{"$f":"IF($A160<>0,\"Lot \" & VLOOKUP($A160,Liste!$A$10:$W$459,12,FALSE),\"\")","v":"Lot 167"},{"$f":"IF($A160<>0,VLOOKUP($A160,Liste!$A$10:$W$459,13,FALSE),\"\")","v":"Cave"},{"$f":"IF($A160<>0,VLOOKUP($A160,Liste!$A$10:$W$459,14,FALSE),\"\")","v":5}]
[{"$f":"IF($A160<>0,\"Lot \" & VLOOKUP($A160,Liste!$A$10:$W$459,15,FALSE),\"\")","v":"Lot "},{"$f":"IF($A160<>0,VLOOKUP($A160,Liste!$A$10:$W$459,16,FALSE),\"\")","v":0},{"$f":"IF($A160<>0,VLOOKUP($A160,Liste!$A$10:$W$459,17,FALSE),\"\")","v":0},null,null,null,"Arrivé à","après vote de la Résolution N°"]
[{"$f":"IF($A160<>0,\"Lot \" & VLOOKUP($A160,Liste!$A$10:$W$459,18,FALSE),\"\")","v":"Lot "},0,{"$f":"IF($A160<>0,VLOOKUP($A160,Liste!$A$10:$W$459,19,FALSE),\"\")","v":0},null,null,null,"Départ à","après vote de la Résolution N°"]
[{"$f":"IF($A160<>0,\"Lot \" & VLOOKUP($A160,Liste!$A$10:$W$459,21,FALSE),\"\")","v":"Lot "},{"$f":"IF($A160<>0,VLOOKUP($A160,Liste!$A$10:$W$459,22,FALSE),\"\")","v":0},{"$f":"IF($A160<>0,VLOOKUP($A160,Liste!$A$10:$W$459,23,FALSE),\"\")","v":0},null,null,null,{"$f":"IF(OR(B161=0,VLOOKUP(A160,Liste!$A$10:'Liste'!$Z$459,26)<>\"\"),\"\", \"Voir autorisation messages électroniques\")","v":"Voir autorisation messages électroniques"}]
[{"$f":"A160+1","v":18},null,null,null,null,null,"Par correspondance reçu le "]
[{"$f":"IF($A169<>0,VLOOKUP($A169,Liste!$A$10:$W$459,3,FALSE),\"\")","v":"Madame"},{"$f":"IF($A169<>0,VLOOKUP($A169,Liste!$A$10:$W$459,4,FALSE),\"\")","v":"BODIGER"},null,null,{"$f":"IF($A169<>0,VLOOKUP($A169,Liste!$A$10:$W$459,8,FALSE),\"\")","v":55},null,"Par visio, audio conférence,,,,"]
[{"$f":"IF($A169<>0,VLOOKUP($A169,Liste!$A$10:$W$459,5,FALSE),\"\")","v":"13 rue de l' espoir"},null,null,null,null,null,"Signature/ Mandataire :"]
[{"$f":"IF($A169<>0,VLOOKUP($A169,Liste!$A$10:$W$459,6,FALSE),\"\")","v":75016},{"$f":"IF($A169<>0,VLOOKUP($A169,Liste!$A$10:$W$459,7,FALSE),\"\")","v":"Paris "}]
[{"$f":" IF($A169<>0, \"Lot \" & VLOOKUP($A169,Liste!$A$10:$W$459,9,FALSE),\"\")","v":"Lot 18"},{"$f":"IF($A169<>0,VLOOKUP($A169,Liste!$A$10:$W$459,10,FALSE),\"\")","v":"Appart,"},{"$f":"IF($A169<>0,VLOOKUP($A169,Liste!$A$10:$W$459,11,FALSE),\"\")","v":50}]
[{"$f":"IF($A169<>0,\"Lot \" & VLOOKUP($A169,Liste!$A$10:$W$459,12,FALSE),\"\")","v":"Lot 168"},{"$f":"IF($A169<>0,VLOOKUP($A169,Liste!$A$10:$W$459,13,FALSE),\"\")","v":"Cave"},{"$f":"IF($A169<>0,VLOOKUP($A169,Liste!$A$10:$W$459,14,FALSE),\"\")","v":5}]
[{"$f":"IF($A169<>0,\"Lot \" & VLOOKUP($A169,Liste!$A$10:$W$459,15,FALSE),\"\")","v":"Lot "},{"$f":"IF($A169<>0,VLOOKUP($A169,Liste!$A$10:$W$459,16,FALSE),\"\")","v":0},{"$f":"IF($A169<>0,VLOOKUP($A169,Liste!$A$10:$W$459,17,FALSE),\"\")","v":0},null,null,null,"Arrivé à","après vote de la Résolution N°"]
[{"$f":"IF($A169<>0,\"Lot \" & VLOOKUP($A169,Liste!$A$10:$W$459,18,FALSE),\"\")","v":"Lot "},0,{"$f":"IF($A169<>0,VLOOKUP($A169,Liste!$A$10:$W$459,19,FALSE),\"\")","v":0},null,null,null,"Départ à","après vote de la Résolution N°"]
[{"$f":"IF($A169<>0,\"Lot \" & VLOOKUP($A169,Liste!$A$10:$W$459,21,FALSE),\"\")","v":"Lot "},{"$f":"IF($A169<>0,VLOOKUP($A169,Liste!$A$10:$W$459,22,FALSE),\"\")","v":0},{"$f":"IF($A169<>0,VLOOKUP($A169,Liste!$A$10:$W$459,23,FALSE),\"\")","v":0},null,null,null,{"$f":"IF(OR(B170=0,VLOOKUP(A169,Liste!$A$10:'Liste'!$Z$459,26)<>\"\"),\"\", \"Voir autorisation messages électroniques\")","v":"Voir autorisation messages électroniques"}]
[{"$f":"A169+1","v":19},null,null,null,null,null,"Par correspondance reçu le "]
[{"$f":"IF($A178<>0,VLOOKUP($A178,Liste!$A$10:$W$459,3,FALSE),\"\")","v":"Monsieur"},{"$f":"IF($A178<>0,VLOOKUP($A178,Liste!$A$10:$W$459,4,FALSE),\"\")","v":"BODIN - BUGEJA "},null,null,{"$f":"IF($A178<>0,VLOOKUP($A178,Liste!$A$10:$W$459,8,FALSE),\"\")","v":101},null,"Par visio, audio conférence,,,,"]
[{"$f":"IF($A178<>0,VLOOKUP($A178,Liste!$A$10:$W$459,5,FALSE),\"\")","v":"13 rue de l' espoir"},null,null,null,null,null,"Signature/ Mandataire :"]
[{"$f":"IF($A178<>0,VLOOKUP($A178,Liste!$A$10:$W$459,6,FALSE),\"\")","v":75016},{"$f":"IF($A178<>0,VLOOKUP($A178,Liste!$A$10:$W$459,7,FALSE),\"\")","v":"Paris "}]
[{"$f":" IF($A178<>0, \"Lot \" & VLOOKUP($A178,Liste!$A$10:$W$459,9,FALSE),\"\")","v":"Lot 19"},{"$f":"IF($A178<>0,VLOOKUP($A178,Liste!$A$10:$W$459,10,FALSE),\"\")","v":"Appart,"},{"$f":"IF($A178<>0,VLOOKUP($A178,Liste!$A$10:$W$459,11,FALSE),\"\")","v":96}]
[{"$f":"IF($A178<>0,\"Lot \" & VLOOKUP($A178,Liste!$A$10:$W$459,12,FALSE),\"\")","v":"Lot 169"},{"$f":"IF($A178<>0,VLOOKUP($A178,Liste!$A$10:$W$459,13,FALSE),\"\")","v":"Cave"},{"$f":"IF($A178<>0,VLOOKUP($A178,Liste!$A$10:$W$459,14,FALSE),\"\")","v":5}]
[{"$f":"IF($A178<>0,\"Lot \" & VLOOKUP($A178,Liste!$A$10:$W$459,15,FALSE),\"\")","v":"Lot "},{"$f":"IF($A178<>0,VLOOKUP($A178,Liste!$A$10:$W$459,16,FALSE),\"\")","v":0},{"$f":"IF($A178<>0,VLOOKUP($A178,Liste!$A$10:$W$459,17,FALSE),\"\")","v":0},null,null,null,"Arrivé à","après vote de la Résolution N°"]
[{"$f":"IF($A178<>0,\"Lot \" & VLOOKUP($A178,Liste!$A$10:$W$459,18,FALSE),\"\")","v":"Lot "},0,{"$f":"IF($A178<>0,VLOOKUP($A178,Liste!$A$10:$W$459,19,FALSE),\"\")","v":0},null,null,null,"Départ à","après vote de la Résolution N°"]
[{"$f":"IF($A178<>0,\"Lot \" & VLOOKUP($A178,Liste!$A$10:$W$459,21,FALSE),\"\")","v":"Lot "},{"$f":"IF($A178<>0,VLOOKUP($A178,Liste!$A$10:$W$459,22,FALSE),\"\")","v":0},{"$f":"IF($A178<>0,VLOOKUP($A178,Liste!$A$10:$W$459,23,FALSE),\"\")","v":0},null,null,null,{"$f":"IF(OR(B179=0,VLOOKUP(A178,Liste!$A$10:'Liste'!$Z$459,26)<>\"\"),\"\", \"Voir autorisation messages électroniques\")","v":"Voir autorisation messages électroniques"}]
[{"$f":"A178+1","v":20},null,null,null,null,null,"Par correspondance reçu le "]
[{"$f":"IF($A187<>0,VLOOKUP($A187,Liste!$A$10:$W$459,3,FALSE),\"\")","v":"Madame"},{"$f":"IF($A187<>0,VLOOKUP($A187,Liste!$A$10:$W$459,4,FALSE),\"\")","v":"BOISSON Franck"},null,null,{"$f":"IF($A187<>0,VLOOKUP($A187,Liste!$A$10:$W$459,8,FALSE),\"\")","v":73},null,"Par visio, audio conférence,,,,"]
[{"$f":"IF($A187<>0,VLOOKUP($A187,Liste!$A$10:$W$459,5,FALSE),\"\")","v":"13 rue de l' espoir"},null,null,null,null,null,"Signature/ Mandataire :"]
[{"$f":"IF($A187<>0,VLOOKUP($A187,Liste!$A$10:$W$459,6,FALSE),\"\")","v":75016},{"$f":"IF($A187<>0,VLOOKUP($A187,Liste!$A$10:$W$459,7,FALSE),\"\")","v":"Paris "}]
[{"$f":" IF($A187<>0, \"Lot \" & VLOOKUP($A187,Liste!$A$10:$W$459,9,FALSE),\"\")","v":"Lot 20"},{"$f":"IF($A187<>0,VLOOKUP($A187,Liste!$A$10:$W$459,10,FALSE),\"\")","v":"Appart,"},{"$f":"IF($A187<>0,VLOOKUP($A187,Liste!$A$10:$W$459,11,FALSE),\"\")","v":68}]
[{"$f":"IF($A187<>0,\"Lot \" & VLOOKUP($A187,Liste!$A$10:$W$459,12,FALSE),\"\")","v":"Lot 170"},{"$f":"IF($A187<>0,VLOOKUP($A187,Liste!$A$10:$W$459,13,FALSE),\"\")","v":"Cave"},{"$f":"IF($A187<>0,VLOOKUP($A187,Liste!$A$10:$W$459,14,FALSE),\"\")","v":5}]
[{"$f":"IF($A187<>0,\"Lot \" & VLOOKUP($A187,Liste!$A$10:$W$459,15,FALSE),\"\")","v":"Lot "},{"$f":"IF($A187<>0,VLOOKUP($A187,Liste!$A$10:$W$459,16,FALSE),\"\")","v":0},{"$f":"IF($A187<>0,VLOOKUP($A187,Liste!$A$10:$W$459,17,FALSE),\"\")","v":0},null,null,null,"Arrivé à","après vote de la Résolution N°"]
[{"$f":"IF($A187<>0,\"Lot \" & VLOOKUP($A187,Liste!$A$10:$W$459,18,FALSE),\"\")","v":"Lot "},0,{"$f":"IF($A187<>0,VLOOKUP($A187,Liste!$A$10:$W$459,19,FALSE),\"\")","v":0},null,null,null,"Départ à","après vote de la Résolution N°"]
[{"$f":"IF($A187<>0,\"Lot \" & VLOOKUP($A187,Liste!$A$10:$W$459,21,FALSE),\"\")","v":"Lot "},{"$f":"IF($A187<>0,VLOOKUP($A187,Liste!$A$10:$W$459,22,FALSE),\"\")","v":0},{"$f":"IF($A187<>0,VLOOKUP($A187,Liste!$A$10:$W$459,23,FALSE),\"\")","v":0},null,null,null,{"$f":"IF(OR(B188=0,VLOOKUP(A187,Liste!$A$10:'Liste'!$Z$459,26)<>\"\"),\"\", \"Voir autorisation messages électroniques\")","v":"Voir autorisation messages électroniques"}]
[{"$f":"A187+1","v":21},null,null,null,null,null,"Par correspondance reçu le "]
[{"$f":"IF($A196<>0,VLOOKUP($A196,Liste!$A$10:$W$459,3,FALSE),\"\")","v":"Monsieur"},{"$f":"IF($A196<>0,VLOOKUP($A196,Liste!$A$10:$W$459,4,FALSE),\"\")","v":"BOQUET Marcel"},null,null,{"$f":"IF($A196<>0,VLOOKUP($A196,Liste!$A$10:$W$459,8,FALSE),\"\")","v":55},null,"Par visio, audio conférence,,,,"]
[{"$f":"IF($A196<>0,VLOOKUP($A196,Liste!$A$10:$W$459,5,FALSE),\"\")","v":"19 Rue du Paradis"},null,null,null,null,null,"Signature/ Mandataire :"]
[{"$f":"IF($A196<>0,VLOOKUP($A196,Liste!$A$10:$W$459,6,FALSE),\"\")","v":33000},{"$f":"IF($A196<>0,VLOOKUP($A196,Liste!$A$10:$W$459,7,FALSE),\"\")","v":"Bordeaux"}]
[{"$f":" IF($A196<>0, \"Lot \" & VLOOKUP($A196,Liste!$A$10:$W$459,9,FALSE),\"\")","v":"Lot 21"},{"$f":"IF($A196<>0,VLOOKUP($A196,Liste!$A$10:$W$459,10,FALSE),\"\")","v":"Appart,"},{"$f":"IF($A196<>0,VLOOKUP($A196,Liste!$A$10:$W$459,11,FALSE),\"\")","v":50}]
[{"$f":"IF($A196<>0,\"Lot \" & VLOOKUP($A196,Liste!$A$10:$W$459,12,FALSE),\"\")","v":"Lot 171"},{"$f":"IF($A196<>0,VLOOKUP($A196,Liste!$A$10:$W$459,13,FALSE),\"\")","v":"Cave"},{"$f":"IF($A196<>0,VLOOKUP($A196,Liste!$A$10:$W$459,14,FALSE),\"\")","v":5}]
[{"$f":"IF($A196<>0,\"Lot \" & VLOOKUP($A196,Liste!$A$10:$W$459,15,FALSE),\"\")","v":"Lot "},{"$f":"IF($A196<>0,VLOOKUP($A196,Liste!$A$10:$W$459,16,FALSE),\"\")","v":0},{"$f":"IF($A196<>0,VLOOKUP($A196,Liste!$A$10:$W$459,17,FALSE),\"\")","v":0},null,null,null,"Arrivé à","après vote de la Résolution N°"]
[{"$f":"IF($A196<>0,\"Lot \" & VLOOKUP($A196,Liste!$A$10:$W$459,18,FALSE),\"\")","v":"Lot "},0,{"$f":"IF($A196<>0,VLOOKUP($A196,Liste!$A$10:$W$459,19,FALSE),\"\")","v":0},null,null,null,"Départ à","après vote de la Résolution N°"]
[{"$f":"IF($A196<>0,\"Lot \" & VLOOKUP($A196,Liste!$A$10:$W$459,21,FALSE),\"\")","v":"Lot "},{"$f":"IF($A196<>0,VLOOKUP($A196,Liste!$A$10:$W$459,22,FALSE),\"\")","v":0},{"$f":"IF($A196<>0,VLOOKUP($A196,Liste!$A$10:$W$459,23,FALSE),\"\")","v":0},null,null,null,{"$f":"IF(OR(B197=0,VLOOKUP(A196,Liste!$A$10:'Liste'!$Z$459,26)<>\"\"),\"\", \"Voir autorisation messages électroniques\")","v":"Voir autorisation messages électroniques"}]
[{"$f":"A196+1","v":22},null,null,null,null,null,"Par correspondance reçu le "]
[{"$f":"IF($A205<>0,VLOOKUP($A205,Liste!$A$10:$W$459,3,FALSE),\"\")","v":"Monsieur"},{"$f":"IF($A205<>0,VLOOKUP($A205,Liste!$A$10:$W$459,4,FALSE),\"\")","v":"BOREL "},null,null,{"$f":"IF($A205<>0,VLOOKUP($A205,Liste!$A$10:$W$459,8,FALSE),\"\")","v":59},null,"Par visio, audio conférence,,,,"]
[{"$f":"IF($A205<>0,VLOOKUP($A205,Liste!$A$10:$W$459,5,FALSE),\"\")","v":"13 rue de l' espoir"},null,null,null,null,null,"Signature/ Mandataire :"]
[{"$f":"IF($A205<>0,VLOOKUP($A205,Liste!$A$10:$W$459,6,FALSE),\"\")","v":75016},{"$f":"IF($A205<>0,VLOOKUP($A205,Liste!$A$10:$W$459,7,FALSE),\"\")","v":"Paris "}]
[{"$f":" IF($A205<>0, \"Lot \" & VLOOKUP($A205,Liste!$A$10:$W$459,9,FALSE),\"\")","v":"Lot 22"},{"$f":"IF($A205<>0,VLOOKUP($A205,Liste!$A$10:$W$459,10,FALSE),\"\")","v":"Appart,"},{"$f":"IF($A205<>0,VLOOKUP($A205,Liste!$A$10:$W$459,11,FALSE),\"\")","v":54}]
[{"$f":"IF($A205<>0,\"Lot \" & VLOOKUP($A205,Liste!$A$10:$W$459,12,FALSE),\"\")","v":"Lot 172"},{"$f":"IF($A205<>0,VLOOKUP($A205,Liste!$A$10:$W$459,13,FALSE),\"\")","v":"Cave"},{"$f":"IF($A205<>0,VLOOKUP($A205,Liste!$A$10:$W$459,14,FALSE),\"\")","v":5}]
[{"$f":"IF($A205<>0,\"Lot \" & VLOOKUP($A205,Liste!$A$10:$W$459,15,FALSE),\"\")","v":"Lot "},{"$f":"IF($A205<>0,VLOOKUP($A205,Liste!$A$10:$W$459,16,FALSE),\"\")","v":0},{"$f":"IF($A205<>0,VLOOKUP($A205,Liste!$A$10:$W$459,17,FALSE),\"\")","v":0},null,null,null,"Arrivé à","après vote de la Résolution N°"]
[{"$f":"IF($A205<>0,\"Lot \" & VLOOKUP($A205,Liste!$A$10:$W$459,18,FALSE),\"\")","v":"Lot "},0,{"$f":"IF($A205<>0,VLOOKUP($A205,Liste!$A$10:$W$459,19,FALSE),\"\")","v":0},null,null,null,"Départ à","après vote de la Résolution N°"]
[{"$f":"IF($A205<>0,\"Lot \" & VLOOKUP($A205,Liste!$A$10:$W$459,21,FALSE),\"\")","v":"Lot "},{"$f":"IF($A205<>0,VLOOKUP($A205,Liste!$A$10:$W$459,22,FALSE),\"\")","v":0},{"$f":"IF($A205<>0,VLOOKUP($A205,Liste!$A$10:$W$459,23,FALSE),\"\")","v":0},null,null,null,{"$f":"IF(OR(B206=0,VLOOKUP(A205,Liste!$A$10:'Liste'!$Z$459,26)<>\"\"),\"\", \"Voir autorisation messages électroniques\")","v":"Voir autorisation messages électroniques"}]
[{"$f":"A205+1","v":23},null,null,null,null,null,"Par correspondance reçu le "]
[{"$f":"IF($A214<>0,VLOOKUP($A214,Liste!$A$10:$W$459,3,FALSE),\"\")","v":"Monsieur"},{"$f":"IF($A214<>0,VLOOKUP($A214,Liste!$A$10:$W$459,4,FALSE),\"\")","v":"BOUBRED "},null,null,{"$f":"IF($A214<>0,VLOOKUP($A214,Liste!$A$10:$W$459,8,FALSE),\"\")","v":63},null,"Par visio, audio conférence,,,,"]
[{"$f":"IF($A214<>0,VLOOKUP($A214,Liste!$A$10:$W$459,5,FALSE),\"\")","v":"13 rue de l' espoir"},null,null,null,null,null,"Signature/ Mandataire :"]
[{"$f":"IF($A214<>0,VLOOKUP($A214,Liste!$A$10:$W$459,6,FALSE),\"\")","v":75016},{"$f":"IF($A214<>0,VLOOKUP($A214,Liste!$A$10:$W$459,7,FALSE),\"\")","v":"Paris "}]
[{"$f":" IF($A214<>0, \"Lot \" & VLOOKUP($A214,Liste!$A$10:$W$459,9,FALSE),\"\")","v":"Lot 23"},{"$f":"IF($A214<>0,VLOOKUP($A214,Liste!$A$10:$W$459,10,FALSE),\"\")","v":"Appart,"},{"$f":"IF($A214<>0,VLOOKUP($A214,Liste!$A$10:$W$459,11,FALSE),\"\")","v":58}]
[{"$f":"IF($A214<>0,\"Lot \" & VLOOKUP($A214,Liste!$A$10:$W$459,12,FALSE),\"\")","v":"Lot 173"},{"$f":"IF($A214<>0,VLOOKUP($A214,Liste!$A$10:$W$459,13,FALSE),\"\")","v":"Cave"},{"$f":"IF($A214<>0,VLOOKUP($A214,Liste!$A$10:$W$459,14,FALSE),\"\")","v":5}]
[{"$f":"IF($A214<>0,\"Lot \" & VLOOKUP($A214,Liste!$A$10:$W$459,15,FALSE),\"\")","v":"Lot "},{"$f":"IF($A214<>0,VLOOKUP($A214,Liste!$A$10:$W$459,16,FALSE),\"\")","v":0},{"$f":"IF($A214<>0,VLOOKUP($A214,Liste!$A$10:$W$459,17,FALSE),\"\")","v":0},null,null,null,"Arrivé à","après vote de la Résolution N°"]
[{"$f":"IF($A214<>0,\"Lot \" & VLOOKUP($A214,Liste!$A$10:$W$459,18,FALSE),\"\")","v":"Lot "},0,{"$f":"IF($A214<>0,VLOOKUP($A214,Liste!$A$10:$W$459,19,FALSE),\"\")","v":0},null,null,null,"Départ à","après vote de la Résolution N°"]
[{"$f":"IF($A214<>0,\"Lot \" & VLOOKUP($A214,Liste!$A$10:$W$459,21,FALSE),\"\")","v":"Lot "},{"$f":"IF($A214<>0,VLOOKUP($A214,Liste!$A$10:$W$459,22,FALSE),\"\")","v":0},{"$f":"IF($A214<>0,VLOOKUP($A214,Liste!$A$10:$W$459,23,FALSE),\"\")","v":0},null,null,null,{"$f":"IF(OR(B215=0,VLOOKUP(A214,Liste!$A$10:'Liste'!$Z$459,26)<>\"\"),\"\", \"Voir autorisation messages électroniques\")","v":"Voir autorisation messages électroniques"}]
[{"$f":"A214+1","v":24},null,null,null,null,null,"Par correspondance reçu le "]
[{"$f":"IF($A223<>0,VLOOKUP($A223,Liste!$A$10:$W$459,3,FALSE),\"\")","v":"Monsieur"},{"$f":"IF($A223<>0,VLOOKUP($A223,Liste!$A$10:$W$459,4,FALSE),\"\")","v":"BRASSEUR Gérard"},null,null,{"$f":"IF($A223<>0,VLOOKUP($A223,Liste!$A$10:$W$459,8,FALSE),\"\")","v":60},null,"Par visio, audio conférence,,,,"]
[{"$f":"IF($A223<>0,VLOOKUP($A223,Liste!$A$10:$W$459,5,FALSE),\"\")","v":"19 Rue du Paradis"},null,null,null,null,null,"Signature/ Mandataire :"]
[{"$f":"IF($A223<>0,VLOOKUP($A223,Liste!$A$10:$W$459,6,FALSE),\"\")","v":33000},{"$f":"IF($A223<>0,VLOOKUP($A223,Liste!$A$10:$W$459,7,FALSE),\"\")","v":"Bordeaux"}]
[{"$f":" IF($A223<>0, \"Lot \" & VLOOKUP($A223,Liste!$A$10:$W$459,9,FALSE),\"\")","v":"Lot 24"},{"$f":"IF($A223<>0,VLOOKUP($A223,Liste!$A$10:$W$459,10,FALSE),\"\")","v":"Appart,"},{"$f":"IF($A223<>0,VLOOKUP($A223,Liste!$A$10:$W$459,11,FALSE),\"\")","v":55}]
[{"$f":"IF($A223<>0,\"Lot \" & VLOOKUP($A223,Liste!$A$10:$W$459,12,FALSE),\"\")","v":"Lot 174"},{"$f":"IF($A223<>0,VLOOKUP($A223,Liste!$A$10:$W$459,13,FALSE),\"\")","v":"Cave"},{"$f":"IF($A223<>0,VLOOKUP($A223,Liste!$A$10:$W$459,14,FALSE),\"\")","v":5}]
[{"$f":"IF($A223<>0,\"Lot \" & VLOOKUP($A223,Liste!$A$10:$W$459,15,FALSE),\"\")","v":"Lot "},{"$f":"IF($A223<>0,VLOOKUP($A223,Liste!$A$10:$W$459,16,FALSE),\"\")","v":0},{"$f":"IF($A223<>0,VLOOKUP($A223,Liste!$A$10:$W$459,17,FALSE),\"\")","v":0},null,null,null,"Arrivé à","après vote de la Résolution N°"]
[{"$f":"IF($A223<>0,\"Lot \" & VLOOKUP($A223,Liste!$A$10:$W$459,18,FALSE),\"\")","v":"Lot "},0,{"$f":"IF($A223<>0,VLOOKUP($A223,Liste!$A$10:$W$459,19,FALSE),\"\")","v":0},null,null,null,"Départ à","après vote de la Résolution N°"]
[{"$f":"IF($A223<>0,\"Lot \" & VLOOKUP($A223,Liste!$A$10:$W$459,21,FALSE),\"\")","v":"Lot "},{"$f":"IF($A223<>0,VLOOKUP($A223,Liste!$A$10:$W$459,22,FALSE),\"\")","v":0},{"$f":"IF($A223<>0,VLOOKUP($A223,Liste!$A$10:$W$459,23,FALSE),\"\")","v":0},null,null,null,{"$f":"IF(OR(B224=0,VLOOKUP(A223,Liste!$A$10:'Liste'!$Z$459,26)<>\"\"),\"\", \"Voir autorisation messages électroniques\")","v":"Voir autorisation messages électroniques"}]
[]
[null,null,null,"A S S E M B L E E     G E N E R A L E",null,null,null,null,null,null,"Page",{"$f":"L156+1","v":4}]
[null,null,null,null,null,"du","2019-12-20"]
[null,null,null,"Résidence Le Paradis; Rue de l' espoir 75016 PARIS"]
[]
[{"$f":"A223+1","v":25},null,null,null,null,null,"Par correspondance reçu le "]
[{"$f":"IF($A237<>0,VLOOKUP($A237,Liste!$A$10:$W$459,3,FALSE),\"\")","v":"Mr  et Mme"},{"$f":"IF($A237<>0,VLOOKUP($A237,Liste!$A$10:$W$459,4,FALSE),\"\")","v":"BRAUD-COLLET G."},null,null,{"$f":"IF($A237<>0,VLOOKUP($A237,Liste!$A$10:$W$459,8,FALSE),\"\")","v":70},null,"Par visio, audio conférence,,,,"]
[{"$f":"IF($A237<>0,VLOOKUP($A237,Liste!$A$10:$W$459,5,FALSE),\"\")","v":"19 Rue du Paradis"},null,null,null,null,null,"Signature/ Mandataire :"]
[{"$f":"IF($A237<>0,VLOOKUP($A237,Liste!$A$10:$W$459,6,FALSE),\"\")","v":33000},{"$f":"IF($A237<>0,VLOOKUP($A237,Liste!$A$10:$W$459,7,FALSE),\"\")","v":"Bordeaux"}]
[{"$f":" IF($A237<>0, \"Lot \" & VLOOKUP($A237,Liste!$A$10:$W$459,9,FALSE),\"\")","v":"Lot 25"},{"$f":"IF($A237<>0,VLOOKUP($A237,Liste!$A$10:$W$459,10,FALSE),\"\")","v":"Appart,"},{"$f":"IF($A237<>0,VLOOKUP($A237,Liste!$A$10:$W$459,11,FALSE),\"\")","v":65}]
[{"$f":"IF($A237<>0,\"Lot \" & VLOOKUP($A237,Liste!$A$10:$W$459,12,FALSE),\"\")","v":"Lot 175"},{"$f":"IF($A237<>0,VLOOKUP($A237,Liste!$A$10:$W$459,13,FALSE),\"\")","v":"Cave"},{"$f":"IF($A237<>0,VLOOKUP($A237,Liste!$A$10:$W$459,14,FALSE),\"\")","v":5}]
[{"$f":"IF($A237<>0,\"Lot \" & VLOOKUP($A237,Liste!$A$10:$W$459,15,FALSE),\"\")","v":"Lot "},{"$f":"IF($A237<>0,VLOOKUP($A237,Liste!$A$10:$W$459,16,FALSE),\"\")","v":0},{"$f":"IF($A237<>0,VLOOKUP($A237,Liste!$A$10:$W$459,17,FALSE),\"\")","v":0},null,null,null,"Arrivé à","après vote de la Résolution N°"]
[{"$f":"IF($A237<>0,\"Lot \" & VLOOKUP($A237,Liste!$A$10:$W$459,18,FALSE),\"\")","v":"Lot "},0,{"$f":"IF($A237<>0,VLOOKUP($A237,Liste!$A$10:$W$459,19,FALSE),\"\")","v":0},null,null,null,"Départ à","après vote de la Résolution N°"]
[{"$f":"IF($A237<>0,\"Lot \" & VLOOKUP($A237,Liste!$A$10:$W$459,21,FALSE),\"\")","v":"Lot "},{"$f":"IF($A237<>0,VLOOKUP($A237,Liste!$A$10:$W$459,22,FALSE),\"\")","v":0},{"$f":"IF($A237<>0,VLOOKUP($A237,Liste!$A$10:$W$459,23,FALSE),\"\")","v":0},null,null,null,{"$f":"IF(OR(B238=0,VLOOKUP(A237,Liste!$A$10:'Liste'!$Z$459,26)<>\"\"),\"\", \"Voir autorisation messages électroniques\")","v":"Voir autorisation messages électroniques"}]
[{"$f":"A237+1","v":26},null,null,null,null,null,"Par correspondance reçu le "]
[{"$f":"IF($A246<>0,VLOOKUP($A246,Liste!$A$10:$W$459,3,FALSE),\"\")","v":"Monsieur"},{"$f":"IF($A246<>0,VLOOKUP($A246,Liste!$A$10:$W$459,4,FALSE),\"\")","v":"BRICARD Mar'c"},null,null,{"$f":"IF($A246<>0,VLOOKUP($A246,Liste!$A$10:$W$459,8,FALSE),\"\")","v":50},null,"Par visio, audio conférence,,,,"]
[{"$f":"IF($A246<>0,VLOOKUP($A246,Liste!$A$10:$W$459,5,FALSE),\"\")","v":"19 Rue du Paradis"},null,null,null,null,null,"Signature/ Mandataire :"]
[{"$f":"IF($A246<>0,VLOOKUP($A246,Liste!$A$10:$W$459,6,FALSE),\"\")","v":33000},{"$f":"IF($A246<>0,VLOOKUP($A246,Liste!$A$10:$W$459,7,FALSE),\"\")","v":"Bordeaux"}]
[{"$f":" IF($A246<>0, \"Lot \" & VLOOKUP($A246,Liste!$A$10:$W$459,9,FALSE),\"\")","v":"Lot 26"},{"$f":"IF($A246<>0,VLOOKUP($A246,Liste!$A$10:$W$459,10,FALSE),\"\")","v":"Appart,"},{"$f":"IF($A246<>0,VLOOKUP($A246,Liste!$A$10:$W$459,11,FALSE),\"\")","v":45}]
[{"$f":"IF($A246<>0,\"Lot \" & VLOOKUP($A246,Liste!$A$10:$W$459,12,FALSE),\"\")","v":"Lot 176"},{"$f":"IF($A246<>0,VLOOKUP($A246,Liste!$A$10:$W$459,13,FALSE),\"\")","v":"Cave"},{"$f":"IF($A246<>0,VLOOKUP($A246,Liste!$A$10:$W$459,14,FALSE),\"\")","v":5}]
[{"$f":"IF($A246<>0,\"Lot \" & VLOOKUP($A246,Liste!$A$10:$W$459,15,FALSE),\"\")","v":"Lot "},{"$f":"IF($A246<>0,VLOOKUP($A246,Liste!$A$10:$W$459,16,FALSE),\"\")","v":0},{"$f":"IF($A246<>0,VLOOKUP($A246,Liste!$A$10:$W$459,17,FALSE),\"\")","v":0},null,null,null,"Arrivé à","après vote de la Résolution N°"]
[{"$f":"IF($A246<>0,\"Lot \" & VLOOKUP($A246,Liste!$A$10:$W$459,18,FALSE),\"\")","v":"Lot "},0,{"$f":"IF($A246<>0,VLOOKUP($A246,Liste!$A$10:$W$459,19,FALSE),\"\")","v":0},null,null,null,"Départ à","après vote de la Résolution N°"]
[{"$f":"IF($A246<>0,\"Lot \" & VLOOKUP($A246,Liste!$A$10:$W$459,21,FALSE),\"\")","v":"Lot "},{"$f":"IF($A246<>0,VLOOKUP($A246,Liste!$A$10:$W$459,22,FALSE),\"\")","v":0},{"$f":"IF($A246<>0,VLOOKUP($A246,Liste!$A$10:$W$459,23,FALSE),\"\")","v":0},null,null,null,{"$f":"IF(OR(B247=0,VLOOKUP(A246,Liste!$A$10:'Liste'!$Z$459,26)<>\"\"),\"\", \"Voir autorisation messages électroniques\")","v":"Voir autorisation messages électroniques"}]
[{"$f":"A246+1","v":27},null,null,null,null,null,"Par correspondance reçu le "]
[{"$f":"IF($A255<>0,VLOOKUP($A255,Liste!$A$10:$W$459,3,FALSE),\"\")","v":"Monsieur"},{"$f":"IF($A255<>0,VLOOKUP($A255,Liste!$A$10:$W$459,4,FALSE),\"\")","v":"BRIOLLE Marthe"},null,null,{"$f":"IF($A255<>0,VLOOKUP($A255,Liste!$A$10:$W$459,8,FALSE),\"\")","v":60},null,"Par visio, audio conférence,,,,"]
[{"$f":"IF($A255<>0,VLOOKUP($A255,Liste!$A$10:$W$459,5,FALSE),\"\")","v":"13 rue de l' espoir"},null,null,null,null,null,"Signature/ Mandataire :"]
[{"$f":"IF($A255<>0,VLOOKUP($A255,Liste!$A$10:$W$459,6,FALSE),\"\")","v":75016},{"$f":"IF($A255<>0,VLOOKUP($A255,Liste!$A$10:$W$459,7,FALSE),\"\")","v":"Paris "}]
[{"$f":" IF($A255<>0, \"Lot \" & VLOOKUP($A255,Liste!$A$10:$W$459,9,FALSE),\"\")","v":"Lot 27"},{"$f":"IF($A255<>0,VLOOKUP($A255,Liste!$A$10:$W$459,10,FALSE),\"\")","v":"Appart,"},{"$f":"IF($A255<>0,VLOOKUP($A255,Liste!$A$10:$W$459,11,FALSE),\"\")","v":55}]
[{"$f":"IF($A255<>0,\"Lot \" & VLOOKUP($A255,Liste!$A$10:$W$459,12,FALSE),\"\")","v":"Lot 177"},{"$f":"IF($A255<>0,VLOOKUP($A255,Liste!$A$10:$W$459,13,FALSE),\"\")","v":"Cave"},{"$f":"IF($A255<>0,VLOOKUP($A255,Liste!$A$10:$W$459,14,FALSE),\"\")","v":5}]
[{"$f":"IF($A255<>0,\"Lot \" & VLOOKUP($A255,Liste!$A$10:$W$459,15,FALSE),\"\")","v":"Lot "},{"$f":"IF($A255<>0,VLOOKUP($A255,Liste!$A$10:$W$459,16,FALSE),\"\")","v":0},{"$f":"IF($A255<>0,VLOOKUP($A255,Liste!$A$10:$W$459,17,FALSE),\"\")","v":0},null,null,null,"Arrivé à","après vote de la Résolution N°"]
[{"$f":"IF($A255<>0,\"Lot \" & VLOOKUP($A255,Liste!$A$10:$W$459,18,FALSE),\"\")","v":"Lot "},0,{"$f":"IF($A255<>0,VLOOKUP($A255,Liste!$A$10:$W$459,19,FALSE),\"\")","v":0},null,null,null,"Départ à","après vote de la Résolution N°"]
[{"$f":"IF($A255<>0,\"Lot \" & VLOOKUP($A255,Liste!$A$10:$W$459,21,FALSE),\"\")","v":"Lot "},{"$f":"IF($A255<>0,VLOOKUP($A255,Liste!$A$10:$W$459,22,FALSE),\"\")","v":0},{"$f":"IF($A255<>0,VLOOKUP($A255,Liste!$A$10:$W$459,23,FALSE),\"\")","v":0},null,null,null,{"$f":"IF(OR(B256=0,VLOOKUP(A255,Liste!$A$10:'Liste'!$Z$459,26)<>\"\"),\"\", \"Voir autorisation messages électroniques\")","v":"Voir autorisation messages électroniques"}]
[{"$f":"A255+1","v":28},null,null,null,null,null,"Par correspondance reçu le "]
[{"$f":"IF($A264<>0,VLOOKUP($A264,Liste!$A$10:$W$459,3,FALSE),\"\")","v":"Mr  et Mme"},{"$f":"IF($A264<>0,VLOOKUP($A264,Liste!$A$10:$W$459,4,FALSE),\"\")","v":"BRUCHET Elisabeth"},null,null,{"$f":"IF($A264<>0,VLOOKUP($A264,Liste!$A$10:$W$459,8,FALSE),\"\")","v":53},null,"Par visio, audio conférence,,,,"]
[{"$f":"IF($A264<>0,VLOOKUP($A264,Liste!$A$10:$W$459,5,FALSE),\"\")","v":"13 rue de l' espoir"},null,null,null,null,null,"Signature/ Mandataire :"]
[{"$f":"IF($A264<>0,VLOOKUP($A264,Liste!$A$10:$W$459,6,FALSE),\"\")","v":75016},{"$f":"IF($A264<>0,VLOOKUP($A264,Liste!$A$10:$W$459,7,FALSE),\"\")","v":"Paris "}]
[{"$f":" IF($A264<>0, \"Lot \" & VLOOKUP($A264,Liste!$A$10:$W$459,9,FALSE),\"\")","v":"Lot 28"},{"$f":"IF($A264<>0,VLOOKUP($A264,Liste!$A$10:$W$459,10,FALSE),\"\")","v":"Appart,"},{"$f":"IF($A264<>0,VLOOKUP($A264,Liste!$A$10:$W$459,11,FALSE),\"\")","v":48}]
[{"$f":"IF($A264<>0,\"Lot \" & VLOOKUP($A264,Liste!$A$10:$W$459,12,FALSE),\"\")","v":"Lot 178"},{"$f":"IF($A264<>0,VLOOKUP($A264,Liste!$A$10:$W$459,13,FALSE),\"\")","v":"Cave"},{"$f":"IF($A264<>0,VLOOKUP($A264,Liste!$A$10:$W$459,14,FALSE),\"\")","v":5}]
[{"$f":"IF($A264<>0,\"Lot \" & VLOOKUP($A264,Liste!$A$10:$W$459,15,FALSE),\"\")","v":"Lot "},{"$f":"IF($A264<>0,VLOOKUP($A264,Liste!$A$10:$W$459,16,FALSE),\"\")","v":0},{"$f":"IF($A264<>0,VLOOKUP($A264,Liste!$A$10:$W$459,17,FALSE),\"\")","v":0},null,null,null,"Arrivé à","après vote de la Résolution N°"]
[{"$f":"IF($A264<>0,\"Lot \" & VLOOKUP($A264,Liste!$A$10:$W$459,18,FALSE),\"\")","v":"Lot "},0,{"$f":"IF($A264<>0,VLOOKUP($A264,Liste!$A$10:$W$459,19,FALSE),\"\")","v":0},null,null,null,"Départ à","après vote de la Résolution N°"]
[{"$f":"IF($A264<>0,\"Lot \" & VLOOKUP($A264,Liste!$A$10:$W$459,21,FALSE),\"\")","v":"Lot "},{"$f":"IF($A264<>0,VLOOKUP($A264,Liste!$A$10:$W$459,22,FALSE),\"\")","v":0},{"$f":"IF($A264<>0,VLOOKUP($A264,Liste!$A$10:$W$459,23,FALSE),\"\")","v":0},null,null,null,{"$f":"IF(OR(B265=0,VLOOKUP(A264,Liste!$A$10:'Liste'!$Z$459,26)<>\"\"),\"\", \"Voir autorisation messages électroniques\")","v":"Voir autorisation messages électroniques"}]
[{"$f":"A264+1","v":29},null,null,null,null,null,"Par correspondance reçu le "]
[{"$f":"IF($A273<>0,VLOOKUP($A273,Liste!$A$10:$W$459,3,FALSE),\"\")","v":"Mr  et Mme"},{"$f":"IF($A273<>0,VLOOKUP($A273,Liste!$A$10:$W$459,4,FALSE),\"\")","v":"BUKVIC "},null,null,{"$f":"IF($A273<>0,VLOOKUP($A273,Liste!$A$10:$W$459,8,FALSE),\"\")","v":68},null,"Par visio, audio conférence,,,,"]
[{"$f":"IF($A273<>0,VLOOKUP($A273,Liste!$A$10:$W$459,5,FALSE),\"\")","v":"13 rue de l' espoir"},null,null,null,null,null,"Signature/ Mandataire :"]
[{"$f":"IF($A273<>0,VLOOKUP($A273,Liste!$A$10:$W$459,6,FALSE),\"\")","v":75016},{"$f":"IF($A273<>0,VLOOKUP($A273,Liste!$A$10:$W$459,7,FALSE),\"\")","v":"Paris "}]
[{"$f":" IF($A273<>0, \"Lot \" & VLOOKUP($A273,Liste!$A$10:$W$459,9,FALSE),\"\")","v":"Lot 29"},{"$f":"IF($A273<>0,VLOOKUP($A273,Liste!$A$10:$W$459,10,FALSE),\"\")","v":"Appart,"},{"$f":"IF($A273<>0,VLOOKUP($A273,Liste!$A$10:$W$459,11,FALSE),\"\")","v":63}]
[{"$f":"IF($A273<>0,\"Lot \" & VLOOKUP($A273,Liste!$A$10:$W$459,12,FALSE),\"\")","v":"Lot 179"},{"$f":"IF($A273<>0,VLOOKUP($A273,Liste!$A$10:$W$459,13,FALSE),\"\")","v":"Cave"},{"$f":"IF($A273<>0,VLOOKUP($A273,Liste!$A$10:$W$459,14,FALSE),\"\")","v":5}]
[{"$f":"IF($A273<>0,\"Lot \" & VLOOKUP($A273,Liste!$A$10:$W$459,15,FALSE),\"\")","v":"Lot "},{"$f":"IF($A273<>0,VLOOKUP($A273,Liste!$A$10:$W$459,16,FALSE),\"\")","v":0},{"$f":"IF($A273<>0,VLOOKUP($A273,Liste!$A$10:$W$459,17,FALSE),\"\")","v":0},null,null,null,"Arrivé à","après vote de la Résolution N°"]
[{"$f":"IF($A273<>0,\"Lot \" & VLOOKUP($A273,Liste!$A$10:$W$459,18,FALSE),\"\")","v":"Lot "},0,{"$f":"IF($A273<>0,VLOOKUP($A273,Liste!$A$10:$W$459,19,FALSE),\"\")","v":0},null,null,null,"Départ à","après vote de la Résolution N°"]
[{"$f":"IF($A273<>0,\"Lot \" & VLOOKUP($A273,Liste!$A$10:$W$459,21,FALSE),\"\")","v":"Lot "},{"$f":"IF($A273<>0,VLOOKUP($A273,Liste!$A$10:$W$459,22,FALSE),\"\")","v":0},{"$f":"IF($A273<>0,VLOOKUP($A273,Liste!$A$10:$W$459,23,FALSE),\"\")","v":0},null,null,null,{"$f":"IF(OR(B274=0,VLOOKUP(A273,Liste!$A$10:'Liste'!$Z$459,26)<>\"\"),\"\", \"Voir autorisation messages électroniques\")","v":"Voir autorisation messages électroniques"}]
[{"$f":"A273+1","v":30},null,null,null,null,null,"Par correspondance reçu le "]
[{"$f":"IF($A282<>0,VLOOKUP($A282,Liste!$A$10:$W$459,3,FALSE),\"\")","v":"Madame"},{"$f":"IF($A282<>0,VLOOKUP($A282,Liste!$A$10:$W$459,4,FALSE),\"\")","v":"BURILLE Richard"},null,null,{"$f":"IF($A282<>0,VLOOKUP($A282,Liste!$A$10:$W$459,8,FALSE),\"\")","v":60},null,"Par visio, audio conférence,,,,"]
[{"$f":"IF($A282<>0,VLOOKUP($A282,Liste!$A$10:$W$459,5,FALSE),\"\")","v":"13 rue de l' espoir"},null,null,null,null,null,"Signature/ Mandataire :"]
[{"$f":"IF($A282<>0,VLOOKUP($A282,Liste!$A$10:$W$459,6,FALSE),\"\")","v":75016},{"$f":"IF($A282<>0,VLOOKUP($A282,Liste!$A$10:$W$459,7,FALSE),\"\")","v":"Paris "}]
[{"$f":" IF($A282<>0, \"Lot \" & VLOOKUP($A282,Liste!$A$10:$W$459,9,FALSE),\"\")","v":"Lot 30"},{"$f":"IF($A282<>0,VLOOKUP($A282,Liste!$A$10:$W$459,10,FALSE),\"\")","v":"Appart,"},{"$f":"IF($A282<>0,VLOOKUP($A282,Liste!$A$10:$W$459,11,FALSE),\"\")","v":55}]
[{"$f":"IF($A282<>0,\"Lot \" & VLOOKUP($A282,Liste!$A$10:$W$459,12,FALSE),\"\")","v":"Lot 180"},{"$f":"IF($A282<>0,VLOOKUP($A282,Liste!$A$10:$W$459,13,FALSE),\"\")","v":"Cave"},{"$f":"IF($A282<>0,VLOOKUP($A282,Liste!$A$10:$W$459,14,FALSE),\"\")","v":5}]
[{"$f":"IF($A282<>0,\"Lot \" & VLOOKUP($A282,Liste!$A$10:$W$459,15,FALSE),\"\")","v":"Lot "},{"$f":"IF($A282<>0,VLOOKUP($A282,Liste!$A$10:$W$459,16,FALSE),\"\")","v":0},{"$f":"IF($A282<>0,VLOOKUP($A282,Liste!$A$10:$W$459,17,FALSE),\"\")","v":0},null,null,null,"Arrivé à","après vote de la Résolution N°"]
[{"$f":"IF($A282<>0,\"Lot \" & VLOOKUP($A282,Liste!$A$10:$W$459,18,FALSE),\"\")","v":"Lot "},0,{"$f":"IF($A282<>0,VLOOKUP($A282,Liste!$A$10:$W$459,19,FALSE),\"\")","v":0},null,null,null,"Départ à","après vote de la Résolution N°"]
[{"$f":"IF($A282<>0,\"Lot \" & VLOOKUP($A282,Liste!$A$10:$W$459,21,FALSE),\"\")","v":"Lot "},{"$f":"IF($A282<>0,VLOOKUP($A282,Liste!$A$10:$W$459,22,FALSE),\"\")","v":0},{"$f":"IF($A282<>0,VLOOKUP($A282,Liste!$A$10:$W$459,23,FALSE),\"\")","v":0},null,null,null,{"$f":"IF(OR(B283=0,VLOOKUP(A282,Liste!$A$10:'Liste'!$Z$459,26)<>\"\"),\"\", \"Voir autorisation messages électroniques\")","v":"Voir autorisation messages électroniques"}]
[{"$f":"A282+1","v":31},null,null,null,null,null,"Par correspondance reçu le "]
[{"$f":"IF($A291<>0,VLOOKUP($A291,Liste!$A$10:$W$459,3,FALSE),\"\")","v":"Monsieur"},{"$f":"IF($A291<>0,VLOOKUP($A291,Liste!$A$10:$W$459,4,FALSE),\"\")","v":"CARANTA Jean P."},null,null,{"$f":"IF($A291<>0,VLOOKUP($A291,Liste!$A$10:$W$459,8,FALSE),\"\")","v":60},null,"Par visio, audio conférence,,,,"]
[{"$f":"IF($A291<>0,VLOOKUP($A291,Liste!$A$10:$W$459,5,FALSE),\"\")","v":"13 rue de l' espoir"},null,null,null,null,null,"Signature/ Mandataire :"]
[{"$f":"IF($A291<>0,VLOOKUP($A291,Liste!$A$10:$W$459,6,FALSE),\"\")","v":75016},{"$f":"IF($A291<>0,VLOOKUP($A291,Liste!$A$10:$W$459,7,FALSE),\"\")","v":"Paris "}]
[{"$f":" IF($A291<>0, \"Lot \" & VLOOKUP($A291,Liste!$A$10:$W$459,9,FALSE),\"\")","v":"Lot 31"},{"$f":"IF($A291<>0,VLOOKUP($A291,Liste!$A$10:$W$459,10,FALSE),\"\")","v":"Appart,"},{"$f":"IF($A291<>0,VLOOKUP($A291,Liste!$A$10:$W$459,11,FALSE),\"\")","v":55}]
[{"$f":"IF($A291<>0,\"Lot \" & VLOOKUP($A291,Liste!$A$10:$W$459,12,FALSE),\"\")","v":"Lot 181"},{"$f":"IF($A291<>0,VLOOKUP($A291,Liste!$A$10:$W$459,13,FALSE),\"\")","v":"Cave"},{"$f":"IF($A291<>0,VLOOKUP($A291,Liste!$A$10:$W$459,14,FALSE),\"\")","v":5}]
[{"$f":"IF($A291<>0,\"Lot \" & VLOOKUP($A291,Liste!$A$10:$W$459,15,FALSE),\"\")","v":"Lot "},{"$f":"IF($A291<>0,VLOOKUP($A291,Liste!$A$10:$W$459,16,FALSE),\"\")","v":0},{"$f":"IF($A291<>0,VLOOKUP($A291,Liste!$A$10:$W$459,17,FALSE),\"\")","v":0},null,null,null,"Arrivé à","après vote de la Résolution N°"]
[{"$f":"IF($A291<>0,\"Lot \" & VLOOKUP($A291,Liste!$A$10:$W$459,18,FALSE),\"\")","v":"Lot "},0,{"$f":"IF($A291<>0,VLOOKUP($A291,Liste!$A$10:$W$459,19,FALSE),\"\")","v":0},null,null,null,"Départ à","après vote de la Résolution N°"]
[{"$f":"IF($A291<>0,\"Lot \" & VLOOKUP($A291,Liste!$A$10:$W$459,21,FALSE),\"\")","v":"Lot "},{"$f":"IF($A291<>0,VLOOKUP($A291,Liste!$A$10:$W$459,22,FALSE),\"\")","v":0},{"$f":"IF($A291<>0,VLOOKUP($A291,Liste!$A$10:$W$459,23,FALSE),\"\")","v":0},null,null,null,{"$f":"IF(OR(B292=0,VLOOKUP(A291,Liste!$A$10:'Liste'!$Z$459,26)<>\"\"),\"\", \"Voir autorisation messages électroniques\")","v":"Voir autorisation messages électroniques"}]
[{"$f":"A291+1","v":32},null,null,null,null,null,"Par correspondance reçu le "]
[{"$f":"IF($A300<>0,VLOOKUP($A300,Liste!$A$10:$W$459,3,FALSE),\"\")","v":"Monsieur"},{"$f":"IF($A300<>0,VLOOKUP($A300,Liste!$A$10:$W$459,4,FALSE),\"\")","v":"CARBONE Isabelle"},null,null,{"$f":"IF($A300<>0,VLOOKUP($A300,Liste!$A$10:$W$459,8,FALSE),\"\")","v":50},null,"Par visio, audio conférence,,,,"]
[{"$f":"IF($A300<>0,VLOOKUP($A300,Liste!$A$10:$W$459,5,FALSE),\"\")","v":"13 rue de l' espoir"},null,null,null,null,null,"Signature/ Mandataire :"]
[{"$f":"IF($A300<>0,VLOOKUP($A300,Liste!$A$10:$W$459,6,FALSE),\"\")","v":75016},{"$f":"IF($A300<>0,VLOOKUP($A300,Liste!$A$10:$W$459,7,FALSE),\"\")","v":"Paris "}]
[{"$f":" IF($A300<>0, \"Lot \" & VLOOKUP($A300,Liste!$A$10:$W$459,9,FALSE),\"\")","v":"Lot 32"},{"$f":"IF($A300<>0,VLOOKUP($A300,Liste!$A$10:$W$459,10,FALSE),\"\")","v":"Appart,"},{"$f":"IF($A300<>0,VLOOKUP($A300,Liste!$A$10:$W$459,11,FALSE),\"\")","v":45}]
[{"$f":"IF($A300<>0,\"Lot \" & VLOOKUP($A300,Liste!$A$10:$W$459,12,FALSE),\"\")","v":"Lot 182"},{"$f":"IF($A300<>0,VLOOKUP($A300,Liste!$A$10:$W$459,13,FALSE),\"\")","v":"Cave"},{"$f":"IF($A300<>0,VLOOKUP($A300,Liste!$A$10:$W$459,14,FALSE),\"\")","v":5}]
[{"$f":"IF($A300<>0,\"Lot \" & VLOOKUP($A300,Liste!$A$10:$W$459,15,FALSE),\"\")","v":"Lot "},{"$f":"IF($A300<>0,VLOOKUP($A300,Liste!$A$10:$W$459,16,FALSE),\"\")","v":0},{"$f":"IF($A300<>0,VLOOKUP($A300,Liste!$A$10:$W$459,17,FALSE),\"\")","v":0},null,null,null,"Arrivé à","après vote de la Résolution N°"]
[{"$f":"IF($A300<>0,\"Lot \" & VLOOKUP($A300,Liste!$A$10:$W$459,18,FALSE),\"\")","v":"Lot "},0,{"$f":"IF($A300<>0,VLOOKUP($A300,Liste!$A$10:$W$459,19,FALSE),\"\")","v":0},null,null,null,"Départ à","après vote de la Résolution N°"]
[{"$f":"IF($A300<>0,\"Lot \" & VLOOKUP($A300,Liste!$A$10:$W$459,21,FALSE),\"\")","v":"Lot "},{"$f":"IF($A300<>0,VLOOKUP($A300,Liste!$A$10:$W$459,22,FALSE),\"\")","v":0},{"$f":"IF($A300<>0,VLOOKUP($A300,Liste!$A$10:$W$459,23,FALSE),\"\")","v":0},null,null,null,{"$f":"IF(OR(B301=0,VLOOKUP(A300,Liste!$A$10:'Liste'!$Z$459,26)<>\"\"),\"\", \"Voir autorisation messages électroniques\")","v":"Voir autorisation messages électroniques"}]
[]
[null,null,null,"A S S E M B L E E     G E N E R A L E",null,null,null,null,null,null,"Page",{"$f":"L233+1","v":5}]
[null,null,null,null,null,"du","2019-12-20"]
[null,null,null,"Résidence Le Paradis; Rue de l' espoir 75016 PARIS"]
[]
[{"$f":"A300+1","v":33},null,null,null,null,null,"Par correspondance reçu le "]
[{"$f":"IF($A314<>0,VLOOKUP($A314,Liste!$A$10:$W$459,3,FALSE),\"\")","v":"Monsieur"},{"$f":"IF($A314<>0,VLOOKUP($A314,Liste!$A$10:$W$459,4,FALSE),\"\")","v":"CASTAN Max"},null,null,{"$f":"IF($A314<>0,VLOOKUP($A314,Liste!$A$10:$W$459,8,FALSE),\"\")","v":85},null,"Par visio, audio conférence,,,,"]
[{"$f":"IF($A314<>0,VLOOKUP($A314,Liste!$A$10:$W$459,5,FALSE),\"\")","v":"13 rue de l' espoir"},null,null,null,null,null,"Signature/ Mandataire :"]
[{"$f":"IF($A314<>0,VLOOKUP($A314,Liste!$A$10:$W$459,6,FALSE),\"\")","v":75016},{"$f":"IF($A314<>0,VLOOKUP($A314,Liste!$A$10:$W$459,7,FALSE),\"\")","v":"Paris "}]
[{"$f":" IF($A314<>0, \"Lot \" & VLOOKUP($A314,Liste!$A$10:$W$459,9,FALSE),\"\")","v":"Lot 33"},{"$f":"IF($A314<>0,VLOOKUP($A314,Liste!$A$10:$W$459,10,FALSE),\"\")","v":"Appart,"},{"$f":"IF($A314<>0,VLOOKUP($A314,Liste!$A$10:$W$459,11,FALSE),\"\")","v":80}]
[{"$f":"IF($A314<>0,\"Lot \" & VLOOKUP($A314,Liste!$A$10:$W$459,12,FALSE),\"\")","v":"Lot 183"},{"$f":"IF($A314<>0,VLOOKUP($A314,Liste!$A$10:$W$459,13,FALSE),\"\")","v":"Cave"},{"$f":"IF($A314<>0,VLOOKUP($A314,Liste!$A$10:$W$459,14,FALSE),\"\")","v":5}]
[{"$f":"IF($A314<>0,\"Lot \" & VLOOKUP($A314,Liste!$A$10:$W$459,15,FALSE),\"\")","v":"Lot "},{"$f":"IF($A314<>0,VLOOKUP($A314,Liste!$A$10:$W$459,16,FALSE),\"\")","v":0},{"$f":"IF($A314<>0,VLOOKUP($A314,Liste!$A$10:$W$459,17,FALSE),\"\")","v":0},null,null,null,"Arrivé à","après vote de la Résolution N°"]
[{"$f":"IF($A314<>0,\"Lot \" & VLOOKUP($A314,Liste!$A$10:$W$459,18,FALSE),\"\")","v":"Lot "},0,{"$f":"IF($A314<>0,VLOOKUP($A314,Liste!$A$10:$W$459,19,FALSE),\"\")","v":0},null,null,null,"Départ à","après vote de la Résolution N°"]
[{"$f":"IF($A314<>0,\"Lot \" & VLOOKUP($A314,Liste!$A$10:$W$459,21,FALSE),\"\")","v":"Lot "},{"$f":"IF($A314<>0,VLOOKUP($A314,Liste!$A$10:$W$459,22,FALSE),\"\")","v":0},{"$f":"IF($A314<>0,VLOOKUP($A314,Liste!$A$10:$W$459,23,FALSE),\"\")","v":0},null,null,null,{"$f":"IF(OR(B315=0,VLOOKUP(A314,Liste!$A$10:'Liste'!$Z$459,26)<>\"\"),\"\", \"Voir autorisation messages électroniques\")","v":"Voir autorisation messages électroniques"}]
[{"$f":"A314+1","v":34},null,null,null,null,null,"Par correspondance reçu le "]
[{"$f":"IF($A323<>0,VLOOKUP($A323,Liste!$A$10:$W$459,3,FALSE),\"\")","v":"Monsieur"},{"$f":"IF($A323<>0,VLOOKUP($A323,Liste!$A$10:$W$459,4,FALSE),\"\")","v":"CAVALIERI Alain"},null,null,{"$f":"IF($A323<>0,VLOOKUP($A323,Liste!$A$10:$W$459,8,FALSE),\"\")","v":80},null,"Par visio, audio conférence,,,,"]
[{"$f":"IF($A323<>0,VLOOKUP($A323,Liste!$A$10:$W$459,5,FALSE),\"\")","v":"13 rue de l' espoir"},null,null,null,null,null,"Signature/ Mandataire :"]
[{"$f":"IF($A323<>0,VLOOKUP($A323,Liste!$A$10:$W$459,6,FALSE),\"\")","v":75016},{"$f":"IF($A323<>0,VLOOKUP($A323,Liste!$A$10:$W$459,7,FALSE),\"\")","v":"Paris "}]
[{"$f":" IF($A323<>0, \"Lot \" & VLOOKUP($A323,Liste!$A$10:$W$459,9,FALSE),\"\")","v":"Lot 34"},{"$f":"IF($A323<>0,VLOOKUP($A323,Liste!$A$10:$W$459,10,FALSE),\"\")","v":"Appart,"},{"$f":"IF($A323<>0,VLOOKUP($A323,Liste!$A$10:$W$459,11,FALSE),\"\")","v":75}]
[{"$f":"IF($A323<>0,\"Lot \" & VLOOKUP($A323,Liste!$A$10:$W$459,12,FALSE),\"\")","v":"Lot 184"},{"$f":"IF($A323<>0,VLOOKUP($A323,Liste!$A$10:$W$459,13,FALSE),\"\")","v":"Cave"},{"$f":"IF($A323<>0,VLOOKUP($A323,Liste!$A$10:$W$459,14,FALSE),\"\")","v":5}]
[{"$f":"IF($A323<>0,\"Lot \" & VLOOKUP($A323,Liste!$A$10:$W$459,15,FALSE),\"\")","v":"Lot "},{"$f":"IF($A323<>0,VLOOKUP($A323,Liste!$A$10:$W$459,16,FALSE),\"\")","v":0},{"$f":"IF($A323<>0,VLOOKUP($A323,Liste!$A$10:$W$459,17,FALSE),\"\")","v":0},null,null,null,"Arrivé à","après vote de la Résolution N°"]
[{"$f":"IF($A323<>0,\"Lot \" & VLOOKUP($A323,Liste!$A$10:$W$459,18,FALSE),\"\")","v":"Lot "},0,{"$f":"IF($A323<>0,VLOOKUP($A323,Liste!$A$10:$W$459,19,FALSE),\"\")","v":0},null,null,null,"Départ à","après vote de la Résolution N°"]
[{"$f":"IF($A323<>0,\"Lot \" & VLOOKUP($A323,Liste!$A$10:$W$459,21,FALSE),\"\")","v":"Lot "},{"$f":"IF($A323<>0,VLOOKUP($A323,Liste!$A$10:$W$459,22,FALSE),\"\")","v":0},{"$f":"IF($A323<>0,VLOOKUP($A323,Liste!$A$10:$W$459,23,FALSE),\"\")","v":0},null,null,null,{"$f":"IF(OR(B324=0,VLOOKUP(A323,Liste!$A$10:'Liste'!$Z$459,26)<>\"\"),\"\", \"Voir autorisation messages électroniques\")","v":"Voir autorisation messages électroniques"}]
[{"$f":"A323+1","v":35},null,null,null,null,null,"Par correspondance reçu le "]
[{"$f":"IF($A332<>0,VLOOKUP($A332,Liste!$A$10:$W$459,3,FALSE),\"\")","v":"Madame"},{"$f":"IF($A332<>0,VLOOKUP($A332,Liste!$A$10:$W$459,4,FALSE),\"\")","v":"CAVALIERI Christine"},null,null,{"$f":"IF($A332<>0,VLOOKUP($A332,Liste!$A$10:$W$459,8,FALSE),\"\")","v":60},null,"Par visio, audio conférence,,,,"]
[{"$f":"IF($A332<>0,VLOOKUP($A332,Liste!$A$10:$W$459,5,FALSE),\"\")","v":"13 rue de l' espoir"},null,null,null,null,null,"Signature/ Mandataire :"]
[{"$f":"IF($A332<>0,VLOOKUP($A332,Liste!$A$10:$W$459,6,FALSE),\"\")","v":75016},{"$f":"IF($A332<>0,VLOOKUP($A332,Liste!$A$10:$W$459,7,FALSE),\"\")","v":"Paris "}]
[{"$f":" IF($A332<>0, \"Lot \" & VLOOKUP($A332,Liste!$A$10:$W$459,9,FALSE),\"\")","v":"Lot 35"},{"$f":"IF($A332<>0,VLOOKUP($A332,Liste!$A$10:$W$459,10,FALSE),\"\")","v":"Appart,"},{"$f":"IF($A332<>0,VLOOKUP($A332,Liste!$A$10:$W$459,11,FALSE),\"\")","v":55}]
[{"$f":"IF($A332<>0,\"Lot \" & VLOOKUP($A332,Liste!$A$10:$W$459,12,FALSE),\"\")","v":"Lot 185"},{"$f":"IF($A332<>0,VLOOKUP($A332,Liste!$A$10:$W$459,13,FALSE),\"\")","v":"Cave"},{"$f":"IF($A332<>0,VLOOKUP($A332,Liste!$A$10:$W$459,14,FALSE),\"\")","v":5}]
[{"$f":"IF($A332<>0,\"Lot \" & VLOOKUP($A332,Liste!$A$10:$W$459,15,FALSE),\"\")","v":"Lot "},{"$f":"IF($A332<>0,VLOOKUP($A332,Liste!$A$10:$W$459,16,FALSE),\"\")","v":0},{"$f":"IF($A332<>0,VLOOKUP($A332,Liste!$A$10:$W$459,17,FALSE),\"\")","v":0},null,null,null,"Arrivé à","après vote de la Résolution N°"]
[{"$f":"IF($A332<>0,\"Lot \" & VLOOKUP($A332,Liste!$A$10:$W$459,18,FALSE),\"\")","v":"Lot "},0,{"$f":"IF($A332<>0,VLOOKUP($A332,Liste!$A$10:$W$459,19,FALSE),\"\")","v":0},null,null,null,"Départ à","après vote de la Résolution N°"]
[{"$f":"IF($A332<>0,\"Lot \" & VLOOKUP($A332,Liste!$A$10:$W$459,21,FALSE),\"\")","v":"Lot "},{"$f":"IF($A332<>0,VLOOKUP($A332,Liste!$A$10:$W$459,22,FALSE),\"\")","v":0},{"$f":"IF($A332<>0,VLOOKUP($A332,Liste!$A$10:$W$459,23,FALSE),\"\")","v":0},null,null,null,{"$f":"IF(OR(B333=0,VLOOKUP(A332,Liste!$A$10:'Liste'!$Z$459,26)<>\"\"),\"\", \"Voir autorisation messages électroniques\")","v":"Voir autorisation messages électroniques"}]
[{"$f":"A332+1","v":36},null,null,null,null,null,"Par correspondance reçu le "]
[{"$f":"IF($A341<>0,VLOOKUP($A341,Liste!$A$10:$W$459,3,FALSE),\"\")","v":"Monsieur"},{"$f":"IF($A341<>0,VLOOKUP($A341,Liste!$A$10:$W$459,4,FALSE),\"\")","v":"CIABATTINI Dante"},null,null,{"$f":"IF($A341<>0,VLOOKUP($A341,Liste!$A$10:$W$459,8,FALSE),\"\")","v":70},null,"Par visio, audio conférence,,,,"]
[{"$f":"IF($A341<>0,VLOOKUP($A341,Liste!$A$10:$W$459,5,FALSE),\"\")","v":"13 rue de l' espoir"},null,null,null,null,null,"Signature/ Mandataire :"]
[{"$f":"IF($A341<>0,VLOOKUP($A341,Liste!$A$10:$W$459,6,FALSE),\"\")","v":75016},{"$f":"IF($A341<>0,VLOOKUP($A341,Liste!$A$10:$W$459,7,FALSE),\"\")","v":"Paris "}]
[{"$f":" IF($A341<>0, \"Lot \" & VLOOKUP($A341,Liste!$A$10:$W$459,9,FALSE),\"\")","v":"Lot 36"},{"$f":"IF($A341<>0,VLOOKUP($A341,Liste!$A$10:$W$459,10,FALSE),\"\")","v":"Appart,"},{"$f":"IF($A341<>0,VLOOKUP($A341,Liste!$A$10:$W$459,11,FALSE),\"\")","v":65}]
[{"$f":"IF($A341<>0,\"Lot \" & VLOOKUP($A341,Liste!$A$10:$W$459,12,FALSE),\"\")","v":"Lot 186"},{"$f":"IF($A341<>0,VLOOKUP($A341,Liste!$A$10:$W$459,13,FALSE),\"\")","v":"Cave"},{"$f":"IF($A341<>0,VLOOKUP($A341,Liste!$A$10:$W$459,14,FALSE),\"\")","v":5}]
[{"$f":"IF($A341<>0,\"Lot \" & VLOOKUP($A341,Liste!$A$10:$W$459,15,FALSE),\"\")","v":"Lot "},{"$f":"IF($A341<>0,VLOOKUP($A341,Liste!$A$10:$W$459,16,FALSE),\"\")","v":0},{"$f":"IF($A341<>0,VLOOKUP($A341,Liste!$A$10:$W$459,17,FALSE),\"\")","v":0},null,null,null,"Arrivé à","après vote de la Résolution N°"]
[{"$f":"IF($A341<>0,\"Lot \" & VLOOKUP($A341,Liste!$A$10:$W$459,18,FALSE),\"\")","v":"Lot "},0,{"$f":"IF($A341<>0,VLOOKUP($A341,Liste!$A$10:$W$459,19,FALSE),\"\")","v":0},null,null,null,"Départ à","après vote de la Résolution N°"]
[{"$f":"IF($A341<>0,\"Lot \" & VLOOKUP($A341,Liste!$A$10:$W$459,21,FALSE),\"\")","v":"Lot "},{"$f":"IF($A341<>0,VLOOKUP($A341,Liste!$A$10:$W$459,22,FALSE),\"\")","v":0},{"$f":"IF($A341<>0,VLOOKUP($A341,Liste!$A$10:$W$459,23,FALSE),\"\")","v":0},null,null,null,{"$f":"IF(OR(B342=0,VLOOKUP(A341,Liste!$A$10:'Liste'!$Z$459,26)<>\"\"),\"\", \"Voir autorisation messages électroniques\")","v":"Voir autorisation messages électroniques"}]
[{"$f":"A341+1","v":37},null,null,null,null,null,"Par correspondance reçu le "]
[{"$f":"IF($A350<>0,VLOOKUP($A350,Liste!$A$10:$W$459,3,FALSE),\"\")","v":"Madame"},{"$f":"IF($A350<>0,VLOOKUP($A350,Liste!$A$10:$W$459,4,FALSE),\"\")","v":"CIULLI - DREANO Jeanine"},null,null,{"$f":"IF($A350<>0,VLOOKUP($A350,Liste!$A$10:$W$459,8,FALSE),\"\")","v":50},null,"Par visio, audio conférence,,,,"]
[{"$f":"IF($A350<>0,VLOOKUP($A350,Liste!$A$10:$W$459,5,FALSE),\"\")","v":"13 rue de l' espoir"},null,null,null,null,null,"Signature/ Mandataire :"]
[{"$f":"IF($A350<>0,VLOOKUP($A350,Liste!$A$10:$W$459,6,FALSE),\"\")","v":75016},{"$f":"IF($A350<>0,VLOOKUP($A350,Liste!$A$10:$W$459,7,FALSE),\"\")","v":"Paris "}]
[{"$f":" IF($A350<>0, \"Lot \" & VLOOKUP($A350,Liste!$A$10:$W$459,9,FALSE),\"\")","v":"Lot 37"},{"$f":"IF($A350<>0,VLOOKUP($A350,Liste!$A$10:$W$459,10,FALSE),\"\")","v":"Appart,"},{"$f":"IF($A350<>0,VLOOKUP($A350,Liste!$A$10:$W$459,11,FALSE),\"\")","v":45}]
[{"$f":"IF($A350<>0,\"Lot \" & VLOOKUP($A350,Liste!$A$10:$W$459,12,FALSE),\"\")","v":"Lot 187"},{"$f":"IF($A350<>0,VLOOKUP($A350,Liste!$A$10:$W$459,13,FALSE),\"\")","v":"Cave"},{"$f":"IF($A350<>0,VLOOKUP($A350,Liste!$A$10:$W$459,14,FALSE),\"\")","v":5}]
[{"$f":"IF($A350<>0,\"Lot \" & VLOOKUP($A350,Liste!$A$10:$W$459,15,FALSE),\"\")","v":"Lot "},{"$f":"IF($A350<>0,VLOOKUP($A350,Liste!$A$10:$W$459,16,FALSE),\"\")","v":0},{"$f":"IF($A350<>0,VLOOKUP($A350,Liste!$A$10:$W$459,17,FALSE),\"\")","v":0},null,null,null,"Arrivé à","après vote de la Résolution N°"]
[{"$f":"IF($A350<>0,\"Lot \" & VLOOKUP($A350,Liste!$A$10:$W$459,18,FALSE),\"\")","v":"Lot "},0,{"$f":"IF($A350<>0,VLOOKUP($A350,Liste!$A$10:$W$459,19,FALSE),\"\")","v":0},null,null,null,"Départ à","après vote de la Résolution N°"]
[{"$f":"IF($A350<>0,\"Lot \" & VLOOKUP($A350,Liste!$A$10:$W$459,21,FALSE),\"\")","v":"Lot "},{"$f":"IF($A350<>0,VLOOKUP($A350,Liste!$A$10:$W$459,22,FALSE),\"\")","v":0},{"$f":"IF($A350<>0,VLOOKUP($A350,Liste!$A$10:$W$459,23,FALSE),\"\")","v":0},null,null,null,{"$f":"IF(OR(B351=0,VLOOKUP(A350,Liste!$A$10:'Liste'!$Z$459,26)<>\"\"),\"\", \"Voir autorisation messages électroniques\")","v":"Voir autorisation messages électroniques"}]
[{"$f":"A350+1","v":38},null,null,null,null,null,"Par correspondance reçu le "]
[{"$f":"IF($A359<>0,VLOOKUP($A359,Liste!$A$10:$W$459,3,FALSE),\"\")","v":"Monieur"},{"$f":"IF($A359<>0,VLOOKUP($A359,Liste!$A$10:$W$459,4,FALSE),\"\")","v":"COLOM "},null,null,{"$f":"IF($A359<>0,VLOOKUP($A359,Liste!$A$10:$W$459,8,FALSE),\"\")","v":45},null,"Par visio, audio conférence,,,,"]
[{"$f":"IF($A359<>0,VLOOKUP($A359,Liste!$A$10:$W$459,5,FALSE),\"\")","v":"13 rue de l' espoir"},null,null,null,null,null,"Signature/ Mandataire :"]
[{"$f":"IF($A359<>0,VLOOKUP($A359,Liste!$A$10:$W$459,6,FALSE),\"\")","v":75016},{"$f":"IF($A359<>0,VLOOKUP($A359,Liste!$A$10:$W$459,7,FALSE),\"\")","v":"Paris "}]
[{"$f":" IF($A359<>0, \"Lot \" & VLOOKUP($A359,Liste!$A$10:$W$459,9,FALSE),\"\")","v":"Lot 38"},{"$f":"IF($A359<>0,VLOOKUP($A359,Liste!$A$10:$W$459,10,FALSE),\"\")","v":"Appart,"},{"$f":"IF($A359<>0,VLOOKUP($A359,Liste!$A$10:$W$459,11,FALSE),\"\")","v":40}]
[{"$f":"IF($A359<>0,\"Lot \" & VLOOKUP($A359,Liste!$A$10:$W$459,12,FALSE),\"\")","v":"Lot 188"},{"$f":"IF($A359<>0,VLOOKUP($A359,Liste!$A$10:$W$459,13,FALSE),\"\")","v":"Cave"},{"$f":"IF($A359<>0,VLOOKUP($A359,Liste!$A$10:$W$459,14,FALSE),\"\")","v":5}]
[{"$f":"IF($A359<>0,\"Lot \" & VLOOKUP($A359,Liste!$A$10:$W$459,15,FALSE),\"\")","v":"Lot "},{"$f":"IF($A359<>0,VLOOKUP($A359,Liste!$A$10:$W$459,16,FALSE),\"\")","v":0},{"$f":"IF($A359<>0,VLOOKUP($A359,Liste!$A$10:$W$459,17,FALSE),\"\")","v":0},null,null,null,"Arrivé à","après vote de la Résolution N°"]
[{"$f":"IF($A359<>0,\"Lot \" & VLOOKUP($A359,Liste!$A$10:$W$459,18,FALSE),\"\")","v":"Lot "},0,{"$f":"IF($A359<>0,VLOOKUP($A359,Liste!$A$10:$W$459,19,FALSE),\"\")","v":0},null,null,null,"Départ à","après vote de la Résolution N°"]
[{"$f":"IF($A359<>0,\"Lot \" & VLOOKUP($A359,Liste!$A$10:$W$459,21,FALSE),\"\")","v":"Lot "},{"$f":"IF($A359<>0,VLOOKUP($A359,Liste!$A$10:$W$459,22,FALSE),\"\")","v":0},{"$f":"IF($A359<>0,VLOOKUP($A359,Liste!$A$10:$W$459,23,FALSE),\"\")","v":0},null,null,null,{"$f":"IF(OR(B360=0,VLOOKUP(A359,Liste!$A$10:'Liste'!$Z$459,26)<>\"\"),\"\", \"Voir autorisation messages électroniques\")","v":"Voir autorisation messages électroniques"}]
[{"$f":"A359+1","v":39},null,null,null,null,null,"Par correspondance reçu le "]
[{"$f":"IF($A368<>0,VLOOKUP($A368,Liste!$A$10:$W$459,3,FALSE),\"\")","v":"Monieur"},{"$f":"IF($A368<>0,VLOOKUP($A368,Liste!$A$10:$W$459,4,FALSE),\"\")","v":"COLOMBANI Georges"},null,null,{"$f":"IF($A368<>0,VLOOKUP($A368,Liste!$A$10:$W$459,8,FALSE),\"\")","v":50},null,"Par visio, audio conférence,,,,"]
[{"$f":"IF($A368<>0,VLOOKUP($A368,Liste!$A$10:$W$459,5,FALSE),\"\")","v":"13 rue de l' espoir"},null,null,null,null,null,"Signature/ Mandataire :"]
[{"$f":"IF($A368<>0,VLOOKUP($A368,Liste!$A$10:$W$459,6,FALSE),\"\")","v":75016},{"$f":"IF($A368<>0,VLOOKUP($A368,Liste!$A$10:$W$459,7,FALSE),\"\")","v":"Paris "}]
[{"$f":" IF($A368<>0, \"Lot \" & VLOOKUP($A368,Liste!$A$10:$W$459,9,FALSE),\"\")","v":"Lot 39"},{"$f":"IF($A368<>0,VLOOKUP($A368,Liste!$A$10:$W$459,10,FALSE),\"\")","v":"Appart,"},{"$f":"IF($A368<>0,VLOOKUP($A368,Liste!$A$10:$W$459,11,FALSE),\"\")","v":45}]
[{"$f":"IF($A368<>0,\"Lot \" & VLOOKUP($A368,Liste!$A$10:$W$459,12,FALSE),\"\")","v":"Lot 189"},{"$f":"IF($A368<>0,VLOOKUP($A368,Liste!$A$10:$W$459,13,FALSE),\"\")","v":"Cave"},{"$f":"IF($A368<>0,VLOOKUP($A368,Liste!$A$10:$W$459,14,FALSE),\"\")","v":5}]
[{"$f":"IF($A368<>0,\"Lot \" & VLOOKUP($A368,Liste!$A$10:$W$459,15,FALSE),\"\")","v":"Lot "},{"$f":"IF($A368<>0,VLOOKUP($A368,Liste!$A$10:$W$459,16,FALSE),\"\")","v":0},{"$f":"IF($A368<>0,VLOOKUP($A368,Liste!$A$10:$W$459,17,FALSE),\"\")","v":0},null,null,null,"Arrivé à","après vote de la Résolution N°"]
[{"$f":"IF($A368<>0,\"Lot \" & VLOOKUP($A368,Liste!$A$10:$W$459,18,FALSE),\"\")","v":"Lot "},0,{"$f":"IF($A368<>0,VLOOKUP($A368,Liste!$A$10:$W$459,19,FALSE),\"\")","v":0},null,null,null,"Départ à","après vote de la Résolution N°"]
[{"$f":"IF($A368<>0,\"Lot \" & VLOOKUP($A368,Liste!$A$10:$W$459,21,FALSE),\"\")","v":"Lot "},{"$f":"IF($A368<>0,VLOOKUP($A368,Liste!$A$10:$W$459,22,FALSE),\"\")","v":0},{"$f":"IF($A368<>0,VLOOKUP($A368,Liste!$A$10:$W$459,23,FALSE),\"\")","v":0},null,null,null,{"$f":"IF(OR(B369=0,VLOOKUP(A368,Liste!$A$10:'Liste'!$Z$459,26)<>\"\"),\"\", \"Voir autorisation messages électroniques\")","v":"Voir autorisation messages électroniques"}]
[{"$f":"A368+1","v":40},null,null,null,null,null,"Par correspondance reçu le "]
[{"$f":"IF($A377<>0,VLOOKUP($A377,Liste!$A$10:$W$459,3,FALSE),\"\")","v":"Monieur"},{"$f":"IF($A377<>0,VLOOKUP($A377,Liste!$A$10:$W$459,4,FALSE),\"\")","v":"COLONNA Michel"},null,null,{"$f":"IF($A377<>0,VLOOKUP($A377,Liste!$A$10:$W$459,8,FALSE),\"\")","v":60},null,"Par visio, audio conférence,,,,"]
[{"$f":"IF($A377<>0,VLOOKUP($A377,Liste!$A$10:$W$459,5,FALSE),\"\")","v":"13 rue de l' espoir"},null,null,null,null,null,"Signature/ Mandataire :"]
[{"$f":"IF($A377<>0,VLOOKUP($A377,Liste!$A$10:$W$459,6,FALSE),\"\")","v":75016},{"$f":"IF($A377<>0,VLOOKUP($A377,Liste!$A$10:$W$459,7,FALSE),\"\")","v":"Paris "}]
[{"$f":" IF($A377<>0, \"Lot \" & VLOOKUP($A377,Liste!$A$10:$W$459,9,FALSE),\"\")","v":"Lot 40"},{"$f":"IF($A377<>0,VLOOKUP($A377,Liste!$A$10:$W$459,10,FALSE),\"\")","v":"Appart,"},{"$f":"IF($A377<>0,VLOOKUP($A377,Liste!$A$10:$W$459,11,FALSE),\"\")","v":55}]
[{"$f":"IF($A377<>0,\"Lot \" & VLOOKUP($A377,Liste!$A$10:$W$459,12,FALSE),\"\")","v":"Lot 190"},{"$f":"IF($A377<>0,VLOOKUP($A377,Liste!$A$10:$W$459,13,FALSE),\"\")","v":"Cave"},{"$f":"IF($A377<>0,VLOOKUP($A377,Liste!$A$10:$W$459,14,FALSE),\"\")","v":5}]
[{"$f":"IF($A377<>0,\"Lot \" & VLOOKUP($A377,Liste!$A$10:$W$459,15,FALSE),\"\")","v":"Lot "},{"$f":"IF($A377<>0,VLOOKUP($A377,Liste!$A$10:$W$459,16,FALSE),\"\")","v":0},{"$f":"IF($A377<>0,VLOOKUP($A377,Liste!$A$10:$W$459,17,FALSE),\"\")","v":0},null,null,null,"Arrivé à","après vote de la Résolution N°"]
[{"$f":"IF($A377<>0,\"Lot \" & VLOOKUP($A377,Liste!$A$10:$W$459,18,FALSE),\"\")","v":"Lot "},0,{"$f":"IF($A377<>0,VLOOKUP($A377,Liste!$A$10:$W$459,19,FALSE),\"\")","v":0},null,null,null,"Départ à","après vote de la Résolution N°"]
[{"$f":"IF($A377<>0,\"Lot \" & VLOOKUP($A377,Liste!$A$10:$W$459,21,FALSE),\"\")","v":"Lot "},{"$f":"IF($A377<>0,VLOOKUP($A377,Liste!$A$10:$W$459,22,FALSE),\"\")","v":0},{"$f":"IF($A377<>0,VLOOKUP($A377,Liste!$A$10:$W$459,23,FALSE),\"\")","v":0},null,null,null,{"$f":"IF(OR(B378=0,VLOOKUP(A377,Liste!$A$10:'Liste'!$Z$459,26)<>\"\"),\"\", \"Voir autorisation messages électroniques\")","v":"Voir autorisation messages électroniques"}]
[]
[null,null,null,"A S S E M B L E E     G E N E R A L E",null,null,null,null,null,null,"Page",{"$f":"L310+1","v":6}]
[null,null,null,null,null,"du","2019-12-20"]
[null,null,null,"Résidence Le Paradis; Rue de l' espoir 75016 PARIS"]
[]
[{"$f":"A377+1","v":41},null,null,null,null,null,"Par correspondance reçu le "]
[{"$f":"IF($A391<>0,VLOOKUP($A391,Liste!$A$10:$W$459,3,FALSE),\"\")","v":"Madame"},{"$f":"IF($A391<>0,VLOOKUP($A391,Liste!$A$10:$W$459,4,FALSE),\"\")","v":"COMA Marie"},null,null,{"$f":"IF($A391<>0,VLOOKUP($A391,Liste!$A$10:$W$459,8,FALSE),\"\")","v":55},null,"Par visio, audio conférence,,,,"]
[{"$f":"IF($A391<>0,VLOOKUP($A391,Liste!$A$10:$W$459,5,FALSE),\"\")","v":"13 rue de l' espoir"},null,null,null,null,null,"Signature/ Mandataire :"]
[{"$f":"IF($A391<>0,VLOOKUP($A391,Liste!$A$10:$W$459,6,FALSE),\"\")","v":75016},{"$f":"IF($A391<>0,VLOOKUP($A391,Liste!$A$10:$W$459,7,FALSE),\"\")","v":"Paris "}]
[{"$f":" IF($A391<>0, \"Lot \" & VLOOKUP($A391,Liste!$A$10:$W$459,9,FALSE),\"\")","v":"Lot 41"},{"$f":"IF($A391<>0,VLOOKUP($A391,Liste!$A$10:$W$459,10,FALSE),\"\")","v":"Appart,"},{"$f":"IF($A391<>0,VLOOKUP($A391,Liste!$A$10:$W$459,11,FALSE),\"\")","v":50}]
[{"$f":"IF($A391<>0,\"Lot \" & VLOOKUP($A391,Liste!$A$10:$W$459,12,FALSE),\"\")","v":"Lot 191"},{"$f":"IF($A391<>0,VLOOKUP($A391,Liste!$A$10:$W$459,13,FALSE),\"\")","v":"Cave"},{"$f":"IF($A391<>0,VLOOKUP($A391,Liste!$A$10:$W$459,14,FALSE),\"\")","v":5}]
[{"$f":"IF($A391<>0,\"Lot \" & VLOOKUP($A391,Liste!$A$10:$W$459,15,FALSE),\"\")","v":"Lot "},{"$f":"IF($A391<>0,VLOOKUP($A391,Liste!$A$10:$W$459,16,FALSE),\"\")","v":0},{"$f":"IF($A391<>0,VLOOKUP($A391,Liste!$A$10:$W$459,17,FALSE),\"\")","v":0},null,null,null,"Arrivé à","après vote de la Résolution N°"]
[{"$f":"IF($A391<>0,\"Lot \" & VLOOKUP($A391,Liste!$A$10:$W$459,18,FALSE),\"\")","v":"Lot "},0,{"$f":"IF($A391<>0,VLOOKUP($A391,Liste!$A$10:$W$459,19,FALSE),\"\")","v":0},null,null,null,"Départ à","après vote de la Résolution N°"]
[{"$f":"IF($A391<>0,\"Lot \" & VLOOKUP($A391,Liste!$A$10:$W$459,21,FALSE),\"\")","v":"Lot "},{"$f":"IF($A391<>0,VLOOKUP($A391,Liste!$A$10:$W$459,22,FALSE),\"\")","v":0},{"$f":"IF($A391<>0,VLOOKUP($A391,Liste!$A$10:$W$459,23,FALSE),\"\")","v":0},null,null,null,{"$f":"IF(OR(B392=0,VLOOKUP(A391,Liste!$A$10:'Liste'!$Z$459,26)<>\"\"),\"\", \"Voir autorisation messages électroniques\")","v":"Voir autorisation messages électroniques"}]
[{"$f":"A391+1","v":42},null,null,null,null,null,"Par correspondance reçu le "]
[{"$f":"IF($A400<>0,VLOOKUP($A400,Liste!$A$10:$W$459,3,FALSE),\"\")","v":"Monieur"},{"$f":"IF($A400<>0,VLOOKUP($A400,Liste!$A$10:$W$459,4,FALSE),\"\")","v":"DANAUD Jean René"},null,null,{"$f":"IF($A400<>0,VLOOKUP($A400,Liste!$A$10:$W$459,8,FALSE),\"\")","v":50},null,"Par visio, audio conférence,,,,"]
[{"$f":"IF($A400<>0,VLOOKUP($A400,Liste!$A$10:$W$459,5,FALSE),\"\")","v":"13 rue de l' espoir"},null,null,null,null,null,"Signature/ Mandataire :"]
[{"$f":"IF($A400<>0,VLOOKUP($A400,Liste!$A$10:$W$459,6,FALSE),\"\")","v":75016},{"$f":"IF($A400<>0,VLOOKUP($A400,Liste!$A$10:$W$459,7,FALSE),\"\")","v":"Paris "}]
[{"$f":" IF($A400<>0, \"Lot \" & VLOOKUP($A400,Liste!$A$10:$W$459,9,FALSE),\"\")","v":"Lot 42"},{"$f":"IF($A400<>0,VLOOKUP($A400,Liste!$A$10:$W$459,10,FALSE),\"\")","v":"Appart,"},{"$f":"IF($A400<>0,VLOOKUP($A400,Liste!$A$10:$W$459,11,FALSE),\"\")","v":45}]
[{"$f":"IF($A400<>0,\"Lot \" & VLOOKUP($A400,Liste!$A$10:$W$459,12,FALSE),\"\")","v":"Lot 192"},{"$f":"IF($A400<>0,VLOOKUP($A400,Liste!$A$10:$W$459,13,FALSE),\"\")","v":"Cave"},{"$f":"IF($A400<>0,VLOOKUP($A400,Liste!$A$10:$W$459,14,FALSE),\"\")","v":5}]
[{"$f":"IF($A400<>0,\"Lot \" & VLOOKUP($A400,Liste!$A$10:$W$459,15,FALSE),\"\")","v":"Lot "},{"$f":"IF($A400<>0,VLOOKUP($A400,Liste!$A$10:$W$459,16,FALSE),\"\")","v":0},{"$f":"IF($A400<>0,VLOOKUP($A400,Liste!$A$10:$W$459,17,FALSE),\"\")","v":0},null,null,null,"Arrivé à","après vote de la Résolution N°"]
[{"$f":"IF($A400<>0,\"Lot \" & VLOOKUP($A400,Liste!$A$10:$W$459,18,FALSE),\"\")","v":"Lot "},0,{"$f":"IF($A400<>0,VLOOKUP($A400,Liste!$A$10:$W$459,19,FALSE),\"\")","v":0},null,null,null,"Départ à","après vote de la Résolution N°"]
[{"$f":"IF($A400<>0,\"Lot \" & VLOOKUP($A400,Liste!$A$10:$W$459,21,FALSE),\"\")","v":"Lot "},{"$f":"IF($A400<>0,VLOOKUP($A400,Liste!$A$10:$W$459,22,FALSE),\"\")","v":0},{"$f":"IF($A400<>0,VLOOKUP($A400,Liste!$A$10:$W$459,23,FALSE),\"\")","v":0},null,null,null,{"$f":"IF(OR(B401=0,VLOOKUP(A400,Liste!$A$10:'Liste'!$Z$459,26)<>\"\"),\"\", \"Voir autorisation messages électroniques\")","v":"Voir autorisation messages électroniques"}]
[{"$f":"A400+1","v":43},null,null,null,null,null,"Par correspondance reçu le "]
[{"$f":"IF($A409<>0,VLOOKUP($A409,Liste!$A$10:$W$459,3,FALSE),\"\")","v":"Monieur"},{"$f":"IF($A409<>0,VLOOKUP($A409,Liste!$A$10:$W$459,4,FALSE),\"\")","v":"DAUGA Cédric"},null,null,{"$f":"IF($A409<>0,VLOOKUP($A409,Liste!$A$10:$W$459,8,FALSE),\"\")","v":50},null,"Par visio, audio conférence,,,,"]
[{"$f":"IF($A409<>0,VLOOKUP($A409,Liste!$A$10:$W$459,5,FALSE),\"\")","v":"13 rue de l' espoir"},null,null,null,null,null,"Signature/ Mandataire :"]
[{"$f":"IF($A409<>0,VLOOKUP($A409,Liste!$A$10:$W$459,6,FALSE),\"\")","v":75016},{"$f":"IF($A409<>0,VLOOKUP($A409,Liste!$A$10:$W$459,7,FALSE),\"\")","v":"Paris "}]
[{"$f":" IF($A409<>0, \"Lot \" & VLOOKUP($A409,Liste!$A$10:$W$459,9,FALSE),\"\")","v":"Lot 43"},{"$f":"IF($A409<>0,VLOOKUP($A409,Liste!$A$10:$W$459,10,FALSE),\"\")","v":"Appart,"},{"$f":"IF($A409<>0,VLOOKUP($A409,Liste!$A$10:$W$459,11,FALSE),\"\")","v":45}]
[{"$f":"IF($A409<>0,\"Lot \" & VLOOKUP($A409,Liste!$A$10:$W$459,12,FALSE),\"\")","v":"Lot 193"},{"$f":"IF($A409<>0,VLOOKUP($A409,Liste!$A$10:$W$459,13,FALSE),\"\")","v":"Cave"},{"$f":"IF($A409<>0,VLOOKUP($A409,Liste!$A$10:$W$459,14,FALSE),\"\")","v":5}]
[{"$f":"IF($A409<>0,\"Lot \" & VLOOKUP($A409,Liste!$A$10:$W$459,15,FALSE),\"\")","v":"Lot "},{"$f":"IF($A409<>0,VLOOKUP($A409,Liste!$A$10:$W$459,16,FALSE),\"\")","v":0},{"$f":"IF($A409<>0,VLOOKUP($A409,Liste!$A$10:$W$459,17,FALSE),\"\")","v":0},null,null,null,"Arrivé à","après vote de la Résolution N°"]
[{"$f":"IF($A409<>0,\"Lot \" & VLOOKUP($A409,Liste!$A$10:$W$459,18,FALSE),\"\")","v":"Lot "},0,{"$f":"IF($A409<>0,VLOOKUP($A409,Liste!$A$10:$W$459,19,FALSE),\"\")","v":0},null,null,null,"Départ à","après vote de la Résolution N°"]
[{"$f":"IF($A409<>0,\"Lot \" & VLOOKUP($A409,Liste!$A$10:$W$459,21,FALSE),\"\")","v":"Lot "},{"$f":"IF($A409<>0,VLOOKUP($A409,Liste!$A$10:$W$459,22,FALSE),\"\")","v":0},{"$f":"IF($A409<>0,VLOOKUP($A409,Liste!$A$10:$W$459,23,FALSE),\"\")","v":0},null,null,null,{"$f":"IF(OR(B410=0,VLOOKUP(A409,Liste!$A$10:'Liste'!$Z$459,26)<>\"\"),\"\", \"Voir autorisation messages électroniques\")","v":"Voir autorisation messages électroniques"}]
[{"$f":"A409+1","v":44},null,null,null,null,null,"Par correspondance reçu le "]
[{"$f":"IF($A418<>0,VLOOKUP($A418,Liste!$A$10:$W$459,3,FALSE),\"\")","v":"Madame"},{"$f":"IF($A418<>0,VLOOKUP($A418,Liste!$A$10:$W$459,4,FALSE),\"\")","v":"DE LAPRADE Yvette"},null,null,{"$f":"IF($A418<>0,VLOOKUP($A418,Liste!$A$10:$W$459,8,FALSE),\"\")","v":55},null,"Par visio, audio conférence,,,,"]
[{"$f":"IF($A418<>0,VLOOKUP($A418,Liste!$A$10:$W$459,5,FALSE),\"\")","v":"13 rue de l' espoir"},null,null,null,null,null,"Signature/ Mandataire :"]
[{"$f":"IF($A418<>0,VLOOKUP($A418,Liste!$A$10:$W$459,6,FALSE),\"\")","v":75016},{"$f":"IF($A418<>0,VLOOKUP($A418,Liste!$A$10:$W$459,7,FALSE),\"\")","v":"Paris "}]
[{"$f":" IF($A418<>0, \"Lot \" & VLOOKUP($A418,Liste!$A$10:$W$459,9,FALSE),\"\")","v":"Lot 44"},{"$f":"IF($A418<>0,VLOOKUP($A418,Liste!$A$10:$W$459,10,FALSE),\"\")","v":"Appart,"},{"$f":"IF($A418<>0,VLOOKUP($A418,Liste!$A$10:$W$459,11,FALSE),\"\")","v":50}]
[{"$f":"IF($A418<>0,\"Lot \" & VLOOKUP($A418,Liste!$A$10:$W$459,12,FALSE),\"\")","v":"Lot 194"},{"$f":"IF($A418<>0,VLOOKUP($A418,Liste!$A$10:$W$459,13,FALSE),\"\")","v":"Cave"},{"$f":"IF($A418<>0,VLOOKUP($A418,Liste!$A$10:$W$459,14,FALSE),\"\")","v":5}]
[{"$f":"IF($A418<>0,\"Lot \" & VLOOKUP($A418,Liste!$A$10:$W$459,15,FALSE),\"\")","v":"Lot "},{"$f":"IF($A418<>0,VLOOKUP($A418,Liste!$A$10:$W$459,16,FALSE),\"\")","v":0},{"$f":"IF($A418<>0,VLOOKUP($A418,Liste!$A$10:$W$459,17,FALSE),\"\")","v":0},null,null,null,"Arrivé à","après vote de la Résolution N°"]
[{"$f":"IF($A418<>0,\"Lot \" & VLOOKUP($A418,Liste!$A$10:$W$459,18,FALSE),\"\")","v":"Lot "},0,{"$f":"IF($A418<>0,VLOOKUP($A418,Liste!$A$10:$W$459,19,FALSE),\"\")","v":0},null,null,null,"Départ à","après vote de la Résolution N°"]
[{"$f":"IF($A418<>0,\"Lot \" & VLOOKUP($A418,Liste!$A$10:$W$459,21,FALSE),\"\")","v":"Lot "},{"$f":"IF($A418<>0,VLOOKUP($A418,Liste!$A$10:$W$459,22,FALSE),\"\")","v":0},{"$f":"IF($A418<>0,VLOOKUP($A418,Liste!$A$10:$W$459,23,FALSE),\"\")","v":0},null,null,null,{"$f":"IF(OR(B419=0,VLOOKUP(A418,Liste!$A$10:'Liste'!$Z$459,26)<>\"\"),\"\", \"Voir autorisation messages électroniques\")","v":"Voir autorisation messages électroniques"}]
[{"$f":"A418+1","v":45},null,null,null,null,null,"Par correspondance reçu le "]
[{"$f":"IF($A427<>0,VLOOKUP($A427,Liste!$A$10:$W$459,3,FALSE),\"\")","v":"Monieur"},{"$f":"IF($A427<>0,VLOOKUP($A427,Liste!$A$10:$W$459,4,FALSE),\"\")","v":"DENEUX Pierre"},null,null,{"$f":"IF($A427<>0,VLOOKUP($A427,Liste!$A$10:$W$459,8,FALSE),\"\")","v":60},null,"Par visio, audio conférence,,,,"]
[{"$f":"IF($A427<>0,VLOOKUP($A427,Liste!$A$10:$W$459,5,FALSE),\"\")","v":"13 rue de l' espoir"},null,null,null,null,null,"Signature/ Mandataire :"]
[{"$f":"IF($A427<>0,VLOOKUP($A427,Liste!$A$10:$W$459,6,FALSE),\"\")","v":75016},{"$f":"IF($A427<>0,VLOOKUP($A427,Liste!$A$10:$W$459,7,FALSE),\"\")","v":"Paris "}]
[{"$f":" IF($A427<>0, \"Lot \" & VLOOKUP($A427,Liste!$A$10:$W$459,9,FALSE),\"\")","v":"Lot 45"},{"$f":"IF($A427<>0,VLOOKUP($A427,Liste!$A$10:$W$459,10,FALSE),\"\")","v":"Appart,"},{"$f":"IF($A427<>0,VLOOKUP($A427,Liste!$A$10:$W$459,11,FALSE),\"\")","v":55}]
[{"$f":"IF($A427<>0,\"Lot \" & VLOOKUP($A427,Liste!$A$10:$W$459,12,FALSE),\"\")","v":"Lot 195"},{"$f":"IF($A427<>0,VLOOKUP($A427,Liste!$A$10:$W$459,13,FALSE),\"\")","v":"Cave"},{"$f":"IF($A427<>0,VLOOKUP($A427,Liste!$A$10:$W$459,14,FALSE),\"\")","v":5}]
[{"$f":"IF($A427<>0,\"Lot \" & VLOOKUP($A427,Liste!$A$10:$W$459,15,FALSE),\"\")","v":"Lot "},{"$f":"IF($A427<>0,VLOOKUP($A427,Liste!$A$10:$W$459,16,FALSE),\"\")","v":0},{"$f":"IF($A427<>0,VLOOKUP($A427,Liste!$A$10:$W$459,17,FALSE),\"\")","v":0},null,null,null,"Arrivé à","après vote de la Résolution N°"]
[{"$f":"IF($A427<>0,\"Lot \" & VLOOKUP($A427,Liste!$A$10:$W$459,18,FALSE),\"\")","v":"Lot "},0,{"$f":"IF($A427<>0,VLOOKUP($A427,Liste!$A$10:$W$459,19,FALSE),\"\")","v":0},null,null,null,"Départ à","après vote de la Résolution N°"]
[{"$f":"IF($A427<>0,\"Lot \" & VLOOKUP($A427,Liste!$A$10:$W$459,21,FALSE),\"\")","v":"Lot "},{"$f":"IF($A427<>0,VLOOKUP($A427,Liste!$A$10:$W$459,22,FALSE),\"\")","v":0},{"$f":"IF($A427<>0,VLOOKUP($A427,Liste!$A$10:$W$459,23,FALSE),\"\")","v":0},null,null,null,{"$f":"IF(OR(B428=0,VLOOKUP(A427,Liste!$A$10:'Liste'!$Z$459,26)<>\"\"),\"\", \"Voir autorisation messages électroniques\")","v":"Voir autorisation messages électroniques"}]
[{"$f":"A427+1","v":46},null,null,null,null,null,"Par correspondance reçu le "]
[{"$f":"IF($A436<>0,VLOOKUP($A436,Liste!$A$10:$W$459,3,FALSE),\"\")","v":"Monieur"},{"$f":"IF($A436<>0,VLOOKUP($A436,Liste!$A$10:$W$459,4,FALSE),\"\")","v":"DENIS Jacques"},null,null,{"$f":"IF($A436<>0,VLOOKUP($A436,Liste!$A$10:$W$459,8,FALSE),\"\")","v":55},null,"Par visio, audio conférence,,,,"]
[{"$f":"IF($A436<>0,VLOOKUP($A436,Liste!$A$10:$W$459,5,FALSE),\"\")","v":"13 rue de l' espoir"},null,null,null,null,null,"Signature/ Mandataire :"]
[{"$f":"IF($A436<>0,VLOOKUP($A436,Liste!$A$10:$W$459,6,FALSE),\"\")","v":75016},{"$f":"IF($A436<>0,VLOOKUP($A436,Liste!$A$10:$W$459,7,FALSE),\"\")","v":"Paris "}]
[{"$f":" IF($A436<>0, \"Lot \" & VLOOKUP($A436,Liste!$A$10:$W$459,9,FALSE),\"\")","v":"Lot 46"},{"$f":"IF($A436<>0,VLOOKUP($A436,Liste!$A$10:$W$459,10,FALSE),\"\")","v":"Appart,"},{"$f":"IF($A436<>0,VLOOKUP($A436,Liste!$A$10:$W$459,11,FALSE),\"\")","v":50}]
[{"$f":"IF($A436<>0,\"Lot \" & VLOOKUP($A436,Liste!$A$10:$W$459,12,FALSE),\"\")","v":"Lot 196"},{"$f":"IF($A436<>0,VLOOKUP($A436,Liste!$A$10:$W$459,13,FALSE),\"\")","v":"Cave"},{"$f":"IF($A436<>0,VLOOKUP($A436,Liste!$A$10:$W$459,14,FALSE),\"\")","v":5}]
[{"$f":"IF($A436<>0,\"Lot \" & VLOOKUP($A436,Liste!$A$10:$W$459,15,FALSE),\"\")","v":"Lot "},{"$f":"IF($A436<>0,VLOOKUP($A436,Liste!$A$10:$W$459,16,FALSE),\"\")","v":0},{"$f":"IF($A436<>0,VLOOKUP($A436,Liste!$A$10:$W$459,17,FALSE),\"\")","v":0},null,null,null,"Arrivé à","après vote de la Résolution N°"]
[{"$f":"IF($A436<>0,\"Lot \" & VLOOKUP($A436,Liste!$A$10:$W$459,18,FALSE),\"\")","v":"Lot "},0,{"$f":"IF($A436<>0,VLOOKUP($A436,Liste!$A$10:$W$459,19,FALSE),\"\")","v":0},null,null,null,"Départ à","après vote de la Résolution N°"]
[{"$f":"IF($A436<>0,\"Lot \" & VLOOKUP($A436,Liste!$A$10:$W$459,21,FALSE),\"\")","v":"Lot "},{"$f":"IF($A436<>0,VLOOKUP($A436,Liste!$A$10:$W$459,22,FALSE),\"\")","v":0},{"$f":"IF($A436<>0,VLOOKUP($A436,Liste!$A$10:$W$459,23,FALSE),\"\")","v":0},null,null,null,{"$f":"IF(OR(B437=0,VLOOKUP(A436,Liste!$A$10:'Liste'!$Z$459,26)<>\"\"),\"\", \"Voir autorisation messages électroniques\")","v":"Voir autorisation messages électroniques"}]
[{"$f":"A436+1","v":47},null,null,null,null,null,"Par correspondance reçu le "]
[{"$f":"IF($A445<>0,VLOOKUP($A445,Liste!$A$10:$W$459,3,FALSE),\"\")","v":"Madame"},{"$f":"IF($A445<>0,VLOOKUP($A445,Liste!$A$10:$W$459,4,FALSE),\"\")","v":"DI JORIO Brigitte"},null,null,{"$f":"IF($A445<>0,VLOOKUP($A445,Liste!$A$10:$W$459,8,FALSE),\"\")","v":60},null,"Par visio, audio conférence,,,,"]
[{"$f":"IF($A445<>0,VLOOKUP($A445,Liste!$A$10:$W$459,5,FALSE),\"\")","v":"13 rue de l' espoir"},null,null,null,null,null,"Signature/ Mandataire :"]
[{"$f":"IF($A445<>0,VLOOKUP($A445,Liste!$A$10:$W$459,6,FALSE),\"\")","v":75016},{"$f":"IF($A445<>0,VLOOKUP($A445,Liste!$A$10:$W$459,7,FALSE),\"\")","v":"Paris "}]
[{"$f":" IF($A445<>0, \"Lot \" & VLOOKUP($A445,Liste!$A$10:$W$459,9,FALSE),\"\")","v":"Lot 47"},{"$f":"IF($A445<>0,VLOOKUP($A445,Liste!$A$10:$W$459,10,FALSE),\"\")","v":"Appart,"},{"$f":"IF($A445<>0,VLOOKUP($A445,Liste!$A$10:$W$459,11,FALSE),\"\")","v":55}]
[{"$f":"IF($A445<>0,\"Lot \" & VLOOKUP($A445,Liste!$A$10:$W$459,12,FALSE),\"\")","v":"Lot 197"},{"$f":"IF($A445<>0,VLOOKUP($A445,Liste!$A$10:$W$459,13,FALSE),\"\")","v":"Cave"},{"$f":"IF($A445<>0,VLOOKUP($A445,Liste!$A$10:$W$459,14,FALSE),\"\")","v":5}]
[{"$f":"IF($A445<>0,\"Lot \" & VLOOKUP($A445,Liste!$A$10:$W$459,15,FALSE),\"\")","v":"Lot "},{"$f":"IF($A445<>0,VLOOKUP($A445,Liste!$A$10:$W$459,16,FALSE),\"\")","v":0},{"$f":"IF($A445<>0,VLOOKUP($A445,Liste!$A$10:$W$459,17,FALSE),\"\")","v":0},null,null,null,"Arrivé à","après vote de la Résolution N°"]
[{"$f":"IF($A445<>0,\"Lot \" & VLOOKUP($A445,Liste!$A$10:$W$459,18,FALSE),\"\")","v":"Lot "},0,{"$f":"IF($A445<>0,VLOOKUP($A445,Liste!$A$10:$W$459,19,FALSE),\"\")","v":0},null,null,null,"Départ à","après vote de la Résolution N°"]
[{"$f":"IF($A445<>0,\"Lot \" & VLOOKUP($A445,Liste!$A$10:$W$459,21,FALSE),\"\")","v":"Lot "},{"$f":"IF($A445<>0,VLOOKUP($A445,Liste!$A$10:$W$459,22,FALSE),\"\")","v":0},{"$f":"IF($A445<>0,VLOOKUP($A445,Liste!$A$10:$W$459,23,FALSE),\"\")","v":0},null,null,null,{"$f":"IF(OR(B446=0,VLOOKUP(A445,Liste!$A$10:'Liste'!$Z$459,26)<>\"\"),\"\", \"Voir autorisation messages électroniques\")","v":"Voir autorisation messages électroniques"}]
[{"$f":"A445+1","v":48},null,null,null,null,null,"Par correspondance reçu le "]
[{"$f":"IF($A454<>0,VLOOKUP($A454,Liste!$A$10:$W$459,3,FALSE),\"\")","v":"Monieur"},{"$f":"IF($A454<>0,VLOOKUP($A454,Liste!$A$10:$W$459,4,FALSE),\"\")","v":"DI JORIO Marcel"},null,null,{"$f":"IF($A454<>0,VLOOKUP($A454,Liste!$A$10:$W$459,8,FALSE),\"\")","v":61},null,"Par visio, audio conférence,,,,"]
[{"$f":"IF($A454<>0,VLOOKUP($A454,Liste!$A$10:$W$459,5,FALSE),\"\")","v":"13 rue de l' espoir"},null,null,null,null,null,"Signature/ Mandataire :"]
[{"$f":"IF($A454<>0,VLOOKUP($A454,Liste!$A$10:$W$459,6,FALSE),\"\")","v":75016},{"$f":"IF($A454<>0,VLOOKUP($A454,Liste!$A$10:$W$459,7,FALSE),\"\")","v":"Paris "}]
[{"$f":" IF($A454<>0, \"Lot \" & VLOOKUP($A454,Liste!$A$10:$W$459,9,FALSE),\"\")","v":"Lot 48"},{"$f":"IF($A454<>0,VLOOKUP($A454,Liste!$A$10:$W$459,10,FALSE),\"\")","v":"Appart,"},{"$f":"IF($A454<>0,VLOOKUP($A454,Liste!$A$10:$W$459,11,FALSE),\"\")","v":56}]
[{"$f":"IF($A454<>0,\"Lot \" & VLOOKUP($A454,Liste!$A$10:$W$459,12,FALSE),\"\")","v":"Lot 198"},{"$f":"IF($A454<>0,VLOOKUP($A454,Liste!$A$10:$W$459,13,FALSE),\"\")","v":"Cave"},{"$f":"IF($A454<>0,VLOOKUP($A454,Liste!$A$10:$W$459,14,FALSE),\"\")","v":5}]
[{"$f":"IF($A454<>0,\"Lot \" & VLOOKUP($A454,Liste!$A$10:$W$459,15,FALSE),\"\")","v":"Lot "},{"$f":"IF($A454<>0,VLOOKUP($A454,Liste!$A$10:$W$459,16,FALSE),\"\")","v":0},{"$f":"IF($A454<>0,VLOOKUP($A454,Liste!$A$10:$W$459,17,FALSE),\"\")","v":0},null,null,null,"Arrivé à","après vote de la Résolution N°"]
[{"$f":"IF($A454<>0,\"Lot \" & VLOOKUP($A454,Liste!$A$10:$W$459,18,FALSE),\"\")","v":"Lot "},0,{"$f":"IF($A454<>0,VLOOKUP($A454,Liste!$A$10:$W$459,19,FALSE),\"\")","v":0},null,null,null,"Départ à","après vote de la Résolution N°"]
[{"$f":"IF($A454<>0,\"Lot \" & VLOOKUP($A454,Liste!$A$10:$W$459,21,FALSE),\"\")","v":"Lot "},{"$f":"IF($A454<>0,VLOOKUP($A454,Liste!$A$10:$W$459,22,FALSE),\"\")","v":0},{"$f":"IF($A454<>0,VLOOKUP($A454,Liste!$A$10:$W$459,23,FALSE),\"\")","v":0},null,null,null,{"$f":"IF(OR(B455=0,VLOOKUP(A454,Liste!$A$10:'Liste'!$Z$459,26)<>\"\"),\"\", \"Voir autorisation messages électroniques\")","v":"Voir autorisation messages électroniques"}]
[]
[null,null,null,"A S S E M B L E E     G E N E R A L E",null,null,null,null,null,null,"Page",{"$f":"L387+1","v":7}]
[null,null,null,null,null,"du","2019-12-20"]
[null,null,null,"Résidence Le Paradis; Rue de l' espoir 75016 PARIS"]
[]
[{"$f":"A454+1","v":49},null,null,null,null,null,"Par correspondance reçu le "]
[{"$f":"IF($A468<>0,VLOOKUP($A468,Liste!$A$10:$W$459,3,FALSE),\"\")","v":"Monieur"},{"$f":"IF($A468<>0,VLOOKUP($A468,Liste!$A$10:$W$459,4,FALSE),\"\")","v":"DI MEGLIO Laurent"},null,null,{"$f":"IF($A468<>0,VLOOKUP($A468,Liste!$A$10:$W$459,8,FALSE),\"\")","v":45},null,"Par visio, audio conférence,,,,"]
[{"$f":"IF($A468<>0,VLOOKUP($A468,Liste!$A$10:$W$459,5,FALSE),\"\")","v":"13 rue de l' espoir"},null,null,null,null,null,"Signature/ Mandataire :"]
[{"$f":"IF($A468<>0,VLOOKUP($A468,Liste!$A$10:$W$459,6,FALSE),\"\")","v":75016},{"$f":"IF($A468<>0,VLOOKUP($A468,Liste!$A$10:$W$459,7,FALSE),\"\")","v":"Paris "}]
[{"$f":" IF($A468<>0, \"Lot \" & VLOOKUP($A468,Liste!$A$10:$W$459,9,FALSE),\"\")","v":"Lot 49"},{"$f":"IF($A468<>0,VLOOKUP($A468,Liste!$A$10:$W$459,10,FALSE),\"\")","v":"Appart,"},{"$f":"IF($A468<>0,VLOOKUP($A468,Liste!$A$10:$W$459,11,FALSE),\"\")","v":40}]
[{"$f":"IF($A468<>0,\"Lot \" & VLOOKUP($A468,Liste!$A$10:$W$459,12,FALSE),\"\")","v":"Lot 199"},{"$f":"IF($A468<>0,VLOOKUP($A468,Liste!$A$10:$W$459,13,FALSE),\"\")","v":"Cave"},{"$f":"IF($A468<>0,VLOOKUP($A468,Liste!$A$10:$W$459,14,FALSE),\"\")","v":5}]
[{"$f":"IF($A468<>0,\"Lot \" & VLOOKUP($A468,Liste!$A$10:$W$459,15,FALSE),\"\")","v":"Lot "},{"$f":"IF($A468<>0,VLOOKUP($A468,Liste!$A$10:$W$459,16,FALSE),\"\")","v":0},{"$f":"IF($A468<>0,VLOOKUP($A468,Liste!$A$10:$W$459,17,FALSE),\"\")","v":0},null,null,null,"Arrivé à","après vote de la Résolution N°"]
[{"$f":"IF($A468<>0,\"Lot \" & VLOOKUP($A468,Liste!$A$10:$W$459,18,FALSE),\"\")","v":"Lot "},0,{"$f":"IF($A468<>0,VLOOKUP($A468,Liste!$A$10:$W$459,19,FALSE),\"\")","v":0},null,null,null,"Départ à","après vote de la Résolution N°"]
[{"$f":"IF($A468<>0,\"Lot \" & VLOOKUP($A468,Liste!$A$10:$W$459,21,FALSE),\"\")","v":"Lot "},{"$f":"IF($A468<>0,VLOOKUP($A468,Liste!$A$10:$W$459,22,FALSE),\"\")","v":0},{"$f":"IF($A468<>0,VLOOKUP($A468,Liste!$A$10:$W$459,23,FALSE),\"\")","v":0},null,null,null,{"$f":"IF(OR(B469=0,VLOOKUP(A468,Liste!$A$10:'Liste'!$Z$459,26)<>\"\"),\"\", \"Voir autorisation messages électroniques\")","v":"Voir autorisation messages électroniques"}]
[{"$f":"A468+1","v":50},null,null,null,null,null,"Par correspondance reçu le "]
[{"$f":"IF($A477<>0,VLOOKUP($A477,Liste!$A$10:$W$459,3,FALSE),\"\")","v":"Monieur"},{"$f":"IF($A477<>0,VLOOKUP($A477,Liste!$A$10:$W$459,4,FALSE),\"\")","v":"DRAGOTTA Michel"},null,null,{"$f":"IF($A477<>0,VLOOKUP($A477,Liste!$A$10:$W$459,8,FALSE),\"\")","v":50},null,"Par visio, audio conférence,,,,"]
[{"$f":"IF($A477<>0,VLOOKUP($A477,Liste!$A$10:$W$459,5,FALSE),\"\")","v":"13 rue de l' espoir"},null,null,null,null,null,"Signature/ Mandataire :"]
[{"$f":"IF($A477<>0,VLOOKUP($A477,Liste!$A$10:$W$459,6,FALSE),\"\")","v":75016},{"$f":"IF($A477<>0,VLOOKUP($A477,Liste!$A$10:$W$459,7,FALSE),\"\")","v":"Paris "}]
[{"$f":" IF($A477<>0, \"Lot \" & VLOOKUP($A477,Liste!$A$10:$W$459,9,FALSE),\"\")","v":"Lot 50"},{"$f":"IF($A477<>0,VLOOKUP($A477,Liste!$A$10:$W$459,10,FALSE),\"\")","v":"Appart,"},{"$f":"IF($A477<>0,VLOOKUP($A477,Liste!$A$10:$W$459,11,FALSE),\"\")","v":45}]
[{"$f":"IF($A477<>0,\"Lot \" & VLOOKUP($A477,Liste!$A$10:$W$459,12,FALSE),\"\")","v":"Lot 200"},{"$f":"IF($A477<>0,VLOOKUP($A477,Liste!$A$10:$W$459,13,FALSE),\"\")","v":"Cave"},{"$f":"IF($A477<>0,VLOOKUP($A477,Liste!$A$10:$W$459,14,FALSE),\"\")","v":5}]
[{"$f":"IF($A477<>0,\"Lot \" & VLOOKUP($A477,Liste!$A$10:$W$459,15,FALSE),\"\")","v":"Lot "},{"$f":"IF($A477<>0,VLOOKUP($A477,Liste!$A$10:$W$459,16,FALSE),\"\")","v":0},{"$f":"IF($A477<>0,VLOOKUP($A477,Liste!$A$10:$W$459,17,FALSE),\"\")","v":0},null,null,null,"Arrivé à","après vote de la Résolution N°"]
[{"$f":"IF($A477<>0,\"Lot \" & VLOOKUP($A477,Liste!$A$10:$W$459,18,FALSE),\"\")","v":"Lot "},0,{"$f":"IF($A477<>0,VLOOKUP($A477,Liste!$A$10:$W$459,19,FALSE),\"\")","v":0},null,null,null,"Départ à","après vote de la Résolution N°"]
[{"$f":"IF($A477<>0,\"Lot \" & VLOOKUP($A477,Liste!$A$10:$W$459,21,FALSE),\"\")","v":"Lot "},{"$f":"IF($A477<>0,VLOOKUP($A477,Liste!$A$10:$W$459,22,FALSE),\"\")","v":0},{"$f":"IF($A477<>0,VLOOKUP($A477,Liste!$A$10:$W$459,23,FALSE),\"\")","v":0},null,null,null,{"$f":"IF(OR(B478=0,VLOOKUP(A477,Liste!$A$10:'Liste'!$Z$459,26)<>\"\"),\"\", \"Voir autorisation messages électroniques\")","v":"Voir autorisation messages électroniques"}]
[{"$f":"A477+1","v":51},null,null,null,null,null,"Par correspondance reçu le "]
[{"$f":"IF($A486<>0,VLOOKUP($A486,Liste!$A$10:$W$459,3,FALSE),\"\")","v":"Monsieur"},{"$f":"IF($A486<>0,VLOOKUP($A486,Liste!$A$10:$W$459,4,FALSE),\"\")","v":"DUBOURG Pierre"},null,null,{"$f":"IF($A486<>0,VLOOKUP($A486,Liste!$A$10:$W$459,8,FALSE),\"\")","v":60},null,"Par visio, audio conférence,,,,"]
[{"$f":"IF($A486<>0,VLOOKUP($A486,Liste!$A$10:$W$459,5,FALSE),\"\")","v":"14 rue de l' espoir"},null,null,null,null,null,"Signature/ Mandataire :"]
[{"$f":"IF($A486<>0,VLOOKUP($A486,Liste!$A$10:$W$459,6,FALSE),\"\")","v":75016},{"$f":"IF($A486<>0,VLOOKUP($A486,Liste!$A$10:$W$459,7,FALSE),\"\")","v":"Paris "}]
[{"$f":" IF($A486<>0, \"Lot \" & VLOOKUP($A486,Liste!$A$10:$W$459,9,FALSE),\"\")","v":"Lot 51"},{"$f":"IF($A486<>0,VLOOKUP($A486,Liste!$A$10:$W$459,10,FALSE),\"\")","v":"Appart,"},{"$f":"IF($A486<>0,VLOOKUP($A486,Liste!$A$10:$W$459,11,FALSE),\"\")","v":55}]
[{"$f":"IF($A486<>0,\"Lot \" & VLOOKUP($A486,Liste!$A$10:$W$459,12,FALSE),\"\")","v":"Lot 201"},{"$f":"IF($A486<>0,VLOOKUP($A486,Liste!$A$10:$W$459,13,FALSE),\"\")","v":"Cave"},{"$f":"IF($A486<>0,VLOOKUP($A486,Liste!$A$10:$W$459,14,FALSE),\"\")","v":5}]
[{"$f":"IF($A486<>0,\"Lot \" & VLOOKUP($A486,Liste!$A$10:$W$459,15,FALSE),\"\")","v":"Lot "},{"$f":"IF($A486<>0,VLOOKUP($A486,Liste!$A$10:$W$459,16,FALSE),\"\")","v":0},{"$f":"IF($A486<>0,VLOOKUP($A486,Liste!$A$10:$W$459,17,FALSE),\"\")","v":0},null,null,null,"Arrivé à","après vote de la Résolution N°"]
[{"$f":"IF($A486<>0,\"Lot \" & VLOOKUP($A486,Liste!$A$10:$W$459,18,FALSE),\"\")","v":"Lot "},0,{"$f":"IF($A486<>0,VLOOKUP($A486,Liste!$A$10:$W$459,19,FALSE),\"\")","v":0},null,null,null,"Départ à","après vote de la Résolution N°"]
[{"$f":"IF($A486<>0,\"Lot \" & VLOOKUP($A486,Liste!$A$10:$W$459,21,FALSE),\"\")","v":"Lot "},{"$f":"IF($A486<>0,VLOOKUP($A486,Liste!$A$10:$W$459,22,FALSE),\"\")","v":0},{"$f":"IF($A486<>0,VLOOKUP($A486,Liste!$A$10:$W$459,23,FALSE),\"\")","v":0},null,null,null,{"$f":"IF(OR(B487=0,VLOOKUP(A486,Liste!$A$10:'Liste'!$Z$459,26)<>\"\"),\"\", \"Voir autorisation messages électroniques\")","v":"Voir autorisation messages électroniques"}]
[{"$f":"A486+1","v":52},null,null,null,null,null,"Par correspondance reçu le "]
[{"$f":"IF($A495<>0,VLOOKUP($A495,Liste!$A$10:$W$459,3,FALSE),\"\")","v":"Madame"},{"$f":"IF($A495<>0,VLOOKUP($A495,Liste!$A$10:$W$459,4,FALSE),\"\")","v":"FIGUERAS Annie"},null,null,{"$f":"IF($A495<>0,VLOOKUP($A495,Liste!$A$10:$W$459,8,FALSE),\"\")","v":70},null,"Par visio, audio conférence,,,,"]
[{"$f":"IF($A495<>0,VLOOKUP($A495,Liste!$A$10:$W$459,5,FALSE),\"\")","v":"15 rue de l' espoir"},null,null,null,null,null,"Signature/ Mandataire :"]
[{"$f":"IF($A495<>0,VLOOKUP($A495,Liste!$A$10:$W$459,6,FALSE),\"\")","v":75016},{"$f":"IF($A495<>0,VLOOKUP($A495,Liste!$A$10:$W$459,7,FALSE),\"\")","v":"Paris "}]
[{"$f":" IF($A495<>0, \"Lot \" & VLOOKUP($A495,Liste!$A$10:$W$459,9,FALSE),\"\")","v":"Lot 52"},{"$f":"IF($A495<>0,VLOOKUP($A495,Liste!$A$10:$W$459,10,FALSE),\"\")","v":"Appart,"},{"$f":"IF($A495<>0,VLOOKUP($A495,Liste!$A$10:$W$459,11,FALSE),\"\")","v":65}]
[{"$f":"IF($A495<>0,\"Lot \" & VLOOKUP($A495,Liste!$A$10:$W$459,12,FALSE),\"\")","v":"Lot 202"},{"$f":"IF($A495<>0,VLOOKUP($A495,Liste!$A$10:$W$459,13,FALSE),\"\")","v":"Cave"},{"$f":"IF($A495<>0,VLOOKUP($A495,Liste!$A$10:$W$459,14,FALSE),\"\")","v":5}]
[{"$f":"IF($A495<>0,\"Lot \" & VLOOKUP($A495,Liste!$A$10:$W$459,15,FALSE),\"\")","v":"Lot "},{"$f":"IF($A495<>0,VLOOKUP($A495,Liste!$A$10:$W$459,16,FALSE),\"\")","v":0},{"$f":"IF($A495<>0,VLOOKUP($A495,Liste!$A$10:$W$459,17,FALSE),\"\")","v":0},null,null,null,"Arrivé à","après vote de la Résolution N°"]
[{"$f":"IF($A495<>0,\"Lot \" & VLOOKUP($A495,Liste!$A$10:$W$459,18,FALSE),\"\")","v":"Lot "},0,{"$f":"IF($A495<>0,VLOOKUP($A495,Liste!$A$10:$W$459,19,FALSE),\"\")","v":0},null,null,null,"Départ à","après vote de la Résolution N°"]
[{"$f":"IF($A495<>0,\"Lot \" & VLOOKUP($A495,Liste!$A$10:$W$459,21,FALSE),\"\")","v":"Lot "},{"$f":"IF($A495<>0,VLOOKUP($A495,Liste!$A$10:$W$459,22,FALSE),\"\")","v":0},{"$f":"IF($A495<>0,VLOOKUP($A495,Liste!$A$10:$W$459,23,FALSE),\"\")","v":0},null,null,null,{"$f":"IF(OR(B496=0,VLOOKUP(A495,Liste!$A$10:'Liste'!$Z$459,26)<>\"\"),\"\", \"Voir autorisation messages électroniques\")","v":"Voir autorisation messages électroniques"}]
[{"$f":"A495+1","v":53},null,null,null,null,null,"Par correspondance reçu le "]
[{"$f":"IF($A504<>0,VLOOKUP($A504,Liste!$A$10:$W$459,3,FALSE),\"\")","v":"Monieur"},{"$f":"IF($A504<>0,VLOOKUP($A504,Liste!$A$10:$W$459,4,FALSE),\"\")","v":"FONTANA Georges"},null,null,{"$f":"IF($A504<>0,VLOOKUP($A504,Liste!$A$10:$W$459,8,FALSE),\"\")","v":60},null,"Par visio, audio conférence,,,,"]
[{"$f":"IF($A504<>0,VLOOKUP($A504,Liste!$A$10:$W$459,5,FALSE),\"\")","v":"13 rue de l' espoir"},null,null,null,null,null,"Signature/ Mandataire :"]
[{"$f":"IF($A504<>0,VLOOKUP($A504,Liste!$A$10:$W$459,6,FALSE),\"\")","v":75016},{"$f":"IF($A504<>0,VLOOKUP($A504,Liste!$A$10:$W$459,7,FALSE),\"\")","v":"Paris "}]
[{"$f":" IF($A504<>0, \"Lot \" & VLOOKUP($A504,Liste!$A$10:$W$459,9,FALSE),\"\")","v":"Lot 53"},{"$f":"IF($A504<>0,VLOOKUP($A504,Liste!$A$10:$W$459,10,FALSE),\"\")","v":"Appart,"},{"$f":"IF($A504<>0,VLOOKUP($A504,Liste!$A$10:$W$459,11,FALSE),\"\")","v":55}]
[{"$f":"IF($A504<>0,\"Lot \" & VLOOKUP($A504,Liste!$A$10:$W$459,12,FALSE),\"\")","v":"Lot 203"},{"$f":"IF($A504<>0,VLOOKUP($A504,Liste!$A$10:$W$459,13,FALSE),\"\")","v":"Cave"},{"$f":"IF($A504<>0,VLOOKUP($A504,Liste!$A$10:$W$459,14,FALSE),\"\")","v":5}]
[{"$f":"IF($A504<>0,\"Lot \" & VLOOKUP($A504,Liste!$A$10:$W$459,15,FALSE),\"\")","v":"Lot "},{"$f":"IF($A504<>0,VLOOKUP($A504,Liste!$A$10:$W$459,16,FALSE),\"\")","v":0},{"$f":"IF($A504<>0,VLOOKUP($A504,Liste!$A$10:$W$459,17,FALSE),\"\")","v":0},null,null,null,"Arrivé à","après vote de la Résolution N°"]
[{"$f":"IF($A504<>0,\"Lot \" & VLOOKUP($A504,Liste!$A$10:$W$459,18,FALSE),\"\")","v":"Lot "},0,{"$f":"IF($A504<>0,VLOOKUP($A504,Liste!$A$10:$W$459,19,FALSE),\"\")","v":0},null,null,null,"Départ à","après vote de la Résolution N°"]
[{"$f":"IF($A504<>0,\"Lot \" & VLOOKUP($A504,Liste!$A$10:$W$459,21,FALSE),\"\")","v":"Lot "},{"$f":"IF($A504<>0,VLOOKUP($A504,Liste!$A$10:$W$459,22,FALSE),\"\")","v":0},{"$f":"IF($A504<>0,VLOOKUP($A504,Liste!$A$10:$W$459,23,FALSE),\"\")","v":0},null,null,null,{"$f":"IF(OR(B505=0,VLOOKUP(A504,Liste!$A$10:'Liste'!$Z$459,26)<>\"\"),\"\", \"Voir autorisation messages électroniques\")","v":"Voir autorisation messages électroniques"}]
[{"$f":"A504+1","v":54},null,null,null,null,null,"Par correspondance reçu le "]
[{"$f":"IF($A513<>0,VLOOKUP($A513,Liste!$A$10:$W$459,3,FALSE),\"\")","v":"Monieur"},{"$f":"IF($A513<>0,VLOOKUP($A513,Liste!$A$10:$W$459,4,FALSE),\"\")","v":"FORGET Valéry"},null,null,{"$f":"IF($A513<>0,VLOOKUP($A513,Liste!$A$10:$W$459,8,FALSE),\"\")","v":65},null,"Par visio, audio conférence,,,,"]
[{"$f":"IF($A513<>0,VLOOKUP($A513,Liste!$A$10:$W$459,5,FALSE),\"\")","v":"13 rue de l' espoir"},null,null,null,null,null,"Signature/ Mandataire :"]
[{"$f":"IF($A513<>0,VLOOKUP($A513,Liste!$A$10:$W$459,6,FALSE),\"\")","v":75016},{"$f":"IF($A513<>0,VLOOKUP($A513,Liste!$A$10:$W$459,7,FALSE),\"\")","v":"Paris "}]
[{"$f":" IF($A513<>0, \"Lot \" & VLOOKUP($A513,Liste!$A$10:$W$459,9,FALSE),\"\")","v":"Lot 54"},{"$f":"IF($A513<>0,VLOOKUP($A513,Liste!$A$10:$W$459,10,FALSE),\"\")","v":"Appart,"},{"$f":"IF($A513<>0,VLOOKUP($A513,Liste!$A$10:$W$459,11,FALSE),\"\")","v":60}]
[{"$f":"IF($A513<>0,\"Lot \" & VLOOKUP($A513,Liste!$A$10:$W$459,12,FALSE),\"\")","v":"Lot 204"},{"$f":"IF($A513<>0,VLOOKUP($A513,Liste!$A$10:$W$459,13,FALSE),\"\")","v":"Cave"},{"$f":"IF($A513<>0,VLOOKUP($A513,Liste!$A$10:$W$459,14,FALSE),\"\")","v":5}]
[{"$f":"IF($A513<>0,\"Lot \" & VLOOKUP($A513,Liste!$A$10:$W$459,15,FALSE),\"\")","v":"Lot "},{"$f":"IF($A513<>0,VLOOKUP($A513,Liste!$A$10:$W$459,16,FALSE),\"\")","v":0},{"$f":"IF($A513<>0,VLOOKUP($A513,Liste!$A$10:$W$459,17,FALSE),\"\")","v":0},null,null,null,"Arrivé à","après vote de la Résolution N°"]
[{"$f":"IF($A513<>0,\"Lot \" & VLOOKUP($A513,Liste!$A$10:$W$459,18,FALSE),\"\")","v":"Lot "},0,{"$f":"IF($A513<>0,VLOOKUP($A513,Liste!$A$10:$W$459,19,FALSE),\"\")","v":0},null,null,null,"Départ à","après vote de la Résolution N°"]
[{"$f":"IF($A513<>0,\"Lot \" & VLOOKUP($A513,Liste!$A$10:$W$459,21,FALSE),\"\")","v":"Lot "},{"$f":"IF($A513<>0,VLOOKUP($A513,Liste!$A$10:$W$459,22,FALSE),\"\")","v":0},{"$f":"IF($A513<>0,VLOOKUP($A513,Liste!$A$10:$W$459,23,FALSE),\"\")","v":0},null,null,null,{"$f":"IF(OR(B514=0,VLOOKUP(A513,Liste!$A$10:'Liste'!$Z$459,26)<>\"\"),\"\", \"Voir autorisation messages électroniques\")","v":"Voir autorisation messages électroniques"}]
[{"$f":"A513+1","v":55},null,null,null,null,null,"Par correspondance reçu le "]
[{"$f":"IF($A522<>0,VLOOKUP($A522,Liste!$A$10:$W$459,3,FALSE),\"\")","v":"Madame"},{"$f":"IF($A522<>0,VLOOKUP($A522,Liste!$A$10:$W$459,4,FALSE),\"\")","v":"FOURNIER Nicole"},null,null,{"$f":"IF($A522<>0,VLOOKUP($A522,Liste!$A$10:$W$459,8,FALSE),\"\")","v":51},null,"Par visio, audio conférence,,,,"]
[{"$f":"IF($A522<>0,VLOOKUP($A522,Liste!$A$10:$W$459,5,FALSE),\"\")","v":"13 rue de l' espoir"},null,null,null,null,null,"Signature/ Mandataire :"]
[{"$f":"IF($A522<>0,VLOOKUP($A522,Liste!$A$10:$W$459,6,FALSE),\"\")","v":75016},{"$f":"IF($A522<>0,VLOOKUP($A522,Liste!$A$10:$W$459,7,FALSE),\"\")","v":"Paris "}]
[{"$f":" IF($A522<>0, \"Lot \" & VLOOKUP($A522,Liste!$A$10:$W$459,9,FALSE),\"\")","v":"Lot 55"},{"$f":"IF($A522<>0,VLOOKUP($A522,Liste!$A$10:$W$459,10,FALSE),\"\")","v":"Appart,"},{"$f":"IF($A522<>0,VLOOKUP($A522,Liste!$A$10:$W$459,11,FALSE),\"\")","v":46}]
[{"$f":"IF($A522<>0,\"Lot \" & VLOOKUP($A522,Liste!$A$10:$W$459,12,FALSE),\"\")","v":"Lot 205"},{"$f":"IF($A522<>0,VLOOKUP($A522,Liste!$A$10:$W$459,13,FALSE),\"\")","v":"Cave"},{"$f":"IF($A522<>0,VLOOKUP($A522,Liste!$A$10:$W$459,14,FALSE),\"\")","v":5}]
[{"$f":"IF($A522<>0,\"Lot \" & VLOOKUP($A522,Liste!$A$10:$W$459,15,FALSE),\"\")","v":"Lot "},{"$f":"IF($A522<>0,VLOOKUP($A522,Liste!$A$10:$W$459,16,FALSE),\"\")","v":0},{"$f":"IF($A522<>0,VLOOKUP($A522,Liste!$A$10:$W$459,17,FALSE),\"\")","v":0},null,null,null,"Arrivé à","après vote de la Résolution N°"]
[{"$f":"IF($A522<>0,\"Lot \" & VLOOKUP($A522,Liste!$A$10:$W$459,18,FALSE),\"\")","v":"Lot "},0,{"$f":"IF($A522<>0,VLOOKUP($A522,Liste!$A$10:$W$459,19,FALSE),\"\")","v":0},null,null,null,"Départ à","après vote de la Résolution N°"]
[{"$f":"IF($A522<>0,\"Lot \" & VLOOKUP($A522,Liste!$A$10:$W$459,21,FALSE),\"\")","v":"Lot "},{"$f":"IF($A522<>0,VLOOKUP($A522,Liste!$A$10:$W$459,22,FALSE),\"\")","v":0},{"$f":"IF($A522<>0,VLOOKUP($A522,Liste!$A$10:$W$459,23,FALSE),\"\")","v":0},null,null,null,{"$f":"IF(OR(B523=0,VLOOKUP(A522,Liste!$A$10:'Liste'!$Z$459,26)<>\"\"),\"\", \"Voir autorisation messages électroniques\")","v":"Voir autorisation messages électroniques"}]
[{"$f":"A522+1","v":56},null,null,null,null,null,"Par correspondance reçu le "]
[{"$f":"IF($A531<>0,VLOOKUP($A531,Liste!$A$10:$W$459,3,FALSE),\"\")","v":"Monieur"},{"$f":"IF($A531<>0,VLOOKUP($A531,Liste!$A$10:$W$459,4,FALSE),\"\")","v":"GARCIA Christophe"},null,null,{"$f":"IF($A531<>0,VLOOKUP($A531,Liste!$A$10:$W$459,8,FALSE),\"\")","v":50},null,"Par visio, audio conférence,,,,"]
[{"$f":"IF($A531<>0,VLOOKUP($A531,Liste!$A$10:$W$459,5,FALSE),\"\")","v":"13 rue de l' espoir"},null,null,null,null,null,"Signature/ Mandataire :"]
[{"$f":"IF($A531<>0,VLOOKUP($A531,Liste!$A$10:$W$459,6,FALSE),\"\")","v":75016},{"$f":"IF($A531<>0,VLOOKUP($A531,Liste!$A$10:$W$459,7,FALSE),\"\")","v":"Paris "}]
[{"$f":" IF($A531<>0, \"Lot \" & VLOOKUP($A531,Liste!$A$10:$W$459,9,FALSE),\"\")","v":"Lot 56"},{"$f":"IF($A531<>0,VLOOKUP($A531,Liste!$A$10:$W$459,10,FALSE),\"\")","v":"Appart,"},{"$f":"IF($A531<>0,VLOOKUP($A531,Liste!$A$10:$W$459,11,FALSE),\"\")","v":45}]
[{"$f":"IF($A531<>0,\"Lot \" & VLOOKUP($A531,Liste!$A$10:$W$459,12,FALSE),\"\")","v":"Lot 206"},{"$f":"IF($A531<>0,VLOOKUP($A531,Liste!$A$10:$W$459,13,FALSE),\"\")","v":"Cave"},{"$f":"IF($A531<>0,VLOOKUP($A531,Liste!$A$10:$W$459,14,FALSE),\"\")","v":5}]
[{"$f":"IF($A531<>0,\"Lot \" & VLOOKUP($A531,Liste!$A$10:$W$459,15,FALSE),\"\")","v":"Lot "},{"$f":"IF($A531<>0,VLOOKUP($A531,Liste!$A$10:$W$459,16,FALSE),\"\")","v":0},{"$f":"IF($A531<>0,VLOOKUP($A531,Liste!$A$10:$W$459,17,FALSE),\"\")","v":0},null,null,null,"Arrivé à","après vote de la Résolution N°"]
[{"$f":"IF($A531<>0,\"Lot \" & VLOOKUP($A531,Liste!$A$10:$W$459,18,FALSE),\"\")","v":"Lot "},0,{"$f":"IF($A531<>0,VLOOKUP($A531,Liste!$A$10:$W$459,19,FALSE),\"\")","v":0},null,null,null,"Départ à","après vote de la Résolution N°"]
[{"$f":"IF($A531<>0,\"Lot \" & VLOOKUP($A531,Liste!$A$10:$W$459,21,FALSE),\"\")","v":"Lot "},{"$f":"IF($A531<>0,VLOOKUP($A531,Liste!$A$10:$W$459,22,FALSE),\"\")","v":0},{"$f":"IF($A531<>0,VLOOKUP($A531,Liste!$A$10:$W$459,23,FALSE),\"\")","v":0},null,null,null,{"$f":"IF(OR(B532=0,VLOOKUP(A531,Liste!$A$10:'Liste'!$Z$459,26)<>\"\"),\"\", \"Voir autorisation messages électroniques\")","v":"Voir autorisation messages électroniques"}]
[]
[null,null,null,"A S S E M B L E E     G E N E R A L E",null,null,null,null,null,null,"Page",{"$f":"L464+1","v":8}]
[null,null,null,null,null,"du","2019-12-20"]
[null,null,null,"Résidence Le Paradis; Rue de l' espoir 75016 PARIS"]
[]
[{"$f":"A531+1","v":57},null,null,null,null,null,"Par correspondance reçu le "]
[{"$f":"IF($A545<>0,VLOOKUP($A545,Liste!$A$10:$W$459,3,FALSE),\"\")","v":"Monieur"},{"$f":"IF($A545<>0,VLOOKUP($A545,Liste!$A$10:$W$459,4,FALSE),\"\")","v":"GARRELON Jacques"},null,null,{"$f":"IF($A545<>0,VLOOKUP($A545,Liste!$A$10:$W$459,8,FALSE),\"\")","v":70},null,"Par visio, audio conférence,,,,"]
[{"$f":"IF($A545<>0,VLOOKUP($A545,Liste!$A$10:$W$459,5,FALSE),\"\")","v":"13 rue de l' espoir"},null,null,null,null,null,"Signature/ Mandataire :"]
[{"$f":"IF($A545<>0,VLOOKUP($A545,Liste!$A$10:$W$459,6,FALSE),\"\")","v":75016},{"$f":"IF($A545<>0,VLOOKUP($A545,Liste!$A$10:$W$459,7,FALSE),\"\")","v":"Paris "}]
[{"$f":" IF($A545<>0, \"Lot \" & VLOOKUP($A545,Liste!$A$10:$W$459,9,FALSE),\"\")","v":"Lot 57"},{"$f":"IF($A545<>0,VLOOKUP($A545,Liste!$A$10:$W$459,10,FALSE),\"\")","v":"Appart,"},{"$f":"IF($A545<>0,VLOOKUP($A545,Liste!$A$10:$W$459,11,FALSE),\"\")","v":65}]
[{"$f":"IF($A545<>0,\"Lot \" & VLOOKUP($A545,Liste!$A$10:$W$459,12,FALSE),\"\")","v":"Lot 207"},{"$f":"IF($A545<>0,VLOOKUP($A545,Liste!$A$10:$W$459,13,FALSE),\"\")","v":"Cave"},{"$f":"IF($A545<>0,VLOOKUP($A545,Liste!$A$10:$W$459,14,FALSE),\"\")","v":5}]
[{"$f":"IF($A545<>0,\"Lot \" & VLOOKUP($A545,Liste!$A$10:$W$459,15,FALSE),\"\")","v":"Lot "},{"$f":"IF($A545<>0,VLOOKUP($A545,Liste!$A$10:$W$459,16,FALSE),\"\")","v":0},{"$f":"IF($A545<>0,VLOOKUP($A545,Liste!$A$10:$W$459,17,FALSE),\"\")","v":0},null,null,null,"Arrivé à","après vote de la Résolution N°"]
[{"$f":"IF($A545<>0,\"Lot \" & VLOOKUP($A545,Liste!$A$10:$W$459,18,FALSE),\"\")","v":"Lot "},0,{"$f":"IF($A545<>0,VLOOKUP($A545,Liste!$A$10:$W$459,19,FALSE),\"\")","v":0},null,null,null,"Départ à","après vote de la Résolution N°"]
[{"$f":"IF($A545<>0,\"Lot \" & VLOOKUP($A545,Liste!$A$10:$W$459,21,FALSE),\"\")","v":"Lot "},{"$f":"IF($A545<>0,VLOOKUP($A545,Liste!$A$10:$W$459,22,FALSE),\"\")","v":0},{"$f":"IF($A545<>0,VLOOKUP($A545,Liste!$A$10:$W$459,23,FALSE),\"\")","v":0},null,null,null,{"$f":"IF(OR(B546=0,VLOOKUP(A545,Liste!$A$10:'Liste'!$Z$459,26)<>\"\"),\"\", \"Voir autorisation messages électroniques\")","v":"Voir autorisation messages électroniques"}]
[{"$f":"A545+1","v":58},null,null,null,null,null,"Par correspondance reçu le "]
[{"$f":"IF($A554<>0,VLOOKUP($A554,Liste!$A$10:$W$459,3,FALSE),\"\")","v":"Madame"},{"$f":"IF($A554<>0,VLOOKUP($A554,Liste!$A$10:$W$459,4,FALSE),\"\")","v":"GAUNET Mireille"},null,null,{"$f":"IF($A554<>0,VLOOKUP($A554,Liste!$A$10:$W$459,8,FALSE),\"\")","v":60},null,"Par visio, audio conférence,,,,"]
[{"$f":"IF($A554<>0,VLOOKUP($A554,Liste!$A$10:$W$459,5,FALSE),\"\")","v":"13 rue de l' espoir"},null,null,null,null,null,"Signature/ Mandataire :"]
[{"$f":"IF($A554<>0,VLOOKUP($A554,Liste!$A$10:$W$459,6,FALSE),\"\")","v":75016},{"$f":"IF($A554<>0,VLOOKUP($A554,Liste!$A$10:$W$459,7,FALSE),\"\")","v":"Paris "}]
[{"$f":" IF($A554<>0, \"Lot \" & VLOOKUP($A554,Liste!$A$10:$W$459,9,FALSE),\"\")","v":"Lot 58"},{"$f":"IF($A554<>0,VLOOKUP($A554,Liste!$A$10:$W$459,10,FALSE),\"\")","v":"Appart,"},{"$f":"IF($A554<>0,VLOOKUP($A554,Liste!$A$10:$W$459,11,FALSE),\"\")","v":55}]
[{"$f":"IF($A554<>0,\"Lot \" & VLOOKUP($A554,Liste!$A$10:$W$459,12,FALSE),\"\")","v":"Lot 208"},{"$f":"IF($A554<>0,VLOOKUP($A554,Liste!$A$10:$W$459,13,FALSE),\"\")","v":"Cave"},{"$f":"IF($A554<>0,VLOOKUP($A554,Liste!$A$10:$W$459,14,FALSE),\"\")","v":5}]
[{"$f":"IF($A554<>0,\"Lot \" & VLOOKUP($A554,Liste!$A$10:$W$459,15,FALSE),\"\")","v":"Lot "},{"$f":"IF($A554<>0,VLOOKUP($A554,Liste!$A$10:$W$459,16,FALSE),\"\")","v":0},{"$f":"IF($A554<>0,VLOOKUP($A554,Liste!$A$10:$W$459,17,FALSE),\"\")","v":0},null,null,null,"Arrivé à","après vote de la Résolution N°"]
[{"$f":"IF($A554<>0,\"Lot \" & VLOOKUP($A554,Liste!$A$10:$W$459,18,FALSE),\"\")","v":"Lot "},0,{"$f":"IF($A554<>0,VLOOKUP($A554,Liste!$A$10:$W$459,19,FALSE),\"\")","v":0},null,null,null,"Départ à","après vote de la Résolution N°"]
[{"$f":"IF($A554<>0,\"Lot \" & VLOOKUP($A554,Liste!$A$10:$W$459,21,FALSE),\"\")","v":"Lot "},{"$f":"IF($A554<>0,VLOOKUP($A554,Liste!$A$10:$W$459,22,FALSE),\"\")","v":0},{"$f":"IF($A554<>0,VLOOKUP($A554,Liste!$A$10:$W$459,23,FALSE),\"\")","v":0},null,null,null,{"$f":"IF(OR(B555=0,VLOOKUP(A554,Liste!$A$10:'Liste'!$Z$459,26)<>\"\"),\"\", \"Voir autorisation messages électroniques\")","v":"Voir autorisation messages électroniques"}]
[{"$f":"A554+1","v":59},null,null,null,null,null,"Par correspondance reçu le "]
[{"$f":"IF($A563<>0,VLOOKUP($A563,Liste!$A$10:$W$459,3,FALSE),\"\")","v":"Monieur"},{"$f":"IF($A563<>0,VLOOKUP($A563,Liste!$A$10:$W$459,4,FALSE),\"\")","v":"GERTOSIO"},null,null,{"$f":"IF($A563<>0,VLOOKUP($A563,Liste!$A$10:$W$459,8,FALSE),\"\")","v":62},null,"Par visio, audio conférence,,,,"]
[{"$f":"IF($A563<>0,VLOOKUP($A563,Liste!$A$10:$W$459,5,FALSE),\"\")","v":"13 rue de l' espoir"},null,null,null,null,null,"Signature/ Mandataire :"]
[{"$f":"IF($A563<>0,VLOOKUP($A563,Liste!$A$10:$W$459,6,FALSE),\"\")","v":75016},{"$f":"IF($A563<>0,VLOOKUP($A563,Liste!$A$10:$W$459,7,FALSE),\"\")","v":"Paris "}]
[{"$f":" IF($A563<>0, \"Lot \" & VLOOKUP($A563,Liste!$A$10:$W$459,9,FALSE),\"\")","v":"Lot 59"},{"$f":"IF($A563<>0,VLOOKUP($A563,Liste!$A$10:$W$459,10,FALSE),\"\")","v":"Appart,"},{"$f":"IF($A563<>0,VLOOKUP($A563,Liste!$A$10:$W$459,11,FALSE),\"\")","v":57}]
[{"$f":"IF($A563<>0,\"Lot \" & VLOOKUP($A563,Liste!$A$10:$W$459,12,FALSE),\"\")","v":"Lot 209"},{"$f":"IF($A563<>0,VLOOKUP($A563,Liste!$A$10:$W$459,13,FALSE),\"\")","v":"Cave"},{"$f":"IF($A563<>0,VLOOKUP($A563,Liste!$A$10:$W$459,14,FALSE),\"\")","v":5}]
[{"$f":"IF($A563<>0,\"Lot \" & VLOOKUP($A563,Liste!$A$10:$W$459,15,FALSE),\"\")","v":"Lot "},{"$f":"IF($A563<>0,VLOOKUP($A563,Liste!$A$10:$W$459,16,FALSE),\"\")","v":0},{"$f":"IF($A563<>0,VLOOKUP($A563,Liste!$A$10:$W$459,17,FALSE),\"\")","v":0},null,null,null,"Arrivé à","après vote de la Résolution N°"]
[{"$f":"IF($A563<>0,\"Lot \" & VLOOKUP($A563,Liste!$A$10:$W$459,18,FALSE),\"\")","v":"Lot "},0,{"$f":"IF($A563<>0,VLOOKUP($A563,Liste!$A$10:$W$459,19,FALSE),\"\")","v":0},null,null,null,"Départ à","après vote de la Résolution N°"]
[{"$f":"IF($A563<>0,\"Lot \" & VLOOKUP($A563,Liste!$A$10:$W$459,21,FALSE),\"\")","v":"Lot "},{"$f":"IF($A563<>0,VLOOKUP($A563,Liste!$A$10:$W$459,22,FALSE),\"\")","v":0},{"$f":"IF($A563<>0,VLOOKUP($A563,Liste!$A$10:$W$459,23,FALSE),\"\")","v":0},null,null,null,{"$f":"IF(OR(B564=0,VLOOKUP(A563,Liste!$A$10:'Liste'!$Z$459,26)<>\"\"),\"\", \"Voir autorisation messages électroniques\")","v":"Voir autorisation messages électroniques"}]
[{"$f":"A563+1","v":60},null,null,null,null,null,"Par correspondance reçu le "]
[{"$f":"IF($A572<>0,VLOOKUP($A572,Liste!$A$10:$W$459,3,FALSE),\"\")","v":"Madame"},{"$f":"IF($A572<>0,VLOOKUP($A572,Liste!$A$10:$W$459,4,FALSE),\"\")","v":"GERVASI Jacqueline"},null,null,{"$f":"IF($A572<>0,VLOOKUP($A572,Liste!$A$10:$W$459,8,FALSE),\"\")","v":83},null,"Par visio, audio conférence,,,,"]
[{"$f":"IF($A572<>0,VLOOKUP($A572,Liste!$A$10:$W$459,5,FALSE),\"\")","v":"13 rue de l' espoir"},null,null,null,null,null,"Signature/ Mandataire :"]
[{"$f":"IF($A572<>0,VLOOKUP($A572,Liste!$A$10:$W$459,6,FALSE),\"\")","v":75016},{"$f":"IF($A572<>0,VLOOKUP($A572,Liste!$A$10:$W$459,7,FALSE),\"\")","v":"Paris "}]
[{"$f":" IF($A572<>0, \"Lot \" & VLOOKUP($A572,Liste!$A$10:$W$459,9,FALSE),\"\")","v":"Lot 60"},{"$f":"IF($A572<>0,VLOOKUP($A572,Liste!$A$10:$W$459,10,FALSE),\"\")","v":"Appart,"},{"$f":"IF($A572<>0,VLOOKUP($A572,Liste!$A$10:$W$459,11,FALSE),\"\")","v":78}]
[{"$f":"IF($A572<>0,\"Lot \" & VLOOKUP($A572,Liste!$A$10:$W$459,12,FALSE),\"\")","v":"Lot 210"},{"$f":"IF($A572<>0,VLOOKUP($A572,Liste!$A$10:$W$459,13,FALSE),\"\")","v":"Cave"},{"$f":"IF($A572<>0,VLOOKUP($A572,Liste!$A$10:$W$459,14,FALSE),\"\")","v":5}]
[{"$f":"IF($A572<>0,\"Lot \" & VLOOKUP($A572,Liste!$A$10:$W$459,15,FALSE),\"\")","v":"Lot "},{"$f":"IF($A572<>0,VLOOKUP($A572,Liste!$A$10:$W$459,16,FALSE),\"\")","v":0},{"$f":"IF($A572<>0,VLOOKUP($A572,Liste!$A$10:$W$459,17,FALSE),\"\")","v":0},null,null,null,"Arrivé à","après vote de la Résolution N°"]
[{"$f":"IF($A572<>0,\"Lot \" & VLOOKUP($A572,Liste!$A$10:$W$459,18,FALSE),\"\")","v":"Lot "},0,{"$f":"IF($A572<>0,VLOOKUP($A572,Liste!$A$10:$W$459,19,FALSE),\"\")","v":0},null,null,null,"Départ à","après vote de la Résolution N°"]
[{"$f":"IF($A572<>0,\"Lot \" & VLOOKUP($A572,Liste!$A$10:$W$459,21,FALSE),\"\")","v":"Lot "},{"$f":"IF($A572<>0,VLOOKUP($A572,Liste!$A$10:$W$459,22,FALSE),\"\")","v":0},{"$f":"IF($A572<>0,VLOOKUP($A572,Liste!$A$10:$W$459,23,FALSE),\"\")","v":0},null,null,null,{"$f":"IF(OR(B573=0,VLOOKUP(A572,Liste!$A$10:'Liste'!$Z$459,26)<>\"\"),\"\", \"Voir autorisation messages électroniques\")","v":"Voir autorisation messages électroniques"}]
[{"$f":"A572+1","v":61},null,null,null,null,null,"Par correspondance reçu le "]
[{"$f":"IF($A581<>0,VLOOKUP($A581,Liste!$A$10:$W$459,3,FALSE),\"\")","v":"Madame"},{"$f":"IF($A581<>0,VLOOKUP($A581,Liste!$A$10:$W$459,4,FALSE),\"\")","v":"GINESTOUS Maryvonne"},null,null,{"$f":"IF($A581<>0,VLOOKUP($A581,Liste!$A$10:$W$459,8,FALSE),\"\")","v":58},null,"Par visio, audio conférence,,,,"]
[{"$f":"IF($A581<>0,VLOOKUP($A581,Liste!$A$10:$W$459,5,FALSE),\"\")","v":"13 rue de l' espoir"},null,null,null,null,null,"Signature/ Mandataire :"]
[{"$f":"IF($A581<>0,VLOOKUP($A581,Liste!$A$10:$W$459,6,FALSE),\"\")","v":75016},{"$f":"IF($A581<>0,VLOOKUP($A581,Liste!$A$10:$W$459,7,FALSE),\"\")","v":"Paris "}]
[{"$f":" IF($A581<>0, \"Lot \" & VLOOKUP($A581,Liste!$A$10:$W$459,9,FALSE),\"\")","v":"Lot 61"},{"$f":"IF($A581<>0,VLOOKUP($A581,Liste!$A$10:$W$459,10,FALSE),\"\")","v":"Appart,"},{"$f":"IF($A581<>0,VLOOKUP($A581,Liste!$A$10:$W$459,11,FALSE),\"\")","v":53}]
[{"$f":"IF($A581<>0,\"Lot \" & VLOOKUP($A581,Liste!$A$10:$W$459,12,FALSE),\"\")","v":"Lot 211"},{"$f":"IF($A581<>0,VLOOKUP($A581,Liste!$A$10:$W$459,13,FALSE),\"\")","v":"Cave"},{"$f":"IF($A581<>0,VLOOKUP($A581,Liste!$A$10:$W$459,14,FALSE),\"\")","v":5}]
[{"$f":"IF($A581<>0,\"Lot \" & VLOOKUP($A581,Liste!$A$10:$W$459,15,FALSE),\"\")","v":"Lot "},{"$f":"IF($A581<>0,VLOOKUP($A581,Liste!$A$10:$W$459,16,FALSE),\"\")","v":0},{"$f":"IF($A581<>0,VLOOKUP($A581,Liste!$A$10:$W$459,17,FALSE),\"\")","v":0},null,null,null,"Arrivé à","après vote de la Résolution N°"]
[{"$f":"IF($A581<>0,\"Lot \" & VLOOKUP($A581,Liste!$A$10:$W$459,18,FALSE),\"\")","v":"Lot "},0,{"$f":"IF($A581<>0,VLOOKUP($A581,Liste!$A$10:$W$459,19,FALSE),\"\")","v":0},null,null,null,"Départ à","après vote de la Résolution N°"]
[{"$f":"IF($A581<>0,\"Lot \" & VLOOKUP($A581,Liste!$A$10:$W$459,21,FALSE),\"\")","v":"Lot "},{"$f":"IF($A581<>0,VLOOKUP($A581,Liste!$A$10:$W$459,22,FALSE),\"\")","v":0},{"$f":"IF($A581<>0,VLOOKUP($A581,Liste!$A$10:$W$459,23,FALSE),\"\")","v":0},null,null,null,{"$f":"IF(OR(B582=0,VLOOKUP(A581,Liste!$A$10:'Liste'!$Z$459,26)<>\"\"),\"\", \"Voir autorisation messages électroniques\")","v":"Voir autorisation messages électroniques"}]
[{"$f":"A581+1","v":62},null,null,null,null,null,"Par correspondance reçu le "]
[{"$f":"IF($A590<>0,VLOOKUP($A590,Liste!$A$10:$W$459,3,FALSE),\"\")","v":"Madame"},{"$f":"IF($A590<>0,VLOOKUP($A590,Liste!$A$10:$W$459,4,FALSE),\"\")","v":"GIRARDOT Michèle"},null,null,{"$f":"IF($A590<>0,VLOOKUP($A590,Liste!$A$10:$W$459,8,FALSE),\"\")","v":55},null,"Par visio, audio conférence,,,,"]
[{"$f":"IF($A590<>0,VLOOKUP($A590,Liste!$A$10:$W$459,5,FALSE),\"\")","v":"13 rue de l' espoir"},null,null,null,null,null,"Signature/ Mandataire :"]
[{"$f":"IF($A590<>0,VLOOKUP($A590,Liste!$A$10:$W$459,6,FALSE),\"\")","v":75016},{"$f":"IF($A590<>0,VLOOKUP($A590,Liste!$A$10:$W$459,7,FALSE),\"\")","v":"Paris "}]
[{"$f":" IF($A590<>0, \"Lot \" & VLOOKUP($A590,Liste!$A$10:$W$459,9,FALSE),\"\")","v":"Lot 62"},{"$f":"IF($A590<>0,VLOOKUP($A590,Liste!$A$10:$W$459,10,FALSE),\"\")","v":"Appart,"},{"$f":"IF($A590<>0,VLOOKUP($A590,Liste!$A$10:$W$459,11,FALSE),\"\")","v":50}]
[{"$f":"IF($A590<>0,\"Lot \" & VLOOKUP($A590,Liste!$A$10:$W$459,12,FALSE),\"\")","v":"Lot 212"},{"$f":"IF($A590<>0,VLOOKUP($A590,Liste!$A$10:$W$459,13,FALSE),\"\")","v":"Cave"},{"$f":"IF($A590<>0,VLOOKUP($A590,Liste!$A$10:$W$459,14,FALSE),\"\")","v":5}]
[{"$f":"IF($A590<>0,\"Lot \" & VLOOKUP($A590,Liste!$A$10:$W$459,15,FALSE),\"\")","v":"Lot "},{"$f":"IF($A590<>0,VLOOKUP($A590,Liste!$A$10:$W$459,16,FALSE),\"\")","v":0},{"$f":"IF($A590<>0,VLOOKUP($A590,Liste!$A$10:$W$459,17,FALSE),\"\")","v":0},null,null,null,"Arrivé à","après vote de la Résolution N°"]
[{"$f":"IF($A590<>0,\"Lot \" & VLOOKUP($A590,Liste!$A$10:$W$459,18,FALSE),\"\")","v":"Lot "},0,{"$f":"IF($A590<>0,VLOOKUP($A590,Liste!$A$10:$W$459,19,FALSE),\"\")","v":0},null,null,null,"Départ à","après vote de la Résolution N°"]
[{"$f":"IF($A590<>0,\"Lot \" & VLOOKUP($A590,Liste!$A$10:$W$459,21,FALSE),\"\")","v":"Lot "},{"$f":"IF($A590<>0,VLOOKUP($A590,Liste!$A$10:$W$459,22,FALSE),\"\")","v":0},{"$f":"IF($A590<>0,VLOOKUP($A590,Liste!$A$10:$W$459,23,FALSE),\"\")","v":0},null,null,null,{"$f":"IF(OR(B591=0,VLOOKUP(A590,Liste!$A$10:'Liste'!$Z$459,26)<>\"\"),\"\", \"Voir autorisation messages électroniques\")","v":"Voir autorisation messages électroniques"}]
[{"$f":"A590+1","v":63},null,null,null,null,null,"Par correspondance reçu le "]
[{"$f":"IF($A599<>0,VLOOKUP($A599,Liste!$A$10:$W$459,3,FALSE),\"\")","v":"Monieur"},{"$f":"IF($A599<>0,VLOOKUP($A599,Liste!$A$10:$W$459,4,FALSE),\"\")","v":"GIRAUDEAU Marcel"},null,null,{"$f":"IF($A599<>0,VLOOKUP($A599,Liste!$A$10:$W$459,8,FALSE),\"\")","v":63},null,"Par visio, audio conférence,,,,"]
[{"$f":"IF($A599<>0,VLOOKUP($A599,Liste!$A$10:$W$459,5,FALSE),\"\")","v":"13 rue de l' espoir"},null,null,null,null,null,"Signature/ Mandataire :"]
[{"$f":"IF($A599<>0,VLOOKUP($A599,Liste!$A$10:$W$459,6,FALSE),\"\")","v":75016},{"$f":"IF($A599<>0,VLOOKUP($A599,Liste!$A$10:$W$459,7,FALSE),\"\")","v":"Paris "}]
[{"$f":" IF($A599<>0, \"Lot \" & VLOOKUP($A599,Liste!$A$10:$W$459,9,FALSE),\"\")","v":"Lot 63"},{"$f":"IF($A599<>0,VLOOKUP($A599,Liste!$A$10:$W$459,10,FALSE),\"\")","v":"Appart,"},{"$f":"IF($A599<>0,VLOOKUP($A599,Liste!$A$10:$W$459,11,FALSE),\"\")","v":58}]
[{"$f":"IF($A599<>0,\"Lot \" & VLOOKUP($A599,Liste!$A$10:$W$459,12,FALSE),\"\")","v":"Lot 213"},{"$f":"IF($A599<>0,VLOOKUP($A599,Liste!$A$10:$W$459,13,FALSE),\"\")","v":"Cave"},{"$f":"IF($A599<>0,VLOOKUP($A599,Liste!$A$10:$W$459,14,FALSE),\"\")","v":5}]
[{"$f":"IF($A599<>0,\"Lot \" & VLOOKUP($A599,Liste!$A$10:$W$459,15,FALSE),\"\")","v":"Lot "},{"$f":"IF($A599<>0,VLOOKUP($A599,Liste!$A$10:$W$459,16,FALSE),\"\")","v":0},{"$f":"IF($A599<>0,VLOOKUP($A599,Liste!$A$10:$W$459,17,FALSE),\"\")","v":0},null,null,null,"Arrivé à","après vote de la Résolution N°"]
[{"$f":"IF($A599<>0,\"Lot \" & VLOOKUP($A599,Liste!$A$10:$W$459,18,FALSE),\"\")","v":"Lot "},0,{"$f":"IF($A599<>0,VLOOKUP($A599,Liste!$A$10:$W$459,19,FALSE),\"\")","v":0},null,null,null,"Départ à","après vote de la Résolution N°"]
[{"$f":"IF($A599<>0,\"Lot \" & VLOOKUP($A599,Liste!$A$10:$W$459,21,FALSE),\"\")","v":"Lot "},{"$f":"IF($A599<>0,VLOOKUP($A599,Liste!$A$10:$W$459,22,FALSE),\"\")","v":0},{"$f":"IF($A599<>0,VLOOKUP($A599,Liste!$A$10:$W$459,23,FALSE),\"\")","v":0},null,null,null,{"$f":"IF(OR(B600=0,VLOOKUP(A599,Liste!$A$10:'Liste'!$Z$459,26)<>\"\"),\"\", \"Voir autorisation messages électroniques\")","v":"Voir autorisation messages électroniques"}]
[{"$f":"A599+1","v":64},null,null,null,null,null,"Par correspondance reçu le "]
[{"$f":"IF($A608<>0,VLOOKUP($A608,Liste!$A$10:$W$459,3,FALSE),\"\")","v":"Monsieur"},{"$f":"IF($A608<>0,VLOOKUP($A608,Liste!$A$10:$W$459,4,FALSE),\"\")","v":"GLADIEU Marc"},null,null,{"$f":"IF($A608<>0,VLOOKUP($A608,Liste!$A$10:$W$459,8,FALSE),\"\")","v":65},null,"Par visio, audio conférence,,,,"]
[{"$f":"IF($A608<>0,VLOOKUP($A608,Liste!$A$10:$W$459,5,FALSE),\"\")","v":"19 Rue du Paradis"},null,null,null,null,null,"Signature/ Mandataire :"]
[{"$f":"IF($A608<>0,VLOOKUP($A608,Liste!$A$10:$W$459,6,FALSE),\"\")","v":33000},{"$f":"IF($A608<>0,VLOOKUP($A608,Liste!$A$10:$W$459,7,FALSE),\"\")","v":"Bordeaux"}]
[{"$f":" IF($A608<>0, \"Lot \" & VLOOKUP($A608,Liste!$A$10:$W$459,9,FALSE),\"\")","v":"Lot 64"},{"$f":"IF($A608<>0,VLOOKUP($A608,Liste!$A$10:$W$459,10,FALSE),\"\")","v":"Appart,"},{"$f":"IF($A608<>0,VLOOKUP($A608,Liste!$A$10:$W$459,11,FALSE),\"\")","v":60}]
[{"$f":"IF($A608<>0,\"Lot \" & VLOOKUP($A608,Liste!$A$10:$W$459,12,FALSE),\"\")","v":"Lot 214"},{"$f":"IF($A608<>0,VLOOKUP($A608,Liste!$A$10:$W$459,13,FALSE),\"\")","v":"Cave"},{"$f":"IF($A608<>0,VLOOKUP($A608,Liste!$A$10:$W$459,14,FALSE),\"\")","v":5}]
[{"$f":"IF($A608<>0,\"Lot \" & VLOOKUP($A608,Liste!$A$10:$W$459,15,FALSE),\"\")","v":"Lot "},{"$f":"IF($A608<>0,VLOOKUP($A608,Liste!$A$10:$W$459,16,FALSE),\"\")","v":0},{"$f":"IF($A608<>0,VLOOKUP($A608,Liste!$A$10:$W$459,17,FALSE),\"\")","v":0},null,null,null,"Arrivé à","après vote de la Résolution N°"]
[{"$f":"IF($A608<>0,\"Lot \" & VLOOKUP($A608,Liste!$A$10:$W$459,18,FALSE),\"\")","v":"Lot "},0,{"$f":"IF($A608<>0,VLOOKUP($A608,Liste!$A$10:$W$459,19,FALSE),\"\")","v":0},null,null,null,"Départ à","après vote de la Résolution N°"]
[{"$f":"IF($A608<>0,\"Lot \" & VLOOKUP($A608,Liste!$A$10:$W$459,21,FALSE),\"\")","v":"Lot "},{"$f":"IF($A608<>0,VLOOKUP($A608,Liste!$A$10:$W$459,22,FALSE),\"\")","v":0},{"$f":"IF($A608<>0,VLOOKUP($A608,Liste!$A$10:$W$459,23,FALSE),\"\")","v":0},null,null,null,{"$f":"IF(OR(B609=0,VLOOKUP(A608,Liste!$A$10:'Liste'!$Z$459,26)<>\"\"),\"\", \"Voir autorisation messages électroniques\")","v":"Voir autorisation messages électroniques"}]
[]
[null,null,null,"A S S E M B L E E     G E N E R A L E",null,null,null,null,null,null,"Page",{"$f":"L541+1","v":9}]
[null,null,null,null,null,"du","2019-12-20"]
[null,null,null,"Résidence Le Paradis; Rue de l' espoir 75016 PARIS"]
[]
[{"$f":"A608+1","v":65},null,null,null,null,null,"Par correspondance reçu le "]
[{"$f":"IF($A622<>0,VLOOKUP($A622,Liste!$A$10:$W$459,3,FALSE),\"\")","v":"onsieur Madame"},{"$f":"IF($A622<>0,VLOOKUP($A622,Liste!$A$10:$W$459,4,FALSE),\"\")","v":"GOURRIER - JAFFELIN "},null,null,{"$f":"IF($A622<>0,VLOOKUP($A622,Liste!$A$10:$W$459,8,FALSE),\"\")","v":70},null,"Par visio, audio conférence,,,,"]
[{"$f":"IF($A622<>0,VLOOKUP($A622,Liste!$A$10:$W$459,5,FALSE),\"\")","v":"13 rue de l' espoir"},null,null,null,null,null,"Signature/ Mandataire :"]
[{"$f":"IF($A622<>0,VLOOKUP($A622,Liste!$A$10:$W$459,6,FALSE),\"\")","v":75016},{"$f":"IF($A622<>0,VLOOKUP($A622,Liste!$A$10:$W$459,7,FALSE),\"\")","v":"Paris "}]
[{"$f":" IF($A622<>0, \"Lot \" & VLOOKUP($A622,Liste!$A$10:$W$459,9,FALSE),\"\")","v":"Lot 65"},{"$f":"IF($A622<>0,VLOOKUP($A622,Liste!$A$10:$W$459,10,FALSE),\"\")","v":"Appart,"},{"$f":"IF($A622<>0,VLOOKUP($A622,Liste!$A$10:$W$459,11,FALSE),\"\")","v":65}]
[{"$f":"IF($A622<>0,\"Lot \" & VLOOKUP($A622,Liste!$A$10:$W$459,12,FALSE),\"\")","v":"Lot 215"},{"$f":"IF($A622<>0,VLOOKUP($A622,Liste!$A$10:$W$459,13,FALSE),\"\")","v":"Cave"},{"$f":"IF($A622<>0,VLOOKUP($A622,Liste!$A$10:$W$459,14,FALSE),\"\")","v":5}]
[{"$f":"IF($A622<>0,\"Lot \" & VLOOKUP($A622,Liste!$A$10:$W$459,15,FALSE),\"\")","v":"Lot "},{"$f":"IF($A622<>0,VLOOKUP($A622,Liste!$A$10:$W$459,16,FALSE),\"\")","v":0},{"$f":"IF($A622<>0,VLOOKUP($A622,Liste!$A$10:$W$459,17,FALSE),\"\")","v":0},null,null,null,"Arrivé à","après vote de la Résolution N°"]
[{"$f":"IF($A622<>0,\"Lot \" & VLOOKUP($A622,Liste!$A$10:$W$459,18,FALSE),\"\")","v":"Lot "},0,{"$f":"IF($A622<>0,VLOOKUP($A622,Liste!$A$10:$W$459,19,FALSE),\"\")","v":0},null,null,null,"Départ à","après vote de la Résolution N°"]
[{"$f":"IF($A622<>0,\"Lot \" & VLOOKUP($A622,Liste!$A$10:$W$459,21,FALSE),\"\")","v":"Lot "},{"$f":"IF($A622<>0,VLOOKUP($A622,Liste!$A$10:$W$459,22,FALSE),\"\")","v":0},{"$f":"IF($A622<>0,VLOOKUP($A622,Liste!$A$10:$W$459,23,FALSE),\"\")","v":0},null,null,null,{"$f":"IF(OR(B623=0,VLOOKUP(A622,Liste!$A$10:'Liste'!$Z$459,26)<>\"\"),\"\", \"Voir autorisation messages électroniques\")","v":"Voir autorisation messages électroniques"}]
[{"$f":"A622+1","v":66},null,null,null,null,null,"Par correspondance reçu le "]
[{"$f":"IF($A631<>0,VLOOKUP($A631,Liste!$A$10:$W$459,3,FALSE),\"\")","v":"Monieur"},{"$f":"IF($A631<>0,VLOOKUP($A631,Liste!$A$10:$W$459,4,FALSE),\"\")","v":"GRAO Guy"},null,null,{"$f":"IF($A631<>0,VLOOKUP($A631,Liste!$A$10:$W$459,8,FALSE),\"\")","v":72},null,"Par visio, audio conférence,,,,"]
[{"$f":"IF($A631<>0,VLOOKUP($A631,Liste!$A$10:$W$459,5,FALSE),\"\")","v":"13 rue de l' espoir"},null,null,null,null,null,"Signature/ Mandataire :"]
[{"$f":"IF($A631<>0,VLOOKUP($A631,Liste!$A$10:$W$459,6,FALSE),\"\")","v":75016},{"$f":"IF($A631<>0,VLOOKUP($A631,Liste!$A$10:$W$459,7,FALSE),\"\")","v":"Paris "}]
[{"$f":" IF($A631<>0, \"Lot \" & VLOOKUP($A631,Liste!$A$10:$W$459,9,FALSE),\"\")","v":"Lot 66"},{"$f":"IF($A631<>0,VLOOKUP($A631,Liste!$A$10:$W$459,10,FALSE),\"\")","v":"Appart,"},{"$f":"IF($A631<>0,VLOOKUP($A631,Liste!$A$10:$W$459,11,FALSE),\"\")","v":67}]
[{"$f":"IF($A631<>0,\"Lot \" & VLOOKUP($A631,Liste!$A$10:$W$459,12,FALSE),\"\")","v":"Lot 216"},{"$f":"IF($A631<>0,VLOOKUP($A631,Liste!$A$10:$W$459,13,FALSE),\"\")","v":"Cave"},{"$f":"IF($A631<>0,VLOOKUP($A631,Liste!$A$10:$W$459,14,FALSE),\"\")","v":5}]
[{"$f":"IF($A631<>0,\"Lot \" & VLOOKUP($A631,Liste!$A$10:$W$459,15,FALSE),\"\")","v":"Lot "},{"$f":"IF($A631<>0,VLOOKUP($A631,Liste!$A$10:$W$459,16,FALSE),\"\")","v":0},{"$f":"IF($A631<>0,VLOOKUP($A631,Liste!$A$10:$W$459,17,FALSE),\"\")","v":0},null,null,null,"Arrivé à","après vote de la Résolution N°"]
[{"$f":"IF($A631<>0,\"Lot \" & VLOOKUP($A631,Liste!$A$10:$W$459,18,FALSE),\"\")","v":"Lot "},0,{"$f":"IF($A631<>0,VLOOKUP($A631,Liste!$A$10:$W$459,19,FALSE),\"\")","v":0},null,null,null,"Départ à","après vote de la Résolution N°"]
[{"$f":"IF($A631<>0,\"Lot \" & VLOOKUP($A631,Liste!$A$10:$W$459,21,FALSE),\"\")","v":"Lot "},{"$f":"IF($A631<>0,VLOOKUP($A631,Liste!$A$10:$W$459,22,FALSE),\"\")","v":0},{"$f":"IF($A631<>0,VLOOKUP($A631,Liste!$A$10:$W$459,23,FALSE),\"\")","v":0},null,null,null,{"$f":"IF(OR(B632=0,VLOOKUP(A631,Liste!$A$10:'Liste'!$Z$459,26)<>\"\"),\"\", \"Voir autorisation messages électroniques\")","v":"Voir autorisation messages électroniques"}]
[{"$f":"A631+1","v":67},null,null,null,null,null,"Par correspondance reçu le "]
[{"$f":"IF($A640<>0,VLOOKUP($A640,Liste!$A$10:$W$459,3,FALSE),\"\")","v":"Madame"},{"$f":"IF($A640<>0,VLOOKUP($A640,Liste!$A$10:$W$459,4,FALSE),\"\")","v":"GROLLEAU Chantal"},null,null,{"$f":"IF($A640<>0,VLOOKUP($A640,Liste!$A$10:$W$459,8,FALSE),\"\")","v":66},null,"Par visio, audio conférence,,,,"]
[{"$f":"IF($A640<>0,VLOOKUP($A640,Liste!$A$10:$W$459,5,FALSE),\"\")","v":"13 rue de l' espoir"},null,null,null,null,null,"Signature/ Mandataire :"]
[{"$f":"IF($A640<>0,VLOOKUP($A640,Liste!$A$10:$W$459,6,FALSE),\"\")","v":75016},{"$f":"IF($A640<>0,VLOOKUP($A640,Liste!$A$10:$W$459,7,FALSE),\"\")","v":"Paris "}]
[{"$f":" IF($A640<>0, \"Lot \" & VLOOKUP($A640,Liste!$A$10:$W$459,9,FALSE),\"\")","v":"Lot 67"},{"$f":"IF($A640<>0,VLOOKUP($A640,Liste!$A$10:$W$459,10,FALSE),\"\")","v":"Appart,"},{"$f":"IF($A640<>0,VLOOKUP($A640,Liste!$A$10:$W$459,11,FALSE),\"\")","v":61}]
[{"$f":"IF($A640<>0,\"Lot \" & VLOOKUP($A640,Liste!$A$10:$W$459,12,FALSE),\"\")","v":"Lot 217"},{"$f":"IF($A640<>0,VLOOKUP($A640,Liste!$A$10:$W$459,13,FALSE),\"\")","v":"Cave"},{"$f":"IF($A640<>0,VLOOKUP($A640,Liste!$A$10:$W$459,14,FALSE),\"\")","v":5}]
[{"$f":"IF($A640<>0,\"Lot \" & VLOOKUP($A640,Liste!$A$10:$W$459,15,FALSE),\"\")","v":"Lot "},{"$f":"IF($A640<>0,VLOOKUP($A640,Liste!$A$10:$W$459,16,FALSE),\"\")","v":0},{"$f":"IF($A640<>0,VLOOKUP($A640,Liste!$A$10:$W$459,17,FALSE),\"\")","v":0},null,null,null,"Arrivé à","après vote de la Résolution N°"]
[{"$f":"IF($A640<>0,\"Lot \" & VLOOKUP($A640,Liste!$A$10:$W$459,18,FALSE),\"\")","v":"Lot "},0,{"$f":"IF($A640<>0,VLOOKUP($A640,Liste!$A$10:$W$459,19,FALSE),\"\")","v":0},null,null,null,"Départ à","après vote de la Résolution N°"]
[{"$f":"IF($A640<>0,\"Lot \" & VLOOKUP($A640,Liste!$A$10:$W$459,21,FALSE),\"\")","v":"Lot "},{"$f":"IF($A640<>0,VLOOKUP($A640,Liste!$A$10:$W$459,22,FALSE),\"\")","v":0},{"$f":"IF($A640<>0,VLOOKUP($A640,Liste!$A$10:$W$459,23,FALSE),\"\")","v":0},null,null,null,{"$f":"IF(OR(B641=0,VLOOKUP(A640,Liste!$A$10:'Liste'!$Z$459,26)<>\"\"),\"\", \"Voir autorisation messages électroniques\")","v":"Voir autorisation messages électroniques"}]
[{"$f":"A640+1","v":68},null,null,null,null,null,"Par correspondance reçu le "]
[{"$f":"IF($A649<>0,VLOOKUP($A649,Liste!$A$10:$W$459,3,FALSE),\"\")","v":"Monieur"},{"$f":"IF($A649<>0,VLOOKUP($A649,Liste!$A$10:$W$459,4,FALSE),\"\")","v":"HALADO "},null,null,{"$f":"IF($A649<>0,VLOOKUP($A649,Liste!$A$10:$W$459,8,FALSE),\"\")","v":55},null,"Par visio, audio conférence,,,,"]
[{"$f":"IF($A649<>0,VLOOKUP($A649,Liste!$A$10:$W$459,5,FALSE),\"\")","v":"13 rue de l' espoir"},null,null,null,null,null,"Signature/ Mandataire :"]
[{"$f":"IF($A649<>0,VLOOKUP($A649,Liste!$A$10:$W$459,6,FALSE),\"\")","v":75016},{"$f":"IF($A649<>0,VLOOKUP($A649,Liste!$A$10:$W$459,7,FALSE),\"\")","v":"Paris "}]
[{"$f":" IF($A649<>0, \"Lot \" & VLOOKUP($A649,Liste!$A$10:$W$459,9,FALSE),\"\")","v":"Lot 68"},{"$f":"IF($A649<>0,VLOOKUP($A649,Liste!$A$10:$W$459,10,FALSE),\"\")","v":"Appart,"},{"$f":"IF($A649<>0,VLOOKUP($A649,Liste!$A$10:$W$459,11,FALSE),\"\")","v":50}]
[{"$f":"IF($A649<>0,\"Lot \" & VLOOKUP($A649,Liste!$A$10:$W$459,12,FALSE),\"\")","v":"Lot 218"},{"$f":"IF($A649<>0,VLOOKUP($A649,Liste!$A$10:$W$459,13,FALSE),\"\")","v":"Cave"},{"$f":"IF($A649<>0,VLOOKUP($A649,Liste!$A$10:$W$459,14,FALSE),\"\")","v":5}]
[{"$f":"IF($A649<>0,\"Lot \" & VLOOKUP($A649,Liste!$A$10:$W$459,15,FALSE),\"\")","v":"Lot "},{"$f":"IF($A649<>0,VLOOKUP($A649,Liste!$A$10:$W$459,16,FALSE),\"\")","v":0},{"$f":"IF($A649<>0,VLOOKUP($A649,Liste!$A$10:$W$459,17,FALSE),\"\")","v":0},null,null,null,"Arrivé à","après vote de la Résolution N°"]
[{"$f":"IF($A649<>0,\"Lot \" & VLOOKUP($A649,Liste!$A$10:$W$459,18,FALSE),\"\")","v":"Lot "},0,{"$f":"IF($A649<>0,VLOOKUP($A649,Liste!$A$10:$W$459,19,FALSE),\"\")","v":0},null,null,null,"Départ à","après vote de la Résolution N°"]
[{"$f":"IF($A649<>0,\"Lot \" & VLOOKUP($A649,Liste!$A$10:$W$459,21,FALSE),\"\")","v":"Lot "},{"$f":"IF($A649<>0,VLOOKUP($A649,Liste!$A$10:$W$459,22,FALSE),\"\")","v":0},{"$f":"IF($A649<>0,VLOOKUP($A649,Liste!$A$10:$W$459,23,FALSE),\"\")","v":0},null,null,null,{"$f":"IF(OR(B650=0,VLOOKUP(A649,Liste!$A$10:'Liste'!$Z$459,26)<>\"\"),\"\", \"Voir autorisation messages électroniques\")","v":"Voir autorisation messages électroniques"}]
[{"$f":"A649+1","v":69},null,null,null,null,null,"Par correspondance reçu le "]
[{"$f":"IF($A658<>0,VLOOKUP($A658,Liste!$A$10:$W$459,3,FALSE),\"\")","v":"Monieur"},{"$f":"IF($A658<>0,VLOOKUP($A658,Liste!$A$10:$W$459,4,FALSE),\"\")","v":"HONNORAT Georges"},null,null,{"$f":"IF($A658<>0,VLOOKUP($A658,Liste!$A$10:$W$459,8,FALSE),\"\")","v":56},null,"Par visio, audio conférence,,,,"]
[{"$f":"IF($A658<>0,VLOOKUP($A658,Liste!$A$10:$W$459,5,FALSE),\"\")","v":"13 rue de l' espoir"},null,null,null,null,null,"Signature/ Mandataire :"]
[{"$f":"IF($A658<>0,VLOOKUP($A658,Liste!$A$10:$W$459,6,FALSE),\"\")","v":75016},{"$f":"IF($A658<>0,VLOOKUP($A658,Liste!$A$10:$W$459,7,FALSE),\"\")","v":"Paris "}]
[{"$f":" IF($A658<>0, \"Lot \" & VLOOKUP($A658,Liste!$A$10:$W$459,9,FALSE),\"\")","v":"Lot 69"},{"$f":"IF($A658<>0,VLOOKUP($A658,Liste!$A$10:$W$459,10,FALSE),\"\")","v":"Appart,"},{"$f":"IF($A658<>0,VLOOKUP($A658,Liste!$A$10:$W$459,11,FALSE),\"\")","v":51}]
[{"$f":"IF($A658<>0,\"Lot \" & VLOOKUP($A658,Liste!$A$10:$W$459,12,FALSE),\"\")","v":"Lot 219"},{"$f":"IF($A658<>0,VLOOKUP($A658,Liste!$A$10:$W$459,13,FALSE),\"\")","v":"Cave"},{"$f":"IF($A658<>0,VLOOKUP($A658,Liste!$A$10:$W$459,14,FALSE),\"\")","v":5}]
[{"$f":"IF($A658<>0,\"Lot \" & VLOOKUP($A658,Liste!$A$10:$W$459,15,FALSE),\"\")","v":"Lot "},{"$f":"IF($A658<>0,VLOOKUP($A658,Liste!$A$10:$W$459,16,FALSE),\"\")","v":0},{"$f":"IF($A658<>0,VLOOKUP($A658,Liste!$A$10:$W$459,17,FALSE),\"\")","v":0},null,null,null,"Arrivé à","après vote de la Résolution N°"]
[{"$f":"IF($A658<>0,\"Lot \" & VLOOKUP($A658,Liste!$A$10:$W$459,18,FALSE),\"\")","v":"Lot "},0,{"$f":"IF($A658<>0,VLOOKUP($A658,Liste!$A$10:$W$459,19,FALSE),\"\")","v":0},null,null,null,"Départ à","après vote de la Résolution N°"]
[{"$f":"IF($A658<>0,\"Lot \" & VLOOKUP($A658,Liste!$A$10:$W$459,21,FALSE),\"\")","v":"Lot "},{"$f":"IF($A658<>0,VLOOKUP($A658,Liste!$A$10:$W$459,22,FALSE),\"\")","v":0},{"$f":"IF($A658<>0,VLOOKUP($A658,Liste!$A$10:$W$459,23,FALSE),\"\")","v":0},null,null,null,{"$f":"IF(OR(B659=0,VLOOKUP(A658,Liste!$A$10:'Liste'!$Z$459,26)<>\"\"),\"\", \"Voir autorisation messages électroniques\")","v":"Voir autorisation messages électroniques"}]
[{"$f":"A658+1","v":70},null,null,null,null,null,"Par correspondance reçu le "]
[{"$f":"IF($A667<>0,VLOOKUP($A667,Liste!$A$10:$W$459,3,FALSE),\"\")","v":"Madame"},{"$f":"IF($A667<>0,VLOOKUP($A667,Liste!$A$10:$W$459,4,FALSE),\"\")","v":"IMGRAM Simone"},null,null,{"$f":"IF($A667<>0,VLOOKUP($A667,Liste!$A$10:$W$459,8,FALSE),\"\")","v":60},null,"Par visio, audio conférence,,,,"]
[{"$f":"IF($A667<>0,VLOOKUP($A667,Liste!$A$10:$W$459,5,FALSE),\"\")","v":"19 Rue du Paradis"},null,null,null,null,null,"Signature/ Mandataire :"]
[{"$f":"IF($A667<>0,VLOOKUP($A667,Liste!$A$10:$W$459,6,FALSE),\"\")","v":33000},{"$f":"IF($A667<>0,VLOOKUP($A667,Liste!$A$10:$W$459,7,FALSE),\"\")","v":"Bordeaux"}]
[{"$f":" IF($A667<>0, \"Lot \" & VLOOKUP($A667,Liste!$A$10:$W$459,9,FALSE),\"\")","v":"Lot 70"},{"$f":"IF($A667<>0,VLOOKUP($A667,Liste!$A$10:$W$459,10,FALSE),\"\")","v":"Appart,"},{"$f":"IF($A667<>0,VLOOKUP($A667,Liste!$A$10:$W$459,11,FALSE),\"\")","v":55}]
[{"$f":"IF($A667<>0,\"Lot \" & VLOOKUP($A667,Liste!$A$10:$W$459,12,FALSE),\"\")","v":"Lot 220"},{"$f":"IF($A667<>0,VLOOKUP($A667,Liste!$A$10:$W$459,13,FALSE),\"\")","v":"Cave"},{"$f":"IF($A667<>0,VLOOKUP($A667,Liste!$A$10:$W$459,14,FALSE),\"\")","v":5}]
[{"$f":"IF($A667<>0,\"Lot \" & VLOOKUP($A667,Liste!$A$10:$W$459,15,FALSE),\"\")","v":"Lot "},{"$f":"IF($A667<>0,VLOOKUP($A667,Liste!$A$10:$W$459,16,FALSE),\"\")","v":0},{"$f":"IF($A667<>0,VLOOKUP($A667,Liste!$A$10:$W$459,17,FALSE),\"\")","v":0},null,null,null,"Arrivé à","après vote de la Résolution N°"]
[{"$f":"IF($A667<>0,\"Lot \" & VLOOKUP($A667,Liste!$A$10:$W$459,18,FALSE),\"\")","v":"Lot "},0,{"$f":"IF($A667<>0,VLOOKUP($A667,Liste!$A$10:$W$459,19,FALSE),\"\")","v":0},null,null,null,"Départ à","après vote de la Résolution N°"]
[{"$f":"IF($A667<>0,\"Lot \" & VLOOKUP($A667,Liste!$A$10:$W$459,21,FALSE),\"\")","v":"Lot "},{"$f":"IF($A667<>0,VLOOKUP($A667,Liste!$A$10:$W$459,22,FALSE),\"\")","v":0},{"$f":"IF($A667<>0,VLOOKUP($A667,Liste!$A$10:$W$459,23,FALSE),\"\")","v":0},null,null,null,{"$f":"IF(OR(B668=0,VLOOKUP(A667,Liste!$A$10:'Liste'!$Z$459,26)<>\"\"),\"\", \"Voir autorisation messages électroniques\")","v":"Voir autorisation messages électroniques"}]
[{"$f":"A667+1","v":71},null,null,null,null,null,"Par correspondance reçu le "]
[{"$f":"IF($A676<>0,VLOOKUP($A676,Liste!$A$10:$W$459,3,FALSE),\"\")","v":"Madame"},{"$f":"IF($A676<>0,VLOOKUP($A676,Liste!$A$10:$W$459,4,FALSE),\"\")","v":"IRACANE Rosalie"},null,null,{"$f":"IF($A676<>0,VLOOKUP($A676,Liste!$A$10:$W$459,8,FALSE),\"\")","v":70},null,"Par visio, audio conférence,,,,"]
[{"$f":"IF($A676<>0,VLOOKUP($A676,Liste!$A$10:$W$459,5,FALSE),\"\")","v":"13 rue de l' espoir"},null,null,null,null,null,"Signature/ Mandataire :"]
[{"$f":"IF($A676<>0,VLOOKUP($A676,Liste!$A$10:$W$459,6,FALSE),\"\")","v":75016},{"$f":"IF($A676<>0,VLOOKUP($A676,Liste!$A$10:$W$459,7,FALSE),\"\")","v":"Paris "}]
[{"$f":" IF($A676<>0, \"Lot \" & VLOOKUP($A676,Liste!$A$10:$W$459,9,FALSE),\"\")","v":"Lot 71"},{"$f":"IF($A676<>0,VLOOKUP($A676,Liste!$A$10:$W$459,10,FALSE),\"\")","v":"Appart,"},{"$f":"IF($A676<>0,VLOOKUP($A676,Liste!$A$10:$W$459,11,FALSE),\"\")","v":65}]
[{"$f":"IF($A676<>0,\"Lot \" & VLOOKUP($A676,Liste!$A$10:$W$459,12,FALSE),\"\")","v":"Lot 221"},{"$f":"IF($A676<>0,VLOOKUP($A676,Liste!$A$10:$W$459,13,FALSE),\"\")","v":"Cave"},{"$f":"IF($A676<>0,VLOOKUP($A676,Liste!$A$10:$W$459,14,FALSE),\"\")","v":5}]
[{"$f":"IF($A676<>0,\"Lot \" & VLOOKUP($A676,Liste!$A$10:$W$459,15,FALSE),\"\")","v":"Lot "},{"$f":"IF($A676<>0,VLOOKUP($A676,Liste!$A$10:$W$459,16,FALSE),\"\")","v":0},{"$f":"IF($A676<>0,VLOOKUP($A676,Liste!$A$10:$W$459,17,FALSE),\"\")","v":0},null,null,null,"Arrivé à","après vote de la Résolution N°"]
[{"$f":"IF($A676<>0,\"Lot \" & VLOOKUP($A676,Liste!$A$10:$W$459,18,FALSE),\"\")","v":"Lot "},0,{"$f":"IF($A676<>0,VLOOKUP($A676,Liste!$A$10:$W$459,19,FALSE),\"\")","v":0},null,null,null,"Départ à","après vote de la Résolution N°"]
[{"$f":"IF($A676<>0,\"Lot \" & VLOOKUP($A676,Liste!$A$10:$W$459,21,FALSE),\"\")","v":"Lot "},{"$f":"IF($A676<>0,VLOOKUP($A676,Liste!$A$10:$W$459,22,FALSE),\"\")","v":0},{"$f":"IF($A676<>0,VLOOKUP($A676,Liste!$A$10:$W$459,23,FALSE),\"\")","v":0},null,null,null,{"$f":"IF(OR(B677=0,VLOOKUP(A676,Liste!$A$10:'Liste'!$Z$459,26)<>\"\"),\"\", \"Voir autorisation messages électroniques\")","v":"Voir autorisation messages électroniques"}]
[{"$f":"A676+1","v":72},null,null,null,null,null,"Par correspondance reçu le "]
[{"$f":"IF($A685<>0,VLOOKUP($A685,Liste!$A$10:$W$459,3,FALSE),\"\")","v":"Madame"},{"$f":"IF($A685<>0,VLOOKUP($A685,Liste!$A$10:$W$459,4,FALSE),\"\")","v":"JACQUET Sylvie"},null,null,{"$f":"IF($A685<>0,VLOOKUP($A685,Liste!$A$10:$W$459,8,FALSE),\"\")","v":71},null,"Par visio, audio conférence,,,,"]
[{"$f":"IF($A685<>0,VLOOKUP($A685,Liste!$A$10:$W$459,5,FALSE),\"\")","v":"13 rue de l' espoir"},null,null,null,null,null,"Signature/ Mandataire :"]
[{"$f":"IF($A685<>0,VLOOKUP($A685,Liste!$A$10:$W$459,6,FALSE),\"\")","v":75016},{"$f":"IF($A685<>0,VLOOKUP($A685,Liste!$A$10:$W$459,7,FALSE),\"\")","v":"Paris "}]
[{"$f":" IF($A685<>0, \"Lot \" & VLOOKUP($A685,Liste!$A$10:$W$459,9,FALSE),\"\")","v":"Lot 72"},{"$f":"IF($A685<>0,VLOOKUP($A685,Liste!$A$10:$W$459,10,FALSE),\"\")","v":"Appart,"},{"$f":"IF($A685<>0,VLOOKUP($A685,Liste!$A$10:$W$459,11,FALSE),\"\")","v":66}]
[{"$f":"IF($A685<>0,\"Lot \" & VLOOKUP($A685,Liste!$A$10:$W$459,12,FALSE),\"\")","v":"Lot 222"},{"$f":"IF($A685<>0,VLOOKUP($A685,Liste!$A$10:$W$459,13,FALSE),\"\")","v":"Cave"},{"$f":"IF($A685<>0,VLOOKUP($A685,Liste!$A$10:$W$459,14,FALSE),\"\")","v":5}]
[{"$f":"IF($A685<>0,\"Lot \" & VLOOKUP($A685,Liste!$A$10:$W$459,15,FALSE),\"\")","v":"Lot "},{"$f":"IF($A685<>0,VLOOKUP($A685,Liste!$A$10:$W$459,16,FALSE),\"\")","v":0},{"$f":"IF($A685<>0,VLOOKUP($A685,Liste!$A$10:$W$459,17,FALSE),\"\")","v":0},null,null,null,"Arrivé à","après vote de la Résolution N°"]
[{"$f":"IF($A685<>0,\"Lot \" & VLOOKUP($A685,Liste!$A$10:$W$459,18,FALSE),\"\")","v":"Lot "},0,{"$f":"IF($A685<>0,VLOOKUP($A685,Liste!$A$10:$W$459,19,FALSE),\"\")","v":0},null,null,null,"Départ à","après vote de la Résolution N°"]
[{"$f":"IF($A685<>0,\"Lot \" & VLOOKUP($A685,Liste!$A$10:$W$459,21,FALSE),\"\")","v":"Lot "},{"$f":"IF($A685<>0,VLOOKUP($A685,Liste!$A$10:$W$459,22,FALSE),\"\")","v":0},{"$f":"IF($A685<>0,VLOOKUP($A685,Liste!$A$10:$W$459,23,FALSE),\"\")","v":0},null,null,null,{"$f":"IF(OR(B686=0,VLOOKUP(A685,Liste!$A$10:'Liste'!$Z$459,26)<>\"\"),\"\", \"Voir autorisation messages électroniques\")","v":"Voir autorisation messages électroniques"}]
[]
[null,null,null,"A S S E M B L E E     G E N E R A L E",null,null,null,null,null,null,"Page",{"$f":"L618+1","v":10}]
[null,null,null,null,null,"du","2019-12-20"]
[null,null,null,"Résidence Le Paradis; Rue de l' espoir 75016 PARIS"]
[]
[{"$f":"A685+1","v":73},null,null,null,null,null,"Par correspondance reçu le "]
[{"$f":"IF($A699<>0,VLOOKUP($A699,Liste!$A$10:$W$459,3,FALSE),\"\")","v":"Monieur"},{"$f":"IF($A699<>0,VLOOKUP($A699,Liste!$A$10:$W$459,4,FALSE),\"\")","v":"JAYET Christian"},null,null,{"$f":"IF($A699<>0,VLOOKUP($A699,Liste!$A$10:$W$459,8,FALSE),\"\")","v":62},null,"Par visio, audio conférence,,,,"]
[{"$f":"IF($A699<>0,VLOOKUP($A699,Liste!$A$10:$W$459,5,FALSE),\"\")","v":"13 rue de l' espoir"},null,null,null,null,null,"Signature/ Mandataire :"]
[{"$f":"IF($A699<>0,VLOOKUP($A699,Liste!$A$10:$W$459,6,FALSE),\"\")","v":75016},{"$f":"IF($A699<>0,VLOOKUP($A699,Liste!$A$10:$W$459,7,FALSE),\"\")","v":"Paris "}]
[{"$f":" IF($A699<>0, \"Lot \" & VLOOKUP($A699,Liste!$A$10:$W$459,9,FALSE),\"\")","v":"Lot 73"},{"$f":"IF($A699<>0,VLOOKUP($A699,Liste!$A$10:$W$459,10,FALSE),\"\")","v":"Appart,"},{"$f":"IF($A699<>0,VLOOKUP($A699,Liste!$A$10:$W$459,11,FALSE),\"\")","v":57}]
[{"$f":"IF($A699<>0,\"Lot \" & VLOOKUP($A699,Liste!$A$10:$W$459,12,FALSE),\"\")","v":"Lot 223"},{"$f":"IF($A699<>0,VLOOKUP($A699,Liste!$A$10:$W$459,13,FALSE),\"\")","v":"Cave"},{"$f":"IF($A699<>0,VLOOKUP($A699,Liste!$A$10:$W$459,14,FALSE),\"\")","v":5}]
[{"$f":"IF($A699<>0,\"Lot \" & VLOOKUP($A699,Liste!$A$10:$W$459,15,FALSE),\"\")","v":"Lot "},{"$f":"IF($A699<>0,VLOOKUP($A699,Liste!$A$10:$W$459,16,FALSE),\"\")","v":0},{"$f":"IF($A699<>0,VLOOKUP($A699,Liste!$A$10:$W$459,17,FALSE),\"\")","v":0},null,null,null,"Arrivé à","après vote de la Résolution N°"]
[{"$f":"IF($A699<>0,\"Lot \" & VLOOKUP($A699,Liste!$A$10:$W$459,18,FALSE),\"\")","v":"Lot "},0,{"$f":"IF($A699<>0,VLOOKUP($A699,Liste!$A$10:$W$459,19,FALSE),\"\")","v":0},null,null,null,"Départ à","après vote de la Résolution N°"]
[{"$f":"IF($A699<>0,\"Lot \" & VLOOKUP($A699,Liste!$A$10:$W$459,21,FALSE),\"\")","v":"Lot "},{"$f":"IF($A699<>0,VLOOKUP($A699,Liste!$A$10:$W$459,22,FALSE),\"\")","v":0},{"$f":"IF($A699<>0,VLOOKUP($A699,Liste!$A$10:$W$459,23,FALSE),\"\")","v":0},null,null,null,{"$f":"IF(OR(B700=0,VLOOKUP(A699,Liste!$A$10:'Liste'!$Z$459,26)<>\"\"),\"\", \"Voir autorisation messages électroniques\")","v":"Voir autorisation messages électroniques"}]
[{"$f":"A699+1","v":74},null,null,null,null,null,"Par correspondance reçu le "]
[{"$f":"IF($A708<>0,VLOOKUP($A708,Liste!$A$10:$W$459,3,FALSE),\"\")","v":"Monieur"},{"$f":"IF($A708<>0,VLOOKUP($A708,Liste!$A$10:$W$459,4,FALSE),\"\")","v":"JOB "},null,null,{"$f":"IF($A708<>0,VLOOKUP($A708,Liste!$A$10:$W$459,8,FALSE),\"\")","v":60},null,"Par visio, audio conférence,,,,"]
[{"$f":"IF($A708<>0,VLOOKUP($A708,Liste!$A$10:$W$459,5,FALSE),\"\")","v":"13 rue de l' espoir"},null,null,null,null,null,"Signature/ Mandataire :"]
[{"$f":"IF($A708<>0,VLOOKUP($A708,Liste!$A$10:$W$459,6,FALSE),\"\")","v":75016},{"$f":"IF($A708<>0,VLOOKUP($A708,Liste!$A$10:$W$459,7,FALSE),\"\")","v":"Paris "}]
[{"$f":" IF($A708<>0, \"Lot \" & VLOOKUP($A708,Liste!$A$10:$W$459,9,FALSE),\"\")","v":"Lot 74"},{"$f":"IF($A708<>0,VLOOKUP($A708,Liste!$A$10:$W$459,10,FALSE),\"\")","v":"Appart,"},{"$f":"IF($A708<>0,VLOOKUP($A708,Liste!$A$10:$W$459,11,FALSE),\"\")","v":55}]
[{"$f":"IF($A708<>0,\"Lot \" & VLOOKUP($A708,Liste!$A$10:$W$459,12,FALSE),\"\")","v":"Lot 224"},{"$f":"IF($A708<>0,VLOOKUP($A708,Liste!$A$10:$W$459,13,FALSE),\"\")","v":"Cave"},{"$f":"IF($A708<>0,VLOOKUP($A708,Liste!$A$10:$W$459,14,FALSE),\"\")","v":5}]
[{"$f":"IF($A708<>0,\"Lot \" & VLOOKUP($A708,Liste!$A$10:$W$459,15,FALSE),\"\")","v":"Lot "},{"$f":"IF($A708<>0,VLOOKUP($A708,Liste!$A$10:$W$459,16,FALSE),\"\")","v":0},{"$f":"IF($A708<>0,VLOOKUP($A708,Liste!$A$10:$W$459,17,FALSE),\"\")","v":0},null,null,null,"Arrivé à","après vote de la Résolution N°"]
[{"$f":"IF($A708<>0,\"Lot \" & VLOOKUP($A708,Liste!$A$10:$W$459,18,FALSE),\"\")","v":"Lot "},0,{"$f":"IF($A708<>0,VLOOKUP($A708,Liste!$A$10:$W$459,19,FALSE),\"\")","v":0},null,null,null,"Départ à","après vote de la Résolution N°"]
[{"$f":"IF($A708<>0,\"Lot \" & VLOOKUP($A708,Liste!$A$10:$W$459,21,FALSE),\"\")","v":"Lot "},{"$f":"IF($A708<>0,VLOOKUP($A708,Liste!$A$10:$W$459,22,FALSE),\"\")","v":0},{"$f":"IF($A708<>0,VLOOKUP($A708,Liste!$A$10:$W$459,23,FALSE),\"\")","v":0},null,null,null,{"$f":"IF(OR(B709=0,VLOOKUP(A708,Liste!$A$10:'Liste'!$Z$459,26)<>\"\"),\"\", \"Voir autorisation messages électroniques\")","v":"Voir autorisation messages électroniques"}]
[{"$f":"A708+1","v":75},null,null,null,null,null,"Par correspondance reçu le "]
[{"$f":"IF($A717<>0,VLOOKUP($A717,Liste!$A$10:$W$459,3,FALSE),\"\")","v":"Madame"},{"$f":"IF($A717<>0,VLOOKUP($A717,Liste!$A$10:$W$459,4,FALSE),\"\")","v":"JOFFE Françoise"},null,null,{"$f":"IF($A717<>0,VLOOKUP($A717,Liste!$A$10:$W$459,8,FALSE),\"\")","v":80},null,"Par visio, audio conférence,,,,"]
[{"$f":"IF($A717<>0,VLOOKUP($A717,Liste!$A$10:$W$459,5,FALSE),\"\")","v":"19 Rue du Paradis"},null,null,null,null,null,"Signature/ Mandataire :"]
[{"$f":"IF($A717<>0,VLOOKUP($A717,Liste!$A$10:$W$459,6,FALSE),\"\")","v":33000},{"$f":"IF($A717<>0,VLOOKUP($A717,Liste!$A$10:$W$459,7,FALSE),\"\")","v":"Bordeaux"}]
[{"$f":" IF($A717<>0, \"Lot \" & VLOOKUP($A717,Liste!$A$10:$W$459,9,FALSE),\"\")","v":"Lot 75"},{"$f":"IF($A717<>0,VLOOKUP($A717,Liste!$A$10:$W$459,10,FALSE),\"\")","v":"Appart,"},{"$f":"IF($A717<>0,VLOOKUP($A717,Liste!$A$10:$W$459,11,FALSE),\"\")","v":75}]
[{"$f":"IF($A717<>0,\"Lot \" & VLOOKUP($A717,Liste!$A$10:$W$459,12,FALSE),\"\")","v":"Lot 225"},{"$f":"IF($A717<>0,VLOOKUP($A717,Liste!$A$10:$W$459,13,FALSE),\"\")","v":"Cave"},{"$f":"IF($A717<>0,VLOOKUP($A717,Liste!$A$10:$W$459,14,FALSE),\"\")","v":5}]
[{"$f":"IF($A717<>0,\"Lot \" & VLOOKUP($A717,Liste!$A$10:$W$459,15,FALSE),\"\")","v":"Lot "},{"$f":"IF($A717<>0,VLOOKUP($A717,Liste!$A$10:$W$459,16,FALSE),\"\")","v":0},{"$f":"IF($A717<>0,VLOOKUP($A717,Liste!$A$10:$W$459,17,FALSE),\"\")","v":0},null,null,null,"Arrivé à","après vote de la Résolution N°"]
[{"$f":"IF($A717<>0,\"Lot \" & VLOOKUP($A717,Liste!$A$10:$W$459,18,FALSE),\"\")","v":"Lot "},0,{"$f":"IF($A717<>0,VLOOKUP($A717,Liste!$A$10:$W$459,19,FALSE),\"\")","v":0},null,null,null,"Départ à","après vote de la Résolution N°"]
[{"$f":"IF($A717<>0,\"Lot \" & VLOOKUP($A717,Liste!$A$10:$W$459,21,FALSE),\"\")","v":"Lot "},{"$f":"IF($A717<>0,VLOOKUP($A717,Liste!$A$10:$W$459,22,FALSE),\"\")","v":0},{"$f":"IF($A717<>0,VLOOKUP($A717,Liste!$A$10:$W$459,23,FALSE),\"\")","v":0},null,null,null,{"$f":"IF(OR(B718=0,VLOOKUP(A717,Liste!$A$10:'Liste'!$Z$459,26)<>\"\"),\"\", \"Voir autorisation messages électroniques\")","v":"Voir autorisation messages électroniques"}]
[{"$f":"A717+1","v":76},null,null,null,null,null,"Par correspondance reçu le "]
[{"$f":"IF($A726<>0,VLOOKUP($A726,Liste!$A$10:$W$459,3,FALSE),\"\")","v":"Monsieur"},{"$f":"IF($A726<>0,VLOOKUP($A726,Liste!$A$10:$W$459,4,FALSE),\"\")","v":"KARNAC Marcel"},null,null,{"$f":"IF($A726<>0,VLOOKUP($A726,Liste!$A$10:$W$459,8,FALSE),\"\")","v":60},null,"Par visio, audio conférence,,,,"]
[{"$f":"IF($A726<>0,VLOOKUP($A726,Liste!$A$10:$W$459,5,FALSE),\"\")","v":"19 Rue du Paradis"},null,null,null,null,null,"Signature/ Mandataire :"]
[{"$f":"IF($A726<>0,VLOOKUP($A726,Liste!$A$10:$W$459,6,FALSE),\"\")","v":33000},{"$f":"IF($A726<>0,VLOOKUP($A726,Liste!$A$10:$W$459,7,FALSE),\"\")","v":"Bordeaux"}]
[{"$f":" IF($A726<>0, \"Lot \" & VLOOKUP($A726,Liste!$A$10:$W$459,9,FALSE),\"\")","v":"Lot 76"},{"$f":"IF($A726<>0,VLOOKUP($A726,Liste!$A$10:$W$459,10,FALSE),\"\")","v":"Appart,"},{"$f":"IF($A726<>0,VLOOKUP($A726,Liste!$A$10:$W$459,11,FALSE),\"\")","v":55}]
[{"$f":"IF($A726<>0,\"Lot \" & VLOOKUP($A726,Liste!$A$10:$W$459,12,FALSE),\"\")","v":"Lot 226"},{"$f":"IF($A726<>0,VLOOKUP($A726,Liste!$A$10:$W$459,13,FALSE),\"\")","v":"Cave"},{"$f":"IF($A726<>0,VLOOKUP($A726,Liste!$A$10:$W$459,14,FALSE),\"\")","v":5}]
[{"$f":"IF($A726<>0,\"Lot \" & VLOOKUP($A726,Liste!$A$10:$W$459,15,FALSE),\"\")","v":"Lot "},{"$f":"IF($A726<>0,VLOOKUP($A726,Liste!$A$10:$W$459,16,FALSE),\"\")","v":0},{"$f":"IF($A726<>0,VLOOKUP($A726,Liste!$A$10:$W$459,17,FALSE),\"\")","v":0},null,null,null,"Arrivé à","après vote de la Résolution N°"]
[{"$f":"IF($A726<>0,\"Lot \" & VLOOKUP($A726,Liste!$A$10:$W$459,18,FALSE),\"\")","v":"Lot "},0,{"$f":"IF($A726<>0,VLOOKUP($A726,Liste!$A$10:$W$459,19,FALSE),\"\")","v":0},null,null,null,"Départ à","après vote de la Résolution N°"]
[{"$f":"IF($A726<>0,\"Lot \" & VLOOKUP($A726,Liste!$A$10:$W$459,21,FALSE),\"\")","v":"Lot "},{"$f":"IF($A726<>0,VLOOKUP($A726,Liste!$A$10:$W$459,22,FALSE),\"\")","v":0},{"$f":"IF($A726<>0,VLOOKUP($A726,Liste!$A$10:$W$459,23,FALSE),\"\")","v":0},null,null,null,{"$f":"IF(OR(B727=0,VLOOKUP(A726,Liste!$A$10:'Liste'!$Z$459,26)<>\"\"),\"\", \"Voir autorisation messages électroniques\")","v":"Voir autorisation messages électroniques"}]
[{"$f":"A726+1","v":77},null,null,null,null,null,"Par correspondance reçu le "]
[{"$f":"IF($A735<>0,VLOOKUP($A735,Liste!$A$10:$W$459,3,FALSE),\"\")","v":"Madame"},{"$f":"IF($A735<>0,VLOOKUP($A735,Liste!$A$10:$W$459,4,FALSE),\"\")","v":"LAGRANGE Pierrette"},null,null,{"$f":"IF($A735<>0,VLOOKUP($A735,Liste!$A$10:$W$459,8,FALSE),\"\")","v":70},null,"Par visio, audio conférence,,,,"]
[{"$f":"IF($A735<>0,VLOOKUP($A735,Liste!$A$10:$W$459,5,FALSE),\"\")","v":"19 Rue du Paradis"},null,null,null,null,null,"Signature/ Mandataire :"]
[{"$f":"IF($A735<>0,VLOOKUP($A735,Liste!$A$10:$W$459,6,FALSE),\"\")","v":33000},{"$f":"IF($A735<>0,VLOOKUP($A735,Liste!$A$10:$W$459,7,FALSE),\"\")","v":"Bordeaux"}]
[{"$f":" IF($A735<>0, \"Lot \" & VLOOKUP($A735,Liste!$A$10:$W$459,9,FALSE),\"\")","v":"Lot 77"},{"$f":"IF($A735<>0,VLOOKUP($A735,Liste!$A$10:$W$459,10,FALSE),\"\")","v":"Appart,"},{"$f":"IF($A735<>0,VLOOKUP($A735,Liste!$A$10:$W$459,11,FALSE),\"\")","v":65}]
[{"$f":"IF($A735<>0,\"Lot \" & VLOOKUP($A735,Liste!$A$10:$W$459,12,FALSE),\"\")","v":"Lot 227"},{"$f":"IF($A735<>0,VLOOKUP($A735,Liste!$A$10:$W$459,13,FALSE),\"\")","v":"Cave"},{"$f":"IF($A735<>0,VLOOKUP($A735,Liste!$A$10:$W$459,14,FALSE),\"\")","v":5}]
[{"$f":"IF($A735<>0,\"Lot \" & VLOOKUP($A735,Liste!$A$10:$W$459,15,FALSE),\"\")","v":"Lot "},{"$f":"IF($A735<>0,VLOOKUP($A735,Liste!$A$10:$W$459,16,FALSE),\"\")","v":0},{"$f":"IF($A735<>0,VLOOKUP($A735,Liste!$A$10:$W$459,17,FALSE),\"\")","v":0},null,null,null,"Arrivé à","après vote de la Résolution N°"]
[{"$f":"IF($A735<>0,\"Lot \" & VLOOKUP($A735,Liste!$A$10:$W$459,18,FALSE),\"\")","v":"Lot "},0,{"$f":"IF($A735<>0,VLOOKUP($A735,Liste!$A$10:$W$459,19,FALSE),\"\")","v":0},null,null,null,"Départ à","après vote de la Résolution N°"]
[{"$f":"IF($A735<>0,\"Lot \" & VLOOKUP($A735,Liste!$A$10:$W$459,21,FALSE),\"\")","v":"Lot "},{"$f":"IF($A735<>0,VLOOKUP($A735,Liste!$A$10:$W$459,22,FALSE),\"\")","v":0},{"$f":"IF($A735<>0,VLOOKUP($A735,Liste!$A$10:$W$459,23,FALSE),\"\")","v":0},null,null,null,{"$f":"IF(OR(B736=0,VLOOKUP(A735,Liste!$A$10:'Liste'!$Z$459,26)<>\"\"),\"\", \"Voir autorisation messages électroniques\")","v":"Voir autorisation messages électroniques"}]
[{"$f":"A735+1","v":78},null,null,null,null,null,"Par correspondance reçu le "]
[{"$f":"IF($A744<>0,VLOOKUP($A744,Liste!$A$10:$W$459,3,FALSE),\"\")","v":"Monsieur"},{"$f":"IF($A744<>0,VLOOKUP($A744,Liste!$A$10:$W$459,4,FALSE),\"\")","v":"LANVIN Christophe"},null,null,{"$f":"IF($A744<>0,VLOOKUP($A744,Liste!$A$10:$W$459,8,FALSE),\"\")","v":50},null,"Par visio, audio conférence,,,,"]
[{"$f":"IF($A744<>0,VLOOKUP($A744,Liste!$A$10:$W$459,5,FALSE),\"\")","v":"19 Rue du Paradis"},null,null,null,null,null,"Signature/ Mandataire :"]
[{"$f":"IF($A744<>0,VLOOKUP($A744,Liste!$A$10:$W$459,6,FALSE),\"\")","v":33000},{"$f":"IF($A744<>0,VLOOKUP($A744,Liste!$A$10:$W$459,7,FALSE),\"\")","v":"Bordeaux"}]
[{"$f":" IF($A744<>0, \"Lot \" & VLOOKUP($A744,Liste!$A$10:$W$459,9,FALSE),\"\")","v":"Lot 78"},{"$f":"IF($A744<>0,VLOOKUP($A744,Liste!$A$10:$W$459,10,FALSE),\"\")","v":"Appart,"},{"$f":"IF($A744<>0,VLOOKUP($A744,Liste!$A$10:$W$459,11,FALSE),\"\")","v":45}]
[{"$f":"IF($A744<>0,\"Lot \" & VLOOKUP($A744,Liste!$A$10:$W$459,12,FALSE),\"\")","v":"Lot 228"},{"$f":"IF($A744<>0,VLOOKUP($A744,Liste!$A$10:$W$459,13,FALSE),\"\")","v":"Cave"},{"$f":"IF($A744<>0,VLOOKUP($A744,Liste!$A$10:$W$459,14,FALSE),\"\")","v":5}]
[{"$f":"IF($A744<>0,\"Lot \" & VLOOKUP($A744,Liste!$A$10:$W$459,15,FALSE),\"\")","v":"Lot "},{"$f":"IF($A744<>0,VLOOKUP($A744,Liste!$A$10:$W$459,16,FALSE),\"\")","v":0},{"$f":"IF($A744<>0,VLOOKUP($A744,Liste!$A$10:$W$459,17,FALSE),\"\")","v":0},null,null,null,"Arrivé à","après vote de la Résolution N°"]
[{"$f":"IF($A744<>0,\"Lot \" & VLOOKUP($A744,Liste!$A$10:$W$459,18,FALSE),\"\")","v":"Lot "},0,{"$f":"IF($A744<>0,VLOOKUP($A744,Liste!$A$10:$W$459,19,FALSE),\"\")","v":0},null,null,null,"Départ à","après vote de la Résolution N°"]
[{"$f":"IF($A744<>0,\"Lot \" & VLOOKUP($A744,Liste!$A$10:$W$459,21,FALSE),\"\")","v":"Lot "},{"$f":"IF($A744<>0,VLOOKUP($A744,Liste!$A$10:$W$459,22,FALSE),\"\")","v":0},{"$f":"IF($A744<>0,VLOOKUP($A744,Liste!$A$10:$W$459,23,FALSE),\"\")","v":0},null,null,null,{"$f":"IF(OR(B745=0,VLOOKUP(A744,Liste!$A$10:'Liste'!$Z$459,26)<>\"\"),\"\", \"Voir autorisation messages électroniques\")","v":"Voir autorisation messages électroniques"}]
[{"$f":"A744+1","v":79},null,null,null,null,null,"Par correspondance reçu le "]
[{"$f":"IF($A753<>0,VLOOKUP($A753,Liste!$A$10:$W$459,3,FALSE),\"\")","v":"Madame"},{"$f":"IF($A753<>0,VLOOKUP($A753,Liste!$A$10:$W$459,4,FALSE),\"\")","v":"LARDENOIS Pierrette"},null,null,{"$f":"IF($A753<>0,VLOOKUP($A753,Liste!$A$10:$W$459,8,FALSE),\"\")","v":40},null,"Par visio, audio conférence,,,,"]
[{"$f":"IF($A753<>0,VLOOKUP($A753,Liste!$A$10:$W$459,5,FALSE),\"\")","v":"19 Rue du Paradis"},null,null,null,null,null,"Signature/ Mandataire :"]
[{"$f":"IF($A753<>0,VLOOKUP($A753,Liste!$A$10:$W$459,6,FALSE),\"\")","v":33000},{"$f":"IF($A753<>0,VLOOKUP($A753,Liste!$A$10:$W$459,7,FALSE),\"\")","v":"Bordeaux"}]
[{"$f":" IF($A753<>0, \"Lot \" & VLOOKUP($A753,Liste!$A$10:$W$459,9,FALSE),\"\")","v":"Lot 79"},{"$f":"IF($A753<>0,VLOOKUP($A753,Liste!$A$10:$W$459,10,FALSE),\"\")","v":"Appart,"},{"$f":"IF($A753<>0,VLOOKUP($A753,Liste!$A$10:$W$459,11,FALSE),\"\")","v":35}]
[{"$f":"IF($A753<>0,\"Lot \" & VLOOKUP($A753,Liste!$A$10:$W$459,12,FALSE),\"\")","v":"Lot 229"},{"$f":"IF($A753<>0,VLOOKUP($A753,Liste!$A$10:$W$459,13,FALSE),\"\")","v":"Cave"},{"$f":"IF($A753<>0,VLOOKUP($A753,Liste!$A$10:$W$459,14,FALSE),\"\")","v":5}]
[{"$f":"IF($A753<>0,\"Lot \" & VLOOKUP($A753,Liste!$A$10:$W$459,15,FALSE),\"\")","v":"Lot "},{"$f":"IF($A753<>0,VLOOKUP($A753,Liste!$A$10:$W$459,16,FALSE),\"\")","v":0},{"$f":"IF($A753<>0,VLOOKUP($A753,Liste!$A$10:$W$459,17,FALSE),\"\")","v":0},null,null,null,"Arrivé à","après vote de la Résolution N°"]
[{"$f":"IF($A753<>0,\"Lot \" & VLOOKUP($A753,Liste!$A$10:$W$459,18,FALSE),\"\")","v":"Lot "},0,{"$f":"IF($A753<>0,VLOOKUP($A753,Liste!$A$10:$W$459,19,FALSE),\"\")","v":0},null,null,null,"Départ à","après vote de la Résolution N°"]
[{"$f":"IF($A753<>0,\"Lot \" & VLOOKUP($A753,Liste!$A$10:$W$459,21,FALSE),\"\")","v":"Lot "},{"$f":"IF($A753<>0,VLOOKUP($A753,Liste!$A$10:$W$459,22,FALSE),\"\")","v":0},{"$f":"IF($A753<>0,VLOOKUP($A753,Liste!$A$10:$W$459,23,FALSE),\"\")","v":0},null,null,null,{"$f":"IF(OR(B754=0,VLOOKUP(A753,Liste!$A$10:'Liste'!$Z$459,26)<>\"\"),\"\", \"Voir autorisation messages électroniques\")","v":"Voir autorisation messages électroniques"}]
[{"$f":"A753+1","v":80},null,null,null,null,null,"Par correspondance reçu le "]
[{"$f":"IF($A762<>0,VLOOKUP($A762,Liste!$A$10:$W$459,3,FALSE),\"\")","v":"Madame"},{"$f":"IF($A762<>0,VLOOKUP($A762,Liste!$A$10:$W$459,4,FALSE),\"\")","v":"LATTION Evelyne"},null,null,{"$f":"IF($A762<>0,VLOOKUP($A762,Liste!$A$10:$W$459,8,FALSE),\"\")","v":47},null,"Par visio, audio conférence,,,,"]
[{"$f":"IF($A762<>0,VLOOKUP($A762,Liste!$A$10:$W$459,5,FALSE),\"\")","v":"13 rue de l' espoir"},null,null,null,null,null,"Signature/ Mandataire :"]
[{"$f":"IF($A762<>0,VLOOKUP($A762,Liste!$A$10:$W$459,6,FALSE),\"\")","v":75016},{"$f":"IF($A762<>0,VLOOKUP($A762,Liste!$A$10:$W$459,7,FALSE),\"\")","v":"Paris "}]
[{"$f":" IF($A762<>0, \"Lot \" & VLOOKUP($A762,Liste!$A$10:$W$459,9,FALSE),\"\")","v":"Lot 80"},{"$f":"IF($A762<>0,VLOOKUP($A762,Liste!$A$10:$W$459,10,FALSE),\"\")","v":"Appart,"},{"$f":"IF($A762<>0,VLOOKUP($A762,Liste!$A$10:$W$459,11,FALSE),\"\")","v":42}]
[{"$f":"IF($A762<>0,\"Lot \" & VLOOKUP($A762,Liste!$A$10:$W$459,12,FALSE),\"\")","v":"Lot 230"},{"$f":"IF($A762<>0,VLOOKUP($A762,Liste!$A$10:$W$459,13,FALSE),\"\")","v":"Cave"},{"$f":"IF($A762<>0,VLOOKUP($A762,Liste!$A$10:$W$459,14,FALSE),\"\")","v":5}]
[{"$f":"IF($A762<>0,\"Lot \" & VLOOKUP($A762,Liste!$A$10:$W$459,15,FALSE),\"\")","v":"Lot "},{"$f":"IF($A762<>0,VLOOKUP($A762,Liste!$A$10:$W$459,16,FALSE),\"\")","v":0},{"$f":"IF($A762<>0,VLOOKUP($A762,Liste!$A$10:$W$459,17,FALSE),\"\")","v":0},null,null,null,"Arrivé à","après vote de la Résolution N°"]
[{"$f":"IF($A762<>0,\"Lot \" & VLOOKUP($A762,Liste!$A$10:$W$459,18,FALSE),\"\")","v":"Lot "},0,{"$f":"IF($A762<>0,VLOOKUP($A762,Liste!$A$10:$W$459,19,FALSE),\"\")","v":0},null,null,null,"Départ à","après vote de la Résolution N°"]
[{"$f":"IF($A762<>0,\"Lot \" & VLOOKUP($A762,Liste!$A$10:$W$459,21,FALSE),\"\")","v":"Lot "},{"$f":"IF($A762<>0,VLOOKUP($A762,Liste!$A$10:$W$459,22,FALSE),\"\")","v":0},{"$f":"IF($A762<>0,VLOOKUP($A762,Liste!$A$10:$W$459,23,FALSE),\"\")","v":0},null,null,null,{"$f":"IF(OR(B763=0,VLOOKUP(A762,Liste!$A$10:'Liste'!$Z$459,26)<>\"\"),\"\", \"Voir autorisation messages électroniques\")","v":"Voir autorisation messages électroniques"}]
[]
[null,null,null,"A S S E M B L E E     G E N E R A L E",null,null,null,null,null,null,"Page",{"$f":"L695+1","v":11}]
[null,null,null,null,null,"du","2019-12-20"]
[null,null,null,"Résidence Le Paradis; Rue de l' espoir 75016 PARIS"]
[]
[{"$f":"A762+1","v":81},null,null,null,null,null,"Par correspondance reçu le "]
[{"$f":"IF($A776<>0,VLOOKUP($A776,Liste!$A$10:$W$459,3,FALSE),\"\")","v":"Madame"},{"$f":"IF($A776<>0,VLOOKUP($A776,Liste!$A$10:$W$459,4,FALSE),\"\")","v":"LATTION Evelyne"},null,null,{"$f":"IF($A776<>0,VLOOKUP($A776,Liste!$A$10:$W$459,8,FALSE),\"\")","v":55},null,"Par visio, audio conférence,,,,"]
[{"$f":"IF($A776<>0,VLOOKUP($A776,Liste!$A$10:$W$459,5,FALSE),\"\")","v":"19 Rue du Paradis"},null,null,null,null,null,"Signature/ Mandataire :"]
[{"$f":"IF($A776<>0,VLOOKUP($A776,Liste!$A$10:$W$459,6,FALSE),\"\")","v":33000},{"$f":"IF($A776<>0,VLOOKUP($A776,Liste!$A$10:$W$459,7,FALSE),\"\")","v":"Bordeaux"}]
[{"$f":" IF($A776<>0, \"Lot \" & VLOOKUP($A776,Liste!$A$10:$W$459,9,FALSE),\"\")","v":"Lot 81"},{"$f":"IF($A776<>0,VLOOKUP($A776,Liste!$A$10:$W$459,10,FALSE),\"\")","v":"Appart,"},{"$f":"IF($A776<>0,VLOOKUP($A776,Liste!$A$10:$W$459,11,FALSE),\"\")","v":50}]
[{"$f":"IF($A776<>0,\"Lot \" & VLOOKUP($A776,Liste!$A$10:$W$459,12,FALSE),\"\")","v":"Lot 231"},{"$f":"IF($A776<>0,VLOOKUP($A776,Liste!$A$10:$W$459,13,FALSE),\"\")","v":"Cave"},{"$f":"IF($A776<>0,VLOOKUP($A776,Liste!$A$10:$W$459,14,FALSE),\"\")","v":5}]
[{"$f":"IF($A776<>0,\"Lot \" & VLOOKUP($A776,Liste!$A$10:$W$459,15,FALSE),\"\")","v":"Lot "},{"$f":"IF($A776<>0,VLOOKUP($A776,Liste!$A$10:$W$459,16,FALSE),\"\")","v":0},{"$f":"IF($A776<>0,VLOOKUP($A776,Liste!$A$10:$W$459,17,FALSE),\"\")","v":0},null,null,null,"Arrivé à","après vote de la Résolution N°"]
[{"$f":"IF($A776<>0,\"Lot \" & VLOOKUP($A776,Liste!$A$10:$W$459,18,FALSE),\"\")","v":"Lot "},0,{"$f":"IF($A776<>0,VLOOKUP($A776,Liste!$A$10:$W$459,19,FALSE),\"\")","v":0},null,null,null,"Départ à","après vote de la Résolution N°"]
[{"$f":"IF($A776<>0,\"Lot \" & VLOOKUP($A776,Liste!$A$10:$W$459,21,FALSE),\"\")","v":"Lot "},{"$f":"IF($A776<>0,VLOOKUP($A776,Liste!$A$10:$W$459,22,FALSE),\"\")","v":0},{"$f":"IF($A776<>0,VLOOKUP($A776,Liste!$A$10:$W$459,23,FALSE),\"\")","v":0},null,null,null,{"$f":"IF(OR(B777=0,VLOOKUP(A776,Liste!$A$10:'Liste'!$Z$459,26)<>\"\"),\"\", \"Voir autorisation messages électroniques\")","v":"Voir autorisation messages électroniques"}]
[{"$f":"A776+1","v":82},null,null,null,null,null,"Par correspondance reçu le "]
[{"$f":"IF($A785<>0,VLOOKUP($A785,Liste!$A$10:$W$459,3,FALSE),\"\")","v":"Madame"},{"$f":"IF($A785<>0,VLOOKUP($A785,Liste!$A$10:$W$459,4,FALSE),\"\")","v":"LE SCAVARREC Aline"},null,null,{"$f":"IF($A785<>0,VLOOKUP($A785,Liste!$A$10:$W$459,8,FALSE),\"\")","v":56},null,"Par visio, audio conférence,,,,"]
[{"$f":"IF($A785<>0,VLOOKUP($A785,Liste!$A$10:$W$459,5,FALSE),\"\")","v":"13 rue de l' espoir"},null,null,null,null,null,"Signature/ Mandataire :"]
[{"$f":"IF($A785<>0,VLOOKUP($A785,Liste!$A$10:$W$459,6,FALSE),\"\")","v":75016},{"$f":"IF($A785<>0,VLOOKUP($A785,Liste!$A$10:$W$459,7,FALSE),\"\")","v":"Paris "}]
[{"$f":" IF($A785<>0, \"Lot \" & VLOOKUP($A785,Liste!$A$10:$W$459,9,FALSE),\"\")","v":"Lot 82"},{"$f":"IF($A785<>0,VLOOKUP($A785,Liste!$A$10:$W$459,10,FALSE),\"\")","v":"Appart,"},{"$f":"IF($A785<>0,VLOOKUP($A785,Liste!$A$10:$W$459,11,FALSE),\"\")","v":51}]
[{"$f":"IF($A785<>0,\"Lot \" & VLOOKUP($A785,Liste!$A$10:$W$459,12,FALSE),\"\")","v":"Lot 232"},{"$f":"IF($A785<>0,VLOOKUP($A785,Liste!$A$10:$W$459,13,FALSE),\"\")","v":"Cave"},{"$f":"IF($A785<>0,VLOOKUP($A785,Liste!$A$10:$W$459,14,FALSE),\"\")","v":5}]
[{"$f":"IF($A785<>0,\"Lot \" & VLOOKUP($A785,Liste!$A$10:$W$459,15,FALSE),\"\")","v":"Lot "},{"$f":"IF($A785<>0,VLOOKUP($A785,Liste!$A$10:$W$459,16,FALSE),\"\")","v":0},{"$f":"IF($A785<>0,VLOOKUP($A785,Liste!$A$10:$W$459,17,FALSE),\"\")","v":0},null,null,null,"Arrivé à","après vote de la Résolution N°"]
[{"$f":"IF($A785<>0,\"Lot \" & VLOOKUP($A785,Liste!$A$10:$W$459,18,FALSE),\"\")","v":"Lot "},0,{"$f":"IF($A785<>0,VLOOKUP($A785,Liste!$A$10:$W$459,19,FALSE),\"\")","v":0},null,null,null,"Départ à","après vote de la Résolution N°"]
[{"$f":"IF($A785<>0,\"Lot \" & VLOOKUP($A785,Liste!$A$10:$W$459,21,FALSE),\"\")","v":"Lot "},{"$f":"IF($A785<>0,VLOOKUP($A785,Liste!$A$10:$W$459,22,FALSE),\"\")","v":0},{"$f":"IF($A785<>0,VLOOKUP($A785,Liste!$A$10:$W$459,23,FALSE),\"\")","v":0},null,null,null,{"$f":"IF(OR(B786=0,VLOOKUP(A785,Liste!$A$10:'Liste'!$Z$459,26)<>\"\"),\"\", \"Voir autorisation messages électroniques\")","v":"Voir autorisation messages électroniques"}]
[{"$f":"A785+1","v":83},null,null,null,null,null,"Par correspondance reçu le "]
[{"$f":"IF($A794<>0,VLOOKUP($A794,Liste!$A$10:$W$459,3,FALSE),\"\")","v":"Monsieur Madame"},{"$f":"IF($A794<>0,VLOOKUP($A794,Liste!$A$10:$W$459,4,FALSE),\"\")","v":"LEBON - BOUIC "},null,null,{"$f":"IF($A794<>0,VLOOKUP($A794,Liste!$A$10:$W$459,8,FALSE),\"\")","v":72},null,"Par visio, audio conférence,,,,"]
[{"$f":"IF($A794<>0,VLOOKUP($A794,Liste!$A$10:$W$459,5,FALSE),\"\")","v":"13 rue de l' espoir"},null,null,null,null,null,"Signature/ Mandataire :"]
[{"$f":"IF($A794<>0,VLOOKUP($A794,Liste!$A$10:$W$459,6,FALSE),\"\")","v":75016},{"$f":"IF($A794<>0,VLOOKUP($A794,Liste!$A$10:$W$459,7,FALSE),\"\")","v":"Paris "}]
[{"$f":" IF($A794<>0, \"Lot \" & VLOOKUP($A794,Liste!$A$10:$W$459,9,FALSE),\"\")","v":"Lot 83"},{"$f":"IF($A794<>0,VLOOKUP($A794,Liste!$A$10:$W$459,10,FALSE),\"\")","v":"Appart,"},{"$f":"IF($A794<>0,VLOOKUP($A794,Liste!$A$10:$W$459,11,FALSE),\"\")","v":67}]
[{"$f":"IF($A794<>0,\"Lot \" & VLOOKUP($A794,Liste!$A$10:$W$459,12,FALSE),\"\")","v":"Lot 233"},{"$f":"IF($A794<>0,VLOOKUP($A794,Liste!$A$10:$W$459,13,FALSE),\"\")","v":"Cave"},{"$f":"IF($A794<>0,VLOOKUP($A794,Liste!$A$10:$W$459,14,FALSE),\"\")","v":5}]
[{"$f":"IF($A794<>0,\"Lot \" & VLOOKUP($A794,Liste!$A$10:$W$459,15,FALSE),\"\")","v":"Lot "},{"$f":"IF($A794<>0,VLOOKUP($A794,Liste!$A$10:$W$459,16,FALSE),\"\")","v":0},{"$f":"IF($A794<>0,VLOOKUP($A794,Liste!$A$10:$W$459,17,FALSE),\"\")","v":0},null,null,null,"Arrivé à","après vote de la Résolution N°"]
[{"$f":"IF($A794<>0,\"Lot \" & VLOOKUP($A794,Liste!$A$10:$W$459,18,FALSE),\"\")","v":"Lot "},0,{"$f":"IF($A794<>0,VLOOKUP($A794,Liste!$A$10:$W$459,19,FALSE),\"\")","v":0},null,null,null,"Départ à","après vote de la Résolution N°"]
[{"$f":"IF($A794<>0,\"Lot \" & VLOOKUP($A794,Liste!$A$10:$W$459,21,FALSE),\"\")","v":"Lot "},{"$f":"IF($A794<>0,VLOOKUP($A794,Liste!$A$10:$W$459,22,FALSE),\"\")","v":0},{"$f":"IF($A794<>0,VLOOKUP($A794,Liste!$A$10:$W$459,23,FALSE),\"\")","v":0},null,null,null,{"$f":"IF(OR(B795=0,VLOOKUP(A794,Liste!$A$10:'Liste'!$Z$459,26)<>\"\"),\"\", \"Voir autorisation messages électroniques\")","v":"Voir autorisation messages électroniques"}]
[{"$f":"A794+1","v":84},null,null,null,null,null,"Par correspondance reçu le "]
[{"$f":"IF($A803<>0,VLOOKUP($A803,Liste!$A$10:$W$459,3,FALSE),\"\")","v":"Madame"},{"$f":"IF($A803<>0,VLOOKUP($A803,Liste!$A$10:$W$459,4,FALSE),\"\")","v":"LEBON  Elisabeth"},null,null,{"$f":"IF($A803<>0,VLOOKUP($A803,Liste!$A$10:$W$459,8,FALSE),\"\")","v":90},null,"Par visio, audio conférence,,,,"]
[{"$f":"IF($A803<>0,VLOOKUP($A803,Liste!$A$10:$W$459,5,FALSE),\"\")","v":"13 rue de l' espoir"},null,null,null,null,null,"Signature/ Mandataire :"]
[{"$f":"IF($A803<>0,VLOOKUP($A803,Liste!$A$10:$W$459,6,FALSE),\"\")","v":75016},{"$f":"IF($A803<>0,VLOOKUP($A803,Liste!$A$10:$W$459,7,FALSE),\"\")","v":"Paris "}]
[{"$f":" IF($A803<>0, \"Lot \" & VLOOKUP($A803,Liste!$A$10:$W$459,9,FALSE),\"\")","v":"Lot 84"},{"$f":"IF($A803<>0,VLOOKUP($A803,Liste!$A$10:$W$459,10,FALSE),\"\")","v":"Appart,"},{"$f":"IF($A803<>0,VLOOKUP($A803,Liste!$A$10:$W$459,11,FALSE),\"\")","v":85}]
[{"$f":"IF($A803<>0,\"Lot \" & VLOOKUP($A803,Liste!$A$10:$W$459,12,FALSE),\"\")","v":"Lot 234"},{"$f":"IF($A803<>0,VLOOKUP($A803,Liste!$A$10:$W$459,13,FALSE),\"\")","v":"Cave"},{"$f":"IF($A803<>0,VLOOKUP($A803,Liste!$A$10:$W$459,14,FALSE),\"\")","v":5}]
[{"$f":"IF($A803<>0,\"Lot \" & VLOOKUP($A803,Liste!$A$10:$W$459,15,FALSE),\"\")","v":"Lot "},{"$f":"IF($A803<>0,VLOOKUP($A803,Liste!$A$10:$W$459,16,FALSE),\"\")","v":0},{"$f":"IF($A803<>0,VLOOKUP($A803,Liste!$A$10:$W$459,17,FALSE),\"\")","v":0},null,null,null,"Arrivé à","après vote de la Résolution N°"]
[{"$f":"IF($A803<>0,\"Lot \" & VLOOKUP($A803,Liste!$A$10:$W$459,18,FALSE),\"\")","v":"Lot "},0,{"$f":"IF($A803<>0,VLOOKUP($A803,Liste!$A$10:$W$459,19,FALSE),\"\")","v":0},null,null,null,"Départ à","après vote de la Résolution N°"]
[{"$f":"IF($A803<>0,\"Lot \" & VLOOKUP($A803,Liste!$A$10:$W$459,21,FALSE),\"\")","v":"Lot "},{"$f":"IF($A803<>0,VLOOKUP($A803,Liste!$A$10:$W$459,22,FALSE),\"\")","v":0},{"$f":"IF($A803<>0,VLOOKUP($A803,Liste!$A$10:$W$459,23,FALSE),\"\")","v":0},null,null,null,{"$f":"IF(OR(B804=0,VLOOKUP(A803,Liste!$A$10:'Liste'!$Z$459,26)<>\"\"),\"\", \"Voir autorisation messages électroniques\")","v":"Voir autorisation messages électroniques"}]
[{"$f":"A803+1","v":85},null,null,null,null,null,"Par correspondance reçu le "]
[{"$f":"IF($A812<>0,VLOOKUP($A812,Liste!$A$10:$W$459,3,FALSE),\"\")","v":"Madame"},{"$f":"IF($A812<>0,VLOOKUP($A812,Liste!$A$10:$W$459,4,FALSE),\"\")","v":"LEBORGNE Claudine"},null,null,{"$f":"IF($A812<>0,VLOOKUP($A812,Liste!$A$10:$W$459,8,FALSE),\"\")","v":87},null,"Par visio, audio conférence,,,,"]
[{"$f":"IF($A812<>0,VLOOKUP($A812,Liste!$A$10:$W$459,5,FALSE),\"\")","v":"13 rue de l' espoir"},null,null,null,null,null,"Signature/ Mandataire :"]
[{"$f":"IF($A812<>0,VLOOKUP($A812,Liste!$A$10:$W$459,6,FALSE),\"\")","v":75016},{"$f":"IF($A812<>0,VLOOKUP($A812,Liste!$A$10:$W$459,7,FALSE),\"\")","v":"Paris "}]
[{"$f":" IF($A812<>0, \"Lot \" & VLOOKUP($A812,Liste!$A$10:$W$459,9,FALSE),\"\")","v":"Lot 85"},{"$f":"IF($A812<>0,VLOOKUP($A812,Liste!$A$10:$W$459,10,FALSE),\"\")","v":"Appart,"},{"$f":"IF($A812<>0,VLOOKUP($A812,Liste!$A$10:$W$459,11,FALSE),\"\")","v":82}]
[{"$f":"IF($A812<>0,\"Lot \" & VLOOKUP($A812,Liste!$A$10:$W$459,12,FALSE),\"\")","v":"Lot 235"},{"$f":"IF($A812<>0,VLOOKUP($A812,Liste!$A$10:$W$459,13,FALSE),\"\")","v":"Cave"},{"$f":"IF($A812<>0,VLOOKUP($A812,Liste!$A$10:$W$459,14,FALSE),\"\")","v":5}]
[{"$f":"IF($A812<>0,\"Lot \" & VLOOKUP($A812,Liste!$A$10:$W$459,15,FALSE),\"\")","v":"Lot "},{"$f":"IF($A812<>0,VLOOKUP($A812,Liste!$A$10:$W$459,16,FALSE),\"\")","v":0},{"$f":"IF($A812<>0,VLOOKUP($A812,Liste!$A$10:$W$459,17,FALSE),\"\")","v":0},null,null,null,"Arrivé à","après vote de la Résolution N°"]
[{"$f":"IF($A812<>0,\"Lot \" & VLOOKUP($A812,Liste!$A$10:$W$459,18,FALSE),\"\")","v":"Lot "},0,{"$f":"IF($A812<>0,VLOOKUP($A812,Liste!$A$10:$W$459,19,FALSE),\"\")","v":0},null,null,null,"Départ à","après vote de la Résolution N°"]
[{"$f":"IF($A812<>0,\"Lot \" & VLOOKUP($A812,Liste!$A$10:$W$459,21,FALSE),\"\")","v":"Lot "},{"$f":"IF($A812<>0,VLOOKUP($A812,Liste!$A$10:$W$459,22,FALSE),\"\")","v":0},{"$f":"IF($A812<>0,VLOOKUP($A812,Liste!$A$10:$W$459,23,FALSE),\"\")","v":0},null,null,null,{"$f":"IF(OR(B813=0,VLOOKUP(A812,Liste!$A$10:'Liste'!$Z$459,26)<>\"\"),\"\", \"Voir autorisation messages électroniques\")","v":"Voir autorisation messages électroniques"}]
[{"$f":"A812+1","v":86},null,null,null,null,null,"Par correspondance reçu le "]
[{"$f":"IF($A821<>0,VLOOKUP($A821,Liste!$A$10:$W$459,3,FALSE),\"\")","v":"Mr  et Mme"},{"$f":"IF($A821<>0,VLOOKUP($A821,Liste!$A$10:$W$459,4,FALSE),\"\")","v":"LEFOLLET-LANGLET"},null,null,{"$f":"IF($A821<>0,VLOOKUP($A821,Liste!$A$10:$W$459,8,FALSE),\"\")","v":70},null,"Par visio, audio conférence,,,,"]
[{"$f":"IF($A821<>0,VLOOKUP($A821,Liste!$A$10:$W$459,5,FALSE),\"\")","v":"19 Rue du Paradis"},null,null,null,null,null,"Signature/ Mandataire :"]
[{"$f":"IF($A821<>0,VLOOKUP($A821,Liste!$A$10:$W$459,6,FALSE),\"\")","v":33000},{"$f":"IF($A821<>0,VLOOKUP($A821,Liste!$A$10:$W$459,7,FALSE),\"\")","v":"Bordeaux"}]
[{"$f":" IF($A821<>0, \"Lot \" & VLOOKUP($A821,Liste!$A$10:$W$459,9,FALSE),\"\")","v":"Lot 86"},{"$f":"IF($A821<>0,VLOOKUP($A821,Liste!$A$10:$W$459,10,FALSE),\"\")","v":"Appart,"},{"$f":"IF($A821<>0,VLOOKUP($A821,Liste!$A$10:$W$459,11,FALSE),\"\")","v":65}]
[{"$f":"IF($A821<>0,\"Lot \" & VLOOKUP($A821,Liste!$A$10:$W$459,12,FALSE),\"\")","v":"Lot 236"},{"$f":"IF($A821<>0,VLOOKUP($A821,Liste!$A$10:$W$459,13,FALSE),\"\")","v":"Cave"},{"$f":"IF($A821<>0,VLOOKUP($A821,Liste!$A$10:$W$459,14,FALSE),\"\")","v":5}]
[{"$f":"IF($A821<>0,\"Lot \" & VLOOKUP($A821,Liste!$A$10:$W$459,15,FALSE),\"\")","v":"Lot "},{"$f":"IF($A821<>0,VLOOKUP($A821,Liste!$A$10:$W$459,16,FALSE),\"\")","v":0},{"$f":"IF($A821<>0,VLOOKUP($A821,Liste!$A$10:$W$459,17,FALSE),\"\")","v":0},null,null,null,"Arrivé à","après vote de la Résolution N°"]
[{"$f":"IF($A821<>0,\"Lot \" & VLOOKUP($A821,Liste!$A$10:$W$459,18,FALSE),\"\")","v":"Lot "},0,{"$f":"IF($A821<>0,VLOOKUP($A821,Liste!$A$10:$W$459,19,FALSE),\"\")","v":0},null,null,null,"Départ à","après vote de la Résolution N°"]
[{"$f":"IF($A821<>0,\"Lot \" & VLOOKUP($A821,Liste!$A$10:$W$459,21,FALSE),\"\")","v":"Lot "},{"$f":"IF($A821<>0,VLOOKUP($A821,Liste!$A$10:$W$459,22,FALSE),\"\")","v":0},{"$f":"IF($A821<>0,VLOOKUP($A821,Liste!$A$10:$W$459,23,FALSE),\"\")","v":0},null,null,null,{"$f":"IF(OR(B822=0,VLOOKUP(A821,Liste!$A$10:'Liste'!$Z$459,26)<>\"\"),\"\", \"Voir autorisation messages électroniques\")","v":"Voir autorisation messages électroniques"}]
[{"$f":"A821+1","v":87},null,null,null,null,null,"Par correspondance reçu le "]
[{"$f":"IF($A830<>0,VLOOKUP($A830,Liste!$A$10:$W$459,3,FALSE),\"\")","v":"Madame"},{"$f":"IF($A830<>0,VLOOKUP($A830,Liste!$A$10:$W$459,4,FALSE),\"\")","v":"LEGRAS Simone"},null,null,{"$f":"IF($A830<>0,VLOOKUP($A830,Liste!$A$10:$W$459,8,FALSE),\"\")","v":100},null,"Par visio, audio conférence,,,,"]
[{"$f":"IF($A830<>0,VLOOKUP($A830,Liste!$A$10:$W$459,5,FALSE),\"\")","v":"13 rue de l' espoir"},null,null,null,null,null,"Signature/ Mandataire :"]
[{"$f":"IF($A830<>0,VLOOKUP($A830,Liste!$A$10:$W$459,6,FALSE),\"\")","v":75016},{"$f":"IF($A830<>0,VLOOKUP($A830,Liste!$A$10:$W$459,7,FALSE),\"\")","v":"Paris "}]
[{"$f":" IF($A830<>0, \"Lot \" & VLOOKUP($A830,Liste!$A$10:$W$459,9,FALSE),\"\")","v":"Lot 87"},{"$f":"IF($A830<>0,VLOOKUP($A830,Liste!$A$10:$W$459,10,FALSE),\"\")","v":"Appart,"},{"$f":"IF($A830<>0,VLOOKUP($A830,Liste!$A$10:$W$459,11,FALSE),\"\")","v":95}]
[{"$f":"IF($A830<>0,\"Lot \" & VLOOKUP($A830,Liste!$A$10:$W$459,12,FALSE),\"\")","v":"Lot 237"},{"$f":"IF($A830<>0,VLOOKUP($A830,Liste!$A$10:$W$459,13,FALSE),\"\")","v":"Cave"},{"$f":"IF($A830<>0,VLOOKUP($A830,Liste!$A$10:$W$459,14,FALSE),\"\")","v":5}]
[{"$f":"IF($A830<>0,\"Lot \" & VLOOKUP($A830,Liste!$A$10:$W$459,15,FALSE),\"\")","v":"Lot "},{"$f":"IF($A830<>0,VLOOKUP($A830,Liste!$A$10:$W$459,16,FALSE),\"\")","v":0},{"$f":"IF($A830<>0,VLOOKUP($A830,Liste!$A$10:$W$459,17,FALSE),\"\")","v":0},null,null,null,"Arrivé à","après vote de la Résolution N°"]
[{"$f":"IF($A830<>0,\"Lot \" & VLOOKUP($A830,Liste!$A$10:$W$459,18,FALSE),\"\")","v":"Lot "},0,{"$f":"IF($A830<>0,VLOOKUP($A830,Liste!$A$10:$W$459,19,FALSE),\"\")","v":0},null,null,null,"Départ à","après vote de la Résolution N°"]
[{"$f":"IF($A830<>0,\"Lot \" & VLOOKUP($A830,Liste!$A$10:$W$459,21,FALSE),\"\")","v":"Lot "},{"$f":"IF($A830<>0,VLOOKUP($A830,Liste!$A$10:$W$459,22,FALSE),\"\")","v":0},{"$f":"IF($A830<>0,VLOOKUP($A830,Liste!$A$10:$W$459,23,FALSE),\"\")","v":0},null,null,null,{"$f":"IF(OR(B831=0,VLOOKUP(A830,Liste!$A$10:'Liste'!$Z$459,26)<>\"\"),\"\", \"Voir autorisation messages électroniques\")","v":"Voir autorisation messages électroniques"}]
[{"$f":"A830+1","v":88},null,null,null,null,null,"Par correspondance reçu le "]
[{"$f":"IF($A839<>0,VLOOKUP($A839,Liste!$A$10:$W$459,3,FALSE),\"\")","v":"Madame"},{"$f":"IF($A839<>0,VLOOKUP($A839,Liste!$A$10:$W$459,4,FALSE),\"\")","v":"LESTOURNELLE "},null,null,{"$f":"IF($A839<>0,VLOOKUP($A839,Liste!$A$10:$W$459,8,FALSE),\"\")","v":86},null,"Par visio, audio conférence,,,,"]
[{"$f":"IF($A839<>0,VLOOKUP($A839,Liste!$A$10:$W$459,5,FALSE),\"\")","v":"13 rue de l' espoir"},null,null,null,null,null,"Signature/ Mandataire :"]
[{"$f":"IF($A839<>0,VLOOKUP($A839,Liste!$A$10:$W$459,6,FALSE),\"\")","v":75016},{"$f":"IF($A839<>0,VLOOKUP($A839,Liste!$A$10:$W$459,7,FALSE),\"\")","v":"Paris "}]
[{"$f":" IF($A839<>0, \"Lot \" & VLOOKUP($A839,Liste!$A$10:$W$459,9,FALSE),\"\")","v":"Lot 88"},{"$f":"IF($A839<>0,VLOOKUP($A839,Liste!$A$10:$W$459,10,FALSE),\"\")","v":"Appart,"},{"$f":"IF($A839<>0,VLOOKUP($A839,Liste!$A$10:$W$459,11,FALSE),\"\")","v":81}]
[{"$f":"IF($A839<>0,\"Lot \" & VLOOKUP($A839,Liste!$A$10:$W$459,12,FALSE),\"\")","v":"Lot 238"},{"$f":"IF($A839<>0,VLOOKUP($A839,Liste!$A$10:$W$459,13,FALSE),\"\")","v":"Cave"},{"$f":"IF($A839<>0,VLOOKUP($A839,Liste!$A$10:$W$459,14,FALSE),\"\")","v":5}]
[{"$f":"IF($A839<>0,\"Lot \" & VLOOKUP($A839,Liste!$A$10:$W$459,15,FALSE),\"\")","v":"Lot "},{"$f":"IF($A839<>0,VLOOKUP($A839,Liste!$A$10:$W$459,16,FALSE),\"\")","v":0},{"$f":"IF($A839<>0,VLOOKUP($A839,Liste!$A$10:$W$459,17,FALSE),\"\")","v":0},null,null,null,"Arrivé à","après vote de la Résolution N°"]
[{"$f":"IF($A839<>0,\"Lot \" & VLOOKUP($A839,Liste!$A$10:$W$459,18,FALSE),\"\")","v":"Lot "},0,{"$f":"IF($A839<>0,VLOOKUP($A839,Liste!$A$10:$W$459,19,FALSE),\"\")","v":0},null,null,null,"Départ à","après vote de la Résolution N°"]
[{"$f":"IF($A839<>0,\"Lot \" & VLOOKUP($A839,Liste!$A$10:$W$459,21,FALSE),\"\")","v":"Lot "},{"$f":"IF($A839<>0,VLOOKUP($A839,Liste!$A$10:$W$459,22,FALSE),\"\")","v":0},{"$f":"IF($A839<>0,VLOOKUP($A839,Liste!$A$10:$W$459,23,FALSE),\"\")","v":0},null,null,null,{"$f":"IF(OR(B840=0,VLOOKUP(A839,Liste!$A$10:'Liste'!$Z$459,26)<>\"\"),\"\", \"Voir autorisation messages électroniques\")","v":"Voir autorisation messages électroniques"}]
[]
[null,null,null,"A S S E M B L E E     G E N E R A L E",null,null,null,null,null,null,"Page",{"$f":"L772+1","v":12}]
[null,null,null,null,null,"du","2019-12-20"]
[null,null,null,"Résidence Le Paradis; Rue de l' espoir 75016 PARIS"]
[]
[{"$f":"A839+1","v":89},null,null,null,null,null,"Par correspondance reçu le "]
[{"$f":"IF($A853<>0,VLOOKUP($A853,Liste!$A$10:$W$459,3,FALSE),\"\")","v":"Monsieur"},{"$f":"IF($A853<>0,VLOOKUP($A853,Liste!$A$10:$W$459,4,FALSE),\"\")","v":"LIGOT Jacques"},null,null,{"$f":"IF($A853<>0,VLOOKUP($A853,Liste!$A$10:$W$459,8,FALSE),\"\")","v":50},null,"Par visio, audio conférence,,,,"]
[{"$f":"IF($A853<>0,VLOOKUP($A853,Liste!$A$10:$W$459,5,FALSE),\"\")","v":"19 Rue du Paradis"},null,null,null,null,null,"Signature/ Mandataire :"]
[{"$f":"IF($A853<>0,VLOOKUP($A853,Liste!$A$10:$W$459,6,FALSE),\"\")","v":33000},{"$f":"IF($A853<>0,VLOOKUP($A853,Liste!$A$10:$W$459,7,FALSE),\"\")","v":"Bordeaux"}]
[{"$f":" IF($A853<>0, \"Lot \" & VLOOKUP($A853,Liste!$A$10:$W$459,9,FALSE),\"\")","v":"Lot 89"},{"$f":"IF($A853<>0,VLOOKUP($A853,Liste!$A$10:$W$459,10,FALSE),\"\")","v":"Appart,"},{"$f":"IF($A853<>0,VLOOKUP($A853,Liste!$A$10:$W$459,11,FALSE),\"\")","v":45}]
[{"$f":"IF($A853<>0,\"Lot \" & VLOOKUP($A853,Liste!$A$10:$W$459,12,FALSE),\"\")","v":"Lot 239"},{"$f":"IF($A853<>0,VLOOKUP($A853,Liste!$A$10:$W$459,13,FALSE),\"\")","v":"Cave"},{"$f":"IF($A853<>0,VLOOKUP($A853,Liste!$A$10:$W$459,14,FALSE),\"\")","v":5}]
[{"$f":"IF($A853<>0,\"Lot \" & VLOOKUP($A853,Liste!$A$10:$W$459,15,FALSE),\"\")","v":"Lot "},{"$f":"IF($A853<>0,VLOOKUP($A853,Liste!$A$10:$W$459,16,FALSE),\"\")","v":0},{"$f":"IF($A853<>0,VLOOKUP($A853,Liste!$A$10:$W$459,17,FALSE),\"\")","v":0},null,null,null,"Arrivé à","après vote de la Résolution N°"]
[{"$f":"IF($A853<>0,\"Lot \" & VLOOKUP($A853,Liste!$A$10:$W$459,18,FALSE),\"\")","v":"Lot "},0,{"$f":"IF($A853<>0,VLOOKUP($A853,Liste!$A$10:$W$459,19,FALSE),\"\")","v":0},null,null,null,"Départ à","après vote de la Résolution N°"]
[{"$f":"IF($A853<>0,\"Lot \" & VLOOKUP($A853,Liste!$A$10:$W$459,21,FALSE),\"\")","v":"Lot "},{"$f":"IF($A853<>0,VLOOKUP($A853,Liste!$A$10:$W$459,22,FALSE),\"\")","v":0},{"$f":"IF($A853<>0,VLOOKUP($A853,Liste!$A$10:$W$459,23,FALSE),\"\")","v":0},null,null,null,{"$f":"IF(OR(B854=0,VLOOKUP(A853,Liste!$A$10:'Liste'!$Z$459,26)<>\"\"),\"\", \"Voir autorisation messages électroniques\")","v":"Voir autorisation messages électroniques"}]
[{"$f":"A853+1","v":90},null,null,null,null,null,"Par correspondance reçu le "]
[{"$f":"IF($A862<>0,VLOOKUP($A862,Liste!$A$10:$W$459,3,FALSE),\"\")","v":"Monieur"},{"$f":"IF($A862<>0,VLOOKUP($A862,Liste!$A$10:$W$459,4,FALSE),\"\")","v":"LOPEZ Pierre"},null,null,{"$f":"IF($A862<>0,VLOOKUP($A862,Liste!$A$10:$W$459,8,FALSE),\"\")","v":40},null,"Par visio, audio conférence,,,,"]
[{"$f":"IF($A862<>0,VLOOKUP($A862,Liste!$A$10:$W$459,5,FALSE),\"\")","v":"13 rue de l' espoir"},null,null,null,null,null,"Signature/ Mandataire :"]
[{"$f":"IF($A862<>0,VLOOKUP($A862,Liste!$A$10:$W$459,6,FALSE),\"\")","v":75016},{"$f":"IF($A862<>0,VLOOKUP($A862,Liste!$A$10:$W$459,7,FALSE),\"\")","v":"Paris "}]
[{"$f":" IF($A862<>0, \"Lot \" & VLOOKUP($A862,Liste!$A$10:$W$459,9,FALSE),\"\")","v":"Lot 90"},{"$f":"IF($A862<>0,VLOOKUP($A862,Liste!$A$10:$W$459,10,FALSE),\"\")","v":"Appart,"},{"$f":"IF($A862<>0,VLOOKUP($A862,Liste!$A$10:$W$459,11,FALSE),\"\")","v":35}]
[{"$f":"IF($A862<>0,\"Lot \" & VLOOKUP($A862,Liste!$A$10:$W$459,12,FALSE),\"\")","v":"Lot 240"},{"$f":"IF($A862<>0,VLOOKUP($A862,Liste!$A$10:$W$459,13,FALSE),\"\")","v":"Cave"},{"$f":"IF($A862<>0,VLOOKUP($A862,Liste!$A$10:$W$459,14,FALSE),\"\")","v":5}]
[{"$f":"IF($A862<>0,\"Lot \" & VLOOKUP($A862,Liste!$A$10:$W$459,15,FALSE),\"\")","v":"Lot "},{"$f":"IF($A862<>0,VLOOKUP($A862,Liste!$A$10:$W$459,16,FALSE),\"\")","v":0},{"$f":"IF($A862<>0,VLOOKUP($A862,Liste!$A$10:$W$459,17,FALSE),\"\")","v":0},null,null,null,"Arrivé à","après vote de la Résolution N°"]
[{"$f":"IF($A862<>0,\"Lot \" & VLOOKUP($A862,Liste!$A$10:$W$459,18,FALSE),\"\")","v":"Lot "},0,{"$f":"IF($A862<>0,VLOOKUP($A862,Liste!$A$10:$W$459,19,FALSE),\"\")","v":0},null,null,null,"Départ à","après vote de la Résolution N°"]
[{"$f":"IF($A862<>0,\"Lot \" & VLOOKUP($A862,Liste!$A$10:$W$459,21,FALSE),\"\")","v":"Lot "},{"$f":"IF($A862<>0,VLOOKUP($A862,Liste!$A$10:$W$459,22,FALSE),\"\")","v":0},{"$f":"IF($A862<>0,VLOOKUP($A862,Liste!$A$10:$W$459,23,FALSE),\"\")","v":0},null,null,null,{"$f":"IF(OR(B863=0,VLOOKUP(A862,Liste!$A$10:'Liste'!$Z$459,26)<>\"\"),\"\", \"Voir autorisation messages électroniques\")","v":"Voir autorisation messages électroniques"}]
[{"$f":"A862+1","v":91},null,null,null,null,null,"Par correspondance reçu le "]
[{"$f":"IF($A871<>0,VLOOKUP($A871,Liste!$A$10:$W$459,3,FALSE),\"\")","v":"Madame"},{"$f":"IF($A871<>0,VLOOKUP($A871,Liste!$A$10:$W$459,4,FALSE),\"\")","v":"LOUNES Jeannette"},null,null,{"$f":"IF($A871<>0,VLOOKUP($A871,Liste!$A$10:$W$459,8,FALSE),\"\")","v":96},null,"Par visio, audio conférence,,,,"]
[{"$f":"IF($A871<>0,VLOOKUP($A871,Liste!$A$10:$W$459,5,FALSE),\"\")","v":"13 rue de l' espoir"},null,null,null,null,null,"Signature/ Mandataire :"]
[{"$f":"IF($A871<>0,VLOOKUP($A871,Liste!$A$10:$W$459,6,FALSE),\"\")","v":75016},{"$f":"IF($A871<>0,VLOOKUP($A871,Liste!$A$10:$W$459,7,FALSE),\"\")","v":"Paris "}]
[{"$f":" IF($A871<>0, \"Lot \" & VLOOKUP($A871,Liste!$A$10:$W$459,9,FALSE),\"\")","v":"Lot 91"},{"$f":"IF($A871<>0,VLOOKUP($A871,Liste!$A$10:$W$459,10,FALSE),\"\")","v":"Appart,"},{"$f":"IF($A871<>0,VLOOKUP($A871,Liste!$A$10:$W$459,11,FALSE),\"\")","v":91}]
[{"$f":"IF($A871<>0,\"Lot \" & VLOOKUP($A871,Liste!$A$10:$W$459,12,FALSE),\"\")","v":"Lot 241"},{"$f":"IF($A871<>0,VLOOKUP($A871,Liste!$A$10:$W$459,13,FALSE),\"\")","v":"Cave"},{"$f":"IF($A871<>0,VLOOKUP($A871,Liste!$A$10:$W$459,14,FALSE),\"\")","v":5}]
[{"$f":"IF($A871<>0,\"Lot \" & VLOOKUP($A871,Liste!$A$10:$W$459,15,FALSE),\"\")","v":"Lot "},{"$f":"IF($A871<>0,VLOOKUP($A871,Liste!$A$10:$W$459,16,FALSE),\"\")","v":0},{"$f":"IF($A871<>0,VLOOKUP($A871,Liste!$A$10:$W$459,17,FALSE),\"\")","v":0},null,null,null,"Arrivé à","après vote de la Résolution N°"]
[{"$f":"IF($A871<>0,\"Lot \" & VLOOKUP($A871,Liste!$A$10:$W$459,18,FALSE),\"\")","v":"Lot "},0,{"$f":"IF($A871<>0,VLOOKUP($A871,Liste!$A$10:$W$459,19,FALSE),\"\")","v":0},null,null,null,"Départ à","après vote de la Résolution N°"]
[{"$f":"IF($A871<>0,\"Lot \" & VLOOKUP($A871,Liste!$A$10:$W$459,21,FALSE),\"\")","v":"Lot "},{"$f":"IF($A871<>0,VLOOKUP($A871,Liste!$A$10:$W$459,22,FALSE),\"\")","v":0},{"$f":"IF($A871<>0,VLOOKUP($A871,Liste!$A$10:$W$459,23,FALSE),\"\")","v":0},null,null,null,{"$f":"IF(OR(B872=0,VLOOKUP(A871,Liste!$A$10:'Liste'!$Z$459,26)<>\"\"),\"\", \"Voir autorisation messages électroniques\")","v":"Voir autorisation messages électroniques"}]
[{"$f":"A871+1","v":92},null,null,null,null,null,"Par correspondance reçu le "]
[{"$f":"IF($A880<>0,VLOOKUP($A880,Liste!$A$10:$W$459,3,FALSE),\"\")","v":"Monieur"},{"$f":"IF($A880<>0,VLOOKUP($A880,Liste!$A$10:$W$459,4,FALSE),\"\")","v":"MAACK - BRUNETEAU Dominique"},null,null,{"$f":"IF($A880<>0,VLOOKUP($A880,Liste!$A$10:$W$459,8,FALSE),\"\")","v":50},null,"Par visio, audio conférence,,,,"]
[{"$f":"IF($A880<>0,VLOOKUP($A880,Liste!$A$10:$W$459,5,FALSE),\"\")","v":"13 rue de l' espoir"},null,null,null,null,null,"Signature/ Mandataire :"]
[{"$f":"IF($A880<>0,VLOOKUP($A880,Liste!$A$10:$W$459,6,FALSE),\"\")","v":75016},{"$f":"IF($A880<>0,VLOOKUP($A880,Liste!$A$10:$W$459,7,FALSE),\"\")","v":"Paris "}]
[{"$f":" IF($A880<>0, \"Lot \" & VLOOKUP($A880,Liste!$A$10:$W$459,9,FALSE),\"\")","v":"Lot 92"},{"$f":"IF($A880<>0,VLOOKUP($A880,Liste!$A$10:$W$459,10,FALSE),\"\")","v":"Appart,"},{"$f":"IF($A880<>0,VLOOKUP($A880,Liste!$A$10:$W$459,11,FALSE),\"\")","v":45}]
[{"$f":"IF($A880<>0,\"Lot \" & VLOOKUP($A880,Liste!$A$10:$W$459,12,FALSE),\"\")","v":"Lot 242"},{"$f":"IF($A880<>0,VLOOKUP($A880,Liste!$A$10:$W$459,13,FALSE),\"\")","v":"Cave"},{"$f":"IF($A880<>0,VLOOKUP($A880,Liste!$A$10:$W$459,14,FALSE),\"\")","v":5}]
[{"$f":"IF($A880<>0,\"Lot \" & VLOOKUP($A880,Liste!$A$10:$W$459,15,FALSE),\"\")","v":"Lot "},{"$f":"IF($A880<>0,VLOOKUP($A880,Liste!$A$10:$W$459,16,FALSE),\"\")","v":0},{"$f":"IF($A880<>0,VLOOKUP($A880,Liste!$A$10:$W$459,17,FALSE),\"\")","v":0},null,null,null,"Arrivé à","après vote de la Résolution N°"]
[{"$f":"IF($A880<>0,\"Lot \" & VLOOKUP($A880,Liste!$A$10:$W$459,18,FALSE),\"\")","v":"Lot "},0,{"$f":"IF($A880<>0,VLOOKUP($A880,Liste!$A$10:$W$459,19,FALSE),\"\")","v":0},null,null,null,"Départ à","après vote de la Résolution N°"]
[{"$f":"IF($A880<>0,\"Lot \" & VLOOKUP($A880,Liste!$A$10:$W$459,21,FALSE),\"\")","v":"Lot "},{"$f":"IF($A880<>0,VLOOKUP($A880,Liste!$A$10:$W$459,22,FALSE),\"\")","v":0},{"$f":"IF($A880<>0,VLOOKUP($A880,Liste!$A$10:$W$459,23,FALSE),\"\")","v":0},null,null,null,{"$f":"IF(OR(B881=0,VLOOKUP(A880,Liste!$A$10:'Liste'!$Z$459,26)<>\"\"),\"\", \"Voir autorisation messages électroniques\")","v":"Voir autorisation messages électroniques"}]
[{"$f":"A880+1","v":93},null,null,null,null,null,"Par correspondance reçu le "]
[{"$f":"IF($A889<>0,VLOOKUP($A889,Liste!$A$10:$W$459,3,FALSE),\"\")","v":"Madame"},{"$f":"IF($A889<>0,VLOOKUP($A889,Liste!$A$10:$W$459,4,FALSE),\"\")","v":"MAACK - BUREU Denise"},null,null,{"$f":"IF($A889<>0,VLOOKUP($A889,Liste!$A$10:$W$459,8,FALSE),\"\")","v":80},null,"Par visio, audio conférence,,,,"]
[{"$f":"IF($A889<>0,VLOOKUP($A889,Liste!$A$10:$W$459,5,FALSE),\"\")","v":"13 rue de l' espoir"},null,null,null,null,null,"Signature/ Mandataire :"]
[{"$f":"IF($A889<>0,VLOOKUP($A889,Liste!$A$10:$W$459,6,FALSE),\"\")","v":75016},{"$f":"IF($A889<>0,VLOOKUP($A889,Liste!$A$10:$W$459,7,FALSE),\"\")","v":"Paris "}]
[{"$f":" IF($A889<>0, \"Lot \" & VLOOKUP($A889,Liste!$A$10:$W$459,9,FALSE),\"\")","v":"Lot 93"},{"$f":"IF($A889<>0,VLOOKUP($A889,Liste!$A$10:$W$459,10,FALSE),\"\")","v":"Appart,"},{"$f":"IF($A889<>0,VLOOKUP($A889,Liste!$A$10:$W$459,11,FALSE),\"\")","v":75}]
[{"$f":"IF($A889<>0,\"Lot \" & VLOOKUP($A889,Liste!$A$10:$W$459,12,FALSE),\"\")","v":"Lot 243"},{"$f":"IF($A889<>0,VLOOKUP($A889,Liste!$A$10:$W$459,13,FALSE),\"\")","v":"Cave"},{"$f":"IF($A889<>0,VLOOKUP($A889,Liste!$A$10:$W$459,14,FALSE),\"\")","v":5}]
[{"$f":"IF($A889<>0,\"Lot \" & VLOOKUP($A889,Liste!$A$10:$W$459,15,FALSE),\"\")","v":"Lot "},{"$f":"IF($A889<>0,VLOOKUP($A889,Liste!$A$10:$W$459,16,FALSE),\"\")","v":0},{"$f":"IF($A889<>0,VLOOKUP($A889,Liste!$A$10:$W$459,17,FALSE),\"\")","v":0},null,null,null,"Arrivé à","après vote de la Résolution N°"]
[{"$f":"IF($A889<>0,\"Lot \" & VLOOKUP($A889,Liste!$A$10:$W$459,18,FALSE),\"\")","v":"Lot "},0,{"$f":"IF($A889<>0,VLOOKUP($A889,Liste!$A$10:$W$459,19,FALSE),\"\")","v":0},null,null,null,"Départ à","après vote de la Résolution N°"]
[{"$f":"IF($A889<>0,\"Lot \" & VLOOKUP($A889,Liste!$A$10:$W$459,21,FALSE),\"\")","v":"Lot "},{"$f":"IF($A889<>0,VLOOKUP($A889,Liste!$A$10:$W$459,22,FALSE),\"\")","v":0},{"$f":"IF($A889<>0,VLOOKUP($A889,Liste!$A$10:$W$459,23,FALSE),\"\")","v":0},null,null,null,{"$f":"IF(OR(B890=0,VLOOKUP(A889,Liste!$A$10:'Liste'!$Z$459,26)<>\"\"),\"\", \"Voir autorisation messages électroniques\")","v":"Voir autorisation messages électroniques"}]
[{"$f":"A889+1","v":94},null,null,null,null,null,"Par correspondance reçu le "]
[{"$f":"IF($A898<>0,VLOOKUP($A898,Liste!$A$10:$W$459,3,FALSE),\"\")","v":"Monieur"},{"$f":"IF($A898<>0,VLOOKUP($A898,Liste!$A$10:$W$459,4,FALSE),\"\")","v":"MACQUET "},null,null,{"$f":"IF($A898<>0,VLOOKUP($A898,Liste!$A$10:$W$459,8,FALSE),\"\")","v":62},null,"Par visio, audio conférence,,,,"]
[{"$f":"IF($A898<>0,VLOOKUP($A898,Liste!$A$10:$W$459,5,FALSE),\"\")","v":"13 rue de l' espoir"},null,null,null,null,null,"Signature/ Mandataire :"]
[{"$f":"IF($A898<>0,VLOOKUP($A898,Liste!$A$10:$W$459,6,FALSE),\"\")","v":75016},{"$f":"IF($A898<>0,VLOOKUP($A898,Liste!$A$10:$W$459,7,FALSE),\"\")","v":"Paris "}]
[{"$f":" IF($A898<>0, \"Lot \" & VLOOKUP($A898,Liste!$A$10:$W$459,9,FALSE),\"\")","v":"Lot 94"},{"$f":"IF($A898<>0,VLOOKUP($A898,Liste!$A$10:$W$459,10,FALSE),\"\")","v":"Appart,"},{"$f":"IF($A898<>0,VLOOKUP($A898,Liste!$A$10:$W$459,11,FALSE),\"\")","v":57}]
[{"$f":"IF($A898<>0,\"Lot \" & VLOOKUP($A898,Liste!$A$10:$W$459,12,FALSE),\"\")","v":"Lot 244"},{"$f":"IF($A898<>0,VLOOKUP($A898,Liste!$A$10:$W$459,13,FALSE),\"\")","v":"Cave"},{"$f":"IF($A898<>0,VLOOKUP($A898,Liste!$A$10:$W$459,14,FALSE),\"\")","v":5}]
[{"$f":"IF($A898<>0,\"Lot \" & VLOOKUP($A898,Liste!$A$10:$W$459,15,FALSE),\"\")","v":"Lot "},{"$f":"IF($A898<>0,VLOOKUP($A898,Liste!$A$10:$W$459,16,FALSE),\"\")","v":0},{"$f":"IF($A898<>0,VLOOKUP($A898,Liste!$A$10:$W$459,17,FALSE),\"\")","v":0},null,null,null,"Arrivé à","après vote de la Résolution N°"]
[{"$f":"IF($A898<>0,\"Lot \" & VLOOKUP($A898,Liste!$A$10:$W$459,18,FALSE),\"\")","v":"Lot "},0,{"$f":"IF($A898<>0,VLOOKUP($A898,Liste!$A$10:$W$459,19,FALSE),\"\")","v":0},null,null,null,"Départ à","après vote de la Résolution N°"]
[{"$f":"IF($A898<>0,\"Lot \" & VLOOKUP($A898,Liste!$A$10:$W$459,21,FALSE),\"\")","v":"Lot "},{"$f":"IF($A898<>0,VLOOKUP($A898,Liste!$A$10:$W$459,22,FALSE),\"\")","v":0},{"$f":"IF($A898<>0,VLOOKUP($A898,Liste!$A$10:$W$459,23,FALSE),\"\")","v":0},null,null,null,{"$f":"IF(OR(B899=0,VLOOKUP(A898,Liste!$A$10:'Liste'!$Z$459,26)<>\"\"),\"\", \"Voir autorisation messages électroniques\")","v":"Voir autorisation messages électroniques"}]
[{"$f":"A898+1","v":95},null,null,null,null,null,"Par correspondance reçu le "]
[{"$f":"IF($A907<>0,VLOOKUP($A907,Liste!$A$10:$W$459,3,FALSE),\"\")","v":"Madame"},{"$f":"IF($A907<>0,VLOOKUP($A907,Liste!$A$10:$W$459,4,FALSE),\"\")","v":"MALARTIC Odile"},null,null,{"$f":"IF($A907<>0,VLOOKUP($A907,Liste!$A$10:$W$459,8,FALSE),\"\")","v":63},null,"Par visio, audio conférence,,,,"]
[{"$f":"IF($A907<>0,VLOOKUP($A907,Liste!$A$10:$W$459,5,FALSE),\"\")","v":"13 rue de l' espoir"},null,null,null,null,null,"Signature/ Mandataire :"]
[{"$f":"IF($A907<>0,VLOOKUP($A907,Liste!$A$10:$W$459,6,FALSE),\"\")","v":75016},{"$f":"IF($A907<>0,VLOOKUP($A907,Liste!$A$10:$W$459,7,FALSE),\"\")","v":"Paris "}]
[{"$f":" IF($A907<>0, \"Lot \" & VLOOKUP($A907,Liste!$A$10:$W$459,9,FALSE),\"\")","v":"Lot 95"},{"$f":"IF($A907<>0,VLOOKUP($A907,Liste!$A$10:$W$459,10,FALSE),\"\")","v":"Appart,"},{"$f":"IF($A907<>0,VLOOKUP($A907,Liste!$A$10:$W$459,11,FALSE),\"\")","v":58}]
[{"$f":"IF($A907<>0,\"Lot \" & VLOOKUP($A907,Liste!$A$10:$W$459,12,FALSE),\"\")","v":"Lot 245"},{"$f":"IF($A907<>0,VLOOKUP($A907,Liste!$A$10:$W$459,13,FALSE),\"\")","v":"Cave"},{"$f":"IF($A907<>0,VLOOKUP($A907,Liste!$A$10:$W$459,14,FALSE),\"\")","v":5}]
[{"$f":"IF($A907<>0,\"Lot \" & VLOOKUP($A907,Liste!$A$10:$W$459,15,FALSE),\"\")","v":"Lot "},{"$f":"IF($A907<>0,VLOOKUP($A907,Liste!$A$10:$W$459,16,FALSE),\"\")","v":0},{"$f":"IF($A907<>0,VLOOKUP($A907,Liste!$A$10:$W$459,17,FALSE),\"\")","v":0},null,null,null,"Arrivé à","après vote de la Résolution N°"]
[{"$f":"IF($A907<>0,\"Lot \" & VLOOKUP($A907,Liste!$A$10:$W$459,18,FALSE),\"\")","v":"Lot "},0,{"$f":"IF($A907<>0,VLOOKUP($A907,Liste!$A$10:$W$459,19,FALSE),\"\")","v":0},null,null,null,"Départ à","après vote de la Résolution N°"]
[{"$f":"IF($A907<>0,\"Lot \" & VLOOKUP($A907,Liste!$A$10:$W$459,21,FALSE),\"\")","v":"Lot "},{"$f":"IF($A907<>0,VLOOKUP($A907,Liste!$A$10:$W$459,22,FALSE),\"\")","v":0},{"$f":"IF($A907<>0,VLOOKUP($A907,Liste!$A$10:$W$459,23,FALSE),\"\")","v":0},null,null,null,{"$f":"IF(OR(B908=0,VLOOKUP(A907,Liste!$A$10:'Liste'!$Z$459,26)<>\"\"),\"\", \"Voir autorisation messages électroniques\")","v":""}]
[{"$f":"A907+1","v":96},null,null,null,null,null,"Par correspondance reçu le "]
[{"$f":"IF($A916<>0,VLOOKUP($A916,Liste!$A$10:$W$459,3,FALSE),\"\")","v":"Madame"},{"$f":"IF($A916<>0,VLOOKUP($A916,Liste!$A$10:$W$459,4,FALSE),\"\")","v":"MANDARD Jacqueline"},null,null,{"$f":"IF($A916<>0,VLOOKUP($A916,Liste!$A$10:$W$459,8,FALSE),\"\")","v":70},null,"Par visio, audio conférence,,,,"]
[{"$f":"IF($A916<>0,VLOOKUP($A916,Liste!$A$10:$W$459,5,FALSE),\"\")","v":"19 Rue du Paradis"},null,null,null,null,null,"Signature/ Mandataire :"]
[{"$f":"IF($A916<>0,VLOOKUP($A916,Liste!$A$10:$W$459,6,FALSE),\"\")","v":33000},{"$f":"IF($A916<>0,VLOOKUP($A916,Liste!$A$10:$W$459,7,FALSE),\"\")","v":"Bordeaux"}]
[{"$f":" IF($A916<>0, \"Lot \" & VLOOKUP($A916,Liste!$A$10:$W$459,9,FALSE),\"\")","v":"Lot 96"},{"$f":"IF($A916<>0,VLOOKUP($A916,Liste!$A$10:$W$459,10,FALSE),\"\")","v":"Appart,"},{"$f":"IF($A916<>0,VLOOKUP($A916,Liste!$A$10:$W$459,11,FALSE),\"\")","v":65}]
[{"$f":"IF($A916<>0,\"Lot \" & VLOOKUP($A916,Liste!$A$10:$W$459,12,FALSE),\"\")","v":"Lot 246"},{"$f":"IF($A916<>0,VLOOKUP($A916,Liste!$A$10:$W$459,13,FALSE),\"\")","v":"Cave"},{"$f":"IF($A916<>0,VLOOKUP($A916,Liste!$A$10:$W$459,14,FALSE),\"\")","v":5}]
[{"$f":"IF($A916<>0,\"Lot \" & VLOOKUP($A916,Liste!$A$10:$W$459,15,FALSE),\"\")","v":"Lot "},{"$f":"IF($A916<>0,VLOOKUP($A916,Liste!$A$10:$W$459,16,FALSE),\"\")","v":0},{"$f":"IF($A916<>0,VLOOKUP($A916,Liste!$A$10:$W$459,17,FALSE),\"\")","v":0},null,null,null,"Arrivé à","après vote de la Résolution N°"]
[{"$f":"IF($A916<>0,\"Lot \" & VLOOKUP($A916,Liste!$A$10:$W$459,18,FALSE),\"\")","v":"Lot "},0,{"$f":"IF($A916<>0,VLOOKUP($A916,Liste!$A$10:$W$459,19,FALSE),\"\")","v":0},null,null,null,"Départ à","après vote de la Résolution N°"]
[{"$f":"IF($A916<>0,\"Lot \" & VLOOKUP($A916,Liste!$A$10:$W$459,21,FALSE),\"\")","v":"Lot "},{"$f":"IF($A916<>0,VLOOKUP($A916,Liste!$A$10:$W$459,22,FALSE),\"\")","v":0},{"$f":"IF($A916<>0,VLOOKUP($A916,Liste!$A$10:$W$459,23,FALSE),\"\")","v":0},null,null,null,{"$f":"IF(OR(B917=0,VLOOKUP(A916,Liste!$A$10:'Liste'!$Z$459,26)<>\"\"),\"\", \"Voir autorisation messages électroniques\")","v":"Voir autorisation messages électroniques"}]
[]
[null,null,null,"A S S E M B L E E     G E N E R A L E",null,null,null,null,null,null,"Page",{"$f":"L849+1","v":13}]
[null,null,null,null,null,"du","2019-12-20"]
[null,null,null,"Résidence Le Paradis; Rue de l' espoir 75016 PARIS"]
[]
[{"$f":"A916+1","v":97},null,null,null,null,null,"Par correspondance reçu le "]
[{"$f":"IF($A930<>0,VLOOKUP($A930,Liste!$A$10:$W$459,3,FALSE),\"\")","v":"Monieur"},{"$f":"IF($A930<>0,VLOOKUP($A930,Liste!$A$10:$W$459,4,FALSE),\"\")","v":"Marinacce - Chatain Jeanne"},null,null,{"$f":"IF($A930<>0,VLOOKUP($A930,Liste!$A$10:$W$459,8,FALSE),\"\")","v":76},null,"Par visio, audio conférence,,,,"]
[{"$f":"IF($A930<>0,VLOOKUP($A930,Liste!$A$10:$W$459,5,FALSE),\"\")","v":"13 rue de l' espoir"},null,null,null,null,null,"Signature/ Mandataire :"]
[{"$f":"IF($A930<>0,VLOOKUP($A930,Liste!$A$10:$W$459,6,FALSE),\"\")","v":75016},{"$f":"IF($A930<>0,VLOOKUP($A930,Liste!$A$10:$W$459,7,FALSE),\"\")","v":"Paris "}]
[{"$f":" IF($A930<>0, \"Lot \" & VLOOKUP($A930,Liste!$A$10:$W$459,9,FALSE),\"\")","v":"Lot 97"},{"$f":"IF($A930<>0,VLOOKUP($A930,Liste!$A$10:$W$459,10,FALSE),\"\")","v":"Appart,"},{"$f":"IF($A930<>0,VLOOKUP($A930,Liste!$A$10:$W$459,11,FALSE),\"\")","v":71}]
[{"$f":"IF($A930<>0,\"Lot \" & VLOOKUP($A930,Liste!$A$10:$W$459,12,FALSE),\"\")","v":"Lot 247"},{"$f":"IF($A930<>0,VLOOKUP($A930,Liste!$A$10:$W$459,13,FALSE),\"\")","v":"Cave"},{"$f":"IF($A930<>0,VLOOKUP($A930,Liste!$A$10:$W$459,14,FALSE),\"\")","v":5}]
[{"$f":"IF($A930<>0,\"Lot \" & VLOOKUP($A930,Liste!$A$10:$W$459,15,FALSE),\"\")","v":"Lot "},{"$f":"IF($A930<>0,VLOOKUP($A930,Liste!$A$10:$W$459,16,FALSE),\"\")","v":0},{"$f":"IF($A930<>0,VLOOKUP($A930,Liste!$A$10:$W$459,17,FALSE),\"\")","v":0},null,null,null,"Arrivé à","après vote de la Résolution N°"]
[{"$f":"IF($A930<>0,\"Lot \" & VLOOKUP($A930,Liste!$A$10:$W$459,18,FALSE),\"\")","v":"Lot "},0,{"$f":"IF($A930<>0,VLOOKUP($A930,Liste!$A$10:$W$459,19,FALSE),\"\")","v":0},null,null,null,"Départ à","après vote de la Résolution N°"]
[{"$f":"IF($A930<>0,\"Lot \" & VLOOKUP($A930,Liste!$A$10:$W$459,21,FALSE),\"\")","v":"Lot "},{"$f":"IF($A930<>0,VLOOKUP($A930,Liste!$A$10:$W$459,22,FALSE),\"\")","v":0},{"$f":"IF($A930<>0,VLOOKUP($A930,Liste!$A$10:$W$459,23,FALSE),\"\")","v":0},null,null,null,{"$f":"IF(OR(B931=0,VLOOKUP(A930,Liste!$A$10:'Liste'!$Z$459,26)<>\"\"),\"\", \"Voir autorisation messages électroniques\")","v":"Voir autorisation messages électroniques"}]
[{"$f":"A930+1","v":98},null,null,null,null,null,"Par correspondance reçu le "]
[{"$f":"IF($A939<>0,VLOOKUP($A939,Liste!$A$10:$W$459,3,FALSE),\"\")","v":"Madame"},{"$f":"IF($A939<>0,VLOOKUP($A939,Liste!$A$10:$W$459,4,FALSE),\"\")","v":"MATTEI Andrée"},null,null,{"$f":"IF($A939<>0,VLOOKUP($A939,Liste!$A$10:$W$459,8,FALSE),\"\")","v":103},null,"Par visio, audio conférence,,,,"]
[{"$f":"IF($A939<>0,VLOOKUP($A939,Liste!$A$10:$W$459,5,FALSE),\"\")","v":"13 rue de l' espoir"},null,null,null,null,null,"Signature/ Mandataire :"]
[{"$f":"IF($A939<>0,VLOOKUP($A939,Liste!$A$10:$W$459,6,FALSE),\"\")","v":75016},{"$f":"IF($A939<>0,VLOOKUP($A939,Liste!$A$10:$W$459,7,FALSE),\"\")","v":"Paris "}]
[{"$f":" IF($A939<>0, \"Lot \" & VLOOKUP($A939,Liste!$A$10:$W$459,9,FALSE),\"\")","v":"Lot 98"},{"$f":"IF($A939<>0,VLOOKUP($A939,Liste!$A$10:$W$459,10,FALSE),\"\")","v":"Appart,"},{"$f":"IF($A939<>0,VLOOKUP($A939,Liste!$A$10:$W$459,11,FALSE),\"\")","v":98}]
[{"$f":"IF($A939<>0,\"Lot \" & VLOOKUP($A939,Liste!$A$10:$W$459,12,FALSE),\"\")","v":"Lot 248"},{"$f":"IF($A939<>0,VLOOKUP($A939,Liste!$A$10:$W$459,13,FALSE),\"\")","v":"Cave"},{"$f":"IF($A939<>0,VLOOKUP($A939,Liste!$A$10:$W$459,14,FALSE),\"\")","v":5}]
[{"$f":"IF($A939<>0,\"Lot \" & VLOOKUP($A939,Liste!$A$10:$W$459,15,FALSE),\"\")","v":"Lot "},{"$f":"IF($A939<>0,VLOOKUP($A939,Liste!$A$10:$W$459,16,FALSE),\"\")","v":0},{"$f":"IF($A939<>0,VLOOKUP($A939,Liste!$A$10:$W$459,17,FALSE),\"\")","v":0},null,null,null,"Arrivé à","après vote de la Résolution N°"]
[{"$f":"IF($A939<>0,\"Lot \" & VLOOKUP($A939,Liste!$A$10:$W$459,18,FALSE),\"\")","v":"Lot "},0,{"$f":"IF($A939<>0,VLOOKUP($A939,Liste!$A$10:$W$459,19,FALSE),\"\")","v":0},null,null,null,"Départ à","après vote de la Résolution N°"]
[{"$f":"IF($A939<>0,\"Lot \" & VLOOKUP($A939,Liste!$A$10:$W$459,21,FALSE),\"\")","v":"Lot "},{"$f":"IF($A939<>0,VLOOKUP($A939,Liste!$A$10:$W$459,22,FALSE),\"\")","v":0},{"$f":"IF($A939<>0,VLOOKUP($A939,Liste!$A$10:$W$459,23,FALSE),\"\")","v":0},null,null,null,{"$f":"IF(OR(B940=0,VLOOKUP(A939,Liste!$A$10:'Liste'!$Z$459,26)<>\"\"),\"\", \"Voir autorisation messages électroniques\")","v":"Voir autorisation messages électroniques"}]
[{"$f":"A939+1","v":99},null,null,null,null,null,"Par correspondance reçu le "]
[{"$f":"IF($A948<>0,VLOOKUP($A948,Liste!$A$10:$W$459,3,FALSE),\"\")","v":"Monsieur"},{"$f":"IF($A948<>0,VLOOKUP($A948,Liste!$A$10:$W$459,4,FALSE),\"\")","v":"MAUDUIT Trobert"},null,null,{"$f":"IF($A948<>0,VLOOKUP($A948,Liste!$A$10:$W$459,8,FALSE),\"\")","v":50},null,"Par visio, audio conférence,,,,"]
[{"$f":"IF($A948<>0,VLOOKUP($A948,Liste!$A$10:$W$459,5,FALSE),\"\")","v":"19 Rue du Paradis"},null,null,null,null,null,"Signature/ Mandataire :"]
[{"$f":"IF($A948<>0,VLOOKUP($A948,Liste!$A$10:$W$459,6,FALSE),\"\")","v":33000},{"$f":"IF($A948<>0,VLOOKUP($A948,Liste!$A$10:$W$459,7,FALSE),\"\")","v":"Bordeaux"}]
[{"$f":" IF($A948<>0, \"Lot \" & VLOOKUP($A948,Liste!$A$10:$W$459,9,FALSE),\"\")","v":"Lot 99"},{"$f":"IF($A948<>0,VLOOKUP($A948,Liste!$A$10:$W$459,10,FALSE),\"\")","v":"Appart,"},{"$f":"IF($A948<>0,VLOOKUP($A948,Liste!$A$10:$W$459,11,FALSE),\"\")","v":45}]
[{"$f":"IF($A948<>0,\"Lot \" & VLOOKUP($A948,Liste!$A$10:$W$459,12,FALSE),\"\")","v":"Lot 249"},{"$f":"IF($A948<>0,VLOOKUP($A948,Liste!$A$10:$W$459,13,FALSE),\"\")","v":"Cave"},{"$f":"IF($A948<>0,VLOOKUP($A948,Liste!$A$10:$W$459,14,FALSE),\"\")","v":5}]
[{"$f":"IF($A948<>0,\"Lot \" & VLOOKUP($A948,Liste!$A$10:$W$459,15,FALSE),\"\")","v":"Lot "},{"$f":"IF($A948<>0,VLOOKUP($A948,Liste!$A$10:$W$459,16,FALSE),\"\")","v":0},{"$f":"IF($A948<>0,VLOOKUP($A948,Liste!$A$10:$W$459,17,FALSE),\"\")","v":0},null,null,null,"Arrivé à","après vote de la Résolution N°"]
[{"$f":"IF($A948<>0,\"Lot \" & VLOOKUP($A948,Liste!$A$10:$W$459,18,FALSE),\"\")","v":"Lot "},0,{"$f":"IF($A948<>0,VLOOKUP($A948,Liste!$A$10:$W$459,19,FALSE),\"\")","v":0},null,null,null,"Départ à","après vote de la Résolution N°"]
[{"$f":"IF($A948<>0,\"Lot \" & VLOOKUP($A948,Liste!$A$10:$W$459,21,FALSE),\"\")","v":"Lot "},{"$f":"IF($A948<>0,VLOOKUP($A948,Liste!$A$10:$W$459,22,FALSE),\"\")","v":0},{"$f":"IF($A948<>0,VLOOKUP($A948,Liste!$A$10:$W$459,23,FALSE),\"\")","v":0},null,null,null,{"$f":"IF(OR(B949=0,VLOOKUP(A948,Liste!$A$10:'Liste'!$Z$459,26)<>\"\"),\"\", \"Voir autorisation messages électroniques\")","v":"Voir autorisation messages électroniques"}]
[{"$f":"A948+1","v":100},null,null,null,null,null,"Par correspondance reçu le "]
[{"$f":"IF($A957<>0,VLOOKUP($A957,Liste!$A$10:$W$459,3,FALSE),\"\")","v":"Madame"},{"$f":"IF($A957<>0,VLOOKUP($A957,Liste!$A$10:$W$459,4,FALSE),\"\")","v":"MEAILLE Simone"},null,null,{"$f":"IF($A957<>0,VLOOKUP($A957,Liste!$A$10:$W$459,8,FALSE),\"\")","v":63},null,"Par visio, audio conférence,,,,"]
[{"$f":"IF($A957<>0,VLOOKUP($A957,Liste!$A$10:$W$459,5,FALSE),\"\")","v":"13 rue de l' espoir"},null,null,null,null,null,"Signature/ Mandataire :"]
[{"$f":"IF($A957<>0,VLOOKUP($A957,Liste!$A$10:$W$459,6,FALSE),\"\")","v":75016},{"$f":"IF($A957<>0,VLOOKUP($A957,Liste!$A$10:$W$459,7,FALSE),\"\")","v":"Paris "}]
[{"$f":" IF($A957<>0, \"Lot \" & VLOOKUP($A957,Liste!$A$10:$W$459,9,FALSE),\"\")","v":"Lot 101"},{"$f":"IF($A957<>0,VLOOKUP($A957,Liste!$A$10:$W$459,10,FALSE),\"\")","v":"Appart,"},{"$f":"IF($A957<>0,VLOOKUP($A957,Liste!$A$10:$W$459,11,FALSE),\"\")","v":58}]
[{"$f":"IF($A957<>0,\"Lot \" & VLOOKUP($A957,Liste!$A$10:$W$459,12,FALSE),\"\")","v":"Lot 251"},{"$f":"IF($A957<>0,VLOOKUP($A957,Liste!$A$10:$W$459,13,FALSE),\"\")","v":"Cave"},{"$f":"IF($A957<>0,VLOOKUP($A957,Liste!$A$10:$W$459,14,FALSE),\"\")","v":5}]
[{"$f":"IF($A957<>0,\"Lot \" & VLOOKUP($A957,Liste!$A$10:$W$459,15,FALSE),\"\")","v":"Lot "},{"$f":"IF($A957<>0,VLOOKUP($A957,Liste!$A$10:$W$459,16,FALSE),\"\")","v":0},{"$f":"IF($A957<>0,VLOOKUP($A957,Liste!$A$10:$W$459,17,FALSE),\"\")","v":0},null,null,null,"Arrivé à","après vote de la Résolution N°"]
[{"$f":"IF($A957<>0,\"Lot \" & VLOOKUP($A957,Liste!$A$10:$W$459,18,FALSE),\"\")","v":"Lot 1500"},0,{"$f":"IF($A957<>0,VLOOKUP($A957,Liste!$A$10:$W$459,19,FALSE),\"\")","v":"APP"},null,null,null,"Départ à","après vote de la Résolution N°"]
[{"$f":"IF($A957<>0,\"Lot \" & VLOOKUP($A957,Liste!$A$10:$W$459,21,FALSE),\"\")","v":"Lot "},{"$f":"IF($A957<>0,VLOOKUP($A957,Liste!$A$10:$W$459,22,FALSE),\"\")","v":0},{"$f":"IF($A957<>0,VLOOKUP($A957,Liste!$A$10:$W$459,23,FALSE),\"\")","v":0},null,null,null,{"$f":"IF(OR(B958=0,VLOOKUP(A957,Liste!$A$10:'Liste'!$Z$459,26)<>\"\"),\"\", \"Voir autorisation messages électroniques\")","v":"Voir autorisation messages électroniques"}]
[{"$f":"A957+1","v":101},null,null,null,null,null,"Par correspondance reçu le "]
[{"$f":"IF($A966<>0,VLOOKUP($A966,Liste!$A$10:$W$459,3,FALSE),\"\")","v":"Madame"},{"$f":"IF($A966<>0,VLOOKUP($A966,Liste!$A$10:$W$459,4,FALSE),\"\")","v":"MEISSONNIER Josiane"},null,null,{"$f":"IF($A966<>0,VLOOKUP($A966,Liste!$A$10:$W$459,8,FALSE),\"\")","v":100},null,"Par visio, audio conférence,,,,"]
[{"$f":"IF($A966<>0,VLOOKUP($A966,Liste!$A$10:$W$459,5,FALSE),\"\")","v":"13 rue de l' espoir"},null,null,null,null,null,"Signature/ Mandataire :"]
[{"$f":"IF($A966<>0,VLOOKUP($A966,Liste!$A$10:$W$459,6,FALSE),\"\")","v":75016},{"$f":"IF($A966<>0,VLOOKUP($A966,Liste!$A$10:$W$459,7,FALSE),\"\")","v":"Paris "}]
[{"$f":" IF($A966<>0, \"Lot \" & VLOOKUP($A966,Liste!$A$10:$W$459,9,FALSE),\"\")","v":"Lot 102"},{"$f":"IF($A966<>0,VLOOKUP($A966,Liste!$A$10:$W$459,10,FALSE),\"\")","v":"Appart,"},{"$f":"IF($A966<>0,VLOOKUP($A966,Liste!$A$10:$W$459,11,FALSE),\"\")","v":95}]
[{"$f":"IF($A966<>0,\"Lot \" & VLOOKUP($A966,Liste!$A$10:$W$459,12,FALSE),\"\")","v":"Lot 252"},{"$f":"IF($A966<>0,VLOOKUP($A966,Liste!$A$10:$W$459,13,FALSE),\"\")","v":"Cave"},{"$f":"IF($A966<>0,VLOOKUP($A966,Liste!$A$10:$W$459,14,FALSE),\"\")","v":5}]
[{"$f":"IF($A966<>0,\"Lot \" & VLOOKUP($A966,Liste!$A$10:$W$459,15,FALSE),\"\")","v":"Lot "},{"$f":"IF($A966<>0,VLOOKUP($A966,Liste!$A$10:$W$459,16,FALSE),\"\")","v":0},{"$f":"IF($A966<>0,VLOOKUP($A966,Liste!$A$10:$W$459,17,FALSE),\"\")","v":0},null,null,null,"Arrivé à","après vote de la Résolution N°"]
[{"$f":"IF($A966<>0,\"Lot \" & VLOOKUP($A966,Liste!$A$10:$W$459,18,FALSE),\"\")","v":"Lot "},0,{"$f":"IF($A966<>0,VLOOKUP($A966,Liste!$A$10:$W$459,19,FALSE),\"\")","v":0},null,null,null,"Départ à","après vote de la Résolution N°"]
[{"$f":"IF($A966<>0,\"Lot \" & VLOOKUP($A966,Liste!$A$10:$W$459,21,FALSE),\"\")","v":"Lot "},{"$f":"IF($A966<>0,VLOOKUP($A966,Liste!$A$10:$W$459,22,FALSE),\"\")","v":0},{"$f":"IF($A966<>0,VLOOKUP($A966,Liste!$A$10:$W$459,23,FALSE),\"\")","v":0},null,null,null,{"$f":"IF(OR(B967=0,VLOOKUP(A966,Liste!$A$10:'Liste'!$Z$459,26)<>\"\"),\"\", \"Voir autorisation messages électroniques\")","v":"Voir autorisation messages électroniques"}]
[{"$f":"A966+1","v":102},null,null,null,null,null,"Par correspondance reçu le "]
[{"$f":"IF($A975<>0,VLOOKUP($A975,Liste!$A$10:$W$459,3,FALSE),\"\")","v":"Madame"},{"$f":"IF($A975<>0,VLOOKUP($A975,Liste!$A$10:$W$459,4,FALSE),\"\")","v":"MEYNARD Armande"},null,null,{"$f":"IF($A975<>0,VLOOKUP($A975,Liste!$A$10:$W$459,8,FALSE),\"\")","v":62},null,"Par visio, audio conférence,,,,"]
[{"$f":"IF($A975<>0,VLOOKUP($A975,Liste!$A$10:$W$459,5,FALSE),\"\")","v":"13 rue de l' espoir"},null,null,null,null,null,"Signature/ Mandataire :"]
[{"$f":"IF($A975<>0,VLOOKUP($A975,Liste!$A$10:$W$459,6,FALSE),\"\")","v":75016},{"$f":"IF($A975<>0,VLOOKUP($A975,Liste!$A$10:$W$459,7,FALSE),\"\")","v":"Paris "}]
[{"$f":" IF($A975<>0, \"Lot \" & VLOOKUP($A975,Liste!$A$10:$W$459,9,FALSE),\"\")","v":"Lot 103"},{"$f":"IF($A975<>0,VLOOKUP($A975,Liste!$A$10:$W$459,10,FALSE),\"\")","v":"Appart,"},{"$f":"IF($A975<>0,VLOOKUP($A975,Liste!$A$10:$W$459,11,FALSE),\"\")","v":57}]
[{"$f":"IF($A975<>0,\"Lot \" & VLOOKUP($A975,Liste!$A$10:$W$459,12,FALSE),\"\")","v":"Lot 253"},{"$f":"IF($A975<>0,VLOOKUP($A975,Liste!$A$10:$W$459,13,FALSE),\"\")","v":"Cave"},{"$f":"IF($A975<>0,VLOOKUP($A975,Liste!$A$10:$W$459,14,FALSE),\"\")","v":5}]
[{"$f":"IF($A975<>0,\"Lot \" & VLOOKUP($A975,Liste!$A$10:$W$459,15,FALSE),\"\")","v":"Lot "},{"$f":"IF($A975<>0,VLOOKUP($A975,Liste!$A$10:$W$459,16,FALSE),\"\")","v":0},{"$f":"IF($A975<>0,VLOOKUP($A975,Liste!$A$10:$W$459,17,FALSE),\"\")","v":0},null,null,null,"Arrivé à","après vote de la Résolution N°"]
[{"$f":"IF($A975<>0,\"Lot \" & VLOOKUP($A975,Liste!$A$10:$W$459,18,FALSE),\"\")","v":"Lot "},0,{"$f":"IF($A975<>0,VLOOKUP($A975,Liste!$A$10:$W$459,19,FALSE),\"\")","v":0},null,null,null,"Départ à","après vote de la Résolution N°"]
[{"$f":"IF($A975<>0,\"Lot \" & VLOOKUP($A975,Liste!$A$10:$W$459,21,FALSE),\"\")","v":"Lot "},{"$f":"IF($A975<>0,VLOOKUP($A975,Liste!$A$10:$W$459,22,FALSE),\"\")","v":0},{"$f":"IF($A975<>0,VLOOKUP($A975,Liste!$A$10:$W$459,23,FALSE),\"\")","v":0},null,null,null,{"$f":"IF(OR(B976=0,VLOOKUP(A975,Liste!$A$10:'Liste'!$Z$459,26)<>\"\"),\"\", \"Voir autorisation messages électroniques\")","v":"Voir autorisation messages électroniques"}]
[{"$f":"A975+1","v":103},null,null,null,null,null,"Par correspondance reçu le "]
[{"$f":"IF($A984<>0,VLOOKUP($A984,Liste!$A$10:$W$459,3,FALSE),\"\")","v":"Monieur"},{"$f":"IF($A984<>0,VLOOKUP($A984,Liste!$A$10:$W$459,4,FALSE),\"\")","v":"MIALHE André"},null,null,{"$f":"IF($A984<>0,VLOOKUP($A984,Liste!$A$10:$W$459,8,FALSE),\"\")","v":97},null,"Par visio, audio conférence,,,,"]
[{"$f":"IF($A984<>0,VLOOKUP($A984,Liste!$A$10:$W$459,5,FALSE),\"\")","v":"13 rue de l' espoir"},null,null,null,null,null,"Signature/ Mandataire :"]
[{"$f":"IF($A984<>0,VLOOKUP($A984,Liste!$A$10:$W$459,6,FALSE),\"\")","v":75016},{"$f":"IF($A984<>0,VLOOKUP($A984,Liste!$A$10:$W$459,7,FALSE),\"\")","v":"Paris "}]
[{"$f":" IF($A984<>0, \"Lot \" & VLOOKUP($A984,Liste!$A$10:$W$459,9,FALSE),\"\")","v":"Lot 104"},{"$f":"IF($A984<>0,VLOOKUP($A984,Liste!$A$10:$W$459,10,FALSE),\"\")","v":"Appart,"},{"$f":"IF($A984<>0,VLOOKUP($A984,Liste!$A$10:$W$459,11,FALSE),\"\")","v":92}]
[{"$f":"IF($A984<>0,\"Lot \" & VLOOKUP($A984,Liste!$A$10:$W$459,12,FALSE),\"\")","v":"Lot 254"},{"$f":"IF($A984<>0,VLOOKUP($A984,Liste!$A$10:$W$459,13,FALSE),\"\")","v":"Cave"},{"$f":"IF($A984<>0,VLOOKUP($A984,Liste!$A$10:$W$459,14,FALSE),\"\")","v":5}]
[{"$f":"IF($A984<>0,\"Lot \" & VLOOKUP($A984,Liste!$A$10:$W$459,15,FALSE),\"\")","v":"Lot "},{"$f":"IF($A984<>0,VLOOKUP($A984,Liste!$A$10:$W$459,16,FALSE),\"\")","v":0},{"$f":"IF($A984<>0,VLOOKUP($A984,Liste!$A$10:$W$459,17,FALSE),\"\")","v":0},null,null,null,"Arrivé à","après vote de la Résolution N°"]
[{"$f":"IF($A984<>0,\"Lot \" & VLOOKUP($A984,Liste!$A$10:$W$459,18,FALSE),\"\")","v":"Lot "},0,{"$f":"IF($A984<>0,VLOOKUP($A984,Liste!$A$10:$W$459,19,FALSE),\"\")","v":0},null,null,null,"Départ à","après vote de la Résolution N°"]
[{"$f":"IF($A984<>0,\"Lot \" & VLOOKUP($A984,Liste!$A$10:$W$459,21,FALSE),\"\")","v":"Lot "},{"$f":"IF($A984<>0,VLOOKUP($A984,Liste!$A$10:$W$459,22,FALSE),\"\")","v":0},{"$f":"IF($A984<>0,VLOOKUP($A984,Liste!$A$10:$W$459,23,FALSE),\"\")","v":0},null,null,null,{"$f":"IF(OR(B985=0,VLOOKUP(A984,Liste!$A$10:'Liste'!$Z$459,26)<>\"\"),\"\", \"Voir autorisation messages électroniques\")","v":"Voir autorisation messages électroniques"}]
[{"$f":"A984+1","v":104},null,null,null,null,null,"Par correspondance reçu le "]
[{"$f":"IF($A993<>0,VLOOKUP($A993,Liste!$A$10:$W$459,3,FALSE),\"\")","v":"Monieur"},{"$f":"IF($A993<>0,VLOOKUP($A993,Liste!$A$10:$W$459,4,FALSE),\"\")","v":"MICHEL Gérard"},null,null,{"$f":"IF($A993<>0,VLOOKUP($A993,Liste!$A$10:$W$459,8,FALSE),\"\")","v":100},null,"Par visio, audio conférence,,,,"]
[{"$f":"IF($A993<>0,VLOOKUP($A993,Liste!$A$10:$W$459,5,FALSE),\"\")","v":"13 rue de l' espoir"},null,null,null,null,null,"Signature/ Mandataire :"]
[{"$f":"IF($A993<>0,VLOOKUP($A993,Liste!$A$10:$W$459,6,FALSE),\"\")","v":75016},{"$f":"IF($A993<>0,VLOOKUP($A993,Liste!$A$10:$W$459,7,FALSE),\"\")","v":"Paris "}]
[{"$f":" IF($A993<>0, \"Lot \" & VLOOKUP($A993,Liste!$A$10:$W$459,9,FALSE),\"\")","v":"Lot 105"},{"$f":"IF($A993<>0,VLOOKUP($A993,Liste!$A$10:$W$459,10,FALSE),\"\")","v":"Appart,"},{"$f":"IF($A993<>0,VLOOKUP($A993,Liste!$A$10:$W$459,11,FALSE),\"\")","v":95}]
[{"$f":"IF($A993<>0,\"Lot \" & VLOOKUP($A993,Liste!$A$10:$W$459,12,FALSE),\"\")","v":"Lot 255"},{"$f":"IF($A993<>0,VLOOKUP($A993,Liste!$A$10:$W$459,13,FALSE),\"\")","v":"Cave"},{"$f":"IF($A993<>0,VLOOKUP($A993,Liste!$A$10:$W$459,14,FALSE),\"\")","v":5}]
[{"$f":"IF($A993<>0,\"Lot \" & VLOOKUP($A993,Liste!$A$10:$W$459,15,FALSE),\"\")","v":"Lot "},{"$f":"IF($A993<>0,VLOOKUP($A993,Liste!$A$10:$W$459,16,FALSE),\"\")","v":0},{"$f":"IF($A993<>0,VLOOKUP($A993,Liste!$A$10:$W$459,17,FALSE),\"\")","v":0},null,null,null,"Arrivé à","après vote de la Résolution N°"]
[{"$f":"IF($A993<>0,\"Lot \" & VLOOKUP($A993,Liste!$A$10:$W$459,18,FALSE),\"\")","v":"Lot "},0,{"$f":"IF($A993<>0,VLOOKUP($A993,Liste!$A$10:$W$459,19,FALSE),\"\")","v":0},null,null,null,"Départ à","après vote de la Résolution N°"]
[{"$f":"IF($A993<>0,\"Lot \" & VLOOKUP($A993,Liste!$A$10:$W$459,21,FALSE),\"\")","v":"Lot "},{"$f":"IF($A993<>0,VLOOKUP($A993,Liste!$A$10:$W$459,22,FALSE),\"\")","v":0},{"$f":"IF($A993<>0,VLOOKUP($A993,Liste!$A$10:$W$459,23,FALSE),\"\")","v":0},null,null,null,{"$f":"IF(OR(B994=0,VLOOKUP(A993,Liste!$A$10:'Liste'!$Z$459,26)<>\"\"),\"\", \"Voir autorisation messages électroniques\")","v":"Voir autorisation messages électroniques"}]
[]
[null,null,null,"A S S E M B L E E     G E N E R A L E",null,null,null,null,null,null,"Page",{"$f":"L926+1","v":14}]
[null,null,null,null,null,"du","2019-12-20"]
[null,null,null,"Résidence Le Paradis; Rue de l' espoir 75016 PARIS"]
[]
[{"$f":"A993+1","v":105},null,null,null,null,null,"Par correspondance reçu le "]
[{"$f":"IF($A1007<>0,VLOOKUP($A1007,Liste!$A$10:$W$459,3,FALSE),\"\")","v":"Madame"},{"$f":"IF($A1007<>0,VLOOKUP($A1007,Liste!$A$10:$W$459,4,FALSE),\"\")","v":"MORERA Suzanne"},null,null,{"$f":"IF($A1007<>0,VLOOKUP($A1007,Liste!$A$10:$W$459,8,FALSE),\"\")","v":100},null,"Par visio, audio conférence,,,,"]
[{"$f":"IF($A1007<>0,VLOOKUP($A1007,Liste!$A$10:$W$459,5,FALSE),\"\")","v":"13 rue de l' espoir"},null,null,null,null,null,"Signature/ Mandataire :"]
[{"$f":"IF($A1007<>0,VLOOKUP($A1007,Liste!$A$10:$W$459,6,FALSE),\"\")","v":75016},{"$f":"IF($A1007<>0,VLOOKUP($A1007,Liste!$A$10:$W$459,7,FALSE),\"\")","v":"Paris "}]
[{"$f":" IF($A1007<>0, \"Lot \" & VLOOKUP($A1007,Liste!$A$10:$W$459,9,FALSE),\"\")","v":"Lot 106"},{"$f":"IF($A1007<>0,VLOOKUP($A1007,Liste!$A$10:$W$459,10,FALSE),\"\")","v":"Appart,"},{"$f":"IF($A1007<>0,VLOOKUP($A1007,Liste!$A$10:$W$459,11,FALSE),\"\")","v":95}]
[{"$f":"IF($A1007<>0,\"Lot \" & VLOOKUP($A1007,Liste!$A$10:$W$459,12,FALSE),\"\")","v":"Lot 256"},{"$f":"IF($A1007<>0,VLOOKUP($A1007,Liste!$A$10:$W$459,13,FALSE),\"\")","v":"Cave"},{"$f":"IF($A1007<>0,VLOOKUP($A1007,Liste!$A$10:$W$459,14,FALSE),\"\")","v":5}]
[{"$f":"IF($A1007<>0,\"Lot \" & VLOOKUP($A1007,Liste!$A$10:$W$459,15,FALSE),\"\")","v":"Lot "},{"$f":"IF($A1007<>0,VLOOKUP($A1007,Liste!$A$10:$W$459,16,FALSE),\"\")","v":0},{"$f":"IF($A1007<>0,VLOOKUP($A1007,Liste!$A$10:$W$459,17,FALSE),\"\")","v":0},null,null,null,"Arrivé à","après vote de la Résolution N°"]
[{"$f":"IF($A1007<>0,\"Lot \" & VLOOKUP($A1007,Liste!$A$10:$W$459,18,FALSE),\"\")","v":"Lot "},0,{"$f":"IF($A1007<>0,VLOOKUP($A1007,Liste!$A$10:$W$459,19,FALSE),\"\")","v":0},null,null,null,"Départ à","après vote de la Résolution N°"]
[{"$f":"IF($A1007<>0,\"Lot \" & VLOOKUP($A1007,Liste!$A$10:$W$459,21,FALSE),\"\")","v":"Lot "},{"$f":"IF($A1007<>0,VLOOKUP($A1007,Liste!$A$10:$W$459,22,FALSE),\"\")","v":0},{"$f":"IF($A1007<>0,VLOOKUP($A1007,Liste!$A$10:$W$459,23,FALSE),\"\")","v":0},null,null,null,{"$f":"IF(OR(B1008=0,VLOOKUP(A1007,Liste!$A$10:'Liste'!$Z$459,26)<>\"\"),\"\", \"Voir autorisation messages électroniques\")","v":"Voir autorisation messages électroniques"}]
[{"$f":"A1007+1","v":106},null,null,null,null,null,"Par correspondance reçu le "]
[{"$f":"IF($A1016<>0,VLOOKUP($A1016,Liste!$A$10:$W$459,3,FALSE),\"\")","v":"Monsieur"},{"$f":"IF($A1016<>0,VLOOKUP($A1016,Liste!$A$10:$W$459,4,FALSE),\"\")","v":"MOTTIN Marcel"},null,null,{"$f":"IF($A1016<>0,VLOOKUP($A1016,Liste!$A$10:$W$459,8,FALSE),\"\")","v":50},null,"Par visio, audio conférence,,,,"]
[{"$f":"IF($A1016<>0,VLOOKUP($A1016,Liste!$A$10:$W$459,5,FALSE),\"\")","v":"19 Rue du Paradis"},null,null,null,null,null,"Signature/ Mandataire :"]
[{"$f":"IF($A1016<>0,VLOOKUP($A1016,Liste!$A$10:$W$459,6,FALSE),\"\")","v":33000},{"$f":"IF($A1016<>0,VLOOKUP($A1016,Liste!$A$10:$W$459,7,FALSE),\"\")","v":"Bordeaux"}]
[{"$f":" IF($A1016<>0, \"Lot \" & VLOOKUP($A1016,Liste!$A$10:$W$459,9,FALSE),\"\")","v":"Lot 107"},{"$f":"IF($A1016<>0,VLOOKUP($A1016,Liste!$A$10:$W$459,10,FALSE),\"\")","v":"Appart,"},{"$f":"IF($A1016<>0,VLOOKUP($A1016,Liste!$A$10:$W$459,11,FALSE),\"\")","v":45}]
[{"$f":"IF($A1016<>0,\"Lot \" & VLOOKUP($A1016,Liste!$A$10:$W$459,12,FALSE),\"\")","v":"Lot 257"},{"$f":"IF($A1016<>0,VLOOKUP($A1016,Liste!$A$10:$W$459,13,FALSE),\"\")","v":"Cave"},{"$f":"IF($A1016<>0,VLOOKUP($A1016,Liste!$A$10:$W$459,14,FALSE),\"\")","v":5}]
[{"$f":"IF($A1016<>0,\"Lot \" & VLOOKUP($A1016,Liste!$A$10:$W$459,15,FALSE),\"\")","v":"Lot "},{"$f":"IF($A1016<>0,VLOOKUP($A1016,Liste!$A$10:$W$459,16,FALSE),\"\")","v":0},{"$f":"IF($A1016<>0,VLOOKUP($A1016,Liste!$A$10:$W$459,17,FALSE),\"\")","v":0},null,null,null,"Arrivé à","après vote de la Résolution N°"]
[{"$f":"IF($A1016<>0,\"Lot \" & VLOOKUP($A1016,Liste!$A$10:$W$459,18,FALSE),\"\")","v":"Lot "},0,{"$f":"IF($A1016<>0,VLOOKUP($A1016,Liste!$A$10:$W$459,19,FALSE),\"\")","v":0},null,null,null,"Départ à","après vote de la Résolution N°"]
[{"$f":"IF($A1016<>0,\"Lot \" & VLOOKUP($A1016,Liste!$A$10:$W$459,21,FALSE),\"\")","v":"Lot "},{"$f":"IF($A1016<>0,VLOOKUP($A1016,Liste!$A$10:$W$459,22,FALSE),\"\")","v":0},{"$f":"IF($A1016<>0,VLOOKUP($A1016,Liste!$A$10:$W$459,23,FALSE),\"\")","v":0},null,null,null,{"$f":"IF(OR(B1017=0,VLOOKUP(A1016,Liste!$A$10:'Liste'!$Z$459,26)<>\"\"),\"\", \"Voir autorisation messages électroniques\")","v":"Voir autorisation messages électroniques"}]
[{"$f":"A1016+1","v":107},null,null,null,null,null,"Par correspondance reçu le "]
[{"$f":"IF($A1025<>0,VLOOKUP($A1025,Liste!$A$10:$W$459,3,FALSE),\"\")","v":"Madame"},{"$f":"IF($A1025<>0,VLOOKUP($A1025,Liste!$A$10:$W$459,4,FALSE),\"\")","v":"MOURRE Jeanine"},null,null,{"$f":"IF($A1025<>0,VLOOKUP($A1025,Liste!$A$10:$W$459,8,FALSE),\"\")","v":49},null,"Par visio, audio conférence,,,,"]
[{"$f":"IF($A1025<>0,VLOOKUP($A1025,Liste!$A$10:$W$459,5,FALSE),\"\")","v":"19 Rue du Paradis"},null,null,null,null,null,"Signature/ Mandataire :"]
[{"$f":"IF($A1025<>0,VLOOKUP($A1025,Liste!$A$10:$W$459,6,FALSE),\"\")","v":33000},{"$f":"IF($A1025<>0,VLOOKUP($A1025,Liste!$A$10:$W$459,7,FALSE),\"\")","v":"Bordeaux"}]
[{"$f":" IF($A1025<>0, \"Lot \" & VLOOKUP($A1025,Liste!$A$10:$W$459,9,FALSE),\"\")","v":"Lot 108"},{"$f":"IF($A1025<>0,VLOOKUP($A1025,Liste!$A$10:$W$459,10,FALSE),\"\")","v":"Appart,"},{"$f":"IF($A1025<>0,VLOOKUP($A1025,Liste!$A$10:$W$459,11,FALSE),\"\")","v":44}]
[{"$f":"IF($A1025<>0,\"Lot \" & VLOOKUP($A1025,Liste!$A$10:$W$459,12,FALSE),\"\")","v":"Lot 258"},{"$f":"IF($A1025<>0,VLOOKUP($A1025,Liste!$A$10:$W$459,13,FALSE),\"\")","v":"Cave"},{"$f":"IF($A1025<>0,VLOOKUP($A1025,Liste!$A$10:$W$459,14,FALSE),\"\")","v":5}]
[{"$f":"IF($A1025<>0,\"Lot \" & VLOOKUP($A1025,Liste!$A$10:$W$459,15,FALSE),\"\")","v":"Lot "},{"$f":"IF($A1025<>0,VLOOKUP($A1025,Liste!$A$10:$W$459,16,FALSE),\"\")","v":0},{"$f":"IF($A1025<>0,VLOOKUP($A1025,Liste!$A$10:$W$459,17,FALSE),\"\")","v":0},null,null,null,"Arrivé à","après vote de la Résolution N°"]
[{"$f":"IF($A1025<>0,\"Lot \" & VLOOKUP($A1025,Liste!$A$10:$W$459,18,FALSE),\"\")","v":"Lot "},0,{"$f":"IF($A1025<>0,VLOOKUP($A1025,Liste!$A$10:$W$459,19,FALSE),\"\")","v":0},null,null,null,"Départ à","après vote de la Résolution N°"]
[{"$f":"IF($A1025<>0,\"Lot \" & VLOOKUP($A1025,Liste!$A$10:$W$459,21,FALSE),\"\")","v":"Lot "},{"$f":"IF($A1025<>0,VLOOKUP($A1025,Liste!$A$10:$W$459,22,FALSE),\"\")","v":0},{"$f":"IF($A1025<>0,VLOOKUP($A1025,Liste!$A$10:$W$459,23,FALSE),\"\")","v":0},null,null,null,{"$f":"IF(OR(B1026=0,VLOOKUP(A1025,Liste!$A$10:'Liste'!$Z$459,26)<>\"\"),\"\", \"Voir autorisation messages électroniques\")","v":"Voir autorisation messages électroniques"}]
[{"$f":"A1025+1","v":108},null,null,null,null,null,"Par correspondance reçu le "]
[{"$f":"IF($A1034<>0,VLOOKUP($A1034,Liste!$A$10:$W$459,3,FALSE),\"\")","v":"Monsieur"},{"$f":"IF($A1034<>0,VLOOKUP($A1034,Liste!$A$10:$W$459,4,FALSE),\"\")","v":"MULARDEC Paul"},null,null,{"$f":"IF($A1034<>0,VLOOKUP($A1034,Liste!$A$10:$W$459,8,FALSE),\"\")","v":64},null,"Par visio, audio conférence,,,,"]
[{"$f":"IF($A1034<>0,VLOOKUP($A1034,Liste!$A$10:$W$459,5,FALSE),\"\")","v":"19 Rue du Paradis"},null,null,null,null,null,"Signature/ Mandataire :"]
[{"$f":"IF($A1034<>0,VLOOKUP($A1034,Liste!$A$10:$W$459,6,FALSE),\"\")","v":33000},{"$f":"IF($A1034<>0,VLOOKUP($A1034,Liste!$A$10:$W$459,7,FALSE),\"\")","v":"Bordeaux"}]
[{"$f":" IF($A1034<>0, \"Lot \" & VLOOKUP($A1034,Liste!$A$10:$W$459,9,FALSE),\"\")","v":"Lot 109"},{"$f":"IF($A1034<>0,VLOOKUP($A1034,Liste!$A$10:$W$459,10,FALSE),\"\")","v":"Appart,"},{"$f":"IF($A1034<>0,VLOOKUP($A1034,Liste!$A$10:$W$459,11,FALSE),\"\")","v":59}]
[{"$f":"IF($A1034<>0,\"Lot \" & VLOOKUP($A1034,Liste!$A$10:$W$459,12,FALSE),\"\")","v":"Lot 259"},{"$f":"IF($A1034<>0,VLOOKUP($A1034,Liste!$A$10:$W$459,13,FALSE),\"\")","v":"Cave"},{"$f":"IF($A1034<>0,VLOOKUP($A1034,Liste!$A$10:$W$459,14,FALSE),\"\")","v":5}]
[{"$f":"IF($A1034<>0,\"Lot \" & VLOOKUP($A1034,Liste!$A$10:$W$459,15,FALSE),\"\")","v":"Lot "},{"$f":"IF($A1034<>0,VLOOKUP($A1034,Liste!$A$10:$W$459,16,FALSE),\"\")","v":0},{"$f":"IF($A1034<>0,VLOOKUP($A1034,Liste!$A$10:$W$459,17,FALSE),\"\")","v":0},null,null,null,"Arrivé à","après vote de la Résolution N°"]
[{"$f":"IF($A1034<>0,\"Lot \" & VLOOKUP($A1034,Liste!$A$10:$W$459,18,FALSE),\"\")","v":"Lot "},0,{"$f":"IF($A1034<>0,VLOOKUP($A1034,Liste!$A$10:$W$459,19,FALSE),\"\")","v":0},null,null,null,"Départ à","après vote de la Résolution N°"]
[{"$f":"IF($A1034<>0,\"Lot \" & VLOOKUP($A1034,Liste!$A$10:$W$459,21,FALSE),\"\")","v":"Lot "},{"$f":"IF($A1034<>0,VLOOKUP($A1034,Liste!$A$10:$W$459,22,FALSE),\"\")","v":0},{"$f":"IF($A1034<>0,VLOOKUP($A1034,Liste!$A$10:$W$459,23,FALSE),\"\")","v":0},null,null,null,{"$f":"IF(OR(B1035=0,VLOOKUP(A1034,Liste!$A$10:'Liste'!$Z$459,26)<>\"\"),\"\", \"Voir autorisation messages électroniques\")","v":"Voir autorisation messages électroniques"}]
[{"$f":"A1034+1","v":109},null,null,null,null,null,"Par correspondance reçu le "]
[{"$f":"IF($A1043<>0,VLOOKUP($A1043,Liste!$A$10:$W$459,3,FALSE),\"\")","v":"Monieur"},{"$f":"IF($A1043<>0,VLOOKUP($A1043,Liste!$A$10:$W$459,4,FALSE),\"\")","v":"NICOLAS Jean"},null,null,{"$f":"IF($A1043<>0,VLOOKUP($A1043,Liste!$A$10:$W$459,8,FALSE),\"\")","v":93},null,"Par visio, audio conférence,,,,"]
[{"$f":"IF($A1043<>0,VLOOKUP($A1043,Liste!$A$10:$W$459,5,FALSE),\"\")","v":"13 rue de l' espoir"},null,null,null,null,null,"Signature/ Mandataire :"]
[{"$f":"IF($A1043<>0,VLOOKUP($A1043,Liste!$A$10:$W$459,6,FALSE),\"\")","v":75016},{"$f":"IF($A1043<>0,VLOOKUP($A1043,Liste!$A$10:$W$459,7,FALSE),\"\")","v":"Paris "}]
[{"$f":" IF($A1043<>0, \"Lot \" & VLOOKUP($A1043,Liste!$A$10:$W$459,9,FALSE),\"\")","v":"Lot 110"},{"$f":"IF($A1043<>0,VLOOKUP($A1043,Liste!$A$10:$W$459,10,FALSE),\"\")","v":"Appart,"},{"$f":"IF($A1043<>0,VLOOKUP($A1043,Liste!$A$10:$W$459,11,FALSE),\"\")","v":88}]
[{"$f":"IF($A1043<>0,\"Lot \" & VLOOKUP($A1043,Liste!$A$10:$W$459,12,FALSE),\"\")","v":"Lot 260"},{"$f":"IF($A1043<>0,VLOOKUP($A1043,Liste!$A$10:$W$459,13,FALSE),\"\")","v":"Cave"},{"$f":"IF($A1043<>0,VLOOKUP($A1043,Liste!$A$10:$W$459,14,FALSE),\"\")","v":5}]
[{"$f":"IF($A1043<>0,\"Lot \" & VLOOKUP($A1043,Liste!$A$10:$W$459,15,FALSE),\"\")","v":"Lot "},{"$f":"IF($A1043<>0,VLOOKUP($A1043,Liste!$A$10:$W$459,16,FALSE),\"\")","v":0},{"$f":"IF($A1043<>0,VLOOKUP($A1043,Liste!$A$10:$W$459,17,FALSE),\"\")","v":0},null,null,null,"Arrivé à","après vote de la Résolution N°"]
[{"$f":"IF($A1043<>0,\"Lot \" & VLOOKUP($A1043,Liste!$A$10:$W$459,18,FALSE),\"\")","v":"Lot "},0,{"$f":"IF($A1043<>0,VLOOKUP($A1043,Liste!$A$10:$W$459,19,FALSE),\"\")","v":0},null,null,null,"Départ à","après vote de la Résolution N°"]
[{"$f":"IF($A1043<>0,\"Lot \" & VLOOKUP($A1043,Liste!$A$10:$W$459,21,FALSE),\"\")","v":"Lot "},{"$f":"IF($A1043<>0,VLOOKUP($A1043,Liste!$A$10:$W$459,22,FALSE),\"\")","v":0},{"$f":"IF($A1043<>0,VLOOKUP($A1043,Liste!$A$10:$W$459,23,FALSE),\"\")","v":0},null,null,null,{"$f":"IF(OR(B1044=0,VLOOKUP(A1043,Liste!$A$10:'Liste'!$Z$459,26)<>\"\"),\"\", \"Voir autorisation messages électroniques\")","v":"Voir autorisation messages électroniques"}]
[{"$f":"A1043+1","v":110},null,null,null,null,null,"Par correspondance reçu le "]
[{"$f":"IF($A1052<>0,VLOOKUP($A1052,Liste!$A$10:$W$459,3,FALSE),\"\")","v":"Madame"},{"$f":"IF($A1052<>0,VLOOKUP($A1052,Liste!$A$10:$W$459,4,FALSE),\"\")","v":"NICOLE Solange"},null,null,{"$f":"IF($A1052<>0,VLOOKUP($A1052,Liste!$A$10:$W$459,8,FALSE),\"\")","v":90},null,"Par visio, audio conférence,,,,"]
[{"$f":"IF($A1052<>0,VLOOKUP($A1052,Liste!$A$10:$W$459,5,FALSE),\"\")","v":"13 rue de l' espoir"},null,null,null,null,null,"Signature/ Mandataire :"]
[{"$f":"IF($A1052<>0,VLOOKUP($A1052,Liste!$A$10:$W$459,6,FALSE),\"\")","v":75016},{"$f":"IF($A1052<>0,VLOOKUP($A1052,Liste!$A$10:$W$459,7,FALSE),\"\")","v":"Paris "}]
[{"$f":" IF($A1052<>0, \"Lot \" & VLOOKUP($A1052,Liste!$A$10:$W$459,9,FALSE),\"\")","v":"Lot 111"},{"$f":"IF($A1052<>0,VLOOKUP($A1052,Liste!$A$10:$W$459,10,FALSE),\"\")","v":"Appart,"},{"$f":"IF($A1052<>0,VLOOKUP($A1052,Liste!$A$10:$W$459,11,FALSE),\"\")","v":85}]
[{"$f":"IF($A1052<>0,\"Lot \" & VLOOKUP($A1052,Liste!$A$10:$W$459,12,FALSE),\"\")","v":"Lot 261"},{"$f":"IF($A1052<>0,VLOOKUP($A1052,Liste!$A$10:$W$459,13,FALSE),\"\")","v":"Cave"},{"$f":"IF($A1052<>0,VLOOKUP($A1052,Liste!$A$10:$W$459,14,FALSE),\"\")","v":5}]
[{"$f":"IF($A1052<>0,\"Lot \" & VLOOKUP($A1052,Liste!$A$10:$W$459,15,FALSE),\"\")","v":"Lot "},{"$f":"IF($A1052<>0,VLOOKUP($A1052,Liste!$A$10:$W$459,16,FALSE),\"\")","v":0},{"$f":"IF($A1052<>0,VLOOKUP($A1052,Liste!$A$10:$W$459,17,FALSE),\"\")","v":0},null,null,null,"Arrivé à","après vote de la Résolution N°"]
[{"$f":"IF($A1052<>0,\"Lot \" & VLOOKUP($A1052,Liste!$A$10:$W$459,18,FALSE),\"\")","v":"Lot "},0,{"$f":"IF($A1052<>0,VLOOKUP($A1052,Liste!$A$10:$W$459,19,FALSE),\"\")","v":0},null,null,null,"Départ à","après vote de la Résolution N°"]
[{"$f":"IF($A1052<>0,\"Lot \" & VLOOKUP($A1052,Liste!$A$10:$W$459,21,FALSE),\"\")","v":"Lot "},{"$f":"IF($A1052<>0,VLOOKUP($A1052,Liste!$A$10:$W$459,22,FALSE),\"\")","v":0},{"$f":"IF($A1052<>0,VLOOKUP($A1052,Liste!$A$10:$W$459,23,FALSE),\"\")","v":0},null,null,null,{"$f":"IF(OR(B1053=0,VLOOKUP(A1052,Liste!$A$10:'Liste'!$Z$459,26)<>\"\"),\"\", \"Voir autorisation messages électroniques\")","v":"Voir autorisation messages électroniques"}]
[{"$f":"A1052+1","v":111},null,null,null,null,null,"Par correspondance reçu le "]
[{"$f":"IF($A1061<>0,VLOOKUP($A1061,Liste!$A$10:$W$459,3,FALSE),\"\")","v":"Monsieur"},{"$f":"IF($A1061<>0,VLOOKUP($A1061,Liste!$A$10:$W$459,4,FALSE),\"\")","v":"NOGER Pierre "},null,null,{"$f":"IF($A1061<>0,VLOOKUP($A1061,Liste!$A$10:$W$459,8,FALSE),\"\")","v":60},null,"Par visio, audio conférence,,,,"]
[{"$f":"IF($A1061<>0,VLOOKUP($A1061,Liste!$A$10:$W$459,5,FALSE),\"\")","v":"19 Rue du Paradis"},null,null,null,null,null,"Signature/ Mandataire :"]
[{"$f":"IF($A1061<>0,VLOOKUP($A1061,Liste!$A$10:$W$459,6,FALSE),\"\")","v":33000},{"$f":"IF($A1061<>0,VLOOKUP($A1061,Liste!$A$10:$W$459,7,FALSE),\"\")","v":"Bordeaux"}]
[{"$f":" IF($A1061<>0, \"Lot \" & VLOOKUP($A1061,Liste!$A$10:$W$459,9,FALSE),\"\")","v":"Lot 112"},{"$f":"IF($A1061<>0,VLOOKUP($A1061,Liste!$A$10:$W$459,10,FALSE),\"\")","v":"Appart,"},{"$f":"IF($A1061<>0,VLOOKUP($A1061,Liste!$A$10:$W$459,11,FALSE),\"\")","v":55}]
[{"$f":"IF($A1061<>0,\"Lot \" & VLOOKUP($A1061,Liste!$A$10:$W$459,12,FALSE),\"\")","v":"Lot 262"},{"$f":"IF($A1061<>0,VLOOKUP($A1061,Liste!$A$10:$W$459,13,FALSE),\"\")","v":"Cave"},{"$f":"IF($A1061<>0,VLOOKUP($A1061,Liste!$A$10:$W$459,14,FALSE),\"\")","v":5}]
[{"$f":"IF($A1061<>0,\"Lot \" & VLOOKUP($A1061,Liste!$A$10:$W$459,15,FALSE),\"\")","v":"Lot "},{"$f":"IF($A1061<>0,VLOOKUP($A1061,Liste!$A$10:$W$459,16,FALSE),\"\")","v":0},{"$f":"IF($A1061<>0,VLOOKUP($A1061,Liste!$A$10:$W$459,17,FALSE),\"\")","v":0},null,null,null,"Arrivé à","après vote de la Résolution N°"]
[{"$f":"IF($A1061<>0,\"Lot \" & VLOOKUP($A1061,Liste!$A$10:$W$459,18,FALSE),\"\")","v":"Lot "},0,{"$f":"IF($A1061<>0,VLOOKUP($A1061,Liste!$A$10:$W$459,19,FALSE),\"\")","v":0},null,null,null,"Départ à","après vote de la Résolution N°"]
[{"$f":"IF($A1061<>0,\"Lot \" & VLOOKUP($A1061,Liste!$A$10:$W$459,21,FALSE),\"\")","v":"Lot "},{"$f":"IF($A1061<>0,VLOOKUP($A1061,Liste!$A$10:$W$459,22,FALSE),\"\")","v":0},{"$f":"IF($A1061<>0,VLOOKUP($A1061,Liste!$A$10:$W$459,23,FALSE),\"\")","v":0},null,null,null,{"$f":"IF(OR(B1062=0,VLOOKUP(A1061,Liste!$A$10:'Liste'!$Z$459,26)<>\"\"),\"\", \"Voir autorisation messages électroniques\")","v":"Voir autorisation messages électroniques"}]
[{"$f":"A1061+1","v":112},null,null,null,null,null,"Par correspondance reçu le "]
[{"$f":"IF($A1070<>0,VLOOKUP($A1070,Liste!$A$10:$W$459,3,FALSE),\"\")","v":"Monieur"},{"$f":"IF($A1070<>0,VLOOKUP($A1070,Liste!$A$10:$W$459,4,FALSE),\"\")","v":"OLIVA "},null,null,{"$f":"IF($A1070<>0,VLOOKUP($A1070,Liste!$A$10:$W$459,8,FALSE),\"\")","v":80},null,"Par visio, audio conférence,,,,"]
[{"$f":"IF($A1070<>0,VLOOKUP($A1070,Liste!$A$10:$W$459,5,FALSE),\"\")","v":"13 rue de l' espoir"},null,null,null,null,null,"Signature/ Mandataire :"]
[{"$f":"IF($A1070<>0,VLOOKUP($A1070,Liste!$A$10:$W$459,6,FALSE),\"\")","v":75016},{"$f":"IF($A1070<>0,VLOOKUP($A1070,Liste!$A$10:$W$459,7,FALSE),\"\")","v":"Paris "}]
[{"$f":" IF($A1070<>0, \"Lot \" & VLOOKUP($A1070,Liste!$A$10:$W$459,9,FALSE),\"\")","v":"Lot 113"},{"$f":"IF($A1070<>0,VLOOKUP($A1070,Liste!$A$10:$W$459,10,FALSE),\"\")","v":"Appart,"},{"$f":"IF($A1070<>0,VLOOKUP($A1070,Liste!$A$10:$W$459,11,FALSE),\"\")","v":75}]
[{"$f":"IF($A1070<>0,\"Lot \" & VLOOKUP($A1070,Liste!$A$10:$W$459,12,FALSE),\"\")","v":"Lot 263"},{"$f":"IF($A1070<>0,VLOOKUP($A1070,Liste!$A$10:$W$459,13,FALSE),\"\")","v":"Cave"},{"$f":"IF($A1070<>0,VLOOKUP($A1070,Liste!$A$10:$W$459,14,FALSE),\"\")","v":5}]
[{"$f":"IF($A1070<>0,\"Lot \" & VLOOKUP($A1070,Liste!$A$10:$W$459,15,FALSE),\"\")","v":"Lot "},{"$f":"IF($A1070<>0,VLOOKUP($A1070,Liste!$A$10:$W$459,16,FALSE),\"\")","v":0},{"$f":"IF($A1070<>0,VLOOKUP($A1070,Liste!$A$10:$W$459,17,FALSE),\"\")","v":0},null,null,null,"Arrivé à","après vote de la Résolution N°"]
[{"$f":"IF($A1070<>0,\"Lot \" & VLOOKUP($A1070,Liste!$A$10:$W$459,18,FALSE),\"\")","v":"Lot "},0,{"$f":"IF($A1070<>0,VLOOKUP($A1070,Liste!$A$10:$W$459,19,FALSE),\"\")","v":0},null,null,null,"Départ à","après vote de la Résolution N°"]
[{"$f":"IF($A1070<>0,\"Lot \" & VLOOKUP($A1070,Liste!$A$10:$W$459,21,FALSE),\"\")","v":"Lot "},{"$f":"IF($A1070<>0,VLOOKUP($A1070,Liste!$A$10:$W$459,22,FALSE),\"\")","v":0},{"$f":"IF($A1070<>0,VLOOKUP($A1070,Liste!$A$10:$W$459,23,FALSE),\"\")","v":0},null,null,null,{"$f":"IF(OR(B1071=0,VLOOKUP(A1070,Liste!$A$10:'Liste'!$Z$459,26)<>\"\"),\"\", \"Voir autorisation messages électroniques\")","v":"Voir autorisation messages électroniques"}]
[]
[null,null,null,"A S S E M B L E E     G E N E R A L E",null,null,null,null,null,null,"Page",{"$f":"L1003+1","v":15}]
[null,null,null,null,null,"du","2019-12-20"]
[null,null,null,"Résidence Le Paradis; Rue de l' espoir 75016 PARIS"]
[]
[{"$f":"A1070+1","v":113},null,null,null,null,null,"Par correspondance reçu le "]
[{"$f":"IF($A1084<>0,VLOOKUP($A1084,Liste!$A$10:$W$459,3,FALSE),\"\")","v":"Monieur"},{"$f":"IF($A1084<>0,VLOOKUP($A1084,Liste!$A$10:$W$459,4,FALSE),\"\")","v":"OLIVA Stéphane"},null,null,{"$f":"IF($A1084<>0,VLOOKUP($A1084,Liste!$A$10:$W$459,8,FALSE),\"\")","v":59},null,"Par visio, audio conférence,,,,"]
[{"$f":"IF($A1084<>0,VLOOKUP($A1084,Liste!$A$10:$W$459,5,FALSE),\"\")","v":"13 rue de l' espoir"},null,null,null,null,null,"Signature/ Mandataire :"]
[{"$f":"IF($A1084<>0,VLOOKUP($A1084,Liste!$A$10:$W$459,6,FALSE),\"\")","v":75016},{"$f":"IF($A1084<>0,VLOOKUP($A1084,Liste!$A$10:$W$459,7,FALSE),\"\")","v":"Paris "}]
[{"$f":" IF($A1084<>0, \"Lot \" & VLOOKUP($A1084,Liste!$A$10:$W$459,9,FALSE),\"\")","v":"Lot 114"},{"$f":"IF($A1084<>0,VLOOKUP($A1084,Liste!$A$10:$W$459,10,FALSE),\"\")","v":"Appart,"},{"$f":"IF($A1084<>0,VLOOKUP($A1084,Liste!$A$10:$W$459,11,FALSE),\"\")","v":54}]
[{"$f":"IF($A1084<>0,\"Lot \" & VLOOKUP($A1084,Liste!$A$10:$W$459,12,FALSE),\"\")","v":"Lot 264"},{"$f":"IF($A1084<>0,VLOOKUP($A1084,Liste!$A$10:$W$459,13,FALSE),\"\")","v":"Cave"},{"$f":"IF($A1084<>0,VLOOKUP($A1084,Liste!$A$10:$W$459,14,FALSE),\"\")","v":5}]
[{"$f":"IF($A1084<>0,\"Lot \" & VLOOKUP($A1084,Liste!$A$10:$W$459,15,FALSE),\"\")","v":"Lot "},{"$f":"IF($A1084<>0,VLOOKUP($A1084,Liste!$A$10:$W$459,16,FALSE),\"\")","v":0},{"$f":"IF($A1084<>0,VLOOKUP($A1084,Liste!$A$10:$W$459,17,FALSE),\"\")","v":0},null,null,null,"Arrivé à","après vote de la Résolution N°"]
[{"$f":"IF($A1084<>0,\"Lot \" & VLOOKUP($A1084,Liste!$A$10:$W$459,18,FALSE),\"\")","v":"Lot "},0,{"$f":"IF($A1084<>0,VLOOKUP($A1084,Liste!$A$10:$W$459,19,FALSE),\"\")","v":0},null,null,null,"Départ à","après vote de la Résolution N°"]
[{"$f":"IF($A1084<>0,\"Lot \" & VLOOKUP($A1084,Liste!$A$10:$W$459,21,FALSE),\"\")","v":"Lot "},{"$f":"IF($A1084<>0,VLOOKUP($A1084,Liste!$A$10:$W$459,22,FALSE),\"\")","v":0},{"$f":"IF($A1084<>0,VLOOKUP($A1084,Liste!$A$10:$W$459,23,FALSE),\"\")","v":0},null,null,null,{"$f":"IF(OR(B1085=0,VLOOKUP(A1084,Liste!$A$10:'Liste'!$Z$459,26)<>\"\"),\"\", \"Voir autorisation messages électroniques\")","v":"Voir autorisation messages électroniques"}]
[{"$f":"A1084+1","v":114},null,null,null,null,null,"Par correspondance reçu le "]
[{"$f":"IF($A1093<>0,VLOOKUP($A1093,Liste!$A$10:$W$459,3,FALSE),\"\")","v":"Madame"},{"$f":"IF($A1093<>0,VLOOKUP($A1093,Liste!$A$10:$W$459,4,FALSE),\"\")","v":"PEIRANO Olga"},null,null,{"$f":"IF($A1093<>0,VLOOKUP($A1093,Liste!$A$10:$W$459,8,FALSE),\"\")","v":59},null,"Par visio, audio conférence,,,,"]
[{"$f":"IF($A1093<>0,VLOOKUP($A1093,Liste!$A$10:$W$459,5,FALSE),\"\")","v":"13 rue de l' espoir"},null,null,null,null,null,"Signature/ Mandataire :"]
[{"$f":"IF($A1093<>0,VLOOKUP($A1093,Liste!$A$10:$W$459,6,FALSE),\"\")","v":75016},{"$f":"IF($A1093<>0,VLOOKUP($A1093,Liste!$A$10:$W$459,7,FALSE),\"\")","v":"Paris "}]
[{"$f":" IF($A1093<>0, \"Lot \" & VLOOKUP($A1093,Liste!$A$10:$W$459,9,FALSE),\"\")","v":"Lot 115"},{"$f":"IF($A1093<>0,VLOOKUP($A1093,Liste!$A$10:$W$459,10,FALSE),\"\")","v":"Appart,"},{"$f":"IF($A1093<>0,VLOOKUP($A1093,Liste!$A$10:$W$459,11,FALSE),\"\")","v":54}]
[{"$f":"IF($A1093<>0,\"Lot \" & VLOOKUP($A1093,Liste!$A$10:$W$459,12,FALSE),\"\")","v":"Lot 265"},{"$f":"IF($A1093<>0,VLOOKUP($A1093,Liste!$A$10:$W$459,13,FALSE),\"\")","v":"Cave"},{"$f":"IF($A1093<>0,VLOOKUP($A1093,Liste!$A$10:$W$459,14,FALSE),\"\")","v":5}]
[{"$f":"IF($A1093<>0,\"Lot \" & VLOOKUP($A1093,Liste!$A$10:$W$459,15,FALSE),\"\")","v":"Lot "},{"$f":"IF($A1093<>0,VLOOKUP($A1093,Liste!$A$10:$W$459,16,FALSE),\"\")","v":0},{"$f":"IF($A1093<>0,VLOOKUP($A1093,Liste!$A$10:$W$459,17,FALSE),\"\")","v":0},null,null,null,"Arrivé à","après vote de la Résolution N°"]
[{"$f":"IF($A1093<>0,\"Lot \" & VLOOKUP($A1093,Liste!$A$10:$W$459,18,FALSE),\"\")","v":"Lot "},0,{"$f":"IF($A1093<>0,VLOOKUP($A1093,Liste!$A$10:$W$459,19,FALSE),\"\")","v":0},null,null,null,"Départ à","après vote de la Résolution N°"]
[{"$f":"IF($A1093<>0,\"Lot \" & VLOOKUP($A1093,Liste!$A$10:$W$459,21,FALSE),\"\")","v":"Lot "},{"$f":"IF($A1093<>0,VLOOKUP($A1093,Liste!$A$10:$W$459,22,FALSE),\"\")","v":0},{"$f":"IF($A1093<>0,VLOOKUP($A1093,Liste!$A$10:$W$459,23,FALSE),\"\")","v":0},null,null,null,{"$f":"IF(OR(B1094=0,VLOOKUP(A1093,Liste!$A$10:'Liste'!$Z$459,26)<>\"\"),\"\", \"Voir autorisation messages électroniques\")","v":"Voir autorisation messages électroniques"}]
[{"$f":"A1093+1","v":115},null,null,null,null,null,"Par correspondance reçu le "]
[{"$f":"IF($A1102<>0,VLOOKUP($A1102,Liste!$A$10:$W$459,3,FALSE),\"\")","v":"Madame"},{"$f":"IF($A1102<>0,VLOOKUP($A1102,Liste!$A$10:$W$459,4,FALSE),\"\")","v":"PELLEGRIN Jean ierre"},null,null,{"$f":"IF($A1102<>0,VLOOKUP($A1102,Liste!$A$10:$W$459,8,FALSE),\"\")","v":40},null,"Par visio, audio conférence,,,,"]
[{"$f":"IF($A1102<>0,VLOOKUP($A1102,Liste!$A$10:$W$459,5,FALSE),\"\")","v":"19 Rue du Paradis"},null,null,null,null,null,"Signature/ Mandataire :"]
[{"$f":"IF($A1102<>0,VLOOKUP($A1102,Liste!$A$10:$W$459,6,FALSE),\"\")","v":33000},{"$f":"IF($A1102<>0,VLOOKUP($A1102,Liste!$A$10:$W$459,7,FALSE),\"\")","v":"Bordeaux"}]
[{"$f":" IF($A1102<>0, \"Lot \" & VLOOKUP($A1102,Liste!$A$10:$W$459,9,FALSE),\"\")","v":"Lot 116"},{"$f":"IF($A1102<>0,VLOOKUP($A1102,Liste!$A$10:$W$459,10,FALSE),\"\")","v":"Appart,"},{"$f":"IF($A1102<>0,VLOOKUP($A1102,Liste!$A$10:$W$459,11,FALSE),\"\")","v":35}]
[{"$f":"IF($A1102<>0,\"Lot \" & VLOOKUP($A1102,Liste!$A$10:$W$459,12,FALSE),\"\")","v":"Lot 266"},{"$f":"IF($A1102<>0,VLOOKUP($A1102,Liste!$A$10:$W$459,13,FALSE),\"\")","v":"Cave"},{"$f":"IF($A1102<>0,VLOOKUP($A1102,Liste!$A$10:$W$459,14,FALSE),\"\")","v":5}]
[{"$f":"IF($A1102<>0,\"Lot \" & VLOOKUP($A1102,Liste!$A$10:$W$459,15,FALSE),\"\")","v":"Lot "},{"$f":"IF($A1102<>0,VLOOKUP($A1102,Liste!$A$10:$W$459,16,FALSE),\"\")","v":0},{"$f":"IF($A1102<>0,VLOOKUP($A1102,Liste!$A$10:$W$459,17,FALSE),\"\")","v":0},null,null,null,"Arrivé à","après vote de la Résolution N°"]
[{"$f":"IF($A1102<>0,\"Lot \" & VLOOKUP($A1102,Liste!$A$10:$W$459,18,FALSE),\"\")","v":"Lot "},0,{"$f":"IF($A1102<>0,VLOOKUP($A1102,Liste!$A$10:$W$459,19,FALSE),\"\")","v":0},null,null,null,"Départ à","après vote de la Résolution N°"]
[{"$f":"IF($A1102<>0,\"Lot \" & VLOOKUP($A1102,Liste!$A$10:$W$459,21,FALSE),\"\")","v":"Lot "},{"$f":"IF($A1102<>0,VLOOKUP($A1102,Liste!$A$10:$W$459,22,FALSE),\"\")","v":0},{"$f":"IF($A1102<>0,VLOOKUP($A1102,Liste!$A$10:$W$459,23,FALSE),\"\")","v":0},null,null,null,{"$f":"IF(OR(B1103=0,VLOOKUP(A1102,Liste!$A$10:'Liste'!$Z$459,26)<>\"\"),\"\", \"Voir autorisation messages électroniques\")","v":"Voir autorisation messages électroniques"}]
[{"$f":"A1102+1","v":116},null,null,null,null,null,"Par correspondance reçu le "]
[{"$f":"IF($A1111<>0,VLOOKUP($A1111,Liste!$A$10:$W$459,3,FALSE),\"\")","v":"Monsieur"},{"$f":"IF($A1111<>0,VLOOKUP($A1111,Liste!$A$10:$W$459,4,FALSE),\"\")","v":"PETROV Nicolas"},null,null,{"$f":"IF($A1111<>0,VLOOKUP($A1111,Liste!$A$10:$W$459,8,FALSE),\"\")","v":60},null,"Par visio, audio conférence,,,,"]
[{"$f":"IF($A1111<>0,VLOOKUP($A1111,Liste!$A$10:$W$459,5,FALSE),\"\")","v":"19 Rue du Paradis"},null,null,null,null,null,"Signature/ Mandataire :"]
[{"$f":"IF($A1111<>0,VLOOKUP($A1111,Liste!$A$10:$W$459,6,FALSE),\"\")","v":33000},{"$f":"IF($A1111<>0,VLOOKUP($A1111,Liste!$A$10:$W$459,7,FALSE),\"\")","v":"Bordeaux"}]
[{"$f":" IF($A1111<>0, \"Lot \" & VLOOKUP($A1111,Liste!$A$10:$W$459,9,FALSE),\"\")","v":"Lot 117"},{"$f":"IF($A1111<>0,VLOOKUP($A1111,Liste!$A$10:$W$459,10,FALSE),\"\")","v":"Appart,"},{"$f":"IF($A1111<>0,VLOOKUP($A1111,Liste!$A$10:$W$459,11,FALSE),\"\")","v":55}]
[{"$f":"IF($A1111<>0,\"Lot \" & VLOOKUP($A1111,Liste!$A$10:$W$459,12,FALSE),\"\")","v":"Lot 267"},{"$f":"IF($A1111<>0,VLOOKUP($A1111,Liste!$A$10:$W$459,13,FALSE),\"\")","v":"Cave"},{"$f":"IF($A1111<>0,VLOOKUP($A1111,Liste!$A$10:$W$459,14,FALSE),\"\")","v":5}]
[{"$f":"IF($A1111<>0,\"Lot \" & VLOOKUP($A1111,Liste!$A$10:$W$459,15,FALSE),\"\")","v":"Lot "},{"$f":"IF($A1111<>0,VLOOKUP($A1111,Liste!$A$10:$W$459,16,FALSE),\"\")","v":0},{"$f":"IF($A1111<>0,VLOOKUP($A1111,Liste!$A$10:$W$459,17,FALSE),\"\")","v":0},null,null,null,"Arrivé à","après vote de la Résolution N°"]
[{"$f":"IF($A1111<>0,\"Lot \" & VLOOKUP($A1111,Liste!$A$10:$W$459,18,FALSE),\"\")","v":"Lot "},0,{"$f":"IF($A1111<>0,VLOOKUP($A1111,Liste!$A$10:$W$459,19,FALSE),\"\")","v":0},null,null,null,"Départ à","après vote de la Résolution N°"]
[{"$f":"IF($A1111<>0,\"Lot \" & VLOOKUP($A1111,Liste!$A$10:$W$459,21,FALSE),\"\")","v":"Lot "},{"$f":"IF($A1111<>0,VLOOKUP($A1111,Liste!$A$10:$W$459,22,FALSE),\"\")","v":0},{"$f":"IF($A1111<>0,VLOOKUP($A1111,Liste!$A$10:$W$459,23,FALSE),\"\")","v":0},null,null,null,{"$f":"IF(OR(B1112=0,VLOOKUP(A1111,Liste!$A$10:'Liste'!$Z$459,26)<>\"\"),\"\", \"Voir autorisation messages électroniques\")","v":"Voir autorisation messages électroniques"}]
[{"$f":"A1111+1","v":117},null,null,null,null,null,"Par correspondance reçu le "]
[{"$f":"IF($A1120<>0,VLOOKUP($A1120,Liste!$A$10:$W$459,3,FALSE),\"\")","v":"Monsieur"},{"$f":"IF($A1120<>0,VLOOKUP($A1120,Liste!$A$10:$W$459,4,FALSE),\"\")","v":"PEZTITON René"},null,null,{"$f":"IF($A1120<>0,VLOOKUP($A1120,Liste!$A$10:$W$459,8,FALSE),\"\")","v":47},null,"Par visio, audio conférence,,,,"]
[{"$f":"IF($A1120<>0,VLOOKUP($A1120,Liste!$A$10:$W$459,5,FALSE),\"\")","v":"19 Rue du Paradis"},null,null,null,null,null,"Signature/ Mandataire :"]
[{"$f":"IF($A1120<>0,VLOOKUP($A1120,Liste!$A$10:$W$459,6,FALSE),\"\")","v":33000},{"$f":"IF($A1120<>0,VLOOKUP($A1120,Liste!$A$10:$W$459,7,FALSE),\"\")","v":"Bordeaux"}]
[{"$f":" IF($A1120<>0, \"Lot \" & VLOOKUP($A1120,Liste!$A$10:$W$459,9,FALSE),\"\")","v":"Lot 118"},{"$f":"IF($A1120<>0,VLOOKUP($A1120,Liste!$A$10:$W$459,10,FALSE),\"\")","v":"Appart,"},{"$f":"IF($A1120<>0,VLOOKUP($A1120,Liste!$A$10:$W$459,11,FALSE),\"\")","v":42}]
[{"$f":"IF($A1120<>0,\"Lot \" & VLOOKUP($A1120,Liste!$A$10:$W$459,12,FALSE),\"\")","v":"Lot 268"},{"$f":"IF($A1120<>0,VLOOKUP($A1120,Liste!$A$10:$W$459,13,FALSE),\"\")","v":"Cave"},{"$f":"IF($A1120<>0,VLOOKUP($A1120,Liste!$A$10:$W$459,14,FALSE),\"\")","v":5}]
[{"$f":"IF($A1120<>0,\"Lot \" & VLOOKUP($A1120,Liste!$A$10:$W$459,15,FALSE),\"\")","v":"Lot "},{"$f":"IF($A1120<>0,VLOOKUP($A1120,Liste!$A$10:$W$459,16,FALSE),\"\")","v":0},{"$f":"IF($A1120<>0,VLOOKUP($A1120,Liste!$A$10:$W$459,17,FALSE),\"\")","v":0},null,null,null,"Arrivé à","après vote de la Résolution N°"]
[{"$f":"IF($A1120<>0,\"Lot \" & VLOOKUP($A1120,Liste!$A$10:$W$459,18,FALSE),\"\")","v":"Lot "},0,{"$f":"IF($A1120<>0,VLOOKUP($A1120,Liste!$A$10:$W$459,19,FALSE),\"\")","v":0},null,null,null,"Départ à","après vote de la Résolution N°"]
[{"$f":"IF($A1120<>0,\"Lot \" & VLOOKUP($A1120,Liste!$A$10:$W$459,21,FALSE),\"\")","v":"Lot "},{"$f":"IF($A1120<>0,VLOOKUP($A1120,Liste!$A$10:$W$459,22,FALSE),\"\")","v":0},{"$f":"IF($A1120<>0,VLOOKUP($A1120,Liste!$A$10:$W$459,23,FALSE),\"\")","v":0},null,null,null,{"$f":"IF(OR(B1121=0,VLOOKUP(A1120,Liste!$A$10:'Liste'!$Z$459,26)<>\"\"),\"\", \"Voir autorisation messages électroniques\")","v":"Voir autorisation messages électroniques"}]
[{"$f":"A1120+1","v":118},null,null,null,null,null,"Par correspondance reçu le "]
[{"$f":"IF($A1129<>0,VLOOKUP($A1129,Liste!$A$10:$W$459,3,FALSE),\"\")","v":"Monieur"},{"$f":"IF($A1129<>0,VLOOKUP($A1129,Liste!$A$10:$W$459,4,FALSE),\"\")","v":"PISTONE Georges"},null,null,{"$f":"IF($A1129<>0,VLOOKUP($A1129,Liste!$A$10:$W$459,8,FALSE),\"\")","v":70},null,"Par visio, audio conférence,,,,"]
[{"$f":"IF($A1129<>0,VLOOKUP($A1129,Liste!$A$10:$W$459,5,FALSE),\"\")","v":"13 rue de l' espoir"},null,null,null,null,null,"Signature/ Mandataire :"]
[{"$f":"IF($A1129<>0,VLOOKUP($A1129,Liste!$A$10:$W$459,6,FALSE),\"\")","v":75016},{"$f":"IF($A1129<>0,VLOOKUP($A1129,Liste!$A$10:$W$459,7,FALSE),\"\")","v":"Paris "}]
[{"$f":" IF($A1129<>0, \"Lot \" & VLOOKUP($A1129,Liste!$A$10:$W$459,9,FALSE),\"\")","v":"Lot 119"},{"$f":"IF($A1129<>0,VLOOKUP($A1129,Liste!$A$10:$W$459,10,FALSE),\"\")","v":"Appart,"},{"$f":"IF($A1129<>0,VLOOKUP($A1129,Liste!$A$10:$W$459,11,FALSE),\"\")","v":65}]
[{"$f":"IF($A1129<>0,\"Lot \" & VLOOKUP($A1129,Liste!$A$10:$W$459,12,FALSE),\"\")","v":"Lot 269"},{"$f":"IF($A1129<>0,VLOOKUP($A1129,Liste!$A$10:$W$459,13,FALSE),\"\")","v":"Cave"},{"$f":"IF($A1129<>0,VLOOKUP($A1129,Liste!$A$10:$W$459,14,FALSE),\"\")","v":5}]
[{"$f":"IF($A1129<>0,\"Lot \" & VLOOKUP($A1129,Liste!$A$10:$W$459,15,FALSE),\"\")","v":"Lot "},{"$f":"IF($A1129<>0,VLOOKUP($A1129,Liste!$A$10:$W$459,16,FALSE),\"\")","v":0},{"$f":"IF($A1129<>0,VLOOKUP($A1129,Liste!$A$10:$W$459,17,FALSE),\"\")","v":0},null,null,null,"Arrivé à","après vote de la Résolution N°"]
[{"$f":"IF($A1129<>0,\"Lot \" & VLOOKUP($A1129,Liste!$A$10:$W$459,18,FALSE),\"\")","v":"Lot "},0,{"$f":"IF($A1129<>0,VLOOKUP($A1129,Liste!$A$10:$W$459,19,FALSE),\"\")","v":0},null,null,null,"Départ à","après vote de la Résolution N°"]
[{"$f":"IF($A1129<>0,\"Lot \" & VLOOKUP($A1129,Liste!$A$10:$W$459,21,FALSE),\"\")","v":"Lot "},{"$f":"IF($A1129<>0,VLOOKUP($A1129,Liste!$A$10:$W$459,22,FALSE),\"\")","v":0},{"$f":"IF($A1129<>0,VLOOKUP($A1129,Liste!$A$10:$W$459,23,FALSE),\"\")","v":0},null,null,null,{"$f":"IF(OR(B1130=0,VLOOKUP(A1129,Liste!$A$10:'Liste'!$Z$459,26)<>\"\"),\"\", \"Voir autorisation messages électroniques\")","v":"Voir autorisation messages électroniques"}]
[{"$f":"A1129+1","v":119},null,null,null,null,null,"Par correspondance reçu le "]
[{"$f":"IF($A1138<>0,VLOOKUP($A1138,Liste!$A$10:$W$459,3,FALSE),\"\")","v":"Monieur"},{"$f":"IF($A1138<>0,VLOOKUP($A1138,Liste!$A$10:$W$459,4,FALSE),\"\")","v":"PONCELET Didier"},null,null,{"$f":"IF($A1138<>0,VLOOKUP($A1138,Liste!$A$10:$W$459,8,FALSE),\"\")","v":52},null,"Par visio, audio conférence,,,,"]
[{"$f":"IF($A1138<>0,VLOOKUP($A1138,Liste!$A$10:$W$459,5,FALSE),\"\")","v":"13 rue de l' espoir"},null,null,null,null,null,"Signature/ Mandataire :"]
[{"$f":"IF($A1138<>0,VLOOKUP($A1138,Liste!$A$10:$W$459,6,FALSE),\"\")","v":75016},{"$f":"IF($A1138<>0,VLOOKUP($A1138,Liste!$A$10:$W$459,7,FALSE),\"\")","v":"Paris "}]
[{"$f":" IF($A1138<>0, \"Lot \" & VLOOKUP($A1138,Liste!$A$10:$W$459,9,FALSE),\"\")","v":"Lot 120"},{"$f":"IF($A1138<>0,VLOOKUP($A1138,Liste!$A$10:$W$459,10,FALSE),\"\")","v":"Appart,"},{"$f":"IF($A1138<>0,VLOOKUP($A1138,Liste!$A$10:$W$459,11,FALSE),\"\")","v":47}]
[{"$f":"IF($A1138<>0,\"Lot \" & VLOOKUP($A1138,Liste!$A$10:$W$459,12,FALSE),\"\")","v":"Lot 270"},{"$f":"IF($A1138<>0,VLOOKUP($A1138,Liste!$A$10:$W$459,13,FALSE),\"\")","v":"Cave"},{"$f":"IF($A1138<>0,VLOOKUP($A1138,Liste!$A$10:$W$459,14,FALSE),\"\")","v":5}]
[{"$f":"IF($A1138<>0,\"Lot \" & VLOOKUP($A1138,Liste!$A$10:$W$459,15,FALSE),\"\")","v":"Lot "},{"$f":"IF($A1138<>0,VLOOKUP($A1138,Liste!$A$10:$W$459,16,FALSE),\"\")","v":0},{"$f":"IF($A1138<>0,VLOOKUP($A1138,Liste!$A$10:$W$459,17,FALSE),\"\")","v":0},null,null,null,"Arrivé à","après vote de la Résolution N°"]
[{"$f":"IF($A1138<>0,\"Lot \" & VLOOKUP($A1138,Liste!$A$10:$W$459,18,FALSE),\"\")","v":"Lot "},0,{"$f":"IF($A1138<>0,VLOOKUP($A1138,Liste!$A$10:$W$459,19,FALSE),\"\")","v":0},null,null,null,"Départ à","après vote de la Résolution N°"]
[{"$f":"IF($A1138<>0,\"Lot \" & VLOOKUP($A1138,Liste!$A$10:$W$459,21,FALSE),\"\")","v":"Lot "},{"$f":"IF($A1138<>0,VLOOKUP($A1138,Liste!$A$10:$W$459,22,FALSE),\"\")","v":0},{"$f":"IF($A1138<>0,VLOOKUP($A1138,Liste!$A$10:$W$459,23,FALSE),\"\")","v":0},null,null,null,{"$f":"IF(OR(B1139=0,VLOOKUP(A1138,Liste!$A$10:'Liste'!$Z$459,26)<>\"\"),\"\", \"Voir autorisation messages électroniques\")","v":"Voir autorisation messages électroniques"}]
[{"$f":"A1138+1","v":120},null,null,null,null,null,"Par correspondance reçu le "]
[{"$f":"IF($A1147<>0,VLOOKUP($A1147,Liste!$A$10:$W$459,3,FALSE),\"\")","v":"Monieur"},{"$f":"IF($A1147<>0,VLOOKUP($A1147,Liste!$A$10:$W$459,4,FALSE),\"\")","v":"PROUVOST Jean"},null,null,{"$f":"IF($A1147<>0,VLOOKUP($A1147,Liste!$A$10:$W$459,8,FALSE),\"\")","v":90},null,"Par visio, audio conférence,,,,"]
[{"$f":"IF($A1147<>0,VLOOKUP($A1147,Liste!$A$10:$W$459,5,FALSE),\"\")","v":"13 rue de l' espoir"},null,null,null,null,null,"Signature/ Mandataire :"]
[{"$f":"IF($A1147<>0,VLOOKUP($A1147,Liste!$A$10:$W$459,6,FALSE),\"\")","v":75016},{"$f":"IF($A1147<>0,VLOOKUP($A1147,Liste!$A$10:$W$459,7,FALSE),\"\")","v":"Paris "}]
[{"$f":" IF($A1147<>0, \"Lot \" & VLOOKUP($A1147,Liste!$A$10:$W$459,9,FALSE),\"\")","v":"Lot 121"},{"$f":"IF($A1147<>0,VLOOKUP($A1147,Liste!$A$10:$W$459,10,FALSE),\"\")","v":"Appart,"},{"$f":"IF($A1147<>0,VLOOKUP($A1147,Liste!$A$10:$W$459,11,FALSE),\"\")","v":85}]
[{"$f":"IF($A1147<>0,\"Lot \" & VLOOKUP($A1147,Liste!$A$10:$W$459,12,FALSE),\"\")","v":"Lot 271"},{"$f":"IF($A1147<>0,VLOOKUP($A1147,Liste!$A$10:$W$459,13,FALSE),\"\")","v":"Cave"},{"$f":"IF($A1147<>0,VLOOKUP($A1147,Liste!$A$10:$W$459,14,FALSE),\"\")","v":5}]
[{"$f":"IF($A1147<>0,\"Lot \" & VLOOKUP($A1147,Liste!$A$10:$W$459,15,FALSE),\"\")","v":"Lot "},{"$f":"IF($A1147<>0,VLOOKUP($A1147,Liste!$A$10:$W$459,16,FALSE),\"\")","v":0},{"$f":"IF($A1147<>0,VLOOKUP($A1147,Liste!$A$10:$W$459,17,FALSE),\"\")","v":0},null,null,null,"Arrivé à","après vote de la Résolution N°"]
[{"$f":"IF($A1147<>0,\"Lot \" & VLOOKUP($A1147,Liste!$A$10:$W$459,18,FALSE),\"\")","v":"Lot "},0,{"$f":"IF($A1147<>0,VLOOKUP($A1147,Liste!$A$10:$W$459,19,FALSE),\"\")","v":0},null,null,null,"Départ à","après vote de la Résolution N°"]
[{"$f":"IF($A1147<>0,\"Lot \" & VLOOKUP($A1147,Liste!$A$10:$W$459,21,FALSE),\"\")","v":"Lot "},{"$f":"IF($A1147<>0,VLOOKUP($A1147,Liste!$A$10:$W$459,22,FALSE),\"\")","v":0},{"$f":"IF($A1147<>0,VLOOKUP($A1147,Liste!$A$10:$W$459,23,FALSE),\"\")","v":0},null,null,null,{"$f":"IF(OR(B1148=0,VLOOKUP(A1147,Liste!$A$10:'Liste'!$Z$459,26)<>\"\"),\"\", \"Voir autorisation messages électroniques\")","v":"Voir autorisation messages électroniques"}]
[]
[null,null,null,"A S S E M B L E E     G E N E R A L E",null,null,null,null,null,null,"Page",{"$f":"L1080+1","v":16}]
[null,null,null,null,null,"du","2019-12-20"]
[null,null,null,"Résidence Le Paradis; Rue de l' espoir 75016 PARIS"]
[]
[{"$f":"A1147+1","v":121},null,null,null,null,null,"Par correspondance reçu le "]
[{"$f":"IF($A1161<>0,VLOOKUP($A1161,Liste!$A$10:$W$459,3,FALSE),\"\")","v":"Monieur"},{"$f":"IF($A1161<>0,VLOOKUP($A1161,Liste!$A$10:$W$459,4,FALSE),\"\")","v":"PUONS René"},null,null,{"$f":"IF($A1161<>0,VLOOKUP($A1161,Liste!$A$10:$W$459,8,FALSE),\"\")","v":103},null,"Par visio, audio conférence,,,,"]
[{"$f":"IF($A1161<>0,VLOOKUP($A1161,Liste!$A$10:$W$459,5,FALSE),\"\")","v":"13 rue de l' espoir"},null,null,null,null,null,"Signature/ Mandataire :"]
[{"$f":"IF($A1161<>0,VLOOKUP($A1161,Liste!$A$10:$W$459,6,FALSE),\"\")","v":75016},{"$f":"IF($A1161<>0,VLOOKUP($A1161,Liste!$A$10:$W$459,7,FALSE),\"\")","v":"Paris "}]
[{"$f":" IF($A1161<>0, \"Lot \" & VLOOKUP($A1161,Liste!$A$10:$W$459,9,FALSE),\"\")","v":"Lot 122"},{"$f":"IF($A1161<>0,VLOOKUP($A1161,Liste!$A$10:$W$459,10,FALSE),\"\")","v":"Appart,"},{"$f":"IF($A1161<>0,VLOOKUP($A1161,Liste!$A$10:$W$459,11,FALSE),\"\")","v":98}]
[{"$f":"IF($A1161<>0,\"Lot \" & VLOOKUP($A1161,Liste!$A$10:$W$459,12,FALSE),\"\")","v":"Lot 272"},{"$f":"IF($A1161<>0,VLOOKUP($A1161,Liste!$A$10:$W$459,13,FALSE),\"\")","v":"Cave"},{"$f":"IF($A1161<>0,VLOOKUP($A1161,Liste!$A$10:$W$459,14,FALSE),\"\")","v":5}]
[{"$f":"IF($A1161<>0,\"Lot \" & VLOOKUP($A1161,Liste!$A$10:$W$459,15,FALSE),\"\")","v":"Lot "},{"$f":"IF($A1161<>0,VLOOKUP($A1161,Liste!$A$10:$W$459,16,FALSE),\"\")","v":0},{"$f":"IF($A1161<>0,VLOOKUP($A1161,Liste!$A$10:$W$459,17,FALSE),\"\")","v":0},null,null,null,"Arrivé à","après vote de la Résolution N°"]
[{"$f":"IF($A1161<>0,\"Lot \" & VLOOKUP($A1161,Liste!$A$10:$W$459,18,FALSE),\"\")","v":"Lot "},0,{"$f":"IF($A1161<>0,VLOOKUP($A1161,Liste!$A$10:$W$459,19,FALSE),\"\")","v":0},null,null,null,"Départ à","après vote de la Résolution N°"]
[{"$f":"IF($A1161<>0,\"Lot \" & VLOOKUP($A1161,Liste!$A$10:$W$459,21,FALSE),\"\")","v":"Lot "},{"$f":"IF($A1161<>0,VLOOKUP($A1161,Liste!$A$10:$W$459,22,FALSE),\"\")","v":0},{"$f":"IF($A1161<>0,VLOOKUP($A1161,Liste!$A$10:$W$459,23,FALSE),\"\")","v":0},null,null,null,{"$f":"IF(OR(B1162=0,VLOOKUP(A1161,Liste!$A$10:'Liste'!$Z$459,26)<>\"\"),\"\", \"Voir autorisation messages électroniques\")","v":"Voir autorisation messages électroniques"}]
[{"$f":"A1161+1","v":122},null,null,null,null,null,"Par correspondance reçu le "]
[{"$f":"IF($A1170<>0,VLOOKUP($A1170,Liste!$A$10:$W$459,3,FALSE),\"\")","v":"Monieur"},{"$f":"IF($A1170<>0,VLOOKUP($A1170,Liste!$A$10:$W$459,4,FALSE),\"\")","v":"RAYNAUD Laurence"},null,null,{"$f":"IF($A1170<>0,VLOOKUP($A1170,Liste!$A$10:$W$459,8,FALSE),\"\")","v":83},null,"Par visio, audio conférence,,,,"]
[{"$f":"IF($A1170<>0,VLOOKUP($A1170,Liste!$A$10:$W$459,5,FALSE),\"\")","v":"13 rue de l' espoir"},null,null,null,null,null,"Signature/ Mandataire :"]
[{"$f":"IF($A1170<>0,VLOOKUP($A1170,Liste!$A$10:$W$459,6,FALSE),\"\")","v":75016},{"$f":"IF($A1170<>0,VLOOKUP($A1170,Liste!$A$10:$W$459,7,FALSE),\"\")","v":"Paris "}]
[{"$f":" IF($A1170<>0, \"Lot \" & VLOOKUP($A1170,Liste!$A$10:$W$459,9,FALSE),\"\")","v":"Lot 123"},{"$f":"IF($A1170<>0,VLOOKUP($A1170,Liste!$A$10:$W$459,10,FALSE),\"\")","v":"Appart,"},{"$f":"IF($A1170<>0,VLOOKUP($A1170,Liste!$A$10:$W$459,11,FALSE),\"\")","v":78}]
[{"$f":"IF($A1170<>0,\"Lot \" & VLOOKUP($A1170,Liste!$A$10:$W$459,12,FALSE),\"\")","v":"Lot 273"},{"$f":"IF($A1170<>0,VLOOKUP($A1170,Liste!$A$10:$W$459,13,FALSE),\"\")","v":"Cave"},{"$f":"IF($A1170<>0,VLOOKUP($A1170,Liste!$A$10:$W$459,14,FALSE),\"\")","v":5}]
[{"$f":"IF($A1170<>0,\"Lot \" & VLOOKUP($A1170,Liste!$A$10:$W$459,15,FALSE),\"\")","v":"Lot "},{"$f":"IF($A1170<>0,VLOOKUP($A1170,Liste!$A$10:$W$459,16,FALSE),\"\")","v":0},{"$f":"IF($A1170<>0,VLOOKUP($A1170,Liste!$A$10:$W$459,17,FALSE),\"\")","v":0},null,null,null,"Arrivé à","après vote de la Résolution N°"]
[{"$f":"IF($A1170<>0,\"Lot \" & VLOOKUP($A1170,Liste!$A$10:$W$459,18,FALSE),\"\")","v":"Lot "},0,{"$f":"IF($A1170<>0,VLOOKUP($A1170,Liste!$A$10:$W$459,19,FALSE),\"\")","v":0},null,null,null,"Départ à","après vote de la Résolution N°"]
[{"$f":"IF($A1170<>0,\"Lot \" & VLOOKUP($A1170,Liste!$A$10:$W$459,21,FALSE),\"\")","v":"Lot "},{"$f":"IF($A1170<>0,VLOOKUP($A1170,Liste!$A$10:$W$459,22,FALSE),\"\")","v":0},{"$f":"IF($A1170<>0,VLOOKUP($A1170,Liste!$A$10:$W$459,23,FALSE),\"\")","v":0},null,null,null,{"$f":"IF(OR(B1171=0,VLOOKUP(A1170,Liste!$A$10:'Liste'!$Z$459,26)<>\"\"),\"\", \"Voir autorisation messages électroniques\")","v":"Voir autorisation messages électroniques"}]
[{"$f":"A1170+1","v":123},null,null,null,null,null,"Par correspondance reçu le "]
[{"$f":"IF($A1179<>0,VLOOKUP($A1179,Liste!$A$10:$W$459,3,FALSE),\"\")","v":"Madame"},{"$f":"IF($A1179<>0,VLOOKUP($A1179,Liste!$A$10:$W$459,4,FALSE),\"\")","v":"RENAUD Cécile"},null,null,{"$f":"IF($A1179<>0,VLOOKUP($A1179,Liste!$A$10:$W$459,8,FALSE),\"\")","v":91},null,"Par visio, audio conférence,,,,"]
[{"$f":"IF($A1179<>0,VLOOKUP($A1179,Liste!$A$10:$W$459,5,FALSE),\"\")","v":"13 rue de l' espoir"},null,null,null,null,null,"Signature/ Mandataire :"]
[{"$f":"IF($A1179<>0,VLOOKUP($A1179,Liste!$A$10:$W$459,6,FALSE),\"\")","v":75016},{"$f":"IF($A1179<>0,VLOOKUP($A1179,Liste!$A$10:$W$459,7,FALSE),\"\")","v":"Paris "}]
[{"$f":" IF($A1179<>0, \"Lot \" & VLOOKUP($A1179,Liste!$A$10:$W$459,9,FALSE),\"\")","v":"Lot 124"},{"$f":"IF($A1179<>0,VLOOKUP($A1179,Liste!$A$10:$W$459,10,FALSE),\"\")","v":"Appart,"},{"$f":"IF($A1179<>0,VLOOKUP($A1179,Liste!$A$10:$W$459,11,FALSE),\"\")","v":86}]
[{"$f":"IF($A1179<>0,\"Lot \" & VLOOKUP($A1179,Liste!$A$10:$W$459,12,FALSE),\"\")","v":"Lot 274"},{"$f":"IF($A1179<>0,VLOOKUP($A1179,Liste!$A$10:$W$459,13,FALSE),\"\")","v":"Cave"},{"$f":"IF($A1179<>0,VLOOKUP($A1179,Liste!$A$10:$W$459,14,FALSE),\"\")","v":5}]
[{"$f":"IF($A1179<>0,\"Lot \" & VLOOKUP($A1179,Liste!$A$10:$W$459,15,FALSE),\"\")","v":"Lot "},{"$f":"IF($A1179<>0,VLOOKUP($A1179,Liste!$A$10:$W$459,16,FALSE),\"\")","v":0},{"$f":"IF($A1179<>0,VLOOKUP($A1179,Liste!$A$10:$W$459,17,FALSE),\"\")","v":0},null,null,null,"Arrivé à","après vote de la Résolution N°"]
[{"$f":"IF($A1179<>0,\"Lot \" & VLOOKUP($A1179,Liste!$A$10:$W$459,18,FALSE),\"\")","v":"Lot "},0,{"$f":"IF($A1179<>0,VLOOKUP($A1179,Liste!$A$10:$W$459,19,FALSE),\"\")","v":0},null,null,null,"Départ à","après vote de la Résolution N°"]
[{"$f":"IF($A1179<>0,\"Lot \" & VLOOKUP($A1179,Liste!$A$10:$W$459,21,FALSE),\"\")","v":"Lot "},{"$f":"IF($A1179<>0,VLOOKUP($A1179,Liste!$A$10:$W$459,22,FALSE),\"\")","v":0},{"$f":"IF($A1179<>0,VLOOKUP($A1179,Liste!$A$10:$W$459,23,FALSE),\"\")","v":0},null,null,null,{"$f":"IF(OR(B1180=0,VLOOKUP(A1179,Liste!$A$10:'Liste'!$Z$459,26)<>\"\"),\"\", \"Voir autorisation messages électroniques\")","v":"Voir autorisation messages électroniques"}]
[{"$f":"A1179+1","v":124},null,null,null,null,null,"Par correspondance reçu le "]
[{"$f":"IF($A1188<>0,VLOOKUP($A1188,Liste!$A$10:$W$459,3,FALSE),\"\")","v":"Madame"},{"$f":"IF($A1188<>0,VLOOKUP($A1188,Liste!$A$10:$W$459,4,FALSE),\"\")","v":"RICHOUX Alexandra"},null,null,{"$f":"IF($A1188<>0,VLOOKUP($A1188,Liste!$A$10:$W$459,8,FALSE),\"\")","v":55},null,"Par visio, audio conférence,,,,"]
[{"$f":"IF($A1188<>0,VLOOKUP($A1188,Liste!$A$10:$W$459,5,FALSE),\"\")","v":"13 rue de l' espoir"},null,null,null,null,null,"Signature/ Mandataire :"]
[{"$f":"IF($A1188<>0,VLOOKUP($A1188,Liste!$A$10:$W$459,6,FALSE),\"\")","v":75016},{"$f":"IF($A1188<>0,VLOOKUP($A1188,Liste!$A$10:$W$459,7,FALSE),\"\")","v":"Paris "}]
[{"$f":" IF($A1188<>0, \"Lot \" & VLOOKUP($A1188,Liste!$A$10:$W$459,9,FALSE),\"\")","v":"Lot 125"},{"$f":"IF($A1188<>0,VLOOKUP($A1188,Liste!$A$10:$W$459,10,FALSE),\"\")","v":"Appart,"},{"$f":"IF($A1188<>0,VLOOKUP($A1188,Liste!$A$10:$W$459,11,FALSE),\"\")","v":50}]
[{"$f":"IF($A1188<>0,\"Lot \" & VLOOKUP($A1188,Liste!$A$10:$W$459,12,FALSE),\"\")","v":"Lot 275"},{"$f":"IF($A1188<>0,VLOOKUP($A1188,Liste!$A$10:$W$459,13,FALSE),\"\")","v":"Cave"},{"$f":"IF($A1188<>0,VLOOKUP($A1188,Liste!$A$10:$W$459,14,FALSE),\"\")","v":5}]
[{"$f":"IF($A1188<>0,\"Lot \" & VLOOKUP($A1188,Liste!$A$10:$W$459,15,FALSE),\"\")","v":"Lot "},{"$f":"IF($A1188<>0,VLOOKUP($A1188,Liste!$A$10:$W$459,16,FALSE),\"\")","v":0},{"$f":"IF($A1188<>0,VLOOKUP($A1188,Liste!$A$10:$W$459,17,FALSE),\"\")","v":0},null,null,null,"Arrivé à","après vote de la Résolution N°"]
[{"$f":"IF($A1188<>0,\"Lot \" & VLOOKUP($A1188,Liste!$A$10:$W$459,18,FALSE),\"\")","v":"Lot "},0,{"$f":"IF($A1188<>0,VLOOKUP($A1188,Liste!$A$10:$W$459,19,FALSE),\"\")","v":0},null,null,null,"Départ à","après vote de la Résolution N°"]
[{"$f":"IF($A1188<>0,\"Lot \" & VLOOKUP($A1188,Liste!$A$10:$W$459,21,FALSE),\"\")","v":"Lot "},{"$f":"IF($A1188<>0,VLOOKUP($A1188,Liste!$A$10:$W$459,22,FALSE),\"\")","v":0},{"$f":"IF($A1188<>0,VLOOKUP($A1188,Liste!$A$10:$W$459,23,FALSE),\"\")","v":0},null,null,null,{"$f":"IF(OR(B1189=0,VLOOKUP(A1188,Liste!$A$10:'Liste'!$Z$459,26)<>\"\"),\"\", \"Voir autorisation messages électroniques\")","v":"Voir autorisation messages électroniques"}]
[{"$f":"A1188+1","v":125},null,null,null,null,null,"Par correspondance reçu le "]
[{"$f":"IF($A1197<>0,VLOOKUP($A1197,Liste!$A$10:$W$459,3,FALSE),\"\")","v":"Madame"},{"$f":"IF($A1197<>0,VLOOKUP($A1197,Liste!$A$10:$W$459,4,FALSE),\"\")","v":"ROBERT MARMO Josiane"},null,null,{"$f":"IF($A1197<>0,VLOOKUP($A1197,Liste!$A$10:$W$459,8,FALSE),\"\")","v":92},null,"Par visio, audio conférence,,,,"]
[{"$f":"IF($A1197<>0,VLOOKUP($A1197,Liste!$A$10:$W$459,5,FALSE),\"\")","v":"13 rue de l' espoir"},null,null,null,null,null,"Signature/ Mandataire :"]
[{"$f":"IF($A1197<>0,VLOOKUP($A1197,Liste!$A$10:$W$459,6,FALSE),\"\")","v":75016},{"$f":"IF($A1197<>0,VLOOKUP($A1197,Liste!$A$10:$W$459,7,FALSE),\"\")","v":"Paris "}]
[{"$f":" IF($A1197<>0, \"Lot \" & VLOOKUP($A1197,Liste!$A$10:$W$459,9,FALSE),\"\")","v":"Lot 126"},{"$f":"IF($A1197<>0,VLOOKUP($A1197,Liste!$A$10:$W$459,10,FALSE),\"\")","v":"Appart,"},{"$f":"IF($A1197<>0,VLOOKUP($A1197,Liste!$A$10:$W$459,11,FALSE),\"\")","v":87}]
[{"$f":"IF($A1197<>0,\"Lot \" & VLOOKUP($A1197,Liste!$A$10:$W$459,12,FALSE),\"\")","v":"Lot 276"},{"$f":"IF($A1197<>0,VLOOKUP($A1197,Liste!$A$10:$W$459,13,FALSE),\"\")","v":"Cave"},{"$f":"IF($A1197<>0,VLOOKUP($A1197,Liste!$A$10:$W$459,14,FALSE),\"\")","v":5}]
[{"$f":"IF($A1197<>0,\"Lot \" & VLOOKUP($A1197,Liste!$A$10:$W$459,15,FALSE),\"\")","v":"Lot "},{"$f":"IF($A1197<>0,VLOOKUP($A1197,Liste!$A$10:$W$459,16,FALSE),\"\")","v":0},{"$f":"IF($A1197<>0,VLOOKUP($A1197,Liste!$A$10:$W$459,17,FALSE),\"\")","v":0},null,null,null,"Arrivé à","après vote de la Résolution N°"]
[{"$f":"IF($A1197<>0,\"Lot \" & VLOOKUP($A1197,Liste!$A$10:$W$459,18,FALSE),\"\")","v":"Lot "},0,{"$f":"IF($A1197<>0,VLOOKUP($A1197,Liste!$A$10:$W$459,19,FALSE),\"\")","v":0},null,null,null,"Départ à","après vote de la Résolution N°"]
[{"$f":"IF($A1197<>0,\"Lot \" & VLOOKUP($A1197,Liste!$A$10:$W$459,21,FALSE),\"\")","v":"Lot "},{"$f":"IF($A1197<>0,VLOOKUP($A1197,Liste!$A$10:$W$459,22,FALSE),\"\")","v":0},{"$f":"IF($A1197<>0,VLOOKUP($A1197,Liste!$A$10:$W$459,23,FALSE),\"\")","v":0},null,null,null,{"$f":"IF(OR(B1198=0,VLOOKUP(A1197,Liste!$A$10:'Liste'!$Z$459,26)<>\"\"),\"\", \"Voir autorisation messages électroniques\")","v":"Voir autorisation messages électroniques"}]
[{"$f":"A1197+1","v":126},null,null,null,null,null,"Par correspondance reçu le "]
[{"$f":"IF($A1206<>0,VLOOKUP($A1206,Liste!$A$10:$W$459,3,FALSE),\"\")","v":"Monsieur Madame"},{"$f":"IF($A1206<>0,VLOOKUP($A1206,Liste!$A$10:$W$459,4,FALSE),\"\")","v":"ROCHETEAU-SOONEKINDT "},null,null,{"$f":"IF($A1206<>0,VLOOKUP($A1206,Liste!$A$10:$W$459,8,FALSE),\"\")","v":100},null,"Par visio, audio conférence,,,,"]
[{"$f":"IF($A1206<>0,VLOOKUP($A1206,Liste!$A$10:$W$459,5,FALSE),\"\")","v":"13 rue de l' espoir"},null,null,null,null,null,"Signature/ Mandataire :"]
[{"$f":"IF($A1206<>0,VLOOKUP($A1206,Liste!$A$10:$W$459,6,FALSE),\"\")","v":75016},{"$f":"IF($A1206<>0,VLOOKUP($A1206,Liste!$A$10:$W$459,7,FALSE),\"\")","v":"Paris "}]
[{"$f":" IF($A1206<>0, \"Lot \" & VLOOKUP($A1206,Liste!$A$10:$W$459,9,FALSE),\"\")","v":"Lot 127"},{"$f":"IF($A1206<>0,VLOOKUP($A1206,Liste!$A$10:$W$459,10,FALSE),\"\")","v":"Appart,"},{"$f":"IF($A1206<>0,VLOOKUP($A1206,Liste!$A$10:$W$459,11,FALSE),\"\")","v":95}]
[{"$f":"IF($A1206<>0,\"Lot \" & VLOOKUP($A1206,Liste!$A$10:$W$459,12,FALSE),\"\")","v":"Lot 277"},{"$f":"IF($A1206<>0,VLOOKUP($A1206,Liste!$A$10:$W$459,13,FALSE),\"\")","v":"Cave"},{"$f":"IF($A1206<>0,VLOOKUP($A1206,Liste!$A$10:$W$459,14,FALSE),\"\")","v":5}]
[{"$f":"IF($A1206<>0,\"Lot \" & VLOOKUP($A1206,Liste!$A$10:$W$459,15,FALSE),\"\")","v":"Lot "},{"$f":"IF($A1206<>0,VLOOKUP($A1206,Liste!$A$10:$W$459,16,FALSE),\"\")","v":0},{"$f":"IF($A1206<>0,VLOOKUP($A1206,Liste!$A$10:$W$459,17,FALSE),\"\")","v":0},null,null,null,"Arrivé à","après vote de la Résolution N°"]
[{"$f":"IF($A1206<>0,\"Lot \" & VLOOKUP($A1206,Liste!$A$10:$W$459,18,FALSE),\"\")","v":"Lot "},0,{"$f":"IF($A1206<>0,VLOOKUP($A1206,Liste!$A$10:$W$459,19,FALSE),\"\")","v":0},null,null,null,"Départ à","après vote de la Résolution N°"]
[{"$f":"IF($A1206<>0,\"Lot \" & VLOOKUP($A1206,Liste!$A$10:$W$459,21,FALSE),\"\")","v":"Lot "},{"$f":"IF($A1206<>0,VLOOKUP($A1206,Liste!$A$10:$W$459,22,FALSE),\"\")","v":0},{"$f":"IF($A1206<>0,VLOOKUP($A1206,Liste!$A$10:$W$459,23,FALSE),\"\")","v":0},null,null,null,{"$f":"IF(OR(B1207=0,VLOOKUP(A1206,Liste!$A$10:'Liste'!$Z$459,26)<>\"\"),\"\", \"Voir autorisation messages électroniques\")","v":"Voir autorisation messages électroniques"}]
[{"$f":"A1206+1","v":127},null,null,null,null,null,"Par correspondance reçu le "]
[{"$f":"IF($A1215<>0,VLOOKUP($A1215,Liste!$A$10:$W$459,3,FALSE),\"\")","v":"Monieur"},{"$f":"IF($A1215<>0,VLOOKUP($A1215,Liste!$A$10:$W$459,4,FALSE),\"\")","v":"RUIZ José"},null,null,{"$f":"IF($A1215<>0,VLOOKUP($A1215,Liste!$A$10:$W$459,8,FALSE),\"\")","v":98},null,"Par visio, audio conférence,,,,"]
[{"$f":"IF($A1215<>0,VLOOKUP($A1215,Liste!$A$10:$W$459,5,FALSE),\"\")","v":"13 rue de l' espoir"},null,null,null,null,null,"Signature/ Mandataire :"]
[{"$f":"IF($A1215<>0,VLOOKUP($A1215,Liste!$A$10:$W$459,6,FALSE),\"\")","v":75016},{"$f":"IF($A1215<>0,VLOOKUP($A1215,Liste!$A$10:$W$459,7,FALSE),\"\")","v":"Paris "}]
[{"$f":" IF($A1215<>0, \"Lot \" & VLOOKUP($A1215,Liste!$A$10:$W$459,9,FALSE),\"\")","v":"Lot 128"},{"$f":"IF($A1215<>0,VLOOKUP($A1215,Liste!$A$10:$W$459,10,FALSE),\"\")","v":"Appart,"},{"$f":"IF($A1215<>0,VLOOKUP($A1215,Liste!$A$10:$W$459,11,FALSE),\"\")","v":93}]
[{"$f":"IF($A1215<>0,\"Lot \" & VLOOKUP($A1215,Liste!$A$10:$W$459,12,FALSE),\"\")","v":"Lot 278"},{"$f":"IF($A1215<>0,VLOOKUP($A1215,Liste!$A$10:$W$459,13,FALSE),\"\")","v":"Cave"},{"$f":"IF($A1215<>0,VLOOKUP($A1215,Liste!$A$10:$W$459,14,FALSE),\"\")","v":5}]
[{"$f":"IF($A1215<>0,\"Lot \" & VLOOKUP($A1215,Liste!$A$10:$W$459,15,FALSE),\"\")","v":"Lot "},{"$f":"IF($A1215<>0,VLOOKUP($A1215,Liste!$A$10:$W$459,16,FALSE),\"\")","v":0},{"$f":"IF($A1215<>0,VLOOKUP($A1215,Liste!$A$10:$W$459,17,FALSE),\"\")","v":0},null,null,null,"Arrivé à","après vote de la Résolution N°"]
[{"$f":"IF($A1215<>0,\"Lot \" & VLOOKUP($A1215,Liste!$A$10:$W$459,18,FALSE),\"\")","v":"Lot "},0,{"$f":"IF($A1215<>0,VLOOKUP($A1215,Liste!$A$10:$W$459,19,FALSE),\"\")","v":0},null,null,null,"Départ à","après vote de la Résolution N°"]
[{"$f":"IF($A1215<>0,\"Lot \" & VLOOKUP($A1215,Liste!$A$10:$W$459,21,FALSE),\"\")","v":"Lot "},{"$f":"IF($A1215<>0,VLOOKUP($A1215,Liste!$A$10:$W$459,22,FALSE),\"\")","v":0},{"$f":"IF($A1215<>0,VLOOKUP($A1215,Liste!$A$10:$W$459,23,FALSE),\"\")","v":0},null,null,null,{"$f":"IF(OR(B1216=0,VLOOKUP(A1215,Liste!$A$10:'Liste'!$Z$459,26)<>\"\"),\"\", \"Voir autorisation messages électroniques\")","v":"Voir autorisation messages électroniques"}]
[{"$f":"A1215+1","v":128},null,null,null,null,null,"Par correspondance reçu le "]
[{"$f":"IF($A1224<>0,VLOOKUP($A1224,Liste!$A$10:$W$459,3,FALSE),\"\")","v":"Monieur"},{"$f":"IF($A1224<>0,VLOOKUP($A1224,Liste!$A$10:$W$459,4,FALSE),\"\")","v":"RUIZ Marcel"},null,null,{"$f":"IF($A1224<>0,VLOOKUP($A1224,Liste!$A$10:$W$459,8,FALSE),\"\")","v":91},null,"Par visio, audio conférence,,,,"]
[{"$f":"IF($A1224<>0,VLOOKUP($A1224,Liste!$A$10:$W$459,5,FALSE),\"\")","v":"13 rue de l' espoir"},null,null,null,null,null,"Signature/ Mandataire :"]
[{"$f":"IF($A1224<>0,VLOOKUP($A1224,Liste!$A$10:$W$459,6,FALSE),\"\")","v":75016},{"$f":"IF($A1224<>0,VLOOKUP($A1224,Liste!$A$10:$W$459,7,FALSE),\"\")","v":"Paris "}]
[{"$f":" IF($A1224<>0, \"Lot \" & VLOOKUP($A1224,Liste!$A$10:$W$459,9,FALSE),\"\")","v":"Lot 129"},{"$f":"IF($A1224<>0,VLOOKUP($A1224,Liste!$A$10:$W$459,10,FALSE),\"\")","v":"Appart,"},{"$f":"IF($A1224<>0,VLOOKUP($A1224,Liste!$A$10:$W$459,11,FALSE),\"\")","v":86}]
[{"$f":"IF($A1224<>0,\"Lot \" & VLOOKUP($A1224,Liste!$A$10:$W$459,12,FALSE),\"\")","v":"Lot 279"},{"$f":"IF($A1224<>0,VLOOKUP($A1224,Liste!$A$10:$W$459,13,FALSE),\"\")","v":"Cave"},{"$f":"IF($A1224<>0,VLOOKUP($A1224,Liste!$A$10:$W$459,14,FALSE),\"\")","v":5}]
[{"$f":"IF($A1224<>0,\"Lot \" & VLOOKUP($A1224,Liste!$A$10:$W$459,15,FALSE),\"\")","v":"Lot "},{"$f":"IF($A1224<>0,VLOOKUP($A1224,Liste!$A$10:$W$459,16,FALSE),\"\")","v":0},{"$f":"IF($A1224<>0,VLOOKUP($A1224,Liste!$A$10:$W$459,17,FALSE),\"\")","v":0},null,null,null,"Arrivé à","après vote de la Résolution N°"]
[{"$f":"IF($A1224<>0,\"Lot \" & VLOOKUP($A1224,Liste!$A$10:$W$459,18,FALSE),\"\")","v":"Lot "},0,{"$f":"IF($A1224<>0,VLOOKUP($A1224,Liste!$A$10:$W$459,19,FALSE),\"\")","v":0},null,null,null,"Départ à","après vote de la Résolution N°"]
[{"$f":"IF($A1224<>0,\"Lot \" & VLOOKUP($A1224,Liste!$A$10:$W$459,21,FALSE),\"\")","v":"Lot "},{"$f":"IF($A1224<>0,VLOOKUP($A1224,Liste!$A$10:$W$459,22,FALSE),\"\")","v":0},{"$f":"IF($A1224<>0,VLOOKUP($A1224,Liste!$A$10:$W$459,23,FALSE),\"\")","v":0},null,null,null,{"$f":"IF(OR(B1225=0,VLOOKUP(A1224,Liste!$A$10:'Liste'!$Z$459,26)<>\"\"),\"\", \"Voir autorisation messages électroniques\")","v":"Voir autorisation messages électroniques"}]
[]
[null,null,null,"A S S E M B L E E     G E N E R A L E",null,null,null,null,null,null,"Page",{"$f":"L1157+1","v":17}]
[null,null,null,null,null,"du","2019-12-20"]
[null,null,null,"Résidence Le Paradis; Rue de l' espoir 75016 PARIS"]
[]
[{"$f":"A1224+1","v":129},null,null,null,null,null,"Par correspondance reçu le "]
[{"$f":"IF($A1238<>0,VLOOKUP($A1238,Liste!$A$10:$W$459,3,FALSE),\"\")","v":"Monieur"},{"$f":"IF($A1238<>0,VLOOKUP($A1238,Liste!$A$10:$W$459,4,FALSE),\"\")","v":"RUSSEAU Thomas"},null,null,{"$f":"IF($A1238<>0,VLOOKUP($A1238,Liste!$A$10:$W$459,8,FALSE),\"\")","v":101},null,"Par visio, audio conférence,,,,"]
[{"$f":"IF($A1238<>0,VLOOKUP($A1238,Liste!$A$10:$W$459,5,FALSE),\"\")","v":"13 rue de l' espoir"},null,null,null,null,null,"Signature/ Mandataire :"]
[{"$f":"IF($A1238<>0,VLOOKUP($A1238,Liste!$A$10:$W$459,6,FALSE),\"\")","v":75016},{"$f":"IF($A1238<>0,VLOOKUP($A1238,Liste!$A$10:$W$459,7,FALSE),\"\")","v":"Paris "}]
[{"$f":" IF($A1238<>0, \"Lot \" & VLOOKUP($A1238,Liste!$A$10:$W$459,9,FALSE),\"\")","v":"Lot 130"},{"$f":"IF($A1238<>0,VLOOKUP($A1238,Liste!$A$10:$W$459,10,FALSE),\"\")","v":"Appart,"},{"$f":"IF($A1238<>0,VLOOKUP($A1238,Liste!$A$10:$W$459,11,FALSE),\"\")","v":96}]
[{"$f":"IF($A1238<>0,\"Lot \" & VLOOKUP($A1238,Liste!$A$10:$W$459,12,FALSE),\"\")","v":"Lot 280"},{"$f":"IF($A1238<>0,VLOOKUP($A1238,Liste!$A$10:$W$459,13,FALSE),\"\")","v":"Cave"},{"$f":"IF($A1238<>0,VLOOKUP($A1238,Liste!$A$10:$W$459,14,FALSE),\"\")","v":5}]
[{"$f":"IF($A1238<>0,\"Lot \" & VLOOKUP($A1238,Liste!$A$10:$W$459,15,FALSE),\"\")","v":"Lot "},{"$f":"IF($A1238<>0,VLOOKUP($A1238,Liste!$A$10:$W$459,16,FALSE),\"\")","v":0},{"$f":"IF($A1238<>0,VLOOKUP($A1238,Liste!$A$10:$W$459,17,FALSE),\"\")","v":0},null,null,null,"Arrivé à","après vote de la Résolution N°"]
[{"$f":"IF($A1238<>0,\"Lot \" & VLOOKUP($A1238,Liste!$A$10:$W$459,18,FALSE),\"\")","v":"Lot "},0,{"$f":"IF($A1238<>0,VLOOKUP($A1238,Liste!$A$10:$W$459,19,FALSE),\"\")","v":0},null,null,null,"Départ à","après vote de la Résolution N°"]
[{"$f":"IF($A1238<>0,\"Lot \" & VLOOKUP($A1238,Liste!$A$10:$W$459,21,FALSE),\"\")","v":"Lot "},{"$f":"IF($A1238<>0,VLOOKUP($A1238,Liste!$A$10:$W$459,22,FALSE),\"\")","v":0},{"$f":"IF($A1238<>0,VLOOKUP($A1238,Liste!$A$10:$W$459,23,FALSE),\"\")","v":0},null,null,null,{"$f":"IF(OR(B1239=0,VLOOKUP(A1238,Liste!$A$10:'Liste'!$Z$459,26)<>\"\"),\"\", \"Voir autorisation messages électroniques\")","v":"Voir autorisation messages électroniques"}]
[{"$f":"A1238+1","v":130},null,null,null,null,null,"Par correspondance reçu le "]
[{"$f":"IF($A1247<>0,VLOOKUP($A1247,Liste!$A$10:$W$459,3,FALSE),\"\")","v":"Madame"},{"$f":"IF($A1247<>0,VLOOKUP($A1247,Liste!$A$10:$W$459,4,FALSE),\"\")","v":"SALDOT Sylviane"},null,null,{"$f":"IF($A1247<>0,VLOOKUP($A1247,Liste!$A$10:$W$459,8,FALSE),\"\")","v":53},null,"Par visio, audio conférence,,,,"]
[{"$f":"IF($A1247<>0,VLOOKUP($A1247,Liste!$A$10:$W$459,5,FALSE),\"\")","v":"13 rue de l' espoir"},null,null,null,null,null,"Signature/ Mandataire :"]
[{"$f":"IF($A1247<>0,VLOOKUP($A1247,Liste!$A$10:$W$459,6,FALSE),\"\")","v":75016},{"$f":"IF($A1247<>0,VLOOKUP($A1247,Liste!$A$10:$W$459,7,FALSE),\"\")","v":"Paris "}]
[{"$f":" IF($A1247<>0, \"Lot \" & VLOOKUP($A1247,Liste!$A$10:$W$459,9,FALSE),\"\")","v":"Lot 131"},{"$f":"IF($A1247<>0,VLOOKUP($A1247,Liste!$A$10:$W$459,10,FALSE),\"\")","v":"Appart,"},{"$f":"IF($A1247<>0,VLOOKUP($A1247,Liste!$A$10:$W$459,11,FALSE),\"\")","v":48}]
[{"$f":"IF($A1247<>0,\"Lot \" & VLOOKUP($A1247,Liste!$A$10:$W$459,12,FALSE),\"\")","v":"Lot 281"},{"$f":"IF($A1247<>0,VLOOKUP($A1247,Liste!$A$10:$W$459,13,FALSE),\"\")","v":"Cave"},{"$f":"IF($A1247<>0,VLOOKUP($A1247,Liste!$A$10:$W$459,14,FALSE),\"\")","v":5}]
[{"$f":"IF($A1247<>0,\"Lot \" & VLOOKUP($A1247,Liste!$A$10:$W$459,15,FALSE),\"\")","v":"Lot "},{"$f":"IF($A1247<>0,VLOOKUP($A1247,Liste!$A$10:$W$459,16,FALSE),\"\")","v":0},{"$f":"IF($A1247<>0,VLOOKUP($A1247,Liste!$A$10:$W$459,17,FALSE),\"\")","v":0},null,null,null,"Arrivé à","après vote de la Résolution N°"]
[{"$f":"IF($A1247<>0,\"Lot \" & VLOOKUP($A1247,Liste!$A$10:$W$459,18,FALSE),\"\")","v":"Lot "},0,{"$f":"IF($A1247<>0,VLOOKUP($A1247,Liste!$A$10:$W$459,19,FALSE),\"\")","v":0},null,null,null,"Départ à","après vote de la Résolution N°"]
[{"$f":"IF($A1247<>0,\"Lot \" & VLOOKUP($A1247,Liste!$A$10:$W$459,21,FALSE),\"\")","v":"Lot "},{"$f":"IF($A1247<>0,VLOOKUP($A1247,Liste!$A$10:$W$459,22,FALSE),\"\")","v":0},{"$f":"IF($A1247<>0,VLOOKUP($A1247,Liste!$A$10:$W$459,23,FALSE),\"\")","v":0},null,null,null,{"$f":"IF(OR(B1248=0,VLOOKUP(A1247,Liste!$A$10:'Liste'!$Z$459,26)<>\"\"),\"\", \"Voir autorisation messages électroniques\")","v":"Voir autorisation messages électroniques"}]
[{"$f":"A1247+1","v":131},null,null,null,null,null,"Par correspondance reçu le "]
[{"$f":"IF($A1256<>0,VLOOKUP($A1256,Liste!$A$10:$W$459,3,FALSE),\"\")","v":"Monieur"},{"$f":"IF($A1256<>0,VLOOKUP($A1256,Liste!$A$10:$W$459,4,FALSE),\"\")","v":"SAMUELIAN Charles"},null,null,{"$f":"IF($A1256<>0,VLOOKUP($A1256,Liste!$A$10:$W$459,8,FALSE),\"\")","v":57},null,"Par visio, audio conférence,,,,"]
[{"$f":"IF($A1256<>0,VLOOKUP($A1256,Liste!$A$10:$W$459,5,FALSE),\"\")","v":"13 rue de l' espoir"},null,null,null,null,null,"Signature/ Mandataire :"]
[{"$f":"IF($A1256<>0,VLOOKUP($A1256,Liste!$A$10:$W$459,6,FALSE),\"\")","v":75016},{"$f":"IF($A1256<>0,VLOOKUP($A1256,Liste!$A$10:$W$459,7,FALSE),\"\")","v":"Paris "}]
[{"$f":" IF($A1256<>0, \"Lot \" & VLOOKUP($A1256,Liste!$A$10:$W$459,9,FALSE),\"\")","v":"Lot 132"},{"$f":"IF($A1256<>0,VLOOKUP($A1256,Liste!$A$10:$W$459,10,FALSE),\"\")","v":"Appart,"},{"$f":"IF($A1256<>0,VLOOKUP($A1256,Liste!$A$10:$W$459,11,FALSE),\"\")","v":52}]
[{"$f":"IF($A1256<>0,\"Lot \" & VLOOKUP($A1256,Liste!$A$10:$W$459,12,FALSE),\"\")","v":"Lot 282"},{"$f":"IF($A1256<>0,VLOOKUP($A1256,Liste!$A$10:$W$459,13,FALSE),\"\")","v":"Cave"},{"$f":"IF($A1256<>0,VLOOKUP($A1256,Liste!$A$10:$W$459,14,FALSE),\"\")","v":5}]
[{"$f":"IF($A1256<>0,\"Lot \" & VLOOKUP($A1256,Liste!$A$10:$W$459,15,FALSE),\"\")","v":"Lot "},{"$f":"IF($A1256<>0,VLOOKUP($A1256,Liste!$A$10:$W$459,16,FALSE),\"\")","v":0},{"$f":"IF($A1256<>0,VLOOKUP($A1256,Liste!$A$10:$W$459,17,FALSE),\"\")","v":0},null,null,null,"Arrivé à","après vote de la Résolution N°"]
[{"$f":"IF($A1256<>0,\"Lot \" & VLOOKUP($A1256,Liste!$A$10:$W$459,18,FALSE),\"\")","v":"Lot "},0,{"$f":"IF($A1256<>0,VLOOKUP($A1256,Liste!$A$10:$W$459,19,FALSE),\"\")","v":0},null,null,null,"Départ à","après vote de la Résolution N°"]
[{"$f":"IF($A1256<>0,\"Lot \" & VLOOKUP($A1256,Liste!$A$10:$W$459,21,FALSE),\"\")","v":"Lot "},{"$f":"IF($A1256<>0,VLOOKUP($A1256,Liste!$A$10:$W$459,22,FALSE),\"\")","v":0},{"$f":"IF($A1256<>0,VLOOKUP($A1256,Liste!$A$10:$W$459,23,FALSE),\"\")","v":0},null,null,null,{"$f":"IF(OR(B1257=0,VLOOKUP(A1256,Liste!$A$10:'Liste'!$Z$459,26)<>\"\"),\"\", \"Voir autorisation messages électroniques\")","v":"Voir autorisation messages électroniques"}]
[{"$f":"A1256+1","v":132},null,null,null,null,null,"Par correspondance reçu le "]
[{"$f":"IF($A1265<>0,VLOOKUP($A1265,Liste!$A$10:$W$459,3,FALSE),\"\")","v":"Monieur"},{"$f":"IF($A1265<>0,VLOOKUP($A1265,Liste!$A$10:$W$459,4,FALSE),\"\")","v":"SANNA - DVORAK  Laurent - Isabel"},null,null,{"$f":"IF($A1265<>0,VLOOKUP($A1265,Liste!$A$10:$W$459,8,FALSE),\"\")","v":92},null,"Par visio, audio conférence,,,,"]
[{"$f":"IF($A1265<>0,VLOOKUP($A1265,Liste!$A$10:$W$459,5,FALSE),\"\")","v":"13 rue de l' espoir"},null,null,null,null,null,"Signature/ Mandataire :"]
[{"$f":"IF($A1265<>0,VLOOKUP($A1265,Liste!$A$10:$W$459,6,FALSE),\"\")","v":75016},{"$f":"IF($A1265<>0,VLOOKUP($A1265,Liste!$A$10:$W$459,7,FALSE),\"\")","v":"Paris "}]
[{"$f":" IF($A1265<>0, \"Lot \" & VLOOKUP($A1265,Liste!$A$10:$W$459,9,FALSE),\"\")","v":"Lot 133"},{"$f":"IF($A1265<>0,VLOOKUP($A1265,Liste!$A$10:$W$459,10,FALSE),\"\")","v":"Appart,"},{"$f":"IF($A1265<>0,VLOOKUP($A1265,Liste!$A$10:$W$459,11,FALSE),\"\")","v":87}]
[{"$f":"IF($A1265<>0,\"Lot \" & VLOOKUP($A1265,Liste!$A$10:$W$459,12,FALSE),\"\")","v":"Lot 283"},{"$f":"IF($A1265<>0,VLOOKUP($A1265,Liste!$A$10:$W$459,13,FALSE),\"\")","v":"Cave"},{"$f":"IF($A1265<>0,VLOOKUP($A1265,Liste!$A$10:$W$459,14,FALSE),\"\")","v":5}]
[{"$f":"IF($A1265<>0,\"Lot \" & VLOOKUP($A1265,Liste!$A$10:$W$459,15,FALSE),\"\")","v":"Lot "},{"$f":"IF($A1265<>0,VLOOKUP($A1265,Liste!$A$10:$W$459,16,FALSE),\"\")","v":0},{"$f":"IF($A1265<>0,VLOOKUP($A1265,Liste!$A$10:$W$459,17,FALSE),\"\")","v":0},null,null,null,"Arrivé à","après vote de la Résolution N°"]
[{"$f":"IF($A1265<>0,\"Lot \" & VLOOKUP($A1265,Liste!$A$10:$W$459,18,FALSE),\"\")","v":"Lot "},0,{"$f":"IF($A1265<>0,VLOOKUP($A1265,Liste!$A$10:$W$459,19,FALSE),\"\")","v":0},null,null,null,"Départ à","après vote de la Résolution N°"]
[{"$f":"IF($A1265<>0,\"Lot \" & VLOOKUP($A1265,Liste!$A$10:$W$459,21,FALSE),\"\")","v":"Lot "},{"$f":"IF($A1265<>0,VLOOKUP($A1265,Liste!$A$10:$W$459,22,FALSE),\"\")","v":0},{"$f":"IF($A1265<>0,VLOOKUP($A1265,Liste!$A$10:$W$459,23,FALSE),\"\")","v":0},null,null,null,{"$f":"IF(OR(B1266=0,VLOOKUP(A1265,Liste!$A$10:'Liste'!$Z$459,26)<>\"\"),\"\", \"Voir autorisation messages électroniques\")","v":"Voir autorisation messages électroniques"}]
[{"$f":"A1265+1","v":133},null,null,null,null,null,"Par correspondance reçu le "]
[{"$f":"IF($A1274<>0,VLOOKUP($A1274,Liste!$A$10:$W$459,3,FALSE),\"\")","v":"Madame"},{"$f":"IF($A1274<>0,VLOOKUP($A1274,Liste!$A$10:$W$459,4,FALSE),\"\")","v":"SARLIN / MAUREL Jocelyne"},null,null,{"$f":"IF($A1274<>0,VLOOKUP($A1274,Liste!$A$10:$W$459,8,FALSE),\"\")","v":94},null,"Par visio, audio conférence,,,,"]
[{"$f":"IF($A1274<>0,VLOOKUP($A1274,Liste!$A$10:$W$459,5,FALSE),\"\")","v":"13 rue de l' espoir"},null,null,null,null,null,"Signature/ Mandataire :"]
[{"$f":"IF($A1274<>0,VLOOKUP($A1274,Liste!$A$10:$W$459,6,FALSE),\"\")","v":75016},{"$f":"IF($A1274<>0,VLOOKUP($A1274,Liste!$A$10:$W$459,7,FALSE),\"\")","v":"Paris "}]
[{"$f":" IF($A1274<>0, \"Lot \" & VLOOKUP($A1274,Liste!$A$10:$W$459,9,FALSE),\"\")","v":"Lot 100"},{"$f":"IF($A1274<>0,VLOOKUP($A1274,Liste!$A$10:$W$459,10,FALSE),\"\")","v":"Appart,"},{"$f":"IF($A1274<>0,VLOOKUP($A1274,Liste!$A$10:$W$459,11,FALSE),\"\")","v":89}]
[{"$f":"IF($A1274<>0,\"Lot \" & VLOOKUP($A1274,Liste!$A$10:$W$459,12,FALSE),\"\")","v":"Lot 250"},{"$f":"IF($A1274<>0,VLOOKUP($A1274,Liste!$A$10:$W$459,13,FALSE),\"\")","v":"Cave"},{"$f":"IF($A1274<>0,VLOOKUP($A1274,Liste!$A$10:$W$459,14,FALSE),\"\")","v":5}]
[{"$f":"IF($A1274<>0,\"Lot \" & VLOOKUP($A1274,Liste!$A$10:$W$459,15,FALSE),\"\")","v":"Lot "},{"$f":"IF($A1274<>0,VLOOKUP($A1274,Liste!$A$10:$W$459,16,FALSE),\"\")","v":0},{"$f":"IF($A1274<>0,VLOOKUP($A1274,Liste!$A$10:$W$459,17,FALSE),\"\")","v":0},null,null,null,"Arrivé à","après vote de la Résolution N°"]
[{"$f":"IF($A1274<>0,\"Lot \" & VLOOKUP($A1274,Liste!$A$10:$W$459,18,FALSE),\"\")","v":"Lot "},0,{"$f":"IF($A1274<>0,VLOOKUP($A1274,Liste!$A$10:$W$459,19,FALSE),\"\")","v":0},null,null,null,"Départ à","après vote de la Résolution N°"]
[{"$f":"IF($A1274<>0,\"Lot \" & VLOOKUP($A1274,Liste!$A$10:$W$459,21,FALSE),\"\")","v":"Lot "},{"$f":"IF($A1274<>0,VLOOKUP($A1274,Liste!$A$10:$W$459,22,FALSE),\"\")","v":0},{"$f":"IF($A1274<>0,VLOOKUP($A1274,Liste!$A$10:$W$459,23,FALSE),\"\")","v":0},null,null,null,{"$f":"IF(OR(B1275=0,VLOOKUP(A1274,Liste!$A$10:'Liste'!$Z$459,26)<>\"\"),\"\", \"Voir autorisation messages électroniques\")","v":"Voir autorisation messages électroniques"}]
[{"$f":"A1274+1","v":134},null,null,null,null,null,"Par correspondance reçu le "]
[{"$f":"IF($A1283<>0,VLOOKUP($A1283,Liste!$A$10:$W$459,3,FALSE),\"\")","v":"Monieur"},{"$f":"IF($A1283<>0,VLOOKUP($A1283,Liste!$A$10:$W$459,4,FALSE),\"\")","v":"SCALIA Serge"},null,null,{"$f":"IF($A1283<>0,VLOOKUP($A1283,Liste!$A$10:$W$459,8,FALSE),\"\")","v":53},null,"Par visio, audio conférence,,,,"]
[{"$f":"IF($A1283<>0,VLOOKUP($A1283,Liste!$A$10:$W$459,5,FALSE),\"\")","v":"13 rue de l' espoir"},null,null,null,null,null,"Signature/ Mandataire :"]
[{"$f":"IF($A1283<>0,VLOOKUP($A1283,Liste!$A$10:$W$459,6,FALSE),\"\")","v":75016},{"$f":"IF($A1283<>0,VLOOKUP($A1283,Liste!$A$10:$W$459,7,FALSE),\"\")","v":"Paris "}]
[{"$f":" IF($A1283<>0, \"Lot \" & VLOOKUP($A1283,Liste!$A$10:$W$459,9,FALSE),\"\")","v":"Lot 134"},{"$f":"IF($A1283<>0,VLOOKUP($A1283,Liste!$A$10:$W$459,10,FALSE),\"\")","v":"Appart,"},{"$f":"IF($A1283<>0,VLOOKUP($A1283,Liste!$A$10:$W$459,11,FALSE),\"\")","v":48}]
[{"$f":"IF($A1283<>0,\"Lot \" & VLOOKUP($A1283,Liste!$A$10:$W$459,12,FALSE),\"\")","v":"Lot 284"},{"$f":"IF($A1283<>0,VLOOKUP($A1283,Liste!$A$10:$W$459,13,FALSE),\"\")","v":"Cave"},{"$f":"IF($A1283<>0,VLOOKUP($A1283,Liste!$A$10:$W$459,14,FALSE),\"\")","v":5}]
[{"$f":"IF($A1283<>0,\"Lot \" & VLOOKUP($A1283,Liste!$A$10:$W$459,15,FALSE),\"\")","v":"Lot "},{"$f":"IF($A1283<>0,VLOOKUP($A1283,Liste!$A$10:$W$459,16,FALSE),\"\")","v":0},{"$f":"IF($A1283<>0,VLOOKUP($A1283,Liste!$A$10:$W$459,17,FALSE),\"\")","v":0},null,null,null,"Arrivé à","après vote de la Résolution N°"]
[{"$f":"IF($A1283<>0,\"Lot \" & VLOOKUP($A1283,Liste!$A$10:$W$459,18,FALSE),\"\")","v":"Lot "},0,{"$f":"IF($A1283<>0,VLOOKUP($A1283,Liste!$A$10:$W$459,19,FALSE),\"\")","v":0},null,null,null,"Départ à","après vote de la Résolution N°"]
[{"$f":"IF($A1283<>0,\"Lot \" & VLOOKUP($A1283,Liste!$A$10:$W$459,21,FALSE),\"\")","v":"Lot "},{"$f":"IF($A1283<>0,VLOOKUP($A1283,Liste!$A$10:$W$459,22,FALSE),\"\")","v":0},{"$f":"IF($A1283<>0,VLOOKUP($A1283,Liste!$A$10:$W$459,23,FALSE),\"\")","v":0},null,null,null,{"$f":"IF(OR(B1284=0,VLOOKUP(A1283,Liste!$A$10:'Liste'!$Z$459,26)<>\"\"),\"\", \"Voir autorisation messages électroniques\")","v":"Voir autorisation messages électroniques"}]
[{"$f":"A1283+1","v":135},null,null,null,null,null,"Par correspondance reçu le "]
[{"$f":"IF($A1292<>0,VLOOKUP($A1292,Liste!$A$10:$W$459,3,FALSE),\"\")","v":"Madame"},{"$f":"IF($A1292<>0,VLOOKUP($A1292,Liste!$A$10:$W$459,4,FALSE),\"\")","v":"SCHMIT Isabelle"},null,null,{"$f":"IF($A1292<>0,VLOOKUP($A1292,Liste!$A$10:$W$459,8,FALSE),\"\")","v":40},null,"Par visio, audio conférence,,,,"]
[{"$f":"IF($A1292<>0,VLOOKUP($A1292,Liste!$A$10:$W$459,5,FALSE),\"\")","v":"19 Rue du Paradis"},null,null,null,null,null,"Signature/ Mandataire :"]
[{"$f":"IF($A1292<>0,VLOOKUP($A1292,Liste!$A$10:$W$459,6,FALSE),\"\")","v":33000},{"$f":"IF($A1292<>0,VLOOKUP($A1292,Liste!$A$10:$W$459,7,FALSE),\"\")","v":"Bordeaux"}]
[{"$f":" IF($A1292<>0, \"Lot \" & VLOOKUP($A1292,Liste!$A$10:$W$459,9,FALSE),\"\")","v":"Lot 135"},{"$f":"IF($A1292<>0,VLOOKUP($A1292,Liste!$A$10:$W$459,10,FALSE),\"\")","v":"Appart,"},{"$f":"IF($A1292<>0,VLOOKUP($A1292,Liste!$A$10:$W$459,11,FALSE),\"\")","v":35}]
[{"$f":"IF($A1292<>0,\"Lot \" & VLOOKUP($A1292,Liste!$A$10:$W$459,12,FALSE),\"\")","v":"Lot 285"},{"$f":"IF($A1292<>0,VLOOKUP($A1292,Liste!$A$10:$W$459,13,FALSE),\"\")","v":"Cave"},{"$f":"IF($A1292<>0,VLOOKUP($A1292,Liste!$A$10:$W$459,14,FALSE),\"\")","v":5}]
[{"$f":"IF($A1292<>0,\"Lot \" & VLOOKUP($A1292,Liste!$A$10:$W$459,15,FALSE),\"\")","v":"Lot "},{"$f":"IF($A1292<>0,VLOOKUP($A1292,Liste!$A$10:$W$459,16,FALSE),\"\")","v":0},{"$f":"IF($A1292<>0,VLOOKUP($A1292,Liste!$A$10:$W$459,17,FALSE),\"\")","v":0},null,null,null,"Arrivé à","après vote de la Résolution N°"]
[{"$f":"IF($A1292<>0,\"Lot \" & VLOOKUP($A1292,Liste!$A$10:$W$459,18,FALSE),\"\")","v":"Lot "},0,{"$f":"IF($A1292<>0,VLOOKUP($A1292,Liste!$A$10:$W$459,19,FALSE),\"\")","v":0},null,null,null,"Départ à","après vote de la Résolution N°"]
[{"$f":"IF($A1292<>0,\"Lot \" & VLOOKUP($A1292,Liste!$A$10:$W$459,21,FALSE),\"\")","v":"Lot "},{"$f":"IF($A1292<>0,VLOOKUP($A1292,Liste!$A$10:$W$459,22,FALSE),\"\")","v":0},{"$f":"IF($A1292<>0,VLOOKUP($A1292,Liste!$A$10:$W$459,23,FALSE),\"\")","v":0},null,null,null,{"$f":"IF(OR(B1293=0,VLOOKUP(A1292,Liste!$A$10:'Liste'!$Z$459,26)<>\"\"),\"\", \"Voir autorisation messages électroniques\")","v":"Voir autorisation messages électroniques"}]
[{"$f":"A1292+1","v":136},null,null,null,null,null,"Par correspondance reçu le "]
[{"$f":"IF($A1301<>0,VLOOKUP($A1301,Liste!$A$10:$W$459,3,FALSE),\"\")","v":"Monsieur"},{"$f":"IF($A1301<>0,VLOOKUP($A1301,Liste!$A$10:$W$459,4,FALSE),\"\")","v":"SCIALON Victor"},null,null,{"$f":"IF($A1301<>0,VLOOKUP($A1301,Liste!$A$10:$W$459,8,FALSE),\"\")","v":48},null,"Par visio, audio conférence,,,,"]
[{"$f":"IF($A1301<>0,VLOOKUP($A1301,Liste!$A$10:$W$459,5,FALSE),\"\")","v":"19 Rue du Paradis"},null,null,null,null,null,"Signature/ Mandataire :"]
[{"$f":"IF($A1301<>0,VLOOKUP($A1301,Liste!$A$10:$W$459,6,FALSE),\"\")","v":33000},{"$f":"IF($A1301<>0,VLOOKUP($A1301,Liste!$A$10:$W$459,7,FALSE),\"\")","v":"Bordeaux"}]
[{"$f":" IF($A1301<>0, \"Lot \" & VLOOKUP($A1301,Liste!$A$10:$W$459,9,FALSE),\"\")","v":"Lot 136"},{"$f":"IF($A1301<>0,VLOOKUP($A1301,Liste!$A$10:$W$459,10,FALSE),\"\")","v":"Appart,"},{"$f":"IF($A1301<>0,VLOOKUP($A1301,Liste!$A$10:$W$459,11,FALSE),\"\")","v":43}]
[{"$f":"IF($A1301<>0,\"Lot \" & VLOOKUP($A1301,Liste!$A$10:$W$459,12,FALSE),\"\")","v":"Lot 286"},{"$f":"IF($A1301<>0,VLOOKUP($A1301,Liste!$A$10:$W$459,13,FALSE),\"\")","v":"Cave"},{"$f":"IF($A1301<>0,VLOOKUP($A1301,Liste!$A$10:$W$459,14,FALSE),\"\")","v":5}]
[{"$f":"IF($A1301<>0,\"Lot \" & VLOOKUP($A1301,Liste!$A$10:$W$459,15,FALSE),\"\")","v":"Lot "},{"$f":"IF($A1301<>0,VLOOKUP($A1301,Liste!$A$10:$W$459,16,FALSE),\"\")","v":0},{"$f":"IF($A1301<>0,VLOOKUP($A1301,Liste!$A$10:$W$459,17,FALSE),\"\")","v":0},null,null,null,"Arrivé à","après vote de la Résolution N°"]
[{"$f":"IF($A1301<>0,\"Lot \" & VLOOKUP($A1301,Liste!$A$10:$W$459,18,FALSE),\"\")","v":"Lot "},0,{"$f":"IF($A1301<>0,VLOOKUP($A1301,Liste!$A$10:$W$459,19,FALSE),\"\")","v":0},null,null,null,"Départ à","après vote de la Résolution N°"]
[{"$f":"IF($A1301<>0,\"Lot \" & VLOOKUP($A1301,Liste!$A$10:$W$459,21,FALSE),\"\")","v":"Lot "},{"$f":"IF($A1301<>0,VLOOKUP($A1301,Liste!$A$10:$W$459,22,FALSE),\"\")","v":0},{"$f":"IF($A1301<>0,VLOOKUP($A1301,Liste!$A$10:$W$459,23,FALSE),\"\")","v":0},null,null,null,{"$f":"IF(OR(B1302=0,VLOOKUP(A1301,Liste!$A$10:'Liste'!$Z$459,26)<>\"\"),\"\", \"Voir autorisation messages électroniques\")","v":"Voir autorisation messages électroniques"}]
[]
[null,null,null,"A S S E M B L E E     G E N E R A L E",null,null,null,null,null,null,"Page",{"$f":"L1234+1","v":18}]
[null,null,null,null,null,"du","2019-12-20"]
[null,null,null,"Résidence Le Paradis; Rue de l' espoir 75016 PARIS"]
[]
[{"$f":"A1301+1","v":137},null,null,null,null,null,"Par correspondance reçu le "]
[{"$f":"IF($A1315<>0,VLOOKUP($A1315,Liste!$A$10:$W$459,3,FALSE),\"\")","v":"Monieur"},{"$f":"IF($A1315<>0,VLOOKUP($A1315,Liste!$A$10:$W$459,4,FALSE),\"\")","v":"SERREE Patrick"},null,null,{"$f":"IF($A1315<>0,VLOOKUP($A1315,Liste!$A$10:$W$459,8,FALSE),\"\")","v":56},null,"Par visio, audio conférence,,,,"]
[{"$f":"IF($A1315<>0,VLOOKUP($A1315,Liste!$A$10:$W$459,5,FALSE),\"\")","v":"13 rue de l' espoir"},null,null,null,null,null,"Signature/ Mandataire :"]
[{"$f":"IF($A1315<>0,VLOOKUP($A1315,Liste!$A$10:$W$459,6,FALSE),\"\")","v":75016},{"$f":"IF($A1315<>0,VLOOKUP($A1315,Liste!$A$10:$W$459,7,FALSE),\"\")","v":"Paris "}]
[{"$f":" IF($A1315<>0, \"Lot \" & VLOOKUP($A1315,Liste!$A$10:$W$459,9,FALSE),\"\")","v":"Lot 137"},{"$f":"IF($A1315<>0,VLOOKUP($A1315,Liste!$A$10:$W$459,10,FALSE),\"\")","v":"Appart,"},{"$f":"IF($A1315<>0,VLOOKUP($A1315,Liste!$A$10:$W$459,11,FALSE),\"\")","v":51}]
[{"$f":"IF($A1315<>0,\"Lot \" & VLOOKUP($A1315,Liste!$A$10:$W$459,12,FALSE),\"\")","v":"Lot 287"},{"$f":"IF($A1315<>0,VLOOKUP($A1315,Liste!$A$10:$W$459,13,FALSE),\"\")","v":"Cave"},{"$f":"IF($A1315<>0,VLOOKUP($A1315,Liste!$A$10:$W$459,14,FALSE),\"\")","v":5}]
[{"$f":"IF($A1315<>0,\"Lot \" & VLOOKUP($A1315,Liste!$A$10:$W$459,15,FALSE),\"\")","v":"Lot "},{"$f":"IF($A1315<>0,VLOOKUP($A1315,Liste!$A$10:$W$459,16,FALSE),\"\")","v":0},{"$f":"IF($A1315<>0,VLOOKUP($A1315,Liste!$A$10:$W$459,17,FALSE),\"\")","v":0},null,null,null,"Arrivé à","après vote de la Résolution N°"]
[{"$f":"IF($A1315<>0,\"Lot \" & VLOOKUP($A1315,Liste!$A$10:$W$459,18,FALSE),\"\")","v":"Lot "},0,{"$f":"IF($A1315<>0,VLOOKUP($A1315,Liste!$A$10:$W$459,19,FALSE),\"\")","v":0},null,null,null,"Départ à","après vote de la Résolution N°"]
[{"$f":"IF($A1315<>0,\"Lot \" & VLOOKUP($A1315,Liste!$A$10:$W$459,21,FALSE),\"\")","v":"Lot "},{"$f":"IF($A1315<>0,VLOOKUP($A1315,Liste!$A$10:$W$459,22,FALSE),\"\")","v":0},{"$f":"IF($A1315<>0,VLOOKUP($A1315,Liste!$A$10:$W$459,23,FALSE),\"\")","v":0},null,null,null,{"$f":"IF(OR(B1316=0,VLOOKUP(A1315,Liste!$A$10:'Liste'!$Z$459,26)<>\"\"),\"\", \"Voir autorisation messages électroniques\")","v":"Voir autorisation messages électroniques"}]
[{"$f":"A1315+1","v":138},null,null,null,null,null,"Par correspondance reçu le "]
[{"$f":"IF($A1324<>0,VLOOKUP($A1324,Liste!$A$10:$W$459,3,FALSE),\"\")","v":"Monieur"},{"$f":"IF($A1324<>0,VLOOKUP($A1324,Liste!$A$10:$W$459,4,FALSE),\"\")","v":"SIEURAC Philippe"},null,null,{"$f":"IF($A1324<>0,VLOOKUP($A1324,Liste!$A$10:$W$459,8,FALSE),\"\")","v":60},null,"Par visio, audio conférence,,,,"]
[{"$f":"IF($A1324<>0,VLOOKUP($A1324,Liste!$A$10:$W$459,5,FALSE),\"\")","v":"13 rue de l' espoir"},null,null,null,null,null,"Signature/ Mandataire :"]
[{"$f":"IF($A1324<>0,VLOOKUP($A1324,Liste!$A$10:$W$459,6,FALSE),\"\")","v":75016},{"$f":"IF($A1324<>0,VLOOKUP($A1324,Liste!$A$10:$W$459,7,FALSE),\"\")","v":"Paris "}]
[{"$f":" IF($A1324<>0, \"Lot \" & VLOOKUP($A1324,Liste!$A$10:$W$459,9,FALSE),\"\")","v":"Lot 138"},{"$f":"IF($A1324<>0,VLOOKUP($A1324,Liste!$A$10:$W$459,10,FALSE),\"\")","v":"Appart,"},{"$f":"IF($A1324<>0,VLOOKUP($A1324,Liste!$A$10:$W$459,11,FALSE),\"\")","v":55}]
[{"$f":"IF($A1324<>0,\"Lot \" & VLOOKUP($A1324,Liste!$A$10:$W$459,12,FALSE),\"\")","v":"Lot 288"},{"$f":"IF($A1324<>0,VLOOKUP($A1324,Liste!$A$10:$W$459,13,FALSE),\"\")","v":"Cave"},{"$f":"IF($A1324<>0,VLOOKUP($A1324,Liste!$A$10:$W$459,14,FALSE),\"\")","v":5}]
[{"$f":"IF($A1324<>0,\"Lot \" & VLOOKUP($A1324,Liste!$A$10:$W$459,15,FALSE),\"\")","v":"Lot "},{"$f":"IF($A1324<>0,VLOOKUP($A1324,Liste!$A$10:$W$459,16,FALSE),\"\")","v":0},{"$f":"IF($A1324<>0,VLOOKUP($A1324,Liste!$A$10:$W$459,17,FALSE),\"\")","v":0},null,null,null,"Arrivé à","après vote de la Résolution N°"]
[{"$f":"IF($A1324<>0,\"Lot \" & VLOOKUP($A1324,Liste!$A$10:$W$459,18,FALSE),\"\")","v":"Lot "},0,{"$f":"IF($A1324<>0,VLOOKUP($A1324,Liste!$A$10:$W$459,19,FALSE),\"\")","v":0},null,null,null,"Départ à","après vote de la Résolution N°"]
[{"$f":"IF($A1324<>0,\"Lot \" & VLOOKUP($A1324,Liste!$A$10:$W$459,21,FALSE),\"\")","v":"Lot "},{"$f":"IF($A1324<>0,VLOOKUP($A1324,Liste!$A$10:$W$459,22,FALSE),\"\")","v":0},{"$f":"IF($A1324<>0,VLOOKUP($A1324,Liste!$A$10:$W$459,23,FALSE),\"\")","v":0},null,null,null,{"$f":"IF(OR(B1325=0,VLOOKUP(A1324,Liste!$A$10:'Liste'!$Z$459,26)<>\"\"),\"\", \"Voir autorisation messages électroniques\")","v":"Voir autorisation messages électroniques"}]
[{"$f":"A1324+1","v":139},null,null,null,null,null,"Par correspondance reçu le "]
[{"$f":"IF($A1333<>0,VLOOKUP($A1333,Liste!$A$10:$W$459,3,FALSE),\"\")","v":"Madame"},{"$f":"IF($A1333<>0,VLOOKUP($A1333,Liste!$A$10:$W$459,4,FALSE),\"\")","v":"SIMON Josette"},null,null,{"$f":"IF($A1333<>0,VLOOKUP($A1333,Liste!$A$10:$W$459,8,FALSE),\"\")","v":51},null,"Par visio, audio conférence,,,,"]
[{"$f":"IF($A1333<>0,VLOOKUP($A1333,Liste!$A$10:$W$459,5,FALSE),\"\")","v":"13 rue de l' espoir"},null,null,null,null,null,"Signature/ Mandataire :"]
[{"$f":"IF($A1333<>0,VLOOKUP($A1333,Liste!$A$10:$W$459,6,FALSE),\"\")","v":75016},{"$f":"IF($A1333<>0,VLOOKUP($A1333,Liste!$A$10:$W$459,7,FALSE),\"\")","v":"Paris "}]
[{"$f":" IF($A1333<>0, \"Lot \" & VLOOKUP($A1333,Liste!$A$10:$W$459,9,FALSE),\"\")","v":"Lot 139"},{"$f":"IF($A1333<>0,VLOOKUP($A1333,Liste!$A$10:$W$459,10,FALSE),\"\")","v":"Appart,"},{"$f":"IF($A1333<>0,VLOOKUP($A1333,Liste!$A$10:$W$459,11,FALSE),\"\")","v":46}]
[{"$f":"IF($A1333<>0,\"Lot \" & VLOOKUP($A1333,Liste!$A$10:$W$459,12,FALSE),\"\")","v":"Lot 289"},{"$f":"IF($A1333<>0,VLOOKUP($A1333,Liste!$A$10:$W$459,13,FALSE),\"\")","v":"Cave"},{"$f":"IF($A1333<>0,VLOOKUP($A1333,Liste!$A$10:$W$459,14,FALSE),\"\")","v":5}]
[{"$f":"IF($A1333<>0,\"Lot \" & VLOOKUP($A1333,Liste!$A$10:$W$459,15,FALSE),\"\")","v":"Lot "},{"$f":"IF($A1333<>0,VLOOKUP($A1333,Liste!$A$10:$W$459,16,FALSE),\"\")","v":0},{"$f":"IF($A1333<>0,VLOOKUP($A1333,Liste!$A$10:$W$459,17,FALSE),\"\")","v":0},null,null,null,"Arrivé à","après vote de la Résolution N°"]
[{"$f":"IF($A1333<>0,\"Lot \" & VLOOKUP($A1333,Liste!$A$10:$W$459,18,FALSE),\"\")","v":"Lot "},0,{"$f":"IF($A1333<>0,VLOOKUP($A1333,Liste!$A$10:$W$459,19,FALSE),\"\")","v":0},null,null,null,"Départ à","après vote de la Résolution N°"]
[{"$f":"IF($A1333<>0,\"Lot \" & VLOOKUP($A1333,Liste!$A$10:$W$459,21,FALSE),\"\")","v":"Lot "},{"$f":"IF($A1333<>0,VLOOKUP($A1333,Liste!$A$10:$W$459,22,FALSE),\"\")","v":0},{"$f":"IF($A1333<>0,VLOOKUP($A1333,Liste!$A$10:$W$459,23,FALSE),\"\")","v":0},null,null,null,{"$f":"IF(OR(B1334=0,VLOOKUP(A1333,Liste!$A$10:'Liste'!$Z$459,26)<>\"\"),\"\", \"Voir autorisation messages électroniques\")","v":"Voir autorisation messages électroniques"}]
[{"$f":"A1333+1","v":140},null,null,null,null,null,"Par correspondance reçu le "]
[{"$f":"IF($A1342<>0,VLOOKUP($A1342,Liste!$A$10:$W$459,3,FALSE),\"\")","v":"Monsieur"},{"$f":"IF($A1342<>0,VLOOKUP($A1342,Liste!$A$10:$W$459,4,FALSE),\"\")","v":"SIMON Piaul"},null,null,{"$f":"IF($A1342<>0,VLOOKUP($A1342,Liste!$A$10:$W$459,8,FALSE),\"\")","v":53},null,"Par visio, audio conférence,,,,"]
[{"$f":"IF($A1342<>0,VLOOKUP($A1342,Liste!$A$10:$W$459,5,FALSE),\"\")","v":"19 Rue du Paradis"},null,null,null,null,null,"Signature/ Mandataire :"]
[{"$f":"IF($A1342<>0,VLOOKUP($A1342,Liste!$A$10:$W$459,6,FALSE),\"\")","v":33000},{"$f":"IF($A1342<>0,VLOOKUP($A1342,Liste!$A$10:$W$459,7,FALSE),\"\")","v":"Bordeaux"}]
[{"$f":" IF($A1342<>0, \"Lot \" & VLOOKUP($A1342,Liste!$A$10:$W$459,9,FALSE),\"\")","v":"Lot 140"},{"$f":"IF($A1342<>0,VLOOKUP($A1342,Liste!$A$10:$W$459,10,FALSE),\"\")","v":"Appart,"},{"$f":"IF($A1342<>0,VLOOKUP($A1342,Liste!$A$10:$W$459,11,FALSE),\"\")","v":48}]
[{"$f":"IF($A1342<>0,\"Lot \" & VLOOKUP($A1342,Liste!$A$10:$W$459,12,FALSE),\"\")","v":"Lot 290"},{"$f":"IF($A1342<>0,VLOOKUP($A1342,Liste!$A$10:$W$459,13,FALSE),\"\")","v":"Cave"},{"$f":"IF($A1342<>0,VLOOKUP($A1342,Liste!$A$10:$W$459,14,FALSE),\"\")","v":5}]
[{"$f":"IF($A1342<>0,\"Lot \" & VLOOKUP($A1342,Liste!$A$10:$W$459,15,FALSE),\"\")","v":"Lot "},{"$f":"IF($A1342<>0,VLOOKUP($A1342,Liste!$A$10:$W$459,16,FALSE),\"\")","v":0},{"$f":"IF($A1342<>0,VLOOKUP($A1342,Liste!$A$10:$W$459,17,FALSE),\"\")","v":0},null,null,null,"Arrivé à","après vote de la Résolution N°"]
[{"$f":"IF($A1342<>0,\"Lot \" & VLOOKUP($A1342,Liste!$A$10:$W$459,18,FALSE),\"\")","v":"Lot "},0,{"$f":"IF($A1342<>0,VLOOKUP($A1342,Liste!$A$10:$W$459,19,FALSE),\"\")","v":0},null,null,null,"Départ à","après vote de la Résolution N°"]
[{"$f":"IF($A1342<>0,\"Lot \" & VLOOKUP($A1342,Liste!$A$10:$W$459,21,FALSE),\"\")","v":"Lot "},{"$f":"IF($A1342<>0,VLOOKUP($A1342,Liste!$A$10:$W$459,22,FALSE),\"\")","v":0},{"$f":"IF($A1342<>0,VLOOKUP($A1342,Liste!$A$10:$W$459,23,FALSE),\"\")","v":0},null,null,null,{"$f":"IF(OR(B1343=0,VLOOKUP(A1342,Liste!$A$10:'Liste'!$Z$459,26)<>\"\"),\"\", \"Voir autorisation messages électroniques\")","v":"Voir autorisation messages électroniques"}]
[{"$f":"A1342+1","v":141},null,null,null,null,null,"Par correspondance reçu le "]
[{"$f":"IF($A1351<>0,VLOOKUP($A1351,Liste!$A$10:$W$459,3,FALSE),\"\")","v":"Monsieur Madame"},{"$f":"IF($A1351<>0,VLOOKUP($A1351,Liste!$A$10:$W$459,4,FALSE),\"\")","v":"SOLVEZ-BOUCHER "},null,null,{"$f":"IF($A1351<>0,VLOOKUP($A1351,Liste!$A$10:$W$459,8,FALSE),\"\")","v":93},null,"Par visio, audio conférence,,,,"]
[{"$f":"IF($A1351<>0,VLOOKUP($A1351,Liste!$A$10:$W$459,5,FALSE),\"\")","v":"13 rue de l' espoir"},null,null,null,null,null,"Signature/ Mandataire :"]
[{"$f":"IF($A1351<>0,VLOOKUP($A1351,Liste!$A$10:$W$459,6,FALSE),\"\")","v":75016},{"$f":"IF($A1351<>0,VLOOKUP($A1351,Liste!$A$10:$W$459,7,FALSE),\"\")","v":"Paris "}]
[{"$f":" IF($A1351<>0, \"Lot \" & VLOOKUP($A1351,Liste!$A$10:$W$459,9,FALSE),\"\")","v":"Lot 141"},{"$f":"IF($A1351<>0,VLOOKUP($A1351,Liste!$A$10:$W$459,10,FALSE),\"\")","v":"Appart,"},{"$f":"IF($A1351<>0,VLOOKUP($A1351,Liste!$A$10:$W$459,11,FALSE),\"\")","v":88}]
[{"$f":"IF($A1351<>0,\"Lot \" & VLOOKUP($A1351,Liste!$A$10:$W$459,12,FALSE),\"\")","v":"Lot 291"},{"$f":"IF($A1351<>0,VLOOKUP($A1351,Liste!$A$10:$W$459,13,FALSE),\"\")","v":"Cave"},{"$f":"IF($A1351<>0,VLOOKUP($A1351,Liste!$A$10:$W$459,14,FALSE),\"\")","v":5}]
[{"$f":"IF($A1351<>0,\"Lot \" & VLOOKUP($A1351,Liste!$A$10:$W$459,15,FALSE),\"\")","v":"Lot "},{"$f":"IF($A1351<>0,VLOOKUP($A1351,Liste!$A$10:$W$459,16,FALSE),\"\")","v":0},{"$f":"IF($A1351<>0,VLOOKUP($A1351,Liste!$A$10:$W$459,17,FALSE),\"\")","v":0},null,null,null,"Arrivé à","après vote de la Résolution N°"]
[{"$f":"IF($A1351<>0,\"Lot \" & VLOOKUP($A1351,Liste!$A$10:$W$459,18,FALSE),\"\")","v":"Lot "},0,{"$f":"IF($A1351<>0,VLOOKUP($A1351,Liste!$A$10:$W$459,19,FALSE),\"\")","v":0},null,null,null,"Départ à","après vote de la Résolution N°"]
[{"$f":"IF($A1351<>0,\"Lot \" & VLOOKUP($A1351,Liste!$A$10:$W$459,21,FALSE),\"\")","v":"Lot "},{"$f":"IF($A1351<>0,VLOOKUP($A1351,Liste!$A$10:$W$459,22,FALSE),\"\")","v":0},{"$f":"IF($A1351<>0,VLOOKUP($A1351,Liste!$A$10:$W$459,23,FALSE),\"\")","v":0},null,null,null,{"$f":"IF(OR(B1352=0,VLOOKUP(A1351,Liste!$A$10:'Liste'!$Z$459,26)<>\"\"),\"\", \"Voir autorisation messages électroniques\")","v":"Voir autorisation messages électroniques"}]
[{"$f":"A1351+1","v":142},null,null,null,null,null,"Par correspondance reçu le "]
[{"$f":"IF($A1360<>0,VLOOKUP($A1360,Liste!$A$10:$W$459,3,FALSE),\"\")","v":"Monsieur"},{"$f":"IF($A1360<>0,VLOOKUP($A1360,Liste!$A$10:$W$459,4,FALSE),\"\")","v":"STURM Philippe"},null,null,{"$f":"IF($A1360<>0,VLOOKUP($A1360,Liste!$A$10:$W$459,8,FALSE),\"\")","v":90},null,"Par visio, audio conférence,,,,"]
[{"$f":"IF($A1360<>0,VLOOKUP($A1360,Liste!$A$10:$W$459,5,FALSE),\"\")","v":"13 rue de l' espoir"},null,null,null,null,null,"Signature/ Mandataire :"]
[{"$f":"IF($A1360<>0,VLOOKUP($A1360,Liste!$A$10:$W$459,6,FALSE),\"\")","v":75016},{"$f":"IF($A1360<>0,VLOOKUP($A1360,Liste!$A$10:$W$459,7,FALSE),\"\")","v":"Paris "}]
[{"$f":" IF($A1360<>0, \"Lot \" & VLOOKUP($A1360,Liste!$A$10:$W$459,9,FALSE),\"\")","v":"Lot 142"},{"$f":"IF($A1360<>0,VLOOKUP($A1360,Liste!$A$10:$W$459,10,FALSE),\"\")","v":"Appart,"},{"$f":"IF($A1360<>0,VLOOKUP($A1360,Liste!$A$10:$W$459,11,FALSE),\"\")","v":85}]
[{"$f":"IF($A1360<>0,\"Lot \" & VLOOKUP($A1360,Liste!$A$10:$W$459,12,FALSE),\"\")","v":"Lot 292"},{"$f":"IF($A1360<>0,VLOOKUP($A1360,Liste!$A$10:$W$459,13,FALSE),\"\")","v":"Cave"},{"$f":"IF($A1360<>0,VLOOKUP($A1360,Liste!$A$10:$W$459,14,FALSE),\"\")","v":5}]
[{"$f":"IF($A1360<>0,\"Lot \" & VLOOKUP($A1360,Liste!$A$10:$W$459,15,FALSE),\"\")","v":"Lot "},{"$f":"IF($A1360<>0,VLOOKUP($A1360,Liste!$A$10:$W$459,16,FALSE),\"\")","v":0},{"$f":"IF($A1360<>0,VLOOKUP($A1360,Liste!$A$10:$W$459,17,FALSE),\"\")","v":0},null,null,null,"Arrivé à","après vote de la Résolution N°"]
[{"$f":"IF($A1360<>0,\"Lot \" & VLOOKUP($A1360,Liste!$A$10:$W$459,18,FALSE),\"\")","v":"Lot "},0,{"$f":"IF($A1360<>0,VLOOKUP($A1360,Liste!$A$10:$W$459,19,FALSE),\"\")","v":0},null,null,null,"Départ à","après vote de la Résolution N°"]
[{"$f":"IF($A1360<>0,\"Lot \" & VLOOKUP($A1360,Liste!$A$10:$W$459,21,FALSE),\"\")","v":"Lot "},{"$f":"IF($A1360<>0,VLOOKUP($A1360,Liste!$A$10:$W$459,22,FALSE),\"\")","v":0},{"$f":"IF($A1360<>0,VLOOKUP($A1360,Liste!$A$10:$W$459,23,FALSE),\"\")","v":0},null,null,null,{"$f":"IF(OR(B1361=0,VLOOKUP(A1360,Liste!$A$10:'Liste'!$Z$459,26)<>\"\"),\"\", \"Voir autorisation messages électroniques\")","v":"Voir autorisation messages électroniques"}]
[{"$f":"A1360+1","v":143},null,null,null,null,null,"Par correspondance reçu le "]
[{"$f":"IF($A1369<>0,VLOOKUP($A1369,Liste!$A$10:$W$459,3,FALSE),\"\")","v":"Monsieur"},{"$f":"IF($A1369<>0,VLOOKUP($A1369,Liste!$A$10:$W$459,4,FALSE),\"\")","v":"TANDY G&érard"},null,null,{"$f":"IF($A1369<>0,VLOOKUP($A1369,Liste!$A$10:$W$459,8,FALSE),\"\")","v":40},null,"Par visio, audio conférence,,,,"]
[{"$f":"IF($A1369<>0,VLOOKUP($A1369,Liste!$A$10:$W$459,5,FALSE),\"\")","v":"19 Rue du Paradis"},null,null,null,null,null,"Signature/ Mandataire :"]
[{"$f":"IF($A1369<>0,VLOOKUP($A1369,Liste!$A$10:$W$459,6,FALSE),\"\")","v":33000},{"$f":"IF($A1369<>0,VLOOKUP($A1369,Liste!$A$10:$W$459,7,FALSE),\"\")","v":"Bordeaux"}]
[{"$f":" IF($A1369<>0, \"Lot \" & VLOOKUP($A1369,Liste!$A$10:$W$459,9,FALSE),\"\")","v":"Lot 143"},{"$f":"IF($A1369<>0,VLOOKUP($A1369,Liste!$A$10:$W$459,10,FALSE),\"\")","v":"Appart,"},{"$f":"IF($A1369<>0,VLOOKUP($A1369,Liste!$A$10:$W$459,11,FALSE),\"\")","v":35}]
[{"$f":"IF($A1369<>0,\"Lot \" & VLOOKUP($A1369,Liste!$A$10:$W$459,12,FALSE),\"\")","v":"Lot 293"},{"$f":"IF($A1369<>0,VLOOKUP($A1369,Liste!$A$10:$W$459,13,FALSE),\"\")","v":"Cave"},{"$f":"IF($A1369<>0,VLOOKUP($A1369,Liste!$A$10:$W$459,14,FALSE),\"\")","v":5}]
[{"$f":"IF($A1369<>0,\"Lot \" & VLOOKUP($A1369,Liste!$A$10:$W$459,15,FALSE),\"\")","v":"Lot "},{"$f":"IF($A1369<>0,VLOOKUP($A1369,Liste!$A$10:$W$459,16,FALSE),\"\")","v":0},{"$f":"IF($A1369<>0,VLOOKUP($A1369,Liste!$A$10:$W$459,17,FALSE),\"\")","v":0},null,null,null,"Arrivé à","après vote de la Résolution N°"]
[{"$f":"IF($A1369<>0,\"Lot \" & VLOOKUP($A1369,Liste!$A$10:$W$459,18,FALSE),\"\")","v":"Lot "},0,{"$f":"IF($A1369<>0,VLOOKUP($A1369,Liste!$A$10:$W$459,19,FALSE),\"\")","v":0},null,null,null,"Départ à","après vote de la Résolution N°"]
[{"$f":"IF($A1369<>0,\"Lot \" & VLOOKUP($A1369,Liste!$A$10:$W$459,21,FALSE),\"\")","v":"Lot "},{"$f":"IF($A1369<>0,VLOOKUP($A1369,Liste!$A$10:$W$459,22,FALSE),\"\")","v":0},{"$f":"IF($A1369<>0,VLOOKUP($A1369,Liste!$A$10:$W$459,23,FALSE),\"\")","v":0},null,null,null,{"$f":"IF(OR(B1370=0,VLOOKUP(A1369,Liste!$A$10:'Liste'!$Z$459,26)<>\"\"),\"\", \"Voir autorisation messages électroniques\")","v":"Voir autorisation messages électroniques"}]
[{"$f":"A1369+1","v":144},null,null,null,null,null,"Par correspondance reçu le "]
[{"$f":"IF($A1378<>0,VLOOKUP($A1378,Liste!$A$10:$W$459,3,FALSE),\"\")","v":"Monsieur"},{"$f":"IF($A1378<>0,VLOOKUP($A1378,Liste!$A$10:$W$459,4,FALSE),\"\")","v":"THUMERELLE Sébastien"},null,null,{"$f":"IF($A1378<>0,VLOOKUP($A1378,Liste!$A$10:$W$459,8,FALSE),\"\")","v":80},null,"Par visio, audio conférence,,,,"]
[{"$f":"IF($A1378<>0,VLOOKUP($A1378,Liste!$A$10:$W$459,5,FALSE),\"\")","v":"13 rue de l' espoir"},null,null,null,null,null,"Signature/ Mandataire :"]
[{"$f":"IF($A1378<>0,VLOOKUP($A1378,Liste!$A$10:$W$459,6,FALSE),\"\")","v":75016},{"$f":"IF($A1378<>0,VLOOKUP($A1378,Liste!$A$10:$W$459,7,FALSE),\"\")","v":"Paris "}]
[{"$f":" IF($A1378<>0, \"Lot \" & VLOOKUP($A1378,Liste!$A$10:$W$459,9,FALSE),\"\")","v":"Lot 144"},{"$f":"IF($A1378<>0,VLOOKUP($A1378,Liste!$A$10:$W$459,10,FALSE),\"\")","v":"Appart,"},{"$f":"IF($A1378<>0,VLOOKUP($A1378,Liste!$A$10:$W$459,11,FALSE),\"\")","v":75}]
[{"$f":"IF($A1378<>0,\"Lot \" & VLOOKUP($A1378,Liste!$A$10:$W$459,12,FALSE),\"\")","v":"Lot 294"},{"$f":"IF($A1378<>0,VLOOKUP($A1378,Liste!$A$10:$W$459,13,FALSE),\"\")","v":"Cave"},{"$f":"IF($A1378<>0,VLOOKUP($A1378,Liste!$A$10:$W$459,14,FALSE),\"\")","v":5}]
[{"$f":"IF($A1378<>0,\"Lot \" & VLOOKUP($A1378,Liste!$A$10:$W$459,15,FALSE),\"\")","v":"Lot "},{"$f":"IF($A1378<>0,VLOOKUP($A1378,Liste!$A$10:$W$459,16,FALSE),\"\")","v":0},{"$f":"IF($A1378<>0,VLOOKUP($A1378,Liste!$A$10:$W$459,17,FALSE),\"\")","v":0},null,null,null,"Arrivé à","après vote de la Résolution N°"]
[{"$f":"IF($A1378<>0,\"Lot \" & VLOOKUP($A1378,Liste!$A$10:$W$459,18,FALSE),\"\")","v":"Lot "},0,{"$f":"IF($A1378<>0,VLOOKUP($A1378,Liste!$A$10:$W$459,19,FALSE),\"\")","v":0},null,null,null,"Départ à","après vote de la Résolution N°"]
[{"$f":"IF($A1378<>0,\"Lot \" & VLOOKUP($A1378,Liste!$A$10:$W$459,21,FALSE),\"\")","v":"Lot "},{"$f":"IF($A1378<>0,VLOOKUP($A1378,Liste!$A$10:$W$459,22,FALSE),\"\")","v":0},{"$f":"IF($A1378<>0,VLOOKUP($A1378,Liste!$A$10:$W$459,23,FALSE),\"\")","v":0},null,null,null,{"$f":"IF(OR(B1379=0,VLOOKUP(A1378,Liste!$A$10:'Liste'!$Z$459,26)<>\"\"),\"\", \"Voir autorisation messages électroniques\")","v":"Voir autorisation messages électroniques"}]
[]
[null,null,null,"A S S E M B L E E     G E N E R A L E",null,null,null,null,null,null,"Page",{"$f":"L1311+1","v":19}]
[null,null,null,null,null,"du","2019-12-20"]
[null,null,null,"Résidence Le Paradis; Rue de l' espoir 75016 PARIS"]
[]
[{"$f":"A1378+1","v":145},null,null,null,null,null,"Par correspondance reçu le "]
[{"$f":"IF($A1392<>0,VLOOKUP($A1392,Liste!$A$10:$W$459,3,FALSE),\"\")","v":"Monsieur"},{"$f":"IF($A1392<>0,VLOOKUP($A1392,Liste!$A$10:$W$459,4,FALSE),\"\")","v":"TONDU Simon"},null,null,{"$f":"IF($A1392<>0,VLOOKUP($A1392,Liste!$A$10:$W$459,8,FALSE),\"\")","v":40},null,"Par visio, audio conférence,,,,"]
[{"$f":"IF($A1392<>0,VLOOKUP($A1392,Liste!$A$10:$W$459,5,FALSE),\"\")","v":"19 Rue du Paradis"},null,null,null,null,null,"Signature/ Mandataire :"]
[{"$f":"IF($A1392<>0,VLOOKUP($A1392,Liste!$A$10:$W$459,6,FALSE),\"\")","v":33000},{"$f":"IF($A1392<>0,VLOOKUP($A1392,Liste!$A$10:$W$459,7,FALSE),\"\")","v":"Bordeaux"}]
[{"$f":" IF($A1392<>0, \"Lot \" & VLOOKUP($A1392,Liste!$A$10:$W$459,9,FALSE),\"\")","v":"Lot 145"},{"$f":"IF($A1392<>0,VLOOKUP($A1392,Liste!$A$10:$W$459,10,FALSE),\"\")","v":"Appart,"},{"$f":"IF($A1392<>0,VLOOKUP($A1392,Liste!$A$10:$W$459,11,FALSE),\"\")","v":35}]
[{"$f":"IF($A1392<>0,\"Lot \" & VLOOKUP($A1392,Liste!$A$10:$W$459,12,FALSE),\"\")","v":"Lot 295"},{"$f":"IF($A1392<>0,VLOOKUP($A1392,Liste!$A$10:$W$459,13,FALSE),\"\")","v":"Cave"},{"$f":"IF($A1392<>0,VLOOKUP($A1392,Liste!$A$10:$W$459,14,FALSE),\"\")","v":5}]
[{"$f":"IF($A1392<>0,\"Lot \" & VLOOKUP($A1392,Liste!$A$10:$W$459,15,FALSE),\"\")","v":"Lot "},{"$f":"IF($A1392<>0,VLOOKUP($A1392,Liste!$A$10:$W$459,16,FALSE),\"\")","v":0},{"$f":"IF($A1392<>0,VLOOKUP($A1392,Liste!$A$10:$W$459,17,FALSE),\"\")","v":0},null,null,null,"Arrivé à","après vote de la Résolution N°"]
[{"$f":"IF($A1392<>0,\"Lot \" & VLOOKUP($A1392,Liste!$A$10:$W$459,18,FALSE),\"\")","v":"Lot "},0,{"$f":"IF($A1392<>0,VLOOKUP($A1392,Liste!$A$10:$W$459,19,FALSE),\"\")","v":0},null,null,null,"Départ à","après vote de la Résolution N°"]
[{"$f":"IF($A1392<>0,\"Lot \" & VLOOKUP($A1392,Liste!$A$10:$W$459,21,FALSE),\"\")","v":"Lot "},{"$f":"IF($A1392<>0,VLOOKUP($A1392,Liste!$A$10:$W$459,22,FALSE),\"\")","v":0},{"$f":"IF($A1392<>0,VLOOKUP($A1392,Liste!$A$10:$W$459,23,FALSE),\"\")","v":0},null,null,null,{"$f":"IF(OR(B1393=0,VLOOKUP(A1392,Liste!$A$10:'Liste'!$Z$459,26)<>\"\"),\"\", \"Voir autorisation messages électroniques\")","v":"Voir autorisation messages électroniques"}]
[{"$f":"A1392+1","v":146},null,null,null,null,null,"Par correspondance reçu le "]
[{"$f":"IF($A1401<>0,VLOOKUP($A1401,Liste!$A$10:$W$459,3,FALSE),\"\")","v":"Monsieur"},{"$f":"IF($A1401<>0,VLOOKUP($A1401,Liste!$A$10:$W$459,4,FALSE),\"\")","v":"VERMONT André"},null,null,{"$f":"IF($A1401<>0,VLOOKUP($A1401,Liste!$A$10:$W$459,8,FALSE),\"\")","v":52},null,"Par visio, audio conférence,,,,"]
[{"$f":"IF($A1401<>0,VLOOKUP($A1401,Liste!$A$10:$W$459,5,FALSE),\"\")","v":"19 Rue du Paradis"},null,null,null,null,null,"Signature/ Mandataire :"]
[{"$f":"IF($A1401<>0,VLOOKUP($A1401,Liste!$A$10:$W$459,6,FALSE),\"\")","v":33000},{"$f":"IF($A1401<>0,VLOOKUP($A1401,Liste!$A$10:$W$459,7,FALSE),\"\")","v":"Bordeaux"}]
[{"$f":" IF($A1401<>0, \"Lot \" & VLOOKUP($A1401,Liste!$A$10:$W$459,9,FALSE),\"\")","v":"Lot 146"},{"$f":"IF($A1401<>0,VLOOKUP($A1401,Liste!$A$10:$W$459,10,FALSE),\"\")","v":"Appart,"},{"$f":"IF($A1401<>0,VLOOKUP($A1401,Liste!$A$10:$W$459,11,FALSE),\"\")","v":47}]
[{"$f":"IF($A1401<>0,\"Lot \" & VLOOKUP($A1401,Liste!$A$10:$W$459,12,FALSE),\"\")","v":"Lot 296"},{"$f":"IF($A1401<>0,VLOOKUP($A1401,Liste!$A$10:$W$459,13,FALSE),\"\")","v":"Cave"},{"$f":"IF($A1401<>0,VLOOKUP($A1401,Liste!$A$10:$W$459,14,FALSE),\"\")","v":5}]
[{"$f":"IF($A1401<>0,\"Lot \" & VLOOKUP($A1401,Liste!$A$10:$W$459,15,FALSE),\"\")","v":"Lot "},{"$f":"IF($A1401<>0,VLOOKUP($A1401,Liste!$A$10:$W$459,16,FALSE),\"\")","v":0},{"$f":"IF($A1401<>0,VLOOKUP($A1401,Liste!$A$10:$W$459,17,FALSE),\"\")","v":0},null,null,null,"Arrivé à","après vote de la Résolution N°"]
[{"$f":"IF($A1401<>0,\"Lot \" & VLOOKUP($A1401,Liste!$A$10:$W$459,18,FALSE),\"\")","v":"Lot "},0,{"$f":"IF($A1401<>0,VLOOKUP($A1401,Liste!$A$10:$W$459,19,FALSE),\"\")","v":0},null,null,null,"Départ à","après vote de la Résolution N°"]
[{"$f":"IF($A1401<>0,\"Lot \" & VLOOKUP($A1401,Liste!$A$10:$W$459,21,FALSE),\"\")","v":"Lot "},{"$f":"IF($A1401<>0,VLOOKUP($A1401,Liste!$A$10:$W$459,22,FALSE),\"\")","v":0},{"$f":"IF($A1401<>0,VLOOKUP($A1401,Liste!$A$10:$W$459,23,FALSE),\"\")","v":0},null,null,null,{"$f":"IF(OR(B1402=0,VLOOKUP(A1401,Liste!$A$10:'Liste'!$Z$459,26)<>\"\"),\"\", \"Voir autorisation messages électroniques\")","v":"Voir autorisation messages électroniques"}]
[{"$f":"A1401+1","v":147},null,null,null,null,null,"Par correspondance reçu le "]
[{"$f":"IF($A1410<>0,VLOOKUP($A1410,Liste!$A$10:$W$459,3,FALSE),\"\")","v":"Madame"},{"$f":"IF($A1410<>0,VLOOKUP($A1410,Liste!$A$10:$W$459,4,FALSE),\"\")","v":"VIGLIONE Léa"},null,null,{"$f":"IF($A1410<>0,VLOOKUP($A1410,Liste!$A$10:$W$459,8,FALSE),\"\")","v":61},null,"Par visio, audio conférence,,,,"]
[{"$f":"IF($A1410<>0,VLOOKUP($A1410,Liste!$A$10:$W$459,5,FALSE),\"\")","v":"13 rue de l' espoir"},null,null,null,null,null,"Signature/ Mandataire :"]
[{"$f":"IF($A1410<>0,VLOOKUP($A1410,Liste!$A$10:$W$459,6,FALSE),\"\")","v":75016},{"$f":"IF($A1410<>0,VLOOKUP($A1410,Liste!$A$10:$W$459,7,FALSE),\"\")","v":"Paris "}]
[{"$f":" IF($A1410<>0, \"Lot \" & VLOOKUP($A1410,Liste!$A$10:$W$459,9,FALSE),\"\")","v":"Lot 147"},{"$f":"IF($A1410<>0,VLOOKUP($A1410,Liste!$A$10:$W$459,10,FALSE),\"\")","v":"Appart,"},{"$f":"IF($A1410<>0,VLOOKUP($A1410,Liste!$A$10:$W$459,11,FALSE),\"\")","v":56}]
[{"$f":"IF($A1410<>0,\"Lot \" & VLOOKUP($A1410,Liste!$A$10:$W$459,12,FALSE),\"\")","v":"Lot 297"},{"$f":"IF($A1410<>0,VLOOKUP($A1410,Liste!$A$10:$W$459,13,FALSE),\"\")","v":"Cave"},{"$f":"IF($A1410<>0,VLOOKUP($A1410,Liste!$A$10:$W$459,14,FALSE),\"\")","v":5}]
[{"$f":"IF($A1410<>0,\"Lot \" & VLOOKUP($A1410,Liste!$A$10:$W$459,15,FALSE),\"\")","v":"Lot "},{"$f":"IF($A1410<>0,VLOOKUP($A1410,Liste!$A$10:$W$459,16,FALSE),\"\")","v":0},{"$f":"IF($A1410<>0,VLOOKUP($A1410,Liste!$A$10:$W$459,17,FALSE),\"\")","v":0},null,null,null,"Arrivé à","après vote de la Résolution N°"]
[{"$f":"IF($A1410<>0,\"Lot \" & VLOOKUP($A1410,Liste!$A$10:$W$459,18,FALSE),\"\")","v":"Lot "},0,{"$f":"IF($A1410<>0,VLOOKUP($A1410,Liste!$A$10:$W$459,19,FALSE),\"\")","v":0},null,null,null,"Départ à","après vote de la Résolution N°"]
[{"$f":"IF($A1410<>0,\"Lot \" & VLOOKUP($A1410,Liste!$A$10:$W$459,21,FALSE),\"\")","v":"Lot "},{"$f":"IF($A1410<>0,VLOOKUP($A1410,Liste!$A$10:$W$459,22,FALSE),\"\")","v":0},{"$f":"IF($A1410<>0,VLOOKUP($A1410,Liste!$A$10:$W$459,23,FALSE),\"\")","v":0},null,null,null,{"$f":"IF(OR(B1411=0,VLOOKUP(A1410,Liste!$A$10:'Liste'!$Z$459,26)<>\"\"),\"\", \"Voir autorisation messages électroniques\")","v":""}]
[{"$f":"A1410+1","v":148},null,null,null,null,null,"Par correspondance reçu le "]
[{"$f":"IF($A1419<>0,VLOOKUP($A1419,Liste!$A$10:$W$459,3,FALSE),\"\")","v":"Monsieur"},{"$f":"IF($A1419<>0,VLOOKUP($A1419,Liste!$A$10:$W$459,4,FALSE),\"\")","v":"WINGERT Philippe"},null,null,{"$f":"IF($A1419<>0,VLOOKUP($A1419,Liste!$A$10:$W$459,8,FALSE),\"\")","v":80},null,"Par visio, audio conférence,,,,"]
[{"$f":"IF($A1419<>0,VLOOKUP($A1419,Liste!$A$10:$W$459,5,FALSE),\"\")","v":"13 rue de l' espoir"},null,null,null,null,null,"Signature/ Mandataire :"]
[{"$f":"IF($A1419<>0,VLOOKUP($A1419,Liste!$A$10:$W$459,6,FALSE),\"\")","v":75016},{"$f":"IF($A1419<>0,VLOOKUP($A1419,Liste!$A$10:$W$459,7,FALSE),\"\")","v":"Paris "}]
[{"$f":" IF($A1419<>0, \"Lot \" & VLOOKUP($A1419,Liste!$A$10:$W$459,9,FALSE),\"\")","v":"Lot 148"},{"$f":"IF($A1419<>0,VLOOKUP($A1419,Liste!$A$10:$W$459,10,FALSE),\"\")","v":"Appart,"},{"$f":"IF($A1419<>0,VLOOKUP($A1419,Liste!$A$10:$W$459,11,FALSE),\"\")","v":75}]
[{"$f":"IF($A1419<>0,\"Lot \" & VLOOKUP($A1419,Liste!$A$10:$W$459,12,FALSE),\"\")","v":"Lot 298"},{"$f":"IF($A1419<>0,VLOOKUP($A1419,Liste!$A$10:$W$459,13,FALSE),\"\")","v":"Cave"},{"$f":"IF($A1419<>0,VLOOKUP($A1419,Liste!$A$10:$W$459,14,FALSE),\"\")","v":5}]
[{"$f":"IF($A1419<>0,\"Lot \" & VLOOKUP($A1419,Liste!$A$10:$W$459,15,FALSE),\"\")","v":"Lot "},{"$f":"IF($A1419<>0,VLOOKUP($A1419,Liste!$A$10:$W$459,16,FALSE),\"\")","v":0},{"$f":"IF($A1419<>0,VLOOKUP($A1419,Liste!$A$10:$W$459,17,FALSE),\"\")","v":0},null,null,null,"Arrivé à","après vote de la Résolution N°"]
[{"$f":"IF($A1419<>0,\"Lot \" & VLOOKUP($A1419,Liste!$A$10:$W$459,18,FALSE),\"\")","v":"Lot "},0,{"$f":"IF($A1419<>0,VLOOKUP($A1419,Liste!$A$10:$W$459,19,FALSE),\"\")","v":0},null,null,null,"Départ à","après vote de la Résolution N°"]
[{"$f":"IF($A1419<>0,\"Lot \" & VLOOKUP($A1419,Liste!$A$10:$W$459,21,FALSE),\"\")","v":"Lot "},{"$f":"IF($A1419<>0,VLOOKUP($A1419,Liste!$A$10:$W$459,22,FALSE),\"\")","v":0},{"$f":"IF($A1419<>0,VLOOKUP($A1419,Liste!$A$10:$W$459,23,FALSE),\"\")","v":0},null,null,null,{"$f":"IF(OR(B1420=0,VLOOKUP(A1419,Liste!$A$10:'Liste'!$Z$459,26)<>\"\"),\"\", \"Voir autorisation messages électroniques\")","v":"Voir autorisation messages électroniques"}]
[{"$f":"A1419+1","v":149},null,null,null,null,null,"Par correspondance reçu le "]
[{"$f":"IF($A1428<>0,VLOOKUP($A1428,Liste!$A$10:$W$459,3,FALSE),\"\")","v":"Monsieur"},{"$f":"IF($A1428<>0,VLOOKUP($A1428,Liste!$A$10:$W$459,4,FALSE),\"\")","v":"YOUSEF Amed"},null,null,{"$f":"IF($A1428<>0,VLOOKUP($A1428,Liste!$A$10:$W$459,8,FALSE),\"\")","v":52},null,"Par visio, audio conférence,,,,"]
[{"$f":"IF($A1428<>0,VLOOKUP($A1428,Liste!$A$10:$W$459,5,FALSE),\"\")","v":"19 Rue du Paradis"},null,null,null,null,null,"Signature/ Mandataire :"]
[{"$f":"IF($A1428<>0,VLOOKUP($A1428,Liste!$A$10:$W$459,6,FALSE),\"\")","v":33000},{"$f":"IF($A1428<>0,VLOOKUP($A1428,Liste!$A$10:$W$459,7,FALSE),\"\")","v":"Bordeaux"}]
[{"$f":" IF($A1428<>0, \"Lot \" & VLOOKUP($A1428,Liste!$A$10:$W$459,9,FALSE),\"\")","v":"Lot 149"},{"$f":"IF($A1428<>0,VLOOKUP($A1428,Liste!$A$10:$W$459,10,FALSE),\"\")","v":"Appart,"},{"$f":"IF($A1428<>0,VLOOKUP($A1428,Liste!$A$10:$W$459,11,FALSE),\"\")","v":47}]
[{"$f":"IF($A1428<>0,\"Lot \" & VLOOKUP($A1428,Liste!$A$10:$W$459,12,FALSE),\"\")","v":"Lot 299"},{"$f":"IF($A1428<>0,VLOOKUP($A1428,Liste!$A$10:$W$459,13,FALSE),\"\")","v":"Cave"},{"$f":"IF($A1428<>0,VLOOKUP($A1428,Liste!$A$10:$W$459,14,FALSE),\"\")","v":5}]
[{"$f":"IF($A1428<>0,\"Lot \" & VLOOKUP($A1428,Liste!$A$10:$W$459,15,FALSE),\"\")","v":"Lot "},{"$f":"IF($A1428<>0,VLOOKUP($A1428,Liste!$A$10:$W$459,16,FALSE),\"\")","v":0},{"$f":"IF($A1428<>0,VLOOKUP($A1428,Liste!$A$10:$W$459,17,FALSE),\"\")","v":0},null,null,null,"Arrivé à","après vote de la Résolution N°"]
[{"$f":"IF($A1428<>0,\"Lot \" & VLOOKUP($A1428,Liste!$A$10:$W$459,18,FALSE),\"\")","v":"Lot "},0,{"$f":"IF($A1428<>0,VLOOKUP($A1428,Liste!$A$10:$W$459,19,FALSE),\"\")","v":0},null,null,null,"Départ à","après vote de la Résolution N°"]
[{"$f":"IF($A1428<>0,\"Lot \" & VLOOKUP($A1428,Liste!$A$10:$W$459,21,FALSE),\"\")","v":"Lot "},{"$f":"IF($A1428<>0,VLOOKUP($A1428,Liste!$A$10:$W$459,22,FALSE),\"\")","v":0},{"$f":"IF($A1428<>0,VLOOKUP($A1428,Liste!$A$10:$W$459,23,FALSE),\"\")","v":0},null,null,null,{"$f":"IF(OR(B1429=0,VLOOKUP(A1428,Liste!$A$10:'Liste'!$Z$459,26)<>\"\"),\"\", \"Voir autorisation messages électroniques\")","v":"Voir autorisation messages électroniques"}]
[{"$f":"A1428+1","v":150},null,null,null,null,null,"Par correspondance reçu le "]
[{"$f":"IF($A1437<>0,VLOOKUP($A1437,Liste!$A$10:$W$459,3,FALSE),\"\")","v":"Monsieur"},{"$f":"IF($A1437<>0,VLOOKUP($A1437,Liste!$A$10:$W$459,4,FALSE),\"\")","v":"ZIADI MONGI"},null,null,{"$f":"IF($A1437<>0,VLOOKUP($A1437,Liste!$A$10:$W$459,8,FALSE),\"\")","v":53},null,"Par visio, audio conférence,,,,"]
[{"$f":"IF($A1437<>0,VLOOKUP($A1437,Liste!$A$10:$W$459,5,FALSE),\"\")","v":"13 rue de l' espoir"},null,null,null,null,null,"Signature/ Mandataire :"]
[{"$f":"IF($A1437<>0,VLOOKUP($A1437,Liste!$A$10:$W$459,6,FALSE),\"\")","v":75016},{"$f":"IF($A1437<>0,VLOOKUP($A1437,Liste!$A$10:$W$459,7,FALSE),\"\")","v":"Paris "}]
[{"$f":" IF($A1437<>0, \"Lot \" & VLOOKUP($A1437,Liste!$A$10:$W$459,9,FALSE),\"\")","v":"Lot 150"},{"$f":"IF($A1437<>0,VLOOKUP($A1437,Liste!$A$10:$W$459,10,FALSE),\"\")","v":"Appart,"},{"$f":"IF($A1437<>0,VLOOKUP($A1437,Liste!$A$10:$W$459,11,FALSE),\"\")","v":48}]
[{"$f":"IF($A1437<>0,\"Lot \" & VLOOKUP($A1437,Liste!$A$10:$W$459,12,FALSE),\"\")","v":"Lot 300"},{"$f":"IF($A1437<>0,VLOOKUP($A1437,Liste!$A$10:$W$459,13,FALSE),\"\")","v":"Cave"},{"$f":"IF($A1437<>0,VLOOKUP($A1437,Liste!$A$10:$W$459,14,FALSE),\"\")","v":5}]
[{"$f":"IF($A1437<>0,\"Lot \" & VLOOKUP($A1437,Liste!$A$10:$W$459,15,FALSE),\"\")","v":"Lot "},{"$f":"IF($A1437<>0,VLOOKUP($A1437,Liste!$A$10:$W$459,16,FALSE),\"\")","v":0},{"$f":"IF($A1437<>0,VLOOKUP($A1437,Liste!$A$10:$W$459,17,FALSE),\"\")","v":0},null,null,null,"Arrivé à","après vote de la Résolution N°"]
[{"$f":"IF($A1437<>0,\"Lot \" & VLOOKUP($A1437,Liste!$A$10:$W$459,18,FALSE),\"\")","v":"Lot "},0,{"$f":"IF($A1437<>0,VLOOKUP($A1437,Liste!$A$10:$W$459,19,FALSE),\"\")","v":0},null,null,null,"Départ à","après vote de la Résolution N°"]
[{"$f":"IF($A1437<>0,\"Lot \" & VLOOKUP($A1437,Liste!$A$10:$W$459,21,FALSE),\"\")","v":"Lot "},{"$f":"IF($A1437<>0,VLOOKUP($A1437,Liste!$A$10:$W$459,22,FALSE),\"\")","v":0},{"$f":"IF($A1437<>0,VLOOKUP($A1437,Liste!$A$10:$W$459,23,FALSE),\"\")","v":0},null,null,null,{"$f":"IF(OR(B1438=0,VLOOKUP(A1437,Liste!$A$10:'Liste'!$Z$459,26)<>\"\"),\"\", \"Voir autorisation messages électroniques\")","v":""}]

{"sheet":"VPC","index":2,"n_rows":3007,"n_cols":8,"rows_kept":3007,"cut":false,"hidden":false,"merged":[]}
[null,null,null,"VOTES PAR CORRESPONDANCE."]
[null,null,null,"TRI PAR QUESTION"]
[null,null,null,"Collage spécial des valeurs dans feuilles de votes"]
[]
["Question","CLES","N°Ordre","NOMS","POUR","CONTRE","ABBST","VERIF"]
[1,1,11,{"$f":"IF(C6>0,VLOOKUP(C6,Liste!$A$10:$D$159,4),\"\")","v":"BAUMGARTNER Peter"},1]
[1,1,21,{"$f":"IF(C7>0,VLOOKUP(C7,Liste!$A$10:$D$159,4),\"\")","v":"BOQUET Marcel"}]
[1,1,31,{"$f":"IF(C8>0,VLOOKUP(C8,Liste!$A$10:$D$159,4),\"\")","v":"CARANTA Jean P."}]
[1,1,41,{"$f":"IF(C9>0,VLOOKUP(C9,Liste!$A$10:$D$159,4),\"\")","v":"COMA Marie"}]
[1,1,101,{"$f":"IF(C10>0,VLOOKUP(C10,Liste!$A$10:$D$159,4),\"\")","v":"MEISSONNIER Josiane"}]
[1,1,111,{"$f":"IF(C11>0,VLOOKUP(C11,Liste!$A$10:$D$159,4),\"\")","v":"NOGER Pierre "}]
[1,1,121,{"$f":"IF(C12>0,VLOOKUP(C12,Liste!$A$10:$D$159,4),\"\")","v":"PUONS René"}]
[1,1,131,{"$f":"IF(C13>0,VLOOKUP(C13,Liste!$A$10:$D$159,4),\"\")","v":"SAMUELIAN Charles"}]
["Total 1",null,null,null,null,null,null,{"$f":"SUBTOTAL(9,H6:H13)","v":0}]
[2,1,11,{"$f":"IF(C15>0,VLOOKUP(C15,Liste!$A$10:$D$159,4),\"\")","v":"BAUMGARTNER Peter"},null,1]
[2,1,21,{"$f":"IF(C16>0,VLOOKUP(C16,Liste!$A$10:$D$159,4),\"\")","v":"BOQUET Marcel"}]
[2,1,31,{"$f":"IF(C17>0,VLOOKUP(C17,Liste!$A$10:$D$159,4),\"\")","v":"CARANTA Jean P."}]
[2,1,41,{"$f":"IF(C18>0,VLOOKUP(C18,Liste!$A$10:$D$159,4),\"\")","v":"COMA Marie"}]
[2,1,101,{"$f":"IF(C19>0,VLOOKUP(C19,Liste!$A$10:$D$159,4),\"\")","v":"MEISSONNIER Josiane"}]
[2,1,111,{"$f":"IF(C20>0,VLOOKUP(C20,Liste!$A$10:$D$159,4),\"\")","v":"NOGER Pierre "}]
[2,1,121,{"$f":"IF(C21>0,VLOOKUP(C21,Liste!$A$10:$D$159,4),\"\")","v":"PUONS René"}]
[2,1,131,{"$f":"IF(C22>0,VLOOKUP(C22,Liste!$A$10:$D$159,4),\"\")","v":"SAMUELIAN Charles"}]
[2,1,141,{"$f":"IF(C23>0,VLOOKUP(C23,Liste!$A$10:$D$159,4),\"\")","v":"SOLVEZ-BOUCHER "}]
[2,1,141,{"$f":"IF(C24>0,VLOOKUP(C24,Liste!$A$10:$D$159,4),\"\")","v":"SOLVEZ-BOUCHER "}]
["Total 2",null,null,null,null,null,null,{"$f":"SUBTOTAL(9,H15:H24)","v":0}]
[3,2,11,{"$f":"IF(C26>0,VLOOKUP(C26,Liste!$A$10:$D$159,4),\"\")","v":"BAUMGARTNER Peter"},null,null,1]
[3,2,21,{"$f":"IF(C27>0,VLOOKUP(C27,Liste!$A$10:$D$159,4),\"\")","v":"BOQUET Marcel"}]
[3,2,31,{"$f":"IF(C28>0,VLOOKUP(C28,Liste!$A$10:$D$159,4),\"\")","v":"CARANTA Jean P."}]
[3,3,41,{"$f":"IF(C29>0,VLOOKUP(C29,Liste!$A$10:$D$159,4),\"\")","v":"COMA Marie"}]
["Total 3",null,null,null,null,null,null,{"$f":"SUBTOTAL(9,H26:H29)","v":0}]
[null,null,null,{"$f":"IF(C31>0,VLOOKUP(C31,Liste!$A$10:$D$159,4),\"\")","v":""}]
[null,null,null,{"$f":"IF(C32>0,VLOOKUP(C32,Liste!$A$10:$D$159,4),\"\")","v":""}]
[null,null,null,{"$f":"IF(C33>0,VLOOKUP(C33,Liste!$A$10:$D$159,4),\"\")","v":""}]
[null,null,null,{"$f":"IF(C34>0,VLOOKUP(C34,Liste!$A$10:$D$159,4),\"\")","v":""}]
[null,null,null,{"$f":"IF(C35>0,VLOOKUP(C35,Liste!$A$10:$D$159,4),\"\")","v":""}]
[null,null,null,{"$f":"IF(C36>0,VLOOKUP(C36,Liste!$A$10:$D$159,4),\"\")","v":""}]
[null,null,null,{"$f":"IF(C37>0,VLOOKUP(C37,Liste!$A$10:$D$159,4),\"\")","v":""}]
[null,null,null,{"$f":"IF(C38>0,VLOOKUP(C38,Liste!$A$10:$D$159,4),\"\")","v":""}]
[null,null,null,{"$f":"IF(C39>0,VLOOKUP(C39,Liste!$A$10:$D$159,4),\"\")","v":""}]
[null,null,null,{"$f":"IF(C40>0,VLOOKUP(C40,Liste!$A$10:$D$159,4),\"\")","v":""}]
[null,null,null,{"$f":"IF(C41>0,VLOOKUP(C41,Liste!$A$10:$D$159,4),\"\")","v":""}]
[null,null,null,{"$f":"IF(C42>0,VLOOKUP(C42,Liste!$A$10:$D$159,4),\"\")","v":""}]
[null,null,null,{"$f":"IF(C43>0,VLOOKUP(C43,Liste!$A$10:$D$159,4),\"\")","v":""}]
[null,null,null,{"$f":"IF(C44>0,VLOOKUP(C44,Liste!$A$10:$D$159,4),\"\")","v":""}]
[null,null,null,{"$f":"IF(C45>0,VLOOKUP(C45,Liste!$A$10:$D$159,4),\"\")","v":""}]
[null,null,null,{"$f":"IF(C46>0,VLOOKUP(C46,Liste!$A$10:$D$159,4),\"\")","v":""}]
[null,null,null,{"$f":"IF(C47>0,VLOOKUP(C47,Liste!$A$10:$D$159,4),\"\")","v":""}]
[null,null,null,{"$f":"IF(C48>0,VLOOKUP(C48,Liste!$A$10:$D$159,4),\"\")","v":""}]
[null,null,null,{"$f":"IF(C49>0,VLOOKUP(C49,Liste!$A$10:$D$159,4),\"\")","v":""}]
[null,null,null,{"$f":"IF(C50>0,VLOOKUP(C50,Liste!$A$10:$D$159,4),\"\")","v":""}]
[null,null,null,{"$f":"IF(C51>0,VLOOKUP(C51,Liste!$A$10:$D$159,4),\"\")","v":""}]
[null,null,null,{"$f":"IF(C52>0,VLOOKUP(C52,Liste!$A$10:$D$159,4),\"\")","v":""}]
[null,null,null,{"$f":"IF(C53>0,VLOOKUP(C53,Liste!$A$10:$D$159,4),\"\")","v":""}]
[null,null,null,{"$f":"IF(C54>0,VLOOKUP(C54,Liste!$A$10:$D$159,4),\"\")","v":""}]
[null,null,null,{"$f":"IF(C55>0,VLOOKUP(C55,Liste!$A$10:$D$159,4),\"\")","v":""}]
[null,null,null,{"$f":"IF(C56>0,VLOOKUP(C56,Liste!$A$10:$D$159,4),\"\")","v":""}]
[null,null,null,{"$f":"IF(C57>0,VLOOKUP(C57,Liste!$A$10:$D$159,4),\"\")","v":""}]
[null,null,null,{"$f":"IF(C58>0,VLOOKUP(C58,Liste!$A$10:$D$159,4),\"\")","v":""}]
[null,null,null,{"$f":"IF(C59>0,VLOOKUP(C59,Liste!$A$10:$D$159,4),\"\")","v":""}]
[null,null,null,{"$f":"IF(C60>0,VLOOKUP(C60,Liste!$A$10:$D$159,4),\"\")","v":""}]
[null,null,null,{"$f":"IF(C61>0,VLOOKUP(C61,Liste!$A$10:$D$159,4),\"\")","v":""}]
[null,null,null,{"$f":"IF(C62>0,VLOOKUP(C62,Liste!$A$10:$D$159,4),\"\")","v":""}]
[null,null,null,{"$f":"IF(C63>0,VLOOKUP(C63,Liste!$A$10:$D$159,4),\"\")","v":""}]
[null,null,null,{"$f":"IF(C64>0,VLOOKUP(C64,Liste!$A$10:$D$159,4),\"\")","v":""}]
[null,null,null,{"$f":"IF(C65>0,VLOOKUP(C65,Liste!$A$10:$D$159,4),\"\")","v":""}]
[null,null,null,{"$f":"IF(C66>0,VLOOKUP(C66,Liste!$A$10:$D$159,4),\"\")","v":""}]
[null,null,null,{"$f":"IF(C67>0,VLOOKUP(C67,Liste!$A$10:$D$159,4),\"\")","v":""}]
[null,null,null,{"$f":"IF(C68>0,VLOOKUP(C68,Liste!$A$10:$D$159,4),\"\")","v":""}]
[null,null,null,{"$f":"IF(C69>0,VLOOKUP(C69,Liste!$A$10:$D$159,4),\"\")","v":""}]
[null,null,null,{"$f":"IF(C70>0,VLOOKUP(C70,Liste!$A$10:$D$159,4),\"\")","v":""}]
[null,null,null,{"$f":"IF(C71>0,VLOOKUP(C71,Liste!$A$10:$D$159,4),\"\")","v":""}]
[null,null,null,{"$f":"IF(C72>0,VLOOKUP(C72,Liste!$A$10:$D$159,4),\"\")","v":""}]
[null,null,null,{"$f":"IF(C73>0,VLOOKUP(C73,Liste!$A$10:$D$159,4),\"\")","v":""}]
[null,null,null,{"$f":"IF(C74>0,VLOOKUP(C74,Liste!$A$10:$D$159,4),\"\")","v":""}]
[null,null,null,{"$f":"IF(C75>0,VLOOKUP(C75,Liste!$A$10:$D$159,4),\"\")","v":""}]
[null,null,null,{"$f":"IF(C76>0,VLOOKUP(C76,Liste!$A$10:$D$159,4),\"\")","v":""}]
[null,null,null,{"$f":"IF(C77>0,VLOOKUP(C77,Liste!$A$10:$D$159,4),\"\")","v":""}]
[null,null,null,{"$f":"IF(C78>0,VLOOKUP(C78,Liste!$A$10:$D$159,4),\"\")","v":""}]
[null,null,null,{"$f":"IF(C79>0,VLOOKUP(C79,Liste!$A$10:$D$159,4),\"\")","v":""}]
[null,null,null,{"$f":"IF(C80>0,VLOOKUP(C80,Liste!$A$10:$D$159,4),\"\")","v":""}]
[null,null,null,{"$f":"IF(C81>0,VLOOKUP(C81,Liste!$A$10:$D$159,4),\"\")","v":""}]
[null,null,null,{"$f":"IF(C82>0,VLOOKUP(C82,Liste!$A$10:$D$159,4),\"\")","v":""}]
[null,null,null,{"$f":"IF(C83>0,VLOOKUP(C83,Liste!$A$10:$D$159,4),\"\")","v":""}]
[null,null,null,{"$f":"IF(C84>0,VLOOKUP(C84,Liste!$A$10:$D$159,4),\"\")","v":""}]
[null,null,null,{"$f":"IF(C85>0,VLOOKUP(C85,Liste!$A$10:$D$159,4),\"\")","v":""}]
[null,null,null,{"$f":"IF(C86>0,VLOOKUP(C86,Liste!$A$10:$D$159,4),\"\")","v":""}]
[null,null,null,{"$f":"IF(C87>0,VLOOKUP(C87,Liste!$A$10:$D$159,4),\"\")","v":""}]
[null,null,null,{"$f":"IF(C88>0,VLOOKUP(C88,Liste!$A$10:$D$159,4),\"\")","v":""}]
[null,null,null,{"$f":"IF(C89>0,VLOOKUP(C89,Liste!$A$10:$D$159,4),\"\")","v":""}]
[null,null,null,{"$f":"IF(C90>0,VLOOKUP(C90,Liste!$A$10:$D$159,4),\"\")","v":""}]
[null,null,null,{"$f":"IF(C91>0,VLOOKUP(C91,Liste!$A$10:$D$159,4),\"\")","v":""}]
[null,null,null,{"$f":"IF(C92>0,VLOOKUP(C92,Liste!$A$10:$D$159,4),\"\")","v":""}]
[null,null,null,{"$f":"IF(C93>0,VLOOKUP(C93,Liste!$A$10:$D$159,4),\"\")","v":""}]
[null,null,null,{"$f":"IF(C94>0,VLOOKUP(C94,Liste!$A$10:$D$159,4),\"\")","v":""}]
[null,null,null,{"$f":"IF(C95>0,VLOOKUP(C95,Liste!$A$10:$D$159,4),\"\")","v":""}]
[null,null,null,{"$f":"IF(C96>0,VLOOKUP(C96,Liste!$A$10:$D$159,4),\"\")","v":""}]
[null,null,null,{"$f":"IF(C97>0,VLOOKUP(C97,Liste!$A$10:$D$159,4),\"\")","v":""}]
[null,null,null,{"$f":"IF(C98>0,VLOOKUP(C98,Liste!$A$10:$D$159,4),\"\")","v":""}]
[null,null,null,{"$f":"IF(C99>0,VLOOKUP(C99,Liste!$A$10:$D$159,4),\"\")","v":""}]
[null,null,null,{"$f":"IF(C100>0,VLOOKUP(C100,Liste!$A$10:$D$159,4),\"\")","v":""}]
[null,null,null,{"$f":"IF(C101>0,VLOOKUP(C101,Liste!$A$10:$D$159,4),\"\")","v":""}]
[null,null,null,{"$f":"IF(C102>0,VLOOKUP(C102,Liste!$A$10:$D$159,4),\"\")","v":""}]
[null,null,null,{"$f":"IF(C103>0,VLOOKUP(C103,Liste!$A$10:$D$159,4),\"\")","v":""}]
[null,null,null,{"$f":"IF(C104>0,VLOOKUP(C104,Liste!$A$10:$D$159,4),\"\")","v":""}]
[null,null,null,{"$f":"IF(C105>0,VLOOKUP(C105,Liste!$A$10:$D$159,4),\"\")","v":""}]
[null,null,null,{"$f":"IF(C106>0,VLOOKUP(C106,Liste!$A$10:$D$159,4),\"\")","v":""}]
[null,null,null,{"$f":"IF(C107>0,VLOOKUP(C107,Liste!$A$10:$D$159,4),\"\")","v":""}]
[null,null,null,{"$f":"IF(C108>0,VLOOKUP(C108,Liste!$A$10:$D$159,4),\"\")","v":""}]
[null,null,null,{"$f":"IF(C109>0,VLOOKUP(C109,Liste!$A$10:$D$159,4),\"\")","v":""}]
[null,null,null,{"$f":"IF(C110>0,VLOOKUP(C110,Liste!$A$10:$D$159,4),\"\")","v":""}]
[null,null,null,{"$f":"IF(C111>0,VLOOKUP(C111,Liste!$A$10:$D$159,4),\"\")","v":""}]
[null,null,null,{"$f":"IF(C112>0,VLOOKUP(C112,Liste!$A$10:$D$159,4),\"\")","v":""}]
[null,null,null,{"$f":"IF(C113>0,VLOOKUP(C113,Liste!$A$10:$D$159,4),\"\")","v":""}]
[null,null,null,{"$f":"IF(C114>0,VLOOKUP(C114,Liste!$A$10:$D$159,4),\"\")","v":""}]
[null,null,null,{"$f":"IF(C115>0,VLOOKUP(C115,Liste!$A$10:$D$159,4),\"\")","v":""}]
[null,null,null,{"$f":"IF(C116>0,VLOOKUP(C116,Liste!$A$10:$D$159,4),\"\")","v":""}]
[null,null,null,{"$f":"IF(C117>0,VLOOKUP(C117,Liste!$A$10:$D$159,4),\"\")","v":""}]
[null,null,null,{"$f":"IF(C118>0,VLOOKUP(C118,Liste!$A$10:$D$159,4),\"\")","v":""}]
[null,null,null,{"$f":"IF(C119>0,VLOOKUP(C119,Liste!$A$10:$D$159,4),\"\")","v":""}]
[null,null,null,{"$f":"IF(C120>0,VLOOKUP(C120,Liste!$A$10:$D$159,4),\"\")","v":""}]
[null,null,null,{"$f":"IF(C121>0,VLOOKUP(C121,Liste!$A$10:$D$159,4),\"\")","v":""}]
[null,null,null,{"$f":"IF(C122>0,VLOOKUP(C122,Liste!$A$10:$D$159,4),\"\")","v":""}]
[null,null,null,{"$f":"IF(C123>0,VLOOKUP(C123,Liste!$A$10:$D$159,4),\"\")","v":""}]
[null,null,null,{"$f":"IF(C124>0,VLOOKUP(C124,Liste!$A$10:$D$159,4),\"\")","v":""}]
[null,null,null,{"$f":"IF(C125>0,VLOOKUP(C125,Liste!$A$10:$D$159,4),\"\")","v":""}]
[null,null,null,{"$f":"IF(C126>0,VLOOKUP(C126,Liste!$A$10:$D$159,4),\"\")","v":""}]
[null,null,null,{"$f":"IF(C127>0,VLOOKUP(C127,Liste!$A$10:$D$159,4),\"\")","v":""}]
[null,null,null,{"$f":"IF(C128>0,VLOOKUP(C128,Liste!$A$10:$D$159,4),\"\")","v":""}]
[null,null,null,{"$f":"IF(C129>0,VLOOKUP(C129,Liste!$A$10:$D$159,4),\"\")","v":""}]
[null,null,null,{"$f":"IF(C130>0,VLOOKUP(C130,Liste!$A$10:$D$159,4),\"\")","v":""}]
[null,null,null,{"$f":"IF(C131>0,VLOOKUP(C131,Liste!$A$10:$D$159,4),\"\")","v":""}]
[null,null,null,{"$f":"IF(C132>0,VLOOKUP(C132,Liste!$A$10:$D$159,4),\"\")","v":""}]
[null,null,null,{"$f":"IF(C133>0,VLOOKUP(C133,Liste!$A$10:$D$159,4),\"\")","v":""}]
[null,null,null,{"$f":"IF(C134>0,VLOOKUP(C134,Liste!$A$10:$D$159,4),\"\")","v":""}]
[null,null,null,{"$f":"IF(C135>0,VLOOKUP(C135,Liste!$A$10:$D$159,4),\"\")","v":""}]
[null,null,null,{"$f":"IF(C136>0,VLOOKUP(C136,Liste!$A$10:$D$159,4),\"\")","v":""}]
[null,null,null,{"$f":"IF(C137>0,VLOOKUP(C137,Liste!$A$10:$D$159,4),\"\")","v":""}]
[null,null,null,{"$f":"IF(C138>0,VLOOKUP(C138,Liste!$A$10:$D$159,4),\"\")","v":""}]
[null,null,null,{"$f":"IF(C139>0,VLOOKUP(C139,Liste!$A$10:$D$159,4),\"\")","v":""}]
[null,null,null,{"$f":"IF(C140>0,VLOOKUP(C140,Liste!$A$10:$D$159,4),\"\")","v":""}]
[null,null,null,{"$f":"IF(C141>0,VLOOKUP(C141,Liste!$A$10:$D$159,4),\"\")","v":""}]
[null,null,null,{"$f":"IF(C142>0,VLOOKUP(C142,Liste!$A$10:$D$159,4),\"\")","v":""}]
[null,null,null,{"$f":"IF(C143>0,VLOOKUP(C143,Liste!$A$10:$D$159,4),\"\")","v":""}]
[null,null,null,{"$f":"IF(C144>0,VLOOKUP(C144,Liste!$A$10:$D$159,4),\"\")","v":""}]
[null,null,null,{"$f":"IF(C145>0,VLOOKUP(C145,Liste!$A$10:$D$159,4),\"\")","v":""}]
[null,null,null,{"$f":"IF(C146>0,VLOOKUP(C146,Liste!$A$10:$D$159,4),\"\")","v":""}]
[null,null,null,{"$f":"IF(C147>0,VLOOKUP(C147,Liste!$A$10:$D$159,4),\"\")","v":""}]
[null,null,null,{"$f":"IF(C148>0,VLOOKUP(C148,Liste!$A$10:$D$159,4),\"\")","v":""}]
[null,null,null,{"$f":"IF(C149>0,VLOOKUP(C149,Liste!$A$10:$D$159,4),\"\")","v":""}]
[null,null,null,{"$f":"IF(C150>0,VLOOKUP(C150,Liste!$A$10:$D$159,4),\"\")","v":""}]
[null,null,null,{"$f":"IF(C151>0,VLOOKUP(C151,Liste!$A$10:$D$159,4),\"\")","v":""}]
[null,null,null,{"$f":"IF(C152>0,VLOOKUP(C152,Liste!$A$10:$D$159,4),\"\")","v":""}]
[null,null,null,{"$f":"IF(C153>0,VLOOKUP(C153,Liste!$A$10:$D$159,4),\"\")","v":""}]
[null,null,null,{"$f":"IF(C154>0,VLOOKUP(C154,Liste!$A$10:$D$159,4),\"\")","v":""}]
[null,null,null,{"$f":"IF(C155>0,VLOOKUP(C155,Liste!$A$10:$D$159,4),\"\")","v":""}]
[null,null,null,{"$f":"IF(C156>0,VLOOKUP(C156,Liste!$A$10:$D$159,4),\"\")","v":""}]
[null,null,null,{"$f":"IF(C157>0,VLOOKUP(C157,Liste!$A$10:$D$159,4),\"\")","v":""}]
[null,null,null,{"$f":"IF(C158>0,VLOOKUP(C158,Liste!$A$10:$D$159,4),\"\")","v":""}]
[null,null,null,{"$f":"IF(C159>0,VLOOKUP(C159,Liste!$A$10:$D$159,4),\"\")","v":""}]
[null,null,null,{"$f":"IF(C160>0,VLOOKUP(C160,Liste!$A$10:$D$159,4),\"\")","v":""}]
[null,null,null,{"$f":"IF(C161>0,VLOOKUP(C161,Liste!$A$10:$D$159,4),\"\")","v":""}]
[null,null,null,{"$f":"IF(C162>0,VLOOKUP(C162,Liste!$A$10:$D$159,4),\"\")","v":""}]
[null,null,null,{"$f":"IF(C163>0,VLOOKUP(C163,Liste!$A$10:$D$159,4),\"\")","v":""}]
[null,null,null,{"$f":"IF(C164>0,VLOOKUP(C164,Liste!$A$10:$D$159,4),\"\")","v":""}]
[null,null,null,{"$f":"IF(C165>0,VLOOKUP(C165,Liste!$A$10:$D$159,4),\"\")","v":""}]
[null,null,null,{"$f":"IF(C166>0,VLOOKUP(C166,Liste!$A$10:$D$159,4),\"\")","v":""}]
[null,null,null,{"$f":"IF(C167>0,VLOOKUP(C167,Liste!$A$10:$D$159,4),\"\")","v":""}]
[null,null,null,{"$f":"IF(C168>0,VLOOKUP(C168,Liste!$A$10:$D$159,4),\"\")","v":""}]
[null,null,null,{"$f":"IF(C169>0,VLOOKUP(C169,Liste!$A$10:$D$159,4),\"\")","v":""}]
[null,null,null,{"$f":"IF(C170>0,VLOOKUP(C170,Liste!$A$10:$D$159,4),\"\")","v":""}]
[null,null,null,{"$f":"IF(C171>0,VLOOKUP(C171,Liste!$A$10:$D$159,4),\"\")","v":""}]
[null,null,null,{"$f":"IF(C172>0,VLOOKUP(C172,Liste!$A$10:$D$159,4),\"\")","v":""}]
[null,null,null,{"$f":"IF(C173>0,VLOOKUP(C173,Liste!$A$10:$D$159,4),\"\")","v":""}]
[null,null,null,{"$f":"IF(C174>0,VLOOKUP(C174,Liste!$A$10:$D$159,4),\"\")","v":""}]
[null,null,null,{"$f":"IF(C175>0,VLOOKUP(C175,Liste!$A$10:$D$159,4),\"\")","v":""}]
[null,null,null,{"$f":"IF(C176>0,VLOOKUP(C176,Liste!$A$10:$D$159,4),\"\")","v":""}]
[null,null,null,{"$f":"IF(C177>0,VLOOKUP(C177,Liste!$A$10:$D$159,4),\"\")","v":""}]
[null,null,null,{"$f":"IF(C178>0,VLOOKUP(C178,Liste!$A$10:$D$159,4),\"\")","v":""}]
[null,null,null,{"$f":"IF(C179>0,VLOOKUP(C179,Liste!$A$10:$D$159,4),\"\")","v":""}]
[null,null,null,{"$f":"IF(C180>0,VLOOKUP(C180,Liste!$A$10:$D$159,4),\"\")","v":""}]
[null,null,null,{"$f":"IF(C181>0,VLOOKUP(C181,Liste!$A$10:$D$159,4),\"\")","v":""}]
[null,null,null,{"$f":"IF(C182>0,VLOOKUP(C182,Liste!$A$10:$D$159,4),\"\")","v":""}]
[null,null,null,{"$f":"IF(C183>0,VLOOKUP(C183,Liste!$A$10:$D$159,4),\"\")","v":""}]
[null,null,null,{"$f":"IF(C184>0,VLOOKUP(C184,Liste!$A$10:$D$159,4),\"\")","v":""}]
[null,null,null,{"$f":"IF(C185>0,VLOOKUP(C185,Liste!$A$10:$D$159,4),\"\")","v":""}]
[null,null,null,{"$f":"IF(C186>0,VLOOKUP(C186,Liste!$A$10:$D$159,4),\"\")","v":""}]
[null,null,null,{"$f":"IF(C187>0,VLOOKUP(C187,Liste!$A$10:$D$159,4),\"\")","v":""}]
[null,null,null,{"$f":"IF(C188>0,VLOOKUP(C188,Liste!$A$10:$D$159,4),\"\")","v":""}]
[null,null,null,{"$f":"IF(C189>0,VLOOKUP(C189,Liste!$A$10:$D$159,4),\"\")","v":""}]
[null,null,null,{"$f":"IF(C190>0,VLOOKUP(C190,Liste!$A$10:$D$159,4),\"\")","v":""}]
[null,null,null,{"$f":"IF(C191>0,VLOOKUP(C191,Liste!$A$10:$D$159,4),\"\")","v":""}]
[null,null,null,{"$f":"IF(C192>0,VLOOKUP(C192,Liste!$A$10:$D$159,4),\"\")","v":""}]
[null,null,null,{"$f":"IF(C193>0,VLOOKUP(C193,Liste!$A$10:$D$159,4),\"\")","v":""}]
[null,null,null,{"$f":"IF(C194>0,VLOOKUP(C194,Liste!$A$10:$D$159,4),\"\")","v":""}]
[null,null,null,{"$f":"IF(C195>0,VLOOKUP(C195,Liste!$A$10:$D$159,4),\"\")","v":""}]
[null,null,null,{"$f":"IF(C196>0,VLOOKUP(C196,Liste!$A$10:$D$159,4),\"\")","v":""}]
[null,null,null,{"$f":"IF(C197>0,VLOOKUP(C197,Liste!$A$10:$D$159,4),\"\")","v":""}]
[null,null,null,{"$f":"IF(C198>0,VLOOKUP(C198,Liste!$A$10:$D$159,4),\"\")","v":""}]
[null,null,null,{"$f":"IF(C199>0,VLOOKUP(C199,Liste!$A$10:$D$159,4),\"\")","v":""}]
[null,null,null,{"$f":"IF(C200>0,VLOOKUP(C200,Liste!$A$10:$D$159,4),\"\")","v":""}]
[null,null,null,{"$f":"IF(C201>0,VLOOKUP(C201,Liste!$A$10:$D$159,4),\"\")","v":""}]
[null,null,null,{"$f":"IF(C202>0,VLOOKUP(C202,Liste!$A$10:$D$159,4),\"\")","v":""}]
[null,null,null,{"$f":"IF(C203>0,VLOOKUP(C203,Liste!$A$10:$D$159,4),\"\")","v":""}]
[null,null,null,{"$f":"IF(C204>0,VLOOKUP(C204,Liste!$A$10:$D$159,4),\"\")","v":""}]
[null,null,null,{"$f":"IF(C205>0,VLOOKUP(C205,Liste!$A$10:$D$159,4),\"\")","v":""}]
[null,null,null,{"$f":"IF(C206>0,VLOOKUP(C206,Liste!$A$10:$D$159,4),\"\")","v":""}]
[null,null,null,{"$f":"IF(C207>0,VLOOKUP(C207,Liste!$A$10:$D$159,4),\"\")","v":""}]
[null,null,null,{"$f":"IF(C208>0,VLOOKUP(C208,Liste!$A$10:$D$159,4),\"\")","v":""}]
[null,null,null,{"$f":"IF(C209>0,VLOOKUP(C209,Liste!$A$10:$D$159,4),\"\")","v":""}]
[null,null,null,{"$f":"IF(C210>0,VLOOKUP(C210,Liste!$A$10:$D$159,4),\"\")","v":""}]
[null,null,null,{"$f":"IF(C211>0,VLOOKUP(C211,Liste!$A$10:$D$159,4),\"\")","v":""}]
[null,null,null,{"$f":"IF(C212>0,VLOOKUP(C212,Liste!$A$10:$D$159,4),\"\")","v":""}]
[null,null,null,{"$f":"IF(C213>0,VLOOKUP(C213,Liste!$A$10:$D$159,4),\"\")","v":""}]
[null,null,null,{"$f":"IF(C214>0,VLOOKUP(C214,Liste!$A$10:$D$159,4),\"\")","v":""}]
[null,null,null,{"$f":"IF(C215>0,VLOOKUP(C215,Liste!$A$10:$D$159,4),\"\")","v":""}]
[null,null,null,{"$f":"IF(C216>0,VLOOKUP(C216,Liste!$A$10:$D$159,4),\"\")","v":""}]
[null,null,null,{"$f":"IF(C217>0,VLOOKUP(C217,Liste!$A$10:$D$159,4),\"\")","v":""}]
[null,null,null,{"$f":"IF(C218>0,VLOOKUP(C218,Liste!$A$10:$D$159,4),\"\")","v":""}]
[null,null,null,{"$f":"IF(C219>0,VLOOKUP(C219,Liste!$A$10:$D$159,4),\"\")","v":""}]
[null,null,null,{"$f":"IF(C220>0,VLOOKUP(C220,Liste!$A$10:$D$159,4),\"\")","v":""}]
[null,null,null,{"$f":"IF(C221>0,VLOOKUP(C221,Liste!$A$10:$D$159,4),\"\")","v":""}]
[null,null,null,{"$f":"IF(C222>0,VLOOKUP(C222,Liste!$A$10:$D$159,4),\"\")","v":""}]
[null,null,null,{"$f":"IF(C223>0,VLOOKUP(C223,Liste!$A$10:$D$159,4),\"\")","v":""}]
[null,null,null,{"$f":"IF(C224>0,VLOOKUP(C224,Liste!$A$10:$D$159,4),\"\")","v":""}]
[null,null,null,{"$f":"IF(C225>0,VLOOKUP(C225,Liste!$A$10:$D$159,4),\"\")","v":""}]
[null,null,null,{"$f":"IF(C226>0,VLOOKUP(C226,Liste!$A$10:$D$159,4),\"\")","v":""}]
[null,null,null,{"$f":"IF(C227>0,VLOOKUP(C227,Liste!$A$10:$D$159,4),\"\")","v":""}]
[null,null,null,{"$f":"IF(C228>0,VLOOKUP(C228,Liste!$A$10:$D$159,4),\"\")","v":""}]
[null,null,null,{"$f":"IF(C229>0,VLOOKUP(C229,Liste!$A$10:$D$159,4),\"\")","v":""}]
[null,null,null,{"$f":"IF(C230>0,VLOOKUP(C230,Liste!$A$10:$D$159,4),\"\")","v":""}]
[null,null,null,{"$f":"IF(C231>0,VLOOKUP(C231,Liste!$A$10:$D$159,4),\"\")","v":""}]
[null,null,null,{"$f":"IF(C232>0,VLOOKUP(C232,Liste!$A$10:$D$159,4),\"\")","v":""}]
[null,null,null,{"$f":"IF(C233>0,VLOOKUP(C233,Liste!$A$10:$D$159,4),\"\")","v":""}]
[null,null,null,{"$f":"IF(C234>0,VLOOKUP(C234,Liste!$A$10:$D$159,4),\"\")","v":""}]
[null,null,null,{"$f":"IF(C235>0,VLOOKUP(C235,Liste!$A$10:$D$159,4),\"\")","v":""}]
[null,null,null,{"$f":"IF(C236>0,VLOOKUP(C236,Liste!$A$10:$D$159,4),\"\")","v":""}]
[null,null,null,{"$f":"IF(C237>0,VLOOKUP(C237,Liste!$A$10:$D$159,4),\"\")","v":""}]
[null,null,null,{"$f":"IF(C238>0,VLOOKUP(C238,Liste!$A$10:$D$159,4),\"\")","v":""}]
[null,null,null,{"$f":"IF(C239>0,VLOOKUP(C239,Liste!$A$10:$D$159,4),\"\")","v":""}]
[null,null,null,{"$f":"IF(C240>0,VLOOKUP(C240,Liste!$A$10:$D$159,4),\"\")","v":""}]
[null,null,null,{"$f":"IF(C241>0,VLOOKUP(C241,Liste!$A$10:$D$159,4),\"\")","v":""}]
[null,null,null,{"$f":"IF(C242>0,VLOOKUP(C242,Liste!$A$10:$D$159,4),\"\")","v":""}]
[null,null,null,{"$f":"IF(C243>0,VLOOKUP(C243,Liste!$A$10:$D$159,4),\"\")","v":""}]
[null,null,null,{"$f":"IF(C244>0,VLOOKUP(C244,Liste!$A$10:$D$159,4),\"\")","v":""}]
[null,null,null,{"$f":"IF(C245>0,VLOOKUP(C245,Liste!$A$10:$D$159,4),\"\")","v":""}]
[null,null,null,{"$f":"IF(C246>0,VLOOKUP(C246,Liste!$A$10:$D$159,4),\"\")","v":""}]
[null,null,null,{"$f":"IF(C247>0,VLOOKUP(C247,Liste!$A$10:$D$159,4),\"\")","v":""}]
[null,null,null,{"$f":"IF(C248>0,VLOOKUP(C248,Liste!$A$10:$D$159,4),\"\")","v":""}]
[null,null,null,{"$f":"IF(C249>0,VLOOKUP(C249,Liste!$A$10:$D$159,4),\"\")","v":""}]
[null,null,null,{"$f":"IF(C250>0,VLOOKUP(C250,Liste!$A$10:$D$159,4),\"\")","v":""}]
[null,null,null,{"$f":"IF(C251>0,VLOOKUP(C251,Liste!$A$10:$D$159,4),\"\")","v":""}]
[null,null,null,{"$f":"IF(C252>0,VLOOKUP(C252,Liste!$A$10:$D$159,4),\"\")","v":""}]
[null,null,null,{"$f":"IF(C253>0,VLOOKUP(C253,Liste!$A$10:$D$159,4),\"\")","v":""}]
[null,null,null,{"$f":"IF(C254>0,VLOOKUP(C254,Liste!$A$10:$D$159,4),\"\")","v":""}]
[null,null,null,{"$f":"IF(C255>0,VLOOKUP(C255,Liste!$A$10:$D$159,4),\"\")","v":""}]
[null,null,null,{"$f":"IF(C256>0,VLOOKUP(C256,Liste!$A$10:$D$159,4),\"\")","v":""}]
[null,null,null,{"$f":"IF(C257>0,VLOOKUP(C257,Liste!$A$10:$D$159,4),\"\")","v":""}]
[null,null,null,{"$f":"IF(C258>0,VLOOKUP(C258,Liste!$A$10:$D$159,4),\"\")","v":""}]
[null,null,null,{"$f":"IF(C259>0,VLOOKUP(C259,Liste!$A$10:$D$159,4),\"\")","v":""}]
[null,null,null,{"$f":"IF(C260>0,VLOOKUP(C260,Liste!$A$10:$D$159,4),\"\")","v":""}]
[null,null,null,{"$f":"IF(C261>0,VLOOKUP(C261,Liste!$A$10:$D$159,4),\"\")","v":""}]
[null,null,null,{"$f":"IF(C262>0,VLOOKUP(C262,Liste!$A$10:$D$159,4),\"\")","v":""}]
[null,null,null,{"$f":"IF(C263>0,VLOOKUP(C263,Liste!$A$10:$D$159,4),\"\")","v":""}]
[null,null,null,{"$f":"IF(C264>0,VLOOKUP(C264,Liste!$A$10:$D$159,4),\"\")","v":""}]
[null,null,null,{"$f":"IF(C265>0,VLOOKUP(C265,Liste!$A$10:$D$159,4),\"\")","v":""}]
[null,null,null,{"$f":"IF(C266>0,VLOOKUP(C266,Liste!$A$10:$D$159,4),\"\")","v":""}]
[null,null,null,{"$f":"IF(C267>0,VLOOKUP(C267,Liste!$A$10:$D$159,4),\"\")","v":""}]
[null,null,null,{"$f":"IF(C268>0,VLOOKUP(C268,Liste!$A$10:$D$159,4),\"\")","v":""}]
[null,null,null,{"$f":"IF(C269>0,VLOOKUP(C269,Liste!$A$10:$D$159,4),\"\")","v":""}]
[null,null,null,{"$f":"IF(C270>0,VLOOKUP(C270,Liste!$A$10:$D$159,4),\"\")","v":""}]
[null,null,null,{"$f":"IF(C271>0,VLOOKUP(C271,Liste!$A$10:$D$159,4),\"\")","v":""}]
[null,null,null,{"$f":"IF(C272>0,VLOOKUP(C272,Liste!$A$10:$D$159,4),\"\")","v":""}]
[null,null,null,{"$f":"IF(C273>0,VLOOKUP(C273,Liste!$A$10:$D$159,4),\"\")","v":""}]
[null,null,null,{"$f":"IF(C274>0,VLOOKUP(C274,Liste!$A$10:$D$159,4),\"\")","v":""}]
[null,null,null,{"$f":"IF(C275>0,VLOOKUP(C275,Liste!$A$10:$D$159,4),\"\")","v":""}]
[null,null,null,{"$f":"IF(C276>0,VLOOKUP(C276,Liste!$A$10:$D$159,4),\"\")","v":""}]
[null,null,null,{"$f":"IF(C277>0,VLOOKUP(C277,Liste!$A$10:$D$159,4),\"\")","v":""}]
[null,null,null,{"$f":"IF(C278>0,VLOOKUP(C278,Liste!$A$10:$D$159,4),\"\")","v":""}]
[null,null,null,{"$f":"IF(C279>0,VLOOKUP(C279,Liste!$A$10:$D$159,4),\"\")","v":""}]
[null,null,null,{"$f":"IF(C280>0,VLOOKUP(C280,Liste!$A$10:$D$159,4),\"\")","v":""}]
[null,null,null,{"$f":"IF(C281>0,VLOOKUP(C281,Liste!$A$10:$D$159,4),\"\")","v":""}]
[null,null,null,{"$f":"IF(C282>0,VLOOKUP(C282,Liste!$A$10:$D$159,4),\"\")","v":""}]
[null,null,null,{"$f":"IF(C283>0,VLOOKUP(C283,Liste!$A$10:$D$159,4),\"\")","v":""}]
[null,null,null,{"$f":"IF(C284>0,VLOOKUP(C284,Liste!$A$10:$D$159,4),\"\")","v":""}]
[null,null,null,{"$f":"IF(C285>0,VLOOKUP(C285,Liste!$A$10:$D$159,4),\"\")","v":""}]
[null,null,null,{"$f":"IF(C286>0,VLOOKUP(C286,Liste!$A$10:$D$159,4),\"\")","v":""}]
[null,null,null,{"$f":"IF(C287>0,VLOOKUP(C287,Liste!$A$10:$D$159,4),\"\")","v":""}]
[null,null,null,{"$f":"IF(C288>0,VLOOKUP(C288,Liste!$A$10:$D$159,4),\"\")","v":""}]
[null,null,null,{"$f":"IF(C289>0,VLOOKUP(C289,Liste!$A$10:$D$159,4),\"\")","v":""}]
[null,null,null,{"$f":"IF(C290>0,VLOOKUP(C290,Liste!$A$10:$D$159,4),\"\")","v":""}]
[null,null,null,{"$f":"IF(C291>0,VLOOKUP(C291,Liste!$A$10:$D$159,4),\"\")","v":""}]
[null,null,null,{"$f":"IF(C292>0,VLOOKUP(C292,Liste!$A$10:$D$159,4),\"\")","v":""}]
[null,null,null,{"$f":"IF(C293>0,VLOOKUP(C293,Liste!$A$10:$D$159,4),\"\")","v":""}]
[null,null,null,{"$f":"IF(C294>0,VLOOKUP(C294,Liste!$A$10:$D$159,4),\"\")","v":""}]
[null,null,null,{"$f":"IF(C295>0,VLOOKUP(C295,Liste!$A$10:$D$159,4),\"\")","v":""}]
[null,null,null,{"$f":"IF(C296>0,VLOOKUP(C296,Liste!$A$10:$D$159,4),\"\")","v":""}]
[null,null,null,{"$f":"IF(C297>0,VLOOKUP(C297,Liste!$A$10:$D$159,4),\"\")","v":""}]
[null,null,null,{"$f":"IF(C298>0,VLOOKUP(C298,Liste!$A$10:$D$159,4),\"\")","v":""}]
[null,null,null,{"$f":"IF(C299>0,VLOOKUP(C299,Liste!$A$10:$D$159,4),\"\")","v":""}]
[null,null,null,{"$f":"IF(C300>0,VLOOKUP(C300,Liste!$A$10:$D$159,4),\"\")","v":""}]
[null,null,null,{"$f":"IF(C301>0,VLOOKUP(C301,Liste!$A$10:$D$159,4),\"\")","v":""}]
[null,null,null,{"$f":"IF(C302>0,VLOOKUP(C302,Liste!$A$10:$D$159,4),\"\")","v":""}]
[null,null,null,{"$f":"IF(C303>0,VLOOKUP(C303,Liste!$A$10:$D$159,4),\"\")","v":""}]
[null,null,null,{"$f":"IF(C304>0,VLOOKUP(C304,Liste!$A$10:$D$159,4),\"\")","v":""}]
[null,null,null,{"$f":"IF(C305>0,VLOOKUP(C305,Liste!$A$10:$D$159,4),\"\")","v":""}]
[null,null,null,{"$f":"IF(C306>0,VLOOKUP(C306,Liste!$A$10:$D$159,4),\"\")","v":""}]
[null,null,null,{"$f":"IF(C307>0,VLOOKUP(C307,Liste!$A$10:$D$159,4),\"\")","v":""}]
[null,null,null,{"$f":"IF(C308>0,VLOOKUP(C308,Liste!$A$10:$D$159,4),\"\")","v":""}]
[null,null,null,{"$f":"IF(C309>0,VLOOKUP(C309,Liste!$A$10:$D$159,4),\"\")","v":""}]
[null,null,null,{"$f":"IF(C310>0,VLOOKUP(C310,Liste!$A$10:$D$159,4),\"\")","v":""}]
[null,null,null,{"$f":"IF(C311>0,VLOOKUP(C311,Liste!$A$10:$D$159,4),\"\")","v":""}]
[null,null,null,{"$f":"IF(C312>0,VLOOKUP(C312,Liste!$A$10:$D$159,4),\"\")","v":""}]
[null,null,null,{"$f":"IF(C313>0,VLOOKUP(C313,Liste!$A$10:$D$159,4),\"\")","v":""}]
[null,null,null,{"$f":"IF(C314>0,VLOOKUP(C314,Liste!$A$10:$D$159,4),\"\")","v":""}]
[null,null,null,{"$f":"IF(C315>0,VLOOKUP(C315,Liste!$A$10:$D$159,4),\"\")","v":""}]
[null,null,null,{"$f":"IF(C316>0,VLOOKUP(C316,Liste!$A$10:$D$159,4),\"\")","v":""}]
[null,null,null,{"$f":"IF(C317>0,VLOOKUP(C317,Liste!$A$10:$D$159,4),\"\")","v":""}]
[null,null,null,{"$f":"IF(C318>0,VLOOKUP(C318,Liste!$A$10:$D$159,4),\"\")","v":""}]
[null,null,null,{"$f":"IF(C319>0,VLOOKUP(C319,Liste!$A$10:$D$159,4),\"\")","v":""}]
[null,null,null,{"$f":"IF(C320>0,VLOOKUP(C320,Liste!$A$10:$D$159,4),\"\")","v":""}]
[null,null,null,{"$f":"IF(C321>0,VLOOKUP(C321,Liste!$A$10:$D$159,4),\"\")","v":""}]
[null,null,null,{"$f":"IF(C322>0,VLOOKUP(C322,Liste!$A$10:$D$159,4),\"\")","v":""}]
[null,null,null,{"$f":"IF(C323>0,VLOOKUP(C323,Liste!$A$10:$D$159,4),\"\")","v":""}]
[null,null,null,{"$f":"IF(C324>0,VLOOKUP(C324,Liste!$A$10:$D$159,4),\"\")","v":""}]
[null,null,null,{"$f":"IF(C325>0,VLOOKUP(C325,Liste!$A$10:$D$159,4),\"\")","v":""}]
[null,null,null,{"$f":"IF(C326>0,VLOOKUP(C326,Liste!$A$10:$D$159,4),\"\")","v":""}]
[null,null,null,{"$f":"IF(C327>0,VLOOKUP(C327,Liste!$A$10:$D$159,4),\"\")","v":""}]
[null,null,null,{"$f":"IF(C328>0,VLOOKUP(C328,Liste!$A$10:$D$159,4),\"\")","v":""}]
[null,null,null,{"$f":"IF(C329>0,VLOOKUP(C329,Liste!$A$10:$D$159,4),\"\")","v":""}]
[null,null,null,{"$f":"IF(C330>0,VLOOKUP(C330,Liste!$A$10:$D$159,4),\"\")","v":""}]
[null,null,null,{"$f":"IF(C331>0,VLOOKUP(C331,Liste!$A$10:$D$159,4),\"\")","v":""}]
[null,null,null,{"$f":"IF(C332>0,VLOOKUP(C332,Liste!$A$10:$D$159,4),\"\")","v":""}]
[null,null,null,{"$f":"IF(C333>0,VLOOKUP(C333,Liste!$A$10:$D$159,4),\"\")","v":""}]
[null,null,null,{"$f":"IF(C334>0,VLOOKUP(C334,Liste!$A$10:$D$159,4),\"\")","v":""}]
[null,null,null,{"$f":"IF(C335>0,VLOOKUP(C335,Liste!$A$10:$D$159,4),\"\")","v":""}]
[null,null,null,{"$f":"IF(C336>0,VLOOKUP(C336,Liste!$A$10:$D$159,4),\"\")","v":""}]
[null,null,null,{"$f":"IF(C337>0,VLOOKUP(C337,Liste!$A$10:$D$159,4),\"\")","v":""}]
[null,null,null,{"$f":"IF(C338>0,VLOOKUP(C338,Liste!$A$10:$D$159,4),\"\")","v":""}]
[null,null,null,{"$f":"IF(C339>0,VLOOKUP(C339,Liste!$A$10:$D$159,4),\"\")","v":""}]
[null,null,null,{"$f":"IF(C340>0,VLOOKUP(C340,Liste!$A$10:$D$159,4),\"\")","v":""}]
[null,null,null,{"$f":"IF(C341>0,VLOOKUP(C341,Liste!$A$10:$D$159,4),\"\")","v":""}]
[null,null,null,{"$f":"IF(C342>0,VLOOKUP(C342,Liste!$A$10:$D$159,4),\"\")","v":""}]
[null,null,null,{"$f":"IF(C343>0,VLOOKUP(C343,Liste!$A$10:$D$159,4),\"\")","v":""}]
[null,null,null,{"$f":"IF(C344>0,VLOOKUP(C344,Liste!$A$10:$D$159,4),\"\")","v":""}]
[null,null,null,{"$f":"IF(C345>0,VLOOKUP(C345,Liste!$A$10:$D$159,4),\"\")","v":""}]
[null,null,null,{"$f":"IF(C346>0,VLOOKUP(C346,Liste!$A$10:$D$159,4),\"\")","v":""}]
[null,null,null,{"$f":"IF(C347>0,VLOOKUP(C347,Liste!$A$10:$D$159,4),\"\")","v":""}]
[null,null,null,{"$f":"IF(C348>0,VLOOKUP(C348,Liste!$A$10:$D$159,4),\"\")","v":""}]
[null,null,null,{"$f":"IF(C349>0,VLOOKUP(C349,Liste!$A$10:$D$159,4),\"\")","v":""}]
[null,null,null,{"$f":"IF(C350>0,VLOOKUP(C350,Liste!$A$10:$D$159,4),\"\")","v":""}]
[null,null,null,{"$f":"IF(C351>0,VLOOKUP(C351,Liste!$A$10:$D$159,4),\"\")","v":""}]
[null,null,null,{"$f":"IF(C352>0,VLOOKUP(C352,Liste!$A$10:$D$159,4),\"\")","v":""}]
[null,null,null,{"$f":"IF(C353>0,VLOOKUP(C353,Liste!$A$10:$D$159,4),\"\")","v":""}]
[null,null,null,{"$f":"IF(C354>0,VLOOKUP(C354,Liste!$A$10:$D$159,4),\"\")","v":""}]
[null,null,null,{"$f":"IF(C355>0,VLOOKUP(C355,Liste!$A$10:$D$159,4),\"\")","v":""}]
[null,null,null,{"$f":"IF(C356>0,VLOOKUP(C356,Liste!$A$10:$D$159,4),\"\")","v":""}]
[null,null,null,{"$f":"IF(C357>0,VLOOKUP(C357,Liste!$A$10:$D$159,4),\"\")","v":""}]
[null,null,null,{"$f":"IF(C358>0,VLOOKUP(C358,Liste!$A$10:$D$159,4),\"\")","v":""}]
[null,null,null,{"$f":"IF(C359>0,VLOOKUP(C359,Liste!$A$10:$D$159,4),\"\")","v":""}]
[null,null,null,{"$f":"IF(C360>0,VLOOKUP(C360,Liste!$A$10:$D$159,4),\"\")","v":""}]
[null,null,null,{"$f":"IF(C361>0,VLOOKUP(C361,Liste!$A$10:$D$159,4),\"\")","v":""}]
[null,null,null,{"$f":"IF(C362>0,VLOOKUP(C362,Liste!$A$10:$D$159,4),\"\")","v":""}]
[null,null,null,{"$f":"IF(C363>0,VLOOKUP(C363,Liste!$A$10:$D$159,4),\"\")","v":""}]
[null,null,null,{"$f":"IF(C364>0,VLOOKUP(C364,Liste!$A$10:$D$159,4),\"\")","v":""}]
[null,null,null,{"$f":"IF(C365>0,VLOOKUP(C365,Liste!$A$10:$D$159,4),\"\")","v":""}]
[null,null,null,{"$f":"IF(C366>0,VLOOKUP(C366,Liste!$A$10:$D$159,4),\"\")","v":""}]
[null,null,null,{"$f":"IF(C367>0,VLOOKUP(C367,Liste!$A$10:$D$159,4),\"\")","v":""}]
[null,null,null,{"$f":"IF(C368>0,VLOOKUP(C368,Liste!$A$10:$D$159,4),\"\")","v":""}]
[null,null,null,{"$f":"IF(C369>0,VLOOKUP(C369,Liste!$A$10:$D$159,4),\"\")","v":""}]
[null,null,null,{"$f":"IF(C370>0,VLOOKUP(C370,Liste!$A$10:$D$159,4),\"\")","v":""}]
[null,null,null,{"$f":"IF(C371>0,VLOOKUP(C371,Liste!$A$10:$D$159,4),\"\")","v":""}]
[null,null,null,{"$f":"IF(C372>0,VLOOKUP(C372,Liste!$A$10:$D$159,4),\"\")","v":""}]
[null,null,null,{"$f":"IF(C373>0,VLOOKUP(C373,Liste!$A$10:$D$159,4),\"\")","v":""}]
[null,null,null,{"$f":"IF(C374>0,VLOOKUP(C374,Liste!$A$10:$D$159,4),\"\")","v":""}]
[null,null,null,{"$f":"IF(C375>0,VLOOKUP(C375,Liste!$A$10:$D$159,4),\"\")","v":""}]
[null,null,null,{"$f":"IF(C376>0,VLOOKUP(C376,Liste!$A$10:$D$159,4),\"\")","v":""}]
[null,null,null,{"$f":"IF(C377>0,VLOOKUP(C377,Liste!$A$10:$D$159,4),\"\")","v":""}]
[null,null,null,{"$f":"IF(C378>0,VLOOKUP(C378,Liste!$A$10:$D$159,4),\"\")","v":""}]
[null,null,null,{"$f":"IF(C379>0,VLOOKUP(C379,Liste!$A$10:$D$159,4),\"\")","v":""}]
[null,null,null,{"$f":"IF(C380>0,VLOOKUP(C380,Liste!$A$10:$D$159,4),\"\")","v":""}]
[null,null,null,{"$f":"IF(C381>0,VLOOKUP(C381,Liste!$A$10:$D$159,4),\"\")","v":""}]
[null,null,null,{"$f":"IF(C382>0,VLOOKUP(C382,Liste!$A$10:$D$159,4),\"\")","v":""}]
[null,null,null,{"$f":"IF(C383>0,VLOOKUP(C383,Liste!$A$10:$D$159,4),\"\")","v":""}]
[null,null,null,{"$f":"IF(C384>0,VLOOKUP(C384,Liste!$A$10:$D$159,4),\"\")","v":""}]
[null,null,null,{"$f":"IF(C385>0,VLOOKUP(C385,Liste!$A$10:$D$159,4),\"\")","v":""}]
[null,null,null,{"$f":"IF(C386>0,VLOOKUP(C386,Liste!$A$10:$D$159,4),\"\")","v":""}]
[null,null,null,{"$f":"IF(C387>0,VLOOKUP(C387,Liste!$A$10:$D$159,4),\"\")","v":""}]
[null,null,null,{"$f":"IF(C388>0,VLOOKUP(C388,Liste!$A$10:$D$159,4),\"\")","v":""}]
[null,null,null,{"$f":"IF(C389>0,VLOOKUP(C389,Liste!$A$10:$D$159,4),\"\")","v":""}]
[null,null,null,{"$f":"IF(C390>0,VLOOKUP(C390,Liste!$A$10:$D$159,4),\"\")","v":""}]
[null,null,null,{"$f":"IF(C391>0,VLOOKUP(C391,Liste!$A$10:$D$159,4),\"\")","v":""}]
[null,null,null,{"$f":"IF(C392>0,VLOOKUP(C392,Liste!$A$10:$D$159,4),\"\")","v":""}]
[null,null,null,{"$f":"IF(C393>0,VLOOKUP(C393,Liste!$A$10:$D$159,4),\"\")","v":""}]
[null,null,null,{"$f":"IF(C394>0,VLOOKUP(C394,Liste!$A$10:$D$159,4),\"\")","v":""}]
[null,null,null,{"$f":"IF(C395>0,VLOOKUP(C395,Liste!$A$10:$D$159,4),\"\")","v":""}]
[null,null,null,{"$f":"IF(C396>0,VLOOKUP(C396,Liste!$A$10:$D$159,4),\"\")","v":""}]
[null,null,null,{"$f":"IF(C397>0,VLOOKUP(C397,Liste!$A$10:$D$159,4),\"\")","v":""}]
[null,null,null,{"$f":"IF(C398>0,VLOOKUP(C398,Liste!$A$10:$D$159,4),\"\")","v":""}]
[null,null,null,{"$f":"IF(C399>0,VLOOKUP(C399,Liste!$A$10:$D$159,4),\"\")","v":""}]
[null,null,null,{"$f":"IF(C400>0,VLOOKUP(C400,Liste!$A$10:$D$159,4),\"\")","v":""}]
[null,null,null,{"$f":"IF(C401>0,VLOOKUP(C401,Liste!$A$10:$D$159,4),\"\")","v":""}]
[null,null,null,{"$f":"IF(C402>0,VLOOKUP(C402,Liste!$A$10:$D$159,4),\"\")","v":""}]
[null,null,null,{"$f":"IF(C403>0,VLOOKUP(C403,Liste!$A$10:$D$159,4),\"\")","v":""}]
[null,null,null,{"$f":"IF(C404>0,VLOOKUP(C404,Liste!$A$10:$D$159,4),\"\")","v":""}]
[null,null,null,{"$f":"IF(C405>0,VLOOKUP(C405,Liste!$A$10:$D$159,4),\"\")","v":""}]
[null,null,null,{"$f":"IF(C406>0,VLOOKUP(C406,Liste!$A$10:$D$159,4),\"\")","v":""}]
[null,null,null,{"$f":"IF(C407>0,VLOOKUP(C407,Liste!$A$10:$D$159,4),\"\")","v":""}]
[null,null,null,{"$f":"IF(C408>0,VLOOKUP(C408,Liste!$A$10:$D$159,4),\"\")","v":""}]
[null,null,null,{"$f":"IF(C409>0,VLOOKUP(C409,Liste!$A$10:$D$159,4),\"\")","v":""}]
[null,null,null,{"$f":"IF(C410>0,VLOOKUP(C410,Liste!$A$10:$D$159,4),\"\")","v":""}]
[null,null,null,{"$f":"IF(C411>0,VLOOKUP(C411,Liste!$A$10:$D$159,4),\"\")","v":""}]
[null,null,null,{"$f":"IF(C412>0,VLOOKUP(C412,Liste!$A$10:$D$159,4),\"\")","v":""}]
[null,null,null,{"$f":"IF(C413>0,VLOOKUP(C413,Liste!$A$10:$D$159,4),\"\")","v":""}]
[null,null,null,{"$f":"IF(C414>0,VLOOKUP(C414,Liste!$A$10:$D$159,4),\"\")","v":""}]
[null,null,null,{"$f":"IF(C415>0,VLOOKUP(C415,Liste!$A$10:$D$159,4),\"\")","v":""}]
[null,null,null,{"$f":"IF(C416>0,VLOOKUP(C416,Liste!$A$10:$D$159,4),\"\")","v":""}]
[null,null,null,{"$f":"IF(C417>0,VLOOKUP(C417,Liste!$A$10:$D$159,4),\"\")","v":""}]
[null,null,null,{"$f":"IF(C418>0,VLOOKUP(C418,Liste!$A$10:$D$159,4),\"\")","v":""}]
[null,null,null,{"$f":"IF(C419>0,VLOOKUP(C419,Liste!$A$10:$D$159,4),\"\")","v":""}]
[null,null,null,{"$f":"IF(C420>0,VLOOKUP(C420,Liste!$A$10:$D$159,4),\"\")","v":""}]
[null,null,null,{"$f":"IF(C421>0,VLOOKUP(C421,Liste!$A$10:$D$159,4),\"\")","v":""}]
[null,null,null,{"$f":"IF(C422>0,VLOOKUP(C422,Liste!$A$10:$D$159,4),\"\")","v":""}]
[null,null,null,{"$f":"IF(C423>0,VLOOKUP(C423,Liste!$A$10:$D$159,4),\"\")","v":""}]
[null,null,null,{"$f":"IF(C424>0,VLOOKUP(C424,Liste!$A$10:$D$159,4),\"\")","v":""}]
[null,null,null,{"$f":"IF(C425>0,VLOOKUP(C425,Liste!$A$10:$D$159,4),\"\")","v":""}]
[null,null,null,{"$f":"IF(C426>0,VLOOKUP(C426,Liste!$A$10:$D$159,4),\"\")","v":""}]
[null,null,null,{"$f":"IF(C427>0,VLOOKUP(C427,Liste!$A$10:$D$159,4),\"\")","v":""}]
[null,null,null,{"$f":"IF(C428>0,VLOOKUP(C428,Liste!$A$10:$D$159,4),\"\")","v":""}]
[null,null,null,{"$f":"IF(C429>0,VLOOKUP(C429,Liste!$A$10:$D$159,4),\"\")","v":""}]
[null,null,null,{"$f":"IF(C430>0,VLOOKUP(C430,Liste!$A$10:$D$159,4),\"\")","v":""}]
[null,null,null,{"$f":"IF(C431>0,VLOOKUP(C431,Liste!$A$10:$D$159,4),\"\")","v":""}]
[null,null,null,{"$f":"IF(C432>0,VLOOKUP(C432,Liste!$A$10:$D$159,4),\"\")","v":""}]
[null,null,null,{"$f":"IF(C433>0,VLOOKUP(C433,Liste!$A$10:$D$159,4),\"\")","v":""}]
[null,null,null,{"$f":"IF(C434>0,VLOOKUP(C434,Liste!$A$10:$D$159,4),\"\")","v":""}]
[null,null,null,{"$f":"IF(C435>0,VLOOKUP(C435,Liste!$A$10:$D$159,4),\"\")","v":""}]
[null,null,null,{"$f":"IF(C436>0,VLOOKUP(C436,Liste!$A$10:$D$159,4),\"\")","v":""}]
[null,null,null,{"$f":"IF(C437>0,VLOOKUP(C437,Liste!$A$10:$D$159,4),\"\")","v":""}]
[null,null,null,{"$f":"IF(C438>0,VLOOKUP(C438,Liste!$A$10:$D$159,4),\"\")","v":""}]
[null,null,null,{"$f":"IF(C439>0,VLOOKUP(C439,Liste!$A$10:$D$159,4),\"\")","v":""}]
[null,null,null,{"$f":"IF(C440>0,VLOOKUP(C440,Liste!$A$10:$D$159,4),\"\")","v":""}]
[null,null,null,{"$f":"IF(C441>0,VLOOKUP(C441,Liste!$A$10:$D$159,4),\"\")","v":""}]
[null,null,null,{"$f":"IF(C442>0,VLOOKUP(C442,Liste!$A$10:$D$159,4),\"\")","v":""}]
[null,null,null,{"$f":"IF(C443>0,VLOOKUP(C443,Liste!$A$10:$D$159,4),\"\")","v":""}]
[null,null,null,{"$f":"IF(C444>0,VLOOKUP(C444,Liste!$A$10:$D$159,4),\"\")","v":""}]
[null,null,null,{"$f":"IF(C445>0,VLOOKUP(C445,Liste!$A$10:$D$159,4),\"\")","v":""}]
[null,null,null,{"$f":"IF(C446>0,VLOOKUP(C446,Liste!$A$10:$D$159,4),\"\")","v":""}]
[null,null,null,{"$f":"IF(C447>0,VLOOKUP(C447,Liste!$A$10:$D$159,4),\"\")","v":""}]
[null,null,null,{"$f":"IF(C448>0,VLOOKUP(C448,Liste!$A$10:$D$159,4),\"\")","v":""}]
[null,null,null,{"$f":"IF(C449>0,VLOOKUP(C449,Liste!$A$10:$D$159,4),\"\")","v":""}]
[null,null,null,{"$f":"IF(C450>0,VLOOKUP(C450,Liste!$A$10:$D$159,4),\"\")","v":""}]
[null,null,null,{"$f":"IF(C451>0,VLOOKUP(C451,Liste!$A$10:$D$159,4),\"\")","v":""}]
[null,null,null,{"$f":"IF(C452>0,VLOOKUP(C452,Liste!$A$10:$D$159,4),\"\")","v":""}]
[null,null,null,{"$f":"IF(C453>0,VLOOKUP(C453,Liste!$A$10:$D$159,4),\"\")","v":""}]
[null,null,null,{"$f":"IF(C454>0,VLOOKUP(C454,Liste!$A$10:$D$159,4),\"\")","v":""}]
[null,null,null,{"$f":"IF(C455>0,VLOOKUP(C455,Liste!$A$10:$D$159,4),\"\")","v":""}]
[null,null,null,{"$f":"IF(C456>0,VLOOKUP(C456,Liste!$A$10:$D$159,4),\"\")","v":""}]
[null,null,null,{"$f":"IF(C457>0,VLOOKUP(C457,Liste!$A$10:$D$159,4),\"\")","v":""}]
[null,null,null,{"$f":"IF(C458>0,VLOOKUP(C458,Liste!$A$10:$D$159,4),\"\")","v":""}]
[null,null,null,{"$f":"IF(C459>0,VLOOKUP(C459,Liste!$A$10:$D$159,4),\"\")","v":""}]
[null,null,null,{"$f":"IF(C460>0,VLOOKUP(C460,Liste!$A$10:$D$159,4),\"\")","v":""}]
[null,null,null,{"$f":"IF(C461>0,VLOOKUP(C461,Liste!$A$10:$D$159,4),\"\")","v":""}]
[null,null,null,{"$f":"IF(C462>0,VLOOKUP(C462,Liste!$A$10:$D$159,4),\"\")","v":""}]
[null,null,null,{"$f":"IF(C463>0,VLOOKUP(C463,Liste!$A$10:$D$159,4),\"\")","v":""}]
[null,null,null,{"$f":"IF(C464>0,VLOOKUP(C464,Liste!$A$10:$D$159,4),\"\")","v":""}]
[null,null,null,{"$f":"IF(C465>0,VLOOKUP(C465,Liste!$A$10:$D$159,4),\"\")","v":""}]
[null,null,null,{"$f":"IF(C466>0,VLOOKUP(C466,Liste!$A$10:$D$159,4),\"\")","v":""}]
[null,null,null,{"$f":"IF(C467>0,VLOOKUP(C467,Liste!$A$10:$D$159,4),\"\")","v":""}]
[null,null,null,{"$f":"IF(C468>0,VLOOKUP(C468,Liste!$A$10:$D$159,4),\"\")","v":""}]
[null,null,null,{"$f":"IF(C469>0,VLOOKUP(C469,Liste!$A$10:$D$159,4),\"\")","v":""}]
[null,null,null,{"$f":"IF(C470>0,VLOOKUP(C470,Liste!$A$10:$D$159,4),\"\")","v":""}]
[null,null,null,{"$f":"IF(C471>0,VLOOKUP(C471,Liste!$A$10:$D$159,4),\"\")","v":""}]
[null,null,null,{"$f":"IF(C472>0,VLOOKUP(C472,Liste!$A$10:$D$159,4),\"\")","v":""}]
[null,null,null,{"$f":"IF(C473>0,VLOOKUP(C473,Liste!$A$10:$D$159,4),\"\")","v":""}]
[null,null,null,{"$f":"IF(C474>0,VLOOKUP(C474,Liste!$A$10:$D$159,4),\"\")","v":""}]
[null,null,null,{"$f":"IF(C475>0,VLOOKUP(C475,Liste!$A$10:$D$159,4),\"\")","v":""}]
[null,null,null,{"$f":"IF(C476>0,VLOOKUP(C476,Liste!$A$10:$D$159,4),\"\")","v":""}]
[null,null,null,{"$f":"IF(C477>0,VLOOKUP(C477,Liste!$A$10:$D$159,4),\"\")","v":""}]
[null,null,null,{"$f":"IF(C478>0,VLOOKUP(C478,Liste!$A$10:$D$159,4),\"\")","v":""}]
[null,null,null,{"$f":"IF(C479>0,VLOOKUP(C479,Liste!$A$10:$D$159,4),\"\")","v":""}]
[null,null,null,{"$f":"IF(C480>0,VLOOKUP(C480,Liste!$A$10:$D$159,4),\"\")","v":""}]
[null,null,null,{"$f":"IF(C481>0,VLOOKUP(C481,Liste!$A$10:$D$159,4),\"\")","v":""}]
[null,null,null,{"$f":"IF(C482>0,VLOOKUP(C482,Liste!$A$10:$D$159,4),\"\")","v":""}]
[null,null,null,{"$f":"IF(C483>0,VLOOKUP(C483,Liste!$A$10:$D$159,4),\"\")","v":""}]
[null,null,null,{"$f":"IF(C484>0,VLOOKUP(C484,Liste!$A$10:$D$159,4),\"\")","v":""}]
[null,null,null,{"$f":"IF(C485>0,VLOOKUP(C485,Liste!$A$10:$D$159,4),\"\")","v":""}]
[null,null,null,{"$f":"IF(C486>0,VLOOKUP(C486,Liste!$A$10:$D$159,4),\"\")","v":""}]
[null,null,null,{"$f":"IF(C487>0,VLOOKUP(C487,Liste!$A$10:$D$159,4),\"\")","v":""}]
[null,null,null,{"$f":"IF(C488>0,VLOOKUP(C488,Liste!$A$10:$D$159,4),\"\")","v":""}]
[null,null,null,{"$f":"IF(C489>0,VLOOKUP(C489,Liste!$A$10:$D$159,4),\"\")","v":""}]
[null,null,null,{"$f":"IF(C490>0,VLOOKUP(C490,Liste!$A$10:$D$159,4),\"\")","v":""}]
[null,null,null,{"$f":"IF(C491>0,VLOOKUP(C491,Liste!$A$10:$D$159,4),\"\")","v":""}]
[null,null,null,{"$f":"IF(C492>0,VLOOKUP(C492,Liste!$A$10:$D$159,4),\"\")","v":""}]
[null,null,null,{"$f":"IF(C493>0,VLOOKUP(C493,Liste!$A$10:$D$159,4),\"\")","v":""}]
[null,null,null,{"$f":"IF(C494>0,VLOOKUP(C494,Liste!$A$10:$D$159,4),\"\")","v":""}]
[null,null,null,{"$f":"IF(C495>0,VLOOKUP(C495,Liste!$A$10:$D$159,4),\"\")","v":""}]
[null,null,null,{"$f":"IF(C496>0,VLOOKUP(C496,Liste!$A$10:$D$159,4),\"\")","v":""}]
[null,null,null,{"$f":"IF(C497>0,VLOOKUP(C497,Liste!$A$10:$D$159,4),\"\")","v":""}]
[null,null,null,{"$f":"IF(C498>0,VLOOKUP(C498,Liste!$A$10:$D$159,4),\"\")","v":""}]
[null,null,null,{"$f":"IF(C499>0,VLOOKUP(C499,Liste!$A$10:$D$159,4),\"\")","v":""}]
[null,null,null,{"$f":"IF(C500>0,VLOOKUP(C500,Liste!$A$10:$D$159,4),\"\")","v":""}]
[null,null,null,{"$f":"IF(C501>0,VLOOKUP(C501,Liste!$A$10:$D$159,4),\"\")","v":""}]
[null,null,null,{"$f":"IF(C502>0,VLOOKUP(C502,Liste!$A$10:$D$159,4),\"\")","v":""}]
[null,null,null,{"$f":"IF(C503>0,VLOOKUP(C503,Liste!$A$10:$D$159,4),\"\")","v":""}]
[null,null,null,{"$f":"IF(C504>0,VLOOKUP(C504,Liste!$A$10:$D$159,4),\"\")","v":""}]
[null,null,null,{"$f":"IF(C505>0,VLOOKUP(C505,Liste!$A$10:$D$159,4),\"\")","v":""}]
[null,null,null,{"$f":"IF(C506>0,VLOOKUP(C506,Liste!$A$10:$D$159,4),\"\")","v":""}]
[null,null,null,{"$f":"IF(C507>0,VLOOKUP(C507,Liste!$A$10:$D$159,4),\"\")","v":""}]
[null,null,null,{"$f":"IF(C508>0,VLOOKUP(C508,Liste!$A$10:$D$159,4),\"\")","v":""}]
[null,null,null,{"$f":"IF(C509>0,VLOOKUP(C509,Liste!$A$10:$D$159,4),\"\")","v":""}]
[null,null,null,{"$f":"IF(C510>0,VLOOKUP(C510,Liste!$A$10:$D$159,4),\"\")","v":""}]
[null,null,null,{"$f":"IF(C511>0,VLOOKUP(C511,Liste!$A$10:$D$159,4),\"\")","v":""}]
[null,null,null,{"$f":"IF(C512>0,VLOOKUP(C512,Liste!$A$10:$D$159,4),\"\")","v":""}]
[null,null,null,{"$f":"IF(C513>0,VLOOKUP(C513,Liste!$A$10:$D$159,4),\"\")","v":""}]
[null,null,null,{"$f":"IF(C514>0,VLOOKUP(C514,Liste!$A$10:$D$159,4),\"\")","v":""}]
[null,null,null,{"$f":"IF(C515>0,VLOOKUP(C515,Liste!$A$10:$D$159,4),\"\")","v":""}]
[null,null,null,{"$f":"IF(C516>0,VLOOKUP(C516,Liste!$A$10:$D$159,4),\"\")","v":""}]
[null,null,null,{"$f":"IF(C517>0,VLOOKUP(C517,Liste!$A$10:$D$159,4),\"\")","v":""}]
[null,null,null,{"$f":"IF(C518>0,VLOOKUP(C518,Liste!$A$10:$D$159,4),\"\")","v":""}]
[null,null,null,{"$f":"IF(C519>0,VLOOKUP(C519,Liste!$A$10:$D$159,4),\"\")","v":""}]
[null,null,null,{"$f":"IF(C520>0,VLOOKUP(C520,Liste!$A$10:$D$159,4),\"\")","v":""}]
[null,null,null,{"$f":"IF(C521>0,VLOOKUP(C521,Liste!$A$10:$D$159,4),\"\")","v":""}]
[null,null,null,{"$f":"IF(C522>0,VLOOKUP(C522,Liste!$A$10:$D$159,4),\"\")","v":""}]
[null,null,null,{"$f":"IF(C523>0,VLOOKUP(C523,Liste!$A$10:$D$159,4),\"\")","v":""}]
[null,null,null,{"$f":"IF(C524>0,VLOOKUP(C524,Liste!$A$10:$D$159,4),\"\")","v":""}]
[null,null,null,{"$f":"IF(C525>0,VLOOKUP(C525,Liste!$A$10:$D$159,4),\"\")","v":""}]
[null,null,null,{"$f":"IF(C526>0,VLOOKUP(C526,Liste!$A$10:$D$159,4),\"\")","v":""}]
[null,null,null,{"$f":"IF(C527>0,VLOOKUP(C527,Liste!$A$10:$D$159,4),\"\")","v":""}]
[null,null,null,{"$f":"IF(C528>0,VLOOKUP(C528,Liste!$A$10:$D$159,4),\"\")","v":""}]
[null,null,null,{"$f":"IF(C529>0,VLOOKUP(C529,Liste!$A$10:$D$159,4),\"\")","v":""}]
[null,null,null,{"$f":"IF(C530>0,VLOOKUP(C530,Liste!$A$10:$D$159,4),\"\")","v":""}]
[null,null,null,{"$f":"IF(C531>0,VLOOKUP(C531,Liste!$A$10:$D$159,4),\"\")","v":""}]
[null,null,null,{"$f":"IF(C532>0,VLOOKUP(C532,Liste!$A$10:$D$159,4),\"\")","v":""}]
[null,null,null,{"$f":"IF(C533>0,VLOOKUP(C533,Liste!$A$10:$D$159,4),\"\")","v":""}]
[null,null,null,{"$f":"IF(C534>0,VLOOKUP(C534,Liste!$A$10:$D$159,4),\"\")","v":""}]
[null,null,null,{"$f":"IF(C535>0,VLOOKUP(C535,Liste!$A$10:$D$159,4),\"\")","v":""}]
[null,null,null,{"$f":"IF(C536>0,VLOOKUP(C536,Liste!$A$10:$D$159,4),\"\")","v":""}]
[null,null,null,{"$f":"IF(C537>0,VLOOKUP(C537,Liste!$A$10:$D$159,4),\"\")","v":""}]
[null,null,null,{"$f":"IF(C538>0,VLOOKUP(C538,Liste!$A$10:$D$159,4),\"\")","v":""}]
[null,null,null,{"$f":"IF(C539>0,VLOOKUP(C539,Liste!$A$10:$D$159,4),\"\")","v":""}]
[null,null,null,{"$f":"IF(C540>0,VLOOKUP(C540,Liste!$A$10:$D$159,4),\"\")","v":""}]
[null,null,null,{"$f":"IF(C541>0,VLOOKUP(C541,Liste!$A$10:$D$159,4),\"\")","v":""}]
[null,null,null,{"$f":"IF(C542>0,VLOOKUP(C542,Liste!$A$10:$D$159,4),\"\")","v":""}]
[null,null,null,{"$f":"IF(C543>0,VLOOKUP(C543,Liste!$A$10:$D$159,4),\"\")","v":""}]
[null,null,null,{"$f":"IF(C544>0,VLOOKUP(C544,Liste!$A$10:$D$159,4),\"\")","v":""}]
[null,null,null,{"$f":"IF(C545>0,VLOOKUP(C545,Liste!$A$10:$D$159,4),\"\")","v":""}]
[null,null,null,{"$f":"IF(C546>0,VLOOKUP(C546,Liste!$A$10:$D$159,4),\"\")","v":""}]
[null,null,null,{"$f":"IF(C547>0,VLOOKUP(C547,Liste!$A$10:$D$159,4),\"\")","v":""}]
[null,null,null,{"$f":"IF(C548>0,VLOOKUP(C548,Liste!$A$10:$D$159,4),\"\")","v":""}]
[null,null,null,{"$f":"IF(C549>0,VLOOKUP(C549,Liste!$A$10:$D$159,4),\"\")","v":""}]
[null,null,null,{"$f":"IF(C550>0,VLOOKUP(C550,Liste!$A$10:$D$159,4),\"\")","v":""}]
[null,null,null,{"$f":"IF(C551>0,VLOOKUP(C551,Liste!$A$10:$D$159,4),\"\")","v":""}]
[null,null,null,{"$f":"IF(C552>0,VLOOKUP(C552,Liste!$A$10:$D$159,4),\"\")","v":""}]
[null,null,null,{"$f":"IF(C553>0,VLOOKUP(C553,Liste!$A$10:$D$159,4),\"\")","v":""}]
[null,null,null,{"$f":"IF(C554>0,VLOOKUP(C554,Liste!$A$10:$D$159,4),\"\")","v":""}]
[null,null,null,{"$f":"IF(C555>0,VLOOKUP(C555,Liste!$A$10:$D$159,4),\"\")","v":""}]
[null,null,null,{"$f":"IF(C556>0,VLOOKUP(C556,Liste!$A$10:$D$159,4),\"\")","v":""}]
[null,null,null,{"$f":"IF(C557>0,VLOOKUP(C557,Liste!$A$10:$D$159,4),\"\")","v":""}]
[null,null,null,{"$f":"IF(C558>0,VLOOKUP(C558,Liste!$A$10:$D$159,4),\"\")","v":""}]
[null,null,null,{"$f":"IF(C559>0,VLOOKUP(C559,Liste!$A$10:$D$159,4),\"\")","v":""}]
[null,null,null,{"$f":"IF(C560>0,VLOOKUP(C560,Liste!$A$10:$D$159,4),\"\")","v":""}]
[null,null,null,{"$f":"IF(C561>0,VLOOKUP(C561,Liste!$A$10:$D$159,4),\"\")","v":""}]
[null,null,null,{"$f":"IF(C562>0,VLOOKUP(C562,Liste!$A$10:$D$159,4),\"\")","v":""}]
[null,null,null,{"$f":"IF(C563>0,VLOOKUP(C563,Liste!$A$10:$D$159,4),\"\")","v":""}]
[null,null,null,{"$f":"IF(C564>0,VLOOKUP(C564,Liste!$A$10:$D$159,4),\"\")","v":""}]
[null,null,null,{"$f":"IF(C565>0,VLOOKUP(C565,Liste!$A$10:$D$159,4),\"\")","v":""}]
[null,null,null,{"$f":"IF(C566>0,VLOOKUP(C566,Liste!$A$10:$D$159,4),\"\")","v":""}]
[null,null,null,{"$f":"IF(C567>0,VLOOKUP(C567,Liste!$A$10:$D$159,4),\"\")","v":""}]
[null,null,null,{"$f":"IF(C568>0,VLOOKUP(C568,Liste!$A$10:$D$159,4),\"\")","v":""}]
[null,null,null,{"$f":"IF(C569>0,VLOOKUP(C569,Liste!$A$10:$D$159,4),\"\")","v":""}]
[null,null,null,{"$f":"IF(C570>0,VLOOKUP(C570,Liste!$A$10:$D$159,4),\"\")","v":""}]
[null,null,null,{"$f":"IF(C571>0,VLOOKUP(C571,Liste!$A$10:$D$159,4),\"\")","v":""}]
[null,null,null,{"$f":"IF(C572>0,VLOOKUP(C572,Liste!$A$10:$D$159,4),\"\")","v":""}]
[null,null,null,{"$f":"IF(C573>0,VLOOKUP(C573,Liste!$A$10:$D$159,4),\"\")","v":""}]
[null,null,null,{"$f":"IF(C574>0,VLOOKUP(C574,Liste!$A$10:$D$159,4),\"\")","v":""}]
[null,null,null,{"$f":"IF(C575>0,VLOOKUP(C575,Liste!$A$10:$D$159,4),\"\")","v":""}]
[null,null,null,{"$f":"IF(C576>0,VLOOKUP(C576,Liste!$A$10:$D$159,4),\"\")","v":""}]
[null,null,null,{"$f":"IF(C577>0,VLOOKUP(C577,Liste!$A$10:$D$159,4),\"\")","v":""}]
[null,null,null,{"$f":"IF(C578>0,VLOOKUP(C578,Liste!$A$10:$D$159,4),\"\")","v":""}]
[null,null,null,{"$f":"IF(C579>0,VLOOKUP(C579,Liste!$A$10:$D$159,4),\"\")","v":""}]
[null,null,null,{"$f":"IF(C580>0,VLOOKUP(C580,Liste!$A$10:$D$159,4),\"\")","v":""}]
[null,null,null,{"$f":"IF(C581>0,VLOOKUP(C581,Liste!$A$10:$D$159,4),\"\")","v":""}]
[null,null,null,{"$f":"IF(C582>0,VLOOKUP(C582,Liste!$A$10:$D$159,4),\"\")","v":""}]
[null,null,null,{"$f":"IF(C583>0,VLOOKUP(C583,Liste!$A$10:$D$159,4),\"\")","v":""}]
[null,null,null,{"$f":"IF(C584>0,VLOOKUP(C584,Liste!$A$10:$D$159,4),\"\")","v":""}]
[null,null,null,{"$f":"IF(C585>0,VLOOKUP(C585,Liste!$A$10:$D$159,4),\"\")","v":""}]
[null,null,null,{"$f":"IF(C586>0,VLOOKUP(C586,Liste!$A$10:$D$159,4),\"\")","v":""}]
[null,null,null,{"$f":"IF(C587>0,VLOOKUP(C587,Liste!$A$10:$D$159,4),\"\")","v":""}]
[null,null,null,{"$f":"IF(C588>0,VLOOKUP(C588,Liste!$A$10:$D$159,4),\"\")","v":""}]
[null,null,null,{"$f":"IF(C589>0,VLOOKUP(C589,Liste!$A$10:$D$159,4),\"\")","v":""}]
[null,null,null,{"$f":"IF(C590>0,VLOOKUP(C590,Liste!$A$10:$D$159,4),\"\")","v":""}]
[null,null,null,{"$f":"IF(C591>0,VLOOKUP(C591,Liste!$A$10:$D$159,4),\"\")","v":""}]
[null,null,null,{"$f":"IF(C592>0,VLOOKUP(C592,Liste!$A$10:$D$159,4),\"\")","v":""}]
[null,null,null,{"$f":"IF(C593>0,VLOOKUP(C593,Liste!$A$10:$D$159,4),\"\")","v":""}]
[null,null,null,{"$f":"IF(C594>0,VLOOKUP(C594,Liste!$A$10:$D$159,4),\"\")","v":""}]
[null,null,null,{"$f":"IF(C595>0,VLOOKUP(C595,Liste!$A$10:$D$159,4),\"\")","v":""}]
[null,null,null,{"$f":"IF(C596>0,VLOOKUP(C596,Liste!$A$10:$D$159,4),\"\")","v":""}]
[null,null,null,{"$f":"IF(C597>0,VLOOKUP(C597,Liste!$A$10:$D$159,4),\"\")","v":""}]
[null,null,null,{"$f":"IF(C598>0,VLOOKUP(C598,Liste!$A$10:$D$159,4),\"\")","v":""}]
[null,null,null,{"$f":"IF(C599>0,VLOOKUP(C599,Liste!$A$10:$D$159,4),\"\")","v":""}]
[null,null,null,{"$f":"IF(C600>0,VLOOKUP(C600,Liste!$A$10:$D$159,4),\"\")","v":""}]
[null,null,null,{"$f":"IF(C601>0,VLOOKUP(C601,Liste!$A$10:$D$159,4),\"\")","v":""}]
[null,null,null,{"$f":"IF(C602>0,VLOOKUP(C602,Liste!$A$10:$D$159,4),\"\")","v":""}]
[null,null,null,{"$f":"IF(C603>0,VLOOKUP(C603,Liste!$A$10:$D$159,4),\"\")","v":""}]
[null,null,null,{"$f":"IF(C604>0,VLOOKUP(C604,Liste!$A$10:$D$159,4),\"\")","v":""}]
[null,null,null,{"$f":"IF(C605>0,VLOOKUP(C605,Liste!$A$10:$D$159,4),\"\")","v":""}]
[null,null,null,{"$f":"IF(C606>0,VLOOKUP(C606,Liste!$A$10:$D$159,4),\"\")","v":""}]
[null,null,null,{"$f":"IF(C607>0,VLOOKUP(C607,Liste!$A$10:$D$159,4),\"\")","v":""}]
[null,null,null,{"$f":"IF(C608>0,VLOOKUP(C608,Liste!$A$10:$D$159,4),\"\")","v":""}]
[null,null,null,{"$f":"IF(C609>0,VLOOKUP(C609,Liste!$A$10:$D$159,4),\"\")","v":""}]
[null,null,null,{"$f":"IF(C610>0,VLOOKUP(C610,Liste!$A$10:$D$159,4),\"\")","v":""}]
[null,null,null,{"$f":"IF(C611>0,VLOOKUP(C611,Liste!$A$10:$D$159,4),\"\")","v":""}]
[null,null,null,{"$f":"IF(C612>0,VLOOKUP(C612,Liste!$A$10:$D$159,4),\"\")","v":""}]
[null,null,null,{"$f":"IF(C613>0,VLOOKUP(C613,Liste!$A$10:$D$159,4),\"\")","v":""}]
[null,null,null,{"$f":"IF(C614>0,VLOOKUP(C614,Liste!$A$10:$D$159,4),\"\")","v":""}]
[null,null,null,{"$f":"IF(C615>0,VLOOKUP(C615,Liste!$A$10:$D$159,4),\"\")","v":""}]
[null,null,null,{"$f":"IF(C616>0,VLOOKUP(C616,Liste!$A$10:$D$159,4),\"\")","v":""}]
[null,null,null,{"$f":"IF(C617>0,VLOOKUP(C617,Liste!$A$10:$D$159,4),\"\")","v":""}]
[null,null,null,{"$f":"IF(C618>0,VLOOKUP(C618,Liste!$A$10:$D$159,4),\"\")","v":""}]
[null,null,null,{"$f":"IF(C619>0,VLOOKUP(C619,Liste!$A$10:$D$159,4),\"\")","v":""}]
[null,null,null,{"$f":"IF(C620>0,VLOOKUP(C620,Liste!$A$10:$D$159,4),\"\")","v":""}]
[null,null,null,{"$f":"IF(C621>0,VLOOKUP(C621,Liste!$A$10:$D$159,4),\"\")","v":""}]
[null,null,null,{"$f":"IF(C622>0,VLOOKUP(C622,Liste!$A$10:$D$159,4),\"\")","v":""}]
[null,null,null,{"$f":"IF(C623>0,VLOOKUP(C623,Liste!$A$10:$D$159,4),\"\")","v":""}]
[null,null,null,{"$f":"IF(C624>0,VLOOKUP(C624,Liste!$A$10:$D$159,4),\"\")","v":""}]
[null,null,null,{"$f":"IF(C625>0,VLOOKUP(C625,Liste!$A$10:$D$159,4),\"\")","v":""}]
[null,null,null,{"$f":"IF(C626>0,VLOOKUP(C626,Liste!$A$10:$D$159,4),\"\")","v":""}]
[null,null,null,{"$f":"IF(C627>0,VLOOKUP(C627,Liste!$A$10:$D$159,4),\"\")","v":""}]
[null,null,null,{"$f":"IF(C628>0,VLOOKUP(C628,Liste!$A$10:$D$159,4),\"\")","v":""}]
[null,null,null,{"$f":"IF(C629>0,VLOOKUP(C629,Liste!$A$10:$D$159,4),\"\")","v":""}]
[null,null,null,{"$f":"IF(C630>0,VLOOKUP(C630,Liste!$A$10:$D$159,4),\"\")","v":""}]
[null,null,null,{"$f":"IF(C631>0,VLOOKUP(C631,Liste!$A$10:$D$159,4),\"\")","v":""}]
[null,null,null,{"$f":"IF(C632>0,VLOOKUP(C632,Liste!$A$10:$D$159,4),\"\")","v":""}]
[null,null,null,{"$f":"IF(C633>0,VLOOKUP(C633,Liste!$A$10:$D$159,4),\"\")","v":""}]
[null,null,null,{"$f":"IF(C634>0,VLOOKUP(C634,Liste!$A$10:$D$159,4),\"\")","v":""}]
[null,null,null,{"$f":"IF(C635>0,VLOOKUP(C635,Liste!$A$10:$D$159,4),\"\")","v":""}]
[null,null,null,{"$f":"IF(C636>0,VLOOKUP(C636,Liste!$A$10:$D$159,4),\"\")","v":""}]
[null,null,null,{"$f":"IF(C637>0,VLOOKUP(C637,Liste!$A$10:$D$159,4),\"\")","v":""}]
[null,null,null,{"$f":"IF(C638>0,VLOOKUP(C638,Liste!$A$10:$D$159,4),\"\")","v":""}]
[null,null,null,{"$f":"IF(C639>0,VLOOKUP(C639,Liste!$A$10:$D$159,4),\"\")","v":""}]
[null,null,null,{"$f":"IF(C640>0,VLOOKUP(C640,Liste!$A$10:$D$159,4),\"\")","v":""}]
[null,null,null,{"$f":"IF(C641>0,VLOOKUP(C641,Liste!$A$10:$D$159,4),\"\")","v":""}]
[null,null,null,{"$f":"IF(C642>0,VLOOKUP(C642,Liste!$A$10:$D$159,4),\"\")","v":""}]
[null,null,null,{"$f":"IF(C643>0,VLOOKUP(C643,Liste!$A$10:$D$159,4),\"\")","v":""}]
[null,null,null,{"$f":"IF(C644>0,VLOOKUP(C644,Liste!$A$10:$D$159,4),\"\")","v":""}]
[null,null,null,{"$f":"IF(C645>0,VLOOKUP(C645,Liste!$A$10:$D$159,4),\"\")","v":""}]
[null,null,null,{"$f":"IF(C646>0,VLOOKUP(C646,Liste!$A$10:$D$159,4),\"\")","v":""}]
[null,null,null,{"$f":"IF(C647>0,VLOOKUP(C647,Liste!$A$10:$D$159,4),\"\")","v":""}]
[null,null,null,{"$f":"IF(C648>0,VLOOKUP(C648,Liste!$A$10:$D$159,4),\"\")","v":""}]
[null,null,null,{"$f":"IF(C649>0,VLOOKUP(C649,Liste!$A$10:$D$159,4),\"\")","v":""}]
[null,null,null,{"$f":"IF(C650>0,VLOOKUP(C650,Liste!$A$10:$D$159,4),\"\")","v":""}]
[null,null,null,{"$f":"IF(C651>0,VLOOKUP(C651,Liste!$A$10:$D$159,4),\"\")","v":""}]
[null,null,null,{"$f":"IF(C652>0,VLOOKUP(C652,Liste!$A$10:$D$159,4),\"\")","v":""}]
[null,null,null,{"$f":"IF(C653>0,VLOOKUP(C653,Liste!$A$10:$D$159,4),\"\")","v":""}]
[null,null,null,{"$f":"IF(C654>0,VLOOKUP(C654,Liste!$A$10:$D$159,4),\"\")","v":""}]
[null,null,null,{"$f":"IF(C655>0,VLOOKUP(C655,Liste!$A$10:$D$159,4),\"\")","v":""}]
[null,null,null,{"$f":"IF(C656>0,VLOOKUP(C656,Liste!$A$10:$D$159,4),\"\")","v":""}]
[null,null,null,{"$f":"IF(C657>0,VLOOKUP(C657,Liste!$A$10:$D$159,4),\"\")","v":""}]
[null,null,null,{"$f":"IF(C658>0,VLOOKUP(C658,Liste!$A$10:$D$159,4),\"\")","v":""}]
[null,null,null,{"$f":"IF(C659>0,VLOOKUP(C659,Liste!$A$10:$D$159,4),\"\")","v":""}]
[null,null,null,{"$f":"IF(C660>0,VLOOKUP(C660,Liste!$A$10:$D$159,4),\"\")","v":""}]
[null,null,null,{"$f":"IF(C661>0,VLOOKUP(C661,Liste!$A$10:$D$159,4),\"\")","v":""}]
[null,null,null,{"$f":"IF(C662>0,VLOOKUP(C662,Liste!$A$10:$D$159,4),\"\")","v":""}]
[null,null,null,{"$f":"IF(C663>0,VLOOKUP(C663,Liste!$A$10:$D$159,4),\"\")","v":""}]
[null,null,null,{"$f":"IF(C664>0,VLOOKUP(C664,Liste!$A$10:$D$159,4),\"\")","v":""}]
[null,null,null,{"$f":"IF(C665>0,VLOOKUP(C665,Liste!$A$10:$D$159,4),\"\")","v":""}]
[null,null,null,{"$f":"IF(C666>0,VLOOKUP(C666,Liste!$A$10:$D$159,4),\"\")","v":""}]
[null,null,null,{"$f":"IF(C667>0,VLOOKUP(C667,Liste!$A$10:$D$159,4),\"\")","v":""}]
[null,null,null,{"$f":"IF(C668>0,VLOOKUP(C668,Liste!$A$10:$D$159,4),\"\")","v":""}]
[null,null,null,{"$f":"IF(C669>0,VLOOKUP(C669,Liste!$A$10:$D$159,4),\"\")","v":""}]
[null,null,null,{"$f":"IF(C670>0,VLOOKUP(C670,Liste!$A$10:$D$159,4),\"\")","v":""}]
[null,null,null,{"$f":"IF(C671>0,VLOOKUP(C671,Liste!$A$10:$D$159,4),\"\")","v":""}]
[null,null,null,{"$f":"IF(C672>0,VLOOKUP(C672,Liste!$A$10:$D$159,4),\"\")","v":""}]
[null,null,null,{"$f":"IF(C673>0,VLOOKUP(C673,Liste!$A$10:$D$159,4),\"\")","v":""}]
[null,null,null,{"$f":"IF(C674>0,VLOOKUP(C674,Liste!$A$10:$D$159,4),\"\")","v":""}]
[null,null,null,{"$f":"IF(C675>0,VLOOKUP(C675,Liste!$A$10:$D$159,4),\"\")","v":""}]
[null,null,null,{"$f":"IF(C676>0,VLOOKUP(C676,Liste!$A$10:$D$159,4),\"\")","v":""}]
[null,null,null,{"$f":"IF(C677>0,VLOOKUP(C677,Liste!$A$10:$D$159,4),\"\")","v":""}]
[null,null,null,{"$f":"IF(C678>0,VLOOKUP(C678,Liste!$A$10:$D$159,4),\"\")","v":""}]
[null,null,null,{"$f":"IF(C679>0,VLOOKUP(C679,Liste!$A$10:$D$159,4),\"\")","v":""}]
[null,null,null,{"$f":"IF(C680>0,VLOOKUP(C680,Liste!$A$10:$D$159,4),\"\")","v":""}]
[null,null,null,{"$f":"IF(C681>0,VLOOKUP(C681,Liste!$A$10:$D$159,4),\"\")","v":""}]
[null,null,null,{"$f":"IF(C682>0,VLOOKUP(C682,Liste!$A$10:$D$159,4),\"\")","v":""}]
[null,null,null,{"$f":"IF(C683>0,VLOOKUP(C683,Liste!$A$10:$D$159,4),\"\")","v":""}]
[null,null,null,{"$f":"IF(C684>0,VLOOKUP(C684,Liste!$A$10:$D$159,4),\"\")","v":""}]
[null,null,null,{"$f":"IF(C685>0,VLOOKUP(C685,Liste!$A$10:$D$159,4),\"\")","v":""}]
[null,null,null,{"$f":"IF(C686>0,VLOOKUP(C686,Liste!$A$10:$D$159,4),\"\")","v":""}]
[null,null,null,{"$f":"IF(C687>0,VLOOKUP(C687,Liste!$A$10:$D$159,4),\"\")","v":""}]
[null,null,null,{"$f":"IF(C688>0,VLOOKUP(C688,Liste!$A$10:$D$159,4),\"\")","v":""}]
[null,null,null,{"$f":"IF(C689>0,VLOOKUP(C689,Liste!$A$10:$D$159,4),\"\")","v":""}]
[null,null,null,{"$f":"IF(C690>0,VLOOKUP(C690,Liste!$A$10:$D$159,4),\"\")","v":""}]
[null,null,null,{"$f":"IF(C691>0,VLOOKUP(C691,Liste!$A$10:$D$159,4),\"\")","v":""}]
[null,null,null,{"$f":"IF(C692>0,VLOOKUP(C692,Liste!$A$10:$D$159,4),\"\")","v":""}]
[null,null,null,{"$f":"IF(C693>0,VLOOKUP(C693,Liste!$A$10:$D$159,4),\"\")","v":""}]
[null,null,null,{"$f":"IF(C694>0,VLOOKUP(C694,Liste!$A$10:$D$159,4),\"\")","v":""}]
[null,null,null,{"$f":"IF(C695>0,VLOOKUP(C695,Liste!$A$10:$D$159,4),\"\")","v":""}]
[null,null,null,{"$f":"IF(C696>0,VLOOKUP(C696,Liste!$A$10:$D$159,4),\"\")","v":""}]
[null,null,null,{"$f":"IF(C697>0,VLOOKUP(C697,Liste!$A$10:$D$159,4),\"\")","v":""}]
[null,null,null,{"$f":"IF(C698>0,VLOOKUP(C698,Liste!$A$10:$D$159,4),\"\")","v":""}]
[null,null,null,{"$f":"IF(C699>0,VLOOKUP(C699,Liste!$A$10:$D$159,4),\"\")","v":""}]
[null,null,null,{"$f":"IF(C700>0,VLOOKUP(C700,Liste!$A$10:$D$159,4),\"\")","v":""}]
[null,null,null,{"$f":"IF(C701>0,VLOOKUP(C701,Liste!$A$10:$D$159,4),\"\")","v":""}]
[null,null,null,{"$f":"IF(C702>0,VLOOKUP(C702,Liste!$A$10:$D$159,4),\"\")","v":""}]
[null,null,null,{"$f":"IF(C703>0,VLOOKUP(C703,Liste!$A$10:$D$159,4),\"\")","v":""}]
[null,null,null,{"$f":"IF(C704>0,VLOOKUP(C704,Liste!$A$10:$D$159,4),\"\")","v":""}]
[null,null,null,{"$f":"IF(C705>0,VLOOKUP(C705,Liste!$A$10:$D$159,4),\"\")","v":""}]
[null,null,null,{"$f":"IF(C706>0,VLOOKUP(C706,Liste!$A$10:$D$159,4),\"\")","v":""}]
[null,null,null,{"$f":"IF(C707>0,VLOOKUP(C707,Liste!$A$10:$D$159,4),\"\")","v":""}]
[null,null,null,{"$f":"IF(C708>0,VLOOKUP(C708,Liste!$A$10:$D$159,4),\"\")","v":""}]
[null,null,null,{"$f":"IF(C709>0,VLOOKUP(C709,Liste!$A$10:$D$159,4),\"\")","v":""}]
[null,null,null,{"$f":"IF(C710>0,VLOOKUP(C710,Liste!$A$10:$D$159,4),\"\")","v":""}]
[null,null,null,{"$f":"IF(C711>0,VLOOKUP(C711,Liste!$A$10:$D$159,4),\"\")","v":""}]
[null,null,null,{"$f":"IF(C712>0,VLOOKUP(C712,Liste!$A$10:$D$159,4),\"\")","v":""}]
[null,null,null,{"$f":"IF(C713>0,VLOOKUP(C713,Liste!$A$10:$D$159,4),\"\")","v":""}]
[null,null,null,{"$f":"IF(C714>0,VLOOKUP(C714,Liste!$A$10:$D$159,4),\"\")","v":""}]
[null,null,null,{"$f":"IF(C715>0,VLOOKUP(C715,Liste!$A$10:$D$159,4),\"\")","v":""}]
[null,null,null,{"$f":"IF(C716>0,VLOOKUP(C716,Liste!$A$10:$D$159,4),\"\")","v":""}]
[null,null,null,{"$f":"IF(C717>0,VLOOKUP(C717,Liste!$A$10:$D$159,4),\"\")","v":""}]
[null,null,null,{"$f":"IF(C718>0,VLOOKUP(C718,Liste!$A$10:$D$159,4),\"\")","v":""}]
[null,null,null,{"$f":"IF(C719>0,VLOOKUP(C719,Liste!$A$10:$D$159,4),\"\")","v":""}]
[null,null,null,{"$f":"IF(C720>0,VLOOKUP(C720,Liste!$A$10:$D$159,4),\"\")","v":""}]
[null,null,null,{"$f":"IF(C721>0,VLOOKUP(C721,Liste!$A$10:$D$159,4),\"\")","v":""}]
[null,null,null,{"$f":"IF(C722>0,VLOOKUP(C722,Liste!$A$10:$D$159,4),\"\")","v":""}]
[null,null,null,{"$f":"IF(C723>0,VLOOKUP(C723,Liste!$A$10:$D$159,4),\"\")","v":""}]
[null,null,null,{"$f":"IF(C724>0,VLOOKUP(C724,Liste!$A$10:$D$159,4),\"\")","v":""}]
[null,null,null,{"$f":"IF(C725>0,VLOOKUP(C725,Liste!$A$10:$D$159,4),\"\")","v":""}]
[null,null,null,{"$f":"IF(C726>0,VLOOKUP(C726,Liste!$A$10:$D$159,4),\"\")","v":""}]
[null,null,null,{"$f":"IF(C727>0,VLOOKUP(C727,Liste!$A$10:$D$159,4),\"\")","v":""}]
[null,null,null,{"$f":"IF(C728>0,VLOOKUP(C728,Liste!$A$10:$D$159,4),\"\")","v":""}]
[null,null,null,{"$f":"IF(C729>0,VLOOKUP(C729,Liste!$A$10:$D$159,4),\"\")","v":""}]
[null,null,null,{"$f":"IF(C730>0,VLOOKUP(C730,Liste!$A$10:$D$159,4),\"\")","v":""}]
[null,null,null,{"$f":"IF(C731>0,VLOOKUP(C731,Liste!$A$10:$D$159,4),\"\")","v":""}]
[null,null,null,{"$f":"IF(C732>0,VLOOKUP(C732,Liste!$A$10:$D$159,4),\"\")","v":""}]
[null,null,null,{"$f":"IF(C733>0,VLOOKUP(C733,Liste!$A$10:$D$159,4),\"\")","v":""}]
[null,null,null,{"$f":"IF(C734>0,VLOOKUP(C734,Liste!$A$10:$D$159,4),\"\")","v":""}]
[null,null,null,{"$f":"IF(C735>0,VLOOKUP(C735,Liste!$A$10:$D$159,4),\"\")","v":""}]
[null,null,null,{"$f":"IF(C736>0,VLOOKUP(C736,Liste!$A$10:$D$159,4),\"\")","v":""}]
[null,null,null,{"$f":"IF(C737>0,VLOOKUP(C737,Liste!$A$10:$D$159,4),\"\")","v":""}]
[null,null,null,{"$f":"IF(C738>0,VLOOKUP(C738,Liste!$A$10:$D$159,4),\"\")","v":""}]
[null,null,null,{"$f":"IF(C739>0,VLOOKUP(C739,Liste!$A$10:$D$159,4),\"\")","v":""}]
[null,null,null,{"$f":"IF(C740>0,VLOOKUP(C740,Liste!$A$10:$D$159,4),\"\")","v":""}]
[null,null,null,{"$f":"IF(C741>0,VLOOKUP(C741,Liste!$A$10:$D$159,4),\"\")","v":""}]
[null,null,null,{"$f":"IF(C742>0,VLOOKUP(C742,Liste!$A$10:$D$159,4),\"\")","v":""}]
[null,null,null,{"$f":"IF(C743>0,VLOOKUP(C743,Liste!$A$10:$D$159,4),\"\")","v":""}]
[null,null,null,{"$f":"IF(C744>0,VLOOKUP(C744,Liste!$A$10:$D$159,4),\"\")","v":""}]
[null,null,null,{"$f":"IF(C745>0,VLOOKUP(C745,Liste!$A$10:$D$159,4),\"\")","v":""}]
[null,null,null,{"$f":"IF(C746>0,VLOOKUP(C746,Liste!$A$10:$D$159,4),\"\")","v":""}]
[null,null,null,{"$f":"IF(C747>0,VLOOKUP(C747,Liste!$A$10:$D$159,4),\"\")","v":""}]
[null,null,null,{"$f":"IF(C748>0,VLOOKUP(C748,Liste!$A$10:$D$159,4),\"\")","v":""}]
[null,null,null,{"$f":"IF(C749>0,VLOOKUP(C749,Liste!$A$10:$D$159,4),\"\")","v":""}]
[null,null,null,{"$f":"IF(C750>0,VLOOKUP(C750,Liste!$A$10:$D$159,4),\"\")","v":""}]
[null,null,null,{"$f":"IF(C751>0,VLOOKUP(C751,Liste!$A$10:$D$159,4),\"\")","v":""}]
[null,null,null,{"$f":"IF(C752>0,VLOOKUP(C752,Liste!$A$10:$D$159,4),\"\")","v":""}]
[null,null,null,{"$f":"IF(C753>0,VLOOKUP(C753,Liste!$A$10:$D$159,4),\"\")","v":""}]
[null,null,null,{"$f":"IF(C754>0,VLOOKUP(C754,Liste!$A$10:$D$159,4),\"\")","v":""}]
[null,null,null,{"$f":"IF(C755>0,VLOOKUP(C755,Liste!$A$10:$D$159,4),\"\")","v":""}]
[null,null,null,{"$f":"IF(C756>0,VLOOKUP(C756,Liste!$A$10:$D$159,4),\"\")","v":""}]
[null,null,null,{"$f":"IF(C757>0,VLOOKUP(C757,Liste!$A$10:$D$159,4),\"\")","v":""}]
[null,null,null,{"$f":"IF(C758>0,VLOOKUP(C758,Liste!$A$10:$D$159,4),\"\")","v":""}]
[null,null,null,{"$f":"IF(C759>0,VLOOKUP(C759,Liste!$A$10:$D$159,4),\"\")","v":""}]
[null,null,null,{"$f":"IF(C760>0,VLOOKUP(C760,Liste!$A$10:$D$159,4),\"\")","v":""}]
[null,null,null,{"$f":"IF(C761>0,VLOOKUP(C761,Liste!$A$10:$D$159,4),\"\")","v":""}]
[null,null,null,{"$f":"IF(C762>0,VLOOKUP(C762,Liste!$A$10:$D$159,4),\"\")","v":""}]
[null,null,null,{"$f":"IF(C763>0,VLOOKUP(C763,Liste!$A$10:$D$159,4),\"\")","v":""}]
[null,null,null,{"$f":"IF(C764>0,VLOOKUP(C764,Liste!$A$10:$D$159,4),\"\")","v":""}]
[null,null,null,{"$f":"IF(C765>0,VLOOKUP(C765,Liste!$A$10:$D$159,4),\"\")","v":""}]
[null,null,null,{"$f":"IF(C766>0,VLOOKUP(C766,Liste!$A$10:$D$159,4),\"\")","v":""}]
[null,null,null,{"$f":"IF(C767>0,VLOOKUP(C767,Liste!$A$10:$D$159,4),\"\")","v":""}]
[null,null,null,{"$f":"IF(C768>0,VLOOKUP(C768,Liste!$A$10:$D$159,4),\"\")","v":""}]
[null,null,null,{"$f":"IF(C769>0,VLOOKUP(C769,Liste!$A$10:$D$159,4),\"\")","v":""}]
[null,null,null,{"$f":"IF(C770>0,VLOOKUP(C770,Liste!$A$10:$D$159,4),\"\")","v":""}]
[null,null,null,{"$f":"IF(C771>0,VLOOKUP(C771,Liste!$A$10:$D$159,4),\"\")","v":""}]
[null,null,null,{"$f":"IF(C772>0,VLOOKUP(C772,Liste!$A$10:$D$159,4),\"\")","v":""}]
[null,null,null,{"$f":"IF(C773>0,VLOOKUP(C773,Liste!$A$10:$D$159,4),\"\")","v":""}]
[null,null,null,{"$f":"IF(C774>0,VLOOKUP(C774,Liste!$A$10:$D$159,4),\"\")","v":""}]
[null,null,null,{"$f":"IF(C775>0,VLOOKUP(C775,Liste!$A$10:$D$159,4),\"\")","v":""}]
[null,null,null,{"$f":"IF(C776>0,VLOOKUP(C776,Liste!$A$10:$D$159,4),\"\")","v":""}]
[null,null,null,{"$f":"IF(C777>0,VLOOKUP(C777,Liste!$A$10:$D$159,4),\"\")","v":""}]
[null,null,null,{"$f":"IF(C778>0,VLOOKUP(C778,Liste!$A$10:$D$159,4),\"\")","v":""}]
[null,null,null,{"$f":"IF(C779>0,VLOOKUP(C779,Liste!$A$10:$D$159,4),\"\")","v":""}]
[null,null,null,{"$f":"IF(C780>0,VLOOKUP(C780,Liste!$A$10:$D$159,4),\"\")","v":""}]
[null,null,null,{"$f":"IF(C781>0,VLOOKUP(C781,Liste!$A$10:$D$159,4),\"\")","v":""}]
[null,null,null,{"$f":"IF(C782>0,VLOOKUP(C782,Liste!$A$10:$D$159,4),\"\")","v":""}]
[null,null,null,{"$f":"IF(C783>0,VLOOKUP(C783,Liste!$A$10:$D$159,4),\"\")","v":""}]
[null,null,null,{"$f":"IF(C784>0,VLOOKUP(C784,Liste!$A$10:$D$159,4),\"\")","v":""}]
[null,null,null,{"$f":"IF(C785>0,VLOOKUP(C785,Liste!$A$10:$D$159,4),\"\")","v":""}]
[null,null,null,{"$f":"IF(C786>0,VLOOKUP(C786,Liste!$A$10:$D$159,4),\"\")","v":""}]
[null,null,null,{"$f":"IF(C787>0,VLOOKUP(C787,Liste!$A$10:$D$159,4),\"\")","v":""}]
[null,null,null,{"$f":"IF(C788>0,VLOOKUP(C788,Liste!$A$10:$D$159,4),\"\")","v":""}]
[null,null,null,{"$f":"IF(C789>0,VLOOKUP(C789,Liste!$A$10:$D$159,4),\"\")","v":""}]
[null,null,null,{"$f":"IF(C790>0,VLOOKUP(C790,Liste!$A$10:$D$159,4),\"\")","v":""}]
[null,null,null,{"$f":"IF(C791>0,VLOOKUP(C791,Liste!$A$10:$D$159,4),\"\")","v":""}]
[null,null,null,{"$f":"IF(C792>0,VLOOKUP(C792,Liste!$A$10:$D$159,4),\"\")","v":""}]
[null,null,null,{"$f":"IF(C793>0,VLOOKUP(C793,Liste!$A$10:$D$159,4),\"\")","v":""}]
[null,null,null,{"$f":"IF(C794>0,VLOOKUP(C794,Liste!$A$10:$D$159,4),\"\")","v":""}]
[null,null,null,{"$f":"IF(C795>0,VLOOKUP(C795,Liste!$A$10:$D$159,4),\"\")","v":""}]
[null,null,null,{"$f":"IF(C796>0,VLOOKUP(C796,Liste!$A$10:$D$159,4),\"\")","v":""}]
[null,null,null,{"$f":"IF(C797>0,VLOOKUP(C797,Liste!$A$10:$D$159,4),\"\")","v":""}]
[null,null,null,{"$f":"IF(C798>0,VLOOKUP(C798,Liste!$A$10:$D$159,4),\"\")","v":""}]
[null,null,null,{"$f":"IF(C799>0,VLOOKUP(C799,Liste!$A$10:$D$159,4),\"\")","v":""}]
[null,null,null,{"$f":"IF(C800>0,VLOOKUP(C800,Liste!$A$10:$D$159,4),\"\")","v":""}]
[null,null,null,{"$f":"IF(C801>0,VLOOKUP(C801,Liste!$A$10:$D$159,4),\"\")","v":""}]
[null,null,null,{"$f":"IF(C802>0,VLOOKUP(C802,Liste!$A$10:$D$159,4),\"\")","v":""}]
[null,null,null,{"$f":"IF(C803>0,VLOOKUP(C803,Liste!$A$10:$D$159,4),\"\")","v":""}]
[null,null,null,{"$f":"IF(C804>0,VLOOKUP(C804,Liste!$A$10:$D$159,4),\"\")","v":""}]
[null,null,null,{"$f":"IF(C805>0,VLOOKUP(C805,Liste!$A$10:$D$159,4),\"\")","v":""}]
[null,null,null,{"$f":"IF(C806>0,VLOOKUP(C806,Liste!$A$10:$D$159,4),\"\")","v":""}]
[null,null,null,{"$f":"IF(C807>0,VLOOKUP(C807,Liste!$A$10:$D$159,4),\"\")","v":""}]
[null,null,null,{"$f":"IF(C808>0,VLOOKUP(C808,Liste!$A$10:$D$159,4),\"\")","v":""}]
[null,null,null,{"$f":"IF(C809>0,VLOOKUP(C809,Liste!$A$10:$D$159,4),\"\")","v":""}]
[null,null,null,{"$f":"IF(C810>0,VLOOKUP(C810,Liste!$A$10:$D$159,4),\"\")","v":""}]
[null,null,null,{"$f":"IF(C811>0,VLOOKUP(C811,Liste!$A$10:$D$159,4),\"\")","v":""}]
[null,null,null,{"$f":"IF(C812>0,VLOOKUP(C812,Liste!$A$10:$D$159,4),\"\")","v":""}]
[null,null,null,{"$f":"IF(C813>0,VLOOKUP(C813,Liste!$A$10:$D$159,4),\"\")","v":""}]
[null,null,null,{"$f":"IF(C814>0,VLOOKUP(C814,Liste!$A$10:$D$159,4),\"\")","v":""}]
[null,null,null,{"$f":"IF(C815>0,VLOOKUP(C815,Liste!$A$10:$D$159,4),\"\")","v":""}]
[null,null,null,{"$f":"IF(C816>0,VLOOKUP(C816,Liste!$A$10:$D$159,4),\"\")","v":""}]
[null,null,null,{"$f":"IF(C817>0,VLOOKUP(C817,Liste!$A$10:$D$159,4),\"\")","v":""}]
[null,null,null,{"$f":"IF(C818>0,VLOOKUP(C818,Liste!$A$10:$D$159,4),\"\")","v":""}]
[null,null,null,{"$f":"IF(C819>0,VLOOKUP(C819,Liste!$A$10:$D$159,4),\"\")","v":""}]
[null,null,null,{"$f":"IF(C820>0,VLOOKUP(C820,Liste!$A$10:$D$159,4),\"\")","v":""}]
[null,null,null,{"$f":"IF(C821>0,VLOOKUP(C821,Liste!$A$10:$D$159,4),\"\")","v":""}]
[null,null,null,{"$f":"IF(C822>0,VLOOKUP(C822,Liste!$A$10:$D$159,4),\"\")","v":""}]
[null,null,null,{"$f":"IF(C823>0,VLOOKUP(C823,Liste!$A$10:$D$159,4),\"\")","v":""}]
[null,null,null,{"$f":"IF(C824>0,VLOOKUP(C824,Liste!$A$10:$D$159,4),\"\")","v":""}]
[null,null,null,{"$f":"IF(C825>0,VLOOKUP(C825,Liste!$A$10:$D$159,4),\"\")","v":""}]
[null,null,null,{"$f":"IF(C826>0,VLOOKUP(C826,Liste!$A$10:$D$159,4),\"\")","v":""}]
[null,null,null,{"$f":"IF(C827>0,VLOOKUP(C827,Liste!$A$10:$D$159,4),\"\")","v":""}]
[null,null,null,{"$f":"IF(C828>0,VLOOKUP(C828,Liste!$A$10:$D$159,4),\"\")","v":""}]
[null,null,null,{"$f":"IF(C829>0,VLOOKUP(C829,Liste!$A$10:$D$159,4),\"\")","v":""}]
[null,null,null,{"$f":"IF(C830>0,VLOOKUP(C830,Liste!$A$10:$D$159,4),\"\")","v":""}]
[null,null,null,{"$f":"IF(C831>0,VLOOKUP(C831,Liste!$A$10:$D$159,4),\"\")","v":""}]
[null,null,null,{"$f":"IF(C832>0,VLOOKUP(C832,Liste!$A$10:$D$159,4),\"\")","v":""}]
[null,null,null,{"$f":"IF(C833>0,VLOOKUP(C833,Liste!$A$10:$D$159,4),\"\")","v":""}]
[null,null,null,{"$f":"IF(C834>0,VLOOKUP(C834,Liste!$A$10:$D$159,4),\"\")","v":""}]
[null,null,null,{"$f":"IF(C835>0,VLOOKUP(C835,Liste!$A$10:$D$159,4),\"\")","v":""}]
[null,null,null,{"$f":"IF(C836>0,VLOOKUP(C836,Liste!$A$10:$D$159,4),\"\")","v":""}]
[null,null,null,{"$f":"IF(C837>0,VLOOKUP(C837,Liste!$A$10:$D$159,4),\"\")","v":""}]
[null,null,null,{"$f":"IF(C838>0,VLOOKUP(C838,Liste!$A$10:$D$159,4),\"\")","v":""}]
[null,null,null,{"$f":"IF(C839>0,VLOOKUP(C839,Liste!$A$10:$D$159,4),\"\")","v":""}]
[null,null,null,{"$f":"IF(C840>0,VLOOKUP(C840,Liste!$A$10:$D$159,4),\"\")","v":""}]
[null,null,null,{"$f":"IF(C841>0,VLOOKUP(C841,Liste!$A$10:$D$159,4),\"\")","v":""}]
[null,null,null,{"$f":"IF(C842>0,VLOOKUP(C842,Liste!$A$10:$D$159,4),\"\")","v":""}]
[null,null,null,{"$f":"IF(C843>0,VLOOKUP(C843,Liste!$A$10:$D$159,4),\"\")","v":""}]
[null,null,null,{"$f":"IF(C844>0,VLOOKUP(C844,Liste!$A$10:$D$159,4),\"\")","v":""}]
[null,null,null,{"$f":"IF(C845>0,VLOOKUP(C845,Liste!$A$10:$D$159,4),\"\")","v":""}]
[null,null,null,{"$f":"IF(C846>0,VLOOKUP(C846,Liste!$A$10:$D$159,4),\"\")","v":""}]
[null,null,null,{"$f":"IF(C847>0,VLOOKUP(C847,Liste!$A$10:$D$159,4),\"\")","v":""}]
[null,null,null,{"$f":"IF(C848>0,VLOOKUP(C848,Liste!$A$10:$D$159,4),\"\")","v":""}]
[null,null,null,{"$f":"IF(C849>0,VLOOKUP(C849,Liste!$A$10:$D$159,4),\"\")","v":""}]
[null,null,null,{"$f":"IF(C850>0,VLOOKUP(C850,Liste!$A$10:$D$159,4),\"\")","v":""}]
[null,null,null,{"$f":"IF(C851>0,VLOOKUP(C851,Liste!$A$10:$D$159,4),\"\")","v":""}]
[null,null,null,{"$f":"IF(C852>0,VLOOKUP(C852,Liste!$A$10:$D$159,4),\"\")","v":""}]
[null,null,null,{"$f":"IF(C853>0,VLOOKUP(C853,Liste!$A$10:$D$159,4),\"\")","v":""}]
[null,null,null,{"$f":"IF(C854>0,VLOOKUP(C854,Liste!$A$10:$D$159,4),\"\")","v":""}]
[null,null,null,{"$f":"IF(C855>0,VLOOKUP(C855,Liste!$A$10:$D$159,4),\"\")","v":""}]
[null,null,null,{"$f":"IF(C856>0,VLOOKUP(C856,Liste!$A$10:$D$159,4),\"\")","v":""}]
[null,null,null,{"$f":"IF(C857>0,VLOOKUP(C857,Liste!$A$10:$D$159,4),\"\")","v":""}]
[null,null,null,{"$f":"IF(C858>0,VLOOKUP(C858,Liste!$A$10:$D$159,4),\"\")","v":""}]
[null,null,null,{"$f":"IF(C859>0,VLOOKUP(C859,Liste!$A$10:$D$159,4),\"\")","v":""}]
[null,null,null,{"$f":"IF(C860>0,VLOOKUP(C860,Liste!$A$10:$D$159,4),\"\")","v":""}]
[null,null,null,{"$f":"IF(C861>0,VLOOKUP(C861,Liste!$A$10:$D$159,4),\"\")","v":""}]
[null,null,null,{"$f":"IF(C862>0,VLOOKUP(C862,Liste!$A$10:$D$159,4),\"\")","v":""}]
[null,null,null,{"$f":"IF(C863>0,VLOOKUP(C863,Liste!$A$10:$D$159,4),\"\")","v":""}]
[null,null,null,{"$f":"IF(C864>0,VLOOKUP(C864,Liste!$A$10:$D$159,4),\"\")","v":""}]
[null,null,null,{"$f":"IF(C865>0,VLOOKUP(C865,Liste!$A$10:$D$159,4),\"\")","v":""}]
[null,null,null,{"$f":"IF(C866>0,VLOOKUP(C866,Liste!$A$10:$D$159,4),\"\")","v":""}]
[null,null,null,{"$f":"IF(C867>0,VLOOKUP(C867,Liste!$A$10:$D$159,4),\"\")","v":""}]
[null,null,null,{"$f":"IF(C868>0,VLOOKUP(C868,Liste!$A$10:$D$159,4),\"\")","v":""}]
[null,null,null,{"$f":"IF(C869>0,VLOOKUP(C869,Liste!$A$10:$D$159,4),\"\")","v":""}]
[null,null,null,{"$f":"IF(C870>0,VLOOKUP(C870,Liste!$A$10:$D$159,4),\"\")","v":""}]
[null,null,null,{"$f":"IF(C871>0,VLOOKUP(C871,Liste!$A$10:$D$159,4),\"\")","v":""}]
[null,null,null,{"$f":"IF(C872>0,VLOOKUP(C872,Liste!$A$10:$D$159,4),\"\")","v":""}]
[null,null,null,{"$f":"IF(C873>0,VLOOKUP(C873,Liste!$A$10:$D$159,4),\"\")","v":""}]
[null,null,null,{"$f":"IF(C874>0,VLOOKUP(C874,Liste!$A$10:$D$159,4),\"\")","v":""}]
[null,null,null,{"$f":"IF(C875>0,VLOOKUP(C875,Liste!$A$10:$D$159,4),\"\")","v":""}]
[null,null,null,{"$f":"IF(C876>0,VLOOKUP(C876,Liste!$A$10:$D$159,4),\"\")","v":""}]
[null,null,null,{"$f":"IF(C877>0,VLOOKUP(C877,Liste!$A$10:$D$159,4),\"\")","v":""}]
[null,null,null,{"$f":"IF(C878>0,VLOOKUP(C878,Liste!$A$10:$D$159,4),\"\")","v":""}]
[null,null,null,{"$f":"IF(C879>0,VLOOKUP(C879,Liste!$A$10:$D$159,4),\"\")","v":""}]
[null,null,null,{"$f":"IF(C880>0,VLOOKUP(C880,Liste!$A$10:$D$159,4),\"\")","v":""}]
[null,null,null,{"$f":"IF(C881>0,VLOOKUP(C881,Liste!$A$10:$D$159,4),\"\")","v":""}]
[null,null,null,{"$f":"IF(C882>0,VLOOKUP(C882,Liste!$A$10:$D$159,4),\"\")","v":""}]
[null,null,null,{"$f":"IF(C883>0,VLOOKUP(C883,Liste!$A$10:$D$159,4),\"\")","v":""}]
[null,null,null,{"$f":"IF(C884>0,VLOOKUP(C884,Liste!$A$10:$D$159,4),\"\")","v":""}]
[null,null,null,{"$f":"IF(C885>0,VLOOKUP(C885,Liste!$A$10:$D$159,4),\"\")","v":""}]
[null,null,null,{"$f":"IF(C886>0,VLOOKUP(C886,Liste!$A$10:$D$159,4),\"\")","v":""}]
[null,null,null,{"$f":"IF(C887>0,VLOOKUP(C887,Liste!$A$10:$D$159,4),\"\")","v":""}]
[null,null,null,{"$f":"IF(C888>0,VLOOKUP(C888,Liste!$A$10:$D$159,4),\"\")","v":""}]
[null,null,null,{"$f":"IF(C889>0,VLOOKUP(C889,Liste!$A$10:$D$159,4),\"\")","v":""}]
[null,null,null,{"$f":"IF(C890>0,VLOOKUP(C890,Liste!$A$10:$D$159,4),\"\")","v":""}]
[null,null,null,{"$f":"IF(C891>0,VLOOKUP(C891,Liste!$A$10:$D$159,4),\"\")","v":""}]
[null,null,null,{"$f":"IF(C892>0,VLOOKUP(C892,Liste!$A$10:$D$159,4),\"\")","v":""}]
[null,null,null,{"$f":"IF(C893>0,VLOOKUP(C893,Liste!$A$10:$D$159,4),\"\")","v":""}]
[null,null,null,{"$f":"IF(C894>0,VLOOKUP(C894,Liste!$A$10:$D$159,4),\"\")","v":""}]
[null,null,null,{"$f":"IF(C895>0,VLOOKUP(C895,Liste!$A$10:$D$159,4),\"\")","v":""}]
[null,null,null,{"$f":"IF(C896>0,VLOOKUP(C896,Liste!$A$10:$D$159,4),\"\")","v":""}]
[null,null,null,{"$f":"IF(C897>0,VLOOKUP(C897,Liste!$A$10:$D$159,4),\"\")","v":""}]
[null,null,null,{"$f":"IF(C898>0,VLOOKUP(C898,Liste!$A$10:$D$159,4),\"\")","v":""}]
[null,null,null,{"$f":"IF(C899>0,VLOOKUP(C899,Liste!$A$10:$D$159,4),\"\")","v":""}]
[null,null,null,{"$f":"IF(C900>0,VLOOKUP(C900,Liste!$A$10:$D$159,4),\"\")","v":""}]
[null,null,null,{"$f":"IF(C901>0,VLOOKUP(C901,Liste!$A$10:$D$159,4),\"\")","v":""}]
[null,null,null,{"$f":"IF(C902>0,VLOOKUP(C902,Liste!$A$10:$D$159,4),\"\")","v":""}]
[null,null,null,{"$f":"IF(C903>0,VLOOKUP(C903,Liste!$A$10:$D$159,4),\"\")","v":""}]
[null,null,null,{"$f":"IF(C904>0,VLOOKUP(C904,Liste!$A$10:$D$159,4),\"\")","v":""}]
[null,null,null,{"$f":"IF(C905>0,VLOOKUP(C905,Liste!$A$10:$D$159,4),\"\")","v":""}]
[null,null,null,{"$f":"IF(C906>0,VLOOKUP(C906,Liste!$A$10:$D$159,4),\"\")","v":""}]
[null,null,null,{"$f":"IF(C907>0,VLOOKUP(C907,Liste!$A$10:$D$159,4),\"\")","v":""}]
[null,null,null,{"$f":"IF(C908>0,VLOOKUP(C908,Liste!$A$10:$D$159,4),\"\")","v":""}]
[null,null,null,{"$f":"IF(C909>0,VLOOKUP(C909,Liste!$A$10:$D$159,4),\"\")","v":""}]
[null,null,null,{"$f":"IF(C910>0,VLOOKUP(C910,Liste!$A$10:$D$159,4),\"\")","v":""}]
[null,null,null,{"$f":"IF(C911>0,VLOOKUP(C911,Liste!$A$10:$D$159,4),\"\")","v":""}]
[null,null,null,{"$f":"IF(C912>0,VLOOKUP(C912,Liste!$A$10:$D$159,4),\"\")","v":""}]
[null,null,null,{"$f":"IF(C913>0,VLOOKUP(C913,Liste!$A$10:$D$159,4),\"\")","v":""}]
[null,null,null,{"$f":"IF(C914>0,VLOOKUP(C914,Liste!$A$10:$D$159,4),\"\")","v":""}]
[null,null,null,{"$f":"IF(C915>0,VLOOKUP(C915,Liste!$A$10:$D$159,4),\"\")","v":""}]
[null,null,null,{"$f":"IF(C916>0,VLOOKUP(C916,Liste!$A$10:$D$159,4),\"\")","v":""}]
[null,null,null,{"$f":"IF(C917>0,VLOOKUP(C917,Liste!$A$10:$D$159,4),\"\")","v":""}]
[null,null,null,{"$f":"IF(C918>0,VLOOKUP(C918,Liste!$A$10:$D$159,4),\"\")","v":""}]
[null,null,null,{"$f":"IF(C919>0,VLOOKUP(C919,Liste!$A$10:$D$159,4),\"\")","v":""}]
[null,null,null,{"$f":"IF(C920>0,VLOOKUP(C920,Liste!$A$10:$D$159,4),\"\")","v":""}]
[null,null,null,{"$f":"IF(C921>0,VLOOKUP(C921,Liste!$A$10:$D$159,4),\"\")","v":""}]
[null,null,null,{"$f":"IF(C922>0,VLOOKUP(C922,Liste!$A$10:$D$159,4),\"\")","v":""}]
[null,null,null,{"$f":"IF(C923>0,VLOOKUP(C923,Liste!$A$10:$D$159,4),\"\")","v":""}]
[null,null,null,{"$f":"IF(C924>0,VLOOKUP(C924,Liste!$A$10:$D$159,4),\"\")","v":""}]
[null,null,null,{"$f":"IF(C925>0,VLOOKUP(C925,Liste!$A$10:$D$159,4),\"\")","v":""}]
[null,null,null,{"$f":"IF(C926>0,VLOOKUP(C926,Liste!$A$10:$D$159,4),\"\")","v":""}]
[null,null,null,{"$f":"IF(C927>0,VLOOKUP(C927,Liste!$A$10:$D$159,4),\"\")","v":""}]
[null,null,null,{"$f":"IF(C928>0,VLOOKUP(C928,Liste!$A$10:$D$159,4),\"\")","v":""}]
[null,null,null,{"$f":"IF(C929>0,VLOOKUP(C929,Liste!$A$10:$D$159,4),\"\")","v":""}]
[null,null,null,{"$f":"IF(C930>0,VLOOKUP(C930,Liste!$A$10:$D$159,4),\"\")","v":""}]
[null,null,null,{"$f":"IF(C931>0,VLOOKUP(C931,Liste!$A$10:$D$159,4),\"\")","v":""}]
[null,null,null,{"$f":"IF(C932>0,VLOOKUP(C932,Liste!$A$10:$D$159,4),\"\")","v":""}]
[null,null,null,{"$f":"IF(C933>0,VLOOKUP(C933,Liste!$A$10:$D$159,4),\"\")","v":""}]
[null,null,null,{"$f":"IF(C934>0,VLOOKUP(C934,Liste!$A$10:$D$159,4),\"\")","v":""}]
[null,null,null,{"$f":"IF(C935>0,VLOOKUP(C935,Liste!$A$10:$D$159,4),\"\")","v":""}]
[null,null,null,{"$f":"IF(C936>0,VLOOKUP(C936,Liste!$A$10:$D$159,4),\"\")","v":""}]
[null,null,null,{"$f":"IF(C937>0,VLOOKUP(C937,Liste!$A$10:$D$159,4),\"\")","v":""}]
[null,null,null,{"$f":"IF(C938>0,VLOOKUP(C938,Liste!$A$10:$D$159,4),\"\")","v":""}]
[null,null,null,{"$f":"IF(C939>0,VLOOKUP(C939,Liste!$A$10:$D$159,4),\"\")","v":""}]
[null,null,null,{"$f":"IF(C940>0,VLOOKUP(C940,Liste!$A$10:$D$159,4),\"\")","v":""}]
[null,null,null,{"$f":"IF(C941>0,VLOOKUP(C941,Liste!$A$10:$D$159,4),\"\")","v":""}]
[null,null,null,{"$f":"IF(C942>0,VLOOKUP(C942,Liste!$A$10:$D$159,4),\"\")","v":""}]
[null,null,null,{"$f":"IF(C943>0,VLOOKUP(C943,Liste!$A$10:$D$159,4),\"\")","v":""}]
[null,null,null,{"$f":"IF(C944>0,VLOOKUP(C944,Liste!$A$10:$D$159,4),\"\")","v":""}]
[null,null,null,{"$f":"IF(C945>0,VLOOKUP(C945,Liste!$A$10:$D$159,4),\"\")","v":""}]
[null,null,null,{"$f":"IF(C946>0,VLOOKUP(C946,Liste!$A$10:$D$159,4),\"\")","v":""}]
[null,null,null,{"$f":"IF(C947>0,VLOOKUP(C947,Liste!$A$10:$D$159,4),\"\")","v":""}]
[null,null,null,{"$f":"IF(C948>0,VLOOKUP(C948,Liste!$A$10:$D$159,4),\"\")","v":""}]
[null,null,null,{"$f":"IF(C949>0,VLOOKUP(C949,Liste!$A$10:$D$159,4),\"\")","v":""}]
[null,null,null,{"$f":"IF(C950>0,VLOOKUP(C950,Liste!$A$10:$D$159,4),\"\")","v":""}]
[null,null,null,{"$f":"IF(C951>0,VLOOKUP(C951,Liste!$A$10:$D$159,4),\"\")","v":""}]
[null,null,null,{"$f":"IF(C952>0,VLOOKUP(C952,Liste!$A$10:$D$159,4),\"\")","v":""}]
[null,null,null,{"$f":"IF(C953>0,VLOOKUP(C953,Liste!$A$10:$D$159,4),\"\")","v":""}]
[null,null,null,{"$f":"IF(C954>0,VLOOKUP(C954,Liste!$A$10:$D$159,4),\"\")","v":""}]
[null,null,null,{"$f":"IF(C955>0,VLOOKUP(C955,Liste!$A$10:$D$159,4),\"\")","v":""}]
[null,null,null,{"$f":"IF(C956>0,VLOOKUP(C956,Liste!$A$10:$D$159,4),\"\")","v":""}]
[null,null,null,{"$f":"IF(C957>0,VLOOKUP(C957,Liste!$A$10:$D$159,4),\"\")","v":""}]
[null,null,null,{"$f":"IF(C958>0,VLOOKUP(C958,Liste!$A$10:$D$159,4),\"\")","v":""}]
[null,null,null,{"$f":"IF(C959>0,VLOOKUP(C959,Liste!$A$10:$D$159,4),\"\")","v":""}]
[null,null,null,{"$f":"IF(C960>0,VLOOKUP(C960,Liste!$A$10:$D$159,4),\"\")","v":""}]
[null,null,null,{"$f":"IF(C961>0,VLOOKUP(C961,Liste!$A$10:$D$159,4),\"\")","v":""}]
[null,null,null,{"$f":"IF(C962>0,VLOOKUP(C962,Liste!$A$10:$D$159,4),\"\")","v":""}]
[null,null,null,{"$f":"IF(C963>0,VLOOKUP(C963,Liste!$A$10:$D$159,4),\"\")","v":""}]
[null,null,null,{"$f":"IF(C964>0,VLOOKUP(C964,Liste!$A$10:$D$159,4),\"\")","v":""}]
[null,null,null,{"$f":"IF(C965>0,VLOOKUP(C965,Liste!$A$10:$D$159,4),\"\")","v":""}]
[null,null,null,{"$f":"IF(C966>0,VLOOKUP(C966,Liste!$A$10:$D$159,4),\"\")","v":""}]
[null,null,null,{"$f":"IF(C967>0,VLOOKUP(C967,Liste!$A$10:$D$159,4),\"\")","v":""}]
[null,null,null,{"$f":"IF(C968>0,VLOOKUP(C968,Liste!$A$10:$D$159,4),\"\")","v":""}]
[null,null,null,{"$f":"IF(C969>0,VLOOKUP(C969,Liste!$A$10:$D$159,4),\"\")","v":""}]
[null,null,null,{"$f":"IF(C970>0,VLOOKUP(C970,Liste!$A$10:$D$159,4),\"\")","v":""}]
[null,null,null,{"$f":"IF(C971>0,VLOOKUP(C971,Liste!$A$10:$D$159,4),\"\")","v":""}]
[null,null,null,{"$f":"IF(C972>0,VLOOKUP(C972,Liste!$A$10:$D$159,4),\"\")","v":""}]
[null,null,null,{"$f":"IF(C973>0,VLOOKUP(C973,Liste!$A$10:$D$159,4),\"\")","v":""}]
[null,null,null,{"$f":"IF(C974>0,VLOOKUP(C974,Liste!$A$10:$D$159,4),\"\")","v":""}]
[null,null,null,{"$f":"IF(C975>0,VLOOKUP(C975,Liste!$A$10:$D$159,4),\"\")","v":""}]
[null,null,null,{"$f":"IF(C976>0,VLOOKUP(C976,Liste!$A$10:$D$159,4),\"\")","v":""}]
[null,null,null,{"$f":"IF(C977>0,VLOOKUP(C977,Liste!$A$10:$D$159,4),\"\")","v":""}]
[null,null,null,{"$f":"IF(C978>0,VLOOKUP(C978,Liste!$A$10:$D$159,4),\"\")","v":""}]
[null,null,null,{"$f":"IF(C979>0,VLOOKUP(C979,Liste!$A$10:$D$159,4),\"\")","v":""}]
[null,null,null,{"$f":"IF(C980>0,VLOOKUP(C980,Liste!$A$10:$D$159,4),\"\")","v":""}]
[null,null,null,{"$f":"IF(C981>0,VLOOKUP(C981,Liste!$A$10:$D$159,4),\"\")","v":""}]
[null,null,null,{"$f":"IF(C982>0,VLOOKUP(C982,Liste!$A$10:$D$159,4),\"\")","v":""}]
[null,null,null,{"$f":"IF(C983>0,VLOOKUP(C983,Liste!$A$10:$D$159,4),\"\")","v":""}]
[null,null,null,{"$f":"IF(C984>0,VLOOKUP(C984,Liste!$A$10:$D$159,4),\"\")","v":""}]
[null,null,null,{"$f":"IF(C985>0,VLOOKUP(C985,Liste!$A$10:$D$159,4),\"\")","v":""}]
[null,null,null,{"$f":"IF(C986>0,VLOOKUP(C986,Liste!$A$10:$D$159,4),\"\")","v":""}]
[null,null,null,{"$f":"IF(C987>0,VLOOKUP(C987,Liste!$A$10:$D$159,4),\"\")","v":""}]
[null,null,null,{"$f":"IF(C988>0,VLOOKUP(C988,Liste!$A$10:$D$159,4),\"\")","v":""}]
[null,null,null,{"$f":"IF(C989>0,VLOOKUP(C989,Liste!$A$10:$D$159,4),\"\")","v":""}]
[null,null,null,{"$f":"IF(C990>0,VLOOKUP(C990,Liste!$A$10:$D$159,4),\"\")","v":""}]
[null,null,null,{"$f":"IF(C991>0,VLOOKUP(C991,Liste!$A$10:$D$159,4),\"\")","v":""}]
[null,null,null,{"$f":"IF(C992>0,VLOOKUP(C992,Liste!$A$10:$D$159,4),\"\")","v":""}]
[null,null,null,{"$f":"IF(C993>0,VLOOKUP(C993,Liste!$A$10:$D$159,4),\"\")","v":""}]
[null,null,null,{"$f":"IF(C994>0,VLOOKUP(C994,Liste!$A$10:$D$159,4),\"\")","v":""}]
[null,null,null,{"$f":"IF(C995>0,VLOOKUP(C995,Liste!$A$10:$D$159,4),\"\")","v":""}]
[null,null,null,{"$f":"IF(C996>0,VLOOKUP(C996,Liste!$A$10:$D$159,4),\"\")","v":""}]
[null,null,null,{"$f":"IF(C997>0,VLOOKUP(C997,Liste!$A$10:$D$159,4),\"\")","v":""}]
[null,null,null,{"$f":"IF(C998>0,VLOOKUP(C998,Liste!$A$10:$D$159,4),\"\")","v":""}]
[null,null,null,{"$f":"IF(C999>0,VLOOKUP(C999,Liste!$A$10:$D$159,4),\"\")","v":""}]
[null,null,null,{"$f":"IF(C1000>0,VLOOKUP(C1000,Liste!$A$10:$D$159,4),\"\")","v":""}]
[null,null,null,{"$f":"IF(C1001>0,VLOOKUP(C1001,Liste!$A$10:$D$159,4),\"\")","v":""}]
[null,null,null,{"$f":"IF(C1002>0,VLOOKUP(C1002,Liste!$A$10:$D$159,4),\"\")","v":""}]
[null,null,null,{"$f":"IF(C1003>0,VLOOKUP(C1003,Liste!$A$10:$D$159,4),\"\")","v":""}]
[null,null,null,{"$f":"IF(C1004>0,VLOOKUP(C1004,Liste!$A$10:$D$159,4),\"\")","v":""}]
[null,null,null,{"$f":"IF(C1005>0,VLOOKUP(C1005,Liste!$A$10:$D$159,4),\"\")","v":""}]
[null,null,null,{"$f":"IF(C1006>0,VLOOKUP(C1006,Liste!$A$10:$D$159,4),\"\")","v":""}]
[null,null,null,{"$f":"IF(C1007>0,VLOOKUP(C1007,Liste!$A$10:$D$159,4),\"\")","v":""}]
[null,null,null,{"$f":"IF(C1008>0,VLOOKUP(C1008,Liste!$A$10:$D$159,4),\"\")","v":""}]
[null,null,null,{"$f":"IF(C1009>0,VLOOKUP(C1009,Liste!$A$10:$D$159,4),\"\")","v":""}]
[null,null,null,{"$f":"IF(C1010>0,VLOOKUP(C1010,Liste!$A$10:$D$159,4),\"\")","v":""}]
[null,null,null,{"$f":"IF(C1011>0,VLOOKUP(C1011,Liste!$A$10:$D$159,4),\"\")","v":""}]
[null,null,null,{"$f":"IF(C1012>0,VLOOKUP(C1012,Liste!$A$10:$D$159,4),\"\")","v":""}]
[null,null,null,{"$f":"IF(C1013>0,VLOOKUP(C1013,Liste!$A$10:$D$159,4),\"\")","v":""}]
[null,null,null,{"$f":"IF(C1014>0,VLOOKUP(C1014,Liste!$A$10:$D$159,4),\"\")","v":""}]
[null,null,null,{"$f":"IF(C1015>0,VLOOKUP(C1015,Liste!$A$10:$D$159,4),\"\")","v":""}]
[null,null,null,{"$f":"IF(C1016>0,VLOOKUP(C1016,Liste!$A$10:$D$159,4),\"\")","v":""}]
[null,null,null,{"$f":"IF(C1017>0,VLOOKUP(C1017,Liste!$A$10:$D$159,4),\"\")","v":""}]
[null,null,null,{"$f":"IF(C1018>0,VLOOKUP(C1018,Liste!$A$10:$D$159,4),\"\")","v":""}]
[null,null,null,{"$f":"IF(C1019>0,VLOOKUP(C1019,Liste!$A$10:$D$159,4),\"\")","v":""}]
[null,null,null,{"$f":"IF(C1020>0,VLOOKUP(C1020,Liste!$A$10:$D$159,4),\"\")","v":""}]
[null,null,null,{"$f":"IF(C1021>0,VLOOKUP(C1021,Liste!$A$10:$D$159,4),\"\")","v":""}]
[null,null,null,{"$f":"IF(C1022>0,VLOOKUP(C1022,Liste!$A$10:$D$159,4),\"\")","v":""}]
[null,null,null,{"$f":"IF(C1023>0,VLOOKUP(C1023,Liste!$A$10:$D$159,4),\"\")","v":""}]
[null,null,null,{"$f":"IF(C1024>0,VLOOKUP(C1024,Liste!$A$10:$D$159,4),\"\")","v":""}]
[null,null,null,{"$f":"IF(C1025>0,VLOOKUP(C1025,Liste!$A$10:$D$159,4),\"\")","v":""}]
[null,null,null,{"$f":"IF(C1026>0,VLOOKUP(C1026,Liste!$A$10:$D$159,4),\"\")","v":""}]
[null,null,null,{"$f":"IF(C1027>0,VLOOKUP(C1027,Liste!$A$10:$D$159,4),\"\")","v":""}]
[null,null,null,{"$f":"IF(C1028>0,VLOOKUP(C1028,Liste!$A$10:$D$159,4),\"\")","v":""}]
[null,null,null,{"$f":"IF(C1029>0,VLOOKUP(C1029,Liste!$A$10:$D$159,4),\"\")","v":""}]
[null,null,null,{"$f":"IF(C1030>0,VLOOKUP(C1030,Liste!$A$10:$D$159,4),\"\")","v":""}]
[null,null,null,{"$f":"IF(C1031>0,VLOOKUP(C1031,Liste!$A$10:$D$159,4),\"\")","v":""}]
[null,null,null,{"$f":"IF(C1032>0,VLOOKUP(C1032,Liste!$A$10:$D$159,4),\"\")","v":""}]
[null,null,null,{"$f":"IF(C1033>0,VLOOKUP(C1033,Liste!$A$10:$D$159,4),\"\")","v":""}]
[null,null,null,{"$f":"IF(C1034>0,VLOOKUP(C1034,Liste!$A$10:$D$159,4),\"\")","v":""}]
[null,null,null,{"$f":"IF(C1035>0,VLOOKUP(C1035,Liste!$A$10:$D$159,4),\"\")","v":""}]
[null,null,null,{"$f":"IF(C1036>0,VLOOKUP(C1036,Liste!$A$10:$D$159,4),\"\")","v":""}]
[null,null,null,{"$f":"IF(C1037>0,VLOOKUP(C1037,Liste!$A$10:$D$159,4),\"\")","v":""}]
[null,null,null,{"$f":"IF(C1038>0,VLOOKUP(C1038,Liste!$A$10:$D$159,4),\"\")","v":""}]
[null,null,null,{"$f":"IF(C1039>0,VLOOKUP(C1039,Liste!$A$10:$D$159,4),\"\")","v":""}]
[null,null,null,{"$f":"IF(C1040>0,VLOOKUP(C1040,Liste!$A$10:$D$159,4),\"\")","v":""}]
[null,null,null,{"$f":"IF(C1041>0,VLOOKUP(C1041,Liste!$A$10:$D$159,4),\"\")","v":""}]
[null,null,null,{"$f":"IF(C1042>0,VLOOKUP(C1042,Liste!$A$10:$D$159,4),\"\")","v":""}]
[null,null,null,{"$f":"IF(C1043>0,VLOOKUP(C1043,Liste!$A$10:$D$159,4),\"\")","v":""}]
[null,null,null,{"$f":"IF(C1044>0,VLOOKUP(C1044,Liste!$A$10:$D$159,4),\"\")","v":""}]
[null,null,null,{"$f":"IF(C1045>0,VLOOKUP(C1045,Liste!$A$10:$D$159,4),\"\")","v":""}]
[null,null,null,{"$f":"IF(C1046>0,VLOOKUP(C1046,Liste!$A$10:$D$159,4),\"\")","v":""}]
[null,null,null,{"$f":"IF(C1047>0,VLOOKUP(C1047,Liste!$A$10:$D$159,4),\"\")","v":""}]
[null,null,null,{"$f":"IF(C1048>0,VLOOKUP(C1048,Liste!$A$10:$D$159,4),\"\")","v":""}]
[null,null,null,{"$f":"IF(C1049>0,VLOOKUP(C1049,Liste!$A$10:$D$159,4),\"\")","v":""}]
[null,null,null,{"$f":"IF(C1050>0,VLOOKUP(C1050,Liste!$A$10:$D$159,4),\"\")","v":""}]
[null,null,null,{"$f":"IF(C1051>0,VLOOKUP(C1051,Liste!$A$10:$D$159,4),\"\")","v":""}]
[null,null,null,{"$f":"IF(C1052>0,VLOOKUP(C1052,Liste!$A$10:$D$159,4),\"\")","v":""}]
[null,null,null,{"$f":"IF(C1053>0,VLOOKUP(C1053,Liste!$A$10:$D$159,4),\"\")","v":""}]
[null,null,null,{"$f":"IF(C1054>0,VLOOKUP(C1054,Liste!$A$10:$D$159,4),\"\")","v":""}]
[null,null,null,{"$f":"IF(C1055>0,VLOOKUP(C1055,Liste!$A$10:$D$159,4),\"\")","v":""}]
[null,null,null,{"$f":"IF(C1056>0,VLOOKUP(C1056,Liste!$A$10:$D$159,4),\"\")","v":""}]
[null,null,null,{"$f":"IF(C1057>0,VLOOKUP(C1057,Liste!$A$10:$D$159,4),\"\")","v":""}]
[null,null,null,{"$f":"IF(C1058>0,VLOOKUP(C1058,Liste!$A$10:$D$159,4),\"\")","v":""}]
[null,null,null,{"$f":"IF(C1059>0,VLOOKUP(C1059,Liste!$A$10:$D$159,4),\"\")","v":""}]
[null,null,null,{"$f":"IF(C1060>0,VLOOKUP(C1060,Liste!$A$10:$D$159,4),\"\")","v":""}]
[null,null,null,{"$f":"IF(C1061>0,VLOOKUP(C1061,Liste!$A$10:$D$159,4),\"\")","v":""}]
[null,null,null,{"$f":"IF(C1062>0,VLOOKUP(C1062,Liste!$A$10:$D$159,4),\"\")","v":""}]
[null,null,null,{"$f":"IF(C1063>0,VLOOKUP(C1063,Liste!$A$10:$D$159,4),\"\")","v":""}]
[null,null,null,{"$f":"IF(C1064>0,VLOOKUP(C1064,Liste!$A$10:$D$159,4),\"\")","v":""}]
[null,null,null,{"$f":"IF(C1065>0,VLOOKUP(C1065,Liste!$A$10:$D$159,4),\"\")","v":""}]
[null,null,null,{"$f":"IF(C1066>0,VLOOKUP(C1066,Liste!$A$10:$D$159,4),\"\")","v":""}]
[null,null,null,{"$f":"IF(C1067>0,VLOOKUP(C1067,Liste!$A$10:$D$159,4),\"\")","v":""}]
[null,null,null,{"$f":"IF(C1068>0,VLOOKUP(C1068,Liste!$A$10:$D$159,4),\"\")","v":""}]
[null,null,null,{"$f":"IF(C1069>0,VLOOKUP(C1069,Liste!$A$10:$D$159,4),\"\")","v":""}]
[null,null,null,{"$f":"IF(C1070>0,VLOOKUP(C1070,Liste!$A$10:$D$159,4),\"\")","v":""}]
[null,null,null,{"$f":"IF(C1071>0,VLOOKUP(C1071,Liste!$A$10:$D$159,4),\"\")","v":""}]
[null,null,null,{"$f":"IF(C1072>0,VLOOKUP(C1072,Liste!$A$10:$D$159,4),\"\")","v":""}]
[null,null,null,{"$f":"IF(C1073>0,VLOOKUP(C1073,Liste!$A$10:$D$159,4),\"\")","v":""}]
[null,null,null,{"$f":"IF(C1074>0,VLOOKUP(C1074,Liste!$A$10:$D$159,4),\"\")","v":""}]
[null,null,null,{"$f":"IF(C1075>0,VLOOKUP(C1075,Liste!$A$10:$D$159,4),\"\")","v":""}]
[null,null,null,{"$f":"IF(C1076>0,VLOOKUP(C1076,Liste!$A$10:$D$159,4),\"\")","v":""}]
[null,null,null,{"$f":"IF(C1077>0,VLOOKUP(C1077,Liste!$A$10:$D$159,4),\"\")","v":""}]
[null,null,null,{"$f":"IF(C1078>0,VLOOKUP(C1078,Liste!$A$10:$D$159,4),\"\")","v":""}]
[null,null,null,{"$f":"IF(C1079>0,VLOOKUP(C1079,Liste!$A$10:$D$159,4),\"\")","v":""}]
[null,null,null,{"$f":"IF(C1080>0,VLOOKUP(C1080,Liste!$A$10:$D$159,4),\"\")","v":""}]
[null,null,null,{"$f":"IF(C1081>0,VLOOKUP(C1081,Liste!$A$10:$D$159,4),\"\")","v":""}]
[null,null,null,{"$f":"IF(C1082>0,VLOOKUP(C1082,Liste!$A$10:$D$159,4),\"\")","v":""}]
[null,null,null,{"$f":"IF(C1083>0,VLOOKUP(C1083,Liste!$A$10:$D$159,4),\"\")","v":""}]
[null,null,null,{"$f":"IF(C1084>0,VLOOKUP(C1084,Liste!$A$10:$D$159,4),\"\")","v":""}]
[null,null,null,{"$f":"IF(C1085>0,VLOOKUP(C1085,Liste!$A$10:$D$159,4),\"\")","v":""}]
[null,null,null,{"$f":"IF(C1086>0,VLOOKUP(C1086,Liste!$A$10:$D$159,4),\"\")","v":""}]
[null,null,null,{"$f":"IF(C1087>0,VLOOKUP(C1087,Liste!$A$10:$D$159,4),\"\")","v":""}]
[null,null,null,{"$f":"IF(C1088>0,VLOOKUP(C1088,Liste!$A$10:$D$159,4),\"\")","v":""}]
[null,null,null,{"$f":"IF(C1089>0,VLOOKUP(C1089,Liste!$A$10:$D$159,4),\"\")","v":""}]
[null,null,null,{"$f":"IF(C1090>0,VLOOKUP(C1090,Liste!$A$10:$D$159,4),\"\")","v":""}]
[null,null,null,{"$f":"IF(C1091>0,VLOOKUP(C1091,Liste!$A$10:$D$159,4),\"\")","v":""}]
[null,null,null,{"$f":"IF(C1092>0,VLOOKUP(C1092,Liste!$A$10:$D$159,4),\"\")","v":""}]
[null,null,null,{"$f":"IF(C1093>0,VLOOKUP(C1093,Liste!$A$10:$D$159,4),\"\")","v":""}]
[null,null,null,{"$f":"IF(C1094>0,VLOOKUP(C1094,Liste!$A$10:$D$159,4),\"\")","v":""}]
[null,null,null,{"$f":"IF(C1095>0,VLOOKUP(C1095,Liste!$A$10:$D$159,4),\"\")","v":""}]
[null,null,null,{"$f":"IF(C1096>0,VLOOKUP(C1096,Liste!$A$10:$D$159,4),\"\")","v":""}]
[null,null,null,{"$f":"IF(C1097>0,VLOOKUP(C1097,Liste!$A$10:$D$159,4),\"\")","v":""}]
[null,null,null,{"$f":"IF(C1098>0,VLOOKUP(C1098,Liste!$A$10:$D$159,4),\"\")","v":""}]
[null,null,null,{"$f":"IF(C1099>0,VLOOKUP(C1099,Liste!$A$10:$D$159,4),\"\")","v":""}]
[null,null,null,{"$f":"IF(C1100>0,VLOOKUP(C1100,Liste!$A$10:$D$159,4),\"\")","v":""}]
[null,null,null,{"$f":"IF(C1101>0,VLOOKUP(C1101,Liste!$A$10:$D$159,4),\"\")","v":""}]
[null,null,null,{"$f":"IF(C1102>0,VLOOKUP(C1102,Liste!$A$10:$D$159,4),\"\")","v":""}]
[null,null,null,{"$f":"IF(C1103>0,VLOOKUP(C1103,Liste!$A$10:$D$159,4),\"\")","v":""}]
[null,null,null,{"$f":"IF(C1104>0,VLOOKUP(C1104,Liste!$A$10:$D$159,4),\"\")","v":""}]
[null,null,null,{"$f":"IF(C1105>0,VLOOKUP(C1105,Liste!$A$10:$D$159,4),\"\")","v":""}]
[null,null,null,{"$f":"IF(C1106>0,VLOOKUP(C1106,Liste!$A$10:$D$159,4),\"\")","v":""}]
[null,null,null,{"$f":"IF(C1107>0,VLOOKUP(C1107,Liste!$A$10:$D$159,4),\"\")","v":""}]
[null,null,null,{"$f":"IF(C1108>0,VLOOKUP(C1108,Liste!$A$10:$D$159,4),\"\")","v":""}]
[null,null,null,{"$f":"IF(C1109>0,VLOOKUP(C1109,Liste!$A$10:$D$159,4),\"\")","v":""}]
[null,null,null,{"$f":"IF(C1110>0,VLOOKUP(C1110,Liste!$A$10:$D$159,4),\"\")","v":""}]
[null,null,null,{"$f":"IF(C1111>0,VLOOKUP(C1111,Liste!$A$10:$D$159,4),\"\")","v":""}]
[null,null,null,{"$f":"IF(C1112>0,VLOOKUP(C1112,Liste!$A$10:$D$159,4),\"\")","v":""}]
[null,null,null,{"$f":"IF(C1113>0,VLOOKUP(C1113,Liste!$A$10:$D$159,4),\"\")","v":""}]
[null,null,null,{"$f":"IF(C1114>0,VLOOKUP(C1114,Liste!$A$10:$D$159,4),\"\")","v":""}]
[null,null,null,{"$f":"IF(C1115>0,VLOOKUP(C1115,Liste!$A$10:$D$159,4),\"\")","v":""}]
[null,null,null,{"$f":"IF(C1116>0,VLOOKUP(C1116,Liste!$A$10:$D$159,4),\"\")","v":""}]
[null,null,null,{"$f":"IF(C1117>0,VLOOKUP(C1117,Liste!$A$10:$D$159,4),\"\")","v":""}]
[null,null,null,{"$f":"IF(C1118>0,VLOOKUP(C1118,Liste!$A$10:$D$159,4),\"\")","v":""}]
[null,null,null,{"$f":"IF(C1119>0,VLOOKUP(C1119,Liste!$A$10:$D$159,4),\"\")","v":""}]
[null,null,null,{"$f":"IF(C1120>0,VLOOKUP(C1120,Liste!$A$10:$D$159,4),\"\")","v":""}]
[null,null,null,{"$f":"IF(C1121>0,VLOOKUP(C1121,Liste!$A$10:$D$159,4),\"\")","v":""}]
[null,null,null,{"$f":"IF(C1122>0,VLOOKUP(C1122,Liste!$A$10:$D$159,4),\"\")","v":""}]
[null,null,null,{"$f":"IF(C1123>0,VLOOKUP(C1123,Liste!$A$10:$D$159,4),\"\")","v":""}]
[null,null,null,{"$f":"IF(C1124>0,VLOOKUP(C1124,Liste!$A$10:$D$159,4),\"\")","v":""}]
[null,null,null,{"$f":"IF(C1125>0,VLOOKUP(C1125,Liste!$A$10:$D$159,4),\"\")","v":""}]
[null,null,null,{"$f":"IF(C1126>0,VLOOKUP(C1126,Liste!$A$10:$D$159,4),\"\")","v":""}]
[null,null,null,{"$f":"IF(C1127>0,VLOOKUP(C1127,Liste!$A$10:$D$159,4),\"\")","v":""}]
[null,null,null,{"$f":"IF(C1128>0,VLOOKUP(C1128,Liste!$A$10:$D$159,4),\"\")","v":""}]
[null,null,null,{"$f":"IF(C1129>0,VLOOKUP(C1129,Liste!$A$10:$D$159,4),\"\")","v":""}]
[null,null,null,{"$f":"IF(C1130>0,VLOOKUP(C1130,Liste!$A$10:$D$159,4),\"\")","v":""}]
[null,null,null,{"$f":"IF(C1131>0,VLOOKUP(C1131,Liste!$A$10:$D$159,4),\"\")","v":""}]
[null,null,null,{"$f":"IF(C1132>0,VLOOKUP(C1132,Liste!$A$10:$D$159,4),\"\")","v":""}]
[null,null,null,{"$f":"IF(C1133>0,VLOOKUP(C1133,Liste!$A$10:$D$159,4),\"\")","v":""}]
[null,null,null,{"$f":"IF(C1134>0,VLOOKUP(C1134,Liste!$A$10:$D$159,4),\"\")","v":""}]
[null,null,null,{"$f":"IF(C1135>0,VLOOKUP(C1135,Liste!$A$10:$D$159,4),\"\")","v":""}]
[null,null,null,{"$f":"IF(C1136>0,VLOOKUP(C1136,Liste!$A$10:$D$159,4),\"\")","v":""}]
[null,null,null,{"$f":"IF(C1137>0,VLOOKUP(C1137,Liste!$A$10:$D$159,4),\"\")","v":""}]
[null,null,null,{"$f":"IF(C1138>0,VLOOKUP(C1138,Liste!$A$10:$D$159,4),\"\")","v":""}]
[null,null,null,{"$f":"IF(C1139>0,VLOOKUP(C1139,Liste!$A$10:$D$159,4),\"\")","v":""}]
[null,null,null,{"$f":"IF(C1140>0,VLOOKUP(C1140,Liste!$A$10:$D$159,4),\"\")","v":""}]
[null,null,null,{"$f":"IF(C1141>0,VLOOKUP(C1141,Liste!$A$10:$D$159,4),\"\")","v":""}]
[null,null,null,{"$f":"IF(C1142>0,VLOOKUP(C1142,Liste!$A$10:$D$159,4),\"\")","v":""}]
[null,null,null,{"$f":"IF(C1143>0,VLOOKUP(C1143,Liste!$A$10:$D$159,4),\"\")","v":""}]
[null,null,null,{"$f":"IF(C1144>0,VLOOKUP(C1144,Liste!$A$10:$D$159,4),\"\")","v":""}]
[null,null,null,{"$f":"IF(C1145>0,VLOOKUP(C1145,Liste!$A$10:$D$159,4),\"\")","v":""}]
[null,null,null,{"$f":"IF(C1146>0,VLOOKUP(C1146,Liste!$A$10:$D$159,4),\"\")","v":""}]
[null,null,null,{"$f":"IF(C1147>0,VLOOKUP(C1147,Liste!$A$10:$D$159,4),\"\")","v":""}]
[null,null,null,{"$f":"IF(C1148>0,VLOOKUP(C1148,Liste!$A$10:$D$159,4),\"\")","v":""}]
[null,null,null,{"$f":"IF(C1149>0,VLOOKUP(C1149,Liste!$A$10:$D$159,4),\"\")","v":""}]
[null,null,null,{"$f":"IF(C1150>0,VLOOKUP(C1150,Liste!$A$10:$D$159,4),\"\")","v":""}]
[null,null,null,{"$f":"IF(C1151>0,VLOOKUP(C1151,Liste!$A$10:$D$159,4),\"\")","v":""}]
[null,null,null,{"$f":"IF(C1152>0,VLOOKUP(C1152,Liste!$A$10:$D$159,4),\"\")","v":""}]
[null,null,null,{"$f":"IF(C1153>0,VLOOKUP(C1153,Liste!$A$10:$D$159,4),\"\")","v":""}]
[null,null,null,{"$f":"IF(C1154>0,VLOOKUP(C1154,Liste!$A$10:$D$159,4),\"\")","v":""}]
[null,null,null,{"$f":"IF(C1155>0,VLOOKUP(C1155,Liste!$A$10:$D$159,4),\"\")","v":""}]
[null,null,null,{"$f":"IF(C1156>0,VLOOKUP(C1156,Liste!$A$10:$D$159,4),\"\")","v":""}]
[null,null,null,{"$f":"IF(C1157>0,VLOOKUP(C1157,Liste!$A$10:$D$159,4),\"\")","v":""}]
[null,null,null,{"$f":"IF(C1158>0,VLOOKUP(C1158,Liste!$A$10:$D$159,4),\"\")","v":""}]
[null,null,null,{"$f":"IF(C1159>0,VLOOKUP(C1159,Liste!$A$10:$D$159,4),\"\")","v":""}]
[null,null,null,{"$f":"IF(C1160>0,VLOOKUP(C1160,Liste!$A$10:$D$159,4),\"\")","v":""}]
[null,null,null,{"$f":"IF(C1161>0,VLOOKUP(C1161,Liste!$A$10:$D$159,4),\"\")","v":""}]
[null,null,null,{"$f":"IF(C1162>0,VLOOKUP(C1162,Liste!$A$10:$D$159,4),\"\")","v":""}]
[null,null,null,{"$f":"IF(C1163>0,VLOOKUP(C1163,Liste!$A$10:$D$159,4),\"\")","v":""}]
[null,null,null,{"$f":"IF(C1164>0,VLOOKUP(C1164,Liste!$A$10:$D$159,4),\"\")","v":""}]
[null,null,null,{"$f":"IF(C1165>0,VLOOKUP(C1165,Liste!$A$10:$D$159,4),\"\")","v":""}]
[null,null,null,{"$f":"IF(C1166>0,VLOOKUP(C1166,Liste!$A$10:$D$159,4),\"\")","v":""}]
[null,null,null,{"$f":"IF(C1167>0,VLOOKUP(C1167,Liste!$A$10:$D$159,4),\"\")","v":""}]
[null,null,null,{"$f":"IF(C1168>0,VLOOKUP(C1168,Liste!$A$10:$D$159,4),\"\")","v":""}]
[null,null,null,{"$f":"IF(C1169>0,VLOOKUP(C1169,Liste!$A$10:$D$159,4),\"\")","v":""}]
[null,null,null,{"$f":"IF(C1170>0,VLOOKUP(C1170,Liste!$A$10:$D$159,4),\"\")","v":""}]
[null,null,null,{"$f":"IF(C1171>0,VLOOKUP(C1171,Liste!$A$10:$D$159,4),\"\")","v":""}]
[null,null,null,{"$f":"IF(C1172>0,VLOOKUP(C1172,Liste!$A$10:$D$159,4),\"\")","v":""}]
[null,null,null,{"$f":"IF(C1173>0,VLOOKUP(C1173,Liste!$A$10:$D$159,4),\"\")","v":""}]
[null,null,null,{"$f":"IF(C1174>0,VLOOKUP(C1174,Liste!$A$10:$D$159,4),\"\")","v":""}]
[null,null,null,{"$f":"IF(C1175>0,VLOOKUP(C1175,Liste!$A$10:$D$159,4),\"\")","v":""}]
[null,null,null,{"$f":"IF(C1176>0,VLOOKUP(C1176,Liste!$A$10:$D$159,4),\"\")","v":""}]
[null,null,null,{"$f":"IF(C1177>0,VLOOKUP(C1177,Liste!$A$10:$D$159,4),\"\")","v":""}]
[null,null,null,{"$f":"IF(C1178>0,VLOOKUP(C1178,Liste!$A$10:$D$159,4),\"\")","v":""}]
[null,null,null,{"$f":"IF(C1179>0,VLOOKUP(C1179,Liste!$A$10:$D$159,4),\"\")","v":""}]
[null,null,null,{"$f":"IF(C1180>0,VLOOKUP(C1180,Liste!$A$10:$D$159,4),\"\")","v":""}]
[null,null,null,{"$f":"IF(C1181>0,VLOOKUP(C1181,Liste!$A$10:$D$159,4),\"\")","v":""}]
[null,null,null,{"$f":"IF(C1182>0,VLOOKUP(C1182,Liste!$A$10:$D$159,4),\"\")","v":""}]
[null,null,null,{"$f":"IF(C1183>0,VLOOKUP(C1183,Liste!$A$10:$D$159,4),\"\")","v":""}]
[null,null,null,{"$f":"IF(C1184>0,VLOOKUP(C1184,Liste!$A$10:$D$159,4),\"\")","v":""}]
[null,null,null,{"$f":"IF(C1185>0,VLOOKUP(C1185,Liste!$A$10:$D$159,4),\"\")","v":""}]
[null,null,null,{"$f":"IF(C1186>0,VLOOKUP(C1186,Liste!$A$10:$D$159,4),\"\")","v":""}]
[null,null,null,{"$f":"IF(C1187>0,VLOOKUP(C1187,Liste!$A$10:$D$159,4),\"\")","v":""}]
[null,null,null,{"$f":"IF(C1188>0,VLOOKUP(C1188,Liste!$A$10:$D$159,4),\"\")","v":""}]
[null,null,null,{"$f":"IF(C1189>0,VLOOKUP(C1189,Liste!$A$10:$D$159,4),\"\")","v":""}]
[null,null,null,{"$f":"IF(C1190>0,VLOOKUP(C1190,Liste!$A$10:$D$159,4),\"\")","v":""}]
[null,null,null,{"$f":"IF(C1191>0,VLOOKUP(C1191,Liste!$A$10:$D$159,4),\"\")","v":""}]
[null,null,null,{"$f":"IF(C1192>0,VLOOKUP(C1192,Liste!$A$10:$D$159,4),\"\")","v":""}]
[null,null,null,{"$f":"IF(C1193>0,VLOOKUP(C1193,Liste!$A$10:$D$159,4),\"\")","v":""}]
[null,null,null,{"$f":"IF(C1194>0,VLOOKUP(C1194,Liste!$A$10:$D$159,4),\"\")","v":""}]
[null,null,null,{"$f":"IF(C1195>0,VLOOKUP(C1195,Liste!$A$10:$D$159,4),\"\")","v":""}]
[null,null,null,{"$f":"IF(C1196>0,VLOOKUP(C1196,Liste!$A$10:$D$159,4),\"\")","v":""}]
[null,null,null,{"$f":"IF(C1197>0,VLOOKUP(C1197,Liste!$A$10:$D$159,4),\"\")","v":""}]
[null,null,null,{"$f":"IF(C1198>0,VLOOKUP(C1198,Liste!$A$10:$D$159,4),\"\")","v":""}]
[null,null,null,{"$f":"IF(C1199>0,VLOOKUP(C1199,Liste!$A$10:$D$159,4),\"\")","v":""}]
[null,null,null,{"$f":"IF(C1200>0,VLOOKUP(C1200,Liste!$A$10:$D$159,4),\"\")","v":""}]
[null,null,null,{"$f":"IF(C1201>0,VLOOKUP(C1201,Liste!$A$10:$D$159,4),\"\")","v":""}]
[null,null,null,{"$f":"IF(C1202>0,VLOOKUP(C1202,Liste!$A$10:$D$159,4),\"\")","v":""}]
[null,null,null,{"$f":"IF(C1203>0,VLOOKUP(C1203,Liste!$A$10:$D$159,4),\"\")","v":""}]
[null,null,null,{"$f":"IF(C1204>0,VLOOKUP(C1204,Liste!$A$10:$D$159,4),\"\")","v":""}]
[null,null,null,{"$f":"IF(C1205>0,VLOOKUP(C1205,Liste!$A$10:$D$159,4),\"\")","v":""}]
[null,null,null,{"$f":"IF(C1206>0,VLOOKUP(C1206,Liste!$A$10:$D$159,4),\"\")","v":""}]
[null,null,null,{"$f":"IF(C1207>0,VLOOKUP(C1207,Liste!$A$10:$D$159,4),\"\")","v":""}]
[null,null,null,{"$f":"IF(C1208>0,VLOOKUP(C1208,Liste!$A$10:$D$159,4),\"\")","v":""}]
[null,null,null,{"$f":"IF(C1209>0,VLOOKUP(C1209,Liste!$A$10:$D$159,4),\"\")","v":""}]
[null,null,null,{"$f":"IF(C1210>0,VLOOKUP(C1210,Liste!$A$10:$D$159,4),\"\")","v":""}]
[null,null,null,{"$f":"IF(C1211>0,VLOOKUP(C1211,Liste!$A$10:$D$159,4),\"\")","v":""}]
[null,null,null,{"$f":"IF(C1212>0,VLOOKUP(C1212,Liste!$A$10:$D$159,4),\"\")","v":""}]
[null,null,null,{"$f":"IF(C1213>0,VLOOKUP(C1213,Liste!$A$10:$D$159,4),\"\")","v":""}]
[null,null,null,{"$f":"IF(C1214>0,VLOOKUP(C1214,Liste!$A$10:$D$159,4),\"\")","v":""}]
[null,null,null,{"$f":"IF(C1215>0,VLOOKUP(C1215,Liste!$A$10:$D$159,4),\"\")","v":""}]
[null,null,null,{"$f":"IF(C1216>0,VLOOKUP(C1216,Liste!$A$10:$D$159,4),\"\")","v":""}]
[null,null,null,{"$f":"IF(C1217>0,VLOOKUP(C1217,Liste!$A$10:$D$159,4),\"\")","v":""}]
[null,null,null,{"$f":"IF(C1218>0,VLOOKUP(C1218,Liste!$A$10:$D$159,4),\"\")","v":""}]
[null,null,null,{"$f":"IF(C1219>0,VLOOKUP(C1219,Liste!$A$10:$D$159,4),\"\")","v":""}]
[null,null,null,{"$f":"IF(C1220>0,VLOOKUP(C1220,Liste!$A$10:$D$159,4),\"\")","v":""}]
[null,null,null,{"$f":"IF(C1221>0,VLOOKUP(C1221,Liste!$A$10:$D$159,4),\"\")","v":""}]
[null,null,null,{"$f":"IF(C1222>0,VLOOKUP(C1222,Liste!$A$10:$D$159,4),\"\")","v":""}]
[null,null,null,{"$f":"IF(C1223>0,VLOOKUP(C1223,Liste!$A$10:$D$159,4),\"\")","v":""}]
[null,null,null,{"$f":"IF(C1224>0,VLOOKUP(C1224,Liste!$A$10:$D$159,4),\"\")","v":""}]
[null,null,null,{"$f":"IF(C1225>0,VLOOKUP(C1225,Liste!$A$10:$D$159,4),\"\")","v":""}]
[null,null,null,{"$f":"IF(C1226>0,VLOOKUP(C1226,Liste!$A$10:$D$159,4),\"\")","v":""}]
[null,null,null,{"$f":"IF(C1227>0,VLOOKUP(C1227,Liste!$A$10:$D$159,4),\"\")","v":""}]
[null,null,null,{"$f":"IF(C1228>0,VLOOKUP(C1228,Liste!$A$10:$D$159,4),\"\")","v":""}]
[null,null,null,{"$f":"IF(C1229>0,VLOOKUP(C1229,Liste!$A$10:$D$159,4),\"\")","v":""}]
[null,null,null,{"$f":"IF(C1230>0,VLOOKUP(C1230,Liste!$A$10:$D$159,4),\"\")","v":""}]
[null,null,null,{"$f":"IF(C1231>0,VLOOKUP(C1231,Liste!$A$10:$D$159,4),\"\")","v":""}]
[null,null,null,{"$f":"IF(C1232>0,VLOOKUP(C1232,Liste!$A$10:$D$159,4),\"\")","v":""}]
[null,null,null,{"$f":"IF(C1233>0,VLOOKUP(C1233,Liste!$A$10:$D$159,4),\"\")","v":""}]
[null,null,null,{"$f":"IF(C1234>0,VLOOKUP(C1234,Liste!$A$10:$D$159,4),\"\")","v":""}]
[null,null,null,{"$f":"IF(C1235>0,VLOOKUP(C1235,Liste!$A$10:$D$159,4),\"\")","v":""}]
[null,null,null,{"$f":"IF(C1236>0,VLOOKUP(C1236,Liste!$A$10:$D$159,4),\"\")","v":""}]
[null,null,null,{"$f":"IF(C1237>0,VLOOKUP(C1237,Liste!$A$10:$D$159,4),\"\")","v":""}]
[null,null,null,{"$f":"IF(C1238>0,VLOOKUP(C1238,Liste!$A$10:$D$159,4),\"\")","v":""}]
[null,null,null,{"$f":"IF(C1239>0,VLOOKUP(C1239,Liste!$A$10:$D$159,4),\"\")","v":""}]
[null,null,null,{"$f":"IF(C1240>0,VLOOKUP(C1240,Liste!$A$10:$D$159,4),\"\")","v":""}]
[null,null,null,{"$f":"IF(C1241>0,VLOOKUP(C1241,Liste!$A$10:$D$159,4),\"\")","v":""}]
[null,null,null,{"$f":"IF(C1242>0,VLOOKUP(C1242,Liste!$A$10:$D$159,4),\"\")","v":""}]
[null,null,null,{"$f":"IF(C1243>0,VLOOKUP(C1243,Liste!$A$10:$D$159,4),\"\")","v":""}]
[null,null,null,{"$f":"IF(C1244>0,VLOOKUP(C1244,Liste!$A$10:$D$159,4),\"\")","v":""}]
[null,null,null,{"$f":"IF(C1245>0,VLOOKUP(C1245,Liste!$A$10:$D$159,4),\"\")","v":""}]
[null,null,null,{"$f":"IF(C1246>0,VLOOKUP(C1246,Liste!$A$10:$D$159,4),\"\")","v":""}]
[null,null,null,{"$f":"IF(C1247>0,VLOOKUP(C1247,Liste!$A$10:$D$159,4),\"\")","v":""}]
[null,null,null,{"$f":"IF(C1248>0,VLOOKUP(C1248,Liste!$A$10:$D$159,4),\"\")","v":""}]
[null,null,null,{"$f":"IF(C1249>0,VLOOKUP(C1249,Liste!$A$10:$D$159,4),\"\")","v":""}]
[null,null,null,{"$f":"IF(C1250>0,VLOOKUP(C1250,Liste!$A$10:$D$159,4),\"\")","v":""}]
[null,null,null,{"$f":"IF(C1251>0,VLOOKUP(C1251,Liste!$A$10:$D$159,4),\"\")","v":""}]
[null,null,null,{"$f":"IF(C1252>0,VLOOKUP(C1252,Liste!$A$10:$D$159,4),\"\")","v":""}]
[null,null,null,{"$f":"IF(C1253>0,VLOOKUP(C1253,Liste!$A$10:$D$159,4),\"\")","v":""}]
[null,null,null,{"$f":"IF(C1254>0,VLOOKUP(C1254,Liste!$A$10:$D$159,4),\"\")","v":""}]
[null,null,null,{"$f":"IF(C1255>0,VLOOKUP(C1255,Liste!$A$10:$D$159,4),\"\")","v":""}]
[null,null,null,{"$f":"IF(C1256>0,VLOOKUP(C1256,Liste!$A$10:$D$159,4),\"\")","v":""}]
[null,null,null,{"$f":"IF(C1257>0,VLOOKUP(C1257,Liste!$A$10:$D$159,4),\"\")","v":""}]
[null,null,null,{"$f":"IF(C1258>0,VLOOKUP(C1258,Liste!$A$10:$D$159,4),\"\")","v":""}]
[null,null,null,{"$f":"IF(C1259>0,VLOOKUP(C1259,Liste!$A$10:$D$159,4),\"\")","v":""}]
[null,null,null,{"$f":"IF(C1260>0,VLOOKUP(C1260,Liste!$A$10:$D$159,4),\"\")","v":""}]
[null,null,null,{"$f":"IF(C1261>0,VLOOKUP(C1261,Liste!$A$10:$D$159,4),\"\")","v":""}]
[null,null,null,{"$f":"IF(C1262>0,VLOOKUP(C1262,Liste!$A$10:$D$159,4),\"\")","v":""}]
[null,null,null,{"$f":"IF(C1263>0,VLOOKUP(C1263,Liste!$A$10:$D$159,4),\"\")","v":""}]
[null,null,null,{"$f":"IF(C1264>0,VLOOKUP(C1264,Liste!$A$10:$D$159,4),\"\")","v":""}]
[null,null,null,{"$f":"IF(C1265>0,VLOOKUP(C1265,Liste!$A$10:$D$159,4),\"\")","v":""}]
[null,null,null,{"$f":"IF(C1266>0,VLOOKUP(C1266,Liste!$A$10:$D$159,4),\"\")","v":""}]
[null,null,null,{"$f":"IF(C1267>0,VLOOKUP(C1267,Liste!$A$10:$D$159,4),\"\")","v":""}]
[null,null,null,{"$f":"IF(C1268>0,VLOOKUP(C1268,Liste!$A$10:$D$159,4),\"\")","v":""}]
[null,null,null,{"$f":"IF(C1269>0,VLOOKUP(C1269,Liste!$A$10:$D$159,4),\"\")","v":""}]
[null,null,null,{"$f":"IF(C1270>0,VLOOKUP(C1270,Liste!$A$10:$D$159,4),\"\")","v":""}]
[null,null,null,{"$f":"IF(C1271>0,VLOOKUP(C1271,Liste!$A$10:$D$159,4),\"\")","v":""}]
[null,null,null,{"$f":"IF(C1272>0,VLOOKUP(C1272,Liste!$A$10:$D$159,4),\"\")","v":""}]
[null,null,null,{"$f":"IF(C1273>0,VLOOKUP(C1273,Liste!$A$10:$D$159,4),\"\")","v":""}]
[null,null,null,{"$f":"IF(C1274>0,VLOOKUP(C1274,Liste!$A$10:$D$159,4),\"\")","v":""}]
[null,null,null,{"$f":"IF(C1275>0,VLOOKUP(C1275,Liste!$A$10:$D$159,4),\"\")","v":""}]
[null,null,null,{"$f":"IF(C1276>0,VLOOKUP(C1276,Liste!$A$10:$D$159,4),\"\")","v":""}]
[null,null,null,{"$f":"IF(C1277>0,VLOOKUP(C1277,Liste!$A$10:$D$159,4),\"\")","v":""}]
[null,null,null,{"$f":"IF(C1278>0,VLOOKUP(C1278,Liste!$A$10:$D$159,4),\"\")","v":""}]
[null,null,null,{"$f":"IF(C1279>0,VLOOKUP(C1279,Liste!$A$10:$D$159,4),\"\")","v":""}]
[null,null,null,{"$f":"IF(C1280>0,VLOOKUP(C1280,Liste!$A$10:$D$159,4),\"\")","v":""}]
[null,null,null,{"$f":"IF(C1281>0,VLOOKUP(C1281,Liste!$A$10:$D$159,4),\"\")","v":""}]
[null,null,null,{"$f":"IF(C1282>0,VLOOKUP(C1282,Liste!$A$10:$D$159,4),\"\")","v":""}]
[null,null,null,{"$f":"IF(C1283>0,VLOOKUP(C1283,Liste!$A$10:$D$159,4),\"\")","v":""}]
[null,null,null,{"$f":"IF(C1284>0,VLOOKUP(C1284,Liste!$A$10:$D$159,4),\"\")","v":""}]
[null,null,null,{"$f":"IF(C1285>0,VLOOKUP(C1285,Liste!$A$10:$D$159,4),\"\")","v":""}]
[null,null,null,{"$f":"IF(C1286>0,VLOOKUP(C1286,Liste!$A$10:$D$159,4),\"\")","v":""}]
[null,null,null,{"$f":"IF(C1287>0,VLOOKUP(C1287,Liste!$A$10:$D$159,4),\"\")","v":""}]
[null,null,null,{"$f":"IF(C1288>0,VLOOKUP(C1288,Liste!$A$10:$D$159,4),\"\")","v":""}]
[null,null,null,{"$f":"IF(C1289>0,VLOOKUP(C1289,Liste!$A$10:$D$159,4),\"\")","v":""}]
[null,null,null,{"$f":"IF(C1290>0,VLOOKUP(C1290,Liste!$A$10:$D$159,4),\"\")","v":""}]
[null,null,null,{"$f":"IF(C1291>0,VLOOKUP(C1291,Liste!$A$10:$D$159,4),\"\")","v":""}]
[null,null,null,{"$f":"IF(C1292>0,VLOOKUP(C1292,Liste!$A$10:$D$159,4),\"\")","v":""}]
[null,null,null,{"$f":"IF(C1293>0,VLOOKUP(C1293,Liste!$A$10:$D$159,4),\"\")","v":""}]
[null,null,null,{"$f":"IF(C1294>0,VLOOKUP(C1294,Liste!$A$10:$D$159,4),\"\")","v":""}]
[null,null,null,{"$f":"IF(C1295>0,VLOOKUP(C1295,Liste!$A$10:$D$159,4),\"\")","v":""}]
[null,null,null,{"$f":"IF(C1296>0,VLOOKUP(C1296,Liste!$A$10:$D$159,4),\"\")","v":""}]
[null,null,null,{"$f":"IF(C1297>0,VLOOKUP(C1297,Liste!$A$10:$D$159,4),\"\")","v":""}]
[null,null,null,{"$f":"IF(C1298>0,VLOOKUP(C1298,Liste!$A$10:$D$159,4),\"\")","v":""}]
[null,null,null,{"$f":"IF(C1299>0,VLOOKUP(C1299,Liste!$A$10:$D$159,4),\"\")","v":""}]
[null,null,null,{"$f":"IF(C1300>0,VLOOKUP(C1300,Liste!$A$10:$D$159,4),\"\")","v":""}]
[null,null,null,{"$f":"IF(C1301>0,VLOOKUP(C1301,Liste!$A$10:$D$159,4),\"\")","v":""}]
[null,null,null,{"$f":"IF(C1302>0,VLOOKUP(C1302,Liste!$A$10:$D$159,4),\"\")","v":""}]
[null,null,null,{"$f":"IF(C1303>0,VLOOKUP(C1303,Liste!$A$10:$D$159,4),\"\")","v":""}]
[null,null,null,{"$f":"IF(C1304>0,VLOOKUP(C1304,Liste!$A$10:$D$159,4),\"\")","v":""}]
[null,null,null,{"$f":"IF(C1305>0,VLOOKUP(C1305,Liste!$A$10:$D$159,4),\"\")","v":""}]
[null,null,null,{"$f":"IF(C1306>0,VLOOKUP(C1306,Liste!$A$10:$D$159,4),\"\")","v":""}]
[null,null,null,{"$f":"IF(C1307>0,VLOOKUP(C1307,Liste!$A$10:$D$159,4),\"\")","v":""}]
[null,null,null,{"$f":"IF(C1308>0,VLOOKUP(C1308,Liste!$A$10:$D$159,4),\"\")","v":""}]
[null,null,null,{"$f":"IF(C1309>0,VLOOKUP(C1309,Liste!$A$10:$D$159,4),\"\")","v":""}]
[null,null,null,{"$f":"IF(C1310>0,VLOOKUP(C1310,Liste!$A$10:$D$159,4),\"\")","v":""}]
[null,null,null,{"$f":"IF(C1311>0,VLOOKUP(C1311,Liste!$A$10:$D$159,4),\"\")","v":""}]
[null,null,null,{"$f":"IF(C1312>0,VLOOKUP(C1312,Liste!$A$10:$D$159,4),\"\")","v":""}]
[null,null,null,{"$f":"IF(C1313>0,VLOOKUP(C1313,Liste!$A$10:$D$159,4),\"\")","v":""}]
[null,null,null,{"$f":"IF(C1314>0,VLOOKUP(C1314,Liste!$A$10:$D$159,4),\"\")","v":""}]
[null,null,null,{"$f":"IF(C1315>0,VLOOKUP(C1315,Liste!$A$10:$D$159,4),\"\")","v":""}]
[null,null,null,{"$f":"IF(C1316>0,VLOOKUP(C1316,Liste!$A$10:$D$159,4),\"\")","v":""}]
[null,null,null,{"$f":"IF(C1317>0,VLOOKUP(C1317,Liste!$A$10:$D$159,4),\"\")","v":""}]
[null,null,null,{"$f":"IF(C1318>0,VLOOKUP(C1318,Liste!$A$10:$D$159,4),\"\")","v":""}]
[null,null,null,{"$f":"IF(C1319>0,VLOOKUP(C1319,Liste!$A$10:$D$159,4),\"\")","v":""}]
[null,null,null,{"$f":"IF(C1320>0,VLOOKUP(C1320,Liste!$A$10:$D$159,4),\"\")","v":""}]
[null,null,null,{"$f":"IF(C1321>0,VLOOKUP(C1321,Liste!$A$10:$D$159,4),\"\")","v":""}]
[null,null,null,{"$f":"IF(C1322>0,VLOOKUP(C1322,Liste!$A$10:$D$159,4),\"\")","v":""}]
[null,null,null,{"$f":"IF(C1323>0,VLOOKUP(C1323,Liste!$A$10:$D$159,4),\"\")","v":""}]
[null,null,null,{"$f":"IF(C1324>0,VLOOKUP(C1324,Liste!$A$10:$D$159,4),\"\")","v":""}]
[null,null,null,{"$f":"IF(C1325>0,VLOOKUP(C1325,Liste!$A$10:$D$159,4),\"\")","v":""}]
[null,null,null,{"$f":"IF(C1326>0,VLOOKUP(C1326,Liste!$A$10:$D$159,4),\"\")","v":""}]
[null,null,null,{"$f":"IF(C1327>0,VLOOKUP(C1327,Liste!$A$10:$D$159,4),\"\")","v":""}]
[null,null,null,{"$f":"IF(C1328>0,VLOOKUP(C1328,Liste!$A$10:$D$159,4),\"\")","v":""}]
[null,null,null,{"$f":"IF(C1329>0,VLOOKUP(C1329,Liste!$A$10:$D$159,4),\"\")","v":""}]
[null,null,null,{"$f":"IF(C1330>0,VLOOKUP(C1330,Liste!$A$10:$D$159,4),\"\")","v":""}]
[null,null,null,{"$f":"IF(C1331>0,VLOOKUP(C1331,Liste!$A$10:$D$159,4),\"\")","v":""}]
[null,null,null,{"$f":"IF(C1332>0,VLOOKUP(C1332,Liste!$A$10:$D$159,4),\"\")","v":""}]
[null,null,null,{"$f":"IF(C1333>0,VLOOKUP(C1333,Liste!$A$10:$D$159,4),\"\")","v":""}]
[null,null,null,{"$f":"IF(C1334>0,VLOOKUP(C1334,Liste!$A$10:$D$159,4),\"\")","v":""}]
[null,null,null,{"$f":"IF(C1335>0,VLOOKUP(C1335,Liste!$A$10:$D$159,4),\"\")","v":""}]
[null,null,null,{"$f":"IF(C1336>0,VLOOKUP(C1336,Liste!$A$10:$D$159,4),\"\")","v":""}]
[null,null,null,{"$f":"IF(C1337>0,VLOOKUP(C1337,Liste!$A$10:$D$159,4),\"\")","v":""}]
[null,null,null,{"$f":"IF(C1338>0,VLOOKUP(C1338,Liste!$A$10:$D$159,4),\"\")","v":""}]
[null,null,null,{"$f":"IF(C1339>0,VLOOKUP(C1339,Liste!$A$10:$D$159,4),\"\")","v":""}]
[null,null,null,{"$f":"IF(C1340>0,VLOOKUP(C1340,Liste!$A$10:$D$159,4),\"\")","v":""}]
[null,null,null,{"$f":"IF(C1341>0,VLOOKUP(C1341,Liste!$A$10:$D$159,4),\"\")","v":""}]
[null,null,null,{"$f":"IF(C1342>0,VLOOKUP(C1342,Liste!$A$10:$D$159,4),\"\")","v":""}]
[null,null,null,{"$f":"IF(C1343>0,VLOOKUP(C1343,Liste!$A$10:$D$159,4),\"\")","v":""}]
[null,null,null,{"$f":"IF(C1344>0,VLOOKUP(C1344,Liste!$A$10:$D$159,4),\"\")","v":""}]
[null,null,null,{"$f":"IF(C1345>0,VLOOKUP(C1345,Liste!$A$10:$D$159,4),\"\")","v":""}]
[null,null,null,{"$f":"IF(C1346>0,VLOOKUP(C1346,Liste!$A$10:$D$159,4),\"\")","v":""}]
[null,null,null,{"$f":"IF(C1347>0,VLOOKUP(C1347,Liste!$A$10:$D$159,4),\"\")","v":""}]
[null,null,null,{"$f":"IF(C1348>0,VLOOKUP(C1348,Liste!$A$10:$D$159,4),\"\")","v":""}]
[null,null,null,{"$f":"IF(C1349>0,VLOOKUP(C1349,Liste!$A$10:$D$159,4),\"\")","v":""}]
[null,null,null,{"$f":"IF(C1350>0,VLOOKUP(C1350,Liste!$A$10:$D$159,4),\"\")","v":""}]
[null,null,null,{"$f":"IF(C1351>0,VLOOKUP(C1351,Liste!$A$10:$D$159,4),\"\")","v":""}]
[null,null,null,{"$f":"IF(C1352>0,VLOOKUP(C1352,Liste!$A$10:$D$159,4),\"\")","v":""}]
[null,null,null,{"$f":"IF(C1353>0,VLOOKUP(C1353,Liste!$A$10:$D$159,4),\"\")","v":""}]
[null,null,null,{"$f":"IF(C1354>0,VLOOKUP(C1354,Liste!$A$10:$D$159,4),\"\")","v":""}]
[null,null,null,{"$f":"IF(C1355>0,VLOOKUP(C1355,Liste!$A$10:$D$159,4),\"\")","v":""}]
[null,null,null,{"$f":"IF(C1356>0,VLOOKUP(C1356,Liste!$A$10:$D$159,4),\"\")","v":""}]
[null,null,null,{"$f":"IF(C1357>0,VLOOKUP(C1357,Liste!$A$10:$D$159,4),\"\")","v":""}]
[null,null,null,{"$f":"IF(C1358>0,VLOOKUP(C1358,Liste!$A$10:$D$159,4),\"\")","v":""}]
[null,null,null,{"$f":"IF(C1359>0,VLOOKUP(C1359,Liste!$A$10:$D$159,4),\"\")","v":""}]
[null,null,null,{"$f":"IF(C1360>0,VLOOKUP(C1360,Liste!$A$10:$D$159,4),\"\")","v":""}]
[null,null,null,{"$f":"IF(C1361>0,VLOOKUP(C1361,Liste!$A$10:$D$159,4),\"\")","v":""}]
[null,null,null,{"$f":"IF(C1362>0,VLOOKUP(C1362,Liste!$A$10:$D$159,4),\"\")","v":""}]
[null,null,null,{"$f":"IF(C1363>0,VLOOKUP(C1363,Liste!$A$10:$D$159,4),\"\")","v":""}]
[null,null,null,{"$f":"IF(C1364>0,VLOOKUP(C1364,Liste!$A$10:$D$159,4),\"\")","v":""}]
[null,null,null,{"$f":"IF(C1365>0,VLOOKUP(C1365,Liste!$A$10:$D$159,4),\"\")","v":""}]
[null,null,null,{"$f":"IF(C1366>0,VLOOKUP(C1366,Liste!$A$10:$D$159,4),\"\")","v":""}]
[null,null,null,{"$f":"IF(C1367>0,VLOOKUP(C1367,Liste!$A$10:$D$159,4),\"\")","v":""}]
[null,null,null,{"$f":"IF(C1368>0,VLOOKUP(C1368,Liste!$A$10:$D$159,4),\"\")","v":""}]
[null,null,null,{"$f":"IF(C1369>0,VLOOKUP(C1369,Liste!$A$10:$D$159,4),\"\")","v":""}]
[null,null,null,{"$f":"IF(C1370>0,VLOOKUP(C1370,Liste!$A$10:$D$159,4),\"\")","v":""}]
[null,null,null,{"$f":"IF(C1371>0,VLOOKUP(C1371,Liste!$A$10:$D$159,4),\"\")","v":""}]
[null,null,null,{"$f":"IF(C1372>0,VLOOKUP(C1372,Liste!$A$10:$D$159,4),\"\")","v":""}]
[null,null,null,{"$f":"IF(C1373>0,VLOOKUP(C1373,Liste!$A$10:$D$159,4),\"\")","v":""}]
[null,null,null,{"$f":"IF(C1374>0,VLOOKUP(C1374,Liste!$A$10:$D$159,4),\"\")","v":""}]
[null,null,null,{"$f":"IF(C1375>0,VLOOKUP(C1375,Liste!$A$10:$D$159,4),\"\")","v":""}]
[null,null,null,{"$f":"IF(C1376>0,VLOOKUP(C1376,Liste!$A$10:$D$159,4),\"\")","v":""}]
[null,null,null,{"$f":"IF(C1377>0,VLOOKUP(C1377,Liste!$A$10:$D$159,4),\"\")","v":""}]
[null,null,null,{"$f":"IF(C1378>0,VLOOKUP(C1378,Liste!$A$10:$D$159,4),\"\")","v":""}]
[null,null,null,{"$f":"IF(C1379>0,VLOOKUP(C1379,Liste!$A$10:$D$159,4),\"\")","v":""}]
[null,null,null,{"$f":"IF(C1380>0,VLOOKUP(C1380,Liste!$A$10:$D$159,4),\"\")","v":""}]
[null,null,null,{"$f":"IF(C1381>0,VLOOKUP(C1381,Liste!$A$10:$D$159,4),\"\")","v":""}]
[null,null,null,{"$f":"IF(C1382>0,VLOOKUP(C1382,Liste!$A$10:$D$159,4),\"\")","v":""}]
[null,null,null,{"$f":"IF(C1383>0,VLOOKUP(C1383,Liste!$A$10:$D$159,4),\"\")","v":""}]
[null,null,null,{"$f":"IF(C1384>0,VLOOKUP(C1384,Liste!$A$10:$D$159,4),\"\")","v":""}]
[null,null,null,{"$f":"IF(C1385>0,VLOOKUP(C1385,Liste!$A$10:$D$159,4),\"\")","v":""}]
[null,null,null,{"$f":"IF(C1386>0,VLOOKUP(C1386,Liste!$A$10:$D$159,4),\"\")","v":""}]
[null,null,null,{"$f":"IF(C1387>0,VLOOKUP(C1387,Liste!$A$10:$D$159,4),\"\")","v":""}]
[null,null,null,{"$f":"IF(C1388>0,VLOOKUP(C1388,Liste!$A$10:$D$159,4),\"\")","v":""}]
[null,null,null,{"$f":"IF(C1389>0,VLOOKUP(C1389,Liste!$A$10:$D$159,4),\"\")","v":""}]
[null,null,null,{"$f":"IF(C1390>0,VLOOKUP(C1390,Liste!$A$10:$D$159,4),\"\")","v":""}]
[null,null,null,{"$f":"IF(C1391>0,VLOOKUP(C1391,Liste!$A$10:$D$159,4),\"\")","v":""}]
[null,null,null,{"$f":"IF(C1392>0,VLOOKUP(C1392,Liste!$A$10:$D$159,4),\"\")","v":""}]
[null,null,null,{"$f":"IF(C1393>0,VLOOKUP(C1393,Liste!$A$10:$D$159,4),\"\")","v":""}]
[null,null,null,{"$f":"IF(C1394>0,VLOOKUP(C1394,Liste!$A$10:$D$159,4),\"\")","v":""}]
[null,null,null,{"$f":"IF(C1395>0,VLOOKUP(C1395,Liste!$A$10:$D$159,4),\"\")","v":""}]
[null,null,null,{"$f":"IF(C1396>0,VLOOKUP(C1396,Liste!$A$10:$D$159,4),\"\")","v":""}]
[null,null,null,{"$f":"IF(C1397>0,VLOOKUP(C1397,Liste!$A$10:$D$159,4),\"\")","v":""}]
[null,null,null,{"$f":"IF(C1398>0,VLOOKUP(C1398,Liste!$A$10:$D$159,4),\"\")","v":""}]
[null,null,null,{"$f":"IF(C1399>0,VLOOKUP(C1399,Liste!$A$10:$D$159,4),\"\")","v":""}]
[null,null,null,{"$f":"IF(C1400>0,VLOOKUP(C1400,Liste!$A$10:$D$159,4),\"\")","v":""}]
[null,null,null,{"$f":"IF(C1401>0,VLOOKUP(C1401,Liste!$A$10:$D$159,4),\"\")","v":""}]
[null,null,null,{"$f":"IF(C1402>0,VLOOKUP(C1402,Liste!$A$10:$D$159,4),\"\")","v":""}]
[null,null,null,{"$f":"IF(C1403>0,VLOOKUP(C1403,Liste!$A$10:$D$159,4),\"\")","v":""}]
[null,null,null,{"$f":"IF(C1404>0,VLOOKUP(C1404,Liste!$A$10:$D$159,4),\"\")","v":""}]
[null,null,null,{"$f":"IF(C1405>0,VLOOKUP(C1405,Liste!$A$10:$D$159,4),\"\")","v":""}]
[null,null,null,{"$f":"IF(C1406>0,VLOOKUP(C1406,Liste!$A$10:$D$159,4),\"\")","v":""}]
[null,null,null,{"$f":"IF(C1407>0,VLOOKUP(C1407,Liste!$A$10:$D$159,4),\"\")","v":""}]
[null,null,null,{"$f":"IF(C1408>0,VLOOKUP(C1408,Liste!$A$10:$D$159,4),\"\")","v":""}]
[null,null,null,{"$f":"IF(C1409>0,VLOOKUP(C1409,Liste!$A$10:$D$159,4),\"\")","v":""}]
[null,null,null,{"$f":"IF(C1410>0,VLOOKUP(C1410,Liste!$A$10:$D$159,4),\"\")","v":""}]
[null,null,null,{"$f":"IF(C1411>0,VLOOKUP(C1411,Liste!$A$10:$D$159,4),\"\")","v":""}]
[null,null,null,{"$f":"IF(C1412>0,VLOOKUP(C1412,Liste!$A$10:$D$159,4),\"\")","v":""}]
[null,null,null,{"$f":"IF(C1413>0,VLOOKUP(C1413,Liste!$A$10:$D$159,4),\"\")","v":""}]
[null,null,null,{"$f":"IF(C1414>0,VLOOKUP(C1414,Liste!$A$10:$D$159,4),\"\")","v":""}]
[null,null,null,{"$f":"IF(C1415>0,VLOOKUP(C1415,Liste!$A$10:$D$159,4),\"\")","v":""}]
[null,null,null,{"$f":"IF(C1416>0,VLOOKUP(C1416,Liste!$A$10:$D$159,4),\"\")","v":""}]
[null,null,null,{"$f":"IF(C1417>0,VLOOKUP(C1417,Liste!$A$10:$D$159,4),\"\")","v":""}]
[null,null,null,{"$f":"IF(C1418>0,VLOOKUP(C1418,Liste!$A$10:$D$159,4),\"\")","v":""}]
[null,null,null,{"$f":"IF(C1419>0,VLOOKUP(C1419,Liste!$A$10:$D$159,4),\"\")","v":""}]
[null,null,null,{"$f":"IF(C1420>0,VLOOKUP(C1420,Liste!$A$10:$D$159,4),\"\")","v":""}]
[null,null,null,{"$f":"IF(C1421>0,VLOOKUP(C1421,Liste!$A$10:$D$159,4),\"\")","v":""}]
[null,null,null,{"$f":"IF(C1422>0,VLOOKUP(C1422,Liste!$A$10:$D$159,4),\"\")","v":""}]
[null,null,null,{"$f":"IF(C1423>0,VLOOKUP(C1423,Liste!$A$10:$D$159,4),\"\")","v":""}]
[null,null,null,{"$f":"IF(C1424>0,VLOOKUP(C1424,Liste!$A$10:$D$159,4),\"\")","v":""}]
[null,null,null,{"$f":"IF(C1425>0,VLOOKUP(C1425,Liste!$A$10:$D$159,4),\"\")","v":""}]
[null,null,null,{"$f":"IF(C1426>0,VLOOKUP(C1426,Liste!$A$10:$D$159,4),\"\")","v":""}]
[null,null,null,{"$f":"IF(C1427>0,VLOOKUP(C1427,Liste!$A$10:$D$159,4),\"\")","v":""}]
[null,null,null,{"$f":"IF(C1428>0,VLOOKUP(C1428,Liste!$A$10:$D$159,4),\"\")","v":""}]
[null,null,null,{"$f":"IF(C1429>0,VLOOKUP(C1429,Liste!$A$10:$D$159,4),\"\")","v":""}]
[null,null,null,{"$f":"IF(C1430>0,VLOOKUP(C1430,Liste!$A$10:$D$159,4),\"\")","v":""}]
[null,null,null,{"$f":"IF(C1431>0,VLOOKUP(C1431,Liste!$A$10:$D$159,4),\"\")","v":""}]
[null,null,null,{"$f":"IF(C1432>0,VLOOKUP(C1432,Liste!$A$10:$D$159,4),\"\")","v":""}]
[null,null,null,{"$f":"IF(C1433>0,VLOOKUP(C1433,Liste!$A$10:$D$159,4),\"\")","v":""}]
[null,null,null,{"$f":"IF(C1434>0,VLOOKUP(C1434,Liste!$A$10:$D$159,4),\"\")","v":""}]
[null,null,null,{"$f":"IF(C1435>0,VLOOKUP(C1435,Liste!$A$10:$D$159,4),\"\")","v":""}]
[null,null,null,{"$f":"IF(C1436>0,VLOOKUP(C1436,Liste!$A$10:$D$159,4),\"\")","v":""}]
[null,null,null,{"$f":"IF(C1437>0,VLOOKUP(C1437,Liste!$A$10:$D$159,4),\"\")","v":""}]
[null,null,null,{"$f":"IF(C1438>0,VLOOKUP(C1438,Liste!$A$10:$D$159,4),\"\")","v":""}]
[null,null,null,{"$f":"IF(C1439>0,VLOOKUP(C1439,Liste!$A$10:$D$159,4),\"\")","v":""}]
[null,null,null,{"$f":"IF(C1440>0,VLOOKUP(C1440,Liste!$A$10:$D$159,4),\"\")","v":""}]
[null,null,null,{"$f":"IF(C1441>0,VLOOKUP(C1441,Liste!$A$10:$D$159,4),\"\")","v":""}]
[null,null,null,{"$f":"IF(C1442>0,VLOOKUP(C1442,Liste!$A$10:$D$159,4),\"\")","v":""}]
[null,null,null,{"$f":"IF(C1443>0,VLOOKUP(C1443,Liste!$A$10:$D$159,4),\"\")","v":""}]
[null,null,null,{"$f":"IF(C1444>0,VLOOKUP(C1444,Liste!$A$10:$D$159,4),\"\")","v":""}]
[null,null,null,{"$f":"IF(C1445>0,VLOOKUP(C1445,Liste!$A$10:$D$159,4),\"\")","v":""}]
[null,null,null,{"$f":"IF(C1446>0,VLOOKUP(C1446,Liste!$A$10:$D$159,4),\"\")","v":""}]
[null,null,null,{"$f":"IF(C1447>0,VLOOKUP(C1447,Liste!$A$10:$D$159,4),\"\")","v":""}]
[null,null,null,{"$f":"IF(C1448>0,VLOOKUP(C1448,Liste!$A$10:$D$159,4),\"\")","v":""}]
[null,null,null,{"$f":"IF(C1449>0,VLOOKUP(C1449,Liste!$A$10:$D$159,4),\"\")","v":""}]
[null,null,null,{"$f":"IF(C1450>0,VLOOKUP(C1450,Liste!$A$10:$D$159,4),\"\")","v":""}]
[null,null,null,{"$f":"IF(C1451>0,VLOOKUP(C1451,Liste!$A$10:$D$159,4),\"\")","v":""}]
[null,null,null,{"$f":"IF(C1452>0,VLOOKUP(C1452,Liste!$A$10:$D$159,4),\"\")","v":""}]
[null,null,null,{"$f":"IF(C1453>0,VLOOKUP(C1453,Liste!$A$10:$D$159,4),\"\")","v":""}]
[null,null,null,{"$f":"IF(C1454>0,VLOOKUP(C1454,Liste!$A$10:$D$159,4),\"\")","v":""}]
[null,null,null,{"$f":"IF(C1455>0,VLOOKUP(C1455,Liste!$A$10:$D$159,4),\"\")","v":""}]
[null,null,null,{"$f":"IF(C1456>0,VLOOKUP(C1456,Liste!$A$10:$D$159,4),\"\")","v":""}]
[null,null,null,{"$f":"IF(C1457>0,VLOOKUP(C1457,Liste!$A$10:$D$159,4),\"\")","v":""}]
[null,null,null,{"$f":"IF(C1458>0,VLOOKUP(C1458,Liste!$A$10:$D$159,4),\"\")","v":""}]
[null,null,null,{"$f":"IF(C1459>0,VLOOKUP(C1459,Liste!$A$10:$D$159,4),\"\")","v":""}]
[null,null,null,{"$f":"IF(C1460>0,VLOOKUP(C1460,Liste!$A$10:$D$159,4),\"\")","v":""}]
[null,null,null,{"$f":"IF(C1461>0,VLOOKUP(C1461,Liste!$A$10:$D$159,4),\"\")","v":""}]
[null,null,null,{"$f":"IF(C1462>0,VLOOKUP(C1462,Liste!$A$10:$D$159,4),\"\")","v":""}]
[null,null,null,{"$f":"IF(C1463>0,VLOOKUP(C1463,Liste!$A$10:$D$159,4),\"\")","v":""}]
[null,null,null,{"$f":"IF(C1464>0,VLOOKUP(C1464,Liste!$A$10:$D$159,4),\"\")","v":""}]
[null,null,null,{"$f":"IF(C1465>0,VLOOKUP(C1465,Liste!$A$10:$D$159,4),\"\")","v":""}]
[null,null,null,{"$f":"IF(C1466>0,VLOOKUP(C1466,Liste!$A$10:$D$159,4),\"\")","v":""}]
[null,null,null,{"$f":"IF(C1467>0,VLOOKUP(C1467,Liste!$A$10:$D$159,4),\"\")","v":""}]
[null,null,null,{"$f":"IF(C1468>0,VLOOKUP(C1468,Liste!$A$10:$D$159,4),\"\")","v":""}]
[null,null,null,{"$f":"IF(C1469>0,VLOOKUP(C1469,Liste!$A$10:$D$159,4),\"\")","v":""}]
[null,null,null,{"$f":"IF(C1470>0,VLOOKUP(C1470,Liste!$A$10:$D$159,4),\"\")","v":""}]
[null,null,null,{"$f":"IF(C1471>0,VLOOKUP(C1471,Liste!$A$10:$D$159,4),\"\")","v":""}]
[null,null,null,{"$f":"IF(C1472>0,VLOOKUP(C1472,Liste!$A$10:$D$159,4),\"\")","v":""}]
[null,null,null,{"$f":"IF(C1473>0,VLOOKUP(C1473,Liste!$A$10:$D$159,4),\"\")","v":""}]
[null,null,null,{"$f":"IF(C1474>0,VLOOKUP(C1474,Liste!$A$10:$D$159,4),\"\")","v":""}]
[null,null,null,{"$f":"IF(C1475>0,VLOOKUP(C1475,Liste!$A$10:$D$159,4),\"\")","v":""}]
[null,null,null,{"$f":"IF(C1476>0,VLOOKUP(C1476,Liste!$A$10:$D$159,4),\"\")","v":""}]
[null,null,null,{"$f":"IF(C1477>0,VLOOKUP(C1477,Liste!$A$10:$D$159,4),\"\")","v":""}]
[null,null,null,{"$f":"IF(C1478>0,VLOOKUP(C1478,Liste!$A$10:$D$159,4),\"\")","v":""}]
[null,null,null,{"$f":"IF(C1479>0,VLOOKUP(C1479,Liste!$A$10:$D$159,4),\"\")","v":""}]
[null,null,null,{"$f":"IF(C1480>0,VLOOKUP(C1480,Liste!$A$10:$D$159,4),\"\")","v":""}]
[null,null,null,{"$f":"IF(C1481>0,VLOOKUP(C1481,Liste!$A$10:$D$159,4),\"\")","v":""}]
[null,null,null,{"$f":"IF(C1482>0,VLOOKUP(C1482,Liste!$A$10:$D$159,4),\"\")","v":""}]
[null,null,null,{"$f":"IF(C1483>0,VLOOKUP(C1483,Liste!$A$10:$D$159,4),\"\")","v":""}]
[null,null,null,{"$f":"IF(C1484>0,VLOOKUP(C1484,Liste!$A$10:$D$159,4),\"\")","v":""}]
[null,null,null,{"$f":"IF(C1485>0,VLOOKUP(C1485,Liste!$A$10:$D$159,4),\"\")","v":""}]
[null,null,null,{"$f":"IF(C1486>0,VLOOKUP(C1486,Liste!$A$10:$D$159,4),\"\")","v":""}]
[null,null,null,{"$f":"IF(C1487>0,VLOOKUP(C1487,Liste!$A$10:$D$159,4),\"\")","v":""}]
[null,null,null,{"$f":"IF(C1488>0,VLOOKUP(C1488,Liste!$A$10:$D$159,4),\"\")","v":""}]
[null,null,null,{"$f":"IF(C1489>0,VLOOKUP(C1489,Liste!$A$10:$D$159,4),\"\")","v":""}]
[null,null,null,{"$f":"IF(C1490>0,VLOOKUP(C1490,Liste!$A$10:$D$159,4),\"\")","v":""}]
[null,null,null,{"$f":"IF(C1491>0,VLOOKUP(C1491,Liste!$A$10:$D$159,4),\"\")","v":""}]
[null,null,null,{"$f":"IF(C1492>0,VLOOKUP(C1492,Liste!$A$10:$D$159,4),\"\")","v":""}]
[null,null,null,{"$f":"IF(C1493>0,VLOOKUP(C1493,Liste!$A$10:$D$159,4),\"\")","v":""}]
[null,null,null,{"$f":"IF(C1494>0,VLOOKUP(C1494,Liste!$A$10:$D$159,4),\"\")","v":""}]
[null,null,null,{"$f":"IF(C1495>0,VLOOKUP(C1495,Liste!$A$10:$D$159,4),\"\")","v":""}]
[null,null,null,{"$f":"IF(C1496>0,VLOOKUP(C1496,Liste!$A$10:$D$159,4),\"\")","v":""}]
[null,null,null,{"$f":"IF(C1497>0,VLOOKUP(C1497,Liste!$A$10:$D$159,4),\"\")","v":""}]
[null,null,null,{"$f":"IF(C1498>0,VLOOKUP(C1498,Liste!$A$10:$D$159,4),\"\")","v":""}]
[null,null,null,{"$f":"IF(C1499>0,VLOOKUP(C1499,Liste!$A$10:$D$159,4),\"\")","v":""}]
[null,null,null,{"$f":"IF(C1500>0,VLOOKUP(C1500,Liste!$A$10:$D$159,4),\"\")","v":""}]
[null,null,null,{"$f":"IF(C1501>0,VLOOKUP(C1501,Liste!$A$10:$D$159,4),\"\")","v":""}]
[null,null,null,{"$f":"IF(C1502>0,VLOOKUP(C1502,Liste!$A$10:$D$159,4),\"\")","v":""}]
[null,null,null,{"$f":"IF(C1503>0,VLOOKUP(C1503,Liste!$A$10:$D$159,4),\"\")","v":""}]
[null,null,null,{"$f":"IF(C1504>0,VLOOKUP(C1504,Liste!$A$10:$D$159,4),\"\")","v":""}]
[null,null,null,{"$f":"IF(C1505>0,VLOOKUP(C1505,Liste!$A$10:$D$159,4),\"\")","v":""}]
[null,null,null,{"$f":"IF(C1506>0,VLOOKUP(C1506,Liste!$A$10:$D$159,4),\"\")","v":""}]
[null,null,null,{"$f":"IF(C1507>0,VLOOKUP(C1507,Liste!$A$10:$D$159,4),\"\")","v":""}]
[null,null,null,{"$f":"IF(C1508>0,VLOOKUP(C1508,Liste!$A$10:$D$159,4),\"\")","v":""}]
[null,null,null,{"$f":"IF(C1509>0,VLOOKUP(C1509,Liste!$A$10:$D$159,4),\"\")","v":""}]
[null,null,null,{"$f":"IF(C1510>0,VLOOKUP(C1510,Liste!$A$10:$D$159,4),\"\")","v":""}]
[null,null,null,{"$f":"IF(C1511>0,VLOOKUP(C1511,Liste!$A$10:$D$159,4),\"\")","v":""}]
[null,null,null,{"$f":"IF(C1512>0,VLOOKUP(C1512,Liste!$A$10:$D$159,4),\"\")","v":""}]
[null,null,null,{"$f":"IF(C1513>0,VLOOKUP(C1513,Liste!$A$10:$D$159,4),\"\")","v":""}]
[null,null,null,{"$f":"IF(C1514>0,VLOOKUP(C1514,Liste!$A$10:$D$159,4),\"\")","v":""}]
[null,null,null,{"$f":"IF(C1515>0,VLOOKUP(C1515,Liste!$A$10:$D$159,4),\"\")","v":""}]
[null,null,null,{"$f":"IF(C1516>0,VLOOKUP(C1516,Liste!$A$10:$D$159,4),\"\")","v":""}]
[null,null,null,{"$f":"IF(C1517>0,VLOOKUP(C1517,Liste!$A$10:$D$159,4),\"\")","v":""}]
[null,null,null,{"$f":"IF(C1518>0,VLOOKUP(C1518,Liste!$A$10:$D$159,4),\"\")","v":""}]
[null,null,null,{"$f":"IF(C1519>0,VLOOKUP(C1519,Liste!$A$10:$D$159,4),\"\")","v":""}]
[null,null,null,{"$f":"IF(C1520>0,VLOOKUP(C1520,Liste!$A$10:$D$159,4),\"\")","v":""}]
[null,null,null,{"$f":"IF(C1521>0,VLOOKUP(C1521,Liste!$A$10:$D$159,4),\"\")","v":""}]
[null,null,null,{"$f":"IF(C1522>0,VLOOKUP(C1522,Liste!$A$10:$D$159,4),\"\")","v":""}]
[null,null,null,{"$f":"IF(C1523>0,VLOOKUP(C1523,Liste!$A$10:$D$159,4),\"\")","v":""}]
[null,null,null,{"$f":"IF(C1524>0,VLOOKUP(C1524,Liste!$A$10:$D$159,4),\"\")","v":""}]
[null,null,null,{"$f":"IF(C1525>0,VLOOKUP(C1525,Liste!$A$10:$D$159,4),\"\")","v":""}]
[null,null,null,{"$f":"IF(C1526>0,VLOOKUP(C1526,Liste!$A$10:$D$159,4),\"\")","v":""}]
[null,null,null,{"$f":"IF(C1527>0,VLOOKUP(C1527,Liste!$A$10:$D$159,4),\"\")","v":""}]
[null,null,null,{"$f":"IF(C1528>0,VLOOKUP(C1528,Liste!$A$10:$D$159,4),\"\")","v":""}]
[null,null,null,{"$f":"IF(C1529>0,VLOOKUP(C1529,Liste!$A$10:$D$159,4),\"\")","v":""}]
[null,null,null,{"$f":"IF(C1530>0,VLOOKUP(C1530,Liste!$A$10:$D$159,4),\"\")","v":""}]
[null,null,null,{"$f":"IF(C1531>0,VLOOKUP(C1531,Liste!$A$10:$D$159,4),\"\")","v":""}]
[null,null,null,{"$f":"IF(C1532>0,VLOOKUP(C1532,Liste!$A$10:$D$159,4),\"\")","v":""}]
[null,null,null,{"$f":"IF(C1533>0,VLOOKUP(C1533,Liste!$A$10:$D$159,4),\"\")","v":""}]
[null,null,null,{"$f":"IF(C1534>0,VLOOKUP(C1534,Liste!$A$10:$D$159,4),\"\")","v":""}]
[null,null,null,{"$f":"IF(C1535>0,VLOOKUP(C1535,Liste!$A$10:$D$159,4),\"\")","v":""}]
[null,null,null,{"$f":"IF(C1536>0,VLOOKUP(C1536,Liste!$A$10:$D$159,4),\"\")","v":""}]
[null,null,null,{"$f":"IF(C1537>0,VLOOKUP(C1537,Liste!$A$10:$D$159,4),\"\")","v":""}]
[null,null,null,{"$f":"IF(C1538>0,VLOOKUP(C1538,Liste!$A$10:$D$159,4),\"\")","v":""}]
[null,null,null,{"$f":"IF(C1539>0,VLOOKUP(C1539,Liste!$A$10:$D$159,4),\"\")","v":""}]
[null,null,null,{"$f":"IF(C1540>0,VLOOKUP(C1540,Liste!$A$10:$D$159,4),\"\")","v":""}]
[null,null,null,{"$f":"IF(C1541>0,VLOOKUP(C1541,Liste!$A$10:$D$159,4),\"\")","v":""}]
[null,null,null,{"$f":"IF(C1542>0,VLOOKUP(C1542,Liste!$A$10:$D$159,4),\"\")","v":""}]
[null,null,null,{"$f":"IF(C1543>0,VLOOKUP(C1543,Liste!$A$10:$D$159,4),\"\")","v":""}]
[null,null,null,{"$f":"IF(C1544>0,VLOOKUP(C1544,Liste!$A$10:$D$159,4),\"\")","v":""}]
[null,null,null,{"$f":"IF(C1545>0,VLOOKUP(C1545,Liste!$A$10:$D$159,4),\"\")","v":""}]
[null,null,null,{"$f":"IF(C1546>0,VLOOKUP(C1546,Liste!$A$10:$D$159,4),\"\")","v":""}]
[null,null,null,{"$f":"IF(C1547>0,VLOOKUP(C1547,Liste!$A$10:$D$159,4),\"\")","v":""}]
[null,null,null,{"$f":"IF(C1548>0,VLOOKUP(C1548,Liste!$A$10:$D$159,4),\"\")","v":""}]
[null,null,null,{"$f":"IF(C1549>0,VLOOKUP(C1549,Liste!$A$10:$D$159,4),\"\")","v":""}]
[null,null,null,{"$f":"IF(C1550>0,VLOOKUP(C1550,Liste!$A$10:$D$159,4),\"\")","v":""}]
[null,null,null,{"$f":"IF(C1551>0,VLOOKUP(C1551,Liste!$A$10:$D$159,4),\"\")","v":""}]
[null,null,null,{"$f":"IF(C1552>0,VLOOKUP(C1552,Liste!$A$10:$D$159,4),\"\")","v":""}]
[null,null,null,{"$f":"IF(C1553>0,VLOOKUP(C1553,Liste!$A$10:$D$159,4),\"\")","v":""}]
[null,null,null,{"$f":"IF(C1554>0,VLOOKUP(C1554,Liste!$A$10:$D$159,4),\"\")","v":""}]
[null,null,null,{"$f":"IF(C1555>0,VLOOKUP(C1555,Liste!$A$10:$D$159,4),\"\")","v":""}]
[null,null,null,{"$f":"IF(C1556>0,VLOOKUP(C1556,Liste!$A$10:$D$159,4),\"\")","v":""}]
[null,null,null,{"$f":"IF(C1557>0,VLOOKUP(C1557,Liste!$A$10:$D$159,4),\"\")","v":""}]
[null,null,null,{"$f":"IF(C1558>0,VLOOKUP(C1558,Liste!$A$10:$D$159,4),\"\")","v":""}]
[null,null,null,{"$f":"IF(C1559>0,VLOOKUP(C1559,Liste!$A$10:$D$159,4),\"\")","v":""}]
[null,null,null,{"$f":"IF(C1560>0,VLOOKUP(C1560,Liste!$A$10:$D$159,4),\"\")","v":""}]
[null,null,null,{"$f":"IF(C1561>0,VLOOKUP(C1561,Liste!$A$10:$D$159,4),\"\")","v":""}]
[null,null,null,{"$f":"IF(C1562>0,VLOOKUP(C1562,Liste!$A$10:$D$159,4),\"\")","v":""}]
[null,null,null,{"$f":"IF(C1563>0,VLOOKUP(C1563,Liste!$A$10:$D$159,4),\"\")","v":""}]
[null,null,null,{"$f":"IF(C1564>0,VLOOKUP(C1564,Liste!$A$10:$D$159,4),\"\")","v":""}]
[null,null,null,{"$f":"IF(C1565>0,VLOOKUP(C1565,Liste!$A$10:$D$159,4),\"\")","v":""}]
[null,null,null,{"$f":"IF(C1566>0,VLOOKUP(C1566,Liste!$A$10:$D$159,4),\"\")","v":""}]
[null,null,null,{"$f":"IF(C1567>0,VLOOKUP(C1567,Liste!$A$10:$D$159,4),\"\")","v":""}]
[null,null,null,{"$f":"IF(C1568>0,VLOOKUP(C1568,Liste!$A$10:$D$159,4),\"\")","v":""}]
[null,null,null,{"$f":"IF(C1569>0,VLOOKUP(C1569,Liste!$A$10:$D$159,4),\"\")","v":""}]
[null,null,null,{"$f":"IF(C1570>0,VLOOKUP(C1570,Liste!$A$10:$D$159,4),\"\")","v":""}]
[null,null,null,{"$f":"IF(C1571>0,VLOOKUP(C1571,Liste!$A$10:$D$159,4),\"\")","v":""}]
[null,null,null,{"$f":"IF(C1572>0,VLOOKUP(C1572,Liste!$A$10:$D$159,4),\"\")","v":""}]
[null,null,null,{"$f":"IF(C1573>0,VLOOKUP(C1573,Liste!$A$10:$D$159,4),\"\")","v":""}]
[null,null,null,{"$f":"IF(C1574>0,VLOOKUP(C1574,Liste!$A$10:$D$159,4),\"\")","v":""}]
[null,null,null,{"$f":"IF(C1575>0,VLOOKUP(C1575,Liste!$A$10:$D$159,4),\"\")","v":""}]
[null,null,null,{"$f":"IF(C1576>0,VLOOKUP(C1576,Liste!$A$10:$D$159,4),\"\")","v":""}]
[null,null,null,{"$f":"IF(C1577>0,VLOOKUP(C1577,Liste!$A$10:$D$159,4),\"\")","v":""}]
[null,null,null,{"$f":"IF(C1578>0,VLOOKUP(C1578,Liste!$A$10:$D$159,4),\"\")","v":""}]
[null,null,null,{"$f":"IF(C1579>0,VLOOKUP(C1579,Liste!$A$10:$D$159,4),\"\")","v":""}]
[null,null,null,{"$f":"IF(C1580>0,VLOOKUP(C1580,Liste!$A$10:$D$159,4),\"\")","v":""}]
[null,null,null,{"$f":"IF(C1581>0,VLOOKUP(C1581,Liste!$A$10:$D$159,4),\"\")","v":""}]
[null,null,null,{"$f":"IF(C1582>0,VLOOKUP(C1582,Liste!$A$10:$D$159,4),\"\")","v":""}]
[null,null,null,{"$f":"IF(C1583>0,VLOOKUP(C1583,Liste!$A$10:$D$159,4),\"\")","v":""}]
[null,null,null,{"$f":"IF(C1584>0,VLOOKUP(C1584,Liste!$A$10:$D$159,4),\"\")","v":""}]
[null,null,null,{"$f":"IF(C1585>0,VLOOKUP(C1585,Liste!$A$10:$D$159,4),\"\")","v":""}]
[null,null,null,{"$f":"IF(C1586>0,VLOOKUP(C1586,Liste!$A$10:$D$159,4),\"\")","v":""}]
[null,null,null,{"$f":"IF(C1587>0,VLOOKUP(C1587,Liste!$A$10:$D$159,4),\"\")","v":""}]
[null,null,null,{"$f":"IF(C1588>0,VLOOKUP(C1588,Liste!$A$10:$D$159,4),\"\")","v":""}]
[null,null,null,{"$f":"IF(C1589>0,VLOOKUP(C1589,Liste!$A$10:$D$159,4),\"\")","v":""}]
[null,null,null,{"$f":"IF(C1590>0,VLOOKUP(C1590,Liste!$A$10:$D$159,4),\"\")","v":""}]
[null,null,null,{"$f":"IF(C1591>0,VLOOKUP(C1591,Liste!$A$10:$D$159,4),\"\")","v":""}]
[null,null,null,{"$f":"IF(C1592>0,VLOOKUP(C1592,Liste!$A$10:$D$159,4),\"\")","v":""}]
[null,null,null,{"$f":"IF(C1593>0,VLOOKUP(C1593,Liste!$A$10:$D$159,4),\"\")","v":""}]
[null,null,null,{"$f":"IF(C1594>0,VLOOKUP(C1594,Liste!$A$10:$D$159,4),\"\")","v":""}]
[null,null,null,{"$f":"IF(C1595>0,VLOOKUP(C1595,Liste!$A$10:$D$159,4),\"\")","v":""}]
[null,null,null,{"$f":"IF(C1596>0,VLOOKUP(C1596,Liste!$A$10:$D$159,4),\"\")","v":""}]
[null,null,null,{"$f":"IF(C1597>0,VLOOKUP(C1597,Liste!$A$10:$D$159,4),\"\")","v":""}]
[null,null,null,{"$f":"IF(C1598>0,VLOOKUP(C1598,Liste!$A$10:$D$159,4),\"\")","v":""}]
[null,null,null,{"$f":"IF(C1599>0,VLOOKUP(C1599,Liste!$A$10:$D$159,4),\"\")","v":""}]
[null,null,null,{"$f":"IF(C1600>0,VLOOKUP(C1600,Liste!$A$10:$D$159,4),\"\")","v":""}]
[null,null,null,{"$f":"IF(C1601>0,VLOOKUP(C1601,Liste!$A$10:$D$159,4),\"\")","v":""}]
[null,null,null,{"$f":"IF(C1602>0,VLOOKUP(C1602,Liste!$A$10:$D$159,4),\"\")","v":""}]
[null,null,null,{"$f":"IF(C1603>0,VLOOKUP(C1603,Liste!$A$10:$D$159,4),\"\")","v":""}]
[null,null,null,{"$f":"IF(C1604>0,VLOOKUP(C1604,Liste!$A$10:$D$159,4),\"\")","v":""}]
[null,null,null,{"$f":"IF(C1605>0,VLOOKUP(C1605,Liste!$A$10:$D$159,4),\"\")","v":""}]
[null,null,null,{"$f":"IF(C1606>0,VLOOKUP(C1606,Liste!$A$10:$D$159,4),\"\")","v":""}]
[null,null,null,{"$f":"IF(C1607>0,VLOOKUP(C1607,Liste!$A$10:$D$159,4),\"\")","v":""}]
[null,null,null,{"$f":"IF(C1608>0,VLOOKUP(C1608,Liste!$A$10:$D$159,4),\"\")","v":""}]
[null,null,null,{"$f":"IF(C1609>0,VLOOKUP(C1609,Liste!$A$10:$D$159,4),\"\")","v":""}]
[null,null,null,{"$f":"IF(C1610>0,VLOOKUP(C1610,Liste!$A$10:$D$159,4),\"\")","v":""}]
[null,null,null,{"$f":"IF(C1611>0,VLOOKUP(C1611,Liste!$A$10:$D$159,4),\"\")","v":""}]
[null,null,null,{"$f":"IF(C1612>0,VLOOKUP(C1612,Liste!$A$10:$D$159,4),\"\")","v":""}]
[null,null,null,{"$f":"IF(C1613>0,VLOOKUP(C1613,Liste!$A$10:$D$159,4),\"\")","v":""}]
[null,null,null,{"$f":"IF(C1614>0,VLOOKUP(C1614,Liste!$A$10:$D$159,4),\"\")","v":""}]
[null,null,null,{"$f":"IF(C1615>0,VLOOKUP(C1615,Liste!$A$10:$D$159,4),\"\")","v":""}]
[null,null,null,{"$f":"IF(C1616>0,VLOOKUP(C1616,Liste!$A$10:$D$159,4),\"\")","v":""}]
[null,null,null,{"$f":"IF(C1617>0,VLOOKUP(C1617,Liste!$A$10:$D$159,4),\"\")","v":""}]
[null,null,null,{"$f":"IF(C1618>0,VLOOKUP(C1618,Liste!$A$10:$D$159,4),\"\")","v":""}]
[null,null,null,{"$f":"IF(C1619>0,VLOOKUP(C1619,Liste!$A$10:$D$159,4),\"\")","v":""}]
[null,null,null,{"$f":"IF(C1620>0,VLOOKUP(C1620,Liste!$A$10:$D$159,4),\"\")","v":""}]
[null,null,null,{"$f":"IF(C1621>0,VLOOKUP(C1621,Liste!$A$10:$D$159,4),\"\")","v":""}]
[null,null,null,{"$f":"IF(C1622>0,VLOOKUP(C1622,Liste!$A$10:$D$159,4),\"\")","v":""}]
[null,null,null,{"$f":"IF(C1623>0,VLOOKUP(C1623,Liste!$A$10:$D$159,4),\"\")","v":""}]
[null,null,null,{"$f":"IF(C1624>0,VLOOKUP(C1624,Liste!$A$10:$D$159,4),\"\")","v":""}]
[null,null,null,{"$f":"IF(C1625>0,VLOOKUP(C1625,Liste!$A$10:$D$159,4),\"\")","v":""}]
[null,null,null,{"$f":"IF(C1626>0,VLOOKUP(C1626,Liste!$A$10:$D$159,4),\"\")","v":""}]
[null,null,null,{"$f":"IF(C1627>0,VLOOKUP(C1627,Liste!$A$10:$D$159,4),\"\")","v":""}]
[null,null,null,{"$f":"IF(C1628>0,VLOOKUP(C1628,Liste!$A$10:$D$159,4),\"\")","v":""}]
[null,null,null,{"$f":"IF(C1629>0,VLOOKUP(C1629,Liste!$A$10:$D$159,4),\"\")","v":""}]
[null,null,null,{"$f":"IF(C1630>0,VLOOKUP(C1630,Liste!$A$10:$D$159,4),\"\")","v":""}]
[null,null,null,{"$f":"IF(C1631>0,VLOOKUP(C1631,Liste!$A$10:$D$159,4),\"\")","v":""}]
[null,null,null,{"$f":"IF(C1632>0,VLOOKUP(C1632,Liste!$A$10:$D$159,4),\"\")","v":""}]
[null,null,null,{"$f":"IF(C1633>0,VLOOKUP(C1633,Liste!$A$10:$D$159,4),\"\")","v":""}]
[null,null,null,{"$f":"IF(C1634>0,VLOOKUP(C1634,Liste!$A$10:$D$159,4),\"\")","v":""}]
[null,null,null,{"$f":"IF(C1635>0,VLOOKUP(C1635,Liste!$A$10:$D$159,4),\"\")","v":""}]
[null,null,null,{"$f":"IF(C1636>0,VLOOKUP(C1636,Liste!$A$10:$D$159,4),\"\")","v":""}]
[null,null,null,{"$f":"IF(C1637>0,VLOOKUP(C1637,Liste!$A$10:$D$159,4),\"\")","v":""}]
[null,null,null,{"$f":"IF(C1638>0,VLOOKUP(C1638,Liste!$A$10:$D$159,4),\"\")","v":""}]
[null,null,null,{"$f":"IF(C1639>0,VLOOKUP(C1639,Liste!$A$10:$D$159,4),\"\")","v":""}]
[null,null,null,{"$f":"IF(C1640>0,VLOOKUP(C1640,Liste!$A$10:$D$159,4),\"\")","v":""}]
[null,null,null,{"$f":"IF(C1641>0,VLOOKUP(C1641,Liste!$A$10:$D$159,4),\"\")","v":""}]
[null,null,null,{"$f":"IF(C1642>0,VLOOKUP(C1642,Liste!$A$10:$D$159,4),\"\")","v":""}]
[null,null,null,{"$f":"IF(C1643>0,VLOOKUP(C1643,Liste!$A$10:$D$159,4),\"\")","v":""}]
[null,null,null,{"$f":"IF(C1644>0,VLOOKUP(C1644,Liste!$A$10:$D$159,4),\"\")","v":""}]
[null,null,null,{"$f":"IF(C1645>0,VLOOKUP(C1645,Liste!$A$10:$D$159,4),\"\")","v":""}]
[null,null,null,{"$f":"IF(C1646>0,VLOOKUP(C1646,Liste!$A$10:$D$159,4),\"\")","v":""}]
[null,null,null,{"$f":"IF(C1647>0,VLOOKUP(C1647,Liste!$A$10:$D$159,4),\"\")","v":""}]
[null,null,null,{"$f":"IF(C1648>0,VLOOKUP(C1648,Liste!$A$10:$D$159,4),\"\")","v":""}]
[null,null,null,{"$f":"IF(C1649>0,VLOOKUP(C1649,Liste!$A$10:$D$159,4),\"\")","v":""}]
[null,null,null,{"$f":"IF(C1650>0,VLOOKUP(C1650,Liste!$A$10:$D$159,4),\"\")","v":""}]
[null,null,null,{"$f":"IF(C1651>0,VLOOKUP(C1651,Liste!$A$10:$D$159,4),\"\")","v":""}]
[null,null,null,{"$f":"IF(C1652>0,VLOOKUP(C1652,Liste!$A$10:$D$159,4),\"\")","v":""}]
[null,null,null,{"$f":"IF(C1653>0,VLOOKUP(C1653,Liste!$A$10:$D$159,4),\"\")","v":""}]
[null,null,null,{"$f":"IF(C1654>0,VLOOKUP(C1654,Liste!$A$10:$D$159,4),\"\")","v":""}]
[null,null,null,{"$f":"IF(C1655>0,VLOOKUP(C1655,Liste!$A$10:$D$159,4),\"\")","v":""}]
[null,null,null,{"$f":"IF(C1656>0,VLOOKUP(C1656,Liste!$A$10:$D$159,4),\"\")","v":""}]
[null,null,null,{"$f":"IF(C1657>0,VLOOKUP(C1657,Liste!$A$10:$D$159,4),\"\")","v":""}]
[null,null,null,{"$f":"IF(C1658>0,VLOOKUP(C1658,Liste!$A$10:$D$159,4),\"\")","v":""}]
[null,null,null,{"$f":"IF(C1659>0,VLOOKUP(C1659,Liste!$A$10:$D$159,4),\"\")","v":""}]
[null,null,null,{"$f":"IF(C1660>0,VLOOKUP(C1660,Liste!$A$10:$D$159,4),\"\")","v":""}]
[null,null,null,{"$f":"IF(C1661>0,VLOOKUP(C1661,Liste!$A$10:$D$159,4),\"\")","v":""}]
[null,null,null,{"$f":"IF(C1662>0,VLOOKUP(C1662,Liste!$A$10:$D$159,4),\"\")","v":""}]
[null,null,null,{"$f":"IF(C1663>0,VLOOKUP(C1663,Liste!$A$10:$D$159,4),\"\")","v":""}]
[null,null,null,{"$f":"IF(C1664>0,VLOOKUP(C1664,Liste!$A$10:$D$159,4),\"\")","v":""}]
[null,null,null,{"$f":"IF(C1665>0,VLOOKUP(C1665,Liste!$A$10:$D$159,4),\"\")","v":""}]
[null,null,null,{"$f":"IF(C1666>0,VLOOKUP(C1666,Liste!$A$10:$D$159,4),\"\")","v":""}]
[null,null,null,{"$f":"IF(C1667>0,VLOOKUP(C1667,Liste!$A$10:$D$159,4),\"\")","v":""}]
[null,null,null,{"$f":"IF(C1668>0,VLOOKUP(C1668,Liste!$A$10:$D$159,4),\"\")","v":""}]
[null,null,null,{"$f":"IF(C1669>0,VLOOKUP(C1669,Liste!$A$10:$D$159,4),\"\")","v":""}]
[null,null,null,{"$f":"IF(C1670>0,VLOOKUP(C1670,Liste!$A$10:$D$159,4),\"\")","v":""}]
[null,null,null,{"$f":"IF(C1671>0,VLOOKUP(C1671,Liste!$A$10:$D$159,4),\"\")","v":""}]
[null,null,null,{"$f":"IF(C1672>0,VLOOKUP(C1672,Liste!$A$10:$D$159,4),\"\")","v":""}]
[null,null,null,{"$f":"IF(C1673>0,VLOOKUP(C1673,Liste!$A$10:$D$159,4),\"\")","v":""}]
[null,null,null,{"$f":"IF(C1674>0,VLOOKUP(C1674,Liste!$A$10:$D$159,4),\"\")","v":""}]
[null,null,null,{"$f":"IF(C1675>0,VLOOKUP(C1675,Liste!$A$10:$D$159,4),\"\")","v":""}]
[null,null,null,{"$f":"IF(C1676>0,VLOOKUP(C1676,Liste!$A$10:$D$159,4),\"\")","v":""}]
[null,null,null,{"$f":"IF(C1677>0,VLOOKUP(C1677,Liste!$A$10:$D$159,4),\"\")","v":""}]
[null,null,null,{"$f":"IF(C1678>0,VLOOKUP(C1678,Liste!$A$10:$D$159,4),\"\")","v":""}]
[null,null,null,{"$f":"IF(C1679>0,VLOOKUP(C1679,Liste!$A$10:$D$159,4),\"\")","v":""}]
[null,null,null,{"$f":"IF(C1680>0,VLOOKUP(C1680,Liste!$A$10:$D$159,4),\"\")","v":""}]
[null,null,null,{"$f":"IF(C1681>0,VLOOKUP(C1681,Liste!$A$10:$D$159,4),\"\")","v":""}]
[null,null,null,{"$f":"IF(C1682>0,VLOOKUP(C1682,Liste!$A$10:$D$159,4),\"\")","v":""}]
[null,null,null,{"$f":"IF(C1683>0,VLOOKUP(C1683,Liste!$A$10:$D$159,4),\"\")","v":""}]
[null,null,null,{"$f":"IF(C1684>0,VLOOKUP(C1684,Liste!$A$10:$D$159,4),\"\")","v":""}]
[null,null,null,{"$f":"IF(C1685>0,VLOOKUP(C1685,Liste!$A$10:$D$159,4),\"\")","v":""}]
[null,null,null,{"$f":"IF(C1686>0,VLOOKUP(C1686,Liste!$A$10:$D$159,4),\"\")","v":""}]
[null,null,null,{"$f":"IF(C1687>0,VLOOKUP(C1687,Liste!$A$10:$D$159,4),\"\")","v":""}]
[null,null,null,{"$f":"IF(C1688>0,VLOOKUP(C1688,Liste!$A$10:$D$159,4),\"\")","v":""}]
[null,null,null,{"$f":"IF(C1689>0,VLOOKUP(C1689,Liste!$A$10:$D$159,4),\"\")","v":""}]
[null,null,null,{"$f":"IF(C1690>0,VLOOKUP(C1690,Liste!$A$10:$D$159,4),\"\")","v":""}]
[null,null,null,{"$f":"IF(C1691>0,VLOOKUP(C1691,Liste!$A$10:$D$159,4),\"\")","v":""}]
[null,null,null,{"$f":"IF(C1692>0,VLOOKUP(C1692,Liste!$A$10:$D$159,4),\"\")","v":""}]
[null,null,null,{"$f":"IF(C1693>0,VLOOKUP(C1693,Liste!$A$10:$D$159,4),\"\")","v":""}]
[null,null,null,{"$f":"IF(C1694>0,VLOOKUP(C1694,Liste!$A$10:$D$159,4),\"\")","v":""}]
[null,null,null,{"$f":"IF(C1695>0,VLOOKUP(C1695,Liste!$A$10:$D$159,4),\"\")","v":""}]
[null,null,null,{"$f":"IF(C1696>0,VLOOKUP(C1696,Liste!$A$10:$D$159,4),\"\")","v":""}]
[null,null,null,{"$f":"IF(C1697>0,VLOOKUP(C1697,Liste!$A$10:$D$159,4),\"\")","v":""}]
[null,null,null,{"$f":"IF(C1698>0,VLOOKUP(C1698,Liste!$A$10:$D$159,4),\"\")","v":""}]
[null,null,null,{"$f":"IF(C1699>0,VLOOKUP(C1699,Liste!$A$10:$D$159,4),\"\")","v":""}]
[null,null,null,{"$f":"IF(C1700>0,VLOOKUP(C1700,Liste!$A$10:$D$159,4),\"\")","v":""}]
[null,null,null,{"$f":"IF(C1701>0,VLOOKUP(C1701,Liste!$A$10:$D$159,4),\"\")","v":""}]
[null,null,null,{"$f":"IF(C1702>0,VLOOKUP(C1702,Liste!$A$10:$D$159,4),\"\")","v":""}]
[null,null,null,{"$f":"IF(C1703>0,VLOOKUP(C1703,Liste!$A$10:$D$159,4),\"\")","v":""}]
[null,null,null,{"$f":"IF(C1704>0,VLOOKUP(C1704,Liste!$A$10:$D$159,4),\"\")","v":""}]
[null,null,null,{"$f":"IF(C1705>0,VLOOKUP(C1705,Liste!$A$10:$D$159,4),\"\")","v":""}]
[null,null,null,{"$f":"IF(C1706>0,VLOOKUP(C1706,Liste!$A$10:$D$159,4),\"\")","v":""}]
[null,null,null,{"$f":"IF(C1707>0,VLOOKUP(C1707,Liste!$A$10:$D$159,4),\"\")","v":""}]
[null,null,null,{"$f":"IF(C1708>0,VLOOKUP(C1708,Liste!$A$10:$D$159,4),\"\")","v":""}]
[null,null,null,{"$f":"IF(C1709>0,VLOOKUP(C1709,Liste!$A$10:$D$159,4),\"\")","v":""}]
[null,null,null,{"$f":"IF(C1710>0,VLOOKUP(C1710,Liste!$A$10:$D$159,4),\"\")","v":""}]
[null,null,null,{"$f":"IF(C1711>0,VLOOKUP(C1711,Liste!$A$10:$D$159,4),\"\")","v":""}]
[null,null,null,{"$f":"IF(C1712>0,VLOOKUP(C1712,Liste!$A$10:$D$159,4),\"\")","v":""}]
[null,null,null,{"$f":"IF(C1713>0,VLOOKUP(C1713,Liste!$A$10:$D$159,4),\"\")","v":""}]
[null,null,null,{"$f":"IF(C1714>0,VLOOKUP(C1714,Liste!$A$10:$D$159,4),\"\")","v":""}]
[null,null,null,{"$f":"IF(C1715>0,VLOOKUP(C1715,Liste!$A$10:$D$159,4),\"\")","v":""}]
[null,null,null,{"$f":"IF(C1716>0,VLOOKUP(C1716,Liste!$A$10:$D$159,4),\"\")","v":""}]
[null,null,null,{"$f":"IF(C1717>0,VLOOKUP(C1717,Liste!$A$10:$D$159,4),\"\")","v":""}]
[null,null,null,{"$f":"IF(C1718>0,VLOOKUP(C1718,Liste!$A$10:$D$159,4),\"\")","v":""}]
[null,null,null,{"$f":"IF(C1719>0,VLOOKUP(C1719,Liste!$A$10:$D$159,4),\"\")","v":""}]
[null,null,null,{"$f":"IF(C1720>0,VLOOKUP(C1720,Liste!$A$10:$D$159,4),\"\")","v":""}]
[null,null,null,{"$f":"IF(C1721>0,VLOOKUP(C1721,Liste!$A$10:$D$159,4),\"\")","v":""}]
[null,null,null,{"$f":"IF(C1722>0,VLOOKUP(C1722,Liste!$A$10:$D$159,4),\"\")","v":""}]
[null,null,null,{"$f":"IF(C1723>0,VLOOKUP(C1723,Liste!$A$10:$D$159,4),\"\")","v":""}]
[null,null,null,{"$f":"IF(C1724>0,VLOOKUP(C1724,Liste!$A$10:$D$159,4),\"\")","v":""}]
[null,null,null,{"$f":"IF(C1725>0,VLOOKUP(C1725,Liste!$A$10:$D$159,4),\"\")","v":""}]
[null,null,null,{"$f":"IF(C1726>0,VLOOKUP(C1726,Liste!$A$10:$D$159,4),\"\")","v":""}]
[null,null,null,{"$f":"IF(C1727>0,VLOOKUP(C1727,Liste!$A$10:$D$159,4),\"\")","v":""}]
[null,null,null,{"$f":"IF(C1728>0,VLOOKUP(C1728,Liste!$A$10:$D$159,4),\"\")","v":""}]
[null,null,null,{"$f":"IF(C1729>0,VLOOKUP(C1729,Liste!$A$10:$D$159,4),\"\")","v":""}]
[null,null,null,{"$f":"IF(C1730>0,VLOOKUP(C1730,Liste!$A$10:$D$159,4),\"\")","v":""}]
[null,null,null,{"$f":"IF(C1731>0,VLOOKUP(C1731,Liste!$A$10:$D$159,4),\"\")","v":""}]
[null,null,null,{"$f":"IF(C1732>0,VLOOKUP(C1732,Liste!$A$10:$D$159,4),\"\")","v":""}]
[null,null,null,{"$f":"IF(C1733>0,VLOOKUP(C1733,Liste!$A$10:$D$159,4),\"\")","v":""}]
[null,null,null,{"$f":"IF(C1734>0,VLOOKUP(C1734,Liste!$A$10:$D$159,4),\"\")","v":""}]
[null,null,null,{"$f":"IF(C1735>0,VLOOKUP(C1735,Liste!$A$10:$D$159,4),\"\")","v":""}]
[null,null,null,{"$f":"IF(C1736>0,VLOOKUP(C1736,Liste!$A$10:$D$159,4),\"\")","v":""}]
[null,null,null,{"$f":"IF(C1737>0,VLOOKUP(C1737,Liste!$A$10:$D$159,4),\"\")","v":""}]
[null,null,null,{"$f":"IF(C1738>0,VLOOKUP(C1738,Liste!$A$10:$D$159,4),\"\")","v":""}]
[null,null,null,{"$f":"IF(C1739>0,VLOOKUP(C1739,Liste!$A$10:$D$159,4),\"\")","v":""}]
[null,null,null,{"$f":"IF(C1740>0,VLOOKUP(C1740,Liste!$A$10:$D$159,4),\"\")","v":""}]
[null,null,null,{"$f":"IF(C1741>0,VLOOKUP(C1741,Liste!$A$10:$D$159,4),\"\")","v":""}]
[null,null,null,{"$f":"IF(C1742>0,VLOOKUP(C1742,Liste!$A$10:$D$159,4),\"\")","v":""}]
[null,null,null,{"$f":"IF(C1743>0,VLOOKUP(C1743,Liste!$A$10:$D$159,4),\"\")","v":""}]
[null,null,null,{"$f":"IF(C1744>0,VLOOKUP(C1744,Liste!$A$10:$D$159,4),\"\")","v":""}]
[null,null,null,{"$f":"IF(C1745>0,VLOOKUP(C1745,Liste!$A$10:$D$159,4),\"\")","v":""}]
[null,null,null,{"$f":"IF(C1746>0,VLOOKUP(C1746,Liste!$A$10:$D$159,4),\"\")","v":""}]
[null,null,null,{"$f":"IF(C1747>0,VLOOKUP(C1747,Liste!$A$10:$D$159,4),\"\")","v":""}]
[null,null,null,{"$f":"IF(C1748>0,VLOOKUP(C1748,Liste!$A$10:$D$159,4),\"\")","v":""}]
[null,null,null,{"$f":"IF(C1749>0,VLOOKUP(C1749,Liste!$A$10:$D$159,4),\"\")","v":""}]
[null,null,null,{"$f":"IF(C1750>0,VLOOKUP(C1750,Liste!$A$10:$D$159,4),\"\")","v":""}]
[null,null,null,{"$f":"IF(C1751>0,VLOOKUP(C1751,Liste!$A$10:$D$159,4),\"\")","v":""}]
[null,null,null,{"$f":"IF(C1752>0,VLOOKUP(C1752,Liste!$A$10:$D$159,4),\"\")","v":""}]
[null,null,null,{"$f":"IF(C1753>0,VLOOKUP(C1753,Liste!$A$10:$D$159,4),\"\")","v":""}]
[null,null,null,{"$f":"IF(C1754>0,VLOOKUP(C1754,Liste!$A$10:$D$159,4),\"\")","v":""}]
[null,null,null,{"$f":"IF(C1755>0,VLOOKUP(C1755,Liste!$A$10:$D$159,4),\"\")","v":""}]
[null,null,null,{"$f":"IF(C1756>0,VLOOKUP(C1756,Liste!$A$10:$D$159,4),\"\")","v":""}]
[null,null,null,{"$f":"IF(C1757>0,VLOOKUP(C1757,Liste!$A$10:$D$159,4),\"\")","v":""}]
[null,null,null,{"$f":"IF(C1758>0,VLOOKUP(C1758,Liste!$A$10:$D$159,4),\"\")","v":""}]
[null,null,null,{"$f":"IF(C1759>0,VLOOKUP(C1759,Liste!$A$10:$D$159,4),\"\")","v":""}]
[null,null,null,{"$f":"IF(C1760>0,VLOOKUP(C1760,Liste!$A$10:$D$159,4),\"\")","v":""}]
[null,null,null,{"$f":"IF(C1761>0,VLOOKUP(C1761,Liste!$A$10:$D$159,4),\"\")","v":""}]
[null,null,null,{"$f":"IF(C1762>0,VLOOKUP(C1762,Liste!$A$10:$D$159,4),\"\")","v":""}]
[null,null,null,{"$f":"IF(C1763>0,VLOOKUP(C1763,Liste!$A$10:$D$159,4),\"\")","v":""}]
[null,null,null,{"$f":"IF(C1764>0,VLOOKUP(C1764,Liste!$A$10:$D$159,4),\"\")","v":""}]
[null,null,null,{"$f":"IF(C1765>0,VLOOKUP(C1765,Liste!$A$10:$D$159,4),\"\")","v":""}]
[null,null,null,{"$f":"IF(C1766>0,VLOOKUP(C1766,Liste!$A$10:$D$159,4),\"\")","v":""}]
[null,null,null,{"$f":"IF(C1767>0,VLOOKUP(C1767,Liste!$A$10:$D$159,4),\"\")","v":""}]
[null,null,null,{"$f":"IF(C1768>0,VLOOKUP(C1768,Liste!$A$10:$D$159,4),\"\")","v":""}]
[null,null,null,{"$f":"IF(C1769>0,VLOOKUP(C1769,Liste!$A$10:$D$159,4),\"\")","v":""}]
[null,null,null,{"$f":"IF(C1770>0,VLOOKUP(C1770,Liste!$A$10:$D$159,4),\"\")","v":""}]
[null,null,null,{"$f":"IF(C1771>0,VLOOKUP(C1771,Liste!$A$10:$D$159,4),\"\")","v":""}]
[null,null,null,{"$f":"IF(C1772>0,VLOOKUP(C1772,Liste!$A$10:$D$159,4),\"\")","v":""}]
[null,null,null,{"$f":"IF(C1773>0,VLOOKUP(C1773,Liste!$A$10:$D$159,4),\"\")","v":""}]
[null,null,null,{"$f":"IF(C1774>0,VLOOKUP(C1774,Liste!$A$10:$D$159,4),\"\")","v":""}]
[null,null,null,{"$f":"IF(C1775>0,VLOOKUP(C1775,Liste!$A$10:$D$159,4),\"\")","v":""}]
[null,null,null,{"$f":"IF(C1776>0,VLOOKUP(C1776,Liste!$A$10:$D$159,4),\"\")","v":""}]
[null,null,null,{"$f":"IF(C1777>0,VLOOKUP(C1777,Liste!$A$10:$D$159,4),\"\")","v":""}]
[null,null,null,{"$f":"IF(C1778>0,VLOOKUP(C1778,Liste!$A$10:$D$159,4),\"\")","v":""}]
[null,null,null,{"$f":"IF(C1779>0,VLOOKUP(C1779,Liste!$A$10:$D$159,4),\"\")","v":""}]
[null,null,null,{"$f":"IF(C1780>0,VLOOKUP(C1780,Liste!$A$10:$D$159,4),\"\")","v":""}]
[null,null,null,{"$f":"IF(C1781>0,VLOOKUP(C1781,Liste!$A$10:$D$159,4),\"\")","v":""}]
[null,null,null,{"$f":"IF(C1782>0,VLOOKUP(C1782,Liste!$A$10:$D$159,4),\"\")","v":""}]
[null,null,null,{"$f":"IF(C1783>0,VLOOKUP(C1783,Liste!$A$10:$D$159,4),\"\")","v":""}]
[null,null,null,{"$f":"IF(C1784>0,VLOOKUP(C1784,Liste!$A$10:$D$159,4),\"\")","v":""}]
[null,null,null,{"$f":"IF(C1785>0,VLOOKUP(C1785,Liste!$A$10:$D$159,4),\"\")","v":""}]
[null,null,null,{"$f":"IF(C1786>0,VLOOKUP(C1786,Liste!$A$10:$D$159,4),\"\")","v":""}]
[null,null,null,{"$f":"IF(C1787>0,VLOOKUP(C1787,Liste!$A$10:$D$159,4),\"\")","v":""}]
[null,null,null,{"$f":"IF(C1788>0,VLOOKUP(C1788,Liste!$A$10:$D$159,4),\"\")","v":""}]
[null,null,null,{"$f":"IF(C1789>0,VLOOKUP(C1789,Liste!$A$10:$D$159,4),\"\")","v":""}]
[null,null,null,{"$f":"IF(C1790>0,VLOOKUP(C1790,Liste!$A$10:$D$159,4),\"\")","v":""}]
[null,null,null,{"$f":"IF(C1791>0,VLOOKUP(C1791,Liste!$A$10:$D$159,4),\"\")","v":""}]
[null,null,null,{"$f":"IF(C1792>0,VLOOKUP(C1792,Liste!$A$10:$D$159,4),\"\")","v":""}]
[null,null,null,{"$f":"IF(C1793>0,VLOOKUP(C1793,Liste!$A$10:$D$159,4),\"\")","v":""}]
[null,null,null,{"$f":"IF(C1794>0,VLOOKUP(C1794,Liste!$A$10:$D$159,4),\"\")","v":""}]
[null,null,null,{"$f":"IF(C1795>0,VLOOKUP(C1795,Liste!$A$10:$D$159,4),\"\")","v":""}]
[null,null,null,{"$f":"IF(C1796>0,VLOOKUP(C1796,Liste!$A$10:$D$159,4),\"\")","v":""}]
[null,null,null,{"$f":"IF(C1797>0,VLOOKUP(C1797,Liste!$A$10:$D$159,4),\"\")","v":""}]
[null,null,null,{"$f":"IF(C1798>0,VLOOKUP(C1798,Liste!$A$10:$D$159,4),\"\")","v":""}]
[null,null,null,{"$f":"IF(C1799>0,VLOOKUP(C1799,Liste!$A$10:$D$159,4),\"\")","v":""}]
[null,null,null,{"$f":"IF(C1800>0,VLOOKUP(C1800,Liste!$A$10:$D$159,4),\"\")","v":""}]
[null,null,null,{"$f":"IF(C1801>0,VLOOKUP(C1801,Liste!$A$10:$D$159,4),\"\")","v":""}]
[null,null,null,{"$f":"IF(C1802>0,VLOOKUP(C1802,Liste!$A$10:$D$159,4),\"\")","v":""}]
[null,null,null,{"$f":"IF(C1803>0,VLOOKUP(C1803,Liste!$A$10:$D$159,4),\"\")","v":""}]
[null,null,null,{"$f":"IF(C1804>0,VLOOKUP(C1804,Liste!$A$10:$D$159,4),\"\")","v":""}]
[null,null,null,{"$f":"IF(C1805>0,VLOOKUP(C1805,Liste!$A$10:$D$159,4),\"\")","v":""}]
[null,null,null,{"$f":"IF(C1806>0,VLOOKUP(C1806,Liste!$A$10:$D$159,4),\"\")","v":""}]
[null,null,null,{"$f":"IF(C1807>0,VLOOKUP(C1807,Liste!$A$10:$D$159,4),\"\")","v":""}]
[null,null,null,{"$f":"IF(C1808>0,VLOOKUP(C1808,Liste!$A$10:$D$159,4),\"\")","v":""}]
[null,null,null,{"$f":"IF(C1809>0,VLOOKUP(C1809,Liste!$A$10:$D$159,4),\"\")","v":""}]
[null,null,null,{"$f":"IF(C1810>0,VLOOKUP(C1810,Liste!$A$10:$D$159,4),\"\")","v":""}]
[null,null,null,{"$f":"IF(C1811>0,VLOOKUP(C1811,Liste!$A$10:$D$159,4),\"\")","v":""}]
[null,null,null,{"$f":"IF(C1812>0,VLOOKUP(C1812,Liste!$A$10:$D$159,4),\"\")","v":""}]
[null,null,null,{"$f":"IF(C1813>0,VLOOKUP(C1813,Liste!$A$10:$D$159,4),\"\")","v":""}]
[null,null,null,{"$f":"IF(C1814>0,VLOOKUP(C1814,Liste!$A$10:$D$159,4),\"\")","v":""}]
[null,null,null,{"$f":"IF(C1815>0,VLOOKUP(C1815,Liste!$A$10:$D$159,4),\"\")","v":""}]
[null,null,null,{"$f":"IF(C1816>0,VLOOKUP(C1816,Liste!$A$10:$D$159,4),\"\")","v":""}]
[null,null,null,{"$f":"IF(C1817>0,VLOOKUP(C1817,Liste!$A$10:$D$159,4),\"\")","v":""}]
[null,null,null,{"$f":"IF(C1818>0,VLOOKUP(C1818,Liste!$A$10:$D$159,4),\"\")","v":""}]
[null,null,null,{"$f":"IF(C1819>0,VLOOKUP(C1819,Liste!$A$10:$D$159,4),\"\")","v":""}]
[null,null,null,{"$f":"IF(C1820>0,VLOOKUP(C1820,Liste!$A$10:$D$159,4),\"\")","v":""}]
[null,null,null,{"$f":"IF(C1821>0,VLOOKUP(C1821,Liste!$A$10:$D$159,4),\"\")","v":""}]
[null,null,null,{"$f":"IF(C1822>0,VLOOKUP(C1822,Liste!$A$10:$D$159,4),\"\")","v":""}]
[null,null,null,{"$f":"IF(C1823>0,VLOOKUP(C1823,Liste!$A$10:$D$159,4),\"\")","v":""}]
[null,null,null,{"$f":"IF(C1824>0,VLOOKUP(C1824,Liste!$A$10:$D$159,4),\"\")","v":""}]
[null,null,null,{"$f":"IF(C1825>0,VLOOKUP(C1825,Liste!$A$10:$D$159,4),\"\")","v":""}]
[null,null,null,{"$f":"IF(C1826>0,VLOOKUP(C1826,Liste!$A$10:$D$159,4),\"\")","v":""}]
[null,null,null,{"$f":"IF(C1827>0,VLOOKUP(C1827,Liste!$A$10:$D$159,4),\"\")","v":""}]
[null,null,null,{"$f":"IF(C1828>0,VLOOKUP(C1828,Liste!$A$10:$D$159,4),\"\")","v":""}]
[null,null,null,{"$f":"IF(C1829>0,VLOOKUP(C1829,Liste!$A$10:$D$159,4),\"\")","v":""}]
[null,null,null,{"$f":"IF(C1830>0,VLOOKUP(C1830,Liste!$A$10:$D$159,4),\"\")","v":""}]
[null,null,null,{"$f":"IF(C1831>0,VLOOKUP(C1831,Liste!$A$10:$D$159,4),\"\")","v":""}]
[null,null,null,{"$f":"IF(C1832>0,VLOOKUP(C1832,Liste!$A$10:$D$159,4),\"\")","v":""}]
[null,null,null,{"$f":"IF(C1833>0,VLOOKUP(C1833,Liste!$A$10:$D$159,4),\"\")","v":""}]
[null,null,null,{"$f":"IF(C1834>0,VLOOKUP(C1834,Liste!$A$10:$D$159,4),\"\")","v":""}]
[null,null,null,{"$f":"IF(C1835>0,VLOOKUP(C1835,Liste!$A$10:$D$159,4),\"\")","v":""}]
[null,null,null,{"$f":"IF(C1836>0,VLOOKUP(C1836,Liste!$A$10:$D$159,4),\"\")","v":""}]
[null,null,null,{"$f":"IF(C1837>0,VLOOKUP(C1837,Liste!$A$10:$D$159,4),\"\")","v":""}]
[null,null,null,{"$f":"IF(C1838>0,VLOOKUP(C1838,Liste!$A$10:$D$159,4),\"\")","v":""}]
[null,null,null,{"$f":"IF(C1839>0,VLOOKUP(C1839,Liste!$A$10:$D$159,4),\"\")","v":""}]
[null,null,null,{"$f":"IF(C1840>0,VLOOKUP(C1840,Liste!$A$10:$D$159,4),\"\")","v":""}]
[null,null,null,{"$f":"IF(C1841>0,VLOOKUP(C1841,Liste!$A$10:$D$159,4),\"\")","v":""}]
[null,null,null,{"$f":"IF(C1842>0,VLOOKUP(C1842,Liste!$A$10:$D$159,4),\"\")","v":""}]
[null,null,null,{"$f":"IF(C1843>0,VLOOKUP(C1843,Liste!$A$10:$D$159,4),\"\")","v":""}]
[null,null,null,{"$f":"IF(C1844>0,VLOOKUP(C1844,Liste!$A$10:$D$159,4),\"\")","v":""}]
[null,null,null,{"$f":"IF(C1845>0,VLOOKUP(C1845,Liste!$A$10:$D$159,4),\"\")","v":""}]
[null,null,null,{"$f":"IF(C1846>0,VLOOKUP(C1846,Liste!$A$10:$D$159,4),\"\")","v":""}]
[null,null,null,{"$f":"IF(C1847>0,VLOOKUP(C1847,Liste!$A$10:$D$159,4),\"\")","v":""}]
[null,null,null,{"$f":"IF(C1848>0,VLOOKUP(C1848,Liste!$A$10:$D$159,4),\"\")","v":""}]
[null,null,null,{"$f":"IF(C1849>0,VLOOKUP(C1849,Liste!$A$10:$D$159,4),\"\")","v":""}]
[null,null,null,{"$f":"IF(C1850>0,VLOOKUP(C1850,Liste!$A$10:$D$159,4),\"\")","v":""}]
[null,null,null,{"$f":"IF(C1851>0,VLOOKUP(C1851,Liste!$A$10:$D$159,4),\"\")","v":""}]
[null,null,null,{"$f":"IF(C1852>0,VLOOKUP(C1852,Liste!$A$10:$D$159,4),\"\")","v":""}]
[null,null,null,{"$f":"IF(C1853>0,VLOOKUP(C1853,Liste!$A$10:$D$159,4),\"\")","v":""}]
[null,null,null,{"$f":"IF(C1854>0,VLOOKUP(C1854,Liste!$A$10:$D$159,4),\"\")","v":""}]
[null,null,null,{"$f":"IF(C1855>0,VLOOKUP(C1855,Liste!$A$10:$D$159,4),\"\")","v":""}]
[null,null,null,{"$f":"IF(C1856>0,VLOOKUP(C1856,Liste!$A$10:$D$159,4),\"\")","v":""}]
[null,null,null,{"$f":"IF(C1857>0,VLOOKUP(C1857,Liste!$A$10:$D$159,4),\"\")","v":""}]
[null,null,null,{"$f":"IF(C1858>0,VLOOKUP(C1858,Liste!$A$10:$D$159,4),\"\")","v":""}]
[null,null,null,{"$f":"IF(C1859>0,VLOOKUP(C1859,Liste!$A$10:$D$159,4),\"\")","v":""}]
[null,null,null,{"$f":"IF(C1860>0,VLOOKUP(C1860,Liste!$A$10:$D$159,4),\"\")","v":""}]
[null,null,null,{"$f":"IF(C1861>0,VLOOKUP(C1861,Liste!$A$10:$D$159,4),\"\")","v":""}]
[null,null,null,{"$f":"IF(C1862>0,VLOOKUP(C1862,Liste!$A$10:$D$159,4),\"\")","v":""}]
[null,null,null,{"$f":"IF(C1863>0,VLOOKUP(C1863,Liste!$A$10:$D$159,4),\"\")","v":""}]
[null,null,null,{"$f":"IF(C1864>0,VLOOKUP(C1864,Liste!$A$10:$D$159,4),\"\")","v":""}]
[null,null,null,{"$f":"IF(C1865>0,VLOOKUP(C1865,Liste!$A$10:$D$159,4),\"\")","v":""}]
[null,null,null,{"$f":"IF(C1866>0,VLOOKUP(C1866,Liste!$A$10:$D$159,4),\"\")","v":""}]
[null,null,null,{"$f":"IF(C1867>0,VLOOKUP(C1867,Liste!$A$10:$D$159,4),\"\")","v":""}]
[null,null,null,{"$f":"IF(C1868>0,VLOOKUP(C1868,Liste!$A$10:$D$159,4),\"\")","v":""}]
[null,null,null,{"$f":"IF(C1869>0,VLOOKUP(C1869,Liste!$A$10:$D$159,4),\"\")","v":""}]
[null,null,null,{"$f":"IF(C1870>0,VLOOKUP(C1870,Liste!$A$10:$D$159,4),\"\")","v":""}]
[null,null,null,{"$f":"IF(C1871>0,VLOOKUP(C1871,Liste!$A$10:$D$159,4),\"\")","v":""}]
[null,null,null,{"$f":"IF(C1872>0,VLOOKUP(C1872,Liste!$A$10:$D$159,4),\"\")","v":""}]
[null,null,null,{"$f":"IF(C1873>0,VLOOKUP(C1873,Liste!$A$10:$D$159,4),\"\")","v":""}]
[null,null,null,{"$f":"IF(C1874>0,VLOOKUP(C1874,Liste!$A$10:$D$159,4),\"\")","v":""}]
[null,null,null,{"$f":"IF(C1875>0,VLOOKUP(C1875,Liste!$A$10:$D$159,4),\"\")","v":""}]
[null,null,null,{"$f":"IF(C1876>0,VLOOKUP(C1876,Liste!$A$10:$D$159,4),\"\")","v":""}]
[null,null,null,{"$f":"IF(C1877>0,VLOOKUP(C1877,Liste!$A$10:$D$159,4),\"\")","v":""}]
[null,null,null,{"$f":"IF(C1878>0,VLOOKUP(C1878,Liste!$A$10:$D$159,4),\"\")","v":""}]
[null,null,null,{"$f":"IF(C1879>0,VLOOKUP(C1879,Liste!$A$10:$D$159,4),\"\")","v":""}]
[null,null,null,{"$f":"IF(C1880>0,VLOOKUP(C1880,Liste!$A$10:$D$159,4),\"\")","v":""}]
[null,null,null,{"$f":"IF(C1881>0,VLOOKUP(C1881,Liste!$A$10:$D$159,4),\"\")","v":""}]
[null,null,null,{"$f":"IF(C1882>0,VLOOKUP(C1882,Liste!$A$10:$D$159,4),\"\")","v":""}]
[null,null,null,{"$f":"IF(C1883>0,VLOOKUP(C1883,Liste!$A$10:$D$159,4),\"\")","v":""}]
[null,null,null,{"$f":"IF(C1884>0,VLOOKUP(C1884,Liste!$A$10:$D$159,4),\"\")","v":""}]
[null,null,null,{"$f":"IF(C1885>0,VLOOKUP(C1885,Liste!$A$10:$D$159,4),\"\")","v":""}]
[null,null,null,{"$f":"IF(C1886>0,VLOOKUP(C1886,Liste!$A$10:$D$159,4),\"\")","v":""}]
[null,null,null,{"$f":"IF(C1887>0,VLOOKUP(C1887,Liste!$A$10:$D$159,4),\"\")","v":""}]
[null,null,null,{"$f":"IF(C1888>0,VLOOKUP(C1888,Liste!$A$10:$D$159,4),\"\")","v":""}]
[null,null,null,{"$f":"IF(C1889>0,VLOOKUP(C1889,Liste!$A$10:$D$159,4),\"\")","v":""}]
[null,null,null,{"$f":"IF(C1890>0,VLOOKUP(C1890,Liste!$A$10:$D$159,4),\"\")","v":""}]
[null,null,null,{"$f":"IF(C1891>0,VLOOKUP(C1891,Liste!$A$10:$D$159,4),\"\")","v":""}]
[null,null,null,{"$f":"IF(C1892>0,VLOOKUP(C1892,Liste!$A$10:$D$159,4),\"\")","v":""}]
[null,null,null,{"$f":"IF(C1893>0,VLOOKUP(C1893,Liste!$A$10:$D$159,4),\"\")","v":""}]
[null,null,null,{"$f":"IF(C1894>0,VLOOKUP(C1894,Liste!$A$10:$D$159,4),\"\")","v":""}]
[null,null,null,{"$f":"IF(C1895>0,VLOOKUP(C1895,Liste!$A$10:$D$159,4),\"\")","v":""}]
[null,null,null,{"$f":"IF(C1896>0,VLOOKUP(C1896,Liste!$A$10:$D$159,4),\"\")","v":""}]
[null,null,null,{"$f":"IF(C1897>0,VLOOKUP(C1897,Liste!$A$10:$D$159,4),\"\")","v":""}]
[null,null,null,{"$f":"IF(C1898>0,VLOOKUP(C1898,Liste!$A$10:$D$159,4),\"\")","v":""}]
[null,null,null,{"$f":"IF(C1899>0,VLOOKUP(C1899,Liste!$A$10:$D$159,4),\"\")","v":""}]
[null,null,null,{"$f":"IF(C1900>0,VLOOKUP(C1900,Liste!$A$10:$D$159,4),\"\")","v":""}]
[null,null,null,{"$f":"IF(C1901>0,VLOOKUP(C1901,Liste!$A$10:$D$159,4),\"\")","v":""}]
[null,null,null,{"$f":"IF(C1902>0,VLOOKUP(C1902,Liste!$A$10:$D$159,4),\"\")","v":""}]
[null,null,null,{"$f":"IF(C1903>0,VLOOKUP(C1903,Liste!$A$10:$D$159,4),\"\")","v":""}]
[null,null,null,{"$f":"IF(C1904>0,VLOOKUP(C1904,Liste!$A$10:$D$159,4),\"\")","v":""}]
[null,null,null,{"$f":"IF(C1905>0,VLOOKUP(C1905,Liste!$A$10:$D$159,4),\"\")","v":""}]
[null,null,null,{"$f":"IF(C1906>0,VLOOKUP(C1906,Liste!$A$10:$D$159,4),\"\")","v":""}]
[null,null,null,{"$f":"IF(C1907>0,VLOOKUP(C1907,Liste!$A$10:$D$159,4),\"\")","v":""}]
[null,null,null,{"$f":"IF(C1908>0,VLOOKUP(C1908,Liste!$A$10:$D$159,4),\"\")","v":""}]
[null,null,null,{"$f":"IF(C1909>0,VLOOKUP(C1909,Liste!$A$10:$D$159,4),\"\")","v":""}]
[null,null,null,{"$f":"IF(C1910>0,VLOOKUP(C1910,Liste!$A$10:$D$159,4),\"\")","v":""}]
[null,null,null,{"$f":"IF(C1911>0,VLOOKUP(C1911,Liste!$A$10:$D$159,4),\"\")","v":""}]
[null,null,null,{"$f":"IF(C1912>0,VLOOKUP(C1912,Liste!$A$10:$D$159,4),\"\")","v":""}]
[null,null,null,{"$f":"IF(C1913>0,VLOOKUP(C1913,Liste!$A$10:$D$159,4),\"\")","v":""}]
[null,null,null,{"$f":"IF(C1914>0,VLOOKUP(C1914,Liste!$A$10:$D$159,4),\"\")","v":""}]
[null,null,null,{"$f":"IF(C1915>0,VLOOKUP(C1915,Liste!$A$10:$D$159,4),\"\")","v":""}]
[null,null,null,{"$f":"IF(C1916>0,VLOOKUP(C1916,Liste!$A$10:$D$159,4),\"\")","v":""}]
[null,null,null,{"$f":"IF(C1917>0,VLOOKUP(C1917,Liste!$A$10:$D$159,4),\"\")","v":""}]
[null,null,null,{"$f":"IF(C1918>0,VLOOKUP(C1918,Liste!$A$10:$D$159,4),\"\")","v":""}]
[null,null,null,{"$f":"IF(C1919>0,VLOOKUP(C1919,Liste!$A$10:$D$159,4),\"\")","v":""}]
[null,null,null,{"$f":"IF(C1920>0,VLOOKUP(C1920,Liste!$A$10:$D$159,4),\"\")","v":""}]
[null,null,null,{"$f":"IF(C1921>0,VLOOKUP(C1921,Liste!$A$10:$D$159,4),\"\")","v":""}]
[null,null,null,{"$f":"IF(C1922>0,VLOOKUP(C1922,Liste!$A$10:$D$159,4),\"\")","v":""}]
[null,null,null,{"$f":"IF(C1923>0,VLOOKUP(C1923,Liste!$A$10:$D$159,4),\"\")","v":""}]
[null,null,null,{"$f":"IF(C1924>0,VLOOKUP(C1924,Liste!$A$10:$D$159,4),\"\")","v":""}]
[null,null,null,{"$f":"IF(C1925>0,VLOOKUP(C1925,Liste!$A$10:$D$159,4),\"\")","v":""}]
[null,null,null,{"$f":"IF(C1926>0,VLOOKUP(C1926,Liste!$A$10:$D$159,4),\"\")","v":""}]
[null,null,null,{"$f":"IF(C1927>0,VLOOKUP(C1927,Liste!$A$10:$D$159,4),\"\")","v":""}]
[null,null,null,{"$f":"IF(C1928>0,VLOOKUP(C1928,Liste!$A$10:$D$159,4),\"\")","v":""}]
[null,null,null,{"$f":"IF(C1929>0,VLOOKUP(C1929,Liste!$A$10:$D$159,4),\"\")","v":""}]
[null,null,null,{"$f":"IF(C1930>0,VLOOKUP(C1930,Liste!$A$10:$D$159,4),\"\")","v":""}]
[null,null,null,{"$f":"IF(C1931>0,VLOOKUP(C1931,Liste!$A$10:$D$159,4),\"\")","v":""}]
[null,null,null,{"$f":"IF(C1932>0,VLOOKUP(C1932,Liste!$A$10:$D$159,4),\"\")","v":""}]
[null,null,null,{"$f":"IF(C1933>0,VLOOKUP(C1933,Liste!$A$10:$D$159,4),\"\")","v":""}]
[null,null,null,{"$f":"IF(C1934>0,VLOOKUP(C1934,Liste!$A$10:$D$159,4),\"\")","v":""}]
[null,null,null,{"$f":"IF(C1935>0,VLOOKUP(C1935,Liste!$A$10:$D$159,4),\"\")","v":""}]
[null,null,null,{"$f":"IF(C1936>0,VLOOKUP(C1936,Liste!$A$10:$D$159,4),\"\")","v":""}]
[null,null,null,{"$f":"IF(C1937>0,VLOOKUP(C1937,Liste!$A$10:$D$159,4),\"\")","v":""}]
[null,null,null,{"$f":"IF(C1938>0,VLOOKUP(C1938,Liste!$A$10:$D$159,4),\"\")","v":""}]
[null,null,null,{"$f":"IF(C1939>0,VLOOKUP(C1939,Liste!$A$10:$D$159,4),\"\")","v":""}]
[null,null,null,{"$f":"IF(C1940>0,VLOOKUP(C1940,Liste!$A$10:$D$159,4),\"\")","v":""}]
[null,null,null,{"$f":"IF(C1941>0,VLOOKUP(C1941,Liste!$A$10:$D$159,4),\"\")","v":""}]
[null,null,null,{"$f":"IF(C1942>0,VLOOKUP(C1942,Liste!$A$10:$D$159,4),\"\")","v":""}]
[null,null,null,{"$f":"IF(C1943>0,VLOOKUP(C1943,Liste!$A$10:$D$159,4),\"\")","v":""}]
[null,null,null,{"$f":"IF(C1944>0,VLOOKUP(C1944,Liste!$A$10:$D$159,4),\"\")","v":""}]
[null,null,null,{"$f":"IF(C1945>0,VLOOKUP(C1945,Liste!$A$10:$D$159,4),\"\")","v":""}]
[null,null,null,{"$f":"IF(C1946>0,VLOOKUP(C1946,Liste!$A$10:$D$159,4),\"\")","v":""}]
[null,null,null,{"$f":"IF(C1947>0,VLOOKUP(C1947,Liste!$A$10:$D$159,4),\"\")","v":""}]
[null,null,null,{"$f":"IF(C1948>0,VLOOKUP(C1948,Liste!$A$10:$D$159,4),\"\")","v":""}]
[null,null,null,{"$f":"IF(C1949>0,VLOOKUP(C1949,Liste!$A$10:$D$159,4),\"\")","v":""}]
[null,null,null,{"$f":"IF(C1950>0,VLOOKUP(C1950,Liste!$A$10:$D$159,4),\"\")","v":""}]
[null,null,null,{"$f":"IF(C1951>0,VLOOKUP(C1951,Liste!$A$10:$D$159,4),\"\")","v":""}]
[null,null,null,{"$f":"IF(C1952>0,VLOOKUP(C1952,Liste!$A$10:$D$159,4),\"\")","v":""}]
[null,null,null,{"$f":"IF(C1953>0,VLOOKUP(C1953,Liste!$A$10:$D$159,4),\"\")","v":""}]
[null,null,null,{"$f":"IF(C1954>0,VLOOKUP(C1954,Liste!$A$10:$D$159,4),\"\")","v":""}]
[null,null,null,{"$f":"IF(C1955>0,VLOOKUP(C1955,Liste!$A$10:$D$159,4),\"\")","v":""}]
[null,null,null,{"$f":"IF(C1956>0,VLOOKUP(C1956,Liste!$A$10:$D$159,4),\"\")","v":""}]
[null,null,null,{"$f":"IF(C1957>0,VLOOKUP(C1957,Liste!$A$10:$D$159,4),\"\")","v":""}]
[null,null,null,{"$f":"IF(C1958>0,VLOOKUP(C1958,Liste!$A$10:$D$159,4),\"\")","v":""}]
[null,null,null,{"$f":"IF(C1959>0,VLOOKUP(C1959,Liste!$A$10:$D$159,4),\"\")","v":""}]
[null,null,null,{"$f":"IF(C1960>0,VLOOKUP(C1960,Liste!$A$10:$D$159,4),\"\")","v":""}]
[null,null,null,{"$f":"IF(C1961>0,VLOOKUP(C1961,Liste!$A$10:$D$159,4),\"\")","v":""}]
[null,null,null,{"$f":"IF(C1962>0,VLOOKUP(C1962,Liste!$A$10:$D$159,4),\"\")","v":""}]
[null,null,null,{"$f":"IF(C1963>0,VLOOKUP(C1963,Liste!$A$10:$D$159,4),\"\")","v":""}]
[null,null,null,{"$f":"IF(C1964>0,VLOOKUP(C1964,Liste!$A$10:$D$159,4),\"\")","v":""}]
[null,null,null,{"$f":"IF(C1965>0,VLOOKUP(C1965,Liste!$A$10:$D$159,4),\"\")","v":""}]
[null,null,null,{"$f":"IF(C1966>0,VLOOKUP(C1966,Liste!$A$10:$D$159,4),\"\")","v":""}]
[null,null,null,{"$f":"IF(C1967>0,VLOOKUP(C1967,Liste!$A$10:$D$159,4),\"\")","v":""}]
[null,null,null,{"$f":"IF(C1968>0,VLOOKUP(C1968,Liste!$A$10:$D$159,4),\"\")","v":""}]
[null,null,null,{"$f":"IF(C1969>0,VLOOKUP(C1969,Liste!$A$10:$D$159,4),\"\")","v":""}]
[null,null,null,{"$f":"IF(C1970>0,VLOOKUP(C1970,Liste!$A$10:$D$159,4),\"\")","v":""}]
[null,null,null,{"$f":"IF(C1971>0,VLOOKUP(C1971,Liste!$A$10:$D$159,4),\"\")","v":""}]
[null,null,null,{"$f":"IF(C1972>0,VLOOKUP(C1972,Liste!$A$10:$D$159,4),\"\")","v":""}]
[null,null,null,{"$f":"IF(C1973>0,VLOOKUP(C1973,Liste!$A$10:$D$159,4),\"\")","v":""}]
[null,null,null,{"$f":"IF(C1974>0,VLOOKUP(C1974,Liste!$A$10:$D$159,4),\"\")","v":""}]
[null,null,null,{"$f":"IF(C1975>0,VLOOKUP(C1975,Liste!$A$10:$D$159,4),\"\")","v":""}]
[null,null,null,{"$f":"IF(C1976>0,VLOOKUP(C1976,Liste!$A$10:$D$159,4),\"\")","v":""}]
[null,null,null,{"$f":"IF(C1977>0,VLOOKUP(C1977,Liste!$A$10:$D$159,4),\"\")","v":""}]
[null,null,null,{"$f":"IF(C1978>0,VLOOKUP(C1978,Liste!$A$10:$D$159,4),\"\")","v":""}]
[null,null,null,{"$f":"IF(C1979>0,VLOOKUP(C1979,Liste!$A$10:$D$159,4),\"\")","v":""}]
[null,null,null,{"$f":"IF(C1980>0,VLOOKUP(C1980,Liste!$A$10:$D$159,4),\"\")","v":""}]
[null,null,null,{"$f":"IF(C1981>0,VLOOKUP(C1981,Liste!$A$10:$D$159,4),\"\")","v":""}]
[null,null,null,{"$f":"IF(C1982>0,VLOOKUP(C1982,Liste!$A$10:$D$159,4),\"\")","v":""}]
[null,null,null,{"$f":"IF(C1983>0,VLOOKUP(C1983,Liste!$A$10:$D$159,4),\"\")","v":""}]
[null,null,null,{"$f":"IF(C1984>0,VLOOKUP(C1984,Liste!$A$10:$D$159,4),\"\")","v":""}]
[null,null,null,{"$f":"IF(C1985>0,VLOOKUP(C1985,Liste!$A$10:$D$159,4),\"\")","v":""}]
[null,null,null,{"$f":"IF(C1986>0,VLOOKUP(C1986,Liste!$A$10:$D$159,4),\"\")","v":""}]
[null,null,null,{"$f":"IF(C1987>0,VLOOKUP(C1987,Liste!$A$10:$D$159,4),\"\")","v":""}]
[null,null,null,{"$f":"IF(C1988>0,VLOOKUP(C1988,Liste!$A$10:$D$159,4),\"\")","v":""}]
[null,null,null,{"$f":"IF(C1989>0,VLOOKUP(C1989,Liste!$A$10:$D$159,4),\"\")","v":""}]
[null,null,null,{"$f":"IF(C1990>0,VLOOKUP(C1990,Liste!$A$10:$D$159,4),\"\")","v":""}]
[null,null,null,{"$f":"IF(C1991>0,VLOOKUP(C1991,Liste!$A$10:$D$159,4),\"\")","v":""}]
[null,null,null,{"$f":"IF(C1992>0,VLOOKUP(C1992,Liste!$A$10:$D$159,4),\"\")","v":""}]
[null,null,null,{"$f":"IF(C1993>0,VLOOKUP(C1993,Liste!$A$10:$D$159,4),\"\")","v":""}]
[null,null,null,{"$f":"IF(C1994>0,VLOOKUP(C1994,Liste!$A$10:$D$159,4),\"\")","v":""}]
[null,null,null,{"$f":"IF(C1995>0,VLOOKUP(C1995,Liste!$A$10:$D$159,4),\"\")","v":""}]
[null,null,null,{"$f":"IF(C1996>0,VLOOKUP(C1996,Liste!$A$10:$D$159,4),\"\")","v":""}]
[null,null,null,{"$f":"IF(C1997>0,VLOOKUP(C1997,Liste!$A$10:$D$159,4),\"\")","v":""}]
[null,null,null,{"$f":"IF(C1998>0,VLOOKUP(C1998,Liste!$A$10:$D$159,4),\"\")","v":""}]
[null,null,null,{"$f":"IF(C1999>0,VLOOKUP(C1999,Liste!$A$10:$D$159,4),\"\")","v":""}]
[null,null,null,{"$f":"IF(C2000>0,VLOOKUP(C2000,Liste!$A$10:$D$159,4),\"\")","v":""}]
[null,null,null,{"$f":"IF(C2001>0,VLOOKUP(C2001,Liste!$A$10:$D$159,4),\"\")","v":""}]
[null,null,null,{"$f":"IF(C2002>0,VLOOKUP(C2002,Liste!$A$10:$D$159,4),\"\")","v":""}]
[null,null,null,{"$f":"IF(C2003>0,VLOOKUP(C2003,Liste!$A$10:$D$159,4),\"\")","v":""}]
[null,null,null,{"$f":"IF(C2004>0,VLOOKUP(C2004,Liste!$A$10:$D$159,4),\"\")","v":""}]
[null,null,null,{"$f":"IF(C2005>0,VLOOKUP(C2005,Liste!$A$10:$D$159,4),\"\")","v":""}]
[null,null,null,{"$f":"IF(C2006>0,VLOOKUP(C2006,Liste!$A$10:$D$159,4),\"\")","v":""}]
[null,null,null,{"$f":"IF(C2007>0,VLOOKUP(C2007,Liste!$A$10:$D$159,4),\"\")","v":""}]
[null,null,null,{"$f":"IF(C2008>0,VLOOKUP(C2008,Liste!$A$10:$D$159,4),\"\")","v":""}]
[null,null,null,{"$f":"IF(C2009>0,VLOOKUP(C2009,Liste!$A$10:$D$159,4),\"\")","v":""}]
[null,null,null,{"$f":"IF(C2010>0,VLOOKUP(C2010,Liste!$A$10:$D$159,4),\"\")","v":""}]
[null,null,null,{"$f":"IF(C2011>0,VLOOKUP(C2011,Liste!$A$10:$D$159,4),\"\")","v":""}]
[null,null,null,{"$f":"IF(C2012>0,VLOOKUP(C2012,Liste!$A$10:$D$159,4),\"\")","v":""}]
[null,null,null,{"$f":"IF(C2013>0,VLOOKUP(C2013,Liste!$A$10:$D$159,4),\"\")","v":""}]
[null,null,null,{"$f":"IF(C2014>0,VLOOKUP(C2014,Liste!$A$10:$D$159,4),\"\")","v":""}]
[null,null,null,{"$f":"IF(C2015>0,VLOOKUP(C2015,Liste!$A$10:$D$159,4),\"\")","v":""}]
[null,null,null,{"$f":"IF(C2016>0,VLOOKUP(C2016,Liste!$A$10:$D$159,4),\"\")","v":""}]
[null,null,null,{"$f":"IF(C2017>0,VLOOKUP(C2017,Liste!$A$10:$D$159,4),\"\")","v":""}]
[null,null,null,{"$f":"IF(C2018>0,VLOOKUP(C2018,Liste!$A$10:$D$159,4),\"\")","v":""}]
[null,null,null,{"$f":"IF(C2019>0,VLOOKUP(C2019,Liste!$A$10:$D$159,4),\"\")","v":""}]
[null,null,null,{"$f":"IF(C2020>0,VLOOKUP(C2020,Liste!$A$10:$D$159,4),\"\")","v":""}]
[null,null,null,{"$f":"IF(C2021>0,VLOOKUP(C2021,Liste!$A$10:$D$159,4),\"\")","v":""}]
[null,null,null,{"$f":"IF(C2022>0,VLOOKUP(C2022,Liste!$A$10:$D$159,4),\"\")","v":""}]
[null,null,null,{"$f":"IF(C2023>0,VLOOKUP(C2023,Liste!$A$10:$D$159,4),\"\")","v":""}]
[null,null,null,{"$f":"IF(C2024>0,VLOOKUP(C2024,Liste!$A$10:$D$159,4),\"\")","v":""}]
[null,null,null,{"$f":"IF(C2025>0,VLOOKUP(C2025,Liste!$A$10:$D$159,4),\"\")","v":""}]
[null,null,null,{"$f":"IF(C2026>0,VLOOKUP(C2026,Liste!$A$10:$D$159,4),\"\")","v":""}]
[null,null,null,{"$f":"IF(C2027>0,VLOOKUP(C2027,Liste!$A$10:$D$159,4),\"\")","v":""}]
[null,null,null,{"$f":"IF(C2028>0,VLOOKUP(C2028,Liste!$A$10:$D$159,4),\"\")","v":""}]
[null,null,null,{"$f":"IF(C2029>0,VLOOKUP(C2029,Liste!$A$10:$D$159,4),\"\")","v":""}]
[null,null,null,{"$f":"IF(C2030>0,VLOOKUP(C2030,Liste!$A$10:$D$159,4),\"\")","v":""}]
[null,null,null,{"$f":"IF(C2031>0,VLOOKUP(C2031,Liste!$A$10:$D$159,4),\"\")","v":""}]
[null,null,null,{"$f":"IF(C2032>0,VLOOKUP(C2032,Liste!$A$10:$D$159,4),\"\")","v":""}]
[null,null,null,{"$f":"IF(C2033>0,VLOOKUP(C2033,Liste!$A$10:$D$159,4),\"\")","v":""}]
[null,null,null,{"$f":"IF(C2034>0,VLOOKUP(C2034,Liste!$A$10:$D$159,4),\"\")","v":""}]
[null,null,null,{"$f":"IF(C2035>0,VLOOKUP(C2035,Liste!$A$10:$D$159,4),\"\")","v":""}]
[null,null,null,{"$f":"IF(C2036>0,VLOOKUP(C2036,Liste!$A$10:$D$159,4),\"\")","v":""}]
[null,null,null,{"$f":"IF(C2037>0,VLOOKUP(C2037,Liste!$A$10:$D$159,4),\"\")","v":""}]
[null,null,null,{"$f":"IF(C2038>0,VLOOKUP(C2038,Liste!$A$10:$D$159,4),\"\")","v":""}]
[null,null,null,{"$f":"IF(C2039>0,VLOOKUP(C2039,Liste!$A$10:$D$159,4),\"\")","v":""}]
[null,null,null,{"$f":"IF(C2040>0,VLOOKUP(C2040,Liste!$A$10:$D$159,4),\"\")","v":""}]
[null,null,null,{"$f":"IF(C2041>0,VLOOKUP(C2041,Liste!$A$10:$D$159,4),\"\")","v":""}]
[null,null,null,{"$f":"IF(C2042>0,VLOOKUP(C2042,Liste!$A$10:$D$159,4),\"\")","v":""}]
[null,null,null,{"$f":"IF(C2043>0,VLOOKUP(C2043,Liste!$A$10:$D$159,4),\"\")","v":""}]
[null,null,null,{"$f":"IF(C2044>0,VLOOKUP(C2044,Liste!$A$10:$D$159,4),\"\")","v":""}]
[null,null,null,{"$f":"IF(C2045>0,VLOOKUP(C2045,Liste!$A$10:$D$159,4),\"\")","v":""}]
[null,null,null,{"$f":"IF(C2046>0,VLOOKUP(C2046,Liste!$A$10:$D$159,4),\"\")","v":""}]
[null,null,null,{"$f":"IF(C2047>0,VLOOKUP(C2047,Liste!$A$10:$D$159,4),\"\")","v":""}]
[null,null,null,{"$f":"IF(C2048>0,VLOOKUP(C2048,Liste!$A$10:$D$159,4),\"\")","v":""}]
[null,null,null,{"$f":"IF(C2049>0,VLOOKUP(C2049,Liste!$A$10:$D$159,4),\"\")","v":""}]
[null,null,null,{"$f":"IF(C2050>0,VLOOKUP(C2050,Liste!$A$10:$D$159,4),\"\")","v":""}]
[null,null,null,{"$f":"IF(C2051>0,VLOOKUP(C2051,Liste!$A$10:$D$159,4),\"\")","v":""}]
[null,null,null,{"$f":"IF(C2052>0,VLOOKUP(C2052,Liste!$A$10:$D$159,4),\"\")","v":""}]
[null,null,null,{"$f":"IF(C2053>0,VLOOKUP(C2053,Liste!$A$10:$D$159,4),\"\")","v":""}]
[null,null,null,{"$f":"IF(C2054>0,VLOOKUP(C2054,Liste!$A$10:$D$159,4),\"\")","v":""}]
[null,null,null,{"$f":"IF(C2055>0,VLOOKUP(C2055,Liste!$A$10:$D$159,4),\"\")","v":""}]
[null,null,null,{"$f":"IF(C2056>0,VLOOKUP(C2056,Liste!$A$10:$D$159,4),\"\")","v":""}]
[null,null,null,{"$f":"IF(C2057>0,VLOOKUP(C2057,Liste!$A$10:$D$159,4),\"\")","v":""}]
[null,null,null,{"$f":"IF(C2058>0,VLOOKUP(C2058,Liste!$A$10:$D$159,4),\"\")","v":""}]
[null,null,null,{"$f":"IF(C2059>0,VLOOKUP(C2059,Liste!$A$10:$D$159,4),\"\")","v":""}]
[null,null,null,{"$f":"IF(C2060>0,VLOOKUP(C2060,Liste!$A$10:$D$159,4),\"\")","v":""}]
[null,null,null,{"$f":"IF(C2061>0,VLOOKUP(C2061,Liste!$A$10:$D$159,4),\"\")","v":""}]
[null,null,null,{"$f":"IF(C2062>0,VLOOKUP(C2062,Liste!$A$10:$D$159,4),\"\")","v":""}]
[null,null,null,{"$f":"IF(C2063>0,VLOOKUP(C2063,Liste!$A$10:$D$159,4),\"\")","v":""}]
[null,null,null,{"$f":"IF(C2064>0,VLOOKUP(C2064,Liste!$A$10:$D$159,4),\"\")","v":""}]
[null,null,null,{"$f":"IF(C2065>0,VLOOKUP(C2065,Liste!$A$10:$D$159,4),\"\")","v":""}]
[null,null,null,{"$f":"IF(C2066>0,VLOOKUP(C2066,Liste!$A$10:$D$159,4),\"\")","v":""}]
[null,null,null,{"$f":"IF(C2067>0,VLOOKUP(C2067,Liste!$A$10:$D$159,4),\"\")","v":""}]
[null,null,null,{"$f":"IF(C2068>0,VLOOKUP(C2068,Liste!$A$10:$D$159,4),\"\")","v":""}]
[null,null,null,{"$f":"IF(C2069>0,VLOOKUP(C2069,Liste!$A$10:$D$159,4),\"\")","v":""}]
[null,null,null,{"$f":"IF(C2070>0,VLOOKUP(C2070,Liste!$A$10:$D$159,4),\"\")","v":""}]
[null,null,null,{"$f":"IF(C2071>0,VLOOKUP(C2071,Liste!$A$10:$D$159,4),\"\")","v":""}]
[null,null,null,{"$f":"IF(C2072>0,VLOOKUP(C2072,Liste!$A$10:$D$159,4),\"\")","v":""}]
[null,null,null,{"$f":"IF(C2073>0,VLOOKUP(C2073,Liste!$A$10:$D$159,4),\"\")","v":""}]
[null,null,null,{"$f":"IF(C2074>0,VLOOKUP(C2074,Liste!$A$10:$D$159,4),\"\")","v":""}]
[null,null,null,{"$f":"IF(C2075>0,VLOOKUP(C2075,Liste!$A$10:$D$159,4),\"\")","v":""}]
[null,null,null,{"$f":"IF(C2076>0,VLOOKUP(C2076,Liste!$A$10:$D$159,4),\"\")","v":""}]
[null,null,null,{"$f":"IF(C2077>0,VLOOKUP(C2077,Liste!$A$10:$D$159,4),\"\")","v":""}]
[null,null,null,{"$f":"IF(C2078>0,VLOOKUP(C2078,Liste!$A$10:$D$159,4),\"\")","v":""}]
[null,null,null,{"$f":"IF(C2079>0,VLOOKUP(C2079,Liste!$A$10:$D$159,4),\"\")","v":""}]
[null,null,null,{"$f":"IF(C2080>0,VLOOKUP(C2080,Liste!$A$10:$D$159,4),\"\")","v":""}]
[null,null,null,{"$f":"IF(C2081>0,VLOOKUP(C2081,Liste!$A$10:$D$159,4),\"\")","v":""}]
[null,null,null,{"$f":"IF(C2082>0,VLOOKUP(C2082,Liste!$A$10:$D$159,4),\"\")","v":""}]
[null,null,null,{"$f":"IF(C2083>0,VLOOKUP(C2083,Liste!$A$10:$D$159,4),\"\")","v":""}]
[null,null,null,{"$f":"IF(C2084>0,VLOOKUP(C2084,Liste!$A$10:$D$159,4),\"\")","v":""}]
[null,null,null,{"$f":"IF(C2085>0,VLOOKUP(C2085,Liste!$A$10:$D$159,4),\"\")","v":""}]
[null,null,null,{"$f":"IF(C2086>0,VLOOKUP(C2086,Liste!$A$10:$D$159,4),\"\")","v":""}]
[null,null,null,{"$f":"IF(C2087>0,VLOOKUP(C2087,Liste!$A$10:$D$159,4),\"\")","v":""}]
[null,null,null,{"$f":"IF(C2088>0,VLOOKUP(C2088,Liste!$A$10:$D$159,4),\"\")","v":""}]
[null,null,null,{"$f":"IF(C2089>0,VLOOKUP(C2089,Liste!$A$10:$D$159,4),\"\")","v":""}]
[null,null,null,{"$f":"IF(C2090>0,VLOOKUP(C2090,Liste!$A$10:$D$159,4),\"\")","v":""}]
[null,null,null,{"$f":"IF(C2091>0,VLOOKUP(C2091,Liste!$A$10:$D$159,4),\"\")","v":""}]
[null,null,null,{"$f":"IF(C2092>0,VLOOKUP(C2092,Liste!$A$10:$D$159,4),\"\")","v":""}]
[null,null,null,{"$f":"IF(C2093>0,VLOOKUP(C2093,Liste!$A$10:$D$159,4),\"\")","v":""}]
[null,null,null,{"$f":"IF(C2094>0,VLOOKUP(C2094,Liste!$A$10:$D$159,4),\"\")","v":""}]
[null,null,null,{"$f":"IF(C2095>0,VLOOKUP(C2095,Liste!$A$10:$D$159,4),\"\")","v":""}]
[null,null,null,{"$f":"IF(C2096>0,VLOOKUP(C2096,Liste!$A$10:$D$159,4),\"\")","v":""}]
[null,null,null,{"$f":"IF(C2097>0,VLOOKUP(C2097,Liste!$A$10:$D$159,4),\"\")","v":""}]
[null,null,null,{"$f":"IF(C2098>0,VLOOKUP(C2098,Liste!$A$10:$D$159,4),\"\")","v":""}]
[null,null,null,{"$f":"IF(C2099>0,VLOOKUP(C2099,Liste!$A$10:$D$159,4),\"\")","v":""}]
[null,null,null,{"$f":"IF(C2100>0,VLOOKUP(C2100,Liste!$A$10:$D$159,4),\"\")","v":""}]
[null,null,null,{"$f":"IF(C2101>0,VLOOKUP(C2101,Liste!$A$10:$D$159,4),\"\")","v":""}]
[null,null,null,{"$f":"IF(C2102>0,VLOOKUP(C2102,Liste!$A$10:$D$159,4),\"\")","v":""}]
[null,null,null,{"$f":"IF(C2103>0,VLOOKUP(C2103,Liste!$A$10:$D$159,4),\"\")","v":""}]
[null,null,null,{"$f":"IF(C2104>0,VLOOKUP(C2104,Liste!$A$10:$D$159,4),\"\")","v":""}]
[null,null,null,{"$f":"IF(C2105>0,VLOOKUP(C2105,Liste!$A$10:$D$159,4),\"\")","v":""}]
[null,null,null,{"$f":"IF(C2106>0,VLOOKUP(C2106,Liste!$A$10:$D$159,4),\"\")","v":""}]
[null,null,null,{"$f":"IF(C2107>0,VLOOKUP(C2107,Liste!$A$10:$D$159,4),\"\")","v":""}]
[null,null,null,{"$f":"IF(C2108>0,VLOOKUP(C2108,Liste!$A$10:$D$159,4),\"\")","v":""}]
[null,null,null,{"$f":"IF(C2109>0,VLOOKUP(C2109,Liste!$A$10:$D$159,4),\"\")","v":""}]
[null,null,null,{"$f":"IF(C2110>0,VLOOKUP(C2110,Liste!$A$10:$D$159,4),\"\")","v":""}]
[null,null,null,{"$f":"IF(C2111>0,VLOOKUP(C2111,Liste!$A$10:$D$159,4),\"\")","v":""}]
[null,null,null,{"$f":"IF(C2112>0,VLOOKUP(C2112,Liste!$A$10:$D$159,4),\"\")","v":""}]
[null,null,null,{"$f":"IF(C2113>0,VLOOKUP(C2113,Liste!$A$10:$D$159,4),\"\")","v":""}]
[null,null,null,{"$f":"IF(C2114>0,VLOOKUP(C2114,Liste!$A$10:$D$159,4),\"\")","v":""}]
[null,null,null,{"$f":"IF(C2115>0,VLOOKUP(C2115,Liste!$A$10:$D$159,4),\"\")","v":""}]
[null,null,null,{"$f":"IF(C2116>0,VLOOKUP(C2116,Liste!$A$10:$D$159,4),\"\")","v":""}]
[null,null,null,{"$f":"IF(C2117>0,VLOOKUP(C2117,Liste!$A$10:$D$159,4),\"\")","v":""}]
[null,null,null,{"$f":"IF(C2118>0,VLOOKUP(C2118,Liste!$A$10:$D$159,4),\"\")","v":""}]
[null,null,null,{"$f":"IF(C2119>0,VLOOKUP(C2119,Liste!$A$10:$D$159,4),\"\")","v":""}]
[null,null,null,{"$f":"IF(C2120>0,VLOOKUP(C2120,Liste!$A$10:$D$159,4),\"\")","v":""}]
[null,null,null,{"$f":"IF(C2121>0,VLOOKUP(C2121,Liste!$A$10:$D$159,4),\"\")","v":""}]
[null,null,null,{"$f":"IF(C2122>0,VLOOKUP(C2122,Liste!$A$10:$D$159,4),\"\")","v":""}]
[null,null,null,{"$f":"IF(C2123>0,VLOOKUP(C2123,Liste!$A$10:$D$159,4),\"\")","v":""}]
[null,null,null,{"$f":"IF(C2124>0,VLOOKUP(C2124,Liste!$A$10:$D$159,4),\"\")","v":""}]
[null,null,null,{"$f":"IF(C2125>0,VLOOKUP(C2125,Liste!$A$10:$D$159,4),\"\")","v":""}]
[null,null,null,{"$f":"IF(C2126>0,VLOOKUP(C2126,Liste!$A$10:$D$159,4),\"\")","v":""}]
[null,null,null,{"$f":"IF(C2127>0,VLOOKUP(C2127,Liste!$A$10:$D$159,4),\"\")","v":""}]
[null,null,null,{"$f":"IF(C2128>0,VLOOKUP(C2128,Liste!$A$10:$D$159,4),\"\")","v":""}]
[null,null,null,{"$f":"IF(C2129>0,VLOOKUP(C2129,Liste!$A$10:$D$159,4),\"\")","v":""}]
[null,null,null,{"$f":"IF(C2130>0,VLOOKUP(C2130,Liste!$A$10:$D$159,4),\"\")","v":""}]
[null,null,null,{"$f":"IF(C2131>0,VLOOKUP(C2131,Liste!$A$10:$D$159,4),\"\")","v":""}]
[null,null,null,{"$f":"IF(C2132>0,VLOOKUP(C2132,Liste!$A$10:$D$159,4),\"\")","v":""}]
[null,null,null,{"$f":"IF(C2133>0,VLOOKUP(C2133,Liste!$A$10:$D$159,4),\"\")","v":""}]
[null,null,null,{"$f":"IF(C2134>0,VLOOKUP(C2134,Liste!$A$10:$D$159,4),\"\")","v":""}]
[null,null,null,{"$f":"IF(C2135>0,VLOOKUP(C2135,Liste!$A$10:$D$159,4),\"\")","v":""}]
[null,null,null,{"$f":"IF(C2136>0,VLOOKUP(C2136,Liste!$A$10:$D$159,4),\"\")","v":""}]
[null,null,null,{"$f":"IF(C2137>0,VLOOKUP(C2137,Liste!$A$10:$D$159,4),\"\")","v":""}]
[null,null,null,{"$f":"IF(C2138>0,VLOOKUP(C2138,Liste!$A$10:$D$159,4),\"\")","v":""}]
[null,null,null,{"$f":"IF(C2139>0,VLOOKUP(C2139,Liste!$A$10:$D$159,4),\"\")","v":""}]
[null,null,null,{"$f":"IF(C2140>0,VLOOKUP(C2140,Liste!$A$10:$D$159,4),\"\")","v":""}]
[null,null,null,{"$f":"IF(C2141>0,VLOOKUP(C2141,Liste!$A$10:$D$159,4),\"\")","v":""}]
[null,null,null,{"$f":"IF(C2142>0,VLOOKUP(C2142,Liste!$A$10:$D$159,4),\"\")","v":""}]
[null,null,null,{"$f":"IF(C2143>0,VLOOKUP(C2143,Liste!$A$10:$D$159,4),\"\")","v":""}]
[null,null,null,{"$f":"IF(C2144>0,VLOOKUP(C2144,Liste!$A$10:$D$159,4),\"\")","v":""}]
[null,null,null,{"$f":"IF(C2145>0,VLOOKUP(C2145,Liste!$A$10:$D$159,4),\"\")","v":""}]
[null,null,null,{"$f":"IF(C2146>0,VLOOKUP(C2146,Liste!$A$10:$D$159,4),\"\")","v":""}]
[null,null,null,{"$f":"IF(C2147>0,VLOOKUP(C2147,Liste!$A$10:$D$159,4),\"\")","v":""}]
[null,null,null,{"$f":"IF(C2148>0,VLOOKUP(C2148,Liste!$A$10:$D$159,4),\"\")","v":""}]
[null,null,null,{"$f":"IF(C2149>0,VLOOKUP(C2149,Liste!$A$10:$D$159,4),\"\")","v":""}]
[null,null,null,{"$f":"IF(C2150>0,VLOOKUP(C2150,Liste!$A$10:$D$159,4),\"\")","v":""}]
[null,null,null,{"$f":"IF(C2151>0,VLOOKUP(C2151,Liste!$A$10:$D$159,4),\"\")","v":""}]
[null,null,null,{"$f":"IF(C2152>0,VLOOKUP(C2152,Liste!$A$10:$D$159,4),\"\")","v":""}]
[null,null,null,{"$f":"IF(C2153>0,VLOOKUP(C2153,Liste!$A$10:$D$159,4),\"\")","v":""}]
[null,null,null,{"$f":"IF(C2154>0,VLOOKUP(C2154,Liste!$A$10:$D$159,4),\"\")","v":""}]
[null,null,null,{"$f":"IF(C2155>0,VLOOKUP(C2155,Liste!$A$10:$D$159,4),\"\")","v":""}]
[null,null,null,{"$f":"IF(C2156>0,VLOOKUP(C2156,Liste!$A$10:$D$159,4),\"\")","v":""}]
[null,null,null,{"$f":"IF(C2157>0,VLOOKUP(C2157,Liste!$A$10:$D$159,4),\"\")","v":""}]
[null,null,null,{"$f":"IF(C2158>0,VLOOKUP(C2158,Liste!$A$10:$D$159,4),\"\")","v":""}]
[null,null,null,{"$f":"IF(C2159>0,VLOOKUP(C2159,Liste!$A$10:$D$159,4),\"\")","v":""}]
[null,null,null,{"$f":"IF(C2160>0,VLOOKUP(C2160,Liste!$A$10:$D$159,4),\"\")","v":""}]
[null,null,null,{"$f":"IF(C2161>0,VLOOKUP(C2161,Liste!$A$10:$D$159,4),\"\")","v":""}]
[null,null,null,{"$f":"IF(C2162>0,VLOOKUP(C2162,Liste!$A$10:$D$159,4),\"\")","v":""}]
[null,null,null,{"$f":"IF(C2163>0,VLOOKUP(C2163,Liste!$A$10:$D$159,4),\"\")","v":""}]
[null,null,null,{"$f":"IF(C2164>0,VLOOKUP(C2164,Liste!$A$10:$D$159,4),\"\")","v":""}]
[null,null,null,{"$f":"IF(C2165>0,VLOOKUP(C2165,Liste!$A$10:$D$159,4),\"\")","v":""}]
[null,null,null,{"$f":"IF(C2166>0,VLOOKUP(C2166,Liste!$A$10:$D$159,4),\"\")","v":""}]
[null,null,null,{"$f":"IF(C2167>0,VLOOKUP(C2167,Liste!$A$10:$D$159,4),\"\")","v":""}]
[null,null,null,{"$f":"IF(C2168>0,VLOOKUP(C2168,Liste!$A$10:$D$159,4),\"\")","v":""}]
[null,null,null,{"$f":"IF(C2169>0,VLOOKUP(C2169,Liste!$A$10:$D$159,4),\"\")","v":""}]
[null,null,null,{"$f":"IF(C2170>0,VLOOKUP(C2170,Liste!$A$10:$D$159,4),\"\")","v":""}]
[null,null,null,{"$f":"IF(C2171>0,VLOOKUP(C2171,Liste!$A$10:$D$159,4),\"\")","v":""}]
[null,null,null,{"$f":"IF(C2172>0,VLOOKUP(C2172,Liste!$A$10:$D$159,4),\"\")","v":""}]
[null,null,null,{"$f":"IF(C2173>0,VLOOKUP(C2173,Liste!$A$10:$D$159,4),\"\")","v":""}]
[null,null,null,{"$f":"IF(C2174>0,VLOOKUP(C2174,Liste!$A$10:$D$159,4),\"\")","v":""}]
[null,null,null,{"$f":"IF(C2175>0,VLOOKUP(C2175,Liste!$A$10:$D$159,4),\"\")","v":""}]
[null,null,null,{"$f":"IF(C2176>0,VLOOKUP(C2176,Liste!$A$10:$D$159,4),\"\")","v":""}]
[null,null,null,{"$f":"IF(C2177>0,VLOOKUP(C2177,Liste!$A$10:$D$159,4),\"\")","v":""}]
[null,null,null,{"$f":"IF(C2178>0,VLOOKUP(C2178,Liste!$A$10:$D$159,4),\"\")","v":""}]
[null,null,null,{"$f":"IF(C2179>0,VLOOKUP(C2179,Liste!$A$10:$D$159,4),\"\")","v":""}]
[null,null,null,{"$f":"IF(C2180>0,VLOOKUP(C2180,Liste!$A$10:$D$159,4),\"\")","v":""}]
[null,null,null,{"$f":"IF(C2181>0,VLOOKUP(C2181,Liste!$A$10:$D$159,4),\"\")","v":""}]
[null,null,null,{"$f":"IF(C2182>0,VLOOKUP(C2182,Liste!$A$10:$D$159,4),\"\")","v":""}]
[null,null,null,{"$f":"IF(C2183>0,VLOOKUP(C2183,Liste!$A$10:$D$159,4),\"\")","v":""}]
[null,null,null,{"$f":"IF(C2184>0,VLOOKUP(C2184,Liste!$A$10:$D$159,4),\"\")","v":""}]
[null,null,null,{"$f":"IF(C2185>0,VLOOKUP(C2185,Liste!$A$10:$D$159,4),\"\")","v":""}]
[null,null,null,{"$f":"IF(C2186>0,VLOOKUP(C2186,Liste!$A$10:$D$159,4),\"\")","v":""}]
[null,null,null,{"$f":"IF(C2187>0,VLOOKUP(C2187,Liste!$A$10:$D$159,4),\"\")","v":""}]
[null,null,null,{"$f":"IF(C2188>0,VLOOKUP(C2188,Liste!$A$10:$D$159,4),\"\")","v":""}]
[null,null,null,{"$f":"IF(C2189>0,VLOOKUP(C2189,Liste!$A$10:$D$159,4),\"\")","v":""}]
[null,null,null,{"$f":"IF(C2190>0,VLOOKUP(C2190,Liste!$A$10:$D$159,4),\"\")","v":""}]
[null,null,null,{"$f":"IF(C2191>0,VLOOKUP(C2191,Liste!$A$10:$D$159,4),\"\")","v":""}]
[null,null,null,{"$f":"IF(C2192>0,VLOOKUP(C2192,Liste!$A$10:$D$159,4),\"\")","v":""}]
[null,null,null,{"$f":"IF(C2193>0,VLOOKUP(C2193,Liste!$A$10:$D$159,4),\"\")","v":""}]
[null,null,null,{"$f":"IF(C2194>0,VLOOKUP(C2194,Liste!$A$10:$D$159,4),\"\")","v":""}]
[null,null,null,{"$f":"IF(C2195>0,VLOOKUP(C2195,Liste!$A$10:$D$159,4),\"\")","v":""}]
[null,null,null,{"$f":"IF(C2196>0,VLOOKUP(C2196,Liste!$A$10:$D$159,4),\"\")","v":""}]
[null,null,null,{"$f":"IF(C2197>0,VLOOKUP(C2197,Liste!$A$10:$D$159,4),\"\")","v":""}]
[null,null,null,{"$f":"IF(C2198>0,VLOOKUP(C2198,Liste!$A$10:$D$159,4),\"\")","v":""}]
[null,null,null,{"$f":"IF(C2199>0,VLOOKUP(C2199,Liste!$A$10:$D$159,4),\"\")","v":""}]
[null,null,null,{"$f":"IF(C2200>0,VLOOKUP(C2200,Liste!$A$10:$D$159,4),\"\")","v":""}]
[null,null,null,{"$f":"IF(C2201>0,VLOOKUP(C2201,Liste!$A$10:$D$159,4),\"\")","v":""}]
[null,null,null,{"$f":"IF(C2202>0,VLOOKUP(C2202,Liste!$A$10:$D$159,4),\"\")","v":""}]
[null,null,null,{"$f":"IF(C2203>0,VLOOKUP(C2203,Liste!$A$10:$D$159,4),\"\")","v":""}]
[null,null,null,{"$f":"IF(C2204>0,VLOOKUP(C2204,Liste!$A$10:$D$159,4),\"\")","v":""}]
[null,null,null,{"$f":"IF(C2205>0,VLOOKUP(C2205,Liste!$A$10:$D$159,4),\"\")","v":""}]
[null,null,null,{"$f":"IF(C2206>0,VLOOKUP(C2206,Liste!$A$10:$D$159,4),\"\")","v":""}]
[null,null,null,{"$f":"IF(C2207>0,VLOOKUP(C2207,Liste!$A$10:$D$159,4),\"\")","v":""}]
[null,null,null,{"$f":"IF(C2208>0,VLOOKUP(C2208,Liste!$A$10:$D$159,4),\"\")","v":""}]
[null,null,null,{"$f":"IF(C2209>0,VLOOKUP(C2209,Liste!$A$10:$D$159,4),\"\")","v":""}]
[null,null,null,{"$f":"IF(C2210>0,VLOOKUP(C2210,Liste!$A$10:$D$159,4),\"\")","v":""}]
[null,null,null,{"$f":"IF(C2211>0,VLOOKUP(C2211,Liste!$A$10:$D$159,4),\"\")","v":""}]
[null,null,null,{"$f":"IF(C2212>0,VLOOKUP(C2212,Liste!$A$10:$D$159,4),\"\")","v":""}]
[null,null,null,{"$f":"IF(C2213>0,VLOOKUP(C2213,Liste!$A$10:$D$159,4),\"\")","v":""}]
[null,null,null,{"$f":"IF(C2214>0,VLOOKUP(C2214,Liste!$A$10:$D$159,4),\"\")","v":""}]
[null,null,null,{"$f":"IF(C2215>0,VLOOKUP(C2215,Liste!$A$10:$D$159,4),\"\")","v":""}]
[null,null,null,{"$f":"IF(C2216>0,VLOOKUP(C2216,Liste!$A$10:$D$159,4),\"\")","v":""}]
[null,null,null,{"$f":"IF(C2217>0,VLOOKUP(C2217,Liste!$A$10:$D$159,4),\"\")","v":""}]
[null,null,null,{"$f":"IF(C2218>0,VLOOKUP(C2218,Liste!$A$10:$D$159,4),\"\")","v":""}]
[null,null,null,{"$f":"IF(C2219>0,VLOOKUP(C2219,Liste!$A$10:$D$159,4),\"\")","v":""}]
[null,null,null,{"$f":"IF(C2220>0,VLOOKUP(C2220,Liste!$A$10:$D$159,4),\"\")","v":""}]
[null,null,null,{"$f":"IF(C2221>0,VLOOKUP(C2221,Liste!$A$10:$D$159,4),\"\")","v":""}]
[null,null,null,{"$f":"IF(C2222>0,VLOOKUP(C2222,Liste!$A$10:$D$159,4),\"\")","v":""}]
[null,null,null,{"$f":"IF(C2223>0,VLOOKUP(C2223,Liste!$A$10:$D$159,4),\"\")","v":""}]
[null,null,null,{"$f":"IF(C2224>0,VLOOKUP(C2224,Liste!$A$10:$D$159,4),\"\")","v":""}]
[null,null,null,{"$f":"IF(C2225>0,VLOOKUP(C2225,Liste!$A$10:$D$159,4),\"\")","v":""}]
[null,null,null,{"$f":"IF(C2226>0,VLOOKUP(C2226,Liste!$A$10:$D$159,4),\"\")","v":""}]
[null,null,null,{"$f":"IF(C2227>0,VLOOKUP(C2227,Liste!$A$10:$D$159,4),\"\")","v":""}]
[null,null,null,{"$f":"IF(C2228>0,VLOOKUP(C2228,Liste!$A$10:$D$159,4),\"\")","v":""}]
[null,null,null,{"$f":"IF(C2229>0,VLOOKUP(C2229,Liste!$A$10:$D$159,4),\"\")","v":""}]
[null,null,null,{"$f":"IF(C2230>0,VLOOKUP(C2230,Liste!$A$10:$D$159,4),\"\")","v":""}]
[null,null,null,{"$f":"IF(C2231>0,VLOOKUP(C2231,Liste!$A$10:$D$159,4),\"\")","v":""}]
[null,null,null,{"$f":"IF(C2232>0,VLOOKUP(C2232,Liste!$A$10:$D$159,4),\"\")","v":""}]
[null,null,null,{"$f":"IF(C2233>0,VLOOKUP(C2233,Liste!$A$10:$D$159,4),\"\")","v":""}]
[null,null,null,{"$f":"IF(C2234>0,VLOOKUP(C2234,Liste!$A$10:$D$159,4),\"\")","v":""}]
[null,null,null,{"$f":"IF(C2235>0,VLOOKUP(C2235,Liste!$A$10:$D$159,4),\"\")","v":""}]
[null,null,null,{"$f":"IF(C2236>0,VLOOKUP(C2236,Liste!$A$10:$D$159,4),\"\")","v":""}]
[null,null,null,{"$f":"IF(C2237>0,VLOOKUP(C2237,Liste!$A$10:$D$159,4),\"\")","v":""}]
[null,null,null,{"$f":"IF(C2238>0,VLOOKUP(C2238,Liste!$A$10:$D$159,4),\"\")","v":""}]
[null,null,null,{"$f":"IF(C2239>0,VLOOKUP(C2239,Liste!$A$10:$D$159,4),\"\")","v":""}]
[null,null,null,{"$f":"IF(C2240>0,VLOOKUP(C2240,Liste!$A$10:$D$159,4),\"\")","v":""}]
[null,null,null,{"$f":"IF(C2241>0,VLOOKUP(C2241,Liste!$A$10:$D$159,4),\"\")","v":""}]
[null,null,null,{"$f":"IF(C2242>0,VLOOKUP(C2242,Liste!$A$10:$D$159,4),\"\")","v":""}]
[null,null,null,{"$f":"IF(C2243>0,VLOOKUP(C2243,Liste!$A$10:$D$159,4),\"\")","v":""}]
[null,null,null,{"$f":"IF(C2244>0,VLOOKUP(C2244,Liste!$A$10:$D$159,4),\"\")","v":""}]
[null,null,null,{"$f":"IF(C2245>0,VLOOKUP(C2245,Liste!$A$10:$D$159,4),\"\")","v":""}]
[null,null,null,{"$f":"IF(C2246>0,VLOOKUP(C2246,Liste!$A$10:$D$159,4),\"\")","v":""}]
[null,null,null,{"$f":"IF(C2247>0,VLOOKUP(C2247,Liste!$A$10:$D$159,4),\"\")","v":""}]
[null,null,null,{"$f":"IF(C2248>0,VLOOKUP(C2248,Liste!$A$10:$D$159,4),\"\")","v":""}]
[null,null,null,{"$f":"IF(C2249>0,VLOOKUP(C2249,Liste!$A$10:$D$159,4),\"\")","v":""}]
[null,null,null,{"$f":"IF(C2250>0,VLOOKUP(C2250,Liste!$A$10:$D$159,4),\"\")","v":""}]
[null,null,null,{"$f":"IF(C2251>0,VLOOKUP(C2251,Liste!$A$10:$D$159,4),\"\")","v":""}]
[null,null,null,{"$f":"IF(C2252>0,VLOOKUP(C2252,Liste!$A$10:$D$159,4),\"\")","v":""}]
[null,null,null,{"$f":"IF(C2253>0,VLOOKUP(C2253,Liste!$A$10:$D$159,4),\"\")","v":""}]
[null,null,null,{"$f":"IF(C2254>0,VLOOKUP(C2254,Liste!$A$10:$D$159,4),\"\")","v":""}]
[null,null,null,{"$f":"IF(C2255>0,VLOOKUP(C2255,Liste!$A$10:$D$159,4),\"\")","v":""}]
[null,null,null,{"$f":"IF(C2256>0,VLOOKUP(C2256,Liste!$A$10:$D$159,4),\"\")","v":""}]
[null,null,null,{"$f":"IF(C2257>0,VLOOKUP(C2257,Liste!$A$10:$D$159,4),\"\")","v":""}]
[null,null,null,{"$f":"IF(C2258>0,VLOOKUP(C2258,Liste!$A$10:$D$159,4),\"\")","v":""}]
[null,null,null,{"$f":"IF(C2259>0,VLOOKUP(C2259,Liste!$A$10:$D$159,4),\"\")","v":""}]
[null,null,null,{"$f":"IF(C2260>0,VLOOKUP(C2260,Liste!$A$10:$D$159,4),\"\")","v":""}]
[null,null,null,{"$f":"IF(C2261>0,VLOOKUP(C2261,Liste!$A$10:$D$159,4),\"\")","v":""}]
[null,null,null,{"$f":"IF(C2262>0,VLOOKUP(C2262,Liste!$A$10:$D$159,4),\"\")","v":""}]
[null,null,null,{"$f":"IF(C2263>0,VLOOKUP(C2263,Liste!$A$10:$D$159,4),\"\")","v":""}]
[null,null,null,{"$f":"IF(C2264>0,VLOOKUP(C2264,Liste!$A$10:$D$159,4),\"\")","v":""}]
[null,null,null,{"$f":"IF(C2265>0,VLOOKUP(C2265,Liste!$A$10:$D$159,4),\"\")","v":""}]
[null,null,null,{"$f":"IF(C2266>0,VLOOKUP(C2266,Liste!$A$10:$D$159,4),\"\")","v":""}]
[null,null,null,{"$f":"IF(C2267>0,VLOOKUP(C2267,Liste!$A$10:$D$159,4),\"\")","v":""}]
[null,null,null,{"$f":"IF(C2268>0,VLOOKUP(C2268,Liste!$A$10:$D$159,4),\"\")","v":""}]
[null,null,null,{"$f":"IF(C2269>0,VLOOKUP(C2269,Liste!$A$10:$D$159,4),\"\")","v":""}]
[null,null,null,{"$f":"IF(C2270>0,VLOOKUP(C2270,Liste!$A$10:$D$159,4),\"\")","v":""}]
[null,null,null,{"$f":"IF(C2271>0,VLOOKUP(C2271,Liste!$A$10:$D$159,4),\"\")","v":""}]
[null,null,null,{"$f":"IF(C2272>0,VLOOKUP(C2272,Liste!$A$10:$D$159,4),\"\")","v":""}]
[null,null,null,{"$f":"IF(C2273>0,VLOOKUP(C2273,Liste!$A$10:$D$159,4),\"\")","v":""}]
[null,null,null,{"$f":"IF(C2274>0,VLOOKUP(C2274,Liste!$A$10:$D$159,4),\"\")","v":""}]
[null,null,null,{"$f":"IF(C2275>0,VLOOKUP(C2275,Liste!$A$10:$D$159,4),\"\")","v":""}]
[null,null,null,{"$f":"IF(C2276>0,VLOOKUP(C2276,Liste!$A$10:$D$159,4),\"\")","v":""}]
[null,null,null,{"$f":"IF(C2277>0,VLOOKUP(C2277,Liste!$A$10:$D$159,4),\"\")","v":""}]
[null,null,null,{"$f":"IF(C2278>0,VLOOKUP(C2278,Liste!$A$10:$D$159,4),\"\")","v":""}]
[null,null,null,{"$f":"IF(C2279>0,VLOOKUP(C2279,Liste!$A$10:$D$159,4),\"\")","v":""}]
[null,null,null,{"$f":"IF(C2280>0,VLOOKUP(C2280,Liste!$A$10:$D$159,4),\"\")","v":""}]
[null,null,null,{"$f":"IF(C2281>0,VLOOKUP(C2281,Liste!$A$10:$D$159,4),\"\")","v":""}]
[null,null,null,{"$f":"IF(C2282>0,VLOOKUP(C2282,Liste!$A$10:$D$159,4),\"\")","v":""}]
[null,null,null,{"$f":"IF(C2283>0,VLOOKUP(C2283,Liste!$A$10:$D$159,4),\"\")","v":""}]
[null,null,null,{"$f":"IF(C2284>0,VLOOKUP(C2284,Liste!$A$10:$D$159,4),\"\")","v":""}]
[null,null,null,{"$f":"IF(C2285>0,VLOOKUP(C2285,Liste!$A$10:$D$159,4),\"\")","v":""}]
[null,null,null,{"$f":"IF(C2286>0,VLOOKUP(C2286,Liste!$A$10:$D$159,4),\"\")","v":""}]
[null,null,null,{"$f":"IF(C2287>0,VLOOKUP(C2287,Liste!$A$10:$D$159,4),\"\")","v":""}]
[null,null,null,{"$f":"IF(C2288>0,VLOOKUP(C2288,Liste!$A$10:$D$159,4),\"\")","v":""}]
[null,null,null,{"$f":"IF(C2289>0,VLOOKUP(C2289,Liste!$A$10:$D$159,4),\"\")","v":""}]
[null,null,null,{"$f":"IF(C2290>0,VLOOKUP(C2290,Liste!$A$10:$D$159,4),\"\")","v":""}]
[null,null,null,{"$f":"IF(C2291>0,VLOOKUP(C2291,Liste!$A$10:$D$159,4),\"\")","v":""}]
[null,null,null,{"$f":"IF(C2292>0,VLOOKUP(C2292,Liste!$A$10:$D$159,4),\"\")","v":""}]
[null,null,null,{"$f":"IF(C2293>0,VLOOKUP(C2293,Liste!$A$10:$D$159,4),\"\")","v":""}]
[null,null,null,{"$f":"IF(C2294>0,VLOOKUP(C2294,Liste!$A$10:$D$159,4),\"\")","v":""}]
[null,null,null,{"$f":"IF(C2295>0,VLOOKUP(C2295,Liste!$A$10:$D$159,4),\"\")","v":""}]
[null,null,null,{"$f":"IF(C2296>0,VLOOKUP(C2296,Liste!$A$10:$D$159,4),\"\")","v":""}]
[null,null,null,{"$f":"IF(C2297>0,VLOOKUP(C2297,Liste!$A$10:$D$159,4),\"\")","v":""}]
[null,null,null,{"$f":"IF(C2298>0,VLOOKUP(C2298,Liste!$A$10:$D$159,4),\"\")","v":""}]
[null,null,null,{"$f":"IF(C2299>0,VLOOKUP(C2299,Liste!$A$10:$D$159,4),\"\")","v":""}]
[null,null,null,{"$f":"IF(C2300>0,VLOOKUP(C2300,Liste!$A$10:$D$159,4),\"\")","v":""}]
[null,null,null,{"$f":"IF(C2301>0,VLOOKUP(C2301,Liste!$A$10:$D$159,4),\"\")","v":""}]
[null,null,null,{"$f":"IF(C2302>0,VLOOKUP(C2302,Liste!$A$10:$D$159,4),\"\")","v":""}]
[null,null,null,{"$f":"IF(C2303>0,VLOOKUP(C2303,Liste!$A$10:$D$159,4),\"\")","v":""}]
[null,null,null,{"$f":"IF(C2304>0,VLOOKUP(C2304,Liste!$A$10:$D$159,4),\"\")","v":""}]
[null,null,null,{"$f":"IF(C2305>0,VLOOKUP(C2305,Liste!$A$10:$D$159,4),\"\")","v":""}]
[null,null,null,{"$f":"IF(C2306>0,VLOOKUP(C2306,Liste!$A$10:$D$159,4),\"\")","v":""}]
[null,null,null,{"$f":"IF(C2307>0,VLOOKUP(C2307,Liste!$A$10:$D$159,4),\"\")","v":""}]
[null,null,null,{"$f":"IF(C2308>0,VLOOKUP(C2308,Liste!$A$10:$D$159,4),\"\")","v":""}]
[null,null,null,{"$f":"IF(C2309>0,VLOOKUP(C2309,Liste!$A$10:$D$159,4),\"\")","v":""}]
[null,null,null,{"$f":"IF(C2310>0,VLOOKUP(C2310,Liste!$A$10:$D$159,4),\"\")","v":""}]
[null,null,null,{"$f":"IF(C2311>0,VLOOKUP(C2311,Liste!$A$10:$D$159,4),\"\")","v":""}]
[null,null,null,{"$f":"IF(C2312>0,VLOOKUP(C2312,Liste!$A$10:$D$159,4),\"\")","v":""}]
[null,null,null,{"$f":"IF(C2313>0,VLOOKUP(C2313,Liste!$A$10:$D$159,4),\"\")","v":""}]
[null,null,null,{"$f":"IF(C2314>0,VLOOKUP(C2314,Liste!$A$10:$D$159,4),\"\")","v":""}]
[null,null,null,{"$f":"IF(C2315>0,VLOOKUP(C2315,Liste!$A$10:$D$159,4),\"\")","v":""}]
[null,null,null,{"$f":"IF(C2316>0,VLOOKUP(C2316,Liste!$A$10:$D$159,4),\"\")","v":""}]
[null,null,null,{"$f":"IF(C2317>0,VLOOKUP(C2317,Liste!$A$10:$D$159,4),\"\")","v":""}]
[null,null,null,{"$f":"IF(C2318>0,VLOOKUP(C2318,Liste!$A$10:$D$159,4),\"\")","v":""}]
[null,null,null,{"$f":"IF(C2319>0,VLOOKUP(C2319,Liste!$A$10:$D$159,4),\"\")","v":""}]
[null,null,null,{"$f":"IF(C2320>0,VLOOKUP(C2320,Liste!$A$10:$D$159,4),\"\")","v":""}]
[null,null,null,{"$f":"IF(C2321>0,VLOOKUP(C2321,Liste!$A$10:$D$159,4),\"\")","v":""}]
[null,null,null,{"$f":"IF(C2322>0,VLOOKUP(C2322,Liste!$A$10:$D$159,4),\"\")","v":""}]
[null,null,null,{"$f":"IF(C2323>0,VLOOKUP(C2323,Liste!$A$10:$D$159,4),\"\")","v":""}]
[null,null,null,{"$f":"IF(C2324>0,VLOOKUP(C2324,Liste!$A$10:$D$159,4),\"\")","v":""}]
[null,null,null,{"$f":"IF(C2325>0,VLOOKUP(C2325,Liste!$A$10:$D$159,4),\"\")","v":""}]
[null,null,null,{"$f":"IF(C2326>0,VLOOKUP(C2326,Liste!$A$10:$D$159,4),\"\")","v":""}]
[null,null,null,{"$f":"IF(C2327>0,VLOOKUP(C2327,Liste!$A$10:$D$159,4),\"\")","v":""}]
[null,null,null,{"$f":"IF(C2328>0,VLOOKUP(C2328,Liste!$A$10:$D$159,4),\"\")","v":""}]
[null,null,null,{"$f":"IF(C2329>0,VLOOKUP(C2329,Liste!$A$10:$D$159,4),\"\")","v":""}]
[null,null,null,{"$f":"IF(C2330>0,VLOOKUP(C2330,Liste!$A$10:$D$159,4),\"\")","v":""}]
[null,null,null,{"$f":"IF(C2331>0,VLOOKUP(C2331,Liste!$A$10:$D$159,4),\"\")","v":""}]
[null,null,null,{"$f":"IF(C2332>0,VLOOKUP(C2332,Liste!$A$10:$D$159,4),\"\")","v":""}]
[null,null,null,{"$f":"IF(C2333>0,VLOOKUP(C2333,Liste!$A$10:$D$159,4),\"\")","v":""}]
[null,null,null,{"$f":"IF(C2334>0,VLOOKUP(C2334,Liste!$A$10:$D$159,4),\"\")","v":""}]
[null,null,null,{"$f":"IF(C2335>0,VLOOKUP(C2335,Liste!$A$10:$D$159,4),\"\")","v":""}]
[null,null,null,{"$f":"IF(C2336>0,VLOOKUP(C2336,Liste!$A$10:$D$159,4),\"\")","v":""}]
[null,null,null,{"$f":"IF(C2337>0,VLOOKUP(C2337,Liste!$A$10:$D$159,4),\"\")","v":""}]
[null,null,null,{"$f":"IF(C2338>0,VLOOKUP(C2338,Liste!$A$10:$D$159,4),\"\")","v":""}]
[null,null,null,{"$f":"IF(C2339>0,VLOOKUP(C2339,Liste!$A$10:$D$159,4),\"\")","v":""}]
[null,null,null,{"$f":"IF(C2340>0,VLOOKUP(C2340,Liste!$A$10:$D$159,4),\"\")","v":""}]
[null,null,null,{"$f":"IF(C2341>0,VLOOKUP(C2341,Liste!$A$10:$D$159,4),\"\")","v":""}]
[null,null,null,{"$f":"IF(C2342>0,VLOOKUP(C2342,Liste!$A$10:$D$159,4),\"\")","v":""}]
[null,null,null,{"$f":"IF(C2343>0,VLOOKUP(C2343,Liste!$A$10:$D$159,4),\"\")","v":""}]
[null,null,null,{"$f":"IF(C2344>0,VLOOKUP(C2344,Liste!$A$10:$D$159,4),\"\")","v":""}]
[null,null,null,{"$f":"IF(C2345>0,VLOOKUP(C2345,Liste!$A$10:$D$159,4),\"\")","v":""}]
[null,null,null,{"$f":"IF(C2346>0,VLOOKUP(C2346,Liste!$A$10:$D$159,4),\"\")","v":""}]
[null,null,null,{"$f":"IF(C2347>0,VLOOKUP(C2347,Liste!$A$10:$D$159,4),\"\")","v":""}]
[null,null,null,{"$f":"IF(C2348>0,VLOOKUP(C2348,Liste!$A$10:$D$159,4),\"\")","v":""}]
[null,null,null,{"$f":"IF(C2349>0,VLOOKUP(C2349,Liste!$A$10:$D$159,4),\"\")","v":""}]
[null,null,null,{"$f":"IF(C2350>0,VLOOKUP(C2350,Liste!$A$10:$D$159,4),\"\")","v":""}]
[null,null,null,{"$f":"IF(C2351>0,VLOOKUP(C2351,Liste!$A$10:$D$159,4),\"\")","v":""}]
[null,null,null,{"$f":"IF(C2352>0,VLOOKUP(C2352,Liste!$A$10:$D$159,4),\"\")","v":""}]
[null,null,null,{"$f":"IF(C2353>0,VLOOKUP(C2353,Liste!$A$10:$D$159,4),\"\")","v":""}]
[null,null,null,{"$f":"IF(C2354>0,VLOOKUP(C2354,Liste!$A$10:$D$159,4),\"\")","v":""}]
[null,null,null,{"$f":"IF(C2355>0,VLOOKUP(C2355,Liste!$A$10:$D$159,4),\"\")","v":""}]
[null,null,null,{"$f":"IF(C2356>0,VLOOKUP(C2356,Liste!$A$10:$D$159,4),\"\")","v":""}]
[null,null,null,{"$f":"IF(C2357>0,VLOOKUP(C2357,Liste!$A$10:$D$159,4),\"\")","v":""}]
[null,null,null,{"$f":"IF(C2358>0,VLOOKUP(C2358,Liste!$A$10:$D$159,4),\"\")","v":""}]
[null,null,null,{"$f":"IF(C2359>0,VLOOKUP(C2359,Liste!$A$10:$D$159,4),\"\")","v":""}]
[null,null,null,{"$f":"IF(C2360>0,VLOOKUP(C2360,Liste!$A$10:$D$159,4),\"\")","v":""}]
[null,null,null,{"$f":"IF(C2361>0,VLOOKUP(C2361,Liste!$A$10:$D$159,4),\"\")","v":""}]
[null,null,null,{"$f":"IF(C2362>0,VLOOKUP(C2362,Liste!$A$10:$D$159,4),\"\")","v":""}]
[null,null,null,{"$f":"IF(C2363>0,VLOOKUP(C2363,Liste!$A$10:$D$159,4),\"\")","v":""}]
[null,null,null,{"$f":"IF(C2364>0,VLOOKUP(C2364,Liste!$A$10:$D$159,4),\"\")","v":""}]
[null,null,null,{"$f":"IF(C2365>0,VLOOKUP(C2365,Liste!$A$10:$D$159,4),\"\")","v":""}]
[null,null,null,{"$f":"IF(C2366>0,VLOOKUP(C2366,Liste!$A$10:$D$159,4),\"\")","v":""}]
[null,null,null,{"$f":"IF(C2367>0,VLOOKUP(C2367,Liste!$A$10:$D$159,4),\"\")","v":""}]
[null,null,null,{"$f":"IF(C2368>0,VLOOKUP(C2368,Liste!$A$10:$D$159,4),\"\")","v":""}]
[null,null,null,{"$f":"IF(C2369>0,VLOOKUP(C2369,Liste!$A$10:$D$159,4),\"\")","v":""}]
[null,null,null,{"$f":"IF(C2370>0,VLOOKUP(C2370,Liste!$A$10:$D$159,4),\"\")","v":""}]
[null,null,null,{"$f":"IF(C2371>0,VLOOKUP(C2371,Liste!$A$10:$D$159,4),\"\")","v":""}]
[null,null,null,{"$f":"IF(C2372>0,VLOOKUP(C2372,Liste!$A$10:$D$159,4),\"\")","v":""}]
[null,null,null,{"$f":"IF(C2373>0,VLOOKUP(C2373,Liste!$A$10:$D$159,4),\"\")","v":""}]
[null,null,null,{"$f":"IF(C2374>0,VLOOKUP(C2374,Liste!$A$10:$D$159,4),\"\")","v":""}]
[null,null,null,{"$f":"IF(C2375>0,VLOOKUP(C2375,Liste!$A$10:$D$159,4),\"\")","v":""}]
[null,null,null,{"$f":"IF(C2376>0,VLOOKUP(C2376,Liste!$A$10:$D$159,4),\"\")","v":""}]
[null,null,null,{"$f":"IF(C2377>0,VLOOKUP(C2377,Liste!$A$10:$D$159,4),\"\")","v":""}]
[null,null,null,{"$f":"IF(C2378>0,VLOOKUP(C2378,Liste!$A$10:$D$159,4),\"\")","v":""}]
[null,null,null,{"$f":"IF(C2379>0,VLOOKUP(C2379,Liste!$A$10:$D$159,4),\"\")","v":""}]
[null,null,null,{"$f":"IF(C2380>0,VLOOKUP(C2380,Liste!$A$10:$D$159,4),\"\")","v":""}]
[null,null,null,{"$f":"IF(C2381>0,VLOOKUP(C2381,Liste!$A$10:$D$159,4),\"\")","v":""}]
[null,null,null,{"$f":"IF(C2382>0,VLOOKUP(C2382,Liste!$A$10:$D$159,4),\"\")","v":""}]
[null,null,null,{"$f":"IF(C2383>0,VLOOKUP(C2383,Liste!$A$10:$D$159,4),\"\")","v":""}]
[null,null,null,{"$f":"IF(C2384>0,VLOOKUP(C2384,Liste!$A$10:$D$159,4),\"\")","v":""}]
[null,null,null,{"$f":"IF(C2385>0,VLOOKUP(C2385,Liste!$A$10:$D$159,4),\"\")","v":""}]
[null,null,null,{"$f":"IF(C2386>0,VLOOKUP(C2386,Liste!$A$10:$D$159,4),\"\")","v":""}]
[null,null,null,{"$f":"IF(C2387>0,VLOOKUP(C2387,Liste!$A$10:$D$159,4),\"\")","v":""}]
[null,null,null,{"$f":"IF(C2388>0,VLOOKUP(C2388,Liste!$A$10:$D$159,4),\"\")","v":""}]
[null,null,null,{"$f":"IF(C2389>0,VLOOKUP(C2389,Liste!$A$10:$D$159,4),\"\")","v":""}]
[null,null,null,{"$f":"IF(C2390>0,VLOOKUP(C2390,Liste!$A$10:$D$159,4),\"\")","v":""}]
[null,null,null,{"$f":"IF(C2391>0,VLOOKUP(C2391,Liste!$A$10:$D$159,4),\"\")","v":""}]
[null,null,null,{"$f":"IF(C2392>0,VLOOKUP(C2392,Liste!$A$10:$D$159,4),\"\")","v":""}]
[null,null,null,{"$f":"IF(C2393>0,VLOOKUP(C2393,Liste!$A$10:$D$159,4),\"\")","v":""}]
[null,null,null,{"$f":"IF(C2394>0,VLOOKUP(C2394,Liste!$A$10:$D$159,4),\"\")","v":""}]
[null,null,null,{"$f":"IF(C2395>0,VLOOKUP(C2395,Liste!$A$10:$D$159,4),\"\")","v":""}]
[null,null,null,{"$f":"IF(C2396>0,VLOOKUP(C2396,Liste!$A$10:$D$159,4),\"\")","v":""}]
[null,null,null,{"$f":"IF(C2397>0,VLOOKUP(C2397,Liste!$A$10:$D$159,4),\"\")","v":""}]
[null,null,null,{"$f":"IF(C2398>0,VLOOKUP(C2398,Liste!$A$10:$D$159,4),\"\")","v":""}]
[null,null,null,{"$f":"IF(C2399>0,VLOOKUP(C2399,Liste!$A$10:$D$159,4),\"\")","v":""}]
[null,null,null,{"$f":"IF(C2400>0,VLOOKUP(C2400,Liste!$A$10:$D$159,4),\"\")","v":""}]
[null,null,null,{"$f":"IF(C2401>0,VLOOKUP(C2401,Liste!$A$10:$D$159,4),\"\")","v":""}]
[null,null,null,{"$f":"IF(C2402>0,VLOOKUP(C2402,Liste!$A$10:$D$159,4),\"\")","v":""}]
[null,null,null,{"$f":"IF(C2403>0,VLOOKUP(C2403,Liste!$A$10:$D$159,4),\"\")","v":""}]
[null,null,null,{"$f":"IF(C2404>0,VLOOKUP(C2404,Liste!$A$10:$D$159,4),\"\")","v":""}]
[null,null,null,{"$f":"IF(C2405>0,VLOOKUP(C2405,Liste!$A$10:$D$159,4),\"\")","v":""}]
[null,null,null,{"$f":"IF(C2406>0,VLOOKUP(C2406,Liste!$A$10:$D$159,4),\"\")","v":""}]
[null,null,null,{"$f":"IF(C2407>0,VLOOKUP(C2407,Liste!$A$10:$D$159,4),\"\")","v":""}]
[null,null,null,{"$f":"IF(C2408>0,VLOOKUP(C2408,Liste!$A$10:$D$159,4),\"\")","v":""}]
[null,null,null,{"$f":"IF(C2409>0,VLOOKUP(C2409,Liste!$A$10:$D$159,4),\"\")","v":""}]
[null,null,null,{"$f":"IF(C2410>0,VLOOKUP(C2410,Liste!$A$10:$D$159,4),\"\")","v":""}]
[null,null,null,{"$f":"IF(C2411>0,VLOOKUP(C2411,Liste!$A$10:$D$159,4),\"\")","v":""}]
[null,null,null,{"$f":"IF(C2412>0,VLOOKUP(C2412,Liste!$A$10:$D$159,4),\"\")","v":""}]
[null,null,null,{"$f":"IF(C2413>0,VLOOKUP(C2413,Liste!$A$10:$D$159,4),\"\")","v":""}]
[null,null,null,{"$f":"IF(C2414>0,VLOOKUP(C2414,Liste!$A$10:$D$159,4),\"\")","v":""}]
[null,null,null,{"$f":"IF(C2415>0,VLOOKUP(C2415,Liste!$A$10:$D$159,4),\"\")","v":""}]
[null,null,null,{"$f":"IF(C2416>0,VLOOKUP(C2416,Liste!$A$10:$D$159,4),\"\")","v":""}]
[null,null,null,{"$f":"IF(C2417>0,VLOOKUP(C2417,Liste!$A$10:$D$159,4),\"\")","v":""}]
[null,null,null,{"$f":"IF(C2418>0,VLOOKUP(C2418,Liste!$A$10:$D$159,4),\"\")","v":""}]
[null,null,null,{"$f":"IF(C2419>0,VLOOKUP(C2419,Liste!$A$10:$D$159,4),\"\")","v":""}]
[null,null,null,{"$f":"IF(C2420>0,VLOOKUP(C2420,Liste!$A$10:$D$159,4),\"\")","v":""}]
[null,null,null,{"$f":"IF(C2421>0,VLOOKUP(C2421,Liste!$A$10:$D$159,4),\"\")","v":""}]
[null,null,null,{"$f":"IF(C2422>0,VLOOKUP(C2422,Liste!$A$10:$D$159,4),\"\")","v":""}]
[null,null,null,{"$f":"IF(C2423>0,VLOOKUP(C2423,Liste!$A$10:$D$159,4),\"\")","v":""}]
[null,null,null,{"$f":"IF(C2424>0,VLOOKUP(C2424,Liste!$A$10:$D$159,4),\"\")","v":""}]
[null,null,null,{"$f":"IF(C2425>0,VLOOKUP(C2425,Liste!$A$10:$D$159,4),\"\")","v":""}]
[null,null,null,{"$f":"IF(C2426>0,VLOOKUP(C2426,Liste!$A$10:$D$159,4),\"\")","v":""}]
[null,null,null,{"$f":"IF(C2427>0,VLOOKUP(C2427,Liste!$A$10:$D$159,4),\"\")","v":""}]
[null,null,null,{"$f":"IF(C2428>0,VLOOKUP(C2428,Liste!$A$10:$D$159,4),\"\")","v":""}]
[null,null,null,{"$f":"IF(C2429>0,VLOOKUP(C2429,Liste!$A$10:$D$159,4),\"\")","v":""}]
[null,null,null,{"$f":"IF(C2430>0,VLOOKUP(C2430,Liste!$A$10:$D$159,4),\"\")","v":""}]
[null,null,null,{"$f":"IF(C2431>0,VLOOKUP(C2431,Liste!$A$10:$D$159,4),\"\")","v":""}]
[null,null,null,{"$f":"IF(C2432>0,VLOOKUP(C2432,Liste!$A$10:$D$159,4),\"\")","v":""}]
[null,null,null,{"$f":"IF(C2433>0,VLOOKUP(C2433,Liste!$A$10:$D$159,4),\"\")","v":""}]
[null,null,null,{"$f":"IF(C2434>0,VLOOKUP(C2434,Liste!$A$10:$D$159,4),\"\")","v":""}]
[null,null,null,{"$f":"IF(C2435>0,VLOOKUP(C2435,Liste!$A$10:$D$159,4),\"\")","v":""}]
[null,null,null,{"$f":"IF(C2436>0,VLOOKUP(C2436,Liste!$A$10:$D$159,4),\"\")","v":""}]
[null,null,null,{"$f":"IF(C2437>0,VLOOKUP(C2437,Liste!$A$10:$D$159,4),\"\")","v":""}]
[null,null,null,{"$f":"IF(C2438>0,VLOOKUP(C2438,Liste!$A$10:$D$159,4),\"\")","v":""}]
[null,null,null,{"$f":"IF(C2439>0,VLOOKUP(C2439,Liste!$A$10:$D$159,4),\"\")","v":""}]
[null,null,null,{"$f":"IF(C2440>0,VLOOKUP(C2440,Liste!$A$10:$D$159,4),\"\")","v":""}]
[null,null,null,{"$f":"IF(C2441>0,VLOOKUP(C2441,Liste!$A$10:$D$159,4),\"\")","v":""}]
[null,null,null,{"$f":"IF(C2442>0,VLOOKUP(C2442,Liste!$A$10:$D$159,4),\"\")","v":""}]
[null,null,null,{"$f":"IF(C2443>0,VLOOKUP(C2443,Liste!$A$10:$D$159,4),\"\")","v":""}]
[null,null,null,{"$f":"IF(C2444>0,VLOOKUP(C2444,Liste!$A$10:$D$159,4),\"\")","v":""}]
[null,null,null,{"$f":"IF(C2445>0,VLOOKUP(C2445,Liste!$A$10:$D$159,4),\"\")","v":""}]
[null,null,null,{"$f":"IF(C2446>0,VLOOKUP(C2446,Liste!$A$10:$D$159,4),\"\")","v":""}]
[null,null,null,{"$f":"IF(C2447>0,VLOOKUP(C2447,Liste!$A$10:$D$159,4),\"\")","v":""}]
[null,null,null,{"$f":"IF(C2448>0,VLOOKUP(C2448,Liste!$A$10:$D$159,4),\"\")","v":""}]
[null,null,null,{"$f":"IF(C2449>0,VLOOKUP(C2449,Liste!$A$10:$D$159,4),\"\")","v":""}]
[null,null,null,{"$f":"IF(C2450>0,VLOOKUP(C2450,Liste!$A$10:$D$159,4),\"\")","v":""}]
[null,null,null,{"$f":"IF(C2451>0,VLOOKUP(C2451,Liste!$A$10:$D$159,4),\"\")","v":""}]
[null,null,null,{"$f":"IF(C2452>0,VLOOKUP(C2452,Liste!$A$10:$D$159,4),\"\")","v":""}]
[null,null,null,{"$f":"IF(C2453>0,VLOOKUP(C2453,Liste!$A$10:$D$159,4),\"\")","v":""}]
[null,null,null,{"$f":"IF(C2454>0,VLOOKUP(C2454,Liste!$A$10:$D$159,4),\"\")","v":""}]
[null,null,null,{"$f":"IF(C2455>0,VLOOKUP(C2455,Liste!$A$10:$D$159,4),\"\")","v":""}]
[null,null,null,{"$f":"IF(C2456>0,VLOOKUP(C2456,Liste!$A$10:$D$159,4),\"\")","v":""}]
[null,null,null,{"$f":"IF(C2457>0,VLOOKUP(C2457,Liste!$A$10:$D$159,4),\"\")","v":""}]
[null,null,null,{"$f":"IF(C2458>0,VLOOKUP(C2458,Liste!$A$10:$D$159,4),\"\")","v":""}]
[null,null,null,{"$f":"IF(C2459>0,VLOOKUP(C2459,Liste!$A$10:$D$159,4),\"\")","v":""}]
[null,null,null,{"$f":"IF(C2460>0,VLOOKUP(C2460,Liste!$A$10:$D$159,4),\"\")","v":""}]
[null,null,null,{"$f":"IF(C2461>0,VLOOKUP(C2461,Liste!$A$10:$D$159,4),\"\")","v":""}]
[null,null,null,{"$f":"IF(C2462>0,VLOOKUP(C2462,Liste!$A$10:$D$159,4),\"\")","v":""}]
[null,null,null,{"$f":"IF(C2463>0,VLOOKUP(C2463,Liste!$A$10:$D$159,4),\"\")","v":""}]
[null,null,null,{"$f":"IF(C2464>0,VLOOKUP(C2464,Liste!$A$10:$D$159,4),\"\")","v":""}]
[null,null,null,{"$f":"IF(C2465>0,VLOOKUP(C2465,Liste!$A$10:$D$159,4),\"\")","v":""}]
[null,null,null,{"$f":"IF(C2466>0,VLOOKUP(C2466,Liste!$A$10:$D$159,4),\"\")","v":""}]
[null,null,null,{"$f":"IF(C2467>0,VLOOKUP(C2467,Liste!$A$10:$D$159,4),\"\")","v":""}]
[null,null,null,{"$f":"IF(C2468>0,VLOOKUP(C2468,Liste!$A$10:$D$159,4),\"\")","v":""}]
[null,null,null,{"$f":"IF(C2469>0,VLOOKUP(C2469,Liste!$A$10:$D$159,4),\"\")","v":""}]
[null,null,null,{"$f":"IF(C2470>0,VLOOKUP(C2470,Liste!$A$10:$D$159,4),\"\")","v":""}]
[null,null,null,{"$f":"IF(C2471>0,VLOOKUP(C2471,Liste!$A$10:$D$159,4),\"\")","v":""}]
[null,null,null,{"$f":"IF(C2472>0,VLOOKUP(C2472,Liste!$A$10:$D$159,4),\"\")","v":""}]
[null,null,null,{"$f":"IF(C2473>0,VLOOKUP(C2473,Liste!$A$10:$D$159,4),\"\")","v":""}]
[null,null,null,{"$f":"IF(C2474>0,VLOOKUP(C2474,Liste!$A$10:$D$159,4),\"\")","v":""}]
[null,null,null,{"$f":"IF(C2475>0,VLOOKUP(C2475,Liste!$A$10:$D$159,4),\"\")","v":""}]
[null,null,null,{"$f":"IF(C2476>0,VLOOKUP(C2476,Liste!$A$10:$D$159,4),\"\")","v":""}]
[null,null,null,{"$f":"IF(C2477>0,VLOOKUP(C2477,Liste!$A$10:$D$159,4),\"\")","v":""}]
[null,null,null,{"$f":"IF(C2478>0,VLOOKUP(C2478,Liste!$A$10:$D$159,4),\"\")","v":""}]
[null,null,null,{"$f":"IF(C2479>0,VLOOKUP(C2479,Liste!$A$10:$D$159,4),\"\")","v":""}]
[null,null,null,{"$f":"IF(C2480>0,VLOOKUP(C2480,Liste!$A$10:$D$159,4),\"\")","v":""}]
[null,null,null,{"$f":"IF(C2481>0,VLOOKUP(C2481,Liste!$A$10:$D$159,4),\"\")","v":""}]
[null,null,null,{"$f":"IF(C2482>0,VLOOKUP(C2482,Liste!$A$10:$D$159,4),\"\")","v":""}]
[null,null,null,{"$f":"IF(C2483>0,VLOOKUP(C2483,Liste!$A$10:$D$159,4),\"\")","v":""}]
[null,null,null,{"$f":"IF(C2484>0,VLOOKUP(C2484,Liste!$A$10:$D$159,4),\"\")","v":""}]
[null,null,null,{"$f":"IF(C2485>0,VLOOKUP(C2485,Liste!$A$10:$D$159,4),\"\")","v":""}]
[null,null,null,{"$f":"IF(C2486>0,VLOOKUP(C2486,Liste!$A$10:$D$159,4),\"\")","v":""}]
[null,null,null,{"$f":"IF(C2487>0,VLOOKUP(C2487,Liste!$A$10:$D$159,4),\"\")","v":""}]
[null,null,null,{"$f":"IF(C2488>0,VLOOKUP(C2488,Liste!$A$10:$D$159,4),\"\")","v":""}]
[null,null,null,{"$f":"IF(C2489>0,VLOOKUP(C2489,Liste!$A$10:$D$159,4),\"\")","v":""}]
[null,null,null,{"$f":"IF(C2490>0,VLOOKUP(C2490,Liste!$A$10:$D$159,4),\"\")","v":""}]
[null,null,null,{"$f":"IF(C2491>0,VLOOKUP(C2491,Liste!$A$10:$D$159,4),\"\")","v":""}]
[null,null,null,{"$f":"IF(C2492>0,VLOOKUP(C2492,Liste!$A$10:$D$159,4),\"\")","v":""}]
[null,null,null,{"$f":"IF(C2493>0,VLOOKUP(C2493,Liste!$A$10:$D$159,4),\"\")","v":""}]
[null,null,null,{"$f":"IF(C2494>0,VLOOKUP(C2494,Liste!$A$10:$D$159,4),\"\")","v":""}]
[null,null,null,{"$f":"IF(C2495>0,VLOOKUP(C2495,Liste!$A$10:$D$159,4),\"\")","v":""}]
[null,null,null,{"$f":"IF(C2496>0,VLOOKUP(C2496,Liste!$A$10:$D$159,4),\"\")","v":""}]
[null,null,null,{"$f":"IF(C2497>0,VLOOKUP(C2497,Liste!$A$10:$D$159,4),\"\")","v":""}]
[null,null,null,{"$f":"IF(C2498>0,VLOOKUP(C2498,Liste!$A$10:$D$159,4),\"\")","v":""}]
[null,null,null,{"$f":"IF(C2499>0,VLOOKUP(C2499,Liste!$A$10:$D$159,4),\"\")","v":""}]
[null,null,null,{"$f":"IF(C2500>0,VLOOKUP(C2500,Liste!$A$10:$D$159,4),\"\")","v":""}]
[null,null,null,{"$f":"IF(C2501>0,VLOOKUP(C2501,Liste!$A$10:$D$159,4),\"\")","v":""}]
[null,null,null,{"$f":"IF(C2502>0,VLOOKUP(C2502,Liste!$A$10:$D$159,4),\"\")","v":""}]
[null,null,null,{"$f":"IF(C2503>0,VLOOKUP(C2503,Liste!$A$10:$D$159,4),\"\")","v":""}]
[null,null,null,{"$f":"IF(C2504>0,VLOOKUP(C2504,Liste!$A$10:$D$159,4),\"\")","v":""}]
[null,null,null,{"$f":"IF(C2505>0,VLOOKUP(C2505,Liste!$A$10:$D$159,4),\"\")","v":""}]
[null,null,null,{"$f":"IF(C2506>0,VLOOKUP(C2506,Liste!$A$10:$D$159,4),\"\")","v":""}]
[null,null,null,{"$f":"IF(C2507>0,VLOOKUP(C2507,Liste!$A$10:$D$159,4),\"\")","v":""}]
[null,null,null,{"$f":"IF(C2508>0,VLOOKUP(C2508,Liste!$A$10:$D$159,4),\"\")","v":""}]
[null,null,null,{"$f":"IF(C2509>0,VLOOKUP(C2509,Liste!$A$10:$D$159,4),\"\")","v":""}]
[null,null,null,{"$f":"IF(C2510>0,VLOOKUP(C2510,Liste!$A$10:$D$159,4),\"\")","v":""}]
[null,null,null,{"$f":"IF(C2511>0,VLOOKUP(C2511,Liste!$A$10:$D$159,4),\"\")","v":""}]
[null,null,null,{"$f":"IF(C2512>0,VLOOKUP(C2512,Liste!$A$10:$D$159,4),\"\")","v":""}]
[null,null,null,{"$f":"IF(C2513>0,VLOOKUP(C2513,Liste!$A$10:$D$159,4),\"\")","v":""}]
[null,null,null,{"$f":"IF(C2514>0,VLOOKUP(C2514,Liste!$A$10:$D$159,4),\"\")","v":""}]
[null,null,null,{"$f":"IF(C2515>0,VLOOKUP(C2515,Liste!$A$10:$D$159,4),\"\")","v":""}]
[null,null,null,{"$f":"IF(C2516>0,VLOOKUP(C2516,Liste!$A$10:$D$159,4),\"\")","v":""}]
[null,null,null,{"$f":"IF(C2517>0,VLOOKUP(C2517,Liste!$A$10:$D$159,4),\"\")","v":""}]
[null,null,null,{"$f":"IF(C2518>0,VLOOKUP(C2518,Liste!$A$10:$D$159,4),\"\")","v":""}]
[null,null,null,{"$f":"IF(C2519>0,VLOOKUP(C2519,Liste!$A$10:$D$159,4),\"\")","v":""}]
[null,null,null,{"$f":"IF(C2520>0,VLOOKUP(C2520,Liste!$A$10:$D$159,4),\"\")","v":""}]
[null,null,null,{"$f":"IF(C2521>0,VLOOKUP(C2521,Liste!$A$10:$D$159,4),\"\")","v":""}]
[null,null,null,{"$f":"IF(C2522>0,VLOOKUP(C2522,Liste!$A$10:$D$159,4),\"\")","v":""}]
[null,null,null,{"$f":"IF(C2523>0,VLOOKUP(C2523,Liste!$A$10:$D$159,4),\"\")","v":""}]
[null,null,null,{"$f":"IF(C2524>0,VLOOKUP(C2524,Liste!$A$10:$D$159,4),\"\")","v":""}]
[null,null,null,{"$f":"IF(C2525>0,VLOOKUP(C2525,Liste!$A$10:$D$159,4),\"\")","v":""}]
[null,null,null,{"$f":"IF(C2526>0,VLOOKUP(C2526,Liste!$A$10:$D$159,4),\"\")","v":""}]
[null,null,null,{"$f":"IF(C2527>0,VLOOKUP(C2527,Liste!$A$10:$D$159,4),\"\")","v":""}]
[null,null,null,{"$f":"IF(C2528>0,VLOOKUP(C2528,Liste!$A$10:$D$159,4),\"\")","v":""}]
[null,null,null,{"$f":"IF(C2529>0,VLOOKUP(C2529,Liste!$A$10:$D$159,4),\"\")","v":""}]
[null,null,null,{"$f":"IF(C2530>0,VLOOKUP(C2530,Liste!$A$10:$D$159,4),\"\")","v":""}]
[null,null,null,{"$f":"IF(C2531>0,VLOOKUP(C2531,Liste!$A$10:$D$159,4),\"\")","v":""}]
[null,null,null,{"$f":"IF(C2532>0,VLOOKUP(C2532,Liste!$A$10:$D$159,4),\"\")","v":""}]
[null,null,null,{"$f":"IF(C2533>0,VLOOKUP(C2533,Liste!$A$10:$D$159,4),\"\")","v":""}]
[null,null,null,{"$f":"IF(C2534>0,VLOOKUP(C2534,Liste!$A$10:$D$159,4),\"\")","v":""}]
[null,null,null,{"$f":"IF(C2535>0,VLOOKUP(C2535,Liste!$A$10:$D$159,4),\"\")","v":""}]
[null,null,null,{"$f":"IF(C2536>0,VLOOKUP(C2536,Liste!$A$10:$D$159,4),\"\")","v":""}]
[null,null,null,{"$f":"IF(C2537>0,VLOOKUP(C2537,Liste!$A$10:$D$159,4),\"\")","v":""}]
[null,null,null,{"$f":"IF(C2538>0,VLOOKUP(C2538,Liste!$A$10:$D$159,4),\"\")","v":""}]
[null,null,null,{"$f":"IF(C2539>0,VLOOKUP(C2539,Liste!$A$10:$D$159,4),\"\")","v":""}]
[null,null,null,{"$f":"IF(C2540>0,VLOOKUP(C2540,Liste!$A$10:$D$159,4),\"\")","v":""}]
[null,null,null,{"$f":"IF(C2541>0,VLOOKUP(C2541,Liste!$A$10:$D$159,4),\"\")","v":""}]
[null,null,null,{"$f":"IF(C2542>0,VLOOKUP(C2542,Liste!$A$10:$D$159,4),\"\")","v":""}]
[null,null,null,{"$f":"IF(C2543>0,VLOOKUP(C2543,Liste!$A$10:$D$159,4),\"\")","v":""}]
[null,null,null,{"$f":"IF(C2544>0,VLOOKUP(C2544,Liste!$A$10:$D$159,4),\"\")","v":""}]
[null,null,null,{"$f":"IF(C2545>0,VLOOKUP(C2545,Liste!$A$10:$D$159,4),\"\")","v":""}]
[null,null,null,{"$f":"IF(C2546>0,VLOOKUP(C2546,Liste!$A$10:$D$159,4),\"\")","v":""}]
[null,null,null,{"$f":"IF(C2547>0,VLOOKUP(C2547,Liste!$A$10:$D$159,4),\"\")","v":""}]
[null,null,null,{"$f":"IF(C2548>0,VLOOKUP(C2548,Liste!$A$10:$D$159,4),\"\")","v":""}]
[null,null,null,{"$f":"IF(C2549>0,VLOOKUP(C2549,Liste!$A$10:$D$159,4),\"\")","v":""}]
[null,null,null,{"$f":"IF(C2550>0,VLOOKUP(C2550,Liste!$A$10:$D$159,4),\"\")","v":""}]
[null,null,null,{"$f":"IF(C2551>0,VLOOKUP(C2551,Liste!$A$10:$D$159,4),\"\")","v":""}]
[null,null,null,{"$f":"IF(C2552>0,VLOOKUP(C2552,Liste!$A$10:$D$159,4),\"\")","v":""}]
[null,null,null,{"$f":"IF(C2553>0,VLOOKUP(C2553,Liste!$A$10:$D$159,4),\"\")","v":""}]
[null,null,null,{"$f":"IF(C2554>0,VLOOKUP(C2554,Liste!$A$10:$D$159,4),\"\")","v":""}]
[null,null,null,{"$f":"IF(C2555>0,VLOOKUP(C2555,Liste!$A$10:$D$159,4),\"\")","v":""}]
[null,null,null,{"$f":"IF(C2556>0,VLOOKUP(C2556,Liste!$A$10:$D$159,4),\"\")","v":""}]
[null,null,null,{"$f":"IF(C2557>0,VLOOKUP(C2557,Liste!$A$10:$D$159,4),\"\")","v":""}]
[null,null,null,{"$f":"IF(C2558>0,VLOOKUP(C2558,Liste!$A$10:$D$159,4),\"\")","v":""}]
[null,null,null,{"$f":"IF(C2559>0,VLOOKUP(C2559,Liste!$A$10:$D$159,4),\"\")","v":""}]
[null,null,null,{"$f":"IF(C2560>0,VLOOKUP(C2560,Liste!$A$10:$D$159,4),\"\")","v":""}]
[null,null,null,{"$f":"IF(C2561>0,VLOOKUP(C2561,Liste!$A$10:$D$159,4),\"\")","v":""}]
[null,null,null,{"$f":"IF(C2562>0,VLOOKUP(C2562,Liste!$A$10:$D$159,4),\"\")","v":""}]
[null,null,null,{"$f":"IF(C2563>0,VLOOKUP(C2563,Liste!$A$10:$D$159,4),\"\")","v":""}]
[null,null,null,{"$f":"IF(C2564>0,VLOOKUP(C2564,Liste!$A$10:$D$159,4),\"\")","v":""}]
[null,null,null,{"$f":"IF(C2565>0,VLOOKUP(C2565,Liste!$A$10:$D$159,4),\"\")","v":""}]
[null,null,null,{"$f":"IF(C2566>0,VLOOKUP(C2566,Liste!$A$10:$D$159,4),\"\")","v":""}]
[null,null,null,{"$f":"IF(C2567>0,VLOOKUP(C2567,Liste!$A$10:$D$159,4),\"\")","v":""}]
[null,null,null,{"$f":"IF(C2568>0,VLOOKUP(C2568,Liste!$A$10:$D$159,4),\"\")","v":""}]
[null,null,null,{"$f":"IF(C2569>0,VLOOKUP(C2569,Liste!$A$10:$D$159,4),\"\")","v":""}]
[null,null,null,{"$f":"IF(C2570>0,VLOOKUP(C2570,Liste!$A$10:$D$159,4),\"\")","v":""}]
[null,null,null,{"$f":"IF(C2571>0,VLOOKUP(C2571,Liste!$A$10:$D$159,4),\"\")","v":""}]
[null,null,null,{"$f":"IF(C2572>0,VLOOKUP(C2572,Liste!$A$10:$D$159,4),\"\")","v":""}]
[null,null,null,{"$f":"IF(C2573>0,VLOOKUP(C2573,Liste!$A$10:$D$159,4),\"\")","v":""}]
[null,null,null,{"$f":"IF(C2574>0,VLOOKUP(C2574,Liste!$A$10:$D$159,4),\"\")","v":""}]
[null,null,null,{"$f":"IF(C2575>0,VLOOKUP(C2575,Liste!$A$10:$D$159,4),\"\")","v":""}]
[null,null,null,{"$f":"IF(C2576>0,VLOOKUP(C2576,Liste!$A$10:$D$159,4),\"\")","v":""}]
[null,null,null,{"$f":"IF(C2577>0,VLOOKUP(C2577,Liste!$A$10:$D$159,4),\"\")","v":""}]
[null,null,null,{"$f":"IF(C2578>0,VLOOKUP(C2578,Liste!$A$10:$D$159,4),\"\")","v":""}]
[null,null,null,{"$f":"IF(C2579>0,VLOOKUP(C2579,Liste!$A$10:$D$159,4),\"\")","v":""}]
[null,null,null,{"$f":"IF(C2580>0,VLOOKUP(C2580,Liste!$A$10:$D$159,4),\"\")","v":""}]
[null,null,null,{"$f":"IF(C2581>0,VLOOKUP(C2581,Liste!$A$10:$D$159,4),\"\")","v":""}]
[null,null,null,{"$f":"IF(C2582>0,VLOOKUP(C2582,Liste!$A$10:$D$159,4),\"\")","v":""}]
[null,null,null,{"$f":"IF(C2583>0,VLOOKUP(C2583,Liste!$A$10:$D$159,4),\"\")","v":""}]
[null,null,null,{"$f":"IF(C2584>0,VLOOKUP(C2584,Liste!$A$10:$D$159,4),\"\")","v":""}]
[null,null,null,{"$f":"IF(C2585>0,VLOOKUP(C2585,Liste!$A$10:$D$159,4),\"\")","v":""}]
[null,null,null,{"$f":"IF(C2586>0,VLOOKUP(C2586,Liste!$A$10:$D$159,4),\"\")","v":""}]
[null,null,null,{"$f":"IF(C2587>0,VLOOKUP(C2587,Liste!$A$10:$D$159,4),\"\")","v":""}]
[null,null,null,{"$f":"IF(C2588>0,VLOOKUP(C2588,Liste!$A$10:$D$159,4),\"\")","v":""}]
[null,null,null,{"$f":"IF(C2589>0,VLOOKUP(C2589,Liste!$A$10:$D$159,4),\"\")","v":""}]
[null,null,null,{"$f":"IF(C2590>0,VLOOKUP(C2590,Liste!$A$10:$D$159,4),\"\")","v":""}]
[null,null,null,{"$f":"IF(C2591>0,VLOOKUP(C2591,Liste!$A$10:$D$159,4),\"\")","v":""}]
[null,null,null,{"$f":"IF(C2592>0,VLOOKUP(C2592,Liste!$A$10:$D$159,4),\"\")","v":""}]
[null,null,null,{"$f":"IF(C2593>0,VLOOKUP(C2593,Liste!$A$10:$D$159,4),\"\")","v":""}]
[null,null,null,{"$f":"IF(C2594>0,VLOOKUP(C2594,Liste!$A$10:$D$159,4),\"\")","v":""}]
[null,null,null,{"$f":"IF(C2595>0,VLOOKUP(C2595,Liste!$A$10:$D$159,4),\"\")","v":""}]
[null,null,null,{"$f":"IF(C2596>0,VLOOKUP(C2596,Liste!$A$10:$D$159,4),\"\")","v":""}]
[null,null,null,{"$f":"IF(C2597>0,VLOOKUP(C2597,Liste!$A$10:$D$159,4),\"\")","v":""}]
[null,null,null,{"$f":"IF(C2598>0,VLOOKUP(C2598,Liste!$A$10:$D$159,4),\"\")","v":""}]
[null,null,null,{"$f":"IF(C2599>0,VLOOKUP(C2599,Liste!$A$10:$D$159,4),\"\")","v":""}]
[null,null,null,{"$f":"IF(C2600>0,VLOOKUP(C2600,Liste!$A$10:$D$159,4),\"\")","v":""}]
[null,null,null,{"$f":"IF(C2601>0,VLOOKUP(C2601,Liste!$A$10:$D$159,4),\"\")","v":""}]
[null,null,null,{"$f":"IF(C2602>0,VLOOKUP(C2602,Liste!$A$10:$D$159,4),\"\")","v":""}]
[null,null,null,{"$f":"IF(C2603>0,VLOOKUP(C2603,Liste!$A$10:$D$159,4),\"\")","v":""}]
[null,null,null,{"$f":"IF(C2604>0,VLOOKUP(C2604,Liste!$A$10:$D$159,4),\"\")","v":""}]
[null,null,null,{"$f":"IF(C2605>0,VLOOKUP(C2605,Liste!$A$10:$D$159,4),\"\")","v":""}]
[null,null,null,{"$f":"IF(C2606>0,VLOOKUP(C2606,Liste!$A$10:$D$159,4),\"\")","v":""}]
[null,null,null,{"$f":"IF(C2607>0,VLOOKUP(C2607,Liste!$A$10:$D$159,4),\"\")","v":""}]
[null,null,null,{"$f":"IF(C2608>0,VLOOKUP(C2608,Liste!$A$10:$D$159,4),\"\")","v":""}]
[null,null,null,{"$f":"IF(C2609>0,VLOOKUP(C2609,Liste!$A$10:$D$159,4),\"\")","v":""}]
[null,null,null,{"$f":"IF(C2610>0,VLOOKUP(C2610,Liste!$A$10:$D$159,4),\"\")","v":""}]
[null,null,null,{"$f":"IF(C2611>0,VLOOKUP(C2611,Liste!$A$10:$D$159,4),\"\")","v":""}]
[null,null,null,{"$f":"IF(C2612>0,VLOOKUP(C2612,Liste!$A$10:$D$159,4),\"\")","v":""}]
[null,null,null,{"$f":"IF(C2613>0,VLOOKUP(C2613,Liste!$A$10:$D$159,4),\"\")","v":""}]
[null,null,null,{"$f":"IF(C2614>0,VLOOKUP(C2614,Liste!$A$10:$D$159,4),\"\")","v":""}]
[null,null,null,{"$f":"IF(C2615>0,VLOOKUP(C2615,Liste!$A$10:$D$159,4),\"\")","v":""}]
[null,null,null,{"$f":"IF(C2616>0,VLOOKUP(C2616,Liste!$A$10:$D$159,4),\"\")","v":""}]
[null,null,null,{"$f":"IF(C2617>0,VLOOKUP(C2617,Liste!$A$10:$D$159,4),\"\")","v":""}]
[null,null,null,{"$f":"IF(C2618>0,VLOOKUP(C2618,Liste!$A$10:$D$159,4),\"\")","v":""}]
[null,null,null,{"$f":"IF(C2619>0,VLOOKUP(C2619,Liste!$A$10:$D$159,4),\"\")","v":""}]
[null,null,null,{"$f":"IF(C2620>0,VLOOKUP(C2620,Liste!$A$10:$D$159,4),\"\")","v":""}]
[null,null,null,{"$f":"IF(C2621>0,VLOOKUP(C2621,Liste!$A$10:$D$159,4),\"\")","v":""}]
[null,null,null,{"$f":"IF(C2622>0,VLOOKUP(C2622,Liste!$A$10:$D$159,4),\"\")","v":""}]
[null,null,null,{"$f":"IF(C2623>0,VLOOKUP(C2623,Liste!$A$10:$D$159,4),\"\")","v":""}]
[null,null,null,{"$f":"IF(C2624>0,VLOOKUP(C2624,Liste!$A$10:$D$159,4),\"\")","v":""}]
[null,null,null,{"$f":"IF(C2625>0,VLOOKUP(C2625,Liste!$A$10:$D$159,4),\"\")","v":""}]
[null,null,null,{"$f":"IF(C2626>0,VLOOKUP(C2626,Liste!$A$10:$D$159,4),\"\")","v":""}]
[null,null,null,{"$f":"IF(C2627>0,VLOOKUP(C2627,Liste!$A$10:$D$159,4),\"\")","v":""}]
[null,null,null,{"$f":"IF(C2628>0,VLOOKUP(C2628,Liste!$A$10:$D$159,4),\"\")","v":""}]
[null,null,null,{"$f":"IF(C2629>0,VLOOKUP(C2629,Liste!$A$10:$D$159,4),\"\")","v":""}]
[null,null,null,{"$f":"IF(C2630>0,VLOOKUP(C2630,Liste!$A$10:$D$159,4),\"\")","v":""}]
[null,null,null,{"$f":"IF(C2631>0,VLOOKUP(C2631,Liste!$A$10:$D$159,4),\"\")","v":""}]
[null,null,null,{"$f":"IF(C2632>0,VLOOKUP(C2632,Liste!$A$10:$D$159,4),\"\")","v":""}]
[null,null,null,{"$f":"IF(C2633>0,VLOOKUP(C2633,Liste!$A$10:$D$159,4),\"\")","v":""}]
[null,null,null,{"$f":"IF(C2634>0,VLOOKUP(C2634,Liste!$A$10:$D$159,4),\"\")","v":""}]
[null,null,null,{"$f":"IF(C2635>0,VLOOKUP(C2635,Liste!$A$10:$D$159,4),\"\")","v":""}]
[null,null,null,{"$f":"IF(C2636>0,VLOOKUP(C2636,Liste!$A$10:$D$159,4),\"\")","v":""}]
[null,null,null,{"$f":"IF(C2637>0,VLOOKUP(C2637,Liste!$A$10:$D$159,4),\"\")","v":""}]
[null,null,null,{"$f":"IF(C2638>0,VLOOKUP(C2638,Liste!$A$10:$D$159,4),\"\")","v":""}]
[null,null,null,{"$f":"IF(C2639>0,VLOOKUP(C2639,Liste!$A$10:$D$159,4),\"\")","v":""}]
[null,null,null,{"$f":"IF(C2640>0,VLOOKUP(C2640,Liste!$A$10:$D$159,4),\"\")","v":""}]
[null,null,null,{"$f":"IF(C2641>0,VLOOKUP(C2641,Liste!$A$10:$D$159,4),\"\")","v":""}]
[null,null,null,{"$f":"IF(C2642>0,VLOOKUP(C2642,Liste!$A$10:$D$159,4),\"\")","v":""}]
[null,null,null,{"$f":"IF(C2643>0,VLOOKUP(C2643,Liste!$A$10:$D$159,4),\"\")","v":""}]
[null,null,null,{"$f":"IF(C2644>0,VLOOKUP(C2644,Liste!$A$10:$D$159,4),\"\")","v":""}]
[null,null,null,{"$f":"IF(C2645>0,VLOOKUP(C2645,Liste!$A$10:$D$159,4),\"\")","v":""}]
[null,null,null,{"$f":"IF(C2646>0,VLOOKUP(C2646,Liste!$A$10:$D$159,4),\"\")","v":""}]
[null,null,null,{"$f":"IF(C2647>0,VLOOKUP(C2647,Liste!$A$10:$D$159,4),\"\")","v":""}]
[null,null,null,{"$f":"IF(C2648>0,VLOOKUP(C2648,Liste!$A$10:$D$159,4),\"\")","v":""}]
[null,null,null,{"$f":"IF(C2649>0,VLOOKUP(C2649,Liste!$A$10:$D$159,4),\"\")","v":""}]
[null,null,null,{"$f":"IF(C2650>0,VLOOKUP(C2650,Liste!$A$10:$D$159,4),\"\")","v":""}]
[null,null,null,{"$f":"IF(C2651>0,VLOOKUP(C2651,Liste!$A$10:$D$159,4),\"\")","v":""}]
[null,null,null,{"$f":"IF(C2652>0,VLOOKUP(C2652,Liste!$A$10:$D$159,4),\"\")","v":""}]
[null,null,null,{"$f":"IF(C2653>0,VLOOKUP(C2653,Liste!$A$10:$D$159,4),\"\")","v":""}]
[null,null,null,{"$f":"IF(C2654>0,VLOOKUP(C2654,Liste!$A$10:$D$159,4),\"\")","v":""}]
[null,null,null,{"$f":"IF(C2655>0,VLOOKUP(C2655,Liste!$A$10:$D$159,4),\"\")","v":""}]
[null,null,null,{"$f":"IF(C2656>0,VLOOKUP(C2656,Liste!$A$10:$D$159,4),\"\")","v":""}]
[null,null,null,{"$f":"IF(C2657>0,VLOOKUP(C2657,Liste!$A$10:$D$159,4),\"\")","v":""}]
[null,null,null,{"$f":"IF(C2658>0,VLOOKUP(C2658,Liste!$A$10:$D$159,4),\"\")","v":""}]
[null,null,null,{"$f":"IF(C2659>0,VLOOKUP(C2659,Liste!$A$10:$D$159,4),\"\")","v":""}]
[null,null,null,{"$f":"IF(C2660>0,VLOOKUP(C2660,Liste!$A$10:$D$159,4),\"\")","v":""}]
[null,null,null,{"$f":"IF(C2661>0,VLOOKUP(C2661,Liste!$A$10:$D$159,4),\"\")","v":""}]
[null,null,null,{"$f":"IF(C2662>0,VLOOKUP(C2662,Liste!$A$10:$D$159,4),\"\")","v":""}]
[null,null,null,{"$f":"IF(C2663>0,VLOOKUP(C2663,Liste!$A$10:$D$159,4),\"\")","v":""}]
[null,null,null,{"$f":"IF(C2664>0,VLOOKUP(C2664,Liste!$A$10:$D$159,4),\"\")","v":""}]
[null,null,null,{"$f":"IF(C2665>0,VLOOKUP(C2665,Liste!$A$10:$D$159,4),\"\")","v":""}]
[null,null,null,{"$f":"IF(C2666>0,VLOOKUP(C2666,Liste!$A$10:$D$159,4),\"\")","v":""}]
[null,null,null,{"$f":"IF(C2667>0,VLOOKUP(C2667,Liste!$A$10:$D$159,4),\"\")","v":""}]
[null,null,null,{"$f":"IF(C2668>0,VLOOKUP(C2668,Liste!$A$10:$D$159,4),\"\")","v":""}]
[null,null,null,{"$f":"IF(C2669>0,VLOOKUP(C2669,Liste!$A$10:$D$159,4),\"\")","v":""}]
[null,null,null,{"$f":"IF(C2670>0,VLOOKUP(C2670,Liste!$A$10:$D$159,4),\"\")","v":""}]
[null,null,null,{"$f":"IF(C2671>0,VLOOKUP(C2671,Liste!$A$10:$D$159,4),\"\")","v":""}]
[null,null,null,{"$f":"IF(C2672>0,VLOOKUP(C2672,Liste!$A$10:$D$159,4),\"\")","v":""}]
[null,null,null,{"$f":"IF(C2673>0,VLOOKUP(C2673,Liste!$A$10:$D$159,4),\"\")","v":""}]
[null,null,null,{"$f":"IF(C2674>0,VLOOKUP(C2674,Liste!$A$10:$D$159,4),\"\")","v":""}]
[null,null,null,{"$f":"IF(C2675>0,VLOOKUP(C2675,Liste!$A$10:$D$159,4),\"\")","v":""}]
[null,null,null,{"$f":"IF(C2676>0,VLOOKUP(C2676,Liste!$A$10:$D$159,4),\"\")","v":""}]
[null,null,null,{"$f":"IF(C2677>0,VLOOKUP(C2677,Liste!$A$10:$D$159,4),\"\")","v":""}]
[null,null,null,{"$f":"IF(C2678>0,VLOOKUP(C2678,Liste!$A$10:$D$159,4),\"\")","v":""}]
[null,null,null,{"$f":"IF(C2679>0,VLOOKUP(C2679,Liste!$A$10:$D$159,4),\"\")","v":""}]
[null,null,null,{"$f":"IF(C2680>0,VLOOKUP(C2680,Liste!$A$10:$D$159,4),\"\")","v":""}]
[null,null,null,{"$f":"IF(C2681>0,VLOOKUP(C2681,Liste!$A$10:$D$159,4),\"\")","v":""}]
[null,null,null,{"$f":"IF(C2682>0,VLOOKUP(C2682,Liste!$A$10:$D$159,4),\"\")","v":""}]
[null,null,null,{"$f":"IF(C2683>0,VLOOKUP(C2683,Liste!$A$10:$D$159,4),\"\")","v":""}]
[null,null,null,{"$f":"IF(C2684>0,VLOOKUP(C2684,Liste!$A$10:$D$159,4),\"\")","v":""}]
[null,null,null,{"$f":"IF(C2685>0,VLOOKUP(C2685,Liste!$A$10:$D$159,4),\"\")","v":""}]
[null,null,null,{"$f":"IF(C2686>0,VLOOKUP(C2686,Liste!$A$10:$D$159,4),\"\")","v":""}]
[null,null,null,{"$f":"IF(C2687>0,VLOOKUP(C2687,Liste!$A$10:$D$159,4),\"\")","v":""}]
[null,null,null,{"$f":"IF(C2688>0,VLOOKUP(C2688,Liste!$A$10:$D$159,4),\"\")","v":""}]
[null,null,null,{"$f":"IF(C2689>0,VLOOKUP(C2689,Liste!$A$10:$D$159,4),\"\")","v":""}]
[null,null,null,{"$f":"IF(C2690>0,VLOOKUP(C2690,Liste!$A$10:$D$159,4),\"\")","v":""}]
[null,null,null,{"$f":"IF(C2691>0,VLOOKUP(C2691,Liste!$A$10:$D$159,4),\"\")","v":""}]
[null,null,null,{"$f":"IF(C2692>0,VLOOKUP(C2692,Liste!$A$10:$D$159,4),\"\")","v":""}]
[null,null,null,{"$f":"IF(C2693>0,VLOOKUP(C2693,Liste!$A$10:$D$159,4),\"\")","v":""}]
[null,null,null,{"$f":"IF(C2694>0,VLOOKUP(C2694,Liste!$A$10:$D$159,4),\"\")","v":""}]
[null,null,null,{"$f":"IF(C2695>0,VLOOKUP(C2695,Liste!$A$10:$D$159,4),\"\")","v":""}]
[null,null,null,{"$f":"IF(C2696>0,VLOOKUP(C2696,Liste!$A$10:$D$159,4),\"\")","v":""}]
[null,null,null,{"$f":"IF(C2697>0,VLOOKUP(C2697,Liste!$A$10:$D$159,4),\"\")","v":""}]
[null,null,null,{"$f":"IF(C2698>0,VLOOKUP(C2698,Liste!$A$10:$D$159,4),\"\")","v":""}]
[null,null,null,{"$f":"IF(C2699>0,VLOOKUP(C2699,Liste!$A$10:$D$159,4),\"\")","v":""}]
[null,null,null,{"$f":"IF(C2700>0,VLOOKUP(C2700,Liste!$A$10:$D$159,4),\"\")","v":""}]
[null,null,null,{"$f":"IF(C2701>0,VLOOKUP(C2701,Liste!$A$10:$D$159,4),\"\")","v":""}]
[null,null,null,{"$f":"IF(C2702>0,VLOOKUP(C2702,Liste!$A$10:$D$159,4),\"\")","v":""}]
[null,null,null,{"$f":"IF(C2703>0,VLOOKUP(C2703,Liste!$A$10:$D$159,4),\"\")","v":""}]
[null,null,null,{"$f":"IF(C2704>0,VLOOKUP(C2704,Liste!$A$10:$D$159,4),\"\")","v":""}]
[null,null,null,{"$f":"IF(C2705>0,VLOOKUP(C2705,Liste!$A$10:$D$159,4),\"\")","v":""}]
[null,null,null,{"$f":"IF(C2706>0,VLOOKUP(C2706,Liste!$A$10:$D$159,4),\"\")","v":""}]
[null,null,null,{"$f":"IF(C2707>0,VLOOKUP(C2707,Liste!$A$10:$D$159,4),\"\")","v":""}]
[null,null,null,{"$f":"IF(C2708>0,VLOOKUP(C2708,Liste!$A$10:$D$159,4),\"\")","v":""}]
[null,null,null,{"$f":"IF(C2709>0,VLOOKUP(C2709,Liste!$A$10:$D$159,4),\"\")","v":""}]
[null,null,null,{"$f":"IF(C2710>0,VLOOKUP(C2710,Liste!$A$10:$D$159,4),\"\")","v":""}]
[null,null,null,{"$f":"IF(C2711>0,VLOOKUP(C2711,Liste!$A$10:$D$159,4),\"\")","v":""}]
[null,null,null,{"$f":"IF(C2712>0,VLOOKUP(C2712,Liste!$A$10:$D$159,4),\"\")","v":""}]
[null,null,null,{"$f":"IF(C2713>0,VLOOKUP(C2713,Liste!$A$10:$D$159,4),\"\")","v":""}]
[null,null,null,{"$f":"IF(C2714>0,VLOOKUP(C2714,Liste!$A$10:$D$159,4),\"\")","v":""}]
[null,null,null,{"$f":"IF(C2715>0,VLOOKUP(C2715,Liste!$A$10:$D$159,4),\"\")","v":""}]
[null,null,null,{"$f":"IF(C2716>0,VLOOKUP(C2716,Liste!$A$10:$D$159,4),\"\")","v":""}]
[null,null,null,{"$f":"IF(C2717>0,VLOOKUP(C2717,Liste!$A$10:$D$159,4),\"\")","v":""}]
[null,null,null,{"$f":"IF(C2718>0,VLOOKUP(C2718,Liste!$A$10:$D$159,4),\"\")","v":""}]
[null,null,null,{"$f":"IF(C2719>0,VLOOKUP(C2719,Liste!$A$10:$D$159,4),\"\")","v":""}]
[null,null,null,{"$f":"IF(C2720>0,VLOOKUP(C2720,Liste!$A$10:$D$159,4),\"\")","v":""}]
[null,null,null,{"$f":"IF(C2721>0,VLOOKUP(C2721,Liste!$A$10:$D$159,4),\"\")","v":""}]
[null,null,null,{"$f":"IF(C2722>0,VLOOKUP(C2722,Liste!$A$10:$D$159,4),\"\")","v":""}]
[null,null,null,{"$f":"IF(C2723>0,VLOOKUP(C2723,Liste!$A$10:$D$159,4),\"\")","v":""}]
[null,null,null,{"$f":"IF(C2724>0,VLOOKUP(C2724,Liste!$A$10:$D$159,4),\"\")","v":""}]
[null,null,null,{"$f":"IF(C2725>0,VLOOKUP(C2725,Liste!$A$10:$D$159,4),\"\")","v":""}]
[null,null,null,{"$f":"IF(C2726>0,VLOOKUP(C2726,Liste!$A$10:$D$159,4),\"\")","v":""}]
[null,null,null,{"$f":"IF(C2727>0,VLOOKUP(C2727,Liste!$A$10:$D$159,4),\"\")","v":""}]
[null,null,null,{"$f":"IF(C2728>0,VLOOKUP(C2728,Liste!$A$10:$D$159,4),\"\")","v":""}]
[null,null,null,{"$f":"IF(C2729>0,VLOOKUP(C2729,Liste!$A$10:$D$159,4),\"\")","v":""}]
[null,null,null,{"$f":"IF(C2730>0,VLOOKUP(C2730,Liste!$A$10:$D$159,4),\"\")","v":""}]
[null,null,null,{"$f":"IF(C2731>0,VLOOKUP(C2731,Liste!$A$10:$D$159,4),\"\")","v":""}]
[null,null,null,{"$f":"IF(C2732>0,VLOOKUP(C2732,Liste!$A$10:$D$159,4),\"\")","v":""}]
[null,null,null,{"$f":"IF(C2733>0,VLOOKUP(C2733,Liste!$A$10:$D$159,4),\"\")","v":""}]
[null,null,null,{"$f":"IF(C2734>0,VLOOKUP(C2734,Liste!$A$10:$D$159,4),\"\")","v":""}]
[null,null,null,{"$f":"IF(C2735>0,VLOOKUP(C2735,Liste!$A$10:$D$159,4),\"\")","v":""}]
[null,null,null,{"$f":"IF(C2736>0,VLOOKUP(C2736,Liste!$A$10:$D$159,4),\"\")","v":""}]
[null,null,null,{"$f":"IF(C2737>0,VLOOKUP(C2737,Liste!$A$10:$D$159,4),\"\")","v":""}]
[null,null,null,{"$f":"IF(C2738>0,VLOOKUP(C2738,Liste!$A$10:$D$159,4),\"\")","v":""}]
[null,null,null,{"$f":"IF(C2739>0,VLOOKUP(C2739,Liste!$A$10:$D$159,4),\"\")","v":""}]
[null,null,null,{"$f":"IF(C2740>0,VLOOKUP(C2740,Liste!$A$10:$D$159,4),\"\")","v":""}]
[null,null,null,{"$f":"IF(C2741>0,VLOOKUP(C2741,Liste!$A$10:$D$159,4),\"\")","v":""}]
[null,null,null,{"$f":"IF(C2742>0,VLOOKUP(C2742,Liste!$A$10:$D$159,4),\"\")","v":""}]
[null,null,null,{"$f":"IF(C2743>0,VLOOKUP(C2743,Liste!$A$10:$D$159,4),\"\")","v":""}]
[null,null,null,{"$f":"IF(C2744>0,VLOOKUP(C2744,Liste!$A$10:$D$159,4),\"\")","v":""}]
[null,null,null,{"$f":"IF(C2745>0,VLOOKUP(C2745,Liste!$A$10:$D$159,4),\"\")","v":""}]
[null,null,null,{"$f":"IF(C2746>0,VLOOKUP(C2746,Liste!$A$10:$D$159,4),\"\")","v":""}]
[null,null,null,{"$f":"IF(C2747>0,VLOOKUP(C2747,Liste!$A$10:$D$159,4),\"\")","v":""}]
[null,null,null,{"$f":"IF(C2748>0,VLOOKUP(C2748,Liste!$A$10:$D$159,4),\"\")","v":""}]
[null,null,null,{"$f":"IF(C2749>0,VLOOKUP(C2749,Liste!$A$10:$D$159,4),\"\")","v":""}]
[null,null,null,{"$f":"IF(C2750>0,VLOOKUP(C2750,Liste!$A$10:$D$159,4),\"\")","v":""}]
[null,null,null,{"$f":"IF(C2751>0,VLOOKUP(C2751,Liste!$A$10:$D$159,4),\"\")","v":""}]
[null,null,null,{"$f":"IF(C2752>0,VLOOKUP(C2752,Liste!$A$10:$D$159,4),\"\")","v":""}]
[null,null,null,{"$f":"IF(C2753>0,VLOOKUP(C2753,Liste!$A$10:$D$159,4),\"\")","v":""}]
[null,null,null,{"$f":"IF(C2754>0,VLOOKUP(C2754,Liste!$A$10:$D$159,4),\"\")","v":""}]
[null,null,null,{"$f":"IF(C2755>0,VLOOKUP(C2755,Liste!$A$10:$D$159,4),\"\")","v":""}]
[null,null,null,{"$f":"IF(C2756>0,VLOOKUP(C2756,Liste!$A$10:$D$159,4),\"\")","v":""}]
[null,null,null,{"$f":"IF(C2757>0,VLOOKUP(C2757,Liste!$A$10:$D$159,4),\"\")","v":""}]
[null,null,null,{"$f":"IF(C2758>0,VLOOKUP(C2758,Liste!$A$10:$D$159,4),\"\")","v":""}]
[null,null,null,{"$f":"IF(C2759>0,VLOOKUP(C2759,Liste!$A$10:$D$159,4),\"\")","v":""}]
[null,null,null,{"$f":"IF(C2760>0,VLOOKUP(C2760,Liste!$A$10:$D$159,4),\"\")","v":""}]
[null,null,null,{"$f":"IF(C2761>0,VLOOKUP(C2761,Liste!$A$10:$D$159,4),\"\")","v":""}]
[null,null,null,{"$f":"IF(C2762>0,VLOOKUP(C2762,Liste!$A$10:$D$159,4),\"\")","v":""}]
[null,null,null,{"$f":"IF(C2763>0,VLOOKUP(C2763,Liste!$A$10:$D$159,4),\"\")","v":""}]
[null,null,null,{"$f":"IF(C2764>0,VLOOKUP(C2764,Liste!$A$10:$D$159,4),\"\")","v":""}]
[null,null,null,{"$f":"IF(C2765>0,VLOOKUP(C2765,Liste!$A$10:$D$159,4),\"\")","v":""}]
[null,null,null,{"$f":"IF(C2766>0,VLOOKUP(C2766,Liste!$A$10:$D$159,4),\"\")","v":""}]
[null,null,null,{"$f":"IF(C2767>0,VLOOKUP(C2767,Liste!$A$10:$D$159,4),\"\")","v":""}]
[null,null,null,{"$f":"IF(C2768>0,VLOOKUP(C2768,Liste!$A$10:$D$159,4),\"\")","v":""}]
[null,null,null,{"$f":"IF(C2769>0,VLOOKUP(C2769,Liste!$A$10:$D$159,4),\"\")","v":""}]
[null,null,null,{"$f":"IF(C2770>0,VLOOKUP(C2770,Liste!$A$10:$D$159,4),\"\")","v":""}]
[null,null,null,{"$f":"IF(C2771>0,VLOOKUP(C2771,Liste!$A$10:$D$159,4),\"\")","v":""}]
[null,null,null,{"$f":"IF(C2772>0,VLOOKUP(C2772,Liste!$A$10:$D$159,4),\"\")","v":""}]
[null,null,null,{"$f":"IF(C2773>0,VLOOKUP(C2773,Liste!$A$10:$D$159,4),\"\")","v":""}]
[null,null,null,{"$f":"IF(C2774>0,VLOOKUP(C2774,Liste!$A$10:$D$159,4),\"\")","v":""}]
[null,null,null,{"$f":"IF(C2775>0,VLOOKUP(C2775,Liste!$A$10:$D$159,4),\"\")","v":""}]
[null,null,null,{"$f":"IF(C2776>0,VLOOKUP(C2776,Liste!$A$10:$D$159,4),\"\")","v":""}]
[null,null,null,{"$f":"IF(C2777>0,VLOOKUP(C2777,Liste!$A$10:$D$159,4),\"\")","v":""}]
[null,null,null,{"$f":"IF(C2778>0,VLOOKUP(C2778,Liste!$A$10:$D$159,4),\"\")","v":""}]
[null,null,null,{"$f":"IF(C2779>0,VLOOKUP(C2779,Liste!$A$10:$D$159,4),\"\")","v":""}]
[null,null,null,{"$f":"IF(C2780>0,VLOOKUP(C2780,Liste!$A$10:$D$159,4),\"\")","v":""}]
[null,null,null,{"$f":"IF(C2781>0,VLOOKUP(C2781,Liste!$A$10:$D$159,4),\"\")","v":""}]
[null,null,null,{"$f":"IF(C2782>0,VLOOKUP(C2782,Liste!$A$10:$D$159,4),\"\")","v":""}]
[null,null,null,{"$f":"IF(C2783>0,VLOOKUP(C2783,Liste!$A$10:$D$159,4),\"\")","v":""}]
[null,null,null,{"$f":"IF(C2784>0,VLOOKUP(C2784,Liste!$A$10:$D$159,4),\"\")","v":""}]
[null,null,null,{"$f":"IF(C2785>0,VLOOKUP(C2785,Liste!$A$10:$D$159,4),\"\")","v":""}]
[null,null,null,{"$f":"IF(C2786>0,VLOOKUP(C2786,Liste!$A$10:$D$159,4),\"\")","v":""}]
[null,null,null,{"$f":"IF(C2787>0,VLOOKUP(C2787,Liste!$A$10:$D$159,4),\"\")","v":""}]
[null,null,null,{"$f":"IF(C2788>0,VLOOKUP(C2788,Liste!$A$10:$D$159,4),\"\")","v":""}]
[null,null,null,{"$f":"IF(C2789>0,VLOOKUP(C2789,Liste!$A$10:$D$159,4),\"\")","v":""}]
[null,null,null,{"$f":"IF(C2790>0,VLOOKUP(C2790,Liste!$A$10:$D$159,4),\"\")","v":""}]
[null,null,null,{"$f":"IF(C2791>0,VLOOKUP(C2791,Liste!$A$10:$D$159,4),\"\")","v":""}]
[null,null,null,{"$f":"IF(C2792>0,VLOOKUP(C2792,Liste!$A$10:$D$159,4),\"\")","v":""}]
[null,null,null,{"$f":"IF(C2793>0,VLOOKUP(C2793,Liste!$A$10:$D$159,4),\"\")","v":""}]
[null,null,null,{"$f":"IF(C2794>0,VLOOKUP(C2794,Liste!$A$10:$D$159,4),\"\")","v":""}]
[null,null,null,{"$f":"IF(C2795>0,VLOOKUP(C2795,Liste!$A$10:$D$159,4),\"\")","v":""}]
[null,null,null,{"$f":"IF(C2796>0,VLOOKUP(C2796,Liste!$A$10:$D$159,4),\"\")","v":""}]
[null,null,null,{"$f":"IF(C2797>0,VLOOKUP(C2797,Liste!$A$10:$D$159,4),\"\")","v":""}]
[null,null,null,{"$f":"IF(C2798>0,VLOOKUP(C2798,Liste!$A$10:$D$159,4),\"\")","v":""}]
[null,null,null,{"$f":"IF(C2799>0,VLOOKUP(C2799,Liste!$A$10:$D$159,4),\"\")","v":""}]
[null,null,null,{"$f":"IF(C2800>0,VLOOKUP(C2800,Liste!$A$10:$D$159,4),\"\")","v":""}]
[null,null,null,{"$f":"IF(C2801>0,VLOOKUP(C2801,Liste!$A$10:$D$159,4),\"\")","v":""}]
[null,null,null,{"$f":"IF(C2802>0,VLOOKUP(C2802,Liste!$A$10:$D$159,4),\"\")","v":""}]
[null,null,null,{"$f":"IF(C2803>0,VLOOKUP(C2803,Liste!$A$10:$D$159,4),\"\")","v":""}]
[null,null,null,{"$f":"IF(C2804>0,VLOOKUP(C2804,Liste!$A$10:$D$159,4),\"\")","v":""}]
[null,null,null,{"$f":"IF(C2805>0,VLOOKUP(C2805,Liste!$A$10:$D$159,4),\"\")","v":""}]
[null,null,null,{"$f":"IF(C2806>0,VLOOKUP(C2806,Liste!$A$10:$D$159,4),\"\")","v":""}]
[null,null,null,{"$f":"IF(C2807>0,VLOOKUP(C2807,Liste!$A$10:$D$159,4),\"\")","v":""}]
[null,null,null,{"$f":"IF(C2808>0,VLOOKUP(C2808,Liste!$A$10:$D$159,4),\"\")","v":""}]
[null,null,null,{"$f":"IF(C2809>0,VLOOKUP(C2809,Liste!$A$10:$D$159,4),\"\")","v":""}]
[null,null,null,{"$f":"IF(C2810>0,VLOOKUP(C2810,Liste!$A$10:$D$159,4),\"\")","v":""}]
[null,null,null,{"$f":"IF(C2811>0,VLOOKUP(C2811,Liste!$A$10:$D$159,4),\"\")","v":""}]
[null,null,null,{"$f":"IF(C2812>0,VLOOKUP(C2812,Liste!$A$10:$D$159,4),\"\")","v":""}]
[null,null,null,{"$f":"IF(C2813>0,VLOOKUP(C2813,Liste!$A$10:$D$159,4),\"\")","v":""}]
[null,null,null,{"$f":"IF(C2814>0,VLOOKUP(C2814,Liste!$A$10:$D$159,4),\"\")","v":""}]
[null,null,null,{"$f":"IF(C2815>0,VLOOKUP(C2815,Liste!$A$10:$D$159,4),\"\")","v":""}]
[null,null,null,{"$f":"IF(C2816>0,VLOOKUP(C2816,Liste!$A$10:$D$159,4),\"\")","v":""}]
[null,null,null,{"$f":"IF(C2817>0,VLOOKUP(C2817,Liste!$A$10:$D$159,4),\"\")","v":""}]
[null,null,null,{"$f":"IF(C2818>0,VLOOKUP(C2818,Liste!$A$10:$D$159,4),\"\")","v":""}]
[null,null,null,{"$f":"IF(C2819>0,VLOOKUP(C2819,Liste!$A$10:$D$159,4),\"\")","v":""}]
[null,null,null,{"$f":"IF(C2820>0,VLOOKUP(C2820,Liste!$A$10:$D$159,4),\"\")","v":""}]
[null,null,null,{"$f":"IF(C2821>0,VLOOKUP(C2821,Liste!$A$10:$D$159,4),\"\")","v":""}]
[null,null,null,{"$f":"IF(C2822>0,VLOOKUP(C2822,Liste!$A$10:$D$159,4),\"\")","v":""}]
[null,null,null,{"$f":"IF(C2823>0,VLOOKUP(C2823,Liste!$A$10:$D$159,4),\"\")","v":""}]
[null,null,null,{"$f":"IF(C2824>0,VLOOKUP(C2824,Liste!$A$10:$D$159,4),\"\")","v":""}]
[null,null,null,{"$f":"IF(C2825>0,VLOOKUP(C2825,Liste!$A$10:$D$159,4),\"\")","v":""}]
[null,null,null,{"$f":"IF(C2826>0,VLOOKUP(C2826,Liste!$A$10:$D$159,4),\"\")","v":""}]
[null,null,null,{"$f":"IF(C2827>0,VLOOKUP(C2827,Liste!$A$10:$D$159,4),\"\")","v":""}]
[null,null,null,{"$f":"IF(C2828>0,VLOOKUP(C2828,Liste!$A$10:$D$159,4),\"\")","v":""}]
[null,null,null,{"$f":"IF(C2829>0,VLOOKUP(C2829,Liste!$A$10:$D$159,4),\"\")","v":""}]
[null,null,null,{"$f":"IF(C2830>0,VLOOKUP(C2830,Liste!$A$10:$D$159,4),\"\")","v":""}]
[null,null,null,{"$f":"IF(C2831>0,VLOOKUP(C2831,Liste!$A$10:$D$159,4),\"\")","v":""}]
[null,null,null,{"$f":"IF(C2832>0,VLOOKUP(C2832,Liste!$A$10:$D$159,4),\"\")","v":""}]
[null,null,null,{"$f":"IF(C2833>0,VLOOKUP(C2833,Liste!$A$10:$D$159,4),\"\")","v":""}]
[null,null,null,{"$f":"IF(C2834>0,VLOOKUP(C2834,Liste!$A$10:$D$159,4),\"\")","v":""}]
[null,null,null,{"$f":"IF(C2835>0,VLOOKUP(C2835,Liste!$A$10:$D$159,4),\"\")","v":""}]
[null,null,null,{"$f":"IF(C2836>0,VLOOKUP(C2836,Liste!$A$10:$D$159,4),\"\")","v":""}]
[null,null,null,{"$f":"IF(C2837>0,VLOOKUP(C2837,Liste!$A$10:$D$159,4),\"\")","v":""}]
[null,null,null,{"$f":"IF(C2838>0,VLOOKUP(C2838,Liste!$A$10:$D$159,4),\"\")","v":""}]
[null,null,null,{"$f":"IF(C2839>0,VLOOKUP(C2839,Liste!$A$10:$D$159,4),\"\")","v":""}]
[null,null,null,{"$f":"IF(C2840>0,VLOOKUP(C2840,Liste!$A$10:$D$159,4),\"\")","v":""}]
[null,null,null,{"$f":"IF(C2841>0,VLOOKUP(C2841,Liste!$A$10:$D$159,4),\"\")","v":""}]
[null,null,null,{"$f":"IF(C2842>0,VLOOKUP(C2842,Liste!$A$10:$D$159,4),\"\")","v":""}]
[null,null,null,{"$f":"IF(C2843>0,VLOOKUP(C2843,Liste!$A$10:$D$159,4),\"\")","v":""}]
[null,null,null,{"$f":"IF(C2844>0,VLOOKUP(C2844,Liste!$A$10:$D$159,4),\"\")","v":""}]
[null,null,null,{"$f":"IF(C2845>0,VLOOKUP(C2845,Liste!$A$10:$D$159,4),\"\")","v":""}]
[null,null,null,{"$f":"IF(C2846>0,VLOOKUP(C2846,Liste!$A$10:$D$159,4),\"\")","v":""}]
[null,null,null,{"$f":"IF(C2847>0,VLOOKUP(C2847,Liste!$A$10:$D$159,4),\"\")","v":""}]
[null,null,null,{"$f":"IF(C2848>0,VLOOKUP(C2848,Liste!$A$10:$D$159,4),\"\")","v":""}]
[null,null,null,{"$f":"IF(C2849>0,VLOOKUP(C2849,Liste!$A$10:$D$159,4),\"\")","v":""}]
[null,null,null,{"$f":"IF(C2850>0,VLOOKUP(C2850,Liste!$A$10:$D$159,4),\"\")","v":""}]
[null,null,null,{"$f":"IF(C2851>0,VLOOKUP(C2851,Liste!$A$10:$D$159,4),\"\")","v":""}]
[null,null,null,{"$f":"IF(C2852>0,VLOOKUP(C2852,Liste!$A$10:$D$159,4),\"\")","v":""}]
[null,null,null,{"$f":"IF(C2853>0,VLOOKUP(C2853,Liste!$A$10:$D$159,4),\"\")","v":""}]
[null,null,null,{"$f":"IF(C2854>0,VLOOKUP(C2854,Liste!$A$10:$D$159,4),\"\")","v":""}]
[null,null,null,{"$f":"IF(C2855>0,VLOOKUP(C2855,Liste!$A$10:$D$159,4),\"\")","v":""}]
[null,null,null,{"$f":"IF(C2856>0,VLOOKUP(C2856,Liste!$A$10:$D$159,4),\"\")","v":""}]
[null,null,null,{"$f":"IF(C2857>0,VLOOKUP(C2857,Liste!$A$10:$D$159,4),\"\")","v":""}]
[null,null,null,{"$f":"IF(C2858>0,VLOOKUP(C2858,Liste!$A$10:$D$159,4),\"\")","v":""}]
[null,null,null,{"$f":"IF(C2859>0,VLOOKUP(C2859,Liste!$A$10:$D$159,4),\"\")","v":""}]
[null,null,null,{"$f":"IF(C2860>0,VLOOKUP(C2860,Liste!$A$10:$D$159,4),\"\")","v":""}]
[null,null,null,{"$f":"IF(C2861>0,VLOOKUP(C2861,Liste!$A$10:$D$159,4),\"\")","v":""}]
[null,null,null,{"$f":"IF(C2862>0,VLOOKUP(C2862,Liste!$A$10:$D$159,4),\"\")","v":""}]
[null,null,null,{"$f":"IF(C2863>0,VLOOKUP(C2863,Liste!$A$10:$D$159,4),\"\")","v":""}]
[null,null,null,{"$f":"IF(C2864>0,VLOOKUP(C2864,Liste!$A$10:$D$159,4),\"\")","v":""}]
[null,null,null,{"$f":"IF(C2865>0,VLOOKUP(C2865,Liste!$A$10:$D$159,4),\"\")","v":""}]
[null,null,null,{"$f":"IF(C2866>0,VLOOKUP(C2866,Liste!$A$10:$D$159,4),\"\")","v":""}]
[null,null,null,{"$f":"IF(C2867>0,VLOOKUP(C2867,Liste!$A$10:$D$159,4),\"\")","v":""}]
[null,null,null,{"$f":"IF(C2868>0,VLOOKUP(C2868,Liste!$A$10:$D$159,4),\"\")","v":""}]
[null,null,null,{"$f":"IF(C2869>0,VLOOKUP(C2869,Liste!$A$10:$D$159,4),\"\")","v":""}]
[null,null,null,{"$f":"IF(C2870>0,VLOOKUP(C2870,Liste!$A$10:$D$159,4),\"\")","v":""}]
[null,null,null,{"$f":"IF(C2871>0,VLOOKUP(C2871,Liste!$A$10:$D$159,4),\"\")","v":""}]
[null,null,null,{"$f":"IF(C2872>0,VLOOKUP(C2872,Liste!$A$10:$D$159,4),\"\")","v":""}]
[null,null,null,{"$f":"IF(C2873>0,VLOOKUP(C2873,Liste!$A$10:$D$159,4),\"\")","v":""}]
[null,null,null,{"$f":"IF(C2874>0,VLOOKUP(C2874,Liste!$A$10:$D$159,4),\"\")","v":""}]
[null,null,null,{"$f":"IF(C2875>0,VLOOKUP(C2875,Liste!$A$10:$D$159,4),\"\")","v":""}]
[null,null,null,{"$f":"IF(C2876>0,VLOOKUP(C2876,Liste!$A$10:$D$159,4),\"\")","v":""}]
[null,null,null,{"$f":"IF(C2877>0,VLOOKUP(C2877,Liste!$A$10:$D$159,4),\"\")","v":""}]
[null,null,null,{"$f":"IF(C2878>0,VLOOKUP(C2878,Liste!$A$10:$D$159,4),\"\")","v":""}]
[null,null,null,{"$f":"IF(C2879>0,VLOOKUP(C2879,Liste!$A$10:$D$159,4),\"\")","v":""}]
[null,null,null,{"$f":"IF(C2880>0,VLOOKUP(C2880,Liste!$A$10:$D$159,4),\"\")","v":""}]
[null,null,null,{"$f":"IF(C2881>0,VLOOKUP(C2881,Liste!$A$10:$D$159,4),\"\")","v":""}]
[null,null,null,{"$f":"IF(C2882>0,VLOOKUP(C2882,Liste!$A$10:$D$159,4),\"\")","v":""}]
[null,null,null,{"$f":"IF(C2883>0,VLOOKUP(C2883,Liste!$A$10:$D$159,4),\"\")","v":""}]
[null,null,null,{"$f":"IF(C2884>0,VLOOKUP(C2884,Liste!$A$10:$D$159,4),\"\")","v":""}]
[null,null,null,{"$f":"IF(C2885>0,VLOOKUP(C2885,Liste!$A$10:$D$159,4),\"\")","v":""}]
[null,null,null,{"$f":"IF(C2886>0,VLOOKUP(C2886,Liste!$A$10:$D$159,4),\"\")","v":""}]
[null,null,null,{"$f":"IF(C2887>0,VLOOKUP(C2887,Liste!$A$10:$D$159,4),\"\")","v":""}]
[null,null,null,{"$f":"IF(C2888>0,VLOOKUP(C2888,Liste!$A$10:$D$159,4),\"\")","v":""}]
[null,null,null,{"$f":"IF(C2889>0,VLOOKUP(C2889,Liste!$A$10:$D$159,4),\"\")","v":""}]
[null,null,null,{"$f":"IF(C2890>0,VLOOKUP(C2890,Liste!$A$10:$D$159,4),\"\")","v":""}]
[null,null,null,{"$f":"IF(C2891>0,VLOOKUP(C2891,Liste!$A$10:$D$159,4),\"\")","v":""}]
[null,null,null,{"$f":"IF(C2892>0,VLOOKUP(C2892,Liste!$A$10:$D$159,4),\"\")","v":""}]
[null,null,null,{"$f":"IF(C2893>0,VLOOKUP(C2893,Liste!$A$10:$D$159,4),\"\")","v":""}]
[null,null,null,{"$f":"IF(C2894>0,VLOOKUP(C2894,Liste!$A$10:$D$159,4),\"\")","v":""}]
[null,null,null,{"$f":"IF(C2895>0,VLOOKUP(C2895,Liste!$A$10:$D$159,4),\"\")","v":""}]
[null,null,null,{"$f":"IF(C2896>0,VLOOKUP(C2896,Liste!$A$10:$D$159,4),\"\")","v":""}]
[null,null,null,{"$f":"IF(C2897>0,VLOOKUP(C2897,Liste!$A$10:$D$159,4),\"\")","v":""}]
[null,null,null,{"$f":"IF(C2898>0,VLOOKUP(C2898,Liste!$A$10:$D$159,4),\"\")","v":""}]
[null,null,null,{"$f":"IF(C2899>0,VLOOKUP(C2899,Liste!$A$10:$D$159,4),\"\")","v":""}]
[null,null,null,{"$f":"IF(C2900>0,VLOOKUP(C2900,Liste!$A$10:$D$159,4),\"\")","v":""}]
[null,null,null,{"$f":"IF(C2901>0,VLOOKUP(C2901,Liste!$A$10:$D$159,4),\"\")","v":""}]
[null,null,null,{"$f":"IF(C2902>0,VLOOKUP(C2902,Liste!$A$10:$D$159,4),\"\")","v":""}]
[null,null,null,{"$f":"IF(C2903>0,VLOOKUP(C2903,Liste!$A$10:$D$159,4),\"\")","v":""}]
[null,null,null,{"$f":"IF(C2904>0,VLOOKUP(C2904,Liste!$A$10:$D$159,4),\"\")","v":""}]
[null,null,null,{"$f":"IF(C2905>0,VLOOKUP(C2905,Liste!$A$10:$D$159,4),\"\")","v":""}]
[null,null,null,{"$f":"IF(C2906>0,VLOOKUP(C2906,Liste!$A$10:$D$159,4),\"\")","v":""}]
[null,null,null,{"$f":"IF(C2907>0,VLOOKUP(C2907,Liste!$A$10:$D$159,4),\"\")","v":""}]
[null,null,null,{"$f":"IF(C2908>0,VLOOKUP(C2908,Liste!$A$10:$D$159,4),\"\")","v":""}]
[null,null,null,{"$f":"IF(C2909>0,VLOOKUP(C2909,Liste!$A$10:$D$159,4),\"\")","v":""}]
[null,null,null,{"$f":"IF(C2910>0,VLOOKUP(C2910,Liste!$A$10:$D$159,4),\"\")","v":""}]
[null,null,null,{"$f":"IF(C2911>0,VLOOKUP(C2911,Liste!$A$10:$D$159,4),\"\")","v":""}]
[null,null,null,{"$f":"IF(C2912>0,VLOOKUP(C2912,Liste!$A$10:$D$159,4),\"\")","v":""}]
[null,null,null,{"$f":"IF(C2913>0,VLOOKUP(C2913,Liste!$A$10:$D$159,4),\"\")","v":""}]
[null,null,null,{"$f":"IF(C2914>0,VLOOKUP(C2914,Liste!$A$10:$D$159,4),\"\")","v":""}]
[null,null,null,{"$f":"IF(C2915>0,VLOOKUP(C2915,Liste!$A$10:$D$159,4),\"\")","v":""}]
[null,null,null,{"$f":"IF(C2916>0,VLOOKUP(C2916,Liste!$A$10:$D$159,4),\"\")","v":""}]
[null,null,null,{"$f":"IF(C2917>0,VLOOKUP(C2917,Liste!$A$10:$D$159,4),\"\")","v":""}]
[null,null,null,{"$f":"IF(C2918>0,VLOOKUP(C2918,Liste!$A$10:$D$159,4),\"\")","v":""}]
[null,null,null,{"$f":"IF(C2919>0,VLOOKUP(C2919,Liste!$A$10:$D$159,4),\"\")","v":""}]
[null,null,null,{"$f":"IF(C2920>0,VLOOKUP(C2920,Liste!$A$10:$D$159,4),\"\")","v":""}]
[null,null,null,{"$f":"IF(C2921>0,VLOOKUP(C2921,Liste!$A$10:$D$159,4),\"\")","v":""}]
[null,null,null,{"$f":"IF(C2922>0,VLOOKUP(C2922,Liste!$A$10:$D$159,4),\"\")","v":""}]
[null,null,null,{"$f":"IF(C2923>0,VLOOKUP(C2923,Liste!$A$10:$D$159,4),\"\")","v":""}]
[null,null,null,{"$f":"IF(C2924>0,VLOOKUP(C2924,Liste!$A$10:$D$159,4),\"\")","v":""}]
[null,null,null,{"$f":"IF(C2925>0,VLOOKUP(C2925,Liste!$A$10:$D$159,4),\"\")","v":""}]
[null,null,null,{"$f":"IF(C2926>0,VLOOKUP(C2926,Liste!$A$10:$D$159,4),\"\")","v":""}]
[null,null,null,{"$f":"IF(C2927>0,VLOOKUP(C2927,Liste!$A$10:$D$159,4),\"\")","v":""}]
[null,null,null,{"$f":"IF(C2928>0,VLOOKUP(C2928,Liste!$A$10:$D$159,4),\"\")","v":""}]
[null,null,null,{"$f":"IF(C2929>0,VLOOKUP(C2929,Liste!$A$10:$D$159,4),\"\")","v":""}]
[null,null,null,{"$f":"IF(C2930>0,VLOOKUP(C2930,Liste!$A$10:$D$159,4),\"\")","v":""}]
[null,null,null,{"$f":"IF(C2931>0,VLOOKUP(C2931,Liste!$A$10:$D$159,4),\"\")","v":""}]
[null,null,null,{"$f":"IF(C2932>0,VLOOKUP(C2932,Liste!$A$10:$D$159,4),\"\")","v":""}]
[null,null,null,{"$f":"IF(C2933>0,VLOOKUP(C2933,Liste!$A$10:$D$159,4),\"\")","v":""}]
[null,null,null,{"$f":"IF(C2934>0,VLOOKUP(C2934,Liste!$A$10:$D$159,4),\"\")","v":""}]
[null,null,null,{"$f":"IF(C2935>0,VLOOKUP(C2935,Liste!$A$10:$D$159,4),\"\")","v":""}]
[null,null,null,{"$f":"IF(C2936>0,VLOOKUP(C2936,Liste!$A$10:$D$159,4),\"\")","v":""}]
[null,null,null,{"$f":"IF(C2937>0,VLOOKUP(C2937,Liste!$A$10:$D$159,4),\"\")","v":""}]
[null,null,null,{"$f":"IF(C2938>0,VLOOKUP(C2938,Liste!$A$10:$D$159,4),\"\")","v":""}]
[null,null,null,{"$f":"IF(C2939>0,VLOOKUP(C2939,Liste!$A$10:$D$159,4),\"\")","v":""}]
[null,null,null,{"$f":"IF(C2940>0,VLOOKUP(C2940,Liste!$A$10:$D$159,4),\"\")","v":""}]
[null,null,null,{"$f":"IF(C2941>0,VLOOKUP(C2941,Liste!$A$10:$D$159,4),\"\")","v":""}]
[null,null,null,{"$f":"IF(C2942>0,VLOOKUP(C2942,Liste!$A$10:$D$159,4),\"\")","v":""}]
[null,null,null,{"$f":"IF(C2943>0,VLOOKUP(C2943,Liste!$A$10:$D$159,4),\"\")","v":""}]
[null,null,null,{"$f":"IF(C2944>0,VLOOKUP(C2944,Liste!$A$10:$D$159,4),\"\")","v":""}]
[null,null,null,{"$f":"IF(C2945>0,VLOOKUP(C2945,Liste!$A$10:$D$159,4),\"\")","v":""}]
[null,null,null,{"$f":"IF(C2946>0,VLOOKUP(C2946,Liste!$A$10:$D$159,4),\"\")","v":""}]
[null,null,null,{"$f":"IF(C2947>0,VLOOKUP(C2947,Liste!$A$10:$D$159,4),\"\")","v":""}]
[null,null,null,{"$f":"IF(C2948>0,VLOOKUP(C2948,Liste!$A$10:$D$159,4),\"\")","v":""}]
[null,null,null,{"$f":"IF(C2949>0,VLOOKUP(C2949,Liste!$A$10:$D$159,4),\"\")","v":""}]
[null,null,null,{"$f":"IF(C2950>0,VLOOKUP(C2950,Liste!$A$10:$D$159,4),\"\")","v":""}]
[null,null,null,{"$f":"IF(C2951>0,VLOOKUP(C2951,Liste!$A$10:$D$159,4),\"\")","v":""}]
[null,null,null,{"$f":"IF(C2952>0,VLOOKUP(C2952,Liste!$A$10:$D$159,4),\"\")","v":""}]
[null,null,null,{"$f":"IF(C2953>0,VLOOKUP(C2953,Liste!$A$10:$D$159,4),\"\")","v":""}]
[null,null,null,{"$f":"IF(C2954>0,VLOOKUP(C2954,Liste!$A$10:$D$159,4),\"\")","v":""}]
[null,null,null,{"$f":"IF(C2955>0,VLOOKUP(C2955,Liste!$A$10:$D$159,4),\"\")","v":""}]
[null,null,null,{"$f":"IF(C2956>0,VLOOKUP(C2956,Liste!$A$10:$D$159,4),\"\")","v":""}]
[null,null,null,{"$f":"IF(C2957>0,VLOOKUP(C2957,Liste!$A$10:$D$159,4),\"\")","v":""}]
[null,null,null,{"$f":"IF(C2958>0,VLOOKUP(C2958,Liste!$A$10:$D$159,4),\"\")","v":""}]
[null,null,null,{"$f":"IF(C2959>0,VLOOKUP(C2959,Liste!$A$10:$D$159,4),\"\")","v":""}]
[null,null,null,{"$f":"IF(C2960>0,VLOOKUP(C2960,Liste!$A$10:$D$159,4),\"\")","v":""}]
[null,null,null,{"$f":"IF(C2961>0,VLOOKUP(C2961,Liste!$A$10:$D$159,4),\"\")","v":""}]
[null,null,null,{"$f":"IF(C2962>0,VLOOKUP(C2962,Liste!$A$10:$D$159,4),\"\")","v":""}]
[null,null,null,{"$f":"IF(C2963>0,VLOOKUP(C2963,Liste!$A$10:$D$159,4),\"\")","v":""}]
[null,null,null,{"$f":"IF(C2964>0,VLOOKUP(C2964,Liste!$A$10:$D$159,4),\"\")","v":""}]
[null,null,null,{"$f":"IF(C2965>0,VLOOKUP(C2965,Liste!$A$10:$D$159,4),\"\")","v":""}]
[null,null,null,{"$f":"IF(C2966>0,VLOOKUP(C2966,Liste!$A$10:$D$159,4),\"\")","v":""}]
[null,null,null,{"$f":"IF(C2967>0,VLOOKUP(C2967,Liste!$A$10:$D$159,4),\"\")","v":""}]
[null,null,null,{"$f":"IF(C2968>0,VLOOKUP(C2968,Liste!$A$10:$D$159,4),\"\")","v":""}]
[null,null,null,{"$f":"IF(C2969>0,VLOOKUP(C2969,Liste!$A$10:$D$159,4),\"\")","v":""}]
[null,null,null,{"$f":"IF(C2970>0,VLOOKUP(C2970,Liste!$A$10:$D$159,4),\"\")","v":""}]
[null,null,null,{"$f":"IF(C2971>0,VLOOKUP(C2971,Liste!$A$10:$D$159,4),\"\")","v":""}]
[null,null,null,{"$f":"IF(C2972>0,VLOOKUP(C2972,Liste!$A$10:$D$159,4),\"\")","v":""}]
[null,null,null,{"$f":"IF(C2973>0,VLOOKUP(C2973,Liste!$A$10:$D$159,4),\"\")","v":""}]
[null,null,null,{"$f":"IF(C2974>0,VLOOKUP(C2974,Liste!$A$10:$D$159,4),\"\")","v":""}]
[null,null,null,{"$f":"IF(C2975>0,VLOOKUP(C2975,Liste!$A$10:$D$159,4),\"\")","v":""}]
[null,null,null,{"$f":"IF(C2976>0,VLOOKUP(C2976,Liste!$A$10:$D$159,4),\"\")","v":""}]
[null,null,null,{"$f":"IF(C2977>0,VLOOKUP(C2977,Liste!$A$10:$D$159,4),\"\")","v":""}]
[null,null,null,{"$f":"IF(C2978>0,VLOOKUP(C2978,Liste!$A$10:$D$159,4),\"\")","v":""}]
[null,null,null,{"$f":"IF(C2979>0,VLOOKUP(C2979,Liste!$A$10:$D$159,4),\"\")","v":""}]
[null,null,null,{"$f":"IF(C2980>0,VLOOKUP(C2980,Liste!$A$10:$D$159,4),\"\")","v":""}]
[null,null,null,{"$f":"IF(C2981>0,VLOOKUP(C2981,Liste!$A$10:$D$159,4),\"\")","v":""}]
[null,null,null,{"$f":"IF(C2982>0,VLOOKUP(C2982,Liste!$A$10:$D$159,4),\"\")","v":""}]
[null,null,null,{"$f":"IF(C2983>0,VLOOKUP(C2983,Liste!$A$10:$D$159,4),\"\")","v":""}]
[null,null,null,{"$f":"IF(C2984>0,VLOOKUP(C2984,Liste!$A$10:$D$159,4),\"\")","v":""}]
[null,null,null,{"$f":"IF(C2985>0,VLOOKUP(C2985,Liste!$A$10:$D$159,4),\"\")","v":""}]
[null,null,null,{"$f":"IF(C2986>0,VLOOKUP(C2986,Liste!$A$10:$D$159,4),\"\")","v":""}]
[null,null,null,{"$f":"IF(C2987>0,VLOOKUP(C2987,Liste!$A$10:$D$159,4),\"\")","v":""}]
[null,null,null,{"$f":"IF(C2988>0,VLOOKUP(C2988,Liste!$A$10:$D$159,4),\"\")","v":""}]
[null,null,null,{"$f":"IF(C2989>0,VLOOKUP(C2989,Liste!$A$10:$D$159,4),\"\")","v":""}]
[null,null,null,{"$f":"IF(C2990>0,VLOOKUP(C2990,Liste!$A$10:$D$159,4),\"\")","v":""}]
[null,null,null,{"$f":"IF(C2991>0,VLOOKUP(C2991,Liste!$A$10:$D$159,4),\"\")","v":""}]
[null,null,null,{"$f":"IF(C2992>0,VLOOKUP(C2992,Liste!$A$10:$D$159,4),\"\")","v":""}]
[null,null,null,{"$f":"IF(C2993>0,VLOOKUP(C2993,Liste!$A$10:$D$159,4),\"\")","v":""}]
[null,null,null,{"$f":"IF(C2994>0,VLOOKUP(C2994,Liste!$A$10:$D$159,4),\"\")","v":""}]
[null,null,null,{"$f":"IF(C2995>0,VLOOKUP(C2995,Liste!$A$10:$D$159,4),\"\")","v":""}]
[null,null,null,{"$f":"IF(C2996>0,VLOOKUP(C2996,Liste!$A$10:$D$159,4),\"\")","v":""}]
[null,null,null,{"$f":"IF(C2997>0,VLOOKUP(C2997,Liste!$A$10:$D$159,4),\"\")","v":""}]
[null,null,null,{"$f":"IF(C2998>0,VLOOKUP(C2998,Liste!$A$10:$D$159,4),\"\")","v":""}]
[null,null,null,{"$f":"IF(C2999>0,VLOOKUP(C2999,Liste!$A$10:$D$159,4),\"\")","v":""}]
[null,null,null,{"$f":"IF(C3000>0,VLOOKUP(C3000,Liste!$A$10:$D$159,4),\"\")","v":""}]
[null,null,null,{"$f":"IF(C3001>0,VLOOKUP(C3001,Liste!$A$10:$D$159,4),\"\")","v":""}]
[null,null,null,{"$f":"IF(C3002>0,VLOOKUP(C3002,Liste!$A$10:$D$159,4),\"\")","v":""}]
[null,null,null,{"$f":"IF(C3003>0,VLOOKUP(C3003,Liste!$A$10:$D$159,4),\"\")","v":""}]
[null,null,null,{"$f":"IF(C3004>0,VLOOKUP(C3004,Liste!$A$10:$D$159,4),\"\")","v":""}]
[null,null,null,{"$f":"IF(C3005>0,VLOOKUP(C3005,Liste!$A$10:$D$159,4),\"\")","v":""}]
[null,null,null,{"$f":"IF(C3006>0,VLOOKUP(C3006,Liste!$A$10:$D$159,4),\"\")","v":""}]
["Total général",null,null,null,null,null,null,{"$f":"SUBTOTAL(9,H6:H3006)","v":0}]

{"sheet":"F.MERE","index":3,"n_rows":163,"n_cols":41,"rows_kept":163,"cut":false,"hidden":false,"merged":[[6,6,7,7]]}
[{"$f":"Liste!C4","v":"20/06/21"},null,{"$f":" $AI$10&$AJ$10","v":""},null,null,null,null,null,null,null,{"$f":" $AI$10&$AJ$10","v":""},null,null,null,null,null,1,2,3,4]
[null,null,"POUR","CONTRE","ABSTENT","Total TANT.","P. R","x","PRES. Votants","Tant. Repré.","POUR","CONTRE","ABSTENT","TOTAL",null,null,1,"BAT,A","BAT,B","TANT 4"," TANT.5"," TANT.6"," TANT."," TANT."," TANT."," TANT."," TANT.",null,{"$f":"240*(A2=24)*(L3>K3)+241*(A2=24)*(K3>L3)","v":0},{"$f":"250*(A2=25)*(K3<L3)+252*(A2=25)*(K3>=AI7)","v":0},{"$f":"250*(A2=25.1)*(L3<K3)+2*(A2=25.1)*(K3>L3)+250*(A2=25.1)*(K3<L3)","v":0},{"$f":"260*(A2=26)*((K3<AJ7)*(K7<AJ8)*(K3<=AK7))+(262*(A2=26)*((K3>=AJ7)*+(K7>=AJ8)))+1*(A2=26)*(K7>=AJ8)*(K3>=AK7)","v":0},{"$f":"262*(A2=26.1)*(K3>=AI7)+260*(A2=26.1)*(K3<AI7)","v":0},null,null,{"$f":"SUM(AC2:AI2)","v":0},null,null,null,240,{"$f":"IF($AJ$2=240,CONCATENATE(\"Résolution REFUSEE par \",D3, \" voix CONTRE et \",C3,\" voix POUR.\"),\"\")","v":""}]
["Nom",null,{"$f":"SUM($C$14:$C$163)","v":0},{"$f":"SUM($D$14:$D$163)","v":0},{"$f":"SUM($E$14:$E163)","v":0},{"$f":"SUM($F$14:$F$163)","v":653},{"$f":"E11","v":9},null,{"$f":"SUM($I$14:$I$163)","v":9},{"$f":"SUM($J$14:$J$163)","v":653},{"$f":"SUM($C$14:$C$163)","v":0},{"$f":"SUM($D$14:$D$163)","v":0},{"$f":"SUM($E$14:$E163)","v":0},{"$f":"K3+L3+M3","v":0},{"$f":"IF(N3=E10,\"\",\"EN ATTENTE\")","v":"EN ATTENTE"},null,{"$f":"SUM(Q14:Q163)","v":10000},{"$f":"SUM(R14:R163)","v":9977},{"$f":"SUM(S14:S163)","v":10126},{"$f":"SUM(T14:T163)","v":0},{"$f":"SUM(U14:U163)","v":0},{"$f":"SUM(V14:V63)","v":0},{"$f":"SUM(W14:W163)","v":0},0,{"$f":"SUM(Y14:Y163)","v":0},0,{"$f":"SUM(AA14:AA163)","v":0},null,null,null,null,null,null,1,null,null,null,null,null,241,{"$f":"IF($AJ$2=241,CONCATENATE(\"Résolution ADOPTEE par \",C3,\" voix POUR et \",D3,\" voix CONTRE.\"),\"\")","v":""}]
["Clé",1,null,null,null,null,null,null,null,null,null,null,null,null,null,null,{"$f":"COUNTIF(Q14:Q163,\">0\")","v":150},{"$f":"COUNTIF(R14:R163,\">0\")","v":69},{"$f":"COUNTIF(S14:S163,\">0\")","v":81},{"$f":"COUNTIF(T14:T163,\">0\")","v":0},{"$f":"COUNTIF(U14:U163,\">0\")","v":0},{"$f":"COUNTIF(V13:V14,\">0\")","v":0},{"$f":"COUNTIF(W14:W163,\">0\")","v":0},{"$f":"COUNTIF(X14:X163,\">0\")","v":0},{"$f":"COUNTIF(Y14:Y163,\">0\")","v":0},{"$f":"COUNTIF(Z14:Z163,\">0\")","v":0},{"$f":"COUNTIF(AA14:AA163,\">0\")","v":0},null,null,null,null,null,null,null,null,null,null,null,null,250,{"$f":"IF($AJ$2=250,CONCATENATE(\"Résolution REFUSEE,Pas de possibilité de 2e vote\",\"\"))","v":false}]
[null,null,{"$f":"VLOOKUP($AJ$2,$AN$2:$AO$13,2,FALSE)","v":{"$error":"#N/A"}},null,null,null,null,null,null,null,{"$f":"IF(A2=26, AJ11,\"\")","v":""},null,null,null,null,null,null,null,null,null,null,null,null,null,null,null,null,null,null,null,"K3 Voix",3230,null,null,"25 Maj; Voix","26 Maj.2/3 Voix","26 Maj 1/3 voix",null,null,251,{"$f":"IF($AJ$2=251,CONCATENATE(\"Possibilité d'un deuxième vote à l'article 25,1, majorité 24, \"),\"\")","v":""}]
[null,null,null,null,null,null,null,null,null,"NOMBRE :","POUR","CONTRE","ABSTENT","VOTANTS",null,null,null,null,null,null,null,null,null,null,null,null,null,null,null,null,"K7 Copros",8,null,null,"Tous Copros","Tous Copros","Tous copros",null,null,252,{"$f":"IF($AJ$2=252,CONCATENATE(\"Résolution adoptée par \",C3,\" voix POUR et \",D3,\" voix CONTRE\"),\"\")","v":""}]
[null,null,null,null,null,null,{"$f":"IF(SUM($O$14:$O$163)>0,\"LIMITES DEPASSEES\",\"\")","v":""},null,null,null,{"$f":"SUM($K$14:$K$163)","v":0},{"$f":"SUM($L$14:$L$163)","v":0},{"$f":"SUM($M$14:$M$163)","v":0},{"$f":"K7+L7+M7","v":0},{"$f":"IF(N7=E11,\"\",\"EN ATTENTE\")","v":"EN ATTENTE"},null,null,null,null,null,null,null,null,null,null,null,null,null,null,null,null,null,null,null,{"$f":"ROUNDDOWN((D10)/2+1,0)","v":5001},{"$f":"ROUNDDOWN((D10)*2/3+1,0)","v":6667},{"$f":"ROUNDDOWN((D10)*1/3+1,0)","v":3334},null,null,260,{"$f":"IF($AJ$2=260,CONCATENATE(\"Résolution REJETEE .\"),\"\")","v":""}]
[null,null,"Total","Total","Prés.Repr",null,null,null,null,null,null,null,null,null,null,null,null,null,null,null,null,null,null,null,null,null,null,null,null,"Art,25",{"$f":"2*(A2=25)*(K3>=AK7)","v":0},{"$f":"IF(AE8=2,\"Possibilité de deuxième vote\",\"\")","v":""},null,null,null,{"$f":"ROUNDUP(($D$11+0.1)/2,0)","v":76},null,null,null,262,{"$f":"IF($AJ$2=262,CONCATENATE(\"Résolution ADOPTEE par \",C3,\" voix POUR et \",D3,\" voix CONTRE\"))","v":false}]
[null,null,"Syndicat"," CLE","Tot.Votants",null,null,null,null,null,{"$f":"VLOOKUP($AJ$2,$AN$2:$AO$13,2,FALSE)","v":{"$error":"#N/A"}},null,null,null,null,null,null,null,null,null,null,null,null,null,null,null,null,null,null,"Art,26",{"$f":"2*(A2=26)*(K7>=AJ8)*(K3>=AK7)","v":0},{"$f":"IF(AE9=2,\"Possibilité de deuxième vote\",\"\")","v":""}]
[null,null,{"$f":"HLOOKUP(1,$Q$1:$AA$4,3,FALSE)","v":10000},{"$f":"HLOOKUP($B$4,$Q$1:$AA$4,3,FALSE)","v":10000},{"$f":"SUM($F$14:$F$163)","v":653},"VOIX",null,null,null,null,null,null,null,null,null,null,null,null,null,null,null,null,null,null,null,null,null,null,null,null,null,null,null,null,{"$f":" IF($A$2=25,\">= \" & $AI$7,\"\")","v":""},{"$f":" IF($A$2=26,\">= \" & $AJ$7,\"\")","v":""},{"$f":" IF($A$2=26.1,\">= \" & $AK7,\"\")","v":""}]
[null,null,{"$f":"HLOOKUP(1,$Q$1:$AA$4,4,FALSE)","v":150},{"$f":"HLOOKUP($B$4,$Q$1:$AA$4,4,FALSE)","v":150},{"$f":"SUM($I$14:$I$163)","v":9},"NOMBRE",null,null,null,null,null,null,null,null,null,null,null,null,null,null,null,null,null,null,null,null,null,null,{"$f":"SUM($O$14:$O$163)","v":0},"Nombre de dépassemnts",null,null,null,null,null,{"$f":" IF($A$2=26,\">= \" & $AJ$8,\"\")","v":""}]
[null,null,null,null,null,null,null,null,null,null,null,null,{"$f":"IF(COUNTIF($N$14:$N$163,\"ERREUR\")>0,\"ERREUR\",\"\")","v":""},{"$f":"IF(COUNTIF($N$14:$N$163,\"EN ATTENTE\")>0,\"EN ATTENTE\",\"\")","v":"EN ATTENTE"},0.1,null,1,2,3,4,5,6,7,8,9,10,11]
["N° Ordre","NOMS","Voix     POUR","Voix   CONTRE  ","Voix Abst.","Total TANT.","P. R","Rep.par","PRES. Votants","Tant. Repré.","Votes    POUR","Votes    CONTRE","Votes   ABST,","VERIF","LIMITES","Votes","TANT.GEN",{"$f":"R2","v":"BAT,A"},"BAT,B","TANT 4"," TANT.5"," TANT.6"," TANT."," TANT."," TANT."," TANT."," TANT.","X","    Nombre  Représentés","  Total Voix","XX"]
[1,{"$f":"IF(A14<>0,VLOOKUP(A14,Liste!$A$10:$D$159,4,FALSE),\"\")","v":"ALEXANDRINI André"},{"$f":"F14*(K14=1)","v":0},{"$f":"F14*(L14=1)","v":0},{"$f":"F14*(M14=1)","v":0},{"$f":"IF(I14=1,VLOOKUP(A14,$A$14:$AA$163,16+$B$4,0),0)","v":0},null,null,{"$f":"1*(IF(G14>=1,VLOOKUP(A14,$A$14:$AA$163,16+$B$4,0)>0))","v":0},{"$f":"IF(F14>0,F14,0)","v":0},{"$f":"IF(AND($I14=1,$H14>0),VLOOKUP($H14,$A$14:AD$63,11,FALSE),0)","v":0},{"$f":"IF(AND($I14=1,$H14>0),VLOOKUP($H14,$A$14:AE$63,12,FALSE),0)","v":0},{"$f":"IF(AND($I14=1,$H14>0),VLOOKUP($H14,$A$14:AF$63,13,FALSE),0)","v":0},{"$f":"IF(AND(I14>0,K14+L14+M14=0),\"EN ATTENTE\",IF(K14+L14+M14>1,\"ERREUR\",\"\"))","v":""},{"$f":"IF(AND(AC14>3,AD14>$D$10*$O$12),1,\"\")","v":""},{"$f":"IF(I14=1,K14*(K14=1)+L14*2*(L14=1)+M14*3*(M14=1),\"\")","v":""},{"$f":"IF(A14<>0,VLOOKUP(A14,Liste!$A$10:$K$159,8,FALSE),\"\")","v":10},null,126,null,null,null,null,null,null,null,null,{"$f":"(H14+I14)*(J14>0)","v":0},{"$f":"COUNTIF($H$14:$H$163,A14)","v":0},{"$f":"SUMIF($H$14:$H$163,A14,$J$14:$J$163)+(J14*(AC14>0))","v":0},{"$f":"IF(H14>0,H14+0.5*(I14=1),A14*(I14=1))+(1000*(I14<1))","v":1000}]
[2,{"$f":"IF(A15<>0,VLOOKUP(A15,Liste!$A$10:$D$159,4,FALSE),\"\")","v":"ANNINOS Henri"},0,0,0,{"$f":"IF(I15=1,VLOOKUP(A15,$A$14:$AA$163,16+$B$4,0),0)","v":0},null,null,0,0,{"$f":"IF(AND($I15=1,$H15>0),VLOOKUP($H15,$A$14:AD$63,11,FALSE),0)","v":0},{"$f":"IF(AND($I15=1,$H15>0),VLOOKUP($H15,$A$14:AE$63,12,FALSE),0)","v":0},{"$f":"IF(AND($I15=1,$H15>0),VLOOKUP($H15,$A$14:AF$63,13,FALSE),0)","v":0},{"$f":"IF(AND(I15>0,K15+L15+M15=0),\"EN ATTENTE\",IF(K15+L15+M15>1,\"ERREUR\",\"\"))","v":""},"","",{"$f":"IF(A15<>0,VLOOKUP(A15,Liste!$A$10:$K$159,8,FALSE),\"\")","v":70},158,null,null,null,null,null,null,null,null,null,{"$f":"(H15+I15)*(J15>0)","v":0},{"$f":"COUNTIF($H$14:$H$163,A15)","v":0},{"$f":"SUMIF($H$14:$H$163,A15,$J$14:$J$163)+(J15*(AC15>0))","v":0},{"$f":"IF(H15>0,H15+0.5*(I15=1),A15*(I15=1))+(1000*(I15<1))","v":1000}]
[3,{"$f":"IF(A16<>0,VLOOKUP(A16,Liste!$A$10:$D$159,4,FALSE),\"\")","v":"BALDACCHINO Laurence"},0,0,0,0,null,null,0,0,{"$f":"IF(AND($I16=1,$H16>0),VLOOKUP($H16,$A$14:AD$63,11,FALSE),0)","v":0},{"$f":"IF(AND($I16=1,$H16>0),VLOOKUP($H16,$A$14:AE$63,12,FALSE),0)","v":0},{"$f":"IF(AND($I16=1,$H16>0),VLOOKUP($H16,$A$14:AF$63,13,FALSE),0)","v":0},"","","",{"$f":"IF(A16<>0,VLOOKUP(A16,Liste!$A$10:$K$159,8,FALSE),\"\")","v":100},225,null,null,null,null,null,null,null,null,null,0,0,0,1000]
[4,{"$f":"IF(A17<>0,VLOOKUP(A17,Liste!$A$10:$D$159,4,FALSE),\"\")","v":"BANCHET Joseph"},0,0,0,0,null,null,0,0,{"$f":"IF(AND($I17=1,$H17>0),VLOOKUP($H17,$A$14:AD$63,11,FALSE),0)","v":0},{"$f":"IF(AND($I17=1,$H17>0),VLOOKUP($H17,$A$14:AE$63,12,FALSE),0)","v":0},{"$f":"IF(AND($I17=1,$H17>0),VLOOKUP($H17,$A$14:AF$63,13,FALSE),0)","v":0},"","","",{"$f":"IF(A17<>0,VLOOKUP(A17,Liste!$A$10:$K$159,8,FALSE),\"\")","v":60},135,null,null,null,null,null,null,null,null,null,0,0,0,1000]
[5,{"$f":"IF(A18<>0,VLOOKUP(A18,Liste!$A$10:$D$159,4,FALSE),\"\")","v":"BARDIN Andrée"},0,0,0,0,null,null,0,0,{"$f":"IF(AND($I18=1,$H18>0),VLOOKUP($H18,$A$14:AD$63,11,FALSE),0)","v":0},{"$f":"IF(AND($I18=1,$H18>0),VLOOKUP($H18,$A$14:AE$63,12,FALSE),0)","v":0},{"$f":"IF(AND($I18=1,$H18>0),VLOOKUP($H18,$A$14:AF$63,13,FALSE),0)","v":0},"","","",{"$f":"IF(A18<>0,VLOOKUP(A18,Liste!$A$10:$K$159,8,FALSE),\"\")","v":50},113,null,null,null,null,null,null,null,null,null,0,0,0,1000]
[6,{"$f":"IF(A19<>0,VLOOKUP(A19,Liste!$A$10:$D$159,4,FALSE),\"\")","v":"BARDIN-BENARD Louis"},0,0,0,0,null,null,0,0,{"$f":"IF(AND($I19=1,$H19>0),VLOOKUP($H19,$A$14:AD$63,11,FALSE),0)","v":0},{"$f":"IF(AND($I19=1,$H19>0),VLOOKUP($H19,$A$14:AE$63,12,FALSE),0)","v":0},{"$f":"IF(AND($I19=1,$H19>0),VLOOKUP($H19,$A$14:AF$63,13,FALSE),0)","v":0},"","","",{"$f":"IF(A19<>0,VLOOKUP(A19,Liste!$A$10:$K$159,8,FALSE),\"\")","v":45},101,null,null,null,null,null,null,null,null,null,0,0,0,1000]
[7,{"$f":"IF(A20<>0,VLOOKUP(A20,Liste!$A$10:$D$159,4,FALSE),\"\")","v":"BARDOUILLE Hermine"},0,0,0,0,null,null,0,0,{"$f":"IF(AND($I20=1,$H20>0),VLOOKUP($H20,$A$14:AD$63,11,FALSE),0)","v":0},{"$f":"IF(AND($I20=1,$H20>0),VLOOKUP($H20,$A$14:AE$63,12,FALSE),0)","v":0},{"$f":"IF(AND($I20=1,$H20>0),VLOOKUP($H20,$A$14:AF$63,13,FALSE),0)","v":0},"","","",{"$f":"IF(A20<>0,VLOOKUP(A20,Liste!$A$10:$K$159,8,FALSE),\"\")","v":70},158,null,null,null,null,null,null,null,null,null,0,0,0,1000]
[8,{"$f":"IF(A21<>0,VLOOKUP(A21,Liste!$A$10:$D$159,4,FALSE),\"\")","v":"BARDOUILLE Jean Yves"},0,0,0,0,null,null,0,0,{"$f":"IF(AND($I21=1,$H21>0),VLOOKUP($H21,$A$14:AD$63,11,FALSE),0)","v":0},{"$f":"IF(AND($I21=1,$H21>0),VLOOKUP($H21,$A$14:AE$63,12,FALSE),0)","v":0},{"$f":"IF(AND($I21=1,$H21>0),VLOOKUP($H21,$A$14:AF$63,13,FALSE),0)","v":0},"","","",{"$f":"IF(A21<>0,VLOOKUP(A21,Liste!$A$10:$K$159,8,FALSE),\"\")","v":100},225,null,null,null,null,null,null,null,null,null,0,0,0,1000]
[9,{"$f":"IF(A22<>0,VLOOKUP(A22,Liste!$A$10:$D$159,4,FALSE),\"\")","v":"BAUDINO"},0,0,0,0,null,null,0,0,{"$f":"IF(AND($I22=1,$H22>0),VLOOKUP($H22,$A$14:AD$63,11,FALSE),0)","v":0},{"$f":"IF(AND($I22=1,$H22>0),VLOOKUP($H22,$A$14:AE$63,12,FALSE),0)","v":0},{"$f":"IF(AND($I22=1,$H22>0),VLOOKUP($H22,$A$14:AF$63,13,FALSE),0)","v":0},"","","",{"$f":"IF(A22<>0,VLOOKUP(A22,Liste!$A$10:$K$159,8,FALSE),\"\")","v":84},190,null,null,null,null,null,null,null,null,null,0,0,0,1000]
[10,{"$f":"IF(A23<>0,VLOOKUP(A23,Liste!$A$10:$D$159,4,FALSE),\"\")","v":"BAUGUIL André"},0,0,0,0,null,null,0,0,{"$f":"IF(AND($I23=1,$H23>0),VLOOKUP($H23,$A$14:AD$63,11,FALSE),0)","v":0},{"$f":"IF(AND($I23=1,$H23>0),VLOOKUP($H23,$A$14:AE$63,12,FALSE),0)","v":0},{"$f":"IF(AND($I23=1,$H23>0),VLOOKUP($H23,$A$14:AF$63,13,FALSE),0)","v":0},"","","",{"$f":"IF(A23<>0,VLOOKUP(A23,Liste!$A$10:$K$159,8,FALSE),\"\")","v":63},142,null,null,null,null,null,null,null,null,null,0,0,0,1000]
[11,{"$f":"IF(A24<>0,VLOOKUP(A24,Liste!$A$10:$D$159,4,FALSE),\"\")","v":"BAUMGARTNER Peter"},0,0,0,70,3,null,1,70,{"$f":"IF(AND($I24=1,$H24>0),VLOOKUP($H24,$A$14:AD$63,11,FALSE),0)","v":0},{"$f":"IF(AND($I24=1,$H24>0),VLOOKUP($H24,$A$14:AE$63,12,FALSE),0)","v":0},{"$f":"IF(AND($I24=1,$H24>0),VLOOKUP($H24,$A$14:AF$63,13,FALSE),0)","v":0},"EN ATTENTE","",0,{"$f":"IF(A24<>0,VLOOKUP(A24,Liste!$A$10:$K$159,8,FALSE),\"\")","v":70},158,null,null,null,null,null,null,null,null,null,1,0,0,11]
[12,{"$f":"IF(A25<>0,VLOOKUP(A25,Liste!$A$10:$D$159,4,FALSE),\"\")","v":"BECH Monique"},0,0,0,0,null,null,0,0,{"$f":"IF(AND($I25=1,$H25>0),VLOOKUP($H25,$A$14:AD$63,11,FALSE),0)","v":0},{"$f":"IF(AND($I25=1,$H25>0),VLOOKUP($H25,$A$14:AE$63,12,FALSE),0)","v":0},{"$f":"IF(AND($I25=1,$H25>0),VLOOKUP($H25,$A$14:AF$63,13,FALSE),0)","v":0},"","","",{"$f":"IF(A25<>0,VLOOKUP(A25,Liste!$A$10:$K$159,8,FALSE),\"\")","v":100},225,null,null,null,null,null,null,null,null,null,0,0,0,1000]
[13,{"$f":"IF(A26<>0,VLOOKUP(A26,Liste!$A$10:$D$159,4,FALSE),\"\")","v":"BERGET Jean François"},0,0,0,0,null,null,0,0,{"$f":"IF(AND($I26=1,$H26>0),VLOOKUP($H26,$A$14:AD$63,11,FALSE),0)","v":0},{"$f":"IF(AND($I26=1,$H26>0),VLOOKUP($H26,$A$14:AE$63,12,FALSE),0)","v":0},{"$f":"IF(AND($I26=1,$H26>0),VLOOKUP($H26,$A$14:AF$63,13,FALSE),0)","v":0},"","","",{"$f":"IF(A26<>0,VLOOKUP(A26,Liste!$A$10:$K$159,8,FALSE),\"\")","v":70},158,null,null,null,null,null,null,null,null,null,0,0,0,1000]
[14,{"$f":"IF(A27<>0,VLOOKUP(A27,Liste!$A$10:$D$159,4,FALSE),\"\")","v":"BERLIER David"},0,0,0,0,null,null,0,0,{"$f":"IF(AND($I27=1,$H27>0),VLOOKUP($H27,$A$14:AD$63,11,FALSE),0)","v":0},{"$f":"IF(AND($I27=1,$H27>0),VLOOKUP($H27,$A$14:AE$63,12,FALSE),0)","v":0},{"$f":"IF(AND($I27=1,$H27>0),VLOOKUP($H27,$A$14:AF$63,13,FALSE),0)","v":0},"","","",{"$f":"IF(A27<>0,VLOOKUP(A27,Liste!$A$10:$K$159,8,FALSE),\"\")","v":70},158,null,null,null,null,null,null,null,null,null,0,0,0,1000]
[15,{"$f":"IF(A28<>0,VLOOKUP(A28,Liste!$A$10:$D$159,4,FALSE),\"\")","v":"BESSON Gabriel"},0,0,0,0,null,null,0,0,{"$f":"IF(AND($I28=1,$H28>0),VLOOKUP($H28,$A$14:AD$63,11,FALSE),0)","v":0},{"$f":"IF(AND($I28=1,$H28>0),VLOOKUP($H28,$A$14:AE$63,12,FALSE),0)","v":0},{"$f":"IF(AND($I28=1,$H28>0),VLOOKUP($H28,$A$14:AF$63,13,FALSE),0)","v":0},"","","",{"$f":"IF(A28<>0,VLOOKUP(A28,Liste!$A$10:$K$159,8,FALSE),\"\")","v":91},205,null,null,null,null,null,null,null,null,null,0,0,0,1000]
[16,{"$f":"IF(A29<>0,VLOOKUP(A29,Liste!$A$10:$D$159,4,FALSE),\"\")","v":"BILLY Grégoire"},0,0,0,0,null,null,0,0,{"$f":"IF(AND($I29=1,$H29>0),VLOOKUP($H29,$A$14:AD$63,11,FALSE),0)","v":0},{"$f":"IF(AND($I29=1,$H29>0),VLOOKUP($H29,$A$14:AE$63,12,FALSE),0)","v":0},{"$f":"IF(AND($I29=1,$H29>0),VLOOKUP($H29,$A$14:AF$63,13,FALSE),0)","v":0},"","","",{"$f":"IF(A29<>0,VLOOKUP(A29,Liste!$A$10:$K$159,8,FALSE),\"\")","v":80},180,null,null,null,null,null,null,null,null,null,0,0,0,1000]
[17,{"$f":"IF(A30<>0,VLOOKUP(A30,Liste!$A$10:$D$159,4,FALSE),\"\")","v":"BLOT Alain"},0,0,0,0,null,null,0,0,{"$f":"IF(AND($I30=1,$H30>0),VLOOKUP($H30,$A$14:AD$63,11,FALSE),0)","v":0},{"$f":"IF(AND($I30=1,$H30>0),VLOOKUP($H30,$A$14:AE$63,12,FALSE),0)","v":0},{"$f":"IF(AND($I30=1,$H30>0),VLOOKUP($H30,$A$14:AF$63,13,FALSE),0)","v":0},"","","",{"$f":"IF(A30<>0,VLOOKUP(A30,Liste!$A$10:$K$159,8,FALSE),\"\")","v":75},169,null,null,null,null,null,null,null,null,null,0,0,0,1000]
[18,{"$f":"IF(A31<>0,VLOOKUP(A31,Liste!$A$10:$D$159,4,FALSE),\"\")","v":"BODIGER"},0,0,0,0,null,null,0,0,{"$f":"IF(AND($I31=1,$H31>0),VLOOKUP($H31,$A$14:AD$63,11,FALSE),0)","v":0},{"$f":"IF(AND($I31=1,$H31>0),VLOOKUP($H31,$A$14:AE$63,12,FALSE),0)","v":0},{"$f":"IF(AND($I31=1,$H31>0),VLOOKUP($H31,$A$14:AF$63,13,FALSE),0)","v":0},"","","",{"$f":"IF(A31<>0,VLOOKUP(A31,Liste!$A$10:$K$159,8,FALSE),\"\")","v":55},124,null,null,null,null,null,null,null,null,null,0,0,0,1000]
[19,{"$f":"IF(A32<>0,VLOOKUP(A32,Liste!$A$10:$D$159,4,FALSE),\"\")","v":"BODIN - BUGEJA "},0,0,0,0,null,null,0,0,{"$f":"IF(AND($I32=1,$H32>0),VLOOKUP($H32,$A$14:AD$63,11,FALSE),0)","v":0},{"$f":"IF(AND($I32=1,$H32>0),VLOOKUP($H32,$A$14:AE$63,12,FALSE),0)","v":0},{"$f":"IF(AND($I32=1,$H32>0),VLOOKUP($H32,$A$14:AF$63,13,FALSE),0)","v":0},"","","",{"$f":"IF(A32<>0,VLOOKUP(A32,Liste!$A$10:$K$159,8,FALSE),\"\")","v":101},228,null,null,null,null,null,null,null,null,null,0,0,0,1000]
[20,{"$f":"IF(A33<>0,VLOOKUP(A33,Liste!$A$10:$D$159,4,FALSE),\"\")","v":"BOISSON Franck"},0,0,0,0,null,null,0,0,{"$f":"IF(AND($I33=1,$H33>0),VLOOKUP($H33,$A$14:AD$63,11,FALSE),0)","v":0},{"$f":"IF(AND($I33=1,$H33>0),VLOOKUP($H33,$A$14:AE$63,12,FALSE),0)","v":0},{"$f":"IF(AND($I33=1,$H33>0),VLOOKUP($H33,$A$14:AF$63,13,FALSE),0)","v":0},"","","",{"$f":"IF(A33<>0,VLOOKUP(A33,Liste!$A$10:$K$159,8,FALSE),\"\")","v":73},165,null,null,null,null,null,null,null,null,null,0,0,0,1000]
[21,{"$f":"IF(A34<>0,VLOOKUP(A34,Liste!$A$10:$D$159,4,FALSE),\"\")","v":"BOQUET Marcel"},0,0,0,55,3,null,1,55,{"$f":"IF(AND($I34=1,$H34>0),VLOOKUP($H34,$A$14:AD$63,11,FALSE),0)","v":0},{"$f":"IF(AND($I34=1,$H34>0),VLOOKUP($H34,$A$14:AE$63,12,FALSE),0)","v":0},{"$f":"IF(AND($I34=1,$H34>0),VLOOKUP($H34,$A$14:AF$63,13,FALSE),0)","v":0},"EN ATTENTE","",0,{"$f":"IF(A34<>0,VLOOKUP(A34,Liste!$A$10:$K$159,8,FALSE),\"\")","v":55},124,null,null,null,null,null,null,null,null,null,1,0,0,21]
[22,{"$f":"IF(A35<>0,VLOOKUP(A35,Liste!$A$10:$D$159,4,FALSE),\"\")","v":"BOREL "},0,0,0,0,null,null,0,0,{"$f":"IF(AND($I35=1,$H35>0),VLOOKUP($H35,$A$14:AD$63,11,FALSE),0)","v":0},{"$f":"IF(AND($I35=1,$H35>0),VLOOKUP($H35,$A$14:AE$63,12,FALSE),0)","v":0},{"$f":"IF(AND($I35=1,$H35>0),VLOOKUP($H35,$A$14:AF$63,13,FALSE),0)","v":0},"","","",{"$f":"IF(A35<>0,VLOOKUP(A35,Liste!$A$10:$K$159,8,FALSE),\"\")","v":59},133,null,null,null,null,null,null,null,null,null,0,0,0,1000]
[23,{"$f":"IF(A36<>0,VLOOKUP(A36,Liste!$A$10:$D$159,4,FALSE),\"\")","v":"BOUBRED "},0,0,0,0,null,null,0,0,{"$f":"IF(AND($I36=1,$H36>0),VLOOKUP($H36,$A$14:AD$63,11,FALSE),0)","v":0},{"$f":"IF(AND($I36=1,$H36>0),VLOOKUP($H36,$A$14:AE$63,12,FALSE),0)","v":0},{"$f":"IF(AND($I36=1,$H36>0),VLOOKUP($H36,$A$14:AF$63,13,FALSE),0)","v":0},"","","",{"$f":"IF(A36<>0,VLOOKUP(A36,Liste!$A$10:$K$159,8,FALSE),\"\")","v":63},142,null,null,null,null,null,null,null,null,null,0,0,0,1000]
[24,{"$f":"IF(A37<>0,VLOOKUP(A37,Liste!$A$10:$D$159,4,FALSE),\"\")","v":"BRASSEUR Gérard"},0,0,0,0,null,null,0,0,{"$f":"IF(AND($I37=1,$H37>0),VLOOKUP($H37,$A$14:AD$63,11,FALSE),0)","v":0},{"$f":"IF(AND($I37=1,$H37>0),VLOOKUP($H37,$A$14:AE$63,12,FALSE),0)","v":0},{"$f":"IF(AND($I37=1,$H37>0),VLOOKUP($H37,$A$14:AF$63,13,FALSE),0)","v":0},"","","",{"$f":"IF(A37<>0,VLOOKUP(A37,Liste!$A$10:$K$159,8,FALSE),\"\")","v":60},135,null,null,null,null,null,null,null,null,null,0,0,0,1000]
[25,{"$f":"IF(A38<>0,VLOOKUP(A38,Liste!$A$10:$D$159,4,FALSE),\"\")","v":"BRAUD-COLLET G."},0,0,0,0,null,null,0,0,{"$f":"IF(AND($I38=1,$H38>0),VLOOKUP($H38,$A$14:AD$63,11,FALSE),0)","v":0},{"$f":"IF(AND($I38=1,$H38>0),VLOOKUP($H38,$A$14:AE$63,12,FALSE),0)","v":0},{"$f":"IF(AND($I38=1,$H38>0),VLOOKUP($H38,$A$14:AF$63,13,FALSE),0)","v":0},"","","",{"$f":"IF(A38<>0,VLOOKUP(A38,Liste!$A$10:$K$159,8,FALSE),\"\")","v":70},158,null,null,null,null,null,null,null,null,null,0,0,0,1000]
[26,{"$f":"IF(A39<>0,VLOOKUP(A39,Liste!$A$10:$D$159,4,FALSE),\"\")","v":"BRICARD Mar'c"},0,0,0,0,null,null,0,0,{"$f":"IF(AND($I39=1,$H39>0),VLOOKUP($H39,$A$14:AD$63,11,FALSE),0)","v":0},{"$f":"IF(AND($I39=1,$H39>0),VLOOKUP($H39,$A$14:AE$63,12,FALSE),0)","v":0},{"$f":"IF(AND($I39=1,$H39>0),VLOOKUP($H39,$A$14:AF$63,13,FALSE),0)","v":0},"","","",{"$f":"IF(A39<>0,VLOOKUP(A39,Liste!$A$10:$K$159,8,FALSE),\"\")","v":50},113,null,null,null,null,null,null,null,null,null,0,0,0,1000]
[27,{"$f":"IF(A40<>0,VLOOKUP(A40,Liste!$A$10:$D$159,4,FALSE),\"\")","v":"BRIOLLE Marthe"},0,0,0,0,null,null,0,0,{"$f":"IF(AND($I40=1,$H40>0),VLOOKUP($H40,$A$14:AD$63,11,FALSE),0)","v":0},{"$f":"IF(AND($I40=1,$H40>0),VLOOKUP($H40,$A$14:AE$63,12,FALSE),0)","v":0},{"$f":"IF(AND($I40=1,$H40>0),VLOOKUP($H40,$A$14:AF$63,13,FALSE),0)","v":0},"","","",{"$f":"IF(A40<>0,VLOOKUP(A40,Liste!$A$10:$K$159,8,FALSE),\"\")","v":60},135,null,null,null,null,null,null,null,null,null,0,0,0,1000]
[28,{"$f":"IF(A41<>0,VLOOKUP(A41,Liste!$A$10:$D$159,4,FALSE),\"\")","v":"BRUCHET Elisabeth"},0,0,0,0,null,null,0,0,{"$f":"IF(AND($I41=1,$H41>0),VLOOKUP($H41,$A$14:AD$63,11,FALSE),0)","v":0},{"$f":"IF(AND($I41=1,$H41>0),VLOOKUP($H41,$A$14:AE$63,12,FALSE),0)","v":0},{"$f":"IF(AND($I41=1,$H41>0),VLOOKUP($H41,$A$14:AF$63,13,FALSE),0)","v":0},"","","",{"$f":"IF(A41<>0,VLOOKUP(A41,Liste!$A$10:$K$159,8,FALSE),\"\")","v":53},119,null,null,null,null,null,null,null,null,null,0,0,0,1000]
[29,{"$f":"IF(A42<>0,VLOOKUP(A42,Liste!$A$10:$D$159,4,FALSE),\"\")","v":"BUKVIC "},0,0,0,0,null,null,0,0,{"$f":"IF(AND($I42=1,$H42>0),VLOOKUP($H42,$A$14:AD$63,11,FALSE),0)","v":0},{"$f":"IF(AND($I42=1,$H42>0),VLOOKUP($H42,$A$14:AE$63,12,FALSE),0)","v":0},{"$f":"IF(AND($I42=1,$H42>0),VLOOKUP($H42,$A$14:AF$63,13,FALSE),0)","v":0},"","","",{"$f":"IF(A42<>0,VLOOKUP(A42,Liste!$A$10:$K$159,8,FALSE),\"\")","v":68},153,null,null,null,null,null,null,null,null,null,0,0,0,1000]
[30,{"$f":"IF(A43<>0,VLOOKUP(A43,Liste!$A$10:$D$159,4,FALSE),\"\")","v":"BURILLE Richard"},0,0,0,0,null,null,0,0,{"$f":"IF(AND($I43=1,$H43>0),VLOOKUP($H43,$A$14:AD$63,11,FALSE),0)","v":0},{"$f":"IF(AND($I43=1,$H43>0),VLOOKUP($H43,$A$14:AE$63,12,FALSE),0)","v":0},{"$f":"IF(AND($I43=1,$H43>0),VLOOKUP($H43,$A$14:AF$63,13,FALSE),0)","v":0},"","","",{"$f":"IF(A43<>0,VLOOKUP(A43,Liste!$A$10:$K$159,8,FALSE),\"\")","v":60},135,null,null,null,null,null,null,null,null,null,0,0,0,1000]
[31,{"$f":"IF(A44<>0,VLOOKUP(A44,Liste!$A$10:$D$159,4,FALSE),\"\")","v":"CARANTA Jean P."},0,0,0,60,3,null,1,60,{"$f":"IF(AND($I44=1,$H44>0),VLOOKUP($H44,$A$14:AD$63,11,FALSE),0)","v":0},{"$f":"IF(AND($I44=1,$H44>0),VLOOKUP($H44,$A$14:AE$63,12,FALSE),0)","v":0},{"$f":"IF(AND($I44=1,$H44>0),VLOOKUP($H44,$A$14:AF$63,13,FALSE),0)","v":0},"EN ATTENTE","",0,{"$f":"IF(A44<>0,VLOOKUP(A44,Liste!$A$10:$K$159,8,FALSE),\"\")","v":60},135,null,null,null,null,null,null,null,null,null,1,0,0,31]
[32,{"$f":"IF(A45<>0,VLOOKUP(A45,Liste!$A$10:$D$159,4,FALSE),\"\")","v":"CARBONE Isabelle"},0,0,0,0,null,null,0,0,{"$f":"IF(AND($I45=1,$H45>0),VLOOKUP($H45,$A$14:AD$63,11,FALSE),0)","v":0},{"$f":"IF(AND($I45=1,$H45>0),VLOOKUP($H45,$A$14:AE$63,12,FALSE),0)","v":0},{"$f":"IF(AND($I45=1,$H45>0),VLOOKUP($H45,$A$14:AF$63,13,FALSE),0)","v":0},"","","",{"$f":"IF(A45<>0,VLOOKUP(A45,Liste!$A$10:$K$159,8,FALSE),\"\")","v":50},113,null,null,null,null,null,null,null,null,null,0,0,0,1000]
[33,{"$f":"IF(A46<>0,VLOOKUP(A46,Liste!$A$10:$D$159,4,FALSE),\"\")","v":"CASTAN Max"},0,0,0,0,null,null,0,0,{"$f":"IF(AND($I46=1,$H46>0),VLOOKUP($H46,$A$14:AD$63,11,FALSE),0)","v":0},{"$f":"IF(AND($I46=1,$H46>0),VLOOKUP($H46,$A$14:AE$63,12,FALSE),0)","v":0},{"$f":"IF(AND($I46=1,$H46>0),VLOOKUP($H46,$A$14:AF$63,13,FALSE),0)","v":0},"","","",{"$f":"IF(A46<>0,VLOOKUP(A46,Liste!$A$10:$K$159,8,FALSE),\"\")","v":85},192,null,null,null,null,null,null,null,null,null,0,0,0,1000]
[34,{"$f":"IF(A47<>0,VLOOKUP(A47,Liste!$A$10:$D$159,4,FALSE),\"\")","v":"CAVALIERI Alain"},0,0,0,0,null,null,0,0,{"$f":"IF(AND($I47=1,$H47>0),VLOOKUP($H47,$A$14:AD$63,11,FALSE),0)","v":0},{"$f":"IF(AND($I47=1,$H47>0),VLOOKUP($H47,$A$14:AE$63,12,FALSE),0)","v":0},{"$f":"IF(AND($I47=1,$H47>0),VLOOKUP($H47,$A$14:AF$63,13,FALSE),0)","v":0},"","","",{"$f":"IF(A47<>0,VLOOKUP(A47,Liste!$A$10:$K$159,8,FALSE),\"\")","v":80},180,null,null,null,null,null,null,null,null,null,0,0,0,1000]
[35,{"$f":"IF(A48<>0,VLOOKUP(A48,Liste!$A$10:$D$159,4,FALSE),\"\")","v":"CAVALIERI Christine"},0,0,0,0,null,null,0,0,{"$f":"IF(AND($I48=1,$H48>0),VLOOKUP($H48,$A$14:AD$63,11,FALSE),0)","v":0},{"$f":"IF(AND($I48=1,$H48>0),VLOOKUP($H48,$A$14:AE$63,12,FALSE),0)","v":0},{"$f":"IF(AND($I48=1,$H48>0),VLOOKUP($H48,$A$14:AF$63,13,FALSE),0)","v":0},"","","",{"$f":"IF(A48<>0,VLOOKUP(A48,Liste!$A$10:$K$159,8,FALSE),\"\")","v":60},135,null,null,null,null,null,null,null,null,null,0,0,0,1000]
[36,{"$f":"IF(A49<>0,VLOOKUP(A49,Liste!$A$10:$D$159,4,FALSE),\"\")","v":"CIABATTINI Dante"},0,0,0,0,null,null,0,0,{"$f":"IF(AND($I49=1,$H49>0),VLOOKUP($H49,$A$14:AD$63,11,FALSE),0)","v":0},{"$f":"IF(AND($I49=1,$H49>0),VLOOKUP($H49,$A$14:AE$63,12,FALSE),0)","v":0},{"$f":"IF(AND($I49=1,$H49>0),VLOOKUP($H49,$A$14:AF$63,13,FALSE),0)","v":0},"","","",{"$f":"IF(A49<>0,VLOOKUP(A49,Liste!$A$10:$K$159,8,FALSE),\"\")","v":70},158,null,null,null,null,null,null,null,null,null,0,0,0,1000]
[37,{"$f":"IF(A50<>0,VLOOKUP(A50,Liste!$A$10:$D$159,4,FALSE),\"\")","v":"CIULLI - DREANO Jeanine"},0,0,0,0,null,null,0,0,{"$f":"IF(AND($I50=1,$H50>0),VLOOKUP($H50,$A$14:AD$63,11,FALSE),0)","v":0},{"$f":"IF(AND($I50=1,$H50>0),VLOOKUP($H50,$A$14:AE$63,12,FALSE),0)","v":0},{"$f":"IF(AND($I50=1,$H50>0),VLOOKUP($H50,$A$14:AF$63,13,FALSE),0)","v":0},"","","",{"$f":"IF(A50<>0,VLOOKUP(A50,Liste!$A$10:$K$159,8,FALSE),\"\")","v":50},113,null,null,null,null,null,null,null,null,null,0,0,0,1000]
[38,{"$f":"IF(A51<>0,VLOOKUP(A51,Liste!$A$10:$D$159,4,FALSE),\"\")","v":"COLOM "},0,0,0,0,null,null,0,0,{"$f":"IF(AND($I51=1,$H51>0),VLOOKUP($H51,$A$14:AD$63,11,FALSE),0)","v":0},{"$f":"IF(AND($I51=1,$H51>0),VLOOKUP($H51,$A$14:AE$63,12,FALSE),0)","v":0},{"$f":"IF(AND($I51=1,$H51>0),VLOOKUP($H51,$A$14:AF$63,13,FALSE),0)","v":0},"","","",{"$f":"IF(A51<>0,VLOOKUP(A51,Liste!$A$10:$K$159,8,FALSE),\"\")","v":45},101,null,null,null,null,null,null,null,null,null,0,0,0,1000]
[39,{"$f":"IF(A52<>0,VLOOKUP(A52,Liste!$A$10:$D$159,4,FALSE),\"\")","v":"COLOMBANI Georges"},0,0,0,0,null,null,0,0,{"$f":"IF(AND($I52=1,$H52>0),VLOOKUP($H52,$A$14:AD$63,11,FALSE),0)","v":0},{"$f":"IF(AND($I52=1,$H52>0),VLOOKUP($H52,$A$14:AE$63,12,FALSE),0)","v":0},{"$f":"IF(AND($I52=1,$H52>0),VLOOKUP($H52,$A$14:AF$63,13,FALSE),0)","v":0},"","","",{"$f":"IF(A52<>0,VLOOKUP(A52,Liste!$A$10:$K$159,8,FALSE),\"\")","v":50},113,null,null,null,null,null,null,null,null,null,0,0,0,1000]
[40,{"$f":"IF(A53<>0,VLOOKUP(A53,Liste!$A$10:$D$159,4,FALSE),\"\")","v":"COLONNA Michel"},0,0,0,0,null,null,0,0,{"$f":"IF(AND($I53=1,$H53>0),VLOOKUP($H53,$A$14:AD$63,11,FALSE),0)","v":0},{"$f":"IF(AND($I53=1,$H53>0),VLOOKUP($H53,$A$14:AE$63,12,FALSE),0)","v":0},{"$f":"IF(AND($I53=1,$H53>0),VLOOKUP($H53,$A$14:AF$63,13,FALSE),0)","v":0},"","","",{"$f":"IF(A53<>0,VLOOKUP(A53,Liste!$A$10:$K$159,8,FALSE),\"\")","v":60},135,null,null,null,null,null,null,null,null,null,0,0,0,1000]
[41,{"$f":"IF(A54<>0,VLOOKUP(A54,Liste!$A$10:$D$159,4,FALSE),\"\")","v":"COMA Marie"},0,0,0,55,3,null,1,55,{"$f":"IF(AND($I54=1,$H54>0),VLOOKUP($H54,$A$14:AD$63,11,FALSE),0)","v":0},{"$f":"IF(AND($I54=1,$H54>0),VLOOKUP($H54,$A$14:AE$63,12,FALSE),0)","v":0},{"$f":"IF(AND($I54=1,$H54>0),VLOOKUP($H54,$A$14:AF$63,13,FALSE),0)","v":0},"EN ATTENTE","",0,{"$f":"IF(A54<>0,VLOOKUP(A54,Liste!$A$10:$K$159,8,FALSE),\"\")","v":55},124,null,null,null,null,null,null,null,null,null,1,0,0,41]
[42,{"$f":"IF(A55<>0,VLOOKUP(A55,Liste!$A$10:$D$159,4,FALSE),\"\")","v":"DANAUD Jean René"},0,0,0,0,null,null,0,0,{"$f":"IF(AND($I55=1,$H55>0),VLOOKUP($H55,$A$14:AD$63,11,FALSE),0)","v":0},{"$f":"IF(AND($I55=1,$H55>0),VLOOKUP($H55,$A$14:AE$63,12,FALSE),0)","v":0},{"$f":"IF(AND($I55=1,$H55>0),VLOOKUP($H55,$A$14:AF$63,13,FALSE),0)","v":0},"","","",{"$f":"IF(A55<>0,VLOOKUP(A55,Liste!$A$10:$K$159,8,FALSE),\"\")","v":50},113,null,null,null,null,null,null,null,null,null,0,0,0,1000]
[43,{"$f":"IF(A56<>0,VLOOKUP(A56,Liste!$A$10:$D$159,4,FALSE),\"\")","v":"DAUGA Cédric"},0,0,0,0,null,null,0,0,{"$f":"IF(AND($I56=1,$H56>0),VLOOKUP($H56,$A$14:AD$63,11,FALSE),0)","v":0},{"$f":"IF(AND($I56=1,$H56>0),VLOOKUP($H56,$A$14:AE$63,12,FALSE),0)","v":0},{"$f":"IF(AND($I56=1,$H56>0),VLOOKUP($H56,$A$14:AF$63,13,FALSE),0)","v":0},"","","",{"$f":"IF(A56<>0,VLOOKUP(A56,Liste!$A$10:$K$159,8,FALSE),\"\")","v":50},113,null,null,null,null,null,null,null,null,null,0,0,0,1000]
[44,{"$f":"IF(A57<>0,VLOOKUP(A57,Liste!$A$10:$D$159,4,FALSE),\"\")","v":"DE LAPRADE Yvette"},0,0,0,0,null,null,0,0,{"$f":"IF(AND($I57=1,$H57>0),VLOOKUP($H57,$A$14:AD$63,11,FALSE),0)","v":0},{"$f":"IF(AND($I57=1,$H57>0),VLOOKUP($H57,$A$14:AE$63,12,FALSE),0)","v":0},{"$f":"IF(AND($I57=1,$H57>0),VLOOKUP($H57,$A$14:AF$63,13,FALSE),0)","v":0},"","","",{"$f":"IF(A57<>0,VLOOKUP(A57,Liste!$A$10:$K$159,8,FALSE),\"\")","v":55},124,null,null,null,null,null,null,null,null,null,0,0,0,1000]
[45,{"$f":"IF(A58<>0,VLOOKUP(A58,Liste!$A$10:$D$159,4,FALSE),\"\")","v":"DENEUX Pierre"},0,0,0,0,null,null,0,0,{"$f":"IF(AND($I58=1,$H58>0),VLOOKUP($H58,$A$14:AD$63,11,FALSE),0)","v":0},{"$f":"IF(AND($I58=1,$H58>0),VLOOKUP($H58,$A$14:AE$63,12,FALSE),0)","v":0},{"$f":"IF(AND($I58=1,$H58>0),VLOOKUP($H58,$A$14:AF$63,13,FALSE),0)","v":0},"","","",{"$f":"IF(A58<>0,VLOOKUP(A58,Liste!$A$10:$K$159,8,FALSE),\"\")","v":60},135,null,null,null,null,null,null,null,null,null,0,0,0,1000]
[46,{"$f":"IF(A59<>0,VLOOKUP(A59,Liste!$A$10:$D$159,4,FALSE),\"\")","v":"DENIS Jacques"},0,0,0,0,null,null,0,0,{"$f":"IF(AND($I59=1,$H59>0),VLOOKUP($H59,$A$14:AD$63,11,FALSE),0)","v":0},{"$f":"IF(AND($I59=1,$H59>0),VLOOKUP($H59,$A$14:AE$63,12,FALSE),0)","v":0},{"$f":"IF(AND($I59=1,$H59>0),VLOOKUP($H59,$A$14:AF$63,13,FALSE),0)","v":0},"","","",{"$f":"IF(A59<>0,VLOOKUP(A59,Liste!$A$10:$K$159,8,FALSE),\"\")","v":55},124,null,null,null,null,null,null,null,null,null,0,0,0,1000]
[47,{"$f":"IF(A60<>0,VLOOKUP(A60,Liste!$A$10:$D$159,4,FALSE),\"\")","v":"DI JORIO Brigitte"},0,0,0,0,null,null,0,0,{"$f":"IF(AND($I60=1,$H60>0),VLOOKUP($H60,$A$14:AD$63,11,FALSE),0)","v":0},{"$f":"IF(AND($I60=1,$H60>0),VLOOKUP($H60,$A$14:AE$63,12,FALSE),0)","v":0},{"$f":"IF(AND($I60=1,$H60>0),VLOOKUP($H60,$A$14:AF$63,13,FALSE),0)","v":0},"","","",{"$f":"IF(A60<>0,VLOOKUP(A60,Liste!$A$10:$K$159,8,FALSE),\"\")","v":60},135,null,null,null,null,null,null,null,null,null,0,0,0,1000]
[48,{"$f":"IF(A61<>0,VLOOKUP(A61,Liste!$A$10:$D$159,4,FALSE),\"\")","v":"DI JORIO Marcel"},0,0,0,0,null,null,0,0,{"$f":"IF(AND($I61=1,$H61>0),VLOOKUP($H61,$A$14:AD$63,11,FALSE),0)","v":0},{"$f":"IF(AND($I61=1,$H61>0),VLOOKUP($H61,$A$14:AE$63,12,FALSE),0)","v":0},{"$f":"IF(AND($I61=1,$H61>0),VLOOKUP($H61,$A$14:AF$63,13,FALSE),0)","v":0},"","","",{"$f":"IF(A61<>0,VLOOKUP(A61,Liste!$A$10:$K$159,8,FALSE),\"\")","v":61},137,null,null,null,null,null,null,null,null,null,0,0,0,1000]
[49,{"$f":"IF(A62<>0,VLOOKUP(A62,Liste!$A$10:$D$159,4,FALSE),\"\")","v":"DI MEGLIO Laurent"},0,0,0,0,null,null,0,0,{"$f":"IF(AND($I62=1,$H62>0),VLOOKUP($H62,$A$14:AD$63,11,FALSE),0)","v":0},{"$f":"IF(AND($I62=1,$H62>0),VLOOKUP($H62,$A$14:AE$63,12,FALSE),0)","v":0},{"$f":"IF(AND($I62=1,$H62>0),VLOOKUP($H62,$A$14:AF$63,13,FALSE),0)","v":0},"","","",{"$f":"IF(A62<>0,VLOOKUP(A62,Liste!$A$10:$K$159,8,FALSE),\"\")","v":45},101,null,null,null,null,null,null,null,null,null,0,0,0,1000]
[50,{"$f":"IF(A63<>0,VLOOKUP(A63,Liste!$A$10:$D$159,4,FALSE),\"\")","v":"DRAGOTTA Michel"},0,0,0,0,null,null,0,0,{"$f":"IF(AND($I63=1,$H63>0),VLOOKUP($H63,$A$14:AD$63,11,FALSE),0)","v":0},{"$f":"IF(AND($I63=1,$H63>0),VLOOKUP($H63,$A$14:AE$63,12,FALSE),0)","v":0},{"$f":"IF(AND($I63=1,$H63>0),VLOOKUP($H63,$A$14:AF$63,13,FALSE),0)","v":0},"","","",{"$f":"IF(A63<>0,VLOOKUP(A63,Liste!$A$10:$K$159,8,FALSE),\"\")","v":50},113,null,null,null,null,null,null,null,null,null,0,0,0,1000]
[51,{"$f":"IF(A64<>0,VLOOKUP(A64,Liste!$A$10:$D$159,4,FALSE),\"\")","v":"DUBOURG Pierre"},0,0,0,0,null,null,0,0,{"$f":"IF(AND($I64=1,$H64>0),VLOOKUP($H64,$A$14:AD$63,11,FALSE),0)","v":0},{"$f":"IF(AND($I64=1,$H64>0),VLOOKUP($H64,$A$14:AE$63,12,FALSE),0)","v":0},{"$f":"IF(AND($I64=1,$H64>0),VLOOKUP($H64,$A$14:AF$63,13,FALSE),0)","v":0},"","","",{"$f":"IF(A64<>0,VLOOKUP(A64,Liste!$A$10:$K$159,8,FALSE),\"\")","v":60},135,null,null,null,null,null,null,null,null,null,{"$f":"(H64+I64)*(J64>0)","v":0},0,0,{"$f":"IF(H64>0,H64+0.5*(I64=1),A64*(I64=1))+(1000*(I64<1))","v":1000}]
[52,{"$f":"IF(A65<>0,VLOOKUP(A65,Liste!$A$10:$D$159,4,FALSE),\"\")","v":"FIGUERAS Annie"},0,0,0,0,null,null,0,0,{"$f":"IF(AND($I65=1,$H65>0),VLOOKUP($H65,$A$14:AD$63,11,FALSE),0)","v":0},{"$f":"IF(AND($I65=1,$H65>0),VLOOKUP($H65,$A$14:AE$63,12,FALSE),0)","v":0},{"$f":"IF(AND($I65=1,$H65>0),VLOOKUP($H65,$A$14:AF$63,13,FALSE),0)","v":0},"","","",{"$f":"IF(A65<>0,VLOOKUP(A65,Liste!$A$10:$K$159,8,FALSE),\"\")","v":70},158,null,null,null,null,null,null,null,null,null,0,0,0,1000]
[53,{"$f":"IF(A66<>0,VLOOKUP(A66,Liste!$A$10:$D$159,4,FALSE),\"\")","v":"FONTANA Georges"},0,0,0,0,null,null,0,0,{"$f":"IF(AND($I66=1,$H66>0),VLOOKUP($H66,$A$14:AD$63,11,FALSE),0)","v":0},{"$f":"IF(AND($I66=1,$H66>0),VLOOKUP($H66,$A$14:AE$63,12,FALSE),0)","v":0},{"$f":"IF(AND($I66=1,$H66>0),VLOOKUP($H66,$A$14:AF$63,13,FALSE),0)","v":0},"","","",{"$f":"IF(A66<>0,VLOOKUP(A66,Liste!$A$10:$K$159,8,FALSE),\"\")","v":60},135,null,null,null,null,null,null,null,null,null,0,0,0,1000]
[54,{"$f":"IF(A67<>0,VLOOKUP(A67,Liste!$A$10:$D$159,4,FALSE),\"\")","v":"FORGET Valéry"},0,0,0,0,null,null,0,0,{"$f":"IF(AND($I67=1,$H67>0),VLOOKUP($H67,$A$14:AD$63,11,FALSE),0)","v":0},{"$f":"IF(AND($I67=1,$H67>0),VLOOKUP($H67,$A$14:AE$63,12,FALSE),0)","v":0},{"$f":"IF(AND($I67=1,$H67>0),VLOOKUP($H67,$A$14:AF$63,13,FALSE),0)","v":0},"","","",{"$f":"IF(A67<>0,VLOOKUP(A67,Liste!$A$10:$K$159,8,FALSE),\"\")","v":65},146,null,null,null,null,null,null,null,null,null,0,0,0,1000]
[55,{"$f":"IF(A68<>0,VLOOKUP(A68,Liste!$A$10:$D$159,4,FALSE),\"\")","v":"FOURNIER Nicole"},0,0,0,0,null,null,0,0,{"$f":"IF(AND($I68=1,$H68>0),VLOOKUP($H68,$A$14:AD$63,11,FALSE),0)","v":0},{"$f":"IF(AND($I68=1,$H68>0),VLOOKUP($H68,$A$14:AE$63,12,FALSE),0)","v":0},{"$f":"IF(AND($I68=1,$H68>0),VLOOKUP($H68,$A$14:AF$63,13,FALSE),0)","v":0},"","","",{"$f":"IF(A68<>0,VLOOKUP(A68,Liste!$A$10:$K$159,8,FALSE),\"\")","v":51},115,null,null,null,null,null,null,null,null,null,0,0,0,1000]
[56,{"$f":"IF(A69<>0,VLOOKUP(A69,Liste!$A$10:$D$159,4,FALSE),\"\")","v":"GARCIA Christophe"},0,0,0,0,null,null,0,0,{"$f":"IF(AND($I69=1,$H69>0),VLOOKUP($H69,$A$14:AD$63,11,FALSE),0)","v":0},{"$f":"IF(AND($I69=1,$H69>0),VLOOKUP($H69,$A$14:AE$63,12,FALSE),0)","v":0},{"$f":"IF(AND($I69=1,$H69>0),VLOOKUP($H69,$A$14:AF$63,13,FALSE),0)","v":0},"","","",{"$f":"IF(A69<>0,VLOOKUP(A69,Liste!$A$10:$K$159,8,FALSE),\"\")","v":50},113,null,null,null,null,null,null,null,null,null,0,0,0,1000]
[57,{"$f":"IF(A70<>0,VLOOKUP(A70,Liste!$A$10:$D$159,4,FALSE),\"\")","v":"GARRELON Jacques"},0,0,0,0,null,null,0,0,{"$f":"IF(AND($I70=1,$H70>0),VLOOKUP($H70,$A$14:AD$63,11,FALSE),0)","v":0},{"$f":"IF(AND($I70=1,$H70>0),VLOOKUP($H70,$A$14:AE$63,12,FALSE),0)","v":0},{"$f":"IF(AND($I70=1,$H70>0),VLOOKUP($H70,$A$14:AF$63,13,FALSE),0)","v":0},"","","",{"$f":"IF(A70<>0,VLOOKUP(A70,Liste!$A$10:$K$159,8,FALSE),\"\")","v":70},158,null,null,null,null,null,null,null,null,null,0,0,0,1000]
[58,{"$f":"IF(A71<>0,VLOOKUP(A71,Liste!$A$10:$D$159,4,FALSE),\"\")","v":"GAUNET Mireille"},0,0,0,0,null,null,0,0,{"$f":"IF(AND($I71=1,$H71>0),VLOOKUP($H71,$A$14:AD$63,11,FALSE),0)","v":0},{"$f":"IF(AND($I71=1,$H71>0),VLOOKUP($H71,$A$14:AE$63,12,FALSE),0)","v":0},{"$f":"IF(AND($I71=1,$H71>0),VLOOKUP($H71,$A$14:AF$63,13,FALSE),0)","v":0},"","","",{"$f":"IF(A71<>0,VLOOKUP(A71,Liste!$A$10:$K$159,8,FALSE),\"\")","v":60},135,null,null,null,null,null,null,null,null,null,0,0,0,1000]
[59,{"$f":"IF(A72<>0,VLOOKUP(A72,Liste!$A$10:$D$159,4,FALSE),\"\")","v":"GERTOSIO"},0,0,0,0,null,null,0,0,{"$f":"IF(AND($I72=1,$H72>0),VLOOKUP($H72,$A$14:AD$63,11,FALSE),0)","v":0},{"$f":"IF(AND($I72=1,$H72>0),VLOOKUP($H72,$A$14:AE$63,12,FALSE),0)","v":0},{"$f":"IF(AND($I72=1,$H72>0),VLOOKUP($H72,$A$14:AF$63,13,FALSE),0)","v":0},"","","",{"$f":"IF(A72<>0,VLOOKUP(A72,Liste!$A$10:$K$159,8,FALSE),\"\")","v":62},140,null,null,null,null,null,null,null,null,null,0,0,0,1000]
[60,{"$f":"IF(A73<>0,VLOOKUP(A73,Liste!$A$10:$D$159,4,FALSE),\"\")","v":"GERVASI Jacqueline"},0,0,0,0,null,null,0,0,{"$f":"IF(AND($I73=1,$H73>0),VLOOKUP($H73,$A$14:AD$63,11,FALSE),0)","v":0},{"$f":"IF(AND($I73=1,$H73>0),VLOOKUP($H73,$A$14:AE$63,12,FALSE),0)","v":0},{"$f":"IF(AND($I73=1,$H73>0),VLOOKUP($H73,$A$14:AF$63,13,FALSE),0)","v":0},"","","",{"$f":"IF(A73<>0,VLOOKUP(A73,Liste!$A$10:$K$159,8,FALSE),\"\")","v":83},187,null,null,null,null,null,null,null,null,null,0,0,0,1000]
[61,{"$f":"IF(A74<>0,VLOOKUP(A74,Liste!$A$10:$D$159,4,FALSE),\"\")","v":"GINESTOUS Maryvonne"},0,0,0,0,null,null,0,0,{"$f":"IF(AND($I74=1,$H74>0),VLOOKUP($H74,$A$14:AD$63,11,FALSE),0)","v":0},{"$f":"IF(AND($I74=1,$H74>0),VLOOKUP($H74,$A$14:AE$63,12,FALSE),0)","v":0},{"$f":"IF(AND($I74=1,$H74>0),VLOOKUP($H74,$A$14:AF$63,13,FALSE),0)","v":0},"","","",{"$f":"IF(A74<>0,VLOOKUP(A74,Liste!$A$10:$K$159,8,FALSE),\"\")","v":58},131,null,null,null,null,null,null,null,null,null,0,0,0,1000]
[62,{"$f":"IF(A75<>0,VLOOKUP(A75,Liste!$A$10:$D$159,4,FALSE),\"\")","v":"GIRARDOT Michèle"},0,0,0,0,null,null,0,0,{"$f":"IF(AND($I75=1,$H75>0),VLOOKUP($H75,$A$14:AD$63,11,FALSE),0)","v":0},{"$f":"IF(AND($I75=1,$H75>0),VLOOKUP($H75,$A$14:AE$63,12,FALSE),0)","v":0},{"$f":"IF(AND($I75=1,$H75>0),VLOOKUP($H75,$A$14:AF$63,13,FALSE),0)","v":0},"","","",{"$f":"IF(A75<>0,VLOOKUP(A75,Liste!$A$10:$K$159,8,FALSE),\"\")","v":55},124,null,null,null,null,null,null,null,null,null,0,0,0,1000]
[63,{"$f":"IF(A76<>0,VLOOKUP(A76,Liste!$A$10:$D$159,4,FALSE),\"\")","v":"GIRAUDEAU Marcel"},0,0,0,0,null,null,0,0,{"$f":"IF(AND($I76=1,$H76>0),VLOOKUP($H76,$A$14:AD$63,11,FALSE),0)","v":0},{"$f":"IF(AND($I76=1,$H76>0),VLOOKUP($H76,$A$14:AE$63,12,FALSE),0)","v":0},{"$f":"IF(AND($I76=1,$H76>0),VLOOKUP($H76,$A$14:AF$63,13,FALSE),0)","v":0},"","","",{"$f":"IF(A76<>0,VLOOKUP(A76,Liste!$A$10:$K$159,8,FALSE),\"\")","v":63},142,null,null,null,null,null,null,null,null,null,0,0,0,1000]
[64,{"$f":"IF(A77<>0,VLOOKUP(A77,Liste!$A$10:$D$159,4,FALSE),\"\")","v":"GLADIEU Marc"},0,0,0,0,null,null,0,0,{"$f":"IF(AND($I77=1,$H77>0),VLOOKUP($H77,$A$14:AD$63,11,FALSE),0)","v":0},{"$f":"IF(AND($I77=1,$H77>0),VLOOKUP($H77,$A$14:AE$63,12,FALSE),0)","v":0},{"$f":"IF(AND($I77=1,$H77>0),VLOOKUP($H77,$A$14:AF$63,13,FALSE),0)","v":0},"","","",{"$f":"IF(A77<>0,VLOOKUP(A77,Liste!$A$10:$K$159,8,FALSE),\"\")","v":65},146,null,null,null,null,null,null,null,null,null,0,0,0,1000]
[65,{"$f":"IF(A78<>0,VLOOKUP(A78,Liste!$A$10:$D$159,4,FALSE),\"\")","v":"GOURRIER - JAFFELIN "},{"$f":"F78*(K78=1)","v":0},{"$f":"F78*(L78=1)","v":0},{"$f":"F78*(M78=1)","v":0},0,null,null,0,{"$f":"IF(F78>0,F78,0)","v":0},{"$f":"IF(AND($I78=1,$H78>0),VLOOKUP($H78,$A$14:AD$63,11,FALSE),0)","v":0},{"$f":"IF(AND($I78=1,$H78>0),VLOOKUP($H78,$A$14:AE$63,12,FALSE),0)","v":0},{"$f":"IF(AND($I78=1,$H78>0),VLOOKUP($H78,$A$14:AF$63,13,FALSE),0)","v":0},"","",{"$f":"IF(I78=1,K78*(K78=1)+L78*2*(L78=1)+M78*3*(M78=1),\"\")","v":""},{"$f":"IF(A78<>0,VLOOKUP(A78,Liste!$A$10:$K$159,8,FALSE),\"\")","v":70},158,null,null,null,null,null,null,null,null,null,0,0,0,1000]
[66,{"$f":"IF(A79<>0,VLOOKUP(A79,Liste!$A$10:$D$159,4,FALSE),\"\")","v":"GRAO Guy"},0,0,0,{"$f":"IF(I79=1,VLOOKUP(A79,$A$14:$AA$163,16+$B$4,0),0)","v":0},null,null,{"$f":"1*(IF(G79>=1,VLOOKUP(A79,$A$14:$AA$163,16+$B$4,0)>0))","v":0},0,{"$f":"IF(AND($I79=1,$H79>0),VLOOKUP($H79,$A$14:AD$63,11,FALSE),0)","v":0},{"$f":"IF(AND($I79=1,$H79>0),VLOOKUP($H79,$A$14:AE$63,12,FALSE),0)","v":0},{"$f":"IF(AND($I79=1,$H79>0),VLOOKUP($H79,$A$14:AF$63,13,FALSE),0)","v":0},{"$f":"IF(AND(I79>0,K79+L79+M79=0),\"EN ATTENTE\",IF(K79+L79+M79>1,\"ERREUR\",\"\"))","v":""},{"$f":"IF(AND(AC79>3,AD79>$D$10*$O$12),1,\"\")","v":""},"",{"$f":"IF(A79<>0,VLOOKUP(A79,Liste!$A$10:$K$159,8,FALSE),\"\")","v":72},162,null,null,null,null,null,null,null,null,null,0,{"$f":"COUNTIF($H$14:$H$163,A79)","v":0},{"$f":"SUMIF($H$14:$H$163,A79,$J$14:$J$163)+(J79*(AC79>0))","v":0},1000]
[67,{"$f":"IF(A80<>0,VLOOKUP(A80,Liste!$A$10:$D$159,4,FALSE),\"\")","v":"GROLLEAU Chantal"},0,0,0,0,null,null,0,0,{"$f":"IF(AND($I80=1,$H80>0),VLOOKUP($H80,$A$14:AD$63,11,FALSE),0)","v":0},{"$f":"IF(AND($I80=1,$H80>0),VLOOKUP($H80,$A$14:AE$63,12,FALSE),0)","v":0},{"$f":"IF(AND($I80=1,$H80>0),VLOOKUP($H80,$A$14:AF$63,13,FALSE),0)","v":0},"","","",{"$f":"IF(A80<>0,VLOOKUP(A80,Liste!$A$10:$K$159,8,FALSE),\"\")","v":66},149,null,null,null,null,null,null,null,null,null,0,0,0,1000]
[68,{"$f":"IF(A81<>0,VLOOKUP(A81,Liste!$A$10:$D$159,4,FALSE),\"\")","v":"HALADO "},0,0,0,0,null,null,0,0,{"$f":"IF(AND($I81=1,$H81>0),VLOOKUP($H81,$A$14:AD$63,11,FALSE),0)","v":0},{"$f":"IF(AND($I81=1,$H81>0),VLOOKUP($H81,$A$14:AE$63,12,FALSE),0)","v":0},{"$f":"IF(AND($I81=1,$H81>0),VLOOKUP($H81,$A$14:AF$63,13,FALSE),0)","v":0},"","","",{"$f":"IF(A81<>0,VLOOKUP(A81,Liste!$A$10:$K$159,8,FALSE),\"\")","v":55},124,null,null,null,null,null,null,null,null,null,0,0,0,1000]
[69,{"$f":"IF(A82<>0,VLOOKUP(A82,Liste!$A$10:$D$159,4,FALSE),\"\")","v":"HONNORAT Georges"},0,0,0,0,null,null,0,0,{"$f":"IF(AND($I82=1,$H82>0),VLOOKUP($H82,$A$14:AD$63,11,FALSE),0)","v":0},{"$f":"IF(AND($I82=1,$H82>0),VLOOKUP($H82,$A$14:AE$63,12,FALSE),0)","v":0},{"$f":"IF(AND($I82=1,$H82>0),VLOOKUP($H82,$A$14:AF$63,13,FALSE),0)","v":0},"","","",{"$f":"IF(A82<>0,VLOOKUP(A82,Liste!$A$10:$K$159,8,FALSE),\"\")","v":56},126,null,null,null,null,null,null,null,null,null,0,0,0,1000]
[70,{"$f":"IF(A83<>0,VLOOKUP(A83,Liste!$A$10:$D$159,4,FALSE),\"\")","v":"IMGRAM Simone"},0,0,0,0,null,null,0,0,{"$f":"IF(AND($I83=1,$H83>0),VLOOKUP($H83,$A$14:AD$63,11,FALSE),0)","v":0},{"$f":"IF(AND($I83=1,$H83>0),VLOOKUP($H83,$A$14:AE$63,12,FALSE),0)","v":0},{"$f":"IF(AND($I83=1,$H83>0),VLOOKUP($H83,$A$14:AF$63,13,FALSE),0)","v":0},"","","",{"$f":"IF(A83<>0,VLOOKUP(A83,Liste!$A$10:$K$159,8,FALSE),\"\")","v":60},135,null,null,null,null,null,null,null,null,null,0,0,0,1000]
[71,{"$f":"IF(A84<>0,VLOOKUP(A84,Liste!$A$10:$D$159,4,FALSE),\"\")","v":"IRACANE Rosalie"},0,0,0,0,null,null,0,0,{"$f":"IF(AND($I84=1,$H84>0),VLOOKUP($H84,$A$14:AD$63,11,FALSE),0)","v":0},{"$f":"IF(AND($I84=1,$H84>0),VLOOKUP($H84,$A$14:AE$63,12,FALSE),0)","v":0},{"$f":"IF(AND($I84=1,$H84>0),VLOOKUP($H84,$A$14:AF$63,13,FALSE),0)","v":0},"","","",{"$f":"IF(A84<>0,VLOOKUP(A84,Liste!$A$10:$K$159,8,FALSE),\"\")","v":70},null,125,null,null,null,null,null,null,null,null,0,0,0,1000]
[72,{"$f":"IF(A85<>0,VLOOKUP(A85,Liste!$A$10:$D$159,4,FALSE),\"\")","v":"JACQUET Sylvie"},0,0,0,0,null,null,0,0,{"$f":"IF(AND($I85=1,$H85>0),VLOOKUP($H85,$A$14:AD$63,11,FALSE),0)","v":0},{"$f":"IF(AND($I85=1,$H85>0),VLOOKUP($H85,$A$14:AE$63,12,FALSE),0)","v":0},{"$f":"IF(AND($I85=1,$H85>0),VLOOKUP($H85,$A$14:AF$63,13,FALSE),0)","v":0},"","","",{"$f":"IF(A85<>0,VLOOKUP(A85,Liste!$A$10:$K$159,8,FALSE),\"\")","v":71},null,128,null,null,null,null,null,null,null,null,0,0,0,1000]
[73,{"$f":"IF(A86<>0,VLOOKUP(A86,Liste!$A$10:$D$159,4,FALSE),\"\")","v":"JAYET Christian"},0,0,0,0,null,null,0,0,{"$f":"IF(AND($I86=1,$H86>0),VLOOKUP($H86,$A$14:AD$63,11,FALSE),0)","v":0},{"$f":"IF(AND($I86=1,$H86>0),VLOOKUP($H86,$A$14:AE$63,12,FALSE),0)","v":0},{"$f":"IF(AND($I86=1,$H86>0),VLOOKUP($H86,$A$14:AF$63,13,FALSE),0)","v":0},"","","",{"$f":"IF(A86<>0,VLOOKUP(A86,Liste!$A$10:$K$159,8,FALSE),\"\")","v":62},null,111,null,null,null,null,null,null,null,null,0,0,0,1000]
[74,{"$f":"IF(A87<>0,VLOOKUP(A87,Liste!$A$10:$D$159,4,FALSE),\"\")","v":"JOB "},0,0,0,0,null,null,0,0,{"$f":"IF(AND($I87=1,$H87>0),VLOOKUP($H87,$A$14:AD$63,11,FALSE),0)","v":0},{"$f":"IF(AND($I87=1,$H87>0),VLOOKUP($H87,$A$14:AE$63,12,FALSE),0)","v":0},{"$f":"IF(AND($I87=1,$H87>0),VLOOKUP($H87,$A$14:AF$63,13,FALSE),0)","v":0},"","","",{"$f":"IF(A87<>0,VLOOKUP(A87,Liste!$A$10:$K$159,8,FALSE),\"\")","v":60},null,108,null,null,null,null,null,null,null,null,0,0,0,1000]
[75,{"$f":"IF(A88<>0,VLOOKUP(A88,Liste!$A$10:$D$159,4,FALSE),\"\")","v":"JOFFE Françoise"},0,0,0,0,null,null,0,0,{"$f":"IF(AND($I88=1,$H88>0),VLOOKUP($H88,$A$14:AD$63,11,FALSE),0)","v":0},{"$f":"IF(AND($I88=1,$H88>0),VLOOKUP($H88,$A$14:AE$63,12,FALSE),0)","v":0},{"$f":"IF(AND($I88=1,$H88>0),VLOOKUP($H88,$A$14:AF$63,13,FALSE),0)","v":0},"","","",{"$f":"IF(A88<>0,VLOOKUP(A88,Liste!$A$10:$K$159,8,FALSE),\"\")","v":80},null,144,null,null,null,null,null,null,null,null,0,0,0,1000]
[76,{"$f":"IF(A89<>0,VLOOKUP(A89,Liste!$A$10:$D$159,4,FALSE),\"\")","v":"KARNAC Marcel"},0,0,0,0,null,null,0,0,{"$f":"IF(AND($I89=1,$H89>0),VLOOKUP($H89,$A$14:AD$63,11,FALSE),0)","v":0},{"$f":"IF(AND($I89=1,$H89>0),VLOOKUP($H89,$A$14:AE$63,12,FALSE),0)","v":0},{"$f":"IF(AND($I89=1,$H89>0),VLOOKUP($H89,$A$14:AF$63,13,FALSE),0)","v":0},"","","",{"$f":"IF(A89<>0,VLOOKUP(A89,Liste!$A$10:$K$159,8,FALSE),\"\")","v":60},null,108,null,null,null,null,null,null,null,null,0,0,0,1000]
[77,{"$f":"IF(A90<>0,VLOOKUP(A90,Liste!$A$10:$D$159,4,FALSE),\"\")","v":"LAGRANGE Pierrette"},0,0,0,0,null,null,0,0,{"$f":"IF(AND($I90=1,$H90>0),VLOOKUP($H90,$A$14:AD$63,11,FALSE),0)","v":0},{"$f":"IF(AND($I90=1,$H90>0),VLOOKUP($H90,$A$14:AE$63,12,FALSE),0)","v":0},{"$f":"IF(AND($I90=1,$H90>0),VLOOKUP($H90,$A$14:AF$63,13,FALSE),0)","v":0},"","","",{"$f":"IF(A90<>0,VLOOKUP(A90,Liste!$A$10:$K$159,8,FALSE),\"\")","v":70},null,126,null,null,null,null,null,null,null,null,0,0,0,1000]
[78,{"$f":"IF(A91<>0,VLOOKUP(A91,Liste!$A$10:$D$159,4,FALSE),\"\")","v":"LANVIN Christophe"},0,0,0,0,null,null,0,0,{"$f":"IF(AND($I91=1,$H91>0),VLOOKUP($H91,$A$14:AD$63,11,FALSE),0)","v":0},{"$f":"IF(AND($I91=1,$H91>0),VLOOKUP($H91,$A$14:AE$63,12,FALSE),0)","v":0},{"$f":"IF(AND($I91=1,$H91>0),VLOOKUP($H91,$A$14:AF$63,13,FALSE),0)","v":0},"","","",{"$f":"IF(A91<>0,VLOOKUP(A91,Liste!$A$10:$K$159,8,FALSE),\"\")","v":50},null,90,null,null,null,null,null,null,null,null,0,0,0,1000]
[79,{"$f":"IF(A92<>0,VLOOKUP(A92,Liste!$A$10:$D$159,4,FALSE),\"\")","v":"LARDENOIS Pierrette"},0,0,0,0,null,null,0,0,{"$f":"IF(AND($I92=1,$H92>0),VLOOKUP($H92,$A$14:AD$63,11,FALSE),0)","v":0},{"$f":"IF(AND($I92=1,$H92>0),VLOOKUP($H92,$A$14:AE$63,12,FALSE),0)","v":0},{"$f":"IF(AND($I92=1,$H92>0),VLOOKUP($H92,$A$14:AF$63,13,FALSE),0)","v":0},"","","",{"$f":"IF(A92<>0,VLOOKUP(A92,Liste!$A$10:$K$159,8,FALSE),\"\")","v":40},null,72,null,null,null,null,null,null,null,null,0,0,0,1000]
[80,{"$f":"IF(A93<>0,VLOOKUP(A93,Liste!$A$10:$D$159,4,FALSE),\"\")","v":"LATTION Evelyne"},0,0,0,0,null,null,0,0,{"$f":"IF(AND($I93=1,$H93>0),VLOOKUP($H93,$A$14:AD$63,11,FALSE),0)","v":0},{"$f":"IF(AND($I93=1,$H93>0),VLOOKUP($H93,$A$14:AE$63,12,FALSE),0)","v":0},{"$f":"IF(AND($I93=1,$H93>0),VLOOKUP($H93,$A$14:AF$63,13,FALSE),0)","v":0},"","","",{"$f":"IF(A93<>0,VLOOKUP(A93,Liste!$A$10:$K$159,8,FALSE),\"\")","v":47},null,84,null,null,null,null,null,null,null,null,0,0,0,1000]
[81,{"$f":"IF(A94<>0,VLOOKUP(A94,Liste!$A$10:$D$159,4,FALSE),\"\")","v":"LATTION Evelyne"},0,0,0,0,null,null,0,0,{"$f":"IF(AND($I94=1,$H94>0),VLOOKUP($H94,$A$14:AD$63,11,FALSE),0)","v":0},{"$f":"IF(AND($I94=1,$H94>0),VLOOKUP($H94,$A$14:AE$63,12,FALSE),0)","v":0},{"$f":"IF(AND($I94=1,$H94>0),VLOOKUP($H94,$A$14:AF$63,13,FALSE),0)","v":0},"","","",{"$f":"IF(A94<>0,VLOOKUP(A94,Liste!$A$10:$K$159,8,FALSE),\"\")","v":55},null,99,null,null,null,null,null,null,null,null,0,0,0,1000]
[82,{"$f":"IF(A95<>0,VLOOKUP(A95,Liste!$A$10:$D$159,4,FALSE),\"\")","v":"LE SCAVARREC Aline"},0,0,0,0,null,null,0,0,{"$f":"IF(AND($I95=1,$H95>0),VLOOKUP($H95,$A$14:AD$63,11,FALSE),0)","v":0},{"$f":"IF(AND($I95=1,$H95>0),VLOOKUP($H95,$A$14:AE$63,12,FALSE),0)","v":0},{"$f":"IF(AND($I95=1,$H95>0),VLOOKUP($H95,$A$14:AF$63,13,FALSE),0)","v":0},"","","",{"$f":"IF(A95<>0,VLOOKUP(A95,Liste!$A$10:$K$159,8,FALSE),\"\")","v":56},null,101,null,null,null,null,null,null,null,null,0,0,0,1000]
[83,{"$f":"IF(A96<>0,VLOOKUP(A96,Liste!$A$10:$D$159,4,FALSE),\"\")","v":"LEBON - BOUIC "},0,0,0,0,null,null,0,0,{"$f":"IF(AND($I96=1,$H96>0),VLOOKUP($H96,$A$14:AD$63,11,FALSE),0)","v":0},{"$f":"IF(AND($I96=1,$H96>0),VLOOKUP($H96,$A$14:AE$63,12,FALSE),0)","v":0},{"$f":"IF(AND($I96=1,$H96>0),VLOOKUP($H96,$A$14:AF$63,13,FALSE),0)","v":0},"","","",{"$f":"IF(A96<>0,VLOOKUP(A96,Liste!$A$10:$K$159,8,FALSE),\"\")","v":72},null,129,null,null,null,null,null,null,null,null,0,0,0,1000]
[84,{"$f":"IF(A97<>0,VLOOKUP(A97,Liste!$A$10:$D$159,4,FALSE),\"\")","v":"LEBON  Elisabeth"},0,0,0,0,null,null,0,0,{"$f":"IF(AND($I97=1,$H97>0),VLOOKUP($H97,$A$14:AD$63,11,FALSE),0)","v":0},{"$f":"IF(AND($I97=1,$H97>0),VLOOKUP($H97,$A$14:AE$63,12,FALSE),0)","v":0},{"$f":"IF(AND($I97=1,$H97>0),VLOOKUP($H97,$A$14:AF$63,13,FALSE),0)","v":0},"","","",{"$f":"IF(A97<>0,VLOOKUP(A97,Liste!$A$10:$K$159,8,FALSE),\"\")","v":90},null,162,null,null,null,null,null,null,null,null,0,0,0,1000]
[85,{"$f":"IF(A98<>0,VLOOKUP(A98,Liste!$A$10:$D$159,4,FALSE),\"\")","v":"LEBORGNE Claudine"},0,0,0,0,null,null,0,0,{"$f":"IF(AND($I98=1,$H98>0),VLOOKUP($H98,$A$14:AD$63,11,FALSE),0)","v":0},{"$f":"IF(AND($I98=1,$H98>0),VLOOKUP($H98,$A$14:AE$63,12,FALSE),0)","v":0},{"$f":"IF(AND($I98=1,$H98>0),VLOOKUP($H98,$A$14:AF$63,13,FALSE),0)","v":0},"","","",{"$f":"IF(A98<>0,VLOOKUP(A98,Liste!$A$10:$K$159,8,FALSE),\"\")","v":87},null,156,null,null,null,null,null,null,null,null,0,0,0,1000]
[86,{"$f":"IF(A99<>0,VLOOKUP(A99,Liste!$A$10:$D$159,4,FALSE),\"\")","v":"LEFOLLET-LANGLET"},0,0,0,0,null,null,0,0,{"$f":"IF(AND($I99=1,$H99>0),VLOOKUP($H99,$A$14:AD$63,11,FALSE),0)","v":0},{"$f":"IF(AND($I99=1,$H99>0),VLOOKUP($H99,$A$14:AE$63,12,FALSE),0)","v":0},{"$f":"IF(AND($I99=1,$H99>0),VLOOKUP($H99,$A$14:AF$63,13,FALSE),0)","v":0},"","","",{"$f":"IF(A99<>0,VLOOKUP(A99,Liste!$A$10:$K$159,8,FALSE),\"\")","v":70},null,126,null,null,null,null,null,null,null,null,0,0,0,1000]
[87,{"$f":"IF(A100<>0,VLOOKUP(A100,Liste!$A$10:$D$159,4,FALSE),\"\")","v":"LEGRAS Simone"},0,0,0,0,null,null,0,0,{"$f":"IF(AND($I100=1,$H100>0),VLOOKUP($H100,$A$14:AD$63,11,FALSE),0)","v":0},{"$f":"IF(AND($I100=1,$H100>0),VLOOKUP($H100,$A$14:AE$63,12,FALSE),0)","v":0},{"$f":"IF(AND($I100=1,$H100>0),VLOOKUP($H100,$A$14:AF$63,13,FALSE),0)","v":0},"","","",{"$f":"IF(A100<>0,VLOOKUP(A100,Liste!$A$10:$K$159,8,FALSE),\"\")","v":100},null,180,null,null,null,null,null,null,null,null,0,0,0,1000]
[88,{"$f":"IF(A101<>0,VLOOKUP(A101,Liste!$A$10:$D$159,4,FALSE),\"\")","v":"LESTOURNELLE "},0,0,0,0,null,null,0,0,{"$f":"IF(AND($I101=1,$H101>0),VLOOKUP($H101,$A$14:AD$63,11,FALSE),0)","v":0},{"$f":"IF(AND($I101=1,$H101>0),VLOOKUP($H101,$A$14:AE$63,12,FALSE),0)","v":0},{"$f":"IF(AND($I101=1,$H101>0),VLOOKUP($H101,$A$14:AF$63,13,FALSE),0)","v":0},"","","",{"$f":"IF(A101<>0,VLOOKUP(A101,Liste!$A$10:$K$159,8,FALSE),\"\")","v":86},null,155,null,null,null,null,null,null,null,null,0,0,0,1000]
[89,{"$f":"IF(A102<>0,VLOOKUP(A102,Liste!$A$10:$D$159,4,FALSE),\"\")","v":"LIGOT Jacques"},0,0,0,0,null,null,0,0,{"$f":"IF(AND($I102=1,$H102>0),VLOOKUP($H102,$A$14:AD$63,11,FALSE),0)","v":0},{"$f":"IF(AND($I102=1,$H102>0),VLOOKUP($H102,$A$14:AE$63,12,FALSE),0)","v":0},{"$f":"IF(AND($I102=1,$H102>0),VLOOKUP($H102,$A$14:AF$63,13,FALSE),0)","v":0},"","","",{"$f":"IF(A102<>0,VLOOKUP(A102,Liste!$A$10:$K$159,8,FALSE),\"\")","v":50},null,90,null,null,null,null,null,null,null,null,0,0,0,1000]
[90,{"$f":"IF(A103<>0,VLOOKUP(A103,Liste!$A$10:$D$159,4,FALSE),\"\")","v":"LOPEZ Pierre"},0,0,0,0,null,null,0,0,{"$f":"IF(AND($I103=1,$H103>0),VLOOKUP($H103,$A$14:AD$63,11,FALSE),0)","v":0},{"$f":"IF(AND($I103=1,$H103>0),VLOOKUP($H103,$A$14:AE$63,12,FALSE),0)","v":0},{"$f":"IF(AND($I103=1,$H103>0),VLOOKUP($H103,$A$14:AF$63,13,FALSE),0)","v":0},"","","",{"$f":"IF(A103<>0,VLOOKUP(A103,Liste!$A$10:$K$159,8,FALSE),\"\")","v":40},null,72,null,null,null,null,null,null,null,null,0,0,0,1000]
[91,{"$f":"IF(A104<>0,VLOOKUP(A104,Liste!$A$10:$D$159,4,FALSE),\"\")","v":"LOUNES Jeannette"},0,0,0,0,null,null,0,0,{"$f":"IF(AND($I104=1,$H104>0),VLOOKUP($H104,$A$14:AD$63,11,FALSE),0)","v":0},{"$f":"IF(AND($I104=1,$H104>0),VLOOKUP($H104,$A$14:AE$63,12,FALSE),0)","v":0},{"$f":"IF(AND($I104=1,$H104>0),VLOOKUP($H104,$A$14:AF$63,13,FALSE),0)","v":0},"","","",{"$f":"IF(A104<>0,VLOOKUP(A104,Liste!$A$10:$K$159,8,FALSE),\"\")","v":96},null,173,null,null,null,null,null,null,null,null,0,0,0,1000]
[92,{"$f":"IF(A105<>0,VLOOKUP(A105,Liste!$A$10:$D$159,4,FALSE),\"\")","v":"MAACK - BRUNETEAU Dominique"},0,0,0,0,null,null,0,0,{"$f":"IF(AND($I105=1,$H105>0),VLOOKUP($H105,$A$14:AD$63,11,FALSE),0)","v":0},{"$f":"IF(AND($I105=1,$H105>0),VLOOKUP($H105,$A$14:AE$63,12,FALSE),0)","v":0},{"$f":"IF(AND($I105=1,$H105>0),VLOOKUP($H105,$A$14:AF$63,13,FALSE),0)","v":0},"","","",{"$f":"IF(A105<>0,VLOOKUP(A105,Liste!$A$10:$K$159,8,FALSE),\"\")","v":50},null,90,null,null,null,null,null,null,null,null,0,0,0,1000]
[93,{"$f":"IF(A106<>0,VLOOKUP(A106,Liste!$A$10:$D$159,4,FALSE),\"\")","v":"MAACK - BUREU Denise"},0,0,0,0,null,null,0,0,{"$f":"IF(AND($I106=1,$H106>0),VLOOKUP($H106,$A$14:AD$63,11,FALSE),0)","v":0},{"$f":"IF(AND($I106=1,$H106>0),VLOOKUP($H106,$A$14:AE$63,12,FALSE),0)","v":0},{"$f":"IF(AND($I106=1,$H106>0),VLOOKUP($H106,$A$14:AF$63,13,FALSE),0)","v":0},"","","",{"$f":"IF(A106<>0,VLOOKUP(A106,Liste!$A$10:$K$159,8,FALSE),\"\")","v":80},null,144,null,null,null,null,null,null,null,null,0,0,0,1000]
[94,{"$f":"IF(A107<>0,VLOOKUP(A107,Liste!$A$10:$D$159,4,FALSE),\"\")","v":"MACQUET "},0,0,0,0,null,null,0,0,{"$f":"IF(AND($I107=1,$H107>0),VLOOKUP($H107,$A$14:AD$63,11,FALSE),0)","v":0},{"$f":"IF(AND($I107=1,$H107>0),VLOOKUP($H107,$A$14:AE$63,12,FALSE),0)","v":0},{"$f":"IF(AND($I107=1,$H107>0),VLOOKUP($H107,$A$14:AF$63,13,FALSE),0)","v":0},"","","",{"$f":"IF(A107<>0,VLOOKUP(A107,Liste!$A$10:$K$159,8,FALSE),\"\")","v":62},null,111,null,null,null,null,null,null,null,null,0,0,0,1000]
[95,{"$f":"IF(A108<>0,VLOOKUP(A108,Liste!$A$10:$D$159,4,FALSE),\"\")","v":"MALARTIC Odile"},0,0,0,0,null,null,0,0,{"$f":"IF(AND($I108=1,$H108>0),VLOOKUP($H108,$A$14:AD$63,11,FALSE),0)","v":0},{"$f":"IF(AND($I108=1,$H108>0),VLOOKUP($H108,$A$14:AE$63,12,FALSE),0)","v":0},{"$f":"IF(AND($I108=1,$H108>0),VLOOKUP($H108,$A$14:AF$63,13,FALSE),0)","v":0},"","","",{"$f":"IF(A108<>0,VLOOKUP(A108,Liste!$A$10:$K$159,8,FALSE),\"\")","v":63},null,113,null,null,null,null,null,null,null,null,0,0,0,1000]
[96,{"$f":"IF(A109<>0,VLOOKUP(A109,Liste!$A$10:$D$159,4,FALSE),\"\")","v":"MANDARD Jacqueline"},0,0,0,0,null,null,0,0,{"$f":"IF(AND($I109=1,$H109>0),VLOOKUP($H109,$A$14:AD$63,11,FALSE),0)","v":0},{"$f":"IF(AND($I109=1,$H109>0),VLOOKUP($H109,$A$14:AE$63,12,FALSE),0)","v":0},{"$f":"IF(AND($I109=1,$H109>0),VLOOKUP($H109,$A$14:AF$63,13,FALSE),0)","v":0},"","","",{"$f":"IF(A109<>0,VLOOKUP(A109,Liste!$A$10:$K$159,8,FALSE),\"\")","v":70},null,126,null,null,null,null,null,null,null,null,0,0,0,1000]
[97,{"$f":"IF(A110<>0,VLOOKUP(A110,Liste!$A$10:$D$159,4,FALSE),\"\")","v":"Marinacce - Chatain Jeanne"},0,0,0,0,null,null,0,0,{"$f":"IF(AND($I110=1,$H110>0),VLOOKUP($H110,$A$14:AD$63,11,FALSE),0)","v":0},{"$f":"IF(AND($I110=1,$H110>0),VLOOKUP($H110,$A$14:AE$63,12,FALSE),0)","v":0},{"$f":"IF(AND($I110=1,$H110>0),VLOOKUP($H110,$A$14:AF$63,13,FALSE),0)","v":0},"","","",{"$f":"IF(A110<>0,VLOOKUP(A110,Liste!$A$10:$K$159,8,FALSE),\"\")","v":76},null,137,null,null,null,null,null,null,null,null,0,0,0,1000]
[98,{"$f":"IF(A111<>0,VLOOKUP(A111,Liste!$A$10:$D$159,4,FALSE),\"\")","v":"MATTEI Andrée"},0,0,0,0,null,null,0,0,{"$f":"IF(AND($I111=1,$H111>0),VLOOKUP($H111,$A$14:AD$63,11,FALSE),0)","v":0},{"$f":"IF(AND($I111=1,$H111>0),VLOOKUP($H111,$A$14:AE$63,12,FALSE),0)","v":0},{"$f":"IF(AND($I111=1,$H111>0),VLOOKUP($H111,$A$14:AF$63,13,FALSE),0)","v":0},"","","",{"$f":"IF(A111<>0,VLOOKUP(A111,Liste!$A$10:$K$159,8,FALSE),\"\")","v":103},null,185,null,null,null,null,null,null,null,null,0,0,0,1000]
[99,{"$f":"IF(A112<>0,VLOOKUP(A112,Liste!$A$10:$D$159,4,FALSE),\"\")","v":"MAUDUIT Trobert"},0,0,0,0,null,null,0,0,{"$f":"IF(AND($I112=1,$H112>0),VLOOKUP($H112,$A$14:AD$63,11,FALSE),0)","v":0},{"$f":"IF(AND($I112=1,$H112>0),VLOOKUP($H112,$A$14:AE$63,12,FALSE),0)","v":0},{"$f":"IF(AND($I112=1,$H112>0),VLOOKUP($H112,$A$14:AF$63,13,FALSE),0)","v":0},"","","",{"$f":"IF(A112<>0,VLOOKUP(A112,Liste!$A$10:$K$159,8,FALSE),\"\")","v":50},null,90,null,null,null,null,null,null,null,null,0,0,0,1000]
[100,{"$f":"IF(A113<>0,VLOOKUP(A113,Liste!$A$10:$D$159,4,FALSE),\"\")","v":"MEAILLE Simone"},0,0,0,0,null,null,0,0,{"$f":"IF(AND($I113=1,$H113>0),VLOOKUP($H113,$A$14:AD$63,11,FALSE),0)","v":0},{"$f":"IF(AND($I113=1,$H113>0),VLOOKUP($H113,$A$14:AE$63,12,FALSE),0)","v":0},{"$f":"IF(AND($I113=1,$H113>0),VLOOKUP($H113,$A$14:AF$63,13,FALSE),0)","v":0},"","","",{"$f":"IF(A113<>0,VLOOKUP(A113,Liste!$A$10:$K$159,8,FALSE),\"\")","v":63},null,169,null,null,null,null,null,null,null,null,0,0,0,1000]
[101,{"$f":"IF(A114<>0,VLOOKUP(A114,Liste!$A$10:$D$159,4,FALSE),\"\")","v":"MEISSONNIER Josiane"},0,0,0,100,3,null,1,100,{"$f":"IF(AND($I114=1,$H114>0),VLOOKUP($H114,$A$14:AD$63,11,FALSE),0)","v":0},{"$f":"IF(AND($I114=1,$H114>0),VLOOKUP($H114,$A$14:AE$63,12,FALSE),0)","v":0},{"$f":"IF(AND($I114=1,$H114>0),VLOOKUP($H114,$A$14:AF$63,13,FALSE),0)","v":0},"EN ATTENTE","",0,{"$f":"IF(A114<>0,VLOOKUP(A114,Liste!$A$10:$K$159,8,FALSE),\"\")","v":100},null,113,null,null,null,null,null,null,null,null,1,0,0,101]
[102,{"$f":"IF(A115<>0,VLOOKUP(A115,Liste!$A$10:$D$159,4,FALSE),\"\")","v":"MEYNARD Armande"},0,0,0,0,null,null,0,0,{"$f":"IF(AND($I115=1,$H115>0),VLOOKUP($H115,$A$14:AD$63,11,FALSE),0)","v":0},{"$f":"IF(AND($I115=1,$H115>0),VLOOKUP($H115,$A$14:AE$63,12,FALSE),0)","v":0},{"$f":"IF(AND($I115=1,$H115>0),VLOOKUP($H115,$A$14:AF$63,13,FALSE),0)","v":0},"","","",{"$f":"IF(A115<>0,VLOOKUP(A115,Liste!$A$10:$K$159,8,FALSE),\"\")","v":62},null,180,null,null,null,null,null,null,null,null,0,0,0,1000]
[103,{"$f":"IF(A116<>0,VLOOKUP(A116,Liste!$A$10:$D$159,4,FALSE),\"\")","v":"MIALHE André"},0,0,0,0,null,null,0,0,{"$f":"IF(AND($I116=1,$H116>0),VLOOKUP($H116,$A$14:AD$63,11,FALSE),0)","v":0},{"$f":"IF(AND($I116=1,$H116>0),VLOOKUP($H116,$A$14:AE$63,12,FALSE),0)","v":0},{"$f":"IF(AND($I116=1,$H116>0),VLOOKUP($H116,$A$14:AF$63,13,FALSE),0)","v":0},"","","",{"$f":"IF(A116<>0,VLOOKUP(A116,Liste!$A$10:$K$159,8,FALSE),\"\")","v":97},null,111,null,null,null,null,null,null,null,null,0,0,0,1000]
[104,{"$f":"IF(A117<>0,VLOOKUP(A117,Liste!$A$10:$D$159,4,FALSE),\"\")","v":"MICHEL Gérard"},0,0,0,0,null,null,0,0,{"$f":"IF(AND($I117=1,$H117>0),VLOOKUP($H117,$A$14:AD$63,11,FALSE),0)","v":0},{"$f":"IF(AND($I117=1,$H117>0),VLOOKUP($H117,$A$14:AE$63,12,FALSE),0)","v":0},{"$f":"IF(AND($I117=1,$H117>0),VLOOKUP($H117,$A$14:AF$63,13,FALSE),0)","v":0},"","","",{"$f":"IF(A117<>0,VLOOKUP(A117,Liste!$A$10:$K$159,8,FALSE),\"\")","v":100},null,174,null,null,null,null,null,null,null,null,0,0,0,1000]
[105,{"$f":"IF(A118<>0,VLOOKUP(A118,Liste!$A$10:$D$159,4,FALSE),\"\")","v":"MORERA Suzanne"},0,0,0,0,null,null,0,0,{"$f":"IF(AND($I118=1,$H118>0),VLOOKUP($H118,$A$14:AD$63,11,FALSE),0)","v":0},{"$f":"IF(AND($I118=1,$H118>0),VLOOKUP($H118,$A$14:AE$63,12,FALSE),0)","v":0},{"$f":"IF(AND($I118=1,$H118>0),VLOOKUP($H118,$A$14:AF$63,13,FALSE),0)","v":0},"","","",{"$f":"IF(A118<>0,VLOOKUP(A118,Liste!$A$10:$K$159,8,FALSE),\"\")","v":100},null,180,null,null,null,null,null,null,null,null,0,0,0,1000]
[106,{"$f":"IF(A119<>0,VLOOKUP(A119,Liste!$A$10:$D$159,4,FALSE),\"\")","v":"MOTTIN Marcel"},0,0,0,0,null,null,0,0,{"$f":"IF(AND($I119=1,$H119>0),VLOOKUP($H119,$A$14:AD$63,11,FALSE),0)","v":0},{"$f":"IF(AND($I119=1,$H119>0),VLOOKUP($H119,$A$14:AE$63,12,FALSE),0)","v":0},{"$f":"IF(AND($I119=1,$H119>0),VLOOKUP($H119,$A$14:AF$63,13,FALSE),0)","v":0},"","","",{"$f":"IF(A119<>0,VLOOKUP(A119,Liste!$A$10:$K$159,8,FALSE),\"\")","v":50},null,180,null,null,null,null,null,null,null,null,0,0,0,1000]
[107,{"$f":"IF(A120<>0,VLOOKUP(A120,Liste!$A$10:$D$159,4,FALSE),\"\")","v":"MOURRE Jeanine"},0,0,0,0,null,null,0,0,{"$f":"IF(AND($I120=1,$H120>0),VLOOKUP($H120,$A$14:AD$63,11,FALSE),0)","v":0},{"$f":"IF(AND($I120=1,$H120>0),VLOOKUP($H120,$A$14:AE$63,12,FALSE),0)","v":0},{"$f":"IF(AND($I120=1,$H120>0),VLOOKUP($H120,$A$14:AF$63,13,FALSE),0)","v":0},"","","",{"$f":"IF(A120<>0,VLOOKUP(A120,Liste!$A$10:$K$159,8,FALSE),\"\")","v":49},null,90,null,null,null,null,null,null,null,null,0,0,0,1000]
[108,{"$f":"IF(A121<>0,VLOOKUP(A121,Liste!$A$10:$D$159,4,FALSE),\"\")","v":"MULARDEC Paul"},0,0,0,0,null,null,0,0,{"$f":"IF(AND($I121=1,$H121>0),VLOOKUP($H121,$A$14:AD$63,11,FALSE),0)","v":0},{"$f":"IF(AND($I121=1,$H121>0),VLOOKUP($H121,$A$14:AE$63,12,FALSE),0)","v":0},{"$f":"IF(AND($I121=1,$H121>0),VLOOKUP($H121,$A$14:AF$63,13,FALSE),0)","v":0},"","","",{"$f":"IF(A121<>0,VLOOKUP(A121,Liste!$A$10:$K$159,8,FALSE),\"\")","v":64},null,88,null,null,null,null,null,null,null,null,0,0,0,1000]
[109,{"$f":"IF(A122<>0,VLOOKUP(A122,Liste!$A$10:$D$159,4,FALSE),\"\")","v":"NICOLAS Jean"},0,0,0,0,null,null,0,0,{"$f":"IF(AND($I122=1,$H122>0),VLOOKUP($H122,$A$14:AD$63,11,FALSE),0)","v":0},{"$f":"IF(AND($I122=1,$H122>0),VLOOKUP($H122,$A$14:AE$63,12,FALSE),0)","v":0},{"$f":"IF(AND($I122=1,$H122>0),VLOOKUP($H122,$A$14:AF$63,13,FALSE),0)","v":0},"","","",{"$f":"IF(A122<>0,VLOOKUP(A122,Liste!$A$10:$K$159,8,FALSE),\"\")","v":93},null,115,null,null,null,null,null,null,null,null,0,0,0,1000]
[110,{"$f":"IF(A123<>0,VLOOKUP(A123,Liste!$A$10:$D$159,4,FALSE),\"\")","v":"NICOLE Solange"},0,0,0,0,null,null,0,0,{"$f":"IF(AND($I123=1,$H123>0),VLOOKUP($H123,$A$14:AD$63,11,FALSE),0)","v":0},{"$f":"IF(AND($I123=1,$H123>0),VLOOKUP($H123,$A$14:AE$63,12,FALSE),0)","v":0},{"$f":"IF(AND($I123=1,$H123>0),VLOOKUP($H123,$A$14:AF$63,13,FALSE),0)","v":0},"","","",{"$f":"IF(A123<>0,VLOOKUP(A123,Liste!$A$10:$K$159,8,FALSE),\"\")","v":90},null,167,null,null,null,null,null,null,null,null,0,0,0,1000]
[111,{"$f":"IF(A124<>0,VLOOKUP(A124,Liste!$A$10:$D$159,4,FALSE),\"\")","v":"NOGER Pierre "},0,0,0,60,3,null,1,60,{"$f":"IF(AND($I124=1,$H124>0),VLOOKUP($H124,$A$14:AD$63,11,FALSE),0)","v":0},{"$f":"IF(AND($I124=1,$H124>0),VLOOKUP($H124,$A$14:AE$63,12,FALSE),0)","v":0},{"$f":"IF(AND($I124=1,$H124>0),VLOOKUP($H124,$A$14:AF$63,13,FALSE),0)","v":0},"EN ATTENTE","",0,{"$f":"IF(A124<>0,VLOOKUP(A124,Liste!$A$10:$K$159,8,FALSE),\"\")","v":60},null,162,null,null,null,null,null,null,null,null,1,0,0,111]
[112,{"$f":"IF(A125<>0,VLOOKUP(A125,Liste!$A$10:$D$159,4,FALSE),\"\")","v":"OLIVA "},0,0,0,0,null,null,0,0,{"$f":"IF(AND($I125=1,$H125>0),VLOOKUP($H125,$A$14:AD$63,11,FALSE),0)","v":0},{"$f":"IF(AND($I125=1,$H125>0),VLOOKUP($H125,$A$14:AE$63,12,FALSE),0)","v":0},{"$f":"IF(AND($I125=1,$H125>0),VLOOKUP($H125,$A$14:AF$63,13,FALSE),0)","v":0},"","","",{"$f":"IF(A125<>0,VLOOKUP(A125,Liste!$A$10:$K$159,8,FALSE),\"\")","v":80},null,108,null,null,null,null,null,null,null,null,0,0,0,1000]
[113,{"$f":"IF(A126<>0,VLOOKUP(A126,Liste!$A$10:$D$159,4,FALSE),\"\")","v":"OLIVA Stéphane"},0,0,0,0,null,null,0,0,{"$f":"IF(AND($I126=1,$H126>0),VLOOKUP($H126,$A$14:AD$63,11,FALSE),0)","v":0},{"$f":"IF(AND($I126=1,$H126>0),VLOOKUP($H126,$A$14:AE$63,12,FALSE),0)","v":0},{"$f":"IF(AND($I126=1,$H126>0),VLOOKUP($H126,$A$14:AF$63,13,FALSE),0)","v":0},"","","",{"$f":"IF(A126<>0,VLOOKUP(A126,Liste!$A$10:$K$159,8,FALSE),\"\")","v":59},null,144,null,null,null,null,null,null,null,null,0,0,0,1000]
[114,{"$f":"IF(A127<>0,VLOOKUP(A127,Liste!$A$10:$D$159,4,FALSE),\"\")","v":"PEIRANO Olga"},0,0,0,0,null,null,0,0,{"$f":"IF(AND($I127=1,$H127>0),VLOOKUP($H127,$A$14:AD$63,11,FALSE),0)","v":0},{"$f":"IF(AND($I127=1,$H127>0),VLOOKUP($H127,$A$14:AE$63,12,FALSE),0)","v":0},{"$f":"IF(AND($I127=1,$H127>0),VLOOKUP($H127,$A$14:AF$63,13,FALSE),0)","v":0},"","","",{"$f":"IF(A127<>0,VLOOKUP(A127,Liste!$A$10:$K$159,8,FALSE),\"\")","v":59},null,106,null,null,null,null,null,null,null,null,0,0,0,1000]
[115,{"$f":"IF(A128<>0,VLOOKUP(A128,Liste!$A$10:$D$159,4,FALSE),\"\")","v":"PELLEGRIN Jean ierre"},0,0,0,0,null,null,0,0,{"$f":"IF(AND($I128=1,$H128>0),VLOOKUP($H128,$A$14:AD$63,11,FALSE),0)","v":0},{"$f":"IF(AND($I128=1,$H128>0),VLOOKUP($H128,$A$14:AE$63,12,FALSE),0)","v":0},{"$f":"IF(AND($I128=1,$H128>0),VLOOKUP($H128,$A$14:AF$63,13,FALSE),0)","v":0},"","","",{"$f":"IF(A128<>0,VLOOKUP(A128,Liste!$A$10:$K$159,8,FALSE),\"\")","v":40},null,106,null,null,null,null,null,null,null,null,{"$f":"(H128+I128)*(J128>0)","v":0},0,0,{"$f":"IF(H128>0,H128+0.5*(I128=1),A128*(I128=1))+(1000*(I128<1))","v":1000}]
[116,{"$f":"IF(A129<>0,VLOOKUP(A129,Liste!$A$10:$D$159,4,FALSE),\"\")","v":"PETROV Nicolas"},0,0,0,0,null,null,0,0,{"$f":"IF(AND($I129=1,$H129>0),VLOOKUP($H129,$A$14:AD$63,11,FALSE),0)","v":0},{"$f":"IF(AND($I129=1,$H129>0),VLOOKUP($H129,$A$14:AE$63,12,FALSE),0)","v":0},{"$f":"IF(AND($I129=1,$H129>0),VLOOKUP($H129,$A$14:AF$63,13,FALSE),0)","v":0},"","","",{"$f":"IF(A129<>0,VLOOKUP(A129,Liste!$A$10:$K$159,8,FALSE),\"\")","v":60},null,72,null,null,null,null,null,null,null,null,0,0,0,1000]
[117,{"$f":"IF(A130<>0,VLOOKUP(A130,Liste!$A$10:$D$159,4,FALSE),\"\")","v":"PEZTITON René"},0,0,0,0,null,null,0,0,{"$f":"IF(AND($I130=1,$H130>0),VLOOKUP($H130,$A$14:AD$63,11,FALSE),0)","v":0},{"$f":"IF(AND($I130=1,$H130>0),VLOOKUP($H130,$A$14:AE$63,12,FALSE),0)","v":0},{"$f":"IF(AND($I130=1,$H130>0),VLOOKUP($H130,$A$14:AF$63,13,FALSE),0)","v":0},"","","",{"$f":"IF(A130<>0,VLOOKUP(A130,Liste!$A$10:$K$159,8,FALSE),\"\")","v":47},null,108,null,null,null,null,null,null,null,null,0,0,0,1000]
[118,{"$f":"IF(A131<>0,VLOOKUP(A131,Liste!$A$10:$D$159,4,FALSE),\"\")","v":"PISTONE Georges"},0,0,0,0,null,null,0,0,{"$f":"IF(AND($I131=1,$H131>0),VLOOKUP($H131,$A$14:AD$63,11,FALSE),0)","v":0},{"$f":"IF(AND($I131=1,$H131>0),VLOOKUP($H131,$A$14:AE$63,12,FALSE),0)","v":0},{"$f":"IF(AND($I131=1,$H131>0),VLOOKUP($H131,$A$14:AF$63,13,FALSE),0)","v":0},"","","",{"$f":"IF(A131<>0,VLOOKUP(A131,Liste!$A$10:$K$159,8,FALSE),\"\")","v":70},null,84,null,null,null,null,null,null,null,null,0,0,0,1000]
[119,{"$f":"IF(A132<>0,VLOOKUP(A132,Liste!$A$10:$D$159,4,FALSE),\"\")","v":"PONCELET Didier"},0,0,0,0,null,null,0,0,{"$f":"IF(AND($I132=1,$H132>0),VLOOKUP($H132,$A$14:AD$63,11,FALSE),0)","v":0},{"$f":"IF(AND($I132=1,$H132>0),VLOOKUP($H132,$A$14:AE$63,12,FALSE),0)","v":0},{"$f":"IF(AND($I132=1,$H132>0),VLOOKUP($H132,$A$14:AF$63,13,FALSE),0)","v":0},"","","",{"$f":"IF(A132<>0,VLOOKUP(A132,Liste!$A$10:$K$159,8,FALSE),\"\")","v":52},null,126,null,null,null,null,null,null,null,null,0,0,0,1000]
[120,{"$f":"IF(A133<>0,VLOOKUP(A133,Liste!$A$10:$D$159,4,FALSE),\"\")","v":"PROUVOST Jean"},0,0,0,0,null,null,0,0,{"$f":"IF(AND($I133=1,$H133>0),VLOOKUP($H133,$A$14:AD$63,11,FALSE),0)","v":0},{"$f":"IF(AND($I133=1,$H133>0),VLOOKUP($H133,$A$14:AE$63,12,FALSE),0)","v":0},{"$f":"IF(AND($I133=1,$H133>0),VLOOKUP($H133,$A$14:AF$63,13,FALSE),0)","v":0},"","","",{"$f":"IF(A133<>0,VLOOKUP(A133,Liste!$A$10:$K$159,8,FALSE),\"\")","v":90},null,93,null,null,null,null,null,null,null,null,0,0,0,1000]
[121,{"$f":"IF(A134<>0,VLOOKUP(A134,Liste!$A$10:$D$159,4,FALSE),\"\")","v":"PUONS René"},0,0,0,103,3,null,1,103,{"$f":"IF(AND($I134=1,$H134>0),VLOOKUP($H134,$A$14:AD$63,11,FALSE),0)","v":0},{"$f":"IF(AND($I134=1,$H134>0),VLOOKUP($H134,$A$14:AE$63,12,FALSE),0)","v":0},{"$f":"IF(AND($I134=1,$H134>0),VLOOKUP($H134,$A$14:AF$63,13,FALSE),0)","v":0},"EN ATTENTE","",0,{"$f":"IF(A134<>0,VLOOKUP(A134,Liste!$A$10:$K$159,8,FALSE),\"\")","v":103},null,162,null,null,null,null,null,null,null,null,1,0,0,121]
[122,{"$f":"IF(A135<>0,VLOOKUP(A135,Liste!$A$10:$D$159,4,FALSE),\"\")","v":"RAYNAUD Laurence"},0,0,0,0,null,null,0,0,{"$f":"IF(AND($I135=1,$H135>0),VLOOKUP($H135,$A$14:AD$63,11,FALSE),0)","v":0},{"$f":"IF(AND($I135=1,$H135>0),VLOOKUP($H135,$A$14:AE$63,12,FALSE),0)","v":0},{"$f":"IF(AND($I135=1,$H135>0),VLOOKUP($H135,$A$14:AF$63,13,FALSE),0)","v":0},"","","",{"$f":"IF(A135<>0,VLOOKUP(A135,Liste!$A$10:$K$159,8,FALSE),\"\")","v":83},null,185,null,null,null,null,null,null,null,null,0,0,0,1000]
[123,{"$f":"IF(A136<>0,VLOOKUP(A136,Liste!$A$10:$D$159,4,FALSE),\"\")","v":"RENAUD Cécile"},0,0,0,0,null,null,0,0,{"$f":"IF(AND($I136=1,$H136>0),VLOOKUP($H136,$A$14:AD$63,11,FALSE),0)","v":0},{"$f":"IF(AND($I136=1,$H136>0),VLOOKUP($H136,$A$14:AE$63,12,FALSE),0)","v":0},{"$f":"IF(AND($I136=1,$H136>0),VLOOKUP($H136,$A$14:AF$63,13,FALSE),0)","v":0},"","","",{"$f":"IF(A136<>0,VLOOKUP(A136,Liste!$A$10:$K$159,8,FALSE),\"\")","v":91},null,149,null,null,null,null,null,null,null,null,0,0,0,1000]
[124,{"$f":"IF(A137<>0,VLOOKUP(A137,Liste!$A$10:$D$159,4,FALSE),\"\")","v":"RICHOUX Alexandra"},0,0,0,0,null,null,0,0,{"$f":"IF(AND($I137=1,$H137>0),VLOOKUP($H137,$A$14:AD$63,11,FALSE),0)","v":0},{"$f":"IF(AND($I137=1,$H137>0),VLOOKUP($H137,$A$14:AE$63,12,FALSE),0)","v":0},{"$f":"IF(AND($I137=1,$H137>0),VLOOKUP($H137,$A$14:AF$63,13,FALSE),0)","v":0},"","","",{"$f":"IF(A137<>0,VLOOKUP(A137,Liste!$A$10:$K$159,8,FALSE),\"\")","v":55},null,164,null,null,null,null,null,null,null,null,0,0,0,1000]
[125,{"$f":"IF(A138<>0,VLOOKUP(A138,Liste!$A$10:$D$159,4,FALSE),\"\")","v":"ROBERT MARMO Josiane"},0,0,0,0,null,null,0,0,{"$f":"IF(AND($I138=1,$H138>0),VLOOKUP($H138,$A$14:AD$63,11,FALSE),0)","v":0},{"$f":"IF(AND($I138=1,$H138>0),VLOOKUP($H138,$A$14:AE$63,12,FALSE),0)","v":0},{"$f":"IF(AND($I138=1,$H138>0),VLOOKUP($H138,$A$14:AF$63,13,FALSE),0)","v":0},"","","",{"$f":"IF(A138<>0,VLOOKUP(A138,Liste!$A$10:$K$159,8,FALSE),\"\")","v":92},null,99,null,null,null,null,null,null,null,null,0,0,0,1000]
[126,{"$f":"IF(A139<>0,VLOOKUP(A139,Liste!$A$10:$D$159,4,FALSE),\"\")","v":"ROCHETEAU-SOONEKINDT "},0,0,0,0,null,null,0,0,{"$f":"IF(AND($I139=1,$H139>0),VLOOKUP($H139,$A$14:AD$63,11,FALSE),0)","v":0},{"$f":"IF(AND($I139=1,$H139>0),VLOOKUP($H139,$A$14:AE$63,12,FALSE),0)","v":0},{"$f":"IF(AND($I139=1,$H139>0),VLOOKUP($H139,$A$14:AF$63,13,FALSE),0)","v":0},"","","",{"$f":"IF(A139<>0,VLOOKUP(A139,Liste!$A$10:$K$159,8,FALSE),\"\")","v":100},null,165,null,null,null,null,null,null,null,null,0,0,0,1000]
[127,{"$f":"IF(A140<>0,VLOOKUP(A140,Liste!$A$10:$D$159,4,FALSE),\"\")","v":"RUIZ José"},0,0,0,0,null,null,0,0,{"$f":"IF(AND($I140=1,$H140>0),VLOOKUP($H140,$A$14:AD$63,11,FALSE),0)","v":0},{"$f":"IF(AND($I140=1,$H140>0),VLOOKUP($H140,$A$14:AE$63,12,FALSE),0)","v":0},{"$f":"IF(AND($I140=1,$H140>0),VLOOKUP($H140,$A$14:AF$63,13,FALSE),0)","v":0},"","","",{"$f":"IF(A140<>0,VLOOKUP(A140,Liste!$A$10:$K$159,8,FALSE),\"\")","v":98},null,180,null,null,null,null,null,null,null,null,0,0,0,1000]
[128,{"$f":"IF(A141<>0,VLOOKUP(A141,Liste!$A$10:$D$159,4,FALSE),\"\")","v":"RUIZ Marcel"},0,0,0,0,null,null,0,0,{"$f":"IF(AND($I141=1,$H141>0),VLOOKUP($H141,$A$14:AD$63,11,FALSE),0)","v":0},{"$f":"IF(AND($I141=1,$H141>0),VLOOKUP($H141,$A$14:AE$63,12,FALSE),0)","v":0},{"$f":"IF(AND($I141=1,$H141>0),VLOOKUP($H141,$A$14:AF$63,13,FALSE),0)","v":0},"","","",{"$f":"IF(A141<>0,VLOOKUP(A141,Liste!$A$10:$K$159,8,FALSE),\"\")","v":91},null,176,null,null,null,null,null,null,null,null,0,0,0,1000]
[129,{"$f":"IF(A142<>0,VLOOKUP(A142,Liste!$A$10:$D$159,4,FALSE),\"\")","v":"RUSSEAU Thomas"},{"$f":"F142*(K142=1)","v":0},{"$f":"F142*(L142=1)","v":0},{"$f":"F142*(M142=1)","v":0},0,null,null,0,{"$f":"IF(F142>0,F142,0)","v":0},{"$f":"IF(AND($I142=1,$H142>0),VLOOKUP($H142,$A$14:AD$63,11,FALSE),0)","v":0},{"$f":"IF(AND($I142=1,$H142>0),VLOOKUP($H142,$A$14:AE$63,12,FALSE),0)","v":0},{"$f":"IF(AND($I142=1,$H142>0),VLOOKUP($H142,$A$14:AF$63,13,FALSE),0)","v":0},"","",{"$f":"IF(I142=1,K142*(K142=1)+L142*2*(L142=1)+M142*3*(M142=1),\"\")","v":""},{"$f":"IF(A142<>0,VLOOKUP(A142,Liste!$A$10:$K$159,8,FALSE),\"\")","v":101},null,164,null,null,null,null,null,null,null,null,0,0,0,1000]
[130,{"$f":"IF(A143<>0,VLOOKUP(A143,Liste!$A$10:$D$159,4,FALSE),\"\")","v":"SALDOT Sylviane"},0,0,0,{"$f":"IF(I143=1,VLOOKUP(A143,$A$14:$AA$163,16+$B$4,0),0)","v":0},null,null,{"$f":"1*(IF(G143>=1,VLOOKUP(A143,$A$14:$AA$163,16+$B$4,0)>0))","v":0},0,{"$f":"IF(AND($I143=1,$H143>0),VLOOKUP($H143,$A$14:AD$63,11,FALSE),0)","v":0},{"$f":"IF(AND($I143=1,$H143>0),VLOOKUP($H143,$A$14:AE$63,12,FALSE),0)","v":0},{"$f":"IF(AND($I143=1,$H143>0),VLOOKUP($H143,$A$14:AF$63,13,FALSE),0)","v":0},{"$f":"IF(AND(I143>0,K143+L143+M143=0),\"EN ATTENTE\",IF(K143+L143+M143>1,\"ERREUR\",\"\"))","v":""},{"$f":"IF(AND(AC143>3,AD143>$D$10*$O$12),1,\"\")","v":""},"",{"$f":"IF(A143<>0,VLOOKUP(A143,Liste!$A$10:$K$159,8,FALSE),\"\")","v":53},null,182,null,null,null,null,null,null,null,null,0,{"$f":"COUNTIF($H$14:$H$163,A143)","v":0},{"$f":"SUMIF($H$14:$H$163,A143,$J$14:$J$163)+(J143*(AC143>0))","v":0},1000]
[131,{"$f":"IF(A144<>0,VLOOKUP(A144,Liste!$A$10:$D$159,4,FALSE),\"\")","v":"SAMUELIAN Charles"},0,0,0,57,3,null,1,57,{"$f":"IF(AND($I144=1,$H144>0),VLOOKUP($H144,$A$14:AD$63,11,FALSE),0)","v":0},{"$f":"IF(AND($I144=1,$H144>0),VLOOKUP($H144,$A$14:AE$63,12,FALSE),0)","v":0},{"$f":"IF(AND($I144=1,$H144>0),VLOOKUP($H144,$A$14:AF$63,13,FALSE),0)","v":0},"EN ATTENTE","",0,{"$f":"IF(A144<>0,VLOOKUP(A144,Liste!$A$10:$K$159,8,FALSE),\"\")","v":57},null,95,null,null,null,null,null,null,null,null,1,0,0,131]
[132,{"$f":"IF(A145<>0,VLOOKUP(A145,Liste!$A$10:$D$159,4,FALSE),\"\")","v":"SANNA - DVORAK  Laurent - Isabel"},0,0,0,0,null,null,0,0,{"$f":"IF(AND($I145=1,$H145>0),VLOOKUP($H145,$A$14:AD$63,11,FALSE),0)","v":0},{"$f":"IF(AND($I145=1,$H145>0),VLOOKUP($H145,$A$14:AE$63,12,FALSE),0)","v":0},{"$f":"IF(AND($I145=1,$H145>0),VLOOKUP($H145,$A$14:AF$63,13,FALSE),0)","v":0},"","","",{"$f":"IF(A145<>0,VLOOKUP(A145,Liste!$A$10:$K$159,8,FALSE),\"\")","v":92},null,102,null,null,null,null,null,null,null,null,0,0,0,1000]
[133,{"$f":"IF(A146<>0,VLOOKUP(A146,Liste!$A$10:$D$159,4,FALSE),\"\")","v":"SARLIN / MAUREL Jocelyne"},0,0,0,0,null,null,0,0,{"$f":"IF(AND($I146=1,$H146>0),VLOOKUP($H146,$A$14:AD$63,11,FALSE),0)","v":0},{"$f":"IF(AND($I146=1,$H146>0),VLOOKUP($H146,$A$14:AE$63,12,FALSE),0)","v":0},{"$f":"IF(AND($I146=1,$H146>0),VLOOKUP($H146,$A$14:AF$63,13,FALSE),0)","v":0},"","","",{"$f":"IF(A146<>0,VLOOKUP(A146,Liste!$A$10:$K$159,8,FALSE),\"\")","v":94},null,165,null,null,null,null,null,null,null,null,0,0,0,1000]
[134,{"$f":"IF(A147<>0,VLOOKUP(A147,Liste!$A$10:$D$159,4,FALSE),\"\")","v":"SCALIA Serge"},0,0,0,0,null,null,0,0,{"$f":"IF(AND($I147=1,$H147>0),VLOOKUP($H147,$A$14:AD$63,11,FALSE),0)","v":0},{"$f":"IF(AND($I147=1,$H147>0),VLOOKUP($H147,$A$14:AE$63,12,FALSE),0)","v":0},{"$f":"IF(AND($I147=1,$H147>0),VLOOKUP($H147,$A$14:AF$63,13,FALSE),0)","v":0},"","","",{"$f":"IF(A147<>0,VLOOKUP(A147,Liste!$A$10:$K$159,8,FALSE),\"\")","v":53},null,95,null,null,null,null,null,null,null,null,0,0,0,1000]
[135,{"$f":"IF(A148<>0,VLOOKUP(A148,Liste!$A$10:$D$159,4,FALSE),\"\")","v":"SCHMIT Isabelle"},0,0,0,0,null,null,0,0,{"$f":"IF(AND($I148=1,$H148>0),VLOOKUP($H148,$A$14:AD$63,11,FALSE),0)","v":0},{"$f":"IF(AND($I148=1,$H148>0),VLOOKUP($H148,$A$14:AE$63,12,FALSE),0)","v":0},{"$f":"IF(AND($I148=1,$H148>0),VLOOKUP($H148,$A$14:AF$63,13,FALSE),0)","v":0},"","","",{"$f":"IF(A148<>0,VLOOKUP(A148,Liste!$A$10:$K$159,8,FALSE),\"\")","v":40},null,72,null,null,null,null,null,null,null,null,0,0,0,1000]
[136,{"$f":"IF(A149<>0,VLOOKUP(A149,Liste!$A$10:$D$159,4,FALSE),\"\")","v":"SCIALON Victor"},0,0,0,0,null,null,0,0,{"$f":"IF(AND($I149=1,$H149>0),VLOOKUP($H149,$A$14:AD$63,11,FALSE),0)","v":0},{"$f":"IF(AND($I149=1,$H149>0),VLOOKUP($H149,$A$14:AE$63,12,FALSE),0)","v":0},{"$f":"IF(AND($I149=1,$H149>0),VLOOKUP($H149,$A$14:AF$63,13,FALSE),0)","v":0},"","","",{"$f":"IF(A149<>0,VLOOKUP(A149,Liste!$A$10:$K$159,8,FALSE),\"\")","v":48},null,86,null,null,null,null,null,null,null,null,0,0,0,1000]
[137,{"$f":"IF(A150<>0,VLOOKUP(A150,Liste!$A$10:$D$159,4,FALSE),\"\")","v":"SERREE Patrick"},0,0,0,0,null,null,0,0,{"$f":"IF(AND($I150=1,$H150>0),VLOOKUP($H150,$A$14:AD$63,11,FALSE),0)","v":0},{"$f":"IF(AND($I150=1,$H150>0),VLOOKUP($H150,$A$14:AE$63,12,FALSE),0)","v":0},{"$f":"IF(AND($I150=1,$H150>0),VLOOKUP($H150,$A$14:AF$63,13,FALSE),0)","v":0},"","","",{"$f":"IF(A150<>0,VLOOKUP(A150,Liste!$A$10:$K$159,8,FALSE),\"\")","v":56},null,101,null,null,null,null,null,null,null,null,0,0,0,1000]
[138,{"$f":"IF(A151<>0,VLOOKUP(A151,Liste!$A$10:$D$159,4,FALSE),\"\")","v":"SIEURAC Philippe"},0,0,0,0,null,null,0,0,{"$f":"IF(AND($I151=1,$H151>0),VLOOKUP($H151,$A$14:AD$63,11,FALSE),0)","v":0},{"$f":"IF(AND($I151=1,$H151>0),VLOOKUP($H151,$A$14:AE$63,12,FALSE),0)","v":0},{"$f":"IF(AND($I151=1,$H151>0),VLOOKUP($H151,$A$14:AF$63,13,FALSE),0)","v":0},"","","",{"$f":"IF(A151<>0,VLOOKUP(A151,Liste!$A$10:$K$159,8,FALSE),\"\")","v":60},null,108,null,null,null,null,null,null,null,null,0,0,0,1000]
[139,{"$f":"IF(A152<>0,VLOOKUP(A152,Liste!$A$10:$D$159,4,FALSE),\"\")","v":"SIMON Josette"},0,0,0,0,null,null,0,0,{"$f":"IF(AND($I152=1,$H152>0),VLOOKUP($H152,$A$14:AD$63,11,FALSE),0)","v":0},{"$f":"IF(AND($I152=1,$H152>0),VLOOKUP($H152,$A$14:AE$63,12,FALSE),0)","v":0},{"$f":"IF(AND($I152=1,$H152>0),VLOOKUP($H152,$A$14:AF$63,13,FALSE),0)","v":0},"","","",{"$f":"IF(A152<>0,VLOOKUP(A152,Liste!$A$10:$K$159,8,FALSE),\"\")","v":51},null,92,null,null,null,null,null,null,null,null,0,0,0,1000]
[140,{"$f":"IF(A153<>0,VLOOKUP(A153,Liste!$A$10:$D$159,4,FALSE),\"\")","v":"SIMON Piaul"},0,0,0,0,null,null,0,0,{"$f":"IF(AND($I153=1,$H153>0),VLOOKUP($H153,$A$14:AD$63,11,FALSE),0)","v":0},{"$f":"IF(AND($I153=1,$H153>0),VLOOKUP($H153,$A$14:AE$63,12,FALSE),0)","v":0},{"$f":"IF(AND($I153=1,$H153>0),VLOOKUP($H153,$A$14:AF$63,13,FALSE),0)","v":0},"","","",{"$f":"IF(A153<>0,VLOOKUP(A153,Liste!$A$10:$K$159,8,FALSE),\"\")","v":53},null,95,null,null,null,null,null,null,null,null,0,0,0,1000]
[141,{"$f":"IF(A154<>0,VLOOKUP(A154,Liste!$A$10:$D$159,4,FALSE),\"\")","v":"SOLVEZ-BOUCHER "},0,0,0,93,3,null,1,93,{"$f":"IF(AND($I154=1,$H154>0),VLOOKUP($H154,$A$14:AD$63,11,FALSE),0)","v":0},{"$f":"IF(AND($I154=1,$H154>0),VLOOKUP($H154,$A$14:AE$63,12,FALSE),0)","v":0},{"$f":"IF(AND($I154=1,$H154>0),VLOOKUP($H154,$A$14:AF$63,13,FALSE),0)","v":0},"EN ATTENTE","",0,{"$f":"IF(A154<>0,VLOOKUP(A154,Liste!$A$10:$K$159,8,FALSE),\"\")","v":93},null,167,null,null,null,null,null,null,null,null,1,0,0,141]
[142,{"$f":"IF(A155<>0,VLOOKUP(A155,Liste!$A$10:$D$159,4,FALSE),\"\")","v":"STURM Philippe"},0,0,0,0,null,null,0,0,{"$f":"IF(AND($I155=1,$H155>0),VLOOKUP($H155,$A$14:AD$63,11,FALSE),0)","v":0},{"$f":"IF(AND($I155=1,$H155>0),VLOOKUP($H155,$A$14:AE$63,12,FALSE),0)","v":0},{"$f":"IF(AND($I155=1,$H155>0),VLOOKUP($H155,$A$14:AF$63,13,FALSE),0)","v":0},"","","",{"$f":"IF(A155<>0,VLOOKUP(A155,Liste!$A$10:$K$159,8,FALSE),\"\")","v":90},null,162,null,null,null,null,null,null,null,null,0,0,0,1000]
[143,{"$f":"IF(A156<>0,VLOOKUP(A156,Liste!$A$10:$D$159,4,FALSE),\"\")","v":"TANDY G&érard"},0,0,0,0,null,null,0,0,{"$f":"IF(AND($I156=1,$H156>0),VLOOKUP($H156,$A$14:AD$63,11,FALSE),0)","v":0},{"$f":"IF(AND($I156=1,$H156>0),VLOOKUP($H156,$A$14:AE$63,12,FALSE),0)","v":0},{"$f":"IF(AND($I156=1,$H156>0),VLOOKUP($H156,$A$14:AF$63,13,FALSE),0)","v":0},"","","",{"$f":"IF(A156<>0,VLOOKUP(A156,Liste!$A$10:$K$159,8,FALSE),\"\")","v":40},null,72,null,null,null,null,null,null,null,null,0,0,0,1000]
[144,{"$f":"IF(A157<>0,VLOOKUP(A157,Liste!$A$10:$D$159,4,FALSE),\"\")","v":"THUMERELLE Sébastien"},0,0,0,0,null,null,0,0,{"$f":"IF(AND($I157=1,$H157>0),VLOOKUP($H157,$A$14:AD$63,11,FALSE),0)","v":0},{"$f":"IF(AND($I157=1,$H157>0),VLOOKUP($H157,$A$14:AE$63,12,FALSE),0)","v":0},{"$f":"IF(AND($I157=1,$H157>0),VLOOKUP($H157,$A$14:AF$63,13,FALSE),0)","v":0},"","","",{"$f":"IF(A157<>0,VLOOKUP(A157,Liste!$A$10:$K$159,8,FALSE),\"\")","v":80},null,144,null,null,null,null,null,null,null,null,0,0,0,1000]
[145,{"$f":"IF(A158<>0,VLOOKUP(A158,Liste!$A$10:$D$159,4,FALSE),\"\")","v":"TONDU Simon"},0,0,0,0,null,null,0,0,{"$f":"IF(AND($I158=1,$H158>0),VLOOKUP($H158,$A$14:AD$63,11,FALSE),0)","v":0},{"$f":"IF(AND($I158=1,$H158>0),VLOOKUP($H158,$A$14:AE$63,12,FALSE),0)","v":0},{"$f":"IF(AND($I158=1,$H158>0),VLOOKUP($H158,$A$14:AF$63,13,FALSE),0)","v":0},"","","",{"$f":"IF(A158<>0,VLOOKUP(A158,Liste!$A$10:$K$159,8,FALSE),\"\")","v":40},null,72,null,null,null,null,null,null,null,null,0,0,0,1000]
[146,{"$f":"IF(A159<>0,VLOOKUP(A159,Liste!$A$10:$D$159,4,FALSE),\"\")","v":"VERMONT André"},0,0,0,0,null,null,0,0,{"$f":"IF(AND($I159=1,$H159>0),VLOOKUP($H159,$A$14:AD$63,11,FALSE),0)","v":0},{"$f":"IF(AND($I159=1,$H159>0),VLOOKUP($H159,$A$14:AE$63,12,FALSE),0)","v":0},{"$f":"IF(AND($I159=1,$H159>0),VLOOKUP($H159,$A$14:AF$63,13,FALSE),0)","v":0},"","","",{"$f":"IF(A159<>0,VLOOKUP(A159,Liste!$A$10:$K$159,8,FALSE),\"\")","v":52},null,93,null,null,null,null,null,null,null,null,0,0,0,1000]
[147,{"$f":"IF(A160<>0,VLOOKUP(A160,Liste!$A$10:$D$159,4,FALSE),\"\")","v":"VIGLIONE Léa"},0,0,0,0,null,null,0,0,{"$f":"IF(AND($I160=1,$H160>0),VLOOKUP($H160,$A$14:AD$63,11,FALSE),0)","v":0},{"$f":"IF(AND($I160=1,$H160>0),VLOOKUP($H160,$A$14:AE$63,12,FALSE),0)","v":0},{"$f":"IF(AND($I160=1,$H160>0),VLOOKUP($H160,$A$14:AF$63,13,FALSE),0)","v":0},"","","",{"$f":"IF(A160<>0,VLOOKUP(A160,Liste!$A$10:$K$159,8,FALSE),\"\")","v":61},null,110,null,null,null,null,null,null,null,null,0,0,0,1000]
[148,{"$f":"IF(A161<>0,VLOOKUP(A161,Liste!$A$10:$D$159,4,FALSE),\"\")","v":"WINGERT Philippe"},0,0,0,0,null,null,0,0,{"$f":"IF(AND($I161=1,$H161>0),VLOOKUP($H161,$A$14:AD$63,11,FALSE),0)","v":0},{"$f":"IF(AND($I161=1,$H161>0),VLOOKUP($H161,$A$14:AE$63,12,FALSE),0)","v":0},{"$f":"IF(AND($I161=1,$H161>0),VLOOKUP($H161,$A$14:AF$63,13,FALSE),0)","v":0},"","","",{"$f":"IF(A161<>0,VLOOKUP(A161,Liste!$A$10:$K$159,8,FALSE),\"\")","v":80},null,144,null,null,null,null,null,null,null,null,0,0,0,1000]
[149,{"$f":"IF(A162<>0,VLOOKUP(A162,Liste!$A$10:$D$159,4,FALSE),\"\")","v":"YOUSEF Amed"},0,0,0,0,null,null,0,0,{"$f":"IF(AND($I162=1,$H162>0),VLOOKUP($H162,$A$14:AD$63,11,FALSE),0)","v":0},{"$f":"IF(AND($I162=1,$H162>0),VLOOKUP($H162,$A$14:AE$63,12,FALSE),0)","v":0},{"$f":"IF(AND($I162=1,$H162>0),VLOOKUP($H162,$A$14:AF$63,13,FALSE),0)","v":0},"","","",{"$f":"IF(A162<>0,VLOOKUP(A162,Liste!$A$10:$K$159,8,FALSE),\"\")","v":52},null,93,null,null,null,null,null,null,null,null,0,0,0,1000]
[150,{"$f":"IF(A163<>0,VLOOKUP(A163,Liste!$A$10:$D$159,4,FALSE),\"\")","v":"ZIADI MONGI"},0,0,0,0,null,null,0,{"$f":"IF(F163>0,F163,0)","v":0},{"$f":"IF(AND($I163=1,$H163>0),VLOOKUP($H163,$A$14:AD$63,11,FALSE),0)","v":0},{"$f":"IF(AND($I163=1,$H163>0),VLOOKUP($H163,$A$14:AE$63,12,FALSE),0)","v":0},{"$f":"IF(AND($I163=1,$H163>0),VLOOKUP($H163,$A$14:AF$63,13,FALSE),0)","v":0},"","","",{"$f":"IF(A163<>0,VLOOKUP(A163,Liste!$A$10:$K$159,8,FALSE),\"\")","v":53},null,95,null,null,null,null,null,null,null,null,0,0,0,1000]

{"sheet":"R,999","index":4,"n_rows":163,"n_cols":41,"rows_kept":163,"cut":false,"hidden":false,"merged":[[6,6,7,7]]}
[{"$f":"Liste!C4","v":"20/06/21"},9,{"$f":" $AI$10&$AJ$10","v":""},null,null,null,null,null,null,null,{"$f":" $AI$10&$AJ$10","v":""},null,null,null,null,null,1,2,3,4]
[null,null,"POUR","CONTRE","ABSTENT","Total TANT.","P. R","x","PRES. Votants","Tant. Repré.","POUR","CONTRE","ABSTENT","TOTAL",null,null," TANT.GEN"," TANT 2"," TANT.3","TANT 4"," TANT.5"," TANT.6"," TANT."," TANT."," TANT."," TANT."," TANT.",null,{"$f":"240*(A2=24)*(L3>K3)+241*(A2=24)*(K3>L3)","v":0},{"$f":"250*(A2=25)*(K3<L3)+252*(A2=25)*(K3>=AI7)","v":0},{"$f":"250*(A2=25.1)*(L3<K3)+2*(A2=25.1)*(K3>L3)+250*(A2=25.1)*(K3<L3)","v":0},{"$f":"260*(A2=26)*((K3<AJ7)*(K7<AJ8)*(K3<=AK7))+(262*(A2=26)*((K3>=AJ7)*+(K7>=AJ8)))+1*(A2=26)*(K7>=AJ8)*(K3>=AK7)","v":0},{"$f":"262*(A2=26.1)*(K3>=AI7)+260*(A2=26.1)*(K3<AI7)","v":0},null,null,{"$f":"SUM(AC2:AI2)","v":0},null,3,null,240,{"$f":"IF($AJ$2=240,CONCATENATE(\"Résolution REFUSEE par \",D3, \" voix CONTRE et \",C3,\" voix POUR.\"),\"\")","v":""}]
["Nom",null,{"$f":"SUM($C$14:$C$163)","v":0},{"$f":"SUM($D$14:$D$163)","v":0},{"$f":"SUM($E$14:$E163)","v":0},{"$f":"SUM($F$14:$F$163)","v":541},{"$f":"E11","v":4},null,{"$f":"SUM($I$14:$I$163)","v":4},{"$f":"SUM($J$14:$J$163)","v":541},{"$f":"SUM($C$14:$C$163)","v":0},{"$f":"SUM($D$14:$D$163)","v":0},{"$f":"SUM($E$14:$E163)","v":0},{"$f":"K3+L3+M3","v":0},{"$f":"IF(N3=E10,\"\",\"EN ATTENTE\")","v":"EN ATTENTE"},null,{"$f":"SUM(Q14:Q163)","v":10000},{"$f":"SUM(R14:R163)","v":9977},{"$f":"SUM(S14:S163)","v":10126},{"$f":"SUM(T14:T163)","v":0},{"$f":"SUM(U14:U163)","v":0},{"$f":"SUM(V14:V63)","v":0},{"$f":"SUM(W14:W163)","v":0},0,{"$f":"SUM(Y14:Y163)","v":0},0,{"$f":"SUM(AA14:AA163)","v":0},null,null,null,null,null,null,1,null,null,null,null,null,241,{"$f":"IF($AJ$2=241,CONCATENATE(\"Résolution ADOPTEE par \",C3,\" voix POUR et \",D3,\" voix CONTRE.\"),\"\")","v":""}]
["Clé",2,null,null,null,null,null,null,null,null,null,null,null,null,null,null,{"$f":"COUNTIF(Q14:Q163,\">0\")","v":150},{"$f":"COUNTIF(R14:R163,\">0\")","v":69},{"$f":"COUNTIF(S14:S163,\">0\")","v":81},{"$f":"COUNTIF(T14:T163,\">0\")","v":0},{"$f":"COUNTIF(U14:U163,\">0\")","v":0},{"$f":"COUNTIF(V13:V14,\">0\")","v":0},{"$f":"COUNTIF(W14:W163,\">0\")","v":0},{"$f":"COUNTIF(X14:X163,\">0\")","v":0},{"$f":"COUNTIF(Y14:Y163,\">0\")","v":0},{"$f":"COUNTIF(Z14:Z163,\">0\")","v":0},{"$f":"COUNTIF(AA14:AA163,\">0\")","v":0},null,null,null,null,null,null,null,null,null,null,null,null,250,{"$f":"IF($AJ$2=250,CONCATENATE(\"Résolution REFUSEE,Pas de possibilité de 2e vote\",\"\"))","v":false}]
[null,null,{"$f":"VLOOKUP($AJ$2,$AN$2:$AO$13,2,FALSE)","v":{"$error":"#N/A"}},null,null,null,null,null,null,null,{"$f":"IF(A2=26, AJ11,\"\")","v":""},null,null,null,null,null,null,null,null,null,null,null,null,null,null,null,null,null,null,null,"K3 Voix",3230,null,null,"25 Maj; Voix","26 Maj.2/3 Voix","26 Maj 1/3 voix",null,null,251,{"$f":"IF($AJ$2=251,CONCATENATE(\"Possibilité d'un deuxième vote à l'article 25,1, majorité 24, \"),\"\")","v":""}]
[null,null,null,null,null,null,null,null,null,"NOMBRE :","POUR","CONTRE","ABSTENT","VOTANTS",null,null,null,null,null,null,null,null,null,null,null,null,null,null,null,null,"K7 Copros",8,null,null,"Tous Copros","Tous Copros","Tous copros",null,null,252,{"$f":"IF($AJ$2=252,CONCATENATE(\"Résolution adoptée par \",C3,\" voix POUR et \",D3,\" voix CONTRE\"),\"\")","v":""}]
[null,null,null,null,null,null,{"$f":"IF(SUM($O$14:$O$163)>0,\"LIMITES DEPASSEES\",\"\")","v":""},null,null,null,{"$f":"SUM($K$14:$K$163)","v":0},{"$f":"SUM($L$14:$L$163)","v":0},{"$f":"SUM($M$14:$M$163)","v":0},{"$f":"K7+L7+M7","v":0},{"$f":"IF(N7=E11,\"\",\"EN ATTENTE\")","v":"EN ATTENTE"},null,null,null,null,null,null,null,null,null,null,null,null,null,null,null,null,null,null,null,{"$f":"ROUNDDOWN((D10)/2+1,0)","v":4989},{"$f":"ROUNDDOWN((D10)*2/3+1,0)","v":6652},{"$f":"ROUNDDOWN((D10)*1/3+1,0)","v":3326},null,null,260,{"$f":"IF($AJ$2=260,CONCATENATE(\"Résolution REJETEE .\"),\"\")","v":""}]
[null,null,"Total","Total","Prés.Repr",null,null,null,null,null,null,null,null,null,null,null,null,null,null,null,null,null,null,null,null,null,null,null,null,"Art,25",{"$f":"2*(A2=25)*(K3>=AK7)","v":0},{"$f":"IF(AE8=2,\"Possibilité de deuxième vote\",\"\")","v":""},null,null,null,{"$f":"ROUNDUP(($D$11+0.1)/2,0)","v":35},null,null,null,262,{"$f":"IF($AJ$2=262,CONCATENATE(\"Résolution ADOPTEE par \",C3,\" voix POUR et \",D3,\" voix CONTRE\"))","v":false}]
[null,null,"Syndicat"," CLE","Tot.Votants",null,null,null,null,null,{"$f":"VLOOKUP($AJ$2,$AN$2:$AO$13,2,FALSE)","v":{"$error":"#N/A"}},null,null,null,null,null,null,null,null,null,null,null,null,null,null,null,null,null,null,"Art,26",{"$f":"2*(A2=26)*(K7>=AJ8)*(K3>=AK7)","v":0},{"$f":"IF(AE9=2,\"Possibilité de deuxième vote\",\"\")","v":""}]
[null,null,{"$f":"HLOOKUP(1,$Q$1:$AA$4,3,FALSE)","v":10000},{"$f":"HLOOKUP($B$4,$Q$1:$AA$4,3,FALSE)","v":9977},{"$f":"SUM($F$14:$F$163)","v":541},"VOIX",null,null,null,null,null,null,null,null,null,null,null,null,null,null,null,null,null,null,null,null,null,null,null,null,null,null,null,null,{"$f":" IF($A$2=25,\">= \" & $AI$7,\"\")","v":""},{"$f":" IF($A$2=26,\">= \" & $AJ$7,\"\")","v":""},{"$f":" IF($A$2=26.1,\">= \" & $AK7,\"\")","v":""}]
[null,null,{"$f":"HLOOKUP(1,$Q$1:$AA$4,4,FALSE)","v":150},{"$f":"HLOOKUP($B$4,$Q$1:$AA$4,4,FALSE)","v":69},{"$f":"SUM($I$14:$I$163)","v":4},"NOMBRE",null,null,null,null,null,null,null,null,null,null,null,null,null,null,null,null,null,null,null,null,null,null,{"$f":"SUM($O$14:$O$163)","v":0},"Nombre de dépassemnts",null,null,null,null,null,{"$f":" IF($A$2=26,\">= \" & $AJ$8,\"\")","v":""}]
[null,null,null,null,null,null,null,null,null,null,null,null,{"$f":"IF(COUNTIF($N$14:$N$163,\"ERREUR\")>0,\"ERREUR\",\"\")","v":""},{"$f":"IF(COUNTIF($N$14:$N$163,\"EN ATTENTE\")>0,\"EN ATTENTE\",\"\")","v":"EN ATTENTE"},0.1]
["N° Ordre","NOMS","Voix     POUR","Voix   CONTRE  ","Voix Abst.","Total TANT.","P. R","Rep.par","PRES. Votants","Tant. Repré.","Votes    POUR","Votes    CONTRE","Votes   ABST,","VERIF","LIMITES","Votes","TANT.GEN",{"$f":"R2","v":" TANT 2"}," TANT.3","TANT 4"," TANT.5"," TANT.6"," TANT."," TANT."," TANT."," TANT."," TANT.","X","    Nombre  Représentés","  Total Voix","XX"]
[11,{"$f":"IF(A14<>0,VLOOKUP(A14,Liste!$A$10:$D$159,4,FALSE),\"\")","v":"BAUMGARTNER Peter"},{"$f":"F14*(K14=1)","v":0},{"$f":"F14*(L14=1)","v":0},{"$f":"F14*(M14=1)","v":0},{"$f":"IF(I14=1,VLOOKUP(A14,$A$14:$AA$163,16+$B$4,0),0)","v":158},3,null,{"$f":"1*(IF(G14>=1,VLOOKUP(A14,$A$14:$AA$163,16+$B$4,0)>0))","v":1},{"$f":"IF(F14>0,F14,0)","v":158},{"$f":"IF(AND($I14=1,$H14>0),VLOOKUP($H14,$A$14:AD$63,11,FALSE),0)","v":0},{"$f":"IF(AND($I14=1,$H14>0),VLOOKUP($H14,$A$14:AE$63,12,FALSE),0)","v":0},{"$f":"IF(AND($I14=1,$H14>0),VLOOKUP($H14,$A$14:AF$63,13,FALSE),0)","v":0},{"$f":"IF(AND(I14>0,K14+L14+M14=0),\"EN ATTENTE\",IF(K14+L14+M14>1,\"ERREUR\",\"\"))","v":"EN ATTENTE"},{"$f":"IF(AND(AC14>3,AD14>$D$10*$O$12),1,\"\")","v":""},{"$f":"IF(I14=1,K14*(K14=1)+L14*2*(L14=1)+M14*3*(M14=1),\"\")","v":0},{"$f":"IF(A14<>0,VLOOKUP(A14,Liste!$A$10:$K$159,8,FALSE),\"\")","v":70},158,null,null,null,null,null,null,null,null,null,{"$f":"(H14+I14)*(J14>0)","v":1},{"$f":"COUNTIF($H$14:$H$163,A14)","v":0},{"$f":"SUMIF($H$14:$H$163,A14,$J$14:$J$163)+(J14*(AC14>0))","v":0},{"$f":"IF(H14>0,H14+0.5*(I14=1),A14*(I14=1))+(1000*(I14<1))","v":11}]
[21,{"$f":"IF(A15<>0,VLOOKUP(A15,Liste!$A$10:$D$159,4,FALSE),\"\")","v":"BOQUET Marcel"},0,0,0,124,3,null,1,124,{"$f":"IF(AND($I15=1,$H15>0),VLOOKUP($H15,$A$14:AD$63,11,FALSE),0)","v":0},{"$f":"IF(AND($I15=1,$H15>0),VLOOKUP($H15,$A$14:AE$63,12,FALSE),0)","v":0},{"$f":"IF(AND($I15=1,$H15>0),VLOOKUP($H15,$A$14:AF$63,13,FALSE),0)","v":0},"EN ATTENTE","",0,{"$f":"IF(A15<>0,VLOOKUP(A15,Liste!$A$10:$K$159,8,FALSE),\"\")","v":55},124,null,null,null,null,null,null,null,null,null,1,0,0,21]
[31,{"$f":"IF(A16<>0,VLOOKUP(A16,Liste!$A$10:$D$159,4,FALSE),\"\")","v":"CARANTA Jean P."},0,0,0,135,3,null,1,135,{"$f":"IF(AND($I16=1,$H16>0),VLOOKUP($H16,$A$14:AD$63,11,FALSE),0)","v":0},{"$f":"IF(AND($I16=1,$H16>0),VLOOKUP($H16,$A$14:AE$63,12,FALSE),0)","v":0},{"$f":"IF(AND($I16=1,$H16>0),VLOOKUP($H16,$A$14:AF$63,13,FALSE),0)","v":0},"EN ATTENTE","",0,{"$f":"IF(A16<>0,VLOOKUP(A16,Liste!$A$10:$K$159,8,FALSE),\"\")","v":60},135,null,null,null,null,null,null,null,null,null,1,0,0,31]
[41,{"$f":"IF(A17<>0,VLOOKUP(A17,Liste!$A$10:$D$159,4,FALSE),\"\")","v":"COMA Marie"},0,0,0,124,3,null,1,124,{"$f":"IF(AND($I17=1,$H17>0),VLOOKUP($H17,$A$14:AD$63,11,FALSE),0)","v":0},{"$f":"IF(AND($I17=1,$H17>0),VLOOKUP($H17,$A$14:AE$63,12,FALSE),0)","v":0},{"$f":"IF(AND($I17=1,$H17>0),VLOOKUP($H17,$A$14:AF$63,13,FALSE),0)","v":0},"EN ATTENTE","",0,{"$f":"IF(A17<>0,VLOOKUP(A17,Liste!$A$10:$K$159,8,FALSE),\"\")","v":55},124,null,null,null,null,null,null,null,null,null,1,0,0,41]
[101,{"$f":"IF(A18<>0,VLOOKUP(A18,Liste!$A$10:$D$159,4,FALSE),\"\")","v":"MEISSONNIER Josiane"},0,0,0,0,3,null,0,0,{"$f":"IF(AND($I18=1,$H18>0),VLOOKUP($H18,$A$14:AD$63,11,FALSE),0)","v":0},{"$f":"IF(AND($I18=1,$H18>0),VLOOKUP($H18,$A$14:AE$63,12,FALSE),0)","v":0},{"$f":"IF(AND($I18=1,$H18>0),VLOOKUP($H18,$A$14:AF$63,13,FALSE),0)","v":0},"","","",{"$f":"IF(A18<>0,VLOOKUP(A18,Liste!$A$10:$K$159,8,FALSE),\"\")","v":100},null,113,null,null,null,null,null,null,null,null,0,0,0,1000]
[111,{"$f":"IF(A19<>0,VLOOKUP(A19,Liste!$A$10:$D$159,4,FALSE),\"\")","v":"NOGER Pierre "},0,0,0,0,3,null,0,0,{"$f":"IF(AND($I19=1,$H19>0),VLOOKUP($H19,$A$14:AD$63,11,FALSE),0)","v":0},{"$f":"IF(AND($I19=1,$H19>0),VLOOKUP($H19,$A$14:AE$63,12,FALSE),0)","v":0},{"$f":"IF(AND($I19=1,$H19>0),VLOOKUP($H19,$A$14:AF$63,13,FALSE),0)","v":0},"","","",{"$f":"IF(A19<>0,VLOOKUP(A19,Liste!$A$10:$K$159,8,FALSE),\"\")","v":60},null,162,null,null,null,null,null,null,null,null,0,0,0,1000]
[121,{"$f":"IF(A20<>0,VLOOKUP(A20,Liste!$A$10:$D$159,4,FALSE),\"\")","v":"PUONS René"},0,0,0,0,3,null,0,0,{"$f":"IF(AND($I20=1,$H20>0),VLOOKUP($H20,$A$14:AD$63,11,FALSE),0)","v":0},{"$f":"IF(AND($I20=1,$H20>0),VLOOKUP($H20,$A$14:AE$63,12,FALSE),0)","v":0},{"$f":"IF(AND($I20=1,$H20>0),VLOOKUP($H20,$A$14:AF$63,13,FALSE),0)","v":0},"","","",{"$f":"IF(A20<>0,VLOOKUP(A20,Liste!$A$10:$K$159,8,FALSE),\"\")","v":103},null,162,null,null,null,null,null,null,null,null,0,0,0,1000]
[131,{"$f":"IF(A21<>0,VLOOKUP(A21,Liste!$A$10:$D$159,4,FALSE),\"\")","v":"SAMUELIAN Charles"},0,0,0,0,3,null,0,0,{"$f":"IF(AND($I21=1,$H21>0),VLOOKUP($H21,$A$14:AD$63,11,FALSE),0)","v":0},{"$f":"IF(AND($I21=1,$H21>0),VLOOKUP($H21,$A$14:AE$63,12,FALSE),0)","v":0},{"$f":"IF(AND($I21=1,$H21>0),VLOOKUP($H21,$A$14:AF$63,13,FALSE),0)","v":0},"","","",{"$f":"IF(A21<>0,VLOOKUP(A21,Liste!$A$10:$K$159,8,FALSE),\"\")","v":57},null,95,null,null,null,null,null,null,null,null,0,0,0,1000]
[141,{"$f":"IF(A22<>0,VLOOKUP(A22,Liste!$A$10:$D$159,4,FALSE),\"\")","v":"SOLVEZ-BOUCHER "},0,0,0,0,3,null,0,0,{"$f":"IF(AND($I22=1,$H22>0),VLOOKUP($H22,$A$14:AD$63,11,FALSE),0)","v":0},{"$f":"IF(AND($I22=1,$H22>0),VLOOKUP($H22,$A$14:AE$63,12,FALSE),0)","v":0},{"$f":"IF(AND($I22=1,$H22>0),VLOOKUP($H22,$A$14:AF$63,13,FALSE),0)","v":0},"","","",{"$f":"IF(A22<>0,VLOOKUP(A22,Liste!$A$10:$K$159,8,FALSE),\"\")","v":93},null,167,null,null,null,null,null,null,null,null,0,0,0,1000]
[1,{"$f":"IF(A23<>0,VLOOKUP(A23,Liste!$A$10:$D$159,4,FALSE),\"\")","v":"ALEXANDRINI André"},0,0,0,0,null,null,0,0,{"$f":"IF(AND($I23=1,$H23>0),VLOOKUP($H23,$A$14:AD$63,11,FALSE),0)","v":0},{"$f":"IF(AND($I23=1,$H23>0),VLOOKUP($H23,$A$14:AE$63,12,FALSE),0)","v":0},{"$f":"IF(AND($I23=1,$H23>0),VLOOKUP($H23,$A$14:AF$63,13,FALSE),0)","v":0},"","","",{"$f":"IF(A23<>0,VLOOKUP(A23,Liste!$A$10:$K$159,8,FALSE),\"\")","v":10},null,126,null,null,null,null,null,null,null,null,0,0,0,1000]
[2,{"$f":"IF(A24<>0,VLOOKUP(A24,Liste!$A$10:$D$159,4,FALSE),\"\")","v":"ANNINOS Henri"},0,0,0,0,null,null,0,0,{"$f":"IF(AND($I24=1,$H24>0),VLOOKUP($H24,$A$14:AD$63,11,FALSE),0)","v":0},{"$f":"IF(AND($I24=1,$H24>0),VLOOKUP($H24,$A$14:AE$63,12,FALSE),0)","v":0},{"$f":"IF(AND($I24=1,$H24>0),VLOOKUP($H24,$A$14:AF$63,13,FALSE),0)","v":0},"","","",{"$f":"IF(A24<>0,VLOOKUP(A24,Liste!$A$10:$K$159,8,FALSE),\"\")","v":70},158,null,null,null,null,null,null,null,null,null,0,0,0,1000]
[3,{"$f":"IF(A25<>0,VLOOKUP(A25,Liste!$A$10:$D$159,4,FALSE),\"\")","v":"BALDACCHINO Laurence"},0,0,0,0,null,null,0,0,{"$f":"IF(AND($I25=1,$H25>0),VLOOKUP($H25,$A$14:AD$63,11,FALSE),0)","v":0},{"$f":"IF(AND($I25=1,$H25>0),VLOOKUP($H25,$A$14:AE$63,12,FALSE),0)","v":0},{"$f":"IF(AND($I25=1,$H25>0),VLOOKUP($H25,$A$14:AF$63,13,FALSE),0)","v":0},"","","",{"$f":"IF(A25<>0,VLOOKUP(A25,Liste!$A$10:$K$159,8,FALSE),\"\")","v":100},225,null,null,null,null,null,null,null,null,null,0,0,0,1000]
[4,{"$f":"IF(A26<>0,VLOOKUP(A26,Liste!$A$10:$D$159,4,FALSE),\"\")","v":"BANCHET Joseph"},0,0,0,0,null,null,0,0,{"$f":"IF(AND($I26=1,$H26>0),VLOOKUP($H26,$A$14:AD$63,11,FALSE),0)","v":0},{"$f":"IF(AND($I26=1,$H26>0),VLOOKUP($H26,$A$14:AE$63,12,FALSE),0)","v":0},{"$f":"IF(AND($I26=1,$H26>0),VLOOKUP($H26,$A$14:AF$63,13,FALSE),0)","v":0},"","","",{"$f":"IF(A26<>0,VLOOKUP(A26,Liste!$A$10:$K$159,8,FALSE),\"\")","v":60},135,null,null,null,null,null,null,null,null,null,0,0,0,1000]
[5,{"$f":"IF(A27<>0,VLOOKUP(A27,Liste!$A$10:$D$159,4,FALSE),\"\")","v":"BARDIN Andrée"},0,0,0,0,null,null,0,0,{"$f":"IF(AND($I27=1,$H27>0),VLOOKUP($H27,$A$14:AD$63,11,FALSE),0)","v":0},{"$f":"IF(AND($I27=1,$H27>0),VLOOKUP($H27,$A$14:AE$63,12,FALSE),0)","v":0},{"$f":"IF(AND($I27=1,$H27>0),VLOOKUP($H27,$A$14:AF$63,13,FALSE),0)","v":0},"","","",{"$f":"IF(A27<>0,VLOOKUP(A27,Liste!$A$10:$K$159,8,FALSE),\"\")","v":50},113,null,null,null,null,null,null,null,null,null,0,0,0,1000]
[6,{"$f":"IF(A28<>0,VLOOKUP(A28,Liste!$A$10:$D$159,4,FALSE),\"\")","v":"BARDIN-BENARD Louis"},0,0,0,0,null,null,0,0,{"$f":"IF(AND($I28=1,$H28>0),VLOOKUP($H28,$A$14:AD$63,11,FALSE),0)","v":0},{"$f":"IF(AND($I28=1,$H28>0),VLOOKUP($H28,$A$14:AE$63,12,FALSE),0)","v":0},{"$f":"IF(AND($I28=1,$H28>0),VLOOKUP($H28,$A$14:AF$63,13,FALSE),0)","v":0},"","","",{"$f":"IF(A28<>0,VLOOKUP(A28,Liste!$A$10:$K$159,8,FALSE),\"\")","v":45},101,null,null,null,null,null,null,null,null,null,0,0,0,1000]
[7,{"$f":"IF(A29<>0,VLOOKUP(A29,Liste!$A$10:$D$159,4,FALSE),\"\")","v":"BARDOUILLE Hermine"},0,0,0,0,null,null,0,0,{"$f":"IF(AND($I29=1,$H29>0),VLOOKUP($H29,$A$14:AD$63,11,FALSE),0)","v":0},{"$f":"IF(AND($I29=1,$H29>0),VLOOKUP($H29,$A$14:AE$63,12,FALSE),0)","v":0},{"$f":"IF(AND($I29=1,$H29>0),VLOOKUP($H29,$A$14:AF$63,13,FALSE),0)","v":0},"","","",{"$f":"IF(A29<>0,VLOOKUP(A29,Liste!$A$10:$K$159,8,FALSE),\"\")","v":70},158,null,null,null,null,null,null,null,null,null,0,0,0,1000]
[8,{"$f":"IF(A30<>0,VLOOKUP(A30,Liste!$A$10:$D$159,4,FALSE),\"\")","v":"BARDOUILLE Jean Yves"},0,0,0,0,null,null,0,0,{"$f":"IF(AND($I30=1,$H30>0),VLOOKUP($H30,$A$14:AD$63,11,FALSE),0)","v":0},{"$f":"IF(AND($I30=1,$H30>0),VLOOKUP($H30,$A$14:AE$63,12,FALSE),0)","v":0},{"$f":"IF(AND($I30=1,$H30>0),VLOOKUP($H30,$A$14:AF$63,13,FALSE),0)","v":0},"","","",{"$f":"IF(A30<>0,VLOOKUP(A30,Liste!$A$10:$K$159,8,FALSE),\"\")","v":100},225,null,null,null,null,null,null,null,null,null,0,0,0,1000]
[9,{"$f":"IF(A31<>0,VLOOKUP(A31,Liste!$A$10:$D$159,4,FALSE),\"\")","v":"BAUDINO"},0,0,0,0,null,null,0,0,{"$f":"IF(AND($I31=1,$H31>0),VLOOKUP($H31,$A$14:AD$63,11,FALSE),0)","v":0},{"$f":"IF(AND($I31=1,$H31>0),VLOOKUP($H31,$A$14:AE$63,12,FALSE),0)","v":0},{"$f":"IF(AND($I31=1,$H31>0),VLOOKUP($H31,$A$14:AF$63,13,FALSE),0)","v":0},"","","",{"$f":"IF(A31<>0,VLOOKUP(A31,Liste!$A$10:$K$159,8,FALSE),\"\")","v":84},190,null,null,null,null,null,null,null,null,null,0,0,0,1000]
[10,{"$f":"IF(A32<>0,VLOOKUP(A32,Liste!$A$10:$D$159,4,FALSE),\"\")","v":"BAUGUIL André"},0,0,0,0,null,null,0,0,{"$f":"IF(AND($I32=1,$H32>0),VLOOKUP($H32,$A$14:AD$63,11,FALSE),0)","v":0},{"$f":"IF(AND($I32=1,$H32>0),VLOOKUP($H32,$A$14:AE$63,12,FALSE),0)","v":0},{"$f":"IF(AND($I32=1,$H32>0),VLOOKUP($H32,$A$14:AF$63,13,FALSE),0)","v":0},"","","",{"$f":"IF(A32<>0,VLOOKUP(A32,Liste!$A$10:$K$159,8,FALSE),\"\")","v":63},142,null,null,null,null,null,null,null,null,null,0,0,0,1000]
[12,{"$f":"IF(A33<>0,VLOOKUP(A33,Liste!$A$10:$D$159,4,FALSE),\"\")","v":"BECH Monique"},0,0,0,0,null,null,0,0,{"$f":"IF(AND($I33=1,$H33>0),VLOOKUP($H33,$A$14:AD$63,11,FALSE),0)","v":0},{"$f":"IF(AND($I33=1,$H33>0),VLOOKUP($H33,$A$14:AE$63,12,FALSE),0)","v":0},{"$f":"IF(AND($I33=1,$H33>0),VLOOKUP($H33,$A$14:AF$63,13,FALSE),0)","v":0},"","","",{"$f":"IF(A33<>0,VLOOKUP(A33,Liste!$A$10:$K$159,8,FALSE),\"\")","v":100},225,null,null,null,null,null,null,null,null,null,0,0,0,1000]
[13,{"$f":"IF(A34<>0,VLOOKUP(A34,Liste!$A$10:$D$159,4,FALSE),\"\")","v":"BERGET Jean François"},0,0,0,0,null,null,0,0,{"$f":"IF(AND($I34=1,$H34>0),VLOOKUP($H34,$A$14:AD$63,11,FALSE),0)","v":0},{"$f":"IF(AND($I34=1,$H34>0),VLOOKUP($H34,$A$14:AE$63,12,FALSE),0)","v":0},{"$f":"IF(AND($I34=1,$H34>0),VLOOKUP($H34,$A$14:AF$63,13,FALSE),0)","v":0},"","","",{"$f":"IF(A34<>0,VLOOKUP(A34,Liste!$A$10:$K$159,8,FALSE),\"\")","v":70},158,null,null,null,null,null,null,null,null,null,0,0,0,1000]
[14,{"$f":"IF(A35<>0,VLOOKUP(A35,Liste!$A$10:$D$159,4,FALSE),\"\")","v":"BERLIER David"},0,0,0,0,null,null,0,0,{"$f":"IF(AND($I35=1,$H35>0),VLOOKUP($H35,$A$14:AD$63,11,FALSE),0)","v":0},{"$f":"IF(AND($I35=1,$H35>0),VLOOKUP($H35,$A$14:AE$63,12,FALSE),0)","v":0},{"$f":"IF(AND($I35=1,$H35>0),VLOOKUP($H35,$A$14:AF$63,13,FALSE),0)","v":0},"","","",{"$f":"IF(A35<>0,VLOOKUP(A35,Liste!$A$10:$K$159,8,FALSE),\"\")","v":70},158,null,null,null,null,null,null,null,null,null,0,0,0,1000]
[15,{"$f":"IF(A36<>0,VLOOKUP(A36,Liste!$A$10:$D$159,4,FALSE),\"\")","v":"BESSON Gabriel"},0,0,0,0,null,null,0,0,{"$f":"IF(AND($I36=1,$H36>0),VLOOKUP($H36,$A$14:AD$63,11,FALSE),0)","v":0},{"$f":"IF(AND($I36=1,$H36>0),VLOOKUP($H36,$A$14:AE$63,12,FALSE),0)","v":0},{"$f":"IF(AND($I36=1,$H36>0),VLOOKUP($H36,$A$14:AF$63,13,FALSE),0)","v":0},"","","",{"$f":"IF(A36<>0,VLOOKUP(A36,Liste!$A$10:$K$159,8,FALSE),\"\")","v":91},205,null,null,null,null,null,null,null,null,null,0,0,0,1000]
[16,{"$f":"IF(A37<>0,VLOOKUP(A37,Liste!$A$10:$D$159,4,FALSE),\"\")","v":"BILLY Grégoire"},0,0,0,0,null,null,0,0,{"$f":"IF(AND($I37=1,$H37>0),VLOOKUP($H37,$A$14:AD$63,11,FALSE),0)","v":0},{"$f":"IF(AND($I37=1,$H37>0),VLOOKUP($H37,$A$14:AE$63,12,FALSE),0)","v":0},{"$f":"IF(AND($I37=1,$H37>0),VLOOKUP($H37,$A$14:AF$63,13,FALSE),0)","v":0},"","","",{"$f":"IF(A37<>0,VLOOKUP(A37,Liste!$A$10:$K$159,8,FALSE),\"\")","v":80},180,null,null,null,null,null,null,null,null,null,0,0,0,1000]
[17,{"$f":"IF(A38<>0,VLOOKUP(A38,Liste!$A$10:$D$159,4,FALSE),\"\")","v":"BLOT Alain"},0,0,0,0,null,null,0,0,{"$f":"IF(AND($I38=1,$H38>0),VLOOKUP($H38,$A$14:AD$63,11,FALSE),0)","v":0},{"$f":"IF(AND($I38=1,$H38>0),VLOOKUP($H38,$A$14:AE$63,12,FALSE),0)","v":0},{"$f":"IF(AND($I38=1,$H38>0),VLOOKUP($H38,$A$14:AF$63,13,FALSE),0)","v":0},"","","",{"$f":"IF(A38<>0,VLOOKUP(A38,Liste!$A$10:$K$159,8,FALSE),\"\")","v":75},169,null,null,null,null,null,null,null,null,null,0,0,0,1000]
[18,{"$f":"IF(A39<>0,VLOOKUP(A39,Liste!$A$10:$D$159,4,FALSE),\"\")","v":"BODIGER"},0,0,0,0,null,null,0,0,{"$f":"IF(AND($I39=1,$H39>0),VLOOKUP($H39,$A$14:AD$63,11,FALSE),0)","v":0},{"$f":"IF(AND($I39=1,$H39>0),VLOOKUP($H39,$A$14:AE$63,12,FALSE),0)","v":0},{"$f":"IF(AND($I39=1,$H39>0),VLOOKUP($H39,$A$14:AF$63,13,FALSE),0)","v":0},"","","",{"$f":"IF(A39<>0,VLOOKUP(A39,Liste!$A$10:$K$159,8,FALSE),\"\")","v":55},124,null,null,null,null,null,null,null,null,null,0,0,0,1000]
[19,{"$f":"IF(A40<>0,VLOOKUP(A40,Liste!$A$10:$D$159,4,FALSE),\"\")","v":"BODIN - BUGEJA "},0,0,0,0,null,null,0,0,{"$f":"IF(AND($I40=1,$H40>0),VLOOKUP($H40,$A$14:AD$63,11,FALSE),0)","v":0},{"$f":"IF(AND($I40=1,$H40>0),VLOOKUP($H40,$A$14:AE$63,12,FALSE),0)","v":0},{"$f":"IF(AND($I40=1,$H40>0),VLOOKUP($H40,$A$14:AF$63,13,FALSE),0)","v":0},"","","",{"$f":"IF(A40<>0,VLOOKUP(A40,Liste!$A$10:$K$159,8,FALSE),\"\")","v":101},228,null,null,null,null,null,null,null,null,null,0,0,0,1000]
[20,{"$f":"IF(A41<>0,VLOOKUP(A41,Liste!$A$10:$D$159,4,FALSE),\"\")","v":"BOISSON Franck"},0,0,0,0,null,null,0,0,{"$f":"IF(AND($I41=1,$H41>0),VLOOKUP($H41,$A$14:AD$63,11,FALSE),0)","v":0},{"$f":"IF(AND($I41=1,$H41>0),VLOOKUP($H41,$A$14:AE$63,12,FALSE),0)","v":0},{"$f":"IF(AND($I41=1,$H41>0),VLOOKUP($H41,$A$14:AF$63,13,FALSE),0)","v":0},"","","",{"$f":"IF(A41<>0,VLOOKUP(A41,Liste!$A$10:$K$159,8,FALSE),\"\")","v":73},165,null,null,null,null,null,null,null,null,null,0,0,0,1000]
[22,{"$f":"IF(A42<>0,VLOOKUP(A42,Liste!$A$10:$D$159,4,FALSE),\"\")","v":"BOREL "},0,0,0,0,null,null,0,0,{"$f":"IF(AND($I42=1,$H42>0),VLOOKUP($H42,$A$14:AD$63,11,FALSE),0)","v":0},{"$f":"IF(AND($I42=1,$H42>0),VLOOKUP($H42,$A$14:AE$63,12,FALSE),0)","v":0},{"$f":"IF(AND($I42=1,$H42>0),VLOOKUP($H42,$A$14:AF$63,13,FALSE),0)","v":0},"","","",{"$f":"IF(A42<>0,VLOOKUP(A42,Liste!$A$10:$K$159,8,FALSE),\"\")","v":59},133,null,null,null,null,null,null,null,null,null,0,0,0,1000]
[23,{"$f":"IF(A43<>0,VLOOKUP(A43,Liste!$A$10:$D$159,4,FALSE),\"\")","v":"BOUBRED "},0,0,0,0,null,null,0,0,{"$f":"IF(AND($I43=1,$H43>0),VLOOKUP($H43,$A$14:AD$63,11,FALSE),0)","v":0},{"$f":"IF(AND($I43=1,$H43>0),VLOOKUP($H43,$A$14:AE$63,12,FALSE),0)","v":0},{"$f":"IF(AND($I43=1,$H43>0),VLOOKUP($H43,$A$14:AF$63,13,FALSE),0)","v":0},"","","",{"$f":"IF(A43<>0,VLOOKUP(A43,Liste!$A$10:$K$159,8,FALSE),\"\")","v":63},142,null,null,null,null,null,null,null,null,null,0,0,0,1000]
[24,{"$f":"IF(A44<>0,VLOOKUP(A44,Liste!$A$10:$D$159,4,FALSE),\"\")","v":"BRASSEUR Gérard"},0,0,0,0,null,null,0,0,{"$f":"IF(AND($I44=1,$H44>0),VLOOKUP($H44,$A$14:AD$63,11,FALSE),0)","v":0},{"$f":"IF(AND($I44=1,$H44>0),VLOOKUP($H44,$A$14:AE$63,12,FALSE),0)","v":0},{"$f":"IF(AND($I44=1,$H44>0),VLOOKUP($H44,$A$14:AF$63,13,FALSE),0)","v":0},"","","",{"$f":"IF(A44<>0,VLOOKUP(A44,Liste!$A$10:$K$159,8,FALSE),\"\")","v":60},135,null,null,null,null,null,null,null,null,null,0,0,0,1000]
[25,{"$f":"IF(A45<>0,VLOOKUP(A45,Liste!$A$10:$D$159,4,FALSE),\"\")","v":"BRAUD-COLLET G."},0,0,0,0,null,null,0,0,{"$f":"IF(AND($I45=1,$H45>0),VLOOKUP($H45,$A$14:AD$63,11,FALSE),0)","v":0},{"$f":"IF(AND($I45=1,$H45>0),VLOOKUP($H45,$A$14:AE$63,12,FALSE),0)","v":0},{"$f":"IF(AND($I45=1,$H45>0),VLOOKUP($H45,$A$14:AF$63,13,FALSE),0)","v":0},"","","",{"$f":"IF(A45<>0,VLOOKUP(A45,Liste!$A$10:$K$159,8,FALSE),\"\")","v":70},158,null,null,null,null,null,null,null,null,null,0,0,0,1000]
[26,{"$f":"IF(A46<>0,VLOOKUP(A46,Liste!$A$10:$D$159,4,FALSE),\"\")","v":"BRICARD Mar'c"},{"$f":"F46*(K46=1)","v":0},{"$f":"F46*(L46=1)","v":0},{"$f":"F46*(M46=1)","v":0},{"$f":"IF(I46=1,VLOOKUP(A46,$A$14:$AA$163,16+$B$4,0),0)","v":0},null,null,{"$f":"1*(IF(G46>=1,VLOOKUP(A46,$A$14:$AA$163,16+$B$4,0)>0))","v":0},{"$f":"IF(F46>0,F46,0)","v":0},{"$f":"IF(AND($I46=1,$H46>0),VLOOKUP($H46,$A$14:AD$63,11,FALSE),0)","v":0},{"$f":"IF(AND($I46=1,$H46>0),VLOOKUP($H46,$A$14:AE$63,12,FALSE),0)","v":0},{"$f":"IF(AND($I46=1,$H46>0),VLOOKUP($H46,$A$14:AF$63,13,FALSE),0)","v":0},{"$f":"IF(AND(I46>0,K46+L46+M46=0),\"EN ATTENTE\",IF(K46+L46+M46>1,\"ERREUR\",\"\"))","v":""},{"$f":"IF(AND(AC46>3,AD46>$D$10*$O$12),1,\"\")","v":""},{"$f":"IF(I46=1,K46*(K46=1)+L46*2*(L46=1)+M46*3*(M46=1),\"\")","v":""},{"$f":"IF(A46<>0,VLOOKUP(A46,Liste!$A$10:$K$159,8,FALSE),\"\")","v":50},113,null,null,null,null,null,null,null,null,null,{"$f":"(H46+I46)*(J46>0)","v":0},{"$f":"COUNTIF($H$14:$H$163,A46)","v":0},{"$f":"SUMIF($H$14:$H$163,A46,$J$14:$J$163)+(J46*(AC46>0))","v":0},{"$f":"IF(H46>0,H46+0.5*(I46=1),A46*(I46=1))+(1000*(I46<1))","v":1000}]
[27,{"$f":"IF(A47<>0,VLOOKUP(A47,Liste!$A$10:$D$159,4,FALSE),\"\")","v":"BRIOLLE Marthe"},0,0,0,0,null,null,0,0,{"$f":"IF(AND($I47=1,$H47>0),VLOOKUP($H47,$A$14:AD$63,11,FALSE),0)","v":0},{"$f":"IF(AND($I47=1,$H47>0),VLOOKUP($H47,$A$14:AE$63,12,FALSE),0)","v":0},{"$f":"IF(AND($I47=1,$H47>0),VLOOKUP($H47,$A$14:AF$63,13,FALSE),0)","v":0},"","","",{"$f":"IF(A47<>0,VLOOKUP(A47,Liste!$A$10:$K$159,8,FALSE),\"\")","v":60},135,null,null,null,null,null,null,null,null,null,0,0,0,1000]
[28,{"$f":"IF(A48<>0,VLOOKUP(A48,Liste!$A$10:$D$159,4,FALSE),\"\")","v":"BRUCHET Elisabeth"},0,0,0,0,null,null,0,0,{"$f":"IF(AND($I48=1,$H48>0),VLOOKUP($H48,$A$14:AD$63,11,FALSE),0)","v":0},{"$f":"IF(AND($I48=1,$H48>0),VLOOKUP($H48,$A$14:AE$63,12,FALSE),0)","v":0},{"$f":"IF(AND($I48=1,$H48>0),VLOOKUP($H48,$A$14:AF$63,13,FALSE),0)","v":0},"","","",{"$f":"IF(A48<>0,VLOOKUP(A48,Liste!$A$10:$K$159,8,FALSE),\"\")","v":53},119,null,null,null,null,null,null,null,null,null,0,0,0,1000]
[29,{"$f":"IF(A49<>0,VLOOKUP(A49,Liste!$A$10:$D$159,4,FALSE),\"\")","v":"BUKVIC "},0,0,0,0,null,null,0,0,{"$f":"IF(AND($I49=1,$H49>0),VLOOKUP($H49,$A$14:AD$63,11,FALSE),0)","v":0},{"$f":"IF(AND($I49=1,$H49>0),VLOOKUP($H49,$A$14:AE$63,12,FALSE),0)","v":0},{"$f":"IF(AND($I49=1,$H49>0),VLOOKUP($H49,$A$14:AF$63,13,FALSE),0)","v":0},"","","",{"$f":"IF(A49<>0,VLOOKUP(A49,Liste!$A$10:$K$159,8,FALSE),\"\")","v":68},153,null,null,null,null,null,null,null,null,null,0,0,0,1000]
[30,{"$f":"IF(A50<>0,VLOOKUP(A50,Liste!$A$10:$D$159,4,FALSE),\"\")","v":"BURILLE Richard"},0,0,0,0,null,null,0,0,{"$f":"IF(AND($I50=1,$H50>0),VLOOKUP($H50,$A$14:AD$63,11,FALSE),0)","v":0},{"$f":"IF(AND($I50=1,$H50>0),VLOOKUP($H50,$A$14:AE$63,12,FALSE),0)","v":0},{"$f":"IF(AND($I50=1,$H50>0),VLOOKUP($H50,$A$14:AF$63,13,FALSE),0)","v":0},"","","",{"$f":"IF(A50<>0,VLOOKUP(A50,Liste!$A$10:$K$159,8,FALSE),\"\")","v":60},135,null,null,null,null,null,null,null,null,null,0,0,0,1000]
[32,{"$f":"IF(A51<>0,VLOOKUP(A51,Liste!$A$10:$D$159,4,FALSE),\"\")","v":"CARBONE Isabelle"},0,0,0,0,null,null,0,0,{"$f":"IF(AND($I51=1,$H51>0),VLOOKUP($H51,$A$14:AD$63,11,FALSE),0)","v":0},{"$f":"IF(AND($I51=1,$H51>0),VLOOKUP($H51,$A$14:AE$63,12,FALSE),0)","v":0},{"$f":"IF(AND($I51=1,$H51>0),VLOOKUP($H51,$A$14:AF$63,13,FALSE),0)","v":0},"","","",{"$f":"IF(A51<>0,VLOOKUP(A51,Liste!$A$10:$K$159,8,FALSE),\"\")","v":50},113,null,null,null,null,null,null,null,null,null,0,0,0,1000]
[33,{"$f":"IF(A52<>0,VLOOKUP(A52,Liste!$A$10:$D$159,4,FALSE),\"\")","v":"CASTAN Max"},0,0,0,0,null,null,0,0,{"$f":"IF(AND($I52=1,$H52>0),VLOOKUP($H52,$A$14:AD$63,11,FALSE),0)","v":0},{"$f":"IF(AND($I52=1,$H52>0),VLOOKUP($H52,$A$14:AE$63,12,FALSE),0)","v":0},{"$f":"IF(AND($I52=1,$H52>0),VLOOKUP($H52,$A$14:AF$63,13,FALSE),0)","v":0},"","","",{"$f":"IF(A52<>0,VLOOKUP(A52,Liste!$A$10:$K$159,8,FALSE),\"\")","v":85},192,null,null,null,null,null,null,null,null,null,0,0,0,1000]
[34,{"$f":"IF(A53<>0,VLOOKUP(A53,Liste!$A$10:$D$159,4,FALSE),\"\")","v":"CAVALIERI Alain"},0,0,0,0,null,null,0,0,{"$f":"IF(AND($I53=1,$H53>0),VLOOKUP($H53,$A$14:AD$63,11,FALSE),0)","v":0},{"$f":"IF(AND($I53=1,$H53>0),VLOOKUP($H53,$A$14:AE$63,12,FALSE),0)","v":0},{"$f":"IF(AND($I53=1,$H53>0),VLOOKUP($H53,$A$14:AF$63,13,FALSE),0)","v":0},"","","",{"$f":"IF(A53<>0,VLOOKUP(A53,Liste!$A$10:$K$159,8,FALSE),\"\")","v":80},180,null,null,null,null,null,null,null,null,null,0,0,0,1000]
[35,{"$f":"IF(A54<>0,VLOOKUP(A54,Liste!$A$10:$D$159,4,FALSE),\"\")","v":"CAVALIERI Christine"},0,0,0,0,null,null,0,0,{"$f":"IF(AND($I54=1,$H54>0),VLOOKUP($H54,$A$14:AD$63,11,FALSE),0)","v":0},{"$f":"IF(AND($I54=1,$H54>0),VLOOKUP($H54,$A$14:AE$63,12,FALSE),0)","v":0},{"$f":"IF(AND($I54=1,$H54>0),VLOOKUP($H54,$A$14:AF$63,13,FALSE),0)","v":0},"","","",{"$f":"IF(A54<>0,VLOOKUP(A54,Liste!$A$10:$K$159,8,FALSE),\"\")","v":60},135,null,null,null,null,null,null,null,null,null,0,0,0,1000]
[36,{"$f":"IF(A55<>0,VLOOKUP(A55,Liste!$A$10:$D$159,4,FALSE),\"\")","v":"CIABATTINI Dante"},0,0,0,0,null,null,0,0,{"$f":"IF(AND($I55=1,$H55>0),VLOOKUP($H55,$A$14:AD$63,11,FALSE),0)","v":0},{"$f":"IF(AND($I55=1,$H55>0),VLOOKUP($H55,$A$14:AE$63,12,FALSE),0)","v":0},{"$f":"IF(AND($I55=1,$H55>0),VLOOKUP($H55,$A$14:AF$63,13,FALSE),0)","v":0},"","","",{"$f":"IF(A55<>0,VLOOKUP(A55,Liste!$A$10:$K$159,8,FALSE),\"\")","v":70},158,null,null,null,null,null,null,null,null,null,0,0,0,1000]
[37,{"$f":"IF(A56<>0,VLOOKUP(A56,Liste!$A$10:$D$159,4,FALSE),\"\")","v":"CIULLI - DREANO Jeanine"},0,0,0,0,null,null,0,0,{"$f":"IF(AND($I56=1,$H56>0),VLOOKUP($H56,$A$14:AD$63,11,FALSE),0)","v":0},{"$f":"IF(AND($I56=1,$H56>0),VLOOKUP($H56,$A$14:AE$63,12,FALSE),0)","v":0},{"$f":"IF(AND($I56=1,$H56>0),VLOOKUP($H56,$A$14:AF$63,13,FALSE),0)","v":0},"","","",{"$f":"IF(A56<>0,VLOOKUP(A56,Liste!$A$10:$K$159,8,FALSE),\"\")","v":50},113,null,null,null,null,null,null,null,null,null,0,0,0,1000]
[38,{"$f":"IF(A57<>0,VLOOKUP(A57,Liste!$A$10:$D$159,4,FALSE),\"\")","v":"COLOM "},0,0,0,0,null,null,0,0,{"$f":"IF(AND($I57=1,$H57>0),VLOOKUP($H57,$A$14:AD$63,11,FALSE),0)","v":0},{"$f":"IF(AND($I57=1,$H57>0),VLOOKUP($H57,$A$14:AE$63,12,FALSE),0)","v":0},{"$f":"IF(AND($I57=1,$H57>0),VLOOKUP($H57,$A$14:AF$63,13,FALSE),0)","v":0},"","","",{"$f":"IF(A57<>0,VLOOKUP(A57,Liste!$A$10:$K$159,8,FALSE),\"\")","v":45},101,null,null,null,null,null,null,null,null,null,0,0,0,1000]
[39,{"$f":"IF(A58<>0,VLOOKUP(A58,Liste!$A$10:$D$159,4,FALSE),\"\")","v":"COLOMBANI Georges"},0,0,0,0,null,null,0,0,{"$f":"IF(AND($I58=1,$H58>0),VLOOKUP($H58,$A$14:AD$63,11,FALSE),0)","v":0},{"$f":"IF(AND($I58=1,$H58>0),VLOOKUP($H58,$A$14:AE$63,12,FALSE),0)","v":0},{"$f":"IF(AND($I58=1,$H58>0),VLOOKUP($H58,$A$14:AF$63,13,FALSE),0)","v":0},"","","",{"$f":"IF(A58<>0,VLOOKUP(A58,Liste!$A$10:$K$159,8,FALSE),\"\")","v":50},113,null,null,null,null,null,null,null,null,null,0,0,0,1000]
[40,{"$f":"IF(A59<>0,VLOOKUP(A59,Liste!$A$10:$D$159,4,FALSE),\"\")","v":"COLONNA Michel"},0,0,0,0,null,null,0,0,{"$f":"IF(AND($I59=1,$H59>0),VLOOKUP($H59,$A$14:AD$63,11,FALSE),0)","v":0},{"$f":"IF(AND($I59=1,$H59>0),VLOOKUP($H59,$A$14:AE$63,12,FALSE),0)","v":0},{"$f":"IF(AND($I59=1,$H59>0),VLOOKUP($H59,$A$14:AF$63,13,FALSE),0)","v":0},"","","",{"$f":"IF(A59<>0,VLOOKUP(A59,Liste!$A$10:$K$159,8,FALSE),\"\")","v":60},135,null,null,null,null,null,null,null,null,null,0,0,0,1000]
[42,{"$f":"IF(A60<>0,VLOOKUP(A60,Liste!$A$10:$D$159,4,FALSE),\"\")","v":"DANAUD Jean René"},0,0,0,0,null,null,0,0,{"$f":"IF(AND($I60=1,$H60>0),VLOOKUP($H60,$A$14:AD$63,11,FALSE),0)","v":0},{"$f":"IF(AND($I60=1,$H60>0),VLOOKUP($H60,$A$14:AE$63,12,FALSE),0)","v":0},{"$f":"IF(AND($I60=1,$H60>0),VLOOKUP($H60,$A$14:AF$63,13,FALSE),0)","v":0},"","","",{"$f":"IF(A60<>0,VLOOKUP(A60,Liste!$A$10:$K$159,8,FALSE),\"\")","v":50},113,null,null,null,null,null,null,null,null,null,0,0,0,1000]
[43,{"$f":"IF(A61<>0,VLOOKUP(A61,Liste!$A$10:$D$159,4,FALSE),\"\")","v":"DAUGA Cédric"},0,0,0,0,null,null,0,0,{"$f":"IF(AND($I61=1,$H61>0),VLOOKUP($H61,$A$14:AD$63,11,FALSE),0)","v":0},{"$f":"IF(AND($I61=1,$H61>0),VLOOKUP($H61,$A$14:AE$63,12,FALSE),0)","v":0},{"$f":"IF(AND($I61=1,$H61>0),VLOOKUP($H61,$A$14:AF$63,13,FALSE),0)","v":0},"","","",{"$f":"IF(A61<>0,VLOOKUP(A61,Liste!$A$10:$K$159,8,FALSE),\"\")","v":50},113,null,null,null,null,null,null,null,null,null,0,0,0,1000]
[44,{"$f":"IF(A62<>0,VLOOKUP(A62,Liste!$A$10:$D$159,4,FALSE),\"\")","v":"DE LAPRADE Yvette"},0,0,0,0,null,null,0,0,{"$f":"IF(AND($I62=1,$H62>0),VLOOKUP($H62,$A$14:AD$63,11,FALSE),0)","v":0},{"$f":"IF(AND($I62=1,$H62>0),VLOOKUP($H62,$A$14:AE$63,12,FALSE),0)","v":0},{"$f":"IF(AND($I62=1,$H62>0),VLOOKUP($H62,$A$14:AF$63,13,FALSE),0)","v":0},"","","",{"$f":"IF(A62<>0,VLOOKUP(A62,Liste!$A$10:$K$159,8,FALSE),\"\")","v":55},124,null,null,null,null,null,null,null,null,null,0,0,0,1000]
[45,{"$f":"IF(A63<>0,VLOOKUP(A63,Liste!$A$10:$D$159,4,FALSE),\"\")","v":"DENEUX Pierre"},0,0,0,0,null,null,0,0,{"$f":"IF(AND($I63=1,$H63>0),VLOOKUP($H63,$A$14:AD$63,11,FALSE),0)","v":0},{"$f":"IF(AND($I63=1,$H63>0),VLOOKUP($H63,$A$14:AE$63,12,FALSE),0)","v":0},{"$f":"IF(AND($I63=1,$H63>0),VLOOKUP($H63,$A$14:AF$63,13,FALSE),0)","v":0},"","","",{"$f":"IF(A63<>0,VLOOKUP(A63,Liste!$A$10:$K$159,8,FALSE),\"\")","v":60},135,null,null,null,null,null,null,null,null,null,0,0,0,1000]
[46,{"$f":"IF(A64<>0,VLOOKUP(A64,Liste!$A$10:$D$159,4,FALSE),\"\")","v":"DENIS Jacques"},0,0,0,0,null,null,0,0,{"$f":"IF(AND($I64=1,$H64>0),VLOOKUP($H64,$A$14:AD$63,11,FALSE),0)","v":0},{"$f":"IF(AND($I64=1,$H64>0),VLOOKUP($H64,$A$14:AE$63,12,FALSE),0)","v":0},{"$f":"IF(AND($I64=1,$H64>0),VLOOKUP($H64,$A$14:AF$63,13,FALSE),0)","v":0},"","","",{"$f":"IF(A64<>0,VLOOKUP(A64,Liste!$A$10:$K$159,8,FALSE),\"\")","v":55},124,null,null,null,null,null,null,null,null,null,0,0,0,1000]
[47,{"$f":"IF(A65<>0,VLOOKUP(A65,Liste!$A$10:$D$159,4,FALSE),\"\")","v":"DI JORIO Brigitte"},0,0,0,0,null,null,0,0,{"$f":"IF(AND($I65=1,$H65>0),VLOOKUP($H65,$A$14:AD$63,11,FALSE),0)","v":0},{"$f":"IF(AND($I65=1,$H65>0),VLOOKUP($H65,$A$14:AE$63,12,FALSE),0)","v":0},{"$f":"IF(AND($I65=1,$H65>0),VLOOKUP($H65,$A$14:AF$63,13,FALSE),0)","v":0},"","","",{"$f":"IF(A65<>0,VLOOKUP(A65,Liste!$A$10:$K$159,8,FALSE),\"\")","v":60},135,null,null,null,null,null,null,null,null,null,0,0,0,1000]
[48,{"$f":"IF(A66<>0,VLOOKUP(A66,Liste!$A$10:$D$159,4,FALSE),\"\")","v":"DI JORIO Marcel"},0,0,0,0,null,null,0,0,{"$f":"IF(AND($I66=1,$H66>0),VLOOKUP($H66,$A$14:AD$63,11,FALSE),0)","v":0},{"$f":"IF(AND($I66=1,$H66>0),VLOOKUP($H66,$A$14:AE$63,12,FALSE),0)","v":0},{"$f":"IF(AND($I66=1,$H66>0),VLOOKUP($H66,$A$14:AF$63,13,FALSE),0)","v":0},"","","",{"$f":"IF(A66<>0,VLOOKUP(A66,Liste!$A$10:$K$159,8,FALSE),\"\")","v":61},137,null,null,null,null,null,null,null,null,null,0,0,0,1000]
[49,{"$f":"IF(A67<>0,VLOOKUP(A67,Liste!$A$10:$D$159,4,FALSE),\"\")","v":"DI MEGLIO Laurent"},0,0,0,0,null,null,0,0,{"$f":"IF(AND($I67=1,$H67>0),VLOOKUP($H67,$A$14:AD$63,11,FALSE),0)","v":0},{"$f":"IF(AND($I67=1,$H67>0),VLOOKUP($H67,$A$14:AE$63,12,FALSE),0)","v":0},{"$f":"IF(AND($I67=1,$H67>0),VLOOKUP($H67,$A$14:AF$63,13,FALSE),0)","v":0},"","","",{"$f":"IF(A67<>0,VLOOKUP(A67,Liste!$A$10:$K$159,8,FALSE),\"\")","v":45},101,null,null,null,null,null,null,null,null,null,0,0,0,1000]
[50,{"$f":"IF(A68<>0,VLOOKUP(A68,Liste!$A$10:$D$159,4,FALSE),\"\")","v":"DRAGOTTA Michel"},0,0,0,0,null,null,0,0,{"$f":"IF(AND($I68=1,$H68>0),VLOOKUP($H68,$A$14:AD$63,11,FALSE),0)","v":0},{"$f":"IF(AND($I68=1,$H68>0),VLOOKUP($H68,$A$14:AE$63,12,FALSE),0)","v":0},{"$f":"IF(AND($I68=1,$H68>0),VLOOKUP($H68,$A$14:AF$63,13,FALSE),0)","v":0},"","","",{"$f":"IF(A68<>0,VLOOKUP(A68,Liste!$A$10:$K$159,8,FALSE),\"\")","v":50},113,null,null,null,null,null,null,null,null,null,0,0,0,1000]
[51,{"$f":"IF(A69<>0,VLOOKUP(A69,Liste!$A$10:$D$159,4,FALSE),\"\")","v":"DUBOURG Pierre"},0,0,0,0,null,null,0,0,{"$f":"IF(AND($I69=1,$H69>0),VLOOKUP($H69,$A$14:AD$63,11,FALSE),0)","v":0},{"$f":"IF(AND($I69=1,$H69>0),VLOOKUP($H69,$A$14:AE$63,12,FALSE),0)","v":0},{"$f":"IF(AND($I69=1,$H69>0),VLOOKUP($H69,$A$14:AF$63,13,FALSE),0)","v":0},"","","",{"$f":"IF(A69<>0,VLOOKUP(A69,Liste!$A$10:$K$159,8,FALSE),\"\")","v":60},135,null,null,null,null,null,null,null,null,null,0,0,0,1000]
[52,{"$f":"IF(A70<>0,VLOOKUP(A70,Liste!$A$10:$D$159,4,FALSE),\"\")","v":"FIGUERAS Annie"},0,0,0,0,null,null,0,0,{"$f":"IF(AND($I70=1,$H70>0),VLOOKUP($H70,$A$14:AD$63,11,FALSE),0)","v":0},{"$f":"IF(AND($I70=1,$H70>0),VLOOKUP($H70,$A$14:AE$63,12,FALSE),0)","v":0},{"$f":"IF(AND($I70=1,$H70>0),VLOOKUP($H70,$A$14:AF$63,13,FALSE),0)","v":0},"","","",{"$f":"IF(A70<>0,VLOOKUP(A70,Liste!$A$10:$K$159,8,FALSE),\"\")","v":70},158,null,null,null,null,null,null,null,null,null,0,0,0,1000]
[53,{"$f":"IF(A71<>0,VLOOKUP(A71,Liste!$A$10:$D$159,4,FALSE),\"\")","v":"FONTANA Georges"},0,0,0,0,null,null,0,0,{"$f":"IF(AND($I71=1,$H71>0),VLOOKUP($H71,$A$14:AD$63,11,FALSE),0)","v":0},{"$f":"IF(AND($I71=1,$H71>0),VLOOKUP($H71,$A$14:AE$63,12,FALSE),0)","v":0},{"$f":"IF(AND($I71=1,$H71>0),VLOOKUP($H71,$A$14:AF$63,13,FALSE),0)","v":0},"","","",{"$f":"IF(A71<>0,VLOOKUP(A71,Liste!$A$10:$K$159,8,FALSE),\"\")","v":60},135,null,null,null,null,null,null,null,null,null,0,0,0,1000]
[54,{"$f":"IF(A72<>0,VLOOKUP(A72,Liste!$A$10:$D$159,4,FALSE),\"\")","v":"FORGET Valéry"},0,0,0,0,null,null,0,0,{"$f":"IF(AND($I72=1,$H72>0),VLOOKUP($H72,$A$14:AD$63,11,FALSE),0)","v":0},{"$f":"IF(AND($I72=1,$H72>0),VLOOKUP($H72,$A$14:AE$63,12,FALSE),0)","v":0},{"$f":"IF(AND($I72=1,$H72>0),VLOOKUP($H72,$A$14:AF$63,13,FALSE),0)","v":0},"","","",{"$f":"IF(A72<>0,VLOOKUP(A72,Liste!$A$10:$K$159,8,FALSE),\"\")","v":65},146,null,null,null,null,null,null,null,null,null,0,0,0,1000]
[55,{"$f":"IF(A73<>0,VLOOKUP(A73,Liste!$A$10:$D$159,4,FALSE),\"\")","v":"FOURNIER Nicole"},0,0,0,0,null,null,0,0,{"$f":"IF(AND($I73=1,$H73>0),VLOOKUP($H73,$A$14:AD$63,11,FALSE),0)","v":0},{"$f":"IF(AND($I73=1,$H73>0),VLOOKUP($H73,$A$14:AE$63,12,FALSE),0)","v":0},{"$f":"IF(AND($I73=1,$H73>0),VLOOKUP($H73,$A$14:AF$63,13,FALSE),0)","v":0},"","","",{"$f":"IF(A73<>0,VLOOKUP(A73,Liste!$A$10:$K$159,8,FALSE),\"\")","v":51},115,null,null,null,null,null,null,null,null,null,0,0,0,1000]
[56,{"$f":"IF(A74<>0,VLOOKUP(A74,Liste!$A$10:$D$159,4,FALSE),\"\")","v":"GARCIA Christophe"},0,0,0,0,null,null,0,0,{"$f":"IF(AND($I74=1,$H74>0),VLOOKUP($H74,$A$14:AD$63,11,FALSE),0)","v":0},{"$f":"IF(AND($I74=1,$H74>0),VLOOKUP($H74,$A$14:AE$63,12,FALSE),0)","v":0},{"$f":"IF(AND($I74=1,$H74>0),VLOOKUP($H74,$A$14:AF$63,13,FALSE),0)","v":0},"","","",{"$f":"IF(A74<>0,VLOOKUP(A74,Liste!$A$10:$K$159,8,FALSE),\"\")","v":50},113,null,null,null,null,null,null,null,null,null,0,0,0,1000]
[57,{"$f":"IF(A75<>0,VLOOKUP(A75,Liste!$A$10:$D$159,4,FALSE),\"\")","v":"GARRELON Jacques"},0,0,0,0,null,null,0,0,{"$f":"IF(AND($I75=1,$H75>0),VLOOKUP($H75,$A$14:AD$63,11,FALSE),0)","v":0},{"$f":"IF(AND($I75=1,$H75>0),VLOOKUP($H75,$A$14:AE$63,12,FALSE),0)","v":0},{"$f":"IF(AND($I75=1,$H75>0),VLOOKUP($H75,$A$14:AF$63,13,FALSE),0)","v":0},"","","",{"$f":"IF(A75<>0,VLOOKUP(A75,Liste!$A$10:$K$159,8,FALSE),\"\")","v":70},158,null,null,null,null,null,null,null,null,null,0,0,0,1000]
[58,{"$f":"IF(A76<>0,VLOOKUP(A76,Liste!$A$10:$D$159,4,FALSE),\"\")","v":"GAUNET Mireille"},0,0,0,0,null,null,0,0,{"$f":"IF(AND($I76=1,$H76>0),VLOOKUP($H76,$A$14:AD$63,11,FALSE),0)","v":0},{"$f":"IF(AND($I76=1,$H76>0),VLOOKUP($H76,$A$14:AE$63,12,FALSE),0)","v":0},{"$f":"IF(AND($I76=1,$H76>0),VLOOKUP($H76,$A$14:AF$63,13,FALSE),0)","v":0},"","","",{"$f":"IF(A76<>0,VLOOKUP(A76,Liste!$A$10:$K$159,8,FALSE),\"\")","v":60},135,null,null,null,null,null,null,null,null,null,0,0,0,1000]
[59,{"$f":"IF(A77<>0,VLOOKUP(A77,Liste!$A$10:$D$159,4,FALSE),\"\")","v":"GERTOSIO"},0,0,0,0,null,null,0,0,{"$f":"IF(AND($I77=1,$H77>0),VLOOKUP($H77,$A$14:AD$63,11,FALSE),0)","v":0},{"$f":"IF(AND($I77=1,$H77>0),VLOOKUP($H77,$A$14:AE$63,12,FALSE),0)","v":0},{"$f":"IF(AND($I77=1,$H77>0),VLOOKUP($H77,$A$14:AF$63,13,FALSE),0)","v":0},"","","",{"$f":"IF(A77<>0,VLOOKUP(A77,Liste!$A$10:$K$159,8,FALSE),\"\")","v":62},140,null,null,null,null,null,null,null,null,null,0,0,0,1000]
[60,{"$f":"IF(A78<>0,VLOOKUP(A78,Liste!$A$10:$D$159,4,FALSE),\"\")","v":"GERVASI Jacqueline"},{"$f":"F78*(K78=1)","v":0},{"$f":"F78*(L78=1)","v":0},{"$f":"F78*(M78=1)","v":0},{"$f":"IF(I78=1,VLOOKUP(A78,$A$14:$AA$163,16+$B$4,0),0)","v":0},null,null,{"$f":"1*(IF(G78>=1,VLOOKUP(A78,$A$14:$AA$163,16+$B$4,0)>0))","v":0},{"$f":"IF(F78>0,F78,0)","v":0},{"$f":"IF(AND($I78=1,$H78>0),VLOOKUP($H78,$A$14:AD$63,11,FALSE),0)","v":0},{"$f":"IF(AND($I78=1,$H78>0),VLOOKUP($H78,$A$14:AE$63,12,FALSE),0)","v":0},{"$f":"IF(AND($I78=1,$H78>0),VLOOKUP($H78,$A$14:AF$63,13,FALSE),0)","v":0},{"$f":"IF(AND(I78>0,K78+L78+M78=0),\"EN ATTENTE\",IF(K78+L78+M78>1,\"ERREUR\",\"\"))","v":""},{"$f":"IF(AND(AC78>3,AD78>$D$10*$O$12),1,\"\")","v":""},{"$f":"IF(I78=1,K78*(K78=1)+L78*2*(L78=1)+M78*3*(M78=1),\"\")","v":""},{"$f":"IF(A78<>0,VLOOKUP(A78,Liste!$A$10:$K$159,8,FALSE),\"\")","v":83},187,null,null,null,null,null,null,null,null,null,{"$f":"(H78+I78)*(J78>0)","v":0},{"$f":"COUNTIF($H$14:$H$163,A78)","v":0},{"$f":"SUMIF($H$14:$H$163,A78,$J$14:$J$163)+(J78*(AC78>0))","v":0},{"$f":"IF(H78>0,H78+0.5*(I78=1),A78*(I78=1))+(1000*(I78<1))","v":1000}]
[61,{"$f":"IF(A79<>0,VLOOKUP(A79,Liste!$A$10:$D$159,4,FALSE),\"\")","v":"GINESTOUS Maryvonne"},0,0,0,0,null,null,0,0,{"$f":"IF(AND($I79=1,$H79>0),VLOOKUP($H79,$A$14:AD$63,11,FALSE),0)","v":0},{"$f":"IF(AND($I79=1,$H79>0),VLOOKUP($H79,$A$14:AE$63,12,FALSE),0)","v":0},{"$f":"IF(AND($I79=1,$H79>0),VLOOKUP($H79,$A$14:AF$63,13,FALSE),0)","v":0},"","","",{"$f":"IF(A79<>0,VLOOKUP(A79,Liste!$A$10:$K$159,8,FALSE),\"\")","v":58},131,null,null,null,null,null,null,null,null,null,0,0,0,1000]
[62,{"$f":"IF(A80<>0,VLOOKUP(A80,Liste!$A$10:$D$159,4,FALSE),\"\")","v":"GIRARDOT Michèle"},0,0,0,0,null,null,0,0,{"$f":"IF(AND($I80=1,$H80>0),VLOOKUP($H80,$A$14:AD$63,11,FALSE),0)","v":0},{"$f":"IF(AND($I80=1,$H80>0),VLOOKUP($H80,$A$14:AE$63,12,FALSE),0)","v":0},{"$f":"IF(AND($I80=1,$H80>0),VLOOKUP($H80,$A$14:AF$63,13,FALSE),0)","v":0},"","","",{"$f":"IF(A80<>0,VLOOKUP(A80,Liste!$A$10:$K$159,8,FALSE),\"\")","v":55},124,null,null,null,null,null,null,null,null,null,0,0,0,1000]
[63,{"$f":"IF(A81<>0,VLOOKUP(A81,Liste!$A$10:$D$159,4,FALSE),\"\")","v":"GIRAUDEAU Marcel"},0,0,0,0,null,null,0,0,{"$f":"IF(AND($I81=1,$H81>0),VLOOKUP($H81,$A$14:AD$63,11,FALSE),0)","v":0},{"$f":"IF(AND($I81=1,$H81>0),VLOOKUP($H81,$A$14:AE$63,12,FALSE),0)","v":0},{"$f":"IF(AND($I81=1,$H81>0),VLOOKUP($H81,$A$14:AF$63,13,FALSE),0)","v":0},"","","",{"$f":"IF(A81<>0,VLOOKUP(A81,Liste!$A$10:$K$159,8,FALSE),\"\")","v":63},142,null,null,null,null,null,null,null,null,null,0,0,0,1000]
[64,{"$f":"IF(A82<>0,VLOOKUP(A82,Liste!$A$10:$D$159,4,FALSE),\"\")","v":"GLADIEU Marc"},0,0,0,0,null,null,0,0,{"$f":"IF(AND($I82=1,$H82>0),VLOOKUP($H82,$A$14:AD$63,11,FALSE),0)","v":0},{"$f":"IF(AND($I82=1,$H82>0),VLOOKUP($H82,$A$14:AE$63,12,FALSE),0)","v":0},{"$f":"IF(AND($I82=1,$H82>0),VLOOKUP($H82,$A$14:AF$63,13,FALSE),0)","v":0},"","","",{"$f":"IF(A82<>0,VLOOKUP(A82,Liste!$A$10:$K$159,8,FALSE),\"\")","v":65},146,null,null,null,null,null,null,null,null,null,0,0,0,1000]
[65,{"$f":"IF(A83<>0,VLOOKUP(A83,Liste!$A$10:$D$159,4,FALSE),\"\")","v":"GOURRIER - JAFFELIN "},0,0,0,0,null,null,0,0,{"$f":"IF(AND($I83=1,$H83>0),VLOOKUP($H83,$A$14:AD$63,11,FALSE),0)","v":0},{"$f":"IF(AND($I83=1,$H83>0),VLOOKUP($H83,$A$14:AE$63,12,FALSE),0)","v":0},{"$f":"IF(AND($I83=1,$H83>0),VLOOKUP($H83,$A$14:AF$63,13,FALSE),0)","v":0},"","","",{"$f":"IF(A83<>0,VLOOKUP(A83,Liste!$A$10:$K$159,8,FALSE),\"\")","v":70},158,null,null,null,null,null,null,null,null,null,0,0,0,1000]
[66,{"$f":"IF(A84<>0,VLOOKUP(A84,Liste!$A$10:$D$159,4,FALSE),\"\")","v":"GRAO Guy"},0,0,0,0,null,null,0,0,{"$f":"IF(AND($I84=1,$H84>0),VLOOKUP($H84,$A$14:AD$63,11,FALSE),0)","v":0},{"$f":"IF(AND($I84=1,$H84>0),VLOOKUP($H84,$A$14:AE$63,12,FALSE),0)","v":0},{"$f":"IF(AND($I84=1,$H84>0),VLOOKUP($H84,$A$14:AF$63,13,FALSE),0)","v":0},"","","",{"$f":"IF(A84<>0,VLOOKUP(A84,Liste!$A$10:$K$159,8,FALSE),\"\")","v":72},162,null,null,null,null,null,null,null,null,null,0,0,0,1000]
[67,{"$f":"IF(A85<>0,VLOOKUP(A85,Liste!$A$10:$D$159,4,FALSE),\"\")","v":"GROLLEAU Chantal"},0,0,0,0,null,null,0,0,{"$f":"IF(AND($I85=1,$H85>0),VLOOKUP($H85,$A$14:AD$63,11,FALSE),0)","v":0},{"$f":"IF(AND($I85=1,$H85>0),VLOOKUP($H85,$A$14:AE$63,12,FALSE),0)","v":0},{"$f":"IF(AND($I85=1,$H85>0),VLOOKUP($H85,$A$14:AF$63,13,FALSE),0)","v":0},"","","",{"$f":"IF(A85<>0,VLOOKUP(A85,Liste!$A$10:$K$159,8,FALSE),\"\")","v":66},149,null,null,null,null,null,null,null,null,null,0,0,0,1000]
[68,{"$f":"IF(A86<>0,VLOOKUP(A86,Liste!$A$10:$D$159,4,FALSE),\"\")","v":"HALADO "},0,0,0,0,null,null,0,0,{"$f":"IF(AND($I86=1,$H86>0),VLOOKUP($H86,$A$14:AD$63,11,FALSE),0)","v":0},{"$f":"IF(AND($I86=1,$H86>0),VLOOKUP($H86,$A$14:AE$63,12,FALSE),0)","v":0},{"$f":"IF(AND($I86=1,$H86>0),VLOOKUP($H86,$A$14:AF$63,13,FALSE),0)","v":0},"","","",{"$f":"IF(A86<>0,VLOOKUP(A86,Liste!$A$10:$K$159,8,FALSE),\"\")","v":55},124,null,null,null,null,null,null,null,null,null,0,0,0,1000]
[69,{"$f":"IF(A87<>0,VLOOKUP(A87,Liste!$A$10:$D$159,4,FALSE),\"\")","v":"HONNORAT Georges"},0,0,0,0,null,null,0,0,{"$f":"IF(AND($I87=1,$H87>0),VLOOKUP($H87,$A$14:AD$63,11,FALSE),0)","v":0},{"$f":"IF(AND($I87=1,$H87>0),VLOOKUP($H87,$A$14:AE$63,12,FALSE),0)","v":0},{"$f":"IF(AND($I87=1,$H87>0),VLOOKUP($H87,$A$14:AF$63,13,FALSE),0)","v":0},"","","",{"$f":"IF(A87<>0,VLOOKUP(A87,Liste!$A$10:$K$159,8,FALSE),\"\")","v":56},126,null,null,null,null,null,null,null,null,null,0,0,0,1000]
[70,{"$f":"IF(A88<>0,VLOOKUP(A88,Liste!$A$10:$D$159,4,FALSE),\"\")","v":"IMGRAM Simone"},0,0,0,0,null,null,0,0,{"$f":"IF(AND($I88=1,$H88>0),VLOOKUP($H88,$A$14:AD$63,11,FALSE),0)","v":0},{"$f":"IF(AND($I88=1,$H88>0),VLOOKUP($H88,$A$14:AE$63,12,FALSE),0)","v":0},{"$f":"IF(AND($I88=1,$H88>0),VLOOKUP($H88,$A$14:AF$63,13,FALSE),0)","v":0},"","","",{"$f":"IF(A88<>0,VLOOKUP(A88,Liste!$A$10:$K$159,8,FALSE),\"\")","v":60},135,null,null,null,null,null,null,null,null,null,0,0,0,1000]
[71,{"$f":"IF(A89<>0,VLOOKUP(A89,Liste!$A$10:$D$159,4,FALSE),\"\")","v":"IRACANE Rosalie"},0,0,0,0,null,null,0,0,{"$f":"IF(AND($I89=1,$H89>0),VLOOKUP($H89,$A$14:AD$63,11,FALSE),0)","v":0},{"$f":"IF(AND($I89=1,$H89>0),VLOOKUP($H89,$A$14:AE$63,12,FALSE),0)","v":0},{"$f":"IF(AND($I89=1,$H89>0),VLOOKUP($H89,$A$14:AF$63,13,FALSE),0)","v":0},"","","",{"$f":"IF(A89<>0,VLOOKUP(A89,Liste!$A$10:$K$159,8,FALSE),\"\")","v":70},null,125,null,null,null,null,null,null,null,null,0,0,0,1000]
[72,{"$f":"IF(A90<>0,VLOOKUP(A90,Liste!$A$10:$D$159,4,FALSE),\"\")","v":"JACQUET Sylvie"},0,0,0,0,null,null,0,0,{"$f":"IF(AND($I90=1,$H90>0),VLOOKUP($H90,$A$14:AD$63,11,FALSE),0)","v":0},{"$f":"IF(AND($I90=1,$H90>0),VLOOKUP($H90,$A$14:AE$63,12,FALSE),0)","v":0},{"$f":"IF(AND($I90=1,$H90>0),VLOOKUP($H90,$A$14:AF$63,13,FALSE),0)","v":0},"","","",{"$f":"IF(A90<>0,VLOOKUP(A90,Liste!$A$10:$K$159,8,FALSE),\"\")","v":71},null,128,null,null,null,null,null,null,null,null,0,0,0,1000]
[73,{"$f":"IF(A91<>0,VLOOKUP(A91,Liste!$A$10:$D$159,4,FALSE),\"\")","v":"JAYET Christian"},0,0,0,0,null,null,0,0,{"$f":"IF(AND($I91=1,$H91>0),VLOOKUP($H91,$A$14:AD$63,11,FALSE),0)","v":0},{"$f":"IF(AND($I91=1,$H91>0),VLOOKUP($H91,$A$14:AE$63,12,FALSE),0)","v":0},{"$f":"IF(AND($I91=1,$H91>0),VLOOKUP($H91,$A$14:AF$63,13,FALSE),0)","v":0},"","","",{"$f":"IF(A91<>0,VLOOKUP(A91,Liste!$A$10:$K$159,8,FALSE),\"\")","v":62},null,111,null,null,null,null,null,null,null,null,0,0,0,1000]
[74,{"$f":"IF(A92<>0,VLOOKUP(A92,Liste!$A$10:$D$159,4,FALSE),\"\")","v":"JOB "},0,0,0,0,null,null,0,0,{"$f":"IF(AND($I92=1,$H92>0),VLOOKUP($H92,$A$14:AD$63,11,FALSE),0)","v":0},{"$f":"IF(AND($I92=1,$H92>0),VLOOKUP($H92,$A$14:AE$63,12,FALSE),0)","v":0},{"$f":"IF(AND($I92=1,$H92>0),VLOOKUP($H92,$A$14:AF$63,13,FALSE),0)","v":0},"","","",{"$f":"IF(A92<>0,VLOOKUP(A92,Liste!$A$10:$K$159,8,FALSE),\"\")","v":60},null,108,null,null,null,null,null,null,null,null,0,0,0,1000]
[75,{"$f":"IF(A93<>0,VLOOKUP(A93,Liste!$A$10:$D$159,4,FALSE),\"\")","v":"JOFFE Françoise"},0,0,0,0,null,null,0,0,{"$f":"IF(AND($I93=1,$H93>0),VLOOKUP($H93,$A$14:AD$63,11,FALSE),0)","v":0},{"$f":"IF(AND($I93=1,$H93>0),VLOOKUP($H93,$A$14:AE$63,12,FALSE),0)","v":0},{"$f":"IF(AND($I93=1,$H93>0),VLOOKUP($H93,$A$14:AF$63,13,FALSE),0)","v":0},"","","",{"$f":"IF(A93<>0,VLOOKUP(A93,Liste!$A$10:$K$159,8,FALSE),\"\")","v":80},null,144,null,null,null,null,null,null,null,null,0,0,0,1000]
[76,{"$f":"IF(A94<>0,VLOOKUP(A94,Liste!$A$10:$D$159,4,FALSE),\"\")","v":"KARNAC Marcel"},0,0,0,0,null,null,0,0,{"$f":"IF(AND($I94=1,$H94>0),VLOOKUP($H94,$A$14:AD$63,11,FALSE),0)","v":0},{"$f":"IF(AND($I94=1,$H94>0),VLOOKUP($H94,$A$14:AE$63,12,FALSE),0)","v":0},{"$f":"IF(AND($I94=1,$H94>0),VLOOKUP($H94,$A$14:AF$63,13,FALSE),0)","v":0},"","","",{"$f":"IF(A94<>0,VLOOKUP(A94,Liste!$A$10:$K$159,8,FALSE),\"\")","v":60},null,108,null,null,null,null,null,null,null,null,0,0,0,1000]
[77,{"$f":"IF(A95<>0,VLOOKUP(A95,Liste!$A$10:$D$159,4,FALSE),\"\")","v":"LAGRANGE Pierrette"},0,0,0,0,null,null,0,0,{"$f":"IF(AND($I95=1,$H95>0),VLOOKUP($H95,$A$14:AD$63,11,FALSE),0)","v":0},{"$f":"IF(AND($I95=1,$H95>0),VLOOKUP($H95,$A$14:AE$63,12,FALSE),0)","v":0},{"$f":"IF(AND($I95=1,$H95>0),VLOOKUP($H95,$A$14:AF$63,13,FALSE),0)","v":0},"","","",{"$f":"IF(A95<>0,VLOOKUP(A95,Liste!$A$10:$K$159,8,FALSE),\"\")","v":70},null,126,null,null,null,null,null,null,null,null,0,0,0,1000]
[78,{"$f":"IF(A96<>0,VLOOKUP(A96,Liste!$A$10:$D$159,4,FALSE),\"\")","v":"LANVIN Christophe"},0,0,0,0,null,null,0,0,{"$f":"IF(AND($I96=1,$H96>0),VLOOKUP($H96,$A$14:AD$63,11,FALSE),0)","v":0},{"$f":"IF(AND($I96=1,$H96>0),VLOOKUP($H96,$A$14:AE$63,12,FALSE),0)","v":0},{"$f":"IF(AND($I96=1,$H96>0),VLOOKUP($H96,$A$14:AF$63,13,FALSE),0)","v":0},"","","",{"$f":"IF(A96<>0,VLOOKUP(A96,Liste!$A$10:$K$159,8,FALSE),\"\")","v":50},null,90,null,null,null,null,null,null,null,null,0,0,0,1000]
[79,{"$f":"IF(A97<>0,VLOOKUP(A97,Liste!$A$10:$D$159,4,FALSE),\"\")","v":"LARDENOIS Pierrette"},0,0,0,0,null,null,0,0,{"$f":"IF(AND($I97=1,$H97>0),VLOOKUP($H97,$A$14:AD$63,11,FALSE),0)","v":0},{"$f":"IF(AND($I97=1,$H97>0),VLOOKUP($H97,$A$14:AE$63,12,FALSE),0)","v":0},{"$f":"IF(AND($I97=1,$H97>0),VLOOKUP($H97,$A$14:AF$63,13,FALSE),0)","v":0},"","","",{"$f":"IF(A97<>0,VLOOKUP(A97,Liste!$A$10:$K$159,8,FALSE),\"\")","v":40},null,72,null,null,null,null,null,null,null,null,0,0,0,1000]
[80,{"$f":"IF(A98<>0,VLOOKUP(A98,Liste!$A$10:$D$159,4,FALSE),\"\")","v":"LATTION Evelyne"},0,0,0,0,null,null,0,0,{"$f":"IF(AND($I98=1,$H98>0),VLOOKUP($H98,$A$14:AD$63,11,FALSE),0)","v":0},{"$f":"IF(AND($I98=1,$H98>0),VLOOKUP($H98,$A$14:AE$63,12,FALSE),0)","v":0},{"$f":"IF(AND($I98=1,$H98>0),VLOOKUP($H98,$A$14:AF$63,13,FALSE),0)","v":0},"","","",{"$f":"IF(A98<>0,VLOOKUP(A98,Liste!$A$10:$K$159,8,FALSE),\"\")","v":47},null,84,null,null,null,null,null,null,null,null,0,0,0,1000]
[81,{"$f":"IF(A99<>0,VLOOKUP(A99,Liste!$A$10:$D$159,4,FALSE),\"\")","v":"LATTION Evelyne"},0,0,0,0,null,null,0,0,{"$f":"IF(AND($I99=1,$H99>0),VLOOKUP($H99,$A$14:AD$63,11,FALSE),0)","v":0},{"$f":"IF(AND($I99=1,$H99>0),VLOOKUP($H99,$A$14:AE$63,12,FALSE),0)","v":0},{"$f":"IF(AND($I99=1,$H99>0),VLOOKUP($H99,$A$14:AF$63,13,FALSE),0)","v":0},"","","",{"$f":"IF(A99<>0,VLOOKUP(A99,Liste!$A$10:$K$159,8,FALSE),\"\")","v":55},null,99,null,null,null,null,null,null,null,null,0,0,0,1000]
[82,{"$f":"IF(A100<>0,VLOOKUP(A100,Liste!$A$10:$D$159,4,FALSE),\"\")","v":"LE SCAVARREC Aline"},0,0,0,0,null,null,0,0,{"$f":"IF(AND($I100=1,$H100>0),VLOOKUP($H100,$A$14:AD$63,11,FALSE),0)","v":0},{"$f":"IF(AND($I100=1,$H100>0),VLOOKUP($H100,$A$14:AE$63,12,FALSE),0)","v":0},{"$f":"IF(AND($I100=1,$H100>0),VLOOKUP($H100,$A$14:AF$63,13,FALSE),0)","v":0},"","","",{"$f":"IF(A100<>0,VLOOKUP(A100,Liste!$A$10:$K$159,8,FALSE),\"\")","v":56},null,101,null,null,null,null,null,null,null,null,0,0,0,1000]
[83,{"$f":"IF(A101<>0,VLOOKUP(A101,Liste!$A$10:$D$159,4,FALSE),\"\")","v":"LEBON - BOUIC "},0,0,0,0,null,null,0,0,{"$f":"IF(AND($I101=1,$H101>0),VLOOKUP($H101,$A$14:AD$63,11,FALSE),0)","v":0},{"$f":"IF(AND($I101=1,$H101>0),VLOOKUP($H101,$A$14:AE$63,12,FALSE),0)","v":0},{"$f":"IF(AND($I101=1,$H101>0),VLOOKUP($H101,$A$14:AF$63,13,FALSE),0)","v":0},"","","",{"$f":"IF(A101<>0,VLOOKUP(A101,Liste!$A$10:$K$159,8,FALSE),\"\")","v":72},null,129,null,null,null,null,null,null,null,null,0,0,0,1000]
[84,{"$f":"IF(A102<>0,VLOOKUP(A102,Liste!$A$10:$D$159,4,FALSE),\"\")","v":"LEBON  Elisabeth"},0,0,0,0,null,null,0,0,{"$f":"IF(AND($I102=1,$H102>0),VLOOKUP($H102,$A$14:AD$63,11,FALSE),0)","v":0},{"$f":"IF(AND($I102=1,$H102>0),VLOOKUP($H102,$A$14:AE$63,12,FALSE),0)","v":0},{"$f":"IF(AND($I102=1,$H102>0),VLOOKUP($H102,$A$14:AF$63,13,FALSE),0)","v":0},"","","",{"$f":"IF(A102<>0,VLOOKUP(A102,Liste!$A$10:$K$159,8,FALSE),\"\")","v":90},null,162,null,null,null,null,null,null,null,null,0,0,0,1000]
[85,{"$f":"IF(A103<>0,VLOOKUP(A103,Liste!$A$10:$D$159,4,FALSE),\"\")","v":"LEBORGNE Claudine"},0,0,0,0,null,null,0,0,{"$f":"IF(AND($I103=1,$H103>0),VLOOKUP($H103,$A$14:AD$63,11,FALSE),0)","v":0},{"$f":"IF(AND($I103=1,$H103>0),VLOOKUP($H103,$A$14:AE$63,12,FALSE),0)","v":0},{"$f":"IF(AND($I103=1,$H103>0),VLOOKUP($H103,$A$14:AF$63,13,FALSE),0)","v":0},"","","",{"$f":"IF(A103<>0,VLOOKUP(A103,Liste!$A$10:$K$159,8,FALSE),\"\")","v":87},null,156,null,null,null,null,null,null,null,null,0,0,0,1000]
[86,{"$f":"IF(A104<>0,VLOOKUP(A104,Liste!$A$10:$D$159,4,FALSE),\"\")","v":"LEFOLLET-LANGLET"},0,0,0,0,null,null,0,0,{"$f":"IF(AND($I104=1,$H104>0),VLOOKUP($H104,$A$14:AD$63,11,FALSE),0)","v":0},{"$f":"IF(AND($I104=1,$H104>0),VLOOKUP($H104,$A$14:AE$63,12,FALSE),0)","v":0},{"$f":"IF(AND($I104=1,$H104>0),VLOOKUP($H104,$A$14:AF$63,13,FALSE),0)","v":0},"","","",{"$f":"IF(A104<>0,VLOOKUP(A104,Liste!$A$10:$K$159,8,FALSE),\"\")","v":70},null,126,null,null,null,null,null,null,null,null,0,0,0,1000]
[87,{"$f":"IF(A105<>0,VLOOKUP(A105,Liste!$A$10:$D$159,4,FALSE),\"\")","v":"LEGRAS Simone"},0,0,0,0,null,null,0,0,{"$f":"IF(AND($I105=1,$H105>0),VLOOKUP($H105,$A$14:AD$63,11,FALSE),0)","v":0},{"$f":"IF(AND($I105=1,$H105>0),VLOOKUP($H105,$A$14:AE$63,12,FALSE),0)","v":0},{"$f":"IF(AND($I105=1,$H105>0),VLOOKUP($H105,$A$14:AF$63,13,FALSE),0)","v":0},"","","",{"$f":"IF(A105<>0,VLOOKUP(A105,Liste!$A$10:$K$159,8,FALSE),\"\")","v":100},null,180,null,null,null,null,null,null,null,null,0,0,0,1000]
[88,{"$f":"IF(A106<>0,VLOOKUP(A106,Liste!$A$10:$D$159,4,FALSE),\"\")","v":"LESTOURNELLE "},0,0,0,0,null,null,0,0,{"$f":"IF(AND($I106=1,$H106>0),VLOOKUP($H106,$A$14:AD$63,11,FALSE),0)","v":0},{"$f":"IF(AND($I106=1,$H106>0),VLOOKUP($H106,$A$14:AE$63,12,FALSE),0)","v":0},{"$f":"IF(AND($I106=1,$H106>0),VLOOKUP($H106,$A$14:AF$63,13,FALSE),0)","v":0},"","","",{"$f":"IF(A106<>0,VLOOKUP(A106,Liste!$A$10:$K$159,8,FALSE),\"\")","v":86},null,155,null,null,null,null,null,null,null,null,0,0,0,1000]
[89,{"$f":"IF(A107<>0,VLOOKUP(A107,Liste!$A$10:$D$159,4,FALSE),\"\")","v":"LIGOT Jacques"},0,0,0,0,null,null,0,0,{"$f":"IF(AND($I107=1,$H107>0),VLOOKUP($H107,$A$14:AD$63,11,FALSE),0)","v":0},{"$f":"IF(AND($I107=1,$H107>0),VLOOKUP($H107,$A$14:AE$63,12,FALSE),0)","v":0},{"$f":"IF(AND($I107=1,$H107>0),VLOOKUP($H107,$A$14:AF$63,13,FALSE),0)","v":0},"","","",{"$f":"IF(A107<>0,VLOOKUP(A107,Liste!$A$10:$K$159,8,FALSE),\"\")","v":50},null,90,null,null,null,null,null,null,null,null,0,0,0,1000]
[90,{"$f":"IF(A108<>0,VLOOKUP(A108,Liste!$A$10:$D$159,4,FALSE),\"\")","v":"LOPEZ Pierre"},0,0,0,0,null,null,0,0,{"$f":"IF(AND($I108=1,$H108>0),VLOOKUP($H108,$A$14:AD$63,11,FALSE),0)","v":0},{"$f":"IF(AND($I108=1,$H108>0),VLOOKUP($H108,$A$14:AE$63,12,FALSE),0)","v":0},{"$f":"IF(AND($I108=1,$H108>0),VLOOKUP($H108,$A$14:AF$63,13,FALSE),0)","v":0},"","","",{"$f":"IF(A108<>0,VLOOKUP(A108,Liste!$A$10:$K$159,8,FALSE),\"\")","v":40},null,72,null,null,null,null,null,null,null,null,0,0,0,1000]
[91,{"$f":"IF(A109<>0,VLOOKUP(A109,Liste!$A$10:$D$159,4,FALSE),\"\")","v":"LOUNES Jeannette"},0,0,0,0,null,null,0,0,{"$f":"IF(AND($I109=1,$H109>0),VLOOKUP($H109,$A$14:AD$63,11,FALSE),0)","v":0},{"$f":"IF(AND($I109=1,$H109>0),VLOOKUP($H109,$A$14:AE$63,12,FALSE),0)","v":0},{"$f":"IF(AND($I109=1,$H109>0),VLOOKUP($H109,$A$14:AF$63,13,FALSE),0)","v":0},"","","",{"$f":"IF(A109<>0,VLOOKUP(A109,Liste!$A$10:$K$159,8,FALSE),\"\")","v":96},null,173,null,null,null,null,null,null,null,null,0,0,0,1000]
[92,{"$f":"IF(A110<>0,VLOOKUP(A110,Liste!$A$10:$D$159,4,FALSE),\"\")","v":"MAACK - BRUNETEAU Dominique"},{"$f":"F110*(K110=1)","v":0},{"$f":"F110*(L110=1)","v":0},{"$f":"F110*(M110=1)","v":0},{"$f":"IF(I110=1,VLOOKUP(A110,$A$14:$AA$163,16+$B$4,0),0)","v":0},null,null,{"$f":"1*(IF(G110>=1,VLOOKUP(A110,$A$14:$AA$163,16+$B$4,0)>0))","v":0},{"$f":"IF(F110>0,F110,0)","v":0},{"$f":"IF(AND($I110=1,$H110>0),VLOOKUP($H110,$A$14:AD$63,11,FALSE),0)","v":0},{"$f":"IF(AND($I110=1,$H110>0),VLOOKUP($H110,$A$14:AE$63,12,FALSE),0)","v":0},{"$f":"IF(AND($I110=1,$H110>0),VLOOKUP($H110,$A$14:AF$63,13,FALSE),0)","v":0},{"$f":"IF(AND(I110>0,K110+L110+M110=0),\"EN ATTENTE\",IF(K110+L110+M110>1,\"ERREUR\",\"\"))","v":""},{"$f":"IF(AND(AC110>3,AD110>$D$10*$O$12),1,\"\")","v":""},{"$f":"IF(I110=1,K110*(K110=1)+L110*2*(L110=1)+M110*3*(M110=1),\"\")","v":""},{"$f":"IF(A110<>0,VLOOKUP(A110,Liste!$A$10:$K$159,8,FALSE),\"\")","v":50},null,90,null,null,null,null,null,null,null,null,{"$f":"(H110+I110)*(J110>0)","v":0},{"$f":"COUNTIF($H$14:$H$163,A110)","v":0},{"$f":"SUMIF($H$14:$H$163,A110,$J$14:$J$163)+(J110*(AC110>0))","v":0},{"$f":"IF(H110>0,H110+0.5*(I110=1),A110*(I110=1))+(1000*(I110<1))","v":1000}]
[93,{"$f":"IF(A111<>0,VLOOKUP(A111,Liste!$A$10:$D$159,4,FALSE),\"\")","v":"MAACK - BUREU Denise"},0,0,0,0,null,null,0,0,{"$f":"IF(AND($I111=1,$H111>0),VLOOKUP($H111,$A$14:AD$63,11,FALSE),0)","v":0},{"$f":"IF(AND($I111=1,$H111>0),VLOOKUP($H111,$A$14:AE$63,12,FALSE),0)","v":0},{"$f":"IF(AND($I111=1,$H111>0),VLOOKUP($H111,$A$14:AF$63,13,FALSE),0)","v":0},"","","",{"$f":"IF(A111<>0,VLOOKUP(A111,Liste!$A$10:$K$159,8,FALSE),\"\")","v":80},null,144,null,null,null,null,null,null,null,null,0,0,0,1000]
[94,{"$f":"IF(A112<>0,VLOOKUP(A112,Liste!$A$10:$D$159,4,FALSE),\"\")","v":"MACQUET "},0,0,0,0,null,null,0,0,{"$f":"IF(AND($I112=1,$H112>0),VLOOKUP($H112,$A$14:AD$63,11,FALSE),0)","v":0},{"$f":"IF(AND($I112=1,$H112>0),VLOOKUP($H112,$A$14:AE$63,12,FALSE),0)","v":0},{"$f":"IF(AND($I112=1,$H112>0),VLOOKUP($H112,$A$14:AF$63,13,FALSE),0)","v":0},"","","",{"$f":"IF(A112<>0,VLOOKUP(A112,Liste!$A$10:$K$159,8,FALSE),\"\")","v":62},null,111,null,null,null,null,null,null,null,null,0,0,0,1000]
[95,{"$f":"IF(A113<>0,VLOOKUP(A113,Liste!$A$10:$D$159,4,FALSE),\"\")","v":"MALARTIC Odile"},0,0,0,0,null,null,0,0,{"$f":"IF(AND($I113=1,$H113>0),VLOOKUP($H113,$A$14:AD$63,11,FALSE),0)","v":0},{"$f":"IF(AND($I113=1,$H113>0),VLOOKUP($H113,$A$14:AE$63,12,FALSE),0)","v":0},{"$f":"IF(AND($I113=1,$H113>0),VLOOKUP($H113,$A$14:AF$63,13,FALSE),0)","v":0},"","","",{"$f":"IF(A113<>0,VLOOKUP(A113,Liste!$A$10:$K$159,8,FALSE),\"\")","v":63},null,113,null,null,null,null,null,null,null,null,0,0,0,1000]
[96,{"$f":"IF(A114<>0,VLOOKUP(A114,Liste!$A$10:$D$159,4,FALSE),\"\")","v":"MANDARD Jacqueline"},0,0,0,0,null,null,0,0,{"$f":"IF(AND($I114=1,$H114>0),VLOOKUP($H114,$A$14:AD$63,11,FALSE),0)","v":0},{"$f":"IF(AND($I114=1,$H114>0),VLOOKUP($H114,$A$14:AE$63,12,FALSE),0)","v":0},{"$f":"IF(AND($I114=1,$H114>0),VLOOKUP($H114,$A$14:AF$63,13,FALSE),0)","v":0},"","","",{"$f":"IF(A114<>0,VLOOKUP(A114,Liste!$A$10:$K$159,8,FALSE),\"\")","v":70},null,126,null,null,null,null,null,null,null,null,0,0,0,1000]
[97,{"$f":"IF(A115<>0,VLOOKUP(A115,Liste!$A$10:$D$159,4,FALSE),\"\")","v":"Marinacce - Chatain Jeanne"},0,0,0,0,null,null,0,0,{"$f":"IF(AND($I115=1,$H115>0),VLOOKUP($H115,$A$14:AD$63,11,FALSE),0)","v":0},{"$f":"IF(AND($I115=1,$H115>0),VLOOKUP($H115,$A$14:AE$63,12,FALSE),0)","v":0},{"$f":"IF(AND($I115=1,$H115>0),VLOOKUP($H115,$A$14:AF$63,13,FALSE),0)","v":0},"","","",{"$f":"IF(A115<>0,VLOOKUP(A115,Liste!$A$10:$K$159,8,FALSE),\"\")","v":76},null,137,null,null,null,null,null,null,null,null,0,0,0,1000]
[98,{"$f":"IF(A116<>0,VLOOKUP(A116,Liste!$A$10:$D$159,4,FALSE),\"\")","v":"MATTEI Andrée"},0,0,0,0,null,null,0,0,{"$f":"IF(AND($I116=1,$H116>0),VLOOKUP($H116,$A$14:AD$63,11,FALSE),0)","v":0},{"$f":"IF(AND($I116=1,$H116>0),VLOOKUP($H116,$A$14:AE$63,12,FALSE),0)","v":0},{"$f":"IF(AND($I116=1,$H116>0),VLOOKUP($H116,$A$14:AF$63,13,FALSE),0)","v":0},"","","",{"$f":"IF(A116<>0,VLOOKUP(A116,Liste!$A$10:$K$159,8,FALSE),\"\")","v":103},null,185,null,null,null,null,null,null,null,null,0,0,0,1000]
[99,{"$f":"IF(A117<>0,VLOOKUP(A117,Liste!$A$10:$D$159,4,FALSE),\"\")","v":"MAUDUIT Trobert"},0,0,0,0,null,null,0,0,{"$f":"IF(AND($I117=1,$H117>0),VLOOKUP($H117,$A$14:AD$63,11,FALSE),0)","v":0},{"$f":"IF(AND($I117=1,$H117>0),VLOOKUP($H117,$A$14:AE$63,12,FALSE),0)","v":0},{"$f":"IF(AND($I117=1,$H117>0),VLOOKUP($H117,$A$14:AF$63,13,FALSE),0)","v":0},"","","",{"$f":"IF(A117<>0,VLOOKUP(A117,Liste!$A$10:$K$159,8,FALSE),\"\")","v":50},null,90,null,null,null,null,null,null,null,null,0,0,0,1000]
[100,{"$f":"IF(A118<>0,VLOOKUP(A118,Liste!$A$10:$D$159,4,FALSE),\"\")","v":"MEAILLE Simone"},0,0,0,0,null,null,0,0,{"$f":"IF(AND($I118=1,$H118>0),VLOOKUP($H118,$A$14:AD$63,11,FALSE),0)","v":0},{"$f":"IF(AND($I118=1,$H118>0),VLOOKUP($H118,$A$14:AE$63,12,FALSE),0)","v":0},{"$f":"IF(AND($I118=1,$H118>0),VLOOKUP($H118,$A$14:AF$63,13,FALSE),0)","v":0},"","","",{"$f":"IF(A118<>0,VLOOKUP(A118,Liste!$A$10:$K$159,8,FALSE),\"\")","v":63},null,169,null,null,null,null,null,null,null,null,0,0,0,1000]
[102,{"$f":"IF(A119<>0,VLOOKUP(A119,Liste!$A$10:$D$159,4,FALSE),\"\")","v":"MEYNARD Armande"},0,0,0,0,null,null,0,0,{"$f":"IF(AND($I119=1,$H119>0),VLOOKUP($H119,$A$14:AD$63,11,FALSE),0)","v":0},{"$f":"IF(AND($I119=1,$H119>0),VLOOKUP($H119,$A$14:AE$63,12,FALSE),0)","v":0},{"$f":"IF(AND($I119=1,$H119>0),VLOOKUP($H119,$A$14:AF$63,13,FALSE),0)","v":0},"","","",{"$f":"IF(A119<>0,VLOOKUP(A119,Liste!$A$10:$K$159,8,FALSE),\"\")","v":62},null,180,null,null,null,null,null,null,null,null,0,0,0,1000]
[103,{"$f":"IF(A120<>0,VLOOKUP(A120,Liste!$A$10:$D$159,4,FALSE),\"\")","v":"MIALHE André"},0,0,0,0,null,null,0,0,{"$f":"IF(AND($I120=1,$H120>0),VLOOKUP($H120,$A$14:AD$63,11,FALSE),0)","v":0},{"$f":"IF(AND($I120=1,$H120>0),VLOOKUP($H120,$A$14:AE$63,12,FALSE),0)","v":0},{"$f":"IF(AND($I120=1,$H120>0),VLOOKUP($H120,$A$14:AF$63,13,FALSE),0)","v":0},"","","",{"$f":"IF(A120<>0,VLOOKUP(A120,Liste!$A$10:$K$159,8,FALSE),\"\")","v":97},null,111,null,null,null,null,null,null,null,null,0,0,0,1000]
[104,{"$f":"IF(A121<>0,VLOOKUP(A121,Liste!$A$10:$D$159,4,FALSE),\"\")","v":"MICHEL Gérard"},0,0,0,0,null,null,0,0,{"$f":"IF(AND($I121=1,$H121>0),VLOOKUP($H121,$A$14:AD$63,11,FALSE),0)","v":0},{"$f":"IF(AND($I121=1,$H121>0),VLOOKUP($H121,$A$14:AE$63,12,FALSE),0)","v":0},{"$f":"IF(AND($I121=1,$H121>0),VLOOKUP($H121,$A$14:AF$63,13,FALSE),0)","v":0},"","","",{"$f":"IF(A121<>0,VLOOKUP(A121,Liste!$A$10:$K$159,8,FALSE),\"\")","v":100},null,174,null,null,null,null,null,null,null,null,0,0,0,1000]
[105,{"$f":"IF(A122<>0,VLOOKUP(A122,Liste!$A$10:$D$159,4,FALSE),\"\")","v":"MORERA Suzanne"},0,0,0,0,null,null,0,0,{"$f":"IF(AND($I122=1,$H122>0),VLOOKUP($H122,$A$14:AD$63,11,FALSE),0)","v":0},{"$f":"IF(AND($I122=1,$H122>0),VLOOKUP($H122,$A$14:AE$63,12,FALSE),0)","v":0},{"$f":"IF(AND($I122=1,$H122>0),VLOOKUP($H122,$A$14:AF$63,13,FALSE),0)","v":0},"","","",{"$f":"IF(A122<>0,VLOOKUP(A122,Liste!$A$10:$K$159,8,FALSE),\"\")","v":100},null,180,null,null,null,null,null,null,null,null,0,0,0,1000]
[106,{"$f":"IF(A123<>0,VLOOKUP(A123,Liste!$A$10:$D$159,4,FALSE),\"\")","v":"MOTTIN Marcel"},0,0,0,0,null,null,0,0,{"$f":"IF(AND($I123=1,$H123>0),VLOOKUP($H123,$A$14:AD$63,11,FALSE),0)","v":0},{"$f":"IF(AND($I123=1,$H123>0),VLOOKUP($H123,$A$14:AE$63,12,FALSE),0)","v":0},{"$f":"IF(AND($I123=1,$H123>0),VLOOKUP($H123,$A$14:AF$63,13,FALSE),0)","v":0},"","","",{"$f":"IF(A123<>0,VLOOKUP(A123,Liste!$A$10:$K$159,8,FALSE),\"\")","v":50},null,180,null,null,null,null,null,null,null,null,0,0,0,1000]
[107,{"$f":"IF(A124<>0,VLOOKUP(A124,Liste!$A$10:$D$159,4,FALSE),\"\")","v":"MOURRE Jeanine"},0,0,0,0,null,null,0,0,{"$f":"IF(AND($I124=1,$H124>0),VLOOKUP($H124,$A$14:AD$63,11,FALSE),0)","v":0},{"$f":"IF(AND($I124=1,$H124>0),VLOOKUP($H124,$A$14:AE$63,12,FALSE),0)","v":0},{"$f":"IF(AND($I124=1,$H124>0),VLOOKUP($H124,$A$14:AF$63,13,FALSE),0)","v":0},"","","",{"$f":"IF(A124<>0,VLOOKUP(A124,Liste!$A$10:$K$159,8,FALSE),\"\")","v":49},null,90,null,null,null,null,null,null,null,null,0,0,0,1000]
[108,{"$f":"IF(A125<>0,VLOOKUP(A125,Liste!$A$10:$D$159,4,FALSE),\"\")","v":"MULARDEC Paul"},0,0,0,0,null,null,0,0,{"$f":"IF(AND($I125=1,$H125>0),VLOOKUP($H125,$A$14:AD$63,11,FALSE),0)","v":0},{"$f":"IF(AND($I125=1,$H125>0),VLOOKUP($H125,$A$14:AE$63,12,FALSE),0)","v":0},{"$f":"IF(AND($I125=1,$H125>0),VLOOKUP($H125,$A$14:AF$63,13,FALSE),0)","v":0},"","","",{"$f":"IF(A125<>0,VLOOKUP(A125,Liste!$A$10:$K$159,8,FALSE),\"\")","v":64},null,88,null,null,null,null,null,null,null,null,0,0,0,1000]
[109,{"$f":"IF(A126<>0,VLOOKUP(A126,Liste!$A$10:$D$159,4,FALSE),\"\")","v":"NICOLAS Jean"},0,0,0,0,null,null,0,0,{"$f":"IF(AND($I126=1,$H126>0),VLOOKUP($H126,$A$14:AD$63,11,FALSE),0)","v":0},{"$f":"IF(AND($I126=1,$H126>0),VLOOKUP($H126,$A$14:AE$63,12,FALSE),0)","v":0},{"$f":"IF(AND($I126=1,$H126>0),VLOOKUP($H126,$A$14:AF$63,13,FALSE),0)","v":0},"","","",{"$f":"IF(A126<>0,VLOOKUP(A126,Liste!$A$10:$K$159,8,FALSE),\"\")","v":93},null,115,null,null,null,null,null,null,null,null,0,0,0,1000]
[110,{"$f":"IF(A127<>0,VLOOKUP(A127,Liste!$A$10:$D$159,4,FALSE),\"\")","v":"NICOLE Solange"},0,0,0,0,null,null,0,0,{"$f":"IF(AND($I127=1,$H127>0),VLOOKUP($H127,$A$14:AD$63,11,FALSE),0)","v":0},{"$f":"IF(AND($I127=1,$H127>0),VLOOKUP($H127,$A$14:AE$63,12,FALSE),0)","v":0},{"$f":"IF(AND($I127=1,$H127>0),VLOOKUP($H127,$A$14:AF$63,13,FALSE),0)","v":0},"","","",{"$f":"IF(A127<>0,VLOOKUP(A127,Liste!$A$10:$K$159,8,FALSE),\"\")","v":90},null,167,null,null,null,null,null,null,null,null,0,0,0,1000]
[112,{"$f":"IF(A128<>0,VLOOKUP(A128,Liste!$A$10:$D$159,4,FALSE),\"\")","v":"OLIVA "},0,0,0,0,null,null,0,0,{"$f":"IF(AND($I128=1,$H128>0),VLOOKUP($H128,$A$14:AD$63,11,FALSE),0)","v":0},{"$f":"IF(AND($I128=1,$H128>0),VLOOKUP($H128,$A$14:AE$63,12,FALSE),0)","v":0},{"$f":"IF(AND($I128=1,$H128>0),VLOOKUP($H128,$A$14:AF$63,13,FALSE),0)","v":0},"","","",{"$f":"IF(A128<>0,VLOOKUP(A128,Liste!$A$10:$K$159,8,FALSE),\"\")","v":80},null,108,null,null,null,null,null,null,null,null,0,0,0,1000]
[113,{"$f":"IF(A129<>0,VLOOKUP(A129,Liste!$A$10:$D$159,4,FALSE),\"\")","v":"OLIVA Stéphane"},0,0,0,0,null,null,0,0,{"$f":"IF(AND($I129=1,$H129>0),VLOOKUP($H129,$A$14:AD$63,11,FALSE),0)","v":0},{"$f":"IF(AND($I129=1,$H129>0),VLOOKUP($H129,$A$14:AE$63,12,FALSE),0)","v":0},{"$f":"IF(AND($I129=1,$H129>0),VLOOKUP($H129,$A$14:AF$63,13,FALSE),0)","v":0},"","","",{"$f":"IF(A129<>0,VLOOKUP(A129,Liste!$A$10:$K$159,8,FALSE),\"\")","v":59},null,144,null,null,null,null,null,null,null,null,0,0,0,1000]
[114,{"$f":"IF(A130<>0,VLOOKUP(A130,Liste!$A$10:$D$159,4,FALSE),\"\")","v":"PEIRANO Olga"},0,0,0,0,null,null,0,0,{"$f":"IF(AND($I130=1,$H130>0),VLOOKUP($H130,$A$14:AD$63,11,FALSE),0)","v":0},{"$f":"IF(AND($I130=1,$H130>0),VLOOKUP($H130,$A$14:AE$63,12,FALSE),0)","v":0},{"$f":"IF(AND($I130=1,$H130>0),VLOOKUP($H130,$A$14:AF$63,13,FALSE),0)","v":0},"","","",{"$f":"IF(A130<>0,VLOOKUP(A130,Liste!$A$10:$K$159,8,FALSE),\"\")","v":59},null,106,null,null,null,null,null,null,null,null,0,0,0,1000]
[115,{"$f":"IF(A131<>0,VLOOKUP(A131,Liste!$A$10:$D$159,4,FALSE),\"\")","v":"PELLEGRIN Jean ierre"},0,0,0,0,null,null,0,0,{"$f":"IF(AND($I131=1,$H131>0),VLOOKUP($H131,$A$14:AD$63,11,FALSE),0)","v":0},{"$f":"IF(AND($I131=1,$H131>0),VLOOKUP($H131,$A$14:AE$63,12,FALSE),0)","v":0},{"$f":"IF(AND($I131=1,$H131>0),VLOOKUP($H131,$A$14:AF$63,13,FALSE),0)","v":0},"","","",{"$f":"IF(A131<>0,VLOOKUP(A131,Liste!$A$10:$K$159,8,FALSE),\"\")","v":40},null,106,null,null,null,null,null,null,null,null,0,0,0,1000]
[116,{"$f":"IF(A132<>0,VLOOKUP(A132,Liste!$A$10:$D$159,4,FALSE),\"\")","v":"PETROV Nicolas"},0,0,0,0,null,null,0,0,{"$f":"IF(AND($I132=1,$H132>0),VLOOKUP($H132,$A$14:AD$63,11,FALSE),0)","v":0},{"$f":"IF(AND($I132=1,$H132>0),VLOOKUP($H132,$A$14:AE$63,12,FALSE),0)","v":0},{"$f":"IF(AND($I132=1,$H132>0),VLOOKUP($H132,$A$14:AF$63,13,FALSE),0)","v":0},"","","",{"$f":"IF(A132<>0,VLOOKUP(A132,Liste!$A$10:$K$159,8,FALSE),\"\")","v":60},null,72,null,null,null,null,null,null,null,null,0,0,0,1000]
[117,{"$f":"IF(A133<>0,VLOOKUP(A133,Liste!$A$10:$D$159,4,FALSE),\"\")","v":"PEZTITON René"},0,0,0,0,null,null,0,0,{"$f":"IF(AND($I133=1,$H133>0),VLOOKUP($H133,$A$14:AD$63,11,FALSE),0)","v":0},{"$f":"IF(AND($I133=1,$H133>0),VLOOKUP($H133,$A$14:AE$63,12,FALSE),0)","v":0},{"$f":"IF(AND($I133=1,$H133>0),VLOOKUP($H133,$A$14:AF$63,13,FALSE),0)","v":0},"","","",{"$f":"IF(A133<>0,VLOOKUP(A133,Liste!$A$10:$K$159,8,FALSE),\"\")","v":47},null,108,null,null,null,null,null,null,null,null,0,0,0,1000]
[118,{"$f":"IF(A134<>0,VLOOKUP(A134,Liste!$A$10:$D$159,4,FALSE),\"\")","v":"PISTONE Georges"},0,0,0,0,null,null,0,0,{"$f":"IF(AND($I134=1,$H134>0),VLOOKUP($H134,$A$14:AD$63,11,FALSE),0)","v":0},{"$f":"IF(AND($I134=1,$H134>0),VLOOKUP($H134,$A$14:AE$63,12,FALSE),0)","v":0},{"$f":"IF(AND($I134=1,$H134>0),VLOOKUP($H134,$A$14:AF$63,13,FALSE),0)","v":0},"","","",{"$f":"IF(A134<>0,VLOOKUP(A134,Liste!$A$10:$K$159,8,FALSE),\"\")","v":70},null,84,null,null,null,null,null,null,null,null,0,0,0,1000]
[119,{"$f":"IF(A135<>0,VLOOKUP(A135,Liste!$A$10:$D$159,4,FALSE),\"\")","v":"PONCELET Didier"},0,0,0,0,null,null,0,0,{"$f":"IF(AND($I135=1,$H135>0),VLOOKUP($H135,$A$14:AD$63,11,FALSE),0)","v":0},{"$f":"IF(AND($I135=1,$H135>0),VLOOKUP($H135,$A$14:AE$63,12,FALSE),0)","v":0},{"$f":"IF(AND($I135=1,$H135>0),VLOOKUP($H135,$A$14:AF$63,13,FALSE),0)","v":0},"","","",{"$f":"IF(A135<>0,VLOOKUP(A135,Liste!$A$10:$K$159,8,FALSE),\"\")","v":52},null,126,null,null,null,null,null,null,null,null,0,0,0,1000]
[120,{"$f":"IF(A136<>0,VLOOKUP(A136,Liste!$A$10:$D$159,4,FALSE),\"\")","v":"PROUVOST Jean"},0,0,0,0,null,null,0,0,{"$f":"IF(AND($I136=1,$H136>0),VLOOKUP($H136,$A$14:AD$63,11,FALSE),0)","v":0},{"$f":"IF(AND($I136=1,$H136>0),VLOOKUP($H136,$A$14:AE$63,12,FALSE),0)","v":0},{"$f":"IF(AND($I136=1,$H136>0),VLOOKUP($H136,$A$14:AF$63,13,FALSE),0)","v":0},"","","",{"$f":"IF(A136<>0,VLOOKUP(A136,Liste!$A$10:$K$159,8,FALSE),\"\")","v":90},null,93,null,null,null,null,null,null,null,null,0,0,0,1000]
[122,{"$f":"IF(A137<>0,VLOOKUP(A137,Liste!$A$10:$D$159,4,FALSE),\"\")","v":"RAYNAUD Laurence"},0,0,0,0,null,null,0,0,{"$f":"IF(AND($I137=1,$H137>0),VLOOKUP($H137,$A$14:AD$63,11,FALSE),0)","v":0},{"$f":"IF(AND($I137=1,$H137>0),VLOOKUP($H137,$A$14:AE$63,12,FALSE),0)","v":0},{"$f":"IF(AND($I137=1,$H137>0),VLOOKUP($H137,$A$14:AF$63,13,FALSE),0)","v":0},"","","",{"$f":"IF(A137<>0,VLOOKUP(A137,Liste!$A$10:$K$159,8,FALSE),\"\")","v":83},null,185,null,null,null,null,null,null,null,null,0,0,0,1000]
[123,{"$f":"IF(A138<>0,VLOOKUP(A138,Liste!$A$10:$D$159,4,FALSE),\"\")","v":"RENAUD Cécile"},0,0,0,0,null,null,0,0,{"$f":"IF(AND($I138=1,$H138>0),VLOOKUP($H138,$A$14:AD$63,11,FALSE),0)","v":0},{"$f":"IF(AND($I138=1,$H138>0),VLOOKUP($H138,$A$14:AE$63,12,FALSE),0)","v":0},{"$f":"IF(AND($I138=1,$H138>0),VLOOKUP($H138,$A$14:AF$63,13,FALSE),0)","v":0},"","","",{"$f":"IF(A138<>0,VLOOKUP(A138,Liste!$A$10:$K$159,8,FALSE),\"\")","v":91},null,149,null,null,null,null,null,null,null,null,0,0,0,1000]
[124,{"$f":"IF(A139<>0,VLOOKUP(A139,Liste!$A$10:$D$159,4,FALSE),\"\")","v":"RICHOUX Alexandra"},0,0,0,0,null,null,0,0,{"$f":"IF(AND($I139=1,$H139>0),VLOOKUP($H139,$A$14:AD$63,11,FALSE),0)","v":0},{"$f":"IF(AND($I139=1,$H139>0),VLOOKUP($H139,$A$14:AE$63,12,FALSE),0)","v":0},{"$f":"IF(AND($I139=1,$H139>0),VLOOKUP($H139,$A$14:AF$63,13,FALSE),0)","v":0},"","","",{"$f":"IF(A139<>0,VLOOKUP(A139,Liste!$A$10:$K$159,8,FALSE),\"\")","v":55},null,164,null,null,null,null,null,null,null,null,0,0,0,1000]
[125,{"$f":"IF(A140<>0,VLOOKUP(A140,Liste!$A$10:$D$159,4,FALSE),\"\")","v":"ROBERT MARMO Josiane"},0,0,0,0,null,null,0,0,{"$f":"IF(AND($I140=1,$H140>0),VLOOKUP($H140,$A$14:AD$63,11,FALSE),0)","v":0},{"$f":"IF(AND($I140=1,$H140>0),VLOOKUP($H140,$A$14:AE$63,12,FALSE),0)","v":0},{"$f":"IF(AND($I140=1,$H140>0),VLOOKUP($H140,$A$14:AF$63,13,FALSE),0)","v":0},"","","",{"$f":"IF(A140<>0,VLOOKUP(A140,Liste!$A$10:$K$159,8,FALSE),\"\")","v":92},null,99,null,null,null,null,null,null,null,null,0,0,0,1000]
[126,{"$f":"IF(A141<>0,VLOOKUP(A141,Liste!$A$10:$D$159,4,FALSE),\"\")","v":"ROCHETEAU-SOONEKINDT "},0,0,0,0,null,null,0,0,{"$f":"IF(AND($I141=1,$H141>0),VLOOKUP($H141,$A$14:AD$63,11,FALSE),0)","v":0},{"$f":"IF(AND($I141=1,$H141>0),VLOOKUP($H141,$A$14:AE$63,12,FALSE),0)","v":0},{"$f":"IF(AND($I141=1,$H141>0),VLOOKUP($H141,$A$14:AF$63,13,FALSE),0)","v":0},"","","",{"$f":"IF(A141<>0,VLOOKUP(A141,Liste!$A$10:$K$159,8,FALSE),\"\")","v":100},null,165,null,null,null,null,null,null,null,null,0,0,0,1000]
[127,{"$f":"IF(A142<>0,VLOOKUP(A142,Liste!$A$10:$D$159,4,FALSE),\"\")","v":"RUIZ José"},{"$f":"F142*(K142=1)","v":0},{"$f":"F142*(L142=1)","v":0},{"$f":"F142*(M142=1)","v":0},{"$f":"IF(I142=1,VLOOKUP(A142,$A$14:$AA$163,16+$B$4,0),0)","v":0},null,null,{"$f":"1*(IF(G142>=1,VLOOKUP(A142,$A$14:$AA$163,16+$B$4,0)>0))","v":0},{"$f":"IF(F142>0,F142,0)","v":0},{"$f":"IF(AND($I142=1,$H142>0),VLOOKUP($H142,$A$14:AD$63,11,FALSE),0)","v":0},{"$f":"IF(AND($I142=1,$H142>0),VLOOKUP($H142,$A$14:AE$63,12,FALSE),0)","v":0},{"$f":"IF(AND($I142=1,$H142>0),VLOOKUP($H142,$A$14:AF$63,13,FALSE),0)","v":0},{"$f":"IF(AND(I142>0,K142+L142+M142=0),\"EN ATTENTE\",IF(K142+L142+M142>1,\"ERREUR\",\"\"))","v":""},{"$f":"IF(AND(AC142>3,AD142>$D$10*$O$12),1,\"\")","v":""},{"$f":"IF(I142=1,K142*(K142=1)+L142*2*(L142=1)+M142*3*(M142=1),\"\")","v":""},{"$f":"IF(A142<>0,VLOOKUP(A142,Liste!$A$10:$K$159,8,FALSE),\"\")","v":98},null,180,null,null,null,null,null,null,null,null,{"$f":"(H142+I142)*(J142>0)","v":0},{"$f":"COUNTIF($H$14:$H$163,A142)","v":0},{"$f":"SUMIF($H$14:$H$163,A142,$J$14:$J$163)+(J142*(AC142>0))","v":0},{"$f":"IF(H142>0,H142+0.5*(I142=1),A142*(I142=1))+(1000*(I142<1))","v":1000}]
[128,{"$f":"IF(A143<>0,VLOOKUP(A143,Liste!$A$10:$D$159,4,FALSE),\"\")","v":"RUIZ Marcel"},0,0,0,0,null,null,0,0,{"$f":"IF(AND($I143=1,$H143>0),VLOOKUP($H143,$A$14:AD$63,11,FALSE),0)","v":0},{"$f":"IF(AND($I143=1,$H143>0),VLOOKUP($H143,$A$14:AE$63,12,FALSE),0)","v":0},{"$f":"IF(AND($I143=1,$H143>0),VLOOKUP($H143,$A$14:AF$63,13,FALSE),0)","v":0},"","","",{"$f":"IF(A143<>0,VLOOKUP(A143,Liste!$A$10:$K$159,8,FALSE),\"\")","v":91},null,176,null,null,null,null,null,null,null,null,0,0,0,1000]
[129,{"$f":"IF(A144<>0,VLOOKUP(A144,Liste!$A$10:$D$159,4,FALSE),\"\")","v":"RUSSEAU Thomas"},0,0,0,0,null,null,0,0,{"$f":"IF(AND($I144=1,$H144>0),VLOOKUP($H144,$A$14:AD$63,11,FALSE),0)","v":0},{"$f":"IF(AND($I144=1,$H144>0),VLOOKUP($H144,$A$14:AE$63,12,FALSE),0)","v":0},{"$f":"IF(AND($I144=1,$H144>0),VLOOKUP($H144,$A$14:AF$63,13,FALSE),0)","v":0},"","","",{"$f":"IF(A144<>0,VLOOKUP(A144,Liste!$A$10:$K$159,8,FALSE),\"\")","v":101},null,164,null,null,null,null,null,null,null,null,0,0,0,1000]
[130,{"$f":"IF(A145<>0,VLOOKUP(A145,Liste!$A$10:$D$159,4,FALSE),\"\")","v":"SALDOT Sylviane"},0,0,0,0,null,null,0,0,{"$f":"IF(AND($I145=1,$H145>0),VLOOKUP($H145,$A$14:AD$63,11,FALSE),0)","v":0},{"$f":"IF(AND($I145=1,$H145>0),VLOOKUP($H145,$A$14:AE$63,12,FALSE),0)","v":0},{"$f":"IF(AND($I145=1,$H145>0),VLOOKUP($H145,$A$14:AF$63,13,FALSE),0)","v":0},"","","",{"$f":"IF(A145<>0,VLOOKUP(A145,Liste!$A$10:$K$159,8,FALSE),\"\")","v":53},null,182,null,null,null,null,null,null,null,null,0,0,0,1000]
[132,{"$f":"IF(A146<>0,VLOOKUP(A146,Liste!$A$10:$D$159,4,FALSE),\"\")","v":"SANNA - DVORAK  Laurent - Isabel"},0,0,0,0,null,null,0,0,{"$f":"IF(AND($I146=1,$H146>0),VLOOKUP($H146,$A$14:AD$63,11,FALSE),0)","v":0},{"$f":"IF(AND($I146=1,$H146>0),VLOOKUP($H146,$A$14:AE$63,12,FALSE),0)","v":0},{"$f":"IF(AND($I146=1,$H146>0),VLOOKUP($H146,$A$14:AF$63,13,FALSE),0)","v":0},"","","",{"$f":"IF(A146<>0,VLOOKUP(A146,Liste!$A$10:$K$159,8,FALSE),\"\")","v":92},null,102,null,null,null,null,null,null,null,null,0,0,0,1000]
[133,{"$f":"IF(A147<>0,VLOOKUP(A147,Liste!$A$10:$D$159,4,FALSE),\"\")","v":"SARLIN / MAUREL Jocelyne"},0,0,0,0,null,null,0,0,{"$f":"IF(AND($I147=1,$H147>0),VLOOKUP($H147,$A$14:AD$63,11,FALSE),0)","v":0},{"$f":"IF(AND($I147=1,$H147>0),VLOOKUP($H147,$A$14:AE$63,12,FALSE),0)","v":0},{"$f":"IF(AND($I147=1,$H147>0),VLOOKUP($H147,$A$14:AF$63,13,FALSE),0)","v":0},"","","",{"$f":"IF(A147<>0,VLOOKUP(A147,Liste!$A$10:$K$159,8,FALSE),\"\")","v":94},null,165,null,null,null,null,null,null,null,null,0,0,0,1000]
[134,{"$f":"IF(A148<>0,VLOOKUP(A148,Liste!$A$10:$D$159,4,FALSE),\"\")","v":"SCALIA Serge"},0,0,0,0,null,null,0,0,{"$f":"IF(AND($I148=1,$H148>0),VLOOKUP($H148,$A$14:AD$63,11,FALSE),0)","v":0},{"$f":"IF(AND($I148=1,$H148>0),VLOOKUP($H148,$A$14:AE$63,12,FALSE),0)","v":0},{"$f":"IF(AND($I148=1,$H148>0),VLOOKUP($H148,$A$14:AF$63,13,FALSE),0)","v":0},"","","",{"$f":"IF(A148<>0,VLOOKUP(A148,Liste!$A$10:$K$159,8,FALSE),\"\")","v":53},null,95,null,null,null,null,null,null,null,null,0,0,0,1000]
[135,{"$f":"IF(A149<>0,VLOOKUP(A149,Liste!$A$10:$D$159,4,FALSE),\"\")","v":"SCHMIT Isabelle"},0,0,0,0,null,null,0,0,{"$f":"IF(AND($I149=1,$H149>0),VLOOKUP($H149,$A$14:AD$63,11,FALSE),0)","v":0},{"$f":"IF(AND($I149=1,$H149>0),VLOOKUP($H149,$A$14:AE$63,12,FALSE),0)","v":0},{"$f":"IF(AND($I149=1,$H149>0),VLOOKUP($H149,$A$14:AF$63,13,FALSE),0)","v":0},"","","",{"$f":"IF(A149<>0,VLOOKUP(A149,Liste!$A$10:$K$159,8,FALSE),\"\")","v":40},null,72,null,null,null,null,null,null,null,null,0,0,0,1000]
[136,{"$f":"IF(A150<>0,VLOOKUP(A150,Liste!$A$10:$D$159,4,FALSE),\"\")","v":"SCIALON Victor"},0,0,0,0,null,null,0,0,{"$f":"IF(AND($I150=1,$H150>0),VLOOKUP($H150,$A$14:AD$63,11,FALSE),0)","v":0},{"$f":"IF(AND($I150=1,$H150>0),VLOOKUP($H150,$A$14:AE$63,12,FALSE),0)","v":0},{"$f":"IF(AND($I150=1,$H150>0),VLOOKUP($H150,$A$14:AF$63,13,FALSE),0)","v":0},"","","",{"$f":"IF(A150<>0,VLOOKUP(A150,Liste!$A$10:$K$159,8,FALSE),\"\")","v":48},null,86,null,null,null,null,null,null,null,null,0,0,0,1000]
[137,{"$f":"IF(A151<>0,VLOOKUP(A151,Liste!$A$10:$D$159,4,FALSE),\"\")","v":"SERREE Patrick"},0,0,0,0,null,null,0,0,{"$f":"IF(AND($I151=1,$H151>0),VLOOKUP($H151,$A$14:AD$63,11,FALSE),0)","v":0},{"$f":"IF(AND($I151=1,$H151>0),VLOOKUP($H151,$A$14:AE$63,12,FALSE),0)","v":0},{"$f":"IF(AND($I151=1,$H151>0),VLOOKUP($H151,$A$14:AF$63,13,FALSE),0)","v":0},"","","",{"$f":"IF(A151<>0,VLOOKUP(A151,Liste!$A$10:$K$159,8,FALSE),\"\")","v":56},null,101,null,null,null,null,null,null,null,null,0,0,0,1000]
[138,{"$f":"IF(A152<>0,VLOOKUP(A152,Liste!$A$10:$D$159,4,FALSE),\"\")","v":"SIEURAC Philippe"},0,0,0,0,null,null,0,0,{"$f":"IF(AND($I152=1,$H152>0),VLOOKUP($H152,$A$14:AD$63,11,FALSE),0)","v":0},{"$f":"IF(AND($I152=1,$H152>0),VLOOKUP($H152,$A$14:AE$63,12,FALSE),0)","v":0},{"$f":"IF(AND($I152=1,$H152>0),VLOOKUP($H152,$A$14:AF$63,13,FALSE),0)","v":0},"","","",{"$f":"IF(A152<>0,VLOOKUP(A152,Liste!$A$10:$K$159,8,FALSE),\"\")","v":60},null,108,null,null,null,null,null,null,null,null,0,0,0,1000]
[139,{"$f":"IF(A153<>0,VLOOKUP(A153,Liste!$A$10:$D$159,4,FALSE),\"\")","v":"SIMON Josette"},0,0,0,0,null,null,0,0,{"$f":"IF(AND($I153=1,$H153>0),VLOOKUP($H153,$A$14:AD$63,11,FALSE),0)","v":0},{"$f":"IF(AND($I153=1,$H153>0),VLOOKUP($H153,$A$14:AE$63,12,FALSE),0)","v":0},{"$f":"IF(AND($I153=1,$H153>0),VLOOKUP($H153,$A$14:AF$63,13,FALSE),0)","v":0},"","","",{"$f":"IF(A153<>0,VLOOKUP(A153,Liste!$A$10:$K$159,8,FALSE),\"\")","v":51},null,92,null,null,null,null,null,null,null,null,0,0,0,1000]
[140,{"$f":"IF(A154<>0,VLOOKUP(A154,Liste!$A$10:$D$159,4,FALSE),\"\")","v":"SIMON Piaul"},0,0,0,0,null,null,0,0,{"$f":"IF(AND($I154=1,$H154>0),VLOOKUP($H154,$A$14:AD$63,11,FALSE),0)","v":0},{"$f":"IF(AND($I154=1,$H154>0),VLOOKUP($H154,$A$14:AE$63,12,FALSE),0)","v":0},{"$f":"IF(AND($I154=1,$H154>0),VLOOKUP($H154,$A$14:AF$63,13,FALSE),0)","v":0},"","","",{"$f":"IF(A154<>0,VLOOKUP(A154,Liste!$A$10:$K$159,8,FALSE),\"\")","v":53},null,95,null,null,null,null,null,null,null,null,0,0,0,1000]
[142,{"$f":"IF(A155<>0,VLOOKUP(A155,Liste!$A$10:$D$159,4,FALSE),\"\")","v":"STURM Philippe"},0,0,0,0,null,null,0,0,{"$f":"IF(AND($I155=1,$H155>0),VLOOKUP($H155,$A$14:AD$63,11,FALSE),0)","v":0},{"$f":"IF(AND($I155=1,$H155>0),VLOOKUP($H155,$A$14:AE$63,12,FALSE),0)","v":0},{"$f":"IF(AND($I155=1,$H155>0),VLOOKUP($H155,$A$14:AF$63,13,FALSE),0)","v":0},"","","",{"$f":"IF(A155<>0,VLOOKUP(A155,Liste!$A$10:$K$159,8,FALSE),\"\")","v":90},null,162,null,null,null,null,null,null,null,null,0,0,0,1000]
[143,{"$f":"IF(A156<>0,VLOOKUP(A156,Liste!$A$10:$D$159,4,FALSE),\"\")","v":"TANDY G&érard"},0,0,0,0,null,null,0,0,{"$f":"IF(AND($I156=1,$H156>0),VLOOKUP($H156,$A$14:AD$63,11,FALSE),0)","v":0},{"$f":"IF(AND($I156=1,$H156>0),VLOOKUP($H156,$A$14:AE$63,12,FALSE),0)","v":0},{"$f":"IF(AND($I156=1,$H156>0),VLOOKUP($H156,$A$14:AF$63,13,FALSE),0)","v":0},"","","",{"$f":"IF(A156<>0,VLOOKUP(A156,Liste!$A$10:$K$159,8,FALSE),\"\")","v":40},null,72,null,null,null,null,null,null,null,null,0,0,0,1000]
[144,{"$f":"IF(A157<>0,VLOOKUP(A157,Liste!$A$10:$D$159,4,FALSE),\"\")","v":"THUMERELLE Sébastien"},0,0,0,0,null,null,0,0,{"$f":"IF(AND($I157=1,$H157>0),VLOOKUP($H157,$A$14:AD$63,11,FALSE),0)","v":0},{"$f":"IF(AND($I157=1,$H157>0),VLOOKUP($H157,$A$14:AE$63,12,FALSE),0)","v":0},{"$f":"IF(AND($I157=1,$H157>0),VLOOKUP($H157,$A$14:AF$63,13,FALSE),0)","v":0},"","","",{"$f":"IF(A157<>0,VLOOKUP(A157,Liste!$A$10:$K$159,8,FALSE),\"\")","v":80},null,144,null,null,null,null,null,null,null,null,0,0,0,1000]
[145,{"$f":"IF(A158<>0,VLOOKUP(A158,Liste!$A$10:$D$159,4,FALSE),\"\")","v":"TONDU Simon"},0,0,0,0,null,null,0,0,{"$f":"IF(AND($I158=1,$H158>0),VLOOKUP($H158,$A$14:AD$63,11,FALSE),0)","v":0},{"$f":"IF(AND($I158=1,$H158>0),VLOOKUP($H158,$A$14:AE$63,12,FALSE),0)","v":0},{"$f":"IF(AND($I158=1,$H158>0),VLOOKUP($H158,$A$14:AF$63,13,FALSE),0)","v":0},"","","",{"$f":"IF(A158<>0,VLOOKUP(A158,Liste!$A$10:$K$159,8,FALSE),\"\")","v":40},null,72,null,null,null,null,null,null,null,null,0,0,0,1000]
[146,{"$f":"IF(A159<>0,VLOOKUP(A159,Liste!$A$10:$D$159,4,FALSE),\"\")","v":"VERMONT André"},0,0,0,0,null,null,0,0,{"$f":"IF(AND($I159=1,$H159>0),VLOOKUP($H159,$A$14:AD$63,11,FALSE),0)","v":0},{"$f":"IF(AND($I159=1,$H159>0),VLOOKUP($H159,$A$14:AE$63,12,FALSE),0)","v":0},{"$f":"IF(AND($I159=1,$H159>0),VLOOKUP($H159,$A$14:AF$63,13,FALSE),0)","v":0},"","","",{"$f":"IF(A159<>0,VLOOKUP(A159,Liste!$A$10:$K$159,8,FALSE),\"\")","v":52},null,93,null,null,null,null,null,null,null,null,0,0,0,1000]
[147,{"$f":"IF(A160<>0,VLOOKUP(A160,Liste!$A$10:$D$159,4,FALSE),\"\")","v":"VIGLIONE Léa"},0,0,0,0,null,null,0,0,{"$f":"IF(AND($I160=1,$H160>0),VLOOKUP($H160,$A$14:AD$63,11,FALSE),0)","v":0},{"$f":"IF(AND($I160=1,$H160>0),VLOOKUP($H160,$A$14:AE$63,12,FALSE),0)","v":0},{"$f":"IF(AND($I160=1,$H160>0),VLOOKUP($H160,$A$14:AF$63,13,FALSE),0)","v":0},"","","",{"$f":"IF(A160<>0,VLOOKUP(A160,Liste!$A$10:$K$159,8,FALSE),\"\")","v":61},null,110,null,null,null,null,null,null,null,null,0,0,0,1000]
[148,{"$f":"IF(A161<>0,VLOOKUP(A161,Liste!$A$10:$D$159,4,FALSE),\"\")","v":"WINGERT Philippe"},0,0,0,0,null,null,0,0,{"$f":"IF(AND($I161=1,$H161>0),VLOOKUP($H161,$A$14:AD$63,11,FALSE),0)","v":0},{"$f":"IF(AND($I161=1,$H161>0),VLOOKUP($H161,$A$14:AE$63,12,FALSE),0)","v":0},{"$f":"IF(AND($I161=1,$H161>0),VLOOKUP($H161,$A$14:AF$63,13,FALSE),0)","v":0},"","","",{"$f":"IF(A161<>0,VLOOKUP(A161,Liste!$A$10:$K$159,8,FALSE),\"\")","v":80},null,144,null,null,null,null,null,null,null,null,0,0,0,1000]
[149,{"$f":"IF(A162<>0,VLOOKUP(A162,Liste!$A$10:$D$159,4,FALSE),\"\")","v":"YOUSEF Amed"},0,0,0,0,null,null,0,0,{"$f":"IF(AND($I162=1,$H162>0),VLOOKUP($H162,$A$14:AD$63,11,FALSE),0)","v":0},{"$f":"IF(AND($I162=1,$H162>0),VLOOKUP($H162,$A$14:AE$63,12,FALSE),0)","v":0},{"$f":"IF(AND($I162=1,$H162>0),VLOOKUP($H162,$A$14:AF$63,13,FALSE),0)","v":0},"","","",{"$f":"IF(A162<>0,VLOOKUP(A162,Liste!$A$10:$K$159,8,FALSE),\"\")","v":52},null,93,null,null,null,null,null,null,null,null,0,0,0,1000]
[150,{"$f":"IF(A163<>0,VLOOKUP(A163,Liste!$A$10:$D$159,4,FALSE),\"\")","v":"ZIADI MONGI"},0,0,0,0,null,null,0,0,{"$f":"IF(AND($I163=1,$H163>0),VLOOKUP($H163,$A$14:AD$63,11,FALSE),0)","v":0},{"$f":"IF(AND($I163=1,$H163>0),VLOOKUP($H163,$A$14:AE$63,12,FALSE),0)","v":0},{"$f":"IF(AND($I163=1,$H163>0),VLOOKUP($H163,$A$14:AF$63,13,FALSE),0)","v":0},"","","",{"$f":"IF(A163<>0,VLOOKUP(A163,Liste!$A$10:$K$159,8,FALSE),\"\")","v":53},null,95,null,null,null,null,null,null,null,null,0,0,0,1000]

{"sheet":"Lisez-moi","index":5,"n_rows":111,"n_cols":1,"rows_kept":111,"cut":false,"hidden":false,"merged":[]}
[]
[]
["                                               G E S T I O N    D E S   V O T E S"]
[]
["La gestion des Votes en A.G. de copropriété, sur Excel, repose sur l' utilisation d'une feuille \"MERE\" qui est la copie "]
["de la feuille de présence;"]
["A partir de cette feuille on crée une feuille de vote pour chaque question à l' ordre du jour de l' A.G."]
[]
[]
["Feuille \"Liste\""]
["Comporte le numéro d' ordre, les noms et adresses, les numéros de lots et leur désignation et tantièmes généraux."]
["Cette feuille sert à l' établissement automatique de la feuille de présence (F.P.)"]
[]
["Feuille F.P.,  fveuille de présence."]
["Cette feuille doit être imprimée pour servir à l' émargement."]
[]
["La feuille  \"MERE\"  peut être créé dés que la convocation de l' A.G. est faite."]
["Elle comporte la liste de tous les copropriétaires avec leurs tantièmes dans les différentes clés."]
["Cliquez sur le boutron \"Nouveau dossier\" pour ouvrir un dossier pour la nouvelle A.G."]
["Le logiciel renomme le nouveau dossier automatiquement avec référence à la date de la nouvelle A.G."]
["Le numéro d' ordre attribué à un copropriétaire ne sert qu' à faire le lien entre les mandants et le mandataire"]
["Dans la feuille \"Liste\" faire les modifications éventuelles suite à des mutations et cliquez sur \"Mise à jour\", la liste "]
["des copropriétaires est alors trier par ordre,"]
["aphabétique et numérotée,"]
["Le numéro d' ordre attribué à un copropriétaire ne sert qu' à faire le lien entre les mandants et le mandataire"]
["il ne faut pas trier la feuille \"MERE\" en cours d' A.G."]
["Un bouton \"Réduire/Afficher\"  permet de basculer d' un affichage à un autre,"]
["Vous pouvez maintenant, à partir de la feuille de présence papier émargée par les copropriétaires, enregistrer "]
["les présents et représentés,"]
["Pour les représentés mettre en colonne \"H\" le numéro du mandataire."]
["Le logiciel vérifie pour chaque copropriétaire les limites, nombre de pouvoirs et nombre de voix:"]
["Colonne \"AC\" - Nombre de représentés."]
["Colonne \"AD\" - Total des voix disponibles pour le mandataire."]
["Colonne \"O\" - Avertissement en cas de dépassement :  \"1\" en rouge."]
["Cellule G7, Cadre rouge clair :avertissement si nombre de représentés et nombre de voix dépassées"]
[]
["Vous pouvez maintenant cliquer sur le bouton \"Feuille de Votes\""]
["Le logiciel refusera cet accès si les limites sont dépassées."]
[]
["Vous alllez entrer les informations demandées par le programme: Référence de la résolution, Objet de la résolution, "]
["Numéro de majorité nécessaire (24 ,25, 25,1, 26 ), numéro ,de clé applicable."]
["Les colonnes \"D\" à \"F\" sont masqués pour faciliter la saisie des votes."]
["Pour les afficher à nouveau il suffit de cliquer sur le bouton bleu \"Afficher tout\"."]
[]
["Vous pouvez maintenant enregistrer les votes. Par défaut les votes sont \"ABSTENTION\", il faut donc enregistrer "]
["les votes \"Pour\" ou \"CONTRE\""]
["Les votes des mandants sont, sauf expression particulière, celui du mandataire. "]
["Il faut donc faire attention en cas de départ d'un mandataire en cours d' A.G."]
["De même un mandataire peut ne pas être \"votant\" dans une clé particulière, il faut alors exprimer le vote manuellement."]
["Il ne faut jamais trier une feuille de vote en cours d' A.G.sauf l' opération  facultative \"Trier Valider\" en fin de votes"]
[]
[]
["Explication sur les couleurs de fonds :"]
["Colonne A couleur \"BLEU\" : Mandataires"]
["Lignes  de couleur \"JAUNE\" : Présents"]
["Lignes de couleur \"GRISE\" : Absents,"]
[]
["Bouton :\" TRIER VALIDER\""]
["La validation n' est pas obligatoire, l' opération est irréversible."]
["La validation  trie les copropriétaires suivant les votes exprimés, cela permet de faire un \"copier\" des votes des opposants"]
["à la résolution et de faire un \"coller\" dans le P.V. d' A.G."]
["Le logiciel indique quels sont les \"Opposants à la décision prise\"."]
[]
["Les boutons \"DEB\" ; \"+6\", +12\", +24\",……\"Fin\" servent à la navigation dans la feuille de votes."]
["Les boutons \"DEB\" ; \"+6\", +12\", +24\",……\"Fin\" servent à la navigation dans la feuille de votes."]
[]
["NOUVELLE ASSEMBLEE GENERALE"]
["Le bouton rouge \"Nouveau dossier\" permet de créer un dossier pour une nouvelle A.G."]
["Le dossier de l' A.G. précédente est conservé."]
["Il faut mettre à jour la feuille \"Liste\" des mutations et changements d' adresse intervenus depuis l' A.G. précédente,"]
["ensuite cliquer sur le bouton \"Mise à jour\","]
[]
["NOUVELLE COPROPRIETE"]
["Dans la feuille \"Liste\"  cliquer sur le bouton \"NOUVELLE COPROPRIETE,"]
["Dans la feuille \"Lste\" enregistrer tous les noms et adreses des copropriétaires ainsi que leurs lots et tantièmes,"]
["Enregistrer tous les noms adresses , lots et tantièmes de tous les copropriétaires."]
["Dans la feuille \"F.MERE\" supprimer les tantièmes spécifiques (Colonnes R à AA, et les remplacer par ceux "]
["du nouveau syndicat,"]
["La \"feuille de présence\" esr créé automatiquement,"]
[]
["VOTES PAR CORRESPONDANCE;"]
["Une procédure, facultative, perme d' enregistrer avant la tenue de l' A.G.les votes exprimés par les copropriétaires ayant "]
["sayant retourné dans les délais leur formulaire de votes par correspondance."]
["Il faut créer un nouvau_ dossier pour la prochaine A.G."]
["Dans le feuille \"F.MERE\" enregistrer les votants par correspondance, code 3,"]
["Dans le feuille \"F.MERE\" cliquer ur le bouton Feuille de votes, Entrer le numéro de résolution 99 et la clé 1,"]
["Vous obrenez une liste des participants, sélectionner la colonne A des numéros de participant, et faire \"Copier\","]
["Ouvrir la feuille \"VPC\", sélectionner la première cellele vide de la colonne C et faire  Collage spécial, les valeurs\""]
["En colonne A le numéro de question et en B le numéro de CLES, recopier vers le bas"]
["Vous recopier la liste des numéros dans la colonne C autant de fois que vous avez de question en CLE 1"]
["Dés que vous avez une question sur une autre clé vous créer un autres feuille de votes"]
["N° de question 999 et n° de clé 2,3 ou,,,,et vous reprenez la procédure comme pour la cle 1,"]
["Si vous avez d' autres questions en clé 1 vous recopier la liste des numéro de la clé 1"]
["Vous obtenez une feuille de votes classées par question, cliquer sur le bouton \"trier par Copropriétaire\","]
["Vous pouvez maintenant avec les votes exprimés dans les formulaires individuels."]
["Cliquer sur le bouton \"Trier par Question\","]
["\"Vous etes prêt pour ouvri la nouvelle A,G, en enregistrant dans la feuille MERE\" les présents et représentés code 1 "]
["et les votants pa vidéo conférence, code 2,"]
["Pour chaque résolution vous ferez un copier des votes de le feuille VPC, colonne E,F,G, et un coller,"]
["dans la résolution en cours,"]
["Vous pouvez maintenant  enregistrer les votes des présents et en vidéos"]
[]
["ETATS ET MATRICES,"]
["Deux modéles de feuilles à joindre à la convocation d’ A.G., Un \"POUVOIR\" "]
["et un \"Formulaire de vote par correspondance\","]
["Une matrice \"Convocation d' A.G\"., à complèter"]
["Une matrice \"Procès-verbal de l' A.G.\", à compléter"]
[]
["Mise à jour le 14 mai 2021"]
["Jean Braconnier"]
["braconnier,jean@free,fr"]

{"sheet":"Conv,AG","index":6,"n_rows":86,"n_cols":7,"rows_kept":86,"cut":false,"hidden":false,"merged":[]}
["RECOMMANDEE  A,R,",null,null,null,null,{"$f":"+Liste!A1","v":"Résid.Tartampion"}]
[null,null,null,null,null,{"$f":"+Liste!A2","v":"13 Rue de l' espoir"}]
[null,null,null,null,null,{"$f":"+Liste!A3","v":75016},{"$f":"+Liste!B3","v":"PARIS"}]
[]
[null,"Convocation à l' Aasemblée  générale ordinaire"]
[]
["Madame, Monsieur,"]
[]
["Nous vous prions de bien vouloir  participer à l' Assemblée Générale des Copropriétaires qui se tiendra  le"]
[]
[null,null,"Lundi 5 Juillet 2021 à 17 Heures 30"]
[]
[null,null,null,"Cabinet DUDULE "]
[null,null,null,"7 rue de l' Avenir"]
[null,null,null,75016,"PARIS"]
[]
["à l' effet de délivbérer sur l' ordre du jour suivant"]
[]
["1, ELECTION DU PRESIDENT DE SCEANCE -Majorité article 24"]
[null,"M,,,,,,,,,,,,,,,,,,,,,,,,,,,,,,,,,,,,,,",null,"est élu(e) président(e) de séance"]
[]
["2, ELECTION DU SCRUTATEUR  -Majorité article 24"]
[null,"M,,,,,,,,,,,,,,,,,,,,,,,,,,,,,,,,,,,,,,"]
[]
["3, ELECTION D' UN SECRETAIRE, Majorité article 24"]
[null,"M,,,,,,,,,,,,,,,,,,,,,,,,,,,,,,,,,,,,,,",null,"représentant le"]
[null,null,null,"est élu(e) secrétaire"]
["4, COMPTE RENDU DU CONSEIL SYNDICAL SUR SES MISSIONS ET AVIS"]
[null,"RENDUS AU COURS DE L'EXERCICE ECOULE, sans vote,"]
[]
["5, APPROBATION DES COMPTES DE L'EXERCICE DU"]
[null,"Majorité article 24"]
[null,"Les comptes peuvent être vérifiés par tout copropriétaire, les six jours qui prfcédent l' AG"]
[null,"ou sur rendez vous au bureau du syndic"]
[null,"Projet de résolution,"]
[null,"L' asselblée générale approuve les comptes de charges de l' exercice qui s' élèvent à "]
[]
["6_ DESIGNATION DU SYNDIC, Majorité article 25 (possibilité 2e vote à l' article 25-1 majorité 24 )"]
[null,"Projet de résolution,"]
[null,"L' assemblée générale désigne M                 en qualité de syndic, selon contrart joint à la cinvocation,"]
[null,"L' assemblée générale mandate le Président de séance pour signer le contrrart de syndic,"]
[]
["7, DESIGNATION DES MEMBRES DU CONSEIL SYNDICAL"]
[null," Majorité article 25 (possibilité 2e vote à l' article 25-1 majorité 24 )"]
[null,"Projet de Résolution:"]
[null,"Monsieur      est élu membre du conseil syndicdal"]
[null,"Monsieur      est élu membre du conseil syndicdal"]
[]
["8, MODALITES DE CONSULTATION DU CONSEIL SYNDICAL, majorité 25,"]
[null," Majorité article 25 (possibilité 2e vote à l' article 25-1 majorité 24 )"]
[null,"Projet de résolution,"]
[null,"L' Assemblé Générale fixe à          euros TTC le montant  des marchés et contrats"]
[null,"à partir duquel le Conseil Syndcal est consulté,"]
[]
["9, MISE EN CONCURRENCE DES MARCHES ET CONTRATS, Majorité 25"]
[null,"Projet de résolution,"]
[null,"L' Assemblée Générale fixe à,,,,,,,,euros le montant à partir duquel la mise en concurrence "]
[null,"des marchés et contrats est rendue obligatoire,"]
[]
["10,VOTE DU BUDGET PREVISIONNELDE L' EXERCICE  N+2 majorité 24"]
[null,"Projet de résolution,"]
[null,"L' Assemblée Générale fixe le budget de l' exercice N+2 à la somme de ,,,,,,,,,,,,,,,, euros"]
[null,"Elle autorise le syndic à procéder aux appels provisionnels à proportion de 1/4 du budget voté,"]
[null,"le 1er jour de chaque trimestre,"]
[]
["11,REALISATION DE TRAVAUX                        Majorité"]
[null,"Conditions essentielles des marchés,"]
[null,"Devis"]
[null,"Devis"]
[null,"Projet de résolution,"]
[null,"L'Assemblée Générale décide l' éxécution des travaux et confie la réalisation de ces travaux"]
[null,"à l' entreprise,,,,,,,,,,,,,,pour pour un montant de,,,,,,,,,euros TTC"]
[null,"auquel s' ajoute l' Assurance Dommage Ouvrages obligatoire d' un monant de,,,,,euros"]
[]
[null,"L' assemblée Générale autorise le syndic à procéder, selon la clé de répartition,,,,,"]
[null,"aux appels de provisions exigibles comme suit"]
[null,",,,,,,","% le"]
[null,",,,,,,,","% le"]
[null,",,,,,,,","% le"]
[null,"L' Assemblée Générale décide de financer les travaux par le \" Fonds travaux\" à hauteur de,,,,   % "]
[null,"de la participation aux travaux et dans la limite de ce que dispose chaque lot dans le \"Fonds travaux\","]
[]
["12, HONORAIRES SUR TRAVAUX                Majorité,,,,,"]
[null,"Projet de résolution,"]
[null,"Dans le cadre des travaux l' Assemblée Générale décide de fixer le montant des honoraires comme suit, à"]
[null,"         % HT du montant HT des travaux, soit un montant de,,,,,,,,,,,,TTC,"]

{"sheet":"P.V.A.G.","index":7,"n_rows":208,"n_cols":7,"rows_kept":208,"cut":false,"hidden":false,"merged":[]}
[null,null,null,null,null,{"$f":"+Liste!A1","v":"Résid.Tartampion"}]
[null,null,null,null,null,{"$f":"+Liste!A2","v":"13 Rue de l' espoir"}]
[null,null,null,null,null,{"$f":"+Liste!A3","v":75016},"PARIS"]
[]
[null,"Proces-Verbal de l' Assemblée générale ordinaire"]
[null,null,"Du","2021-06-25"]
[]
["Les copropriétaitres de l' immmeuble sis"]
[]
[null,null,null,",,,,,,"]
[null,null,null,",,,,,,"]
[null,null,null,",,,,,,"]
[]
["Se sont réunis"]
[null,null,null,",,,,,"]
[null,null,null,",,,,,"]
[null,null,null,",,,,,"]
[]
["Sur convocation régulière qui leur a été adressée par le syndic"]
[]
["Il est constaté, à l' examen de la feuille de présence, dûment émargée par chaque copropriétaire"]
["en entrant en séance, que,,,,,,,copropriétaires  représentant,,,,,,voix sur ,,,,,,,constituant le"]
["Syndicat des copropriétaires, sont présents ou représentés,"]
[]
["N' ont pas participé aux votes des résolutions prévues à l' ordre du jour, les absents non représentés"]
["Soit un total de,,,,,,voix, et dont les  noms suivant :"]
[",,,,"]
[",,,,"]
[",,,,"]
["1, ELECTION DU PRESIDENT DE SEANCE             Majorité 24"]
[]
[null,"Monsieur                                           est élu président de séance"]
[]
[null,"POUR :"]
[null,"CONTRE"]
[null,"ABSTENTIONS"]
[null,"Ce sont opposés à la décision prise"]
[null,",,,,,,,"]
[null,"Ce sont abstenus"]
[null,",,,,,,,"]
[null,"CETTE RESOLUTION EST ADOPRTEE A L'UNANIMITE DES PRESENTS ET REPRESENTES"]
[]
["2, ELECTION DU SCRUTATEUR                                  Majoité article 24"]
[]
[null,"Monsieur                                           est élu scrutateur"]
[]
[null,"POUR :"]
[null,"CONTRE"]
[null,"ABSTENTIONS"]
[null,"Ce sont opposés à la décision prise"]
[null,",,,,,,,"]
[null,"Ce sont abstenus"]
[null,",,,,,,,"]
[null,"CETTE RESOLUTION EST ADOPRTEE A L'UNANIMITE DES PRESENTS ET REPRESENTES"]
[]
[]
[]
[]
["3, ELECTION D' UN SECRETAIRE                              Majorité article 24"]
[]
[null,"Monsieur                                           est élu secrétaire"]
[]
[null,"POUR :"]
[null,"CONTRE"]
[null,"ABSTENTIONS"]
[null,"Ce sont opposés à la décision prise"]
[null,",,,,,,,"]
[null,"Ce sont abstenus"]
[null,",,,,,,,"]
[null,"CETTE RESOLUTION EST ADOPRTEE A L'UNANIMITE DES PRESENTS ET REPRESENTES"]
[]
["5,APPROBATION DES COMPTES DE L'EXERCICE DU,,,,,,,AU,,,,"]
[null,"Majorité article 24"]
[null,"L' assemblée Générale approuve les comptes de charges de l' exercice s' élevant à "]
[]
[null,"POUR :"]
[null,"CONTRE"]
[null,"ABSTENTIONS"]
[null,"Ce sont opposés à la décision prise"]
[null,",,,,,,,"]
[null,"Ce sont abstenus"]
[null,",,,,,,,"]
[null,"CETTE RESOLUTION EST ADOPTEE A L'UNANIMITE DES PRESENTS ET REPRESENTES"]
[]
["6_ DESIGNATION DU SYNDIC, Majorité article 25 (possibilité 2e vote à l' article 25-1 majorité 24 )"]
[null,"L' Assemblée Générale désigne,,,,,,,,,,,, en qualite=e de syndic, selon contrat joint"]
[null,"pour la période du,,,,,,,,,,,,au,,,,,,,"]
[null,"Mandate le Président de séance pour signer le conrtrat de Syndic,"]
[]
[null,"POUR :"]
[null,"CONTRE"]
[null,"ABSTENTIONS"]
[null,"Ce sont opposés à la décision prise"]
[null,",,,,,,,"]
[null,"Ce sont abstenus"]
[null,",,,,,,,"]
[null,"CETTE RESOLUTION EST ADOPTEE A L'UNANIMITE DES PRESENTS ET REPRESENTES"]
[]
["7, DESIGNATION DES MEMBRES DU CONSEIL SYNDICAL"]
[null," Majorité article 25 (possibilité 2e vote à l' article 25-1 majorité 24 )"]
[7.1,"Monsieur                                 est élu membre du Conseil syndical                          "]
[null,"POUR :"]
[null,"CONTRE"]
[null,"ABSTENTIONS"]
[null,"Ce sont opposés à la décision prise"]
[null,",,,,,,,"]
[null,"Ce sont abstenus"]
[null,",,,,,,,"]
[null,"CETTE RESOLUTION EST ADOPTEE A L'UNANIMITE DES PRESENTS ET REPRESENTES"]
[]
[7.2,"Monsieur                                 est élu membre du Conseil syndical                          "]
[null,"POUR :"]
[null,"CONTRE"]
[null,"ABSTENTIONS"]
[null,"Ce sont opposés à la décision prise"]
[null,",,,,,,,"]
[null,"Ce sont abstenus"]
[null,",,,,,,,"]
[null,"CETTE RESOLUTION EST ADOPTEE A L'UNANIMITE DES PRESENTS ET REPRESENTES"]
[]
["8, MODALITES DE CONSULTATION DU CONSEIL SYNDICAL, majorité 25,"]
[null,"L' Assemblé Générale fixe à          euros TTC le montant  des marchés et contrats"]
[null,"à partir duquel le Conseil Syndcal est consulté,"]
[null,"POUR"]
[null,"CONTRE"]
[null,"ABSTENTIONS"]
[null,"Ce sont opposés à la décision prise"]
[null,",,,,,,,"]
[null,"Ce sont abstenus"]
[null,",,,,,,,"]
[null,"CETTE RESOLUTION EST ADOPTEE A L'UNANIMITE DES PRESENTS ET REPRESENTES"]
[]
["9, MISE EN CONCURRENCE DES MARCHES ET CONTRATS, Majorité 25"]
[null,"L' Assemblée Générale fixe à,,,,,,,,euros le montant à partir duquel la mise en concurrence "]
[null,"des marchés et contrats est rendue obligatoire,"]
[null,"POUR"]
[null,"CONTRE"]
[null,"ABSTENTIONS"]
[null,"Ce sont opposés à la décision prise"]
[null,",,,,,,,"]
[null,"Ce sont abstenus"]
[null,",,,,,,,"]
[null,"CETTE RESOLUTION EST ADOPTEE A L'UNANIMITE DES PRESENTS ET REPRESENTES"]
[]
["10,VOTE DU BUDGET PREVISIONNELDE L' EXERCICE  N+2 majorité 24"]
[null,"L' Assemblée Générale fixe le budget de l' exercice N+2 à la somme de ,,,,,,,,,,,,,,,, euros"]
[null,"Elle autorise le syndic à procéder aux appels provisionnels à proportion de 1/4 du budget voté,"]
[null,"le 1er jour de chaque trimestre,"]
[null,"POUR"]
[null,"CONTRE"]
[null,"ABSTENTIONS"]
[null,"Ce sont opposés à la décision prise"]
[null,",,,,,,,"]
[null,"Ce sont abstenus"]
[null,",,,,,,,"]
[null,"CETTE RESOLUTION EST ADOPTEE A L'UNANIMITE DES PRESENTS ET REPRESENTES"]
[]
["11,REALISATION DE TRAVAUX                        Majorité"]
[null,"L'Assemblée Générale décide l' éxécution des travaux et confie la réalisation de ces travaux"]
[null,"à l' entreprise,,,,,,,,,,,,,,pour pour un montant de,,,,,,,,,euros TTC"]
[null,"auquel s' ajoute l' Assurance Dommage Ouvrages obligatoire d' un monant de,,,,,euros"]
[]
[null,"L' assemblée Générale autorise le syndic )àprocéder, selon la clé de répartition,,,,,"]
[null,"et aux appels de provisions exigibles comme suit"]
[null,",,,,,,"]
[null,",,,,,,,"]
[null,",,,,,,,"]
[null,"L' Assemblée Générale décide de financer les travaux par le \" Fonds travaux\" à hauteur de,,,,   % "]
[null,"de la participation aux travaux et dans la limite de ce que dispose chaque lot dans le \"Fonds travaux\","]
[null,"POUR"]
[null,"CONTRE"]
[null,"ABSTENTIONS"]
[null,"Ce sont opposés à la décision prise"]
[null,",,,,,,,"]
[null,"Ce sont abstenus"]
[null,",,,,,,,"]
[null,"CETTE RESOLUTION EST ADOPTEE A L'UNANIMITE DES PRESENTS ET REPRESENTES"]
[]
[]
["12, HONORAIRES SUR TRAVAUX                Majorité,,,,,"]
[null,"Dans le cadre des travaux l' Assemblée Générale décide de fixer le montant des honoraires "]
[null,"commze suit, à         % HT du montant HT des travaux, soit un montant de,,,,,,,,,,,,TTC,"]
[null,"POUR"]
[null,"CONTRE"]
[null,"ABSTENTIONS"]
[null,"Ce sont opposés à la décision prise"]
[null,",,,,,,,"]
[null,"Ce sont abstenus"]
[null,",,,,,,,"]
[null,"CETTE RESOLUTION EST ADOPTEE A L'UNANIMITE DES PRESENTS ET REPRESENTES"]
[]
[]
[]
["L' ordre du jour étant épuisé et personne ne demandant la parole, le président, aprçs émargement de la feuille"]
["de présence par les membres du bureau, lève la séance à,,,,,"]
[]
[null,"Le scrutateur",null,"Le secrétaire",null,"Le Prsident"]
[]
[]
[]
[]
["Extrait de l' article 42 de la loi du 10 juillet 1965"]
["Les actions qui ont pour objet de contester les décisions d' Assembléen Générale doivent, à peine de déchéance, être"]
["introduites par les copropiétaires opposants ou défaillants, dans un délai de deux mois à compter de la notification desdites"]
["décisions qui leur est faite à la diligence du syndic (loi n° 85-1470 du 31 décembre 1985), dans un délai de deux mois"]
["à compter de la tenue de l' Assemblée Générale,"]
["Sauf en cas d' urgence, l' éxecution par le syndic des travaux décidés par l' Assemblée Générale en application des articles"]
["25 et 26 est suspendue jusqu' à l'expiration du délai mentionné à la première phrase du présent alinéa,\""]

{"sheet":"POUV","index":8,"n_rows":34,"n_cols":4,"rows_kept":34,"cut":false,"hidden":false,"merged":[]}
[]
[]
[]
[]
[]
[]
[]
[]
[]
[null,null,"P  O  U  V  O  I  R"]
[]
["Je soussigné,,,,,,,,,,,,,,,,,,,,,,,,,,,,,,,,,,,,,,,,,,,,,,,,,,,,,,,,,,,,,,,,,,,,,,,,,,,,,,,,,,,,,,,,,,,,,,,,,,,,,,,,"]
[]
["Copropriétaire et titulaire de lot(s) de copropriété au sein de l' immzuble"]
[]
[null,{"$f":"Liste!A1 &\" \" &Liste!A2 &\" \" &Liste!A3&\" \" &Liste!B3","v":"Résid.Tartampion 13 Rue de l' espoir 75016 PARIS"}]
[]
["Donne par la présente, pouvoir, avec la faculté de le subdéléguer à la personne de son choix,"]
["à,,,,,,,,,,,,,,,,,,,,,,,,,,,,,,,,,,,,,,,,,,,,,,,,,,,,,,,,,,,,,,,,,,,,,,,,,,,,,,,,,,,,,,,,,,,,,,,,,,,,,,,,,,,,,,,,,,,,,,,,,,"]
["de, pour moi et en mon nom, se présenter à l' Assemblée générale du syndicat des copropriétaires "]
["de l'immeuble ci-dessus visé, le ;"]
[null,null,"2020-12-15","à ,,,,,,,,,,,,,,,,,,heures"]
[null,"( lieu de l' AG, ),,,,,,,,,,,,,,,,,,,,,,,,,,,,,,,,,,,,,,,,,,,,,,,,,,,,,,,,,,,,,,,,,,,,,,,,,,,,,,,,,"]
[]
["de, en mon nom, délibérer, prendre toutes résolutions nécessaires, émettre tous votes, donner "]
["tous avis, et de me représenter à toutes Assemblées qui seraient convoquées ultérieuremnt,"]
["avec le même ordre du jour, en cas de défaut de majorité pour la première Assemblée"]
[]
[]
["A défaut d' avoir porté le nom d' un mandataire, j' autorise expréssément la remise de ce pouvoir "]
["à tout participanr à l' assemblée générale,"]
["Fait à,,,,,,,,,,,,,,,,,,,,,,,,,,,,,,,,,,,,,,,,,,,,,,,,,,,,,,,,,,,,,,,,,,,,,,,,,,,,,le,,,,,,,,,,,,,,,,,,,,,,,,,,,,,,,,,,,,,,,,,,,,,,,,,,,,,,"]
[]
["BON POUR POUVOIR  (mention manuscrite )",null,null,"Signature"]

{"sheet":"FormVPC","index":9,"n_rows":115,"n_cols":9,"rows_kept":115,"cut":false,"hidden":false,"merged":[]}
[{"$f":"Liste!A1","v":"Résid.Tartampion"}]
[{"$f":"Liste!A2","v":"13 Rue de l' espoir"},null,null,null,null,null,null,"FORMULAIRE DE VOTE PAR CORRESPONDANCE"]
[{"$f":"Liste!A3","v":75016},{"$f":"Liste!B3","v":"PARIS"},null,null,null,null,null,null,"Page 1"]
[]
["Objet",null,null,null,null,null,"Assemblée Générale Ordinaire du",{"$f":"Liste!C1","v":"00:00:00"}]
["Date et lieu",{"$f":"Liste!C1","v":"00:00:00"},"à ","17 Heures","33 rue de l' Abreuvoir 75016 PARIS"]
[]
[null,null,null,null,null,"Ce formulaire doit être adressé à",null,"Cabinet DUDULE"]
[null,null,null,null,null,null,null,"27 rue de l' Avenir"]
[null,null,null,null,null,null,null,"75016 PARIS"]
[null,null,null,null,"Avant la date limite de réxception le","2021-08-12"]
[]
["Je soussigné('e):"]
["domicilié(e) au"]
[]
["après avoir pris connaissance de l' ordre du jour et des documents annexés  à la conocation ou"]
["mis à disposition sur le site en ligne sécurisé de la copropriété,"]
["souhaite émettre sur chacune des questions soumises à la délibération de l' assemblée générale "]
["des copropriétaires convoquée le",null,null,{"$f":"Liste!C1","v":"00:00:00"},"à",{"$f":"D6&\" \"&E6","v":"17 Heures 33 rue de l' Abreuvoir 75016 PARIS"}]
["Signature du Copropriétaire de l' associé ou du mandataire commun"]
[null,null,null,null,null,"Fait à le"]
[]
[1.01,"Election Président de séance",null,null,"CLE","1 Charges générales ",null,"Majorité :","Article 24"]
[]
[null,null,null,"POUR",null,"CONTRE",null,"ABSTENTION"]
[]
[2.0099999999999998,"Election scutateur Mr  Lafolie Gérard",null,null,"CLE 1 Charges générales       Majorite ",null,null,null,"Article 24"]
[]
[null,null,null,"POUR",null,"CONTRE",null,"ABSTENTION"]
[]
[null,null,null,null,"CLE 1 Charges générales       Majorite ",null,null,null,"Article 24"]
[]
[null,null,null,"POUR",null,"CONTRE",null,"ABSTENTION"]
[]
[null,null,null,null,"CLE 1 Charges générales       Majorite ",null,null,null,"Article 24"]
[]
[null,null,null,"POUR",null,"CONTRE",null,"ABSTENTION"]
[]
[null,null,null,null,"CLE 1 Charges générales       Majorite ",null,null,null,"Article 24"]
[]
[null,null,null,"POUR",null,"CONTRE",null,"ABSTENTION"]
[]
[null,null,null,null,"CLE 1 Charges générales       Majorite ",null,null,null,"Article 24"]
[]
[null,null,null,"POUR",null,"CONTRE",null,"ABSTENTION"]
[]
[null,null,null,null,"CLE 1 Charges générales       Majorite ",null,null,null,"Article 24"]
[]
[null,null,null,"POUR",null,"CONTRE",null,"ABSTENTION"]
[]
[null,null,null,null,"CLE 1 Charges générales       Majorite ",null,null,null,"Article 24"]
[]
[null,null,null,"POUR",null,"CONTRE",null,"ABSTENTION"]
[]
[null,null,null,null,"CLE 1 Charges générales       Majorite ",null,null,null,"Article 24"]
[]
[null,null,null,"POUR",null,"CONTRE",null,"ABSTENTION"]
[]
[null,null,null,null,null,null,null,null,"Page 2"]
[]
[]
[null,null,null,null,null,null,"Assemblée Générale Ordinaire du",{"$f":"Liste!C1","v":"00:00:00"}]
[null,{"$f":"Liste!C1","v":"00:00:00"},"à ","17 Heures","33 rue de l' Abreuvoir 75016 PARIS"]
[]
[null,null,null,null,"CLE 1 Charges générales       Majorite ",null,null,null,"Article 24"]
[]
[null,null,null,"POUR",null,"CONTRE",null,"ABSTENTION"]
[]
[null,null,null,null,"CLE 1 Charges générales       Majorite ",null,null,null,"Article 24"]
[]
[null,null,null,"POUR",null,"CONTRE",null,"ABSTENTION"]
[]
[null,null,null,null,"CLE 1 Charges générales       Majorite ",null,null,null,"Article 24"]
[]
[null,null,null,"POUR",null,"CONTRE",null,"ABSTENTION"]
[]
[null,null,null,null,"CLE 1 Charges générales       Majorite ",null,null,null,"Article 24"]
[]
[null,null,null,"POUR",null,"CONTRE",null,"ABSTENTION"]
[]
[null,null,null,null,"CLE 1 Charges générales       Majorite ",null,null,null,"Article 24"]
[]
[null,null,null,"POUR",null,"CONTRE",null,"ABSTENTION"]
[]
[null,null,null,null,"CLE 1 Charges générales       Majorite ",null,null,null,"Article 24"]
[]
[null,null,null,"POUR",null,"CONTRE",null,"ABSTENTION"]
[]
[null,null,null,null,"CLE 1 Charges générales       Majorite ",null,null,null,"Article 24"]
[]
[null,null,null,"POUR",null,"CONTRE",null,"ABSTENTION"]
[]
[null,null,null,null,"CLE 1 Charges générales       Majorite ",null,null,null,"Article 24"]
[]
[null,null,null,"POUR",null,"CONTRE",null,"ABSTENTION"]
[]
[null,null,null,null,"CLE 1 Charges générales       Majorite ",null,null,null,"Article 24"]
[]
[null,null,null,"POUR",null,"CONTRE",null,"ABSTENTION"]
[]
[null,null,null,null,"CLE 1 Charges générales       Majorite ",null,null,null,"Article 24"]
[]
[null,null,null,"POUR",null,"CONTRE",null,"ABSTENTION"]
[]
[null,null,null,null,"CLE 1 Charges générales       Majorite ",null,null,null,"Article 24"]
[]
[null,null,null,"POUR",null,"CONTRE",null,"ABSTENTION"]
[]
[null,null,null,null,"CLE 1 Charges générales       Majorite ",null,null,null,"Article 24"]
[]
[null,null,null,"POUR",null,"CONTRE",null,"ABSTENTION"]
[]
[]
["Nom du copropriétaire :"]
["Signature du Copropriétaire de l' associé ou du mandataire commun"]